Workbook

Sheet Feuil1
A1: 1 er tableau
B2: LUNDI | C2: MARDI | D2: MERCREDI | E2: JEUDI | F2: VENDREDI | G2: SAMEDI | H2: DIMANCHE
A3: TITI | C3: A | D3: A | E3: A | F3: A | H3: A
A4: DOM | B4: A/ES | C4: T | D4: A | E4: A | F4: A | G4: A | H4: A
A5: PAUL | B5: O | C5: O | D5: AS | E5: O | F5: AS | G5: O | H5: O
A6: RAOUL | B6: A | C6: A/AS | D6: A | E6: A | F6: T | G6: T | H6: T
A7: ANNE | B7: T | C7: T | D7: T | E7: T | F7: T | G7: T | H7: T
A8: SYLVIE | B8: A | C8: A | D8: A | E8: A | F8: A | G8: A | H8: A
A9: HENRI | B9: N | C9: N | D9: N | E9: N | F9: N | G9: A | H9: A
A10: ZALA | B10: E | C10: E | D10: E | E10: E | F10: A | G10: A | H10: A
A11: RYAN | B11: A | C11: A | D11: A/FORM | E11: A | F11: A | G11: A | H11: A

Sheet Feuil2
A1: 2ème tableau
B2: LUNDI | C2: MARDI | D2: MERCREDI | E2: JEUDI | F2: VENDREDI | G2: SAMEDI | H2: DIMANCHE
A3: TITI | B3: =IF(OR(Feuil1!B3="A",Feuil1!B3="A/ES",Feuil1!B3="A/PRO",Feuil1!B3="T",Feuil1!B3="A/ES"),"A","") | C3: =IF(OR(Feuil1!C3="A",Feuil1!C3="A/ES",Feuil1!C3="A/PRO",Feuil1!C3="T",Feuil1!C3="A/ES"),"A","") -> A | D3: =IF(OR(Feuil1!D3="A",Feuil1!D3="A/ES",Feuil1!D3="A/PRO",Feuil1!D3="T",Feuil1!D3="A/ES"),"A","") -> A | E3: =IF(OR(Feuil1!E3="A",Feuil1!E3="A/ES",Feuil1!E3="A/PRO",Feuil1!E3="T",Feuil1!E3="A/ES"),"A","") -> A | F3: =IF(OR(Feuil1!F3="A",Feuil1!F3="A/ES",Feuil1!F3="A/PRO",Feuil1!F3="T",Feuil1!F3="A/ES"),"A","") -> A | G3: =IF(OR(Feuil1!G3="A",Feuil1!G3="A/ES",Feuil1!G3="A/PRO",Feuil1!G3="T",Feuil1!G3="A/ES"),"A","") | H3: =IF(OR(Feuil1!H3="A",Feuil1!H3="A/ES",Feuil1!H3="A/PRO",Feuil1!H3="T",Feuil1!H3="A/ES"),"A","") -> A
A4: DOM | B4: =IF(OR(Feuil1!B4="A",Feuil1!B4="A/ES",Feuil1!B4="A/PRO",Feuil1!B4="T",Feuil1!B4="A/ES"),"A","") -> A | C4: =IF(OR(Feuil1!C4="A",Feuil1!C4="A/ES",Feuil1!C4="A/PRO",Feuil1!C4="T",Feuil1!C4="A/ES"),"A","") -> A | D4: =IF(OR(Feuil1!D4="A",Feuil1!D4="A/ES",Feuil1!D4="A/PRO",Feuil1!D4="T",Feuil1!D4="A/ES"),"A","") -> A | E4: =IF(OR(Feuil1!E4="A",Feuil1!E4="A/ES",Feuil1!E4="A/PRO",Feuil1!E4="T",Feuil1!E4="A/ES"),"A","") -> A | F4: =IF(OR(Feuil1!F4="A",Feuil1!F4="A/ES",Feuil1!F4="A/PRO",Feuil1!F4="T",Feuil1!F4="A/ES"),"A","") -> A | G4: =IF(OR(Feuil1!G4="A",Feuil1!G4="A/ES",Feuil1!G4="A/PRO",Feuil1!G4="T",Feuil1!G4="A/ES"),"A","") -> A | H4: =IF(OR(Feuil1!H4="A",Feuil1!H4="A/ES",Feuil1!H4="A/PRO",Feuil1!H4="T",Feuil1!H4="A/ES"),"A","") -> A
A5: PAUL | B5: =IF(OR(Feuil1!B5="A",Feuil1!B5="A/ES",Feuil1!B5="A/PRO",Feuil1!B5="T",Feuil1!B5="A/ES"),"A","") | C5: =IF(OR(Feuil1!C5="A",Feuil1!C5="A/ES",Feuil1!C5="A/PRO",Feuil1!C5="T",Feuil1!C5="A/ES"),"A","") | D5: =IF(OR(Feuil1!D5="A",Feuil1!D5="A/ES",Feuil1!D5="A/PRO",Feuil1!D5="T",Feuil1!D5="A/ES"),"A","") | E5: =IF(OR(Feuil1!E5="A",Feuil1!E5="A/ES",Feuil1!E5="A/PRO",Feuil1!E5="T",Feuil1!E5="A/ES"),"A","") | F5: =IF(OR(Feuil1!F5="A",Feuil1!F5="A/ES",Feuil1!F5="A/PRO",Feuil1!F5="T",Feuil1!F5="A/ES"),"A","") | G5: =IF(OR(Feuil1!G5="A",Feuil1!G5="A/ES",Feuil1!G5="A/PRO",Feuil1!G5="T",Feuil1!G5="A/ES"),"A","") | H5: =IF(OR(Feuil1!H5="A",Feuil1!H5="A/ES",Feuil1!H5="A/PRO",Feuil1!H5="T",Feuil1!H5="A/ES"),"A","")
A6: RAOUL | B6: =IF(OR(Feuil1!B6="A",Feuil1!B6="A/ES",Feuil1!B6="A/PRO",Feuil1!B6="T",Feuil1!B6="A/ES"),"A","") -> A | C6: =IF(OR(Feuil1!C6="A",Feuil1!C6="A/ES",Feuil1!C6="A/PRO",Feuil1!C6="T",Feuil1!C6="A/ES"),"A","") | D6: =IF(OR(Feuil1!D6="A",Feuil1!D6="A/ES",Feuil1!D6="A/PRO",Feuil1!D6="T",Feuil1!D6="A/ES"),"A","") -> A | E6: =IF(OR(Feuil1!E6="A",Feuil1!E6="A/ES",Feuil1!E6="A/PRO",Feuil1!E6="T",Feuil1!E6="A/ES"),"A","") -> A | F6: =IF(OR(Feuil1!F6="A",Feuil1!F6="A/ES",Feuil1!F6="A/PRO",Feuil1!F6="T",Feuil1!F6="A/ES"),"A","") -> A | G6: =IF(OR(Feuil1!G6="A",Feuil1!G6="A/ES",Feuil1!G6="A/PRO",Feuil1!G6="T",Feuil1!G6="A/ES"),"A","") -> A | H6: =IF(OR(Feuil1!H6="A",Feuil1!H6="A/ES",Feuil1!H6="A/PRO",Feuil1!H6="T",Feuil1!H6="A/ES"),"A","") -> A
A7: ANNE | B7: =IF(OR(Feuil1!B7="A",Feuil1!B7="A/ES",Feuil1!B7="A/PRO",Feuil1!B7="T",Feuil1!B7="A/ES"),"A","") -> A | C7: =IF(OR(Feuil1!C7="A",Feuil1!C7="A/ES",Feuil1!C7="A/PRO",Feuil1!C7="T",Feuil1!C7="A/ES"),"A","") -> A | D7: =IF(OR(Feuil1!D7="A",Feuil1!D7="A/ES",Feuil1!D7="A/PRO",Feuil1!D7="T",Feuil1!D7="A/ES"),"A","") -> A | E7: =IF(OR(Feuil1!E7="A",Feuil1!E7="A/ES",Feuil1!E7="A/PRO",Feuil1!E7="T",Feuil1!E7="A/ES"),"A","") -> A | F7: =IF(OR(Feuil1!F7="A",Feuil1!F7="A/ES",Feuil1!F7="A/PRO",Feuil1!F7="T",Feuil1!F7="A/ES"),"A","") -> A | G7: =IF(OR(Feuil1!G7="A",Feuil1!G7="A/ES",Feuil1!G7="A/PRO",Feuil1!G7="T",Feuil1!G7="A/ES"),"A","") -> A | H7: =IF(OR(Feuil1!H7="A",Feuil1!H7="A/ES",Feuil1!H7="A/PRO",Feuil1!H7="T",Feuil1!H7="A/ES"),"A","") -> A
A8: SYLVIE | B8: =IF(OR(Feuil1!B8="A",Feuil1!B8="A/ES",Feuil1!B8="A/PRO",Feuil1!B8="T",Feuil1!B8="A/ES"),"A","") -> A | C8: =IF(OR(Feuil1!C8="A",Feuil1!C8="A/ES",Feuil1!C8="A/PRO",Feuil1!C8="T",Feuil1!C8="A/ES"),"A","") -> A | D8: =IF(OR(Feuil1!D8="A",Feuil1!D8="A/ES",Feuil1!D8="A/PRO",Feuil1!D8="T",Feuil1!D8="A/ES"),"A","") -> A | E8: =IF(OR(Feuil1!E8="A",Feuil1!E8="A/ES",Feuil1!E8="A/PRO",Feuil1!E8="T",Feuil1!E8="A/ES"),"A","") -> A | F8: =IF(OR(Feuil1!F8="A",Feuil1!F8="A/ES",Feuil1!F8="A/PRO",Feuil1!F8="T",Feuil1!F8="A/ES"),"A","") -> A | G8: =IF(OR(Feuil1!G8="A",Feuil1!G8="A/ES",Feuil1!G8="A/PRO",Feuil1!G8="T",Feuil1!G8="A/ES"),"A","") -> A | H8: =IF(OR(Feuil1!H8="A",Feuil1!H8="A/ES",Feuil1!H8="A/PRO",Feuil1!H8="T",Feuil1!H8="A/ES"),"A","") -> A
A9: HENRI | B9: =IF(OR(Feuil1!B9="A",Feuil1!B9="A/ES",Feuil1!B9="A/PRO",Feuil1!B9="T",Feuil1!B9="A/ES"),"A","") | C9: =IF(OR(Feuil1!C9="A",Feuil1!C9="A/ES",Feuil1!C9="A/PRO",Feuil1!C9="T",Feuil1!C9="A/ES"),"A","") | D9: =IF(OR(Feuil1!D9="A",Feuil1!D9="A/ES",Feuil1!D9="A/PRO",Feuil1!D9="T",Feuil1!D9="A/ES"),"A","") | E9: =IF(OR(Feuil1!E9="A",Feuil1!E9="A/ES",Feuil1!E9="A/PRO",Feuil1!E9="T",Feuil1!E9="A/ES"),"A","") | F9: =IF(OR(Feuil1!F9="A",Feuil1!F9="A/ES",Feuil1!F9="A/PRO",Feuil1!F9="T",Feuil1!F9="A/ES"),"A","") | G9: =IF(OR(Feuil1!G9="A",Feuil1!G9="A/ES",Feuil1!G9="A/PRO",Feuil1!G9="T",Feuil1!G9="A/ES"),"A","") -> A | H9: =IF(OR(Feuil1!H9="A",Feuil1!H9="A/ES",Feuil1!H9="A/PRO",Feuil1!H9="T",Feuil1!H9="A/ES"),"A","") -> A
A10: ZALA | B10: =IF(OR(Feuil1!B10="A",Feuil1!B10="A/ES",Feuil1!B10="A/PRO",Feuil1!B10="T",Feuil1!B10="A/ES"),"A","") | C10: =IF(OR(Feuil1!C10="A",Feuil1!C10="A/ES",Feuil1!C10="A/PRO",Feuil1!C10="T",Feuil1!C10="A/ES"),"A","") | D10: =IF(OR(Feuil1!D10="A",Feuil1!D10="A/ES",Feuil1!D10="A/PRO",Feuil1!D10="T",Feuil1!D10="A/ES"),"A","") | E10: =IF(OR(Feuil1!E10="A",Feuil1!E10="A/ES",Feuil1!E10="A/PRO",Feuil1!E10="T",Feuil1!E10="A/ES"),"A","") | F10: =IF(OR(Feuil1!F10="A",Feuil1!F10="A/ES",Feuil1!F10="A/PRO",Feuil1!F10="T",Feuil1!F10="A/ES"),"A","") -> A | G10: =IF(OR(Feuil1!G10="A",Feuil1!G10="A/ES",Feuil1!G10="A/PRO",Feuil1!G10="T",Feuil1!G10="A/ES"),"A","") -> A | H10: =IF(OR(Feuil1!H10="A",Feuil1!H10="A/ES",Feuil1!H10="A/PRO",Feuil1!H10="T",Feuil1!H10="A/ES"),"A","") -> A
A11: RYAN | B11: =IF(OR(Feuil1!B11="A",Feuil1!B11="A/ES",Feuil1!B11="A/PRO",Feuil1!B11="T",Feuil1!B11="A/ES"),"A","") -> A | C11: =IF(OR(Feuil1!C11="A",Feuil1!C11="A/ES",Feuil1!C11="A/PRO",Feuil1!C11="T",Feuil1!C11="A/ES"),"A","") -> A | D11: =IF(OR(Feuil1!D11="A",Feuil1!D11="A/ES",Feuil1!D11="A/PRO",Feuil1!D11="T",Feuil1!D11="A/ES"),"A","") | E11: =IF(OR(Feuil1!E11="A",Feuil1!E11="A/ES",Feuil1!E11="A/PRO",Feuil1!E11="T",Feuil1!E11="A/ES"),"A","") -> A | F11: =IF(OR(Feuil1!F11="A",Feuil1!F11="A/ES",Feuil1!F11="A/PRO",Feuil1!F11="T",Feuil1!F11="A/ES"),"A","") -> A | G11: =IF(OR(Feuil1!G11="A",Feuil1!G11="A/ES",Feuil1!G11="A/PRO",Feuil1!G11="T",Feuil1!G11="A/ES"),"A","") -> A | H11: =IF(OR(Feuil1!H11="A",Feuil1!H11="A/ES",Feuil1!H11="A/PRO",Feuil1!H11="T",Feuil1!H11="A/ES"),"A","") -> A
