Workbook
Name JoursFériés: 'Jours Férié'!$B$3:$B$17

Sheet Notes
B8: Le but de ce fichier est de calculer les heures travaillées suivant les mois de l'année .Ce fichier est valable pour quelques années, en effet il suffit de changer l'année en page d'accueil
B9: et d'enregistrer le fichier sous un autre nom pour avoir un calendier sur une autre année
B10: NB: il faut garder le fichier initial vierge pour pouvoir perpetuellement avoir un calendrier vierge en debut d'année
B12: feuilles
B14: Accueil | C14: Permet de choisir l'année
C15: Liste les jours fériés de l'année considéré
B17: Jours férié | C17: Feuille de calcul pour les jours fériés (Les jours fériés de l'Alsace et de la Moselle sont ajoutés)
B20: Les mois | C20: les dates sont générées automatiquement après avoir choisi l'année sur la feuille Accueil
C21: Les Week end et jours férié sont surlignés automatiquement
B23: Les Heures | C23: elles doivent être entrées au format 00:00
C24: exemple: 12 heures 30 sera tapé 12:30
B26: Les calculs | C26: le calcul des heures travaiilées tiens compte des heures de nuit
C27: exemple:debut 21:00 et fin 3:00 donnera 6:00

Sheet Accueil
I2: 2019
B32: * Pour L'Alsace et la Moselle

Sheet Janvier
F2: =IF(SUM(D7:D37)=0,"",SUM(D7:D37))
A7: =DATE(Accueil!I2,1,1) -> 43466 | D7: =IF(OR(B7="",C7=""),"",MOD(C7-B7,1))
A8: =IF(A7="","",IF(MONTH(A7+1)>MONTH(A7),"",A7+1)) -> 43467 | D8: =IF(OR(B8="",C8=""),"",MOD(C8-B8,1))
A9: =IF(A8="","",IF(MONTH(A8+1)>MONTH(A8),"",A8+1)) -> 43468 | D9: =IF(OR(B9="",C9=""),"",MOD(C9-B9,1))
A10: =IF(A9="","",IF(MONTH(A9+1)>MONTH(A9),"",A9+1)) -> 43469 | D10: =IF(OR(B10="",C10=""),"",MOD(C10-B10,1))
A11: =IF(A10="","",IF(MONTH(A10+1)>MONTH(A10),"",A10+1)) -> 43470 | D11: =IF(OR(B11="",C11=""),"",MOD(C11-B11,1))
A12: =IF(A11="","",IF(MONTH(A11+1)>MONTH(A11),"",A11+1)) -> 43471 | D12: =IF(OR(B12="",C12=""),"",MOD(C12-B12,1))
A13: =IF(A12="","",IF(MONTH(A12+1)>MONTH(A12),"",A12+1)) -> 43472 | D13: =IF(OR(B13="",C13=""),"",MOD(C13-B13,1))
A14: =IF(A13="","",IF(MONTH(A13+1)>MONTH(A13),"",A13+1)) -> 43473 | D14: =IF(OR(B14="",C14=""),"",MOD(C14-B14,1))
A15: =IF(A14="","",IF(MONTH(A14+1)>MONTH(A14),"",A14+1)) -> 43474 | D15: =IF(OR(B15="",C15=""),"",MOD(C15-B15,1))
A16: =IF(A15="","",IF(MONTH(A15+1)>MONTH(A15),"",A15+1)) -> 43475 | D16: =IF(OR(B16="",C16=""),"",MOD(C16-B16,1))
A17: =IF(A16="","",IF(MONTH(A16+1)>MONTH(A16),"",A16+1)) -> 43476 | D17: =IF(OR(B17="",C17=""),"",MOD(C17-B17,1))
A18: =IF(A17="","",IF(MONTH(A17+1)>MONTH(A17),"",A17+1)) -> 43477 | D18: =IF(OR(B18="",C18=""),"",MOD(C18-B18,1))
A19: =IF(A18="","",IF(MONTH(A18+1)>MONTH(A18),"",A18+1)) -> 43478 | D19: =IF(OR(B19="",C19=""),"",MOD(C19-B19,1))
... A37: =IF(A36="","",IF(MONTH(A36+1)>MONTH(A36),"",A36+1)) -> 43496 | D37: =IF(OR(B37="",C37=""),"",MOD(C37-B37,1))
A38: =IF(A37="","",IF(MONTH(A37+1)>MONTH(A37),"",A37+1))

Sheet février
F2: =IF(SUM(D7:D34)=0,"",SUM(D7:D34))
A7: =DATE(Accueil!I2,2,1) -> 43497 | D7: =IF(OR(B7="",C7=""),"",MOD(C7-B7,1))
A8: =IF(A7="","",IF(MONTH(A7+1)>MONTH(A7),"",A7+1)) -> 43498 | D8: =IF(OR(B8="",C8=""),"",MOD(C8-B8,1))
A9: =IF(A8="","",IF(MONTH(A8+1)>MONTH(A8),"",A8+1)) -> 43499 | D9: =IF(OR(B9="",C9=""),"",MOD(C9-B9,1))
A10: =IF(A9="","",IF(MONTH(A9+1)>MONTH(A9),"",A9+1)) -> 43500 | D10: =IF(OR(B10="",C10=""),"",MOD(C10-B10,1))
A11: =IF(A10="","",IF(MONTH(A10+1)>MONTH(A10),"",A10+1)) -> 43501 | D11: =IF(OR(B11="",C11=""),"",MOD(C11-B11,1))
A12: =IF(A11="","",IF(MONTH(A11+1)>MONTH(A11),"",A11+1)) -> 43502 | D12: =IF(OR(B12="",C12=""),"",MOD(C12-B12,1))
A13: =IF(A12="","",IF(MONTH(A12+1)>MONTH(A12),"",A12+1)) -> 43503 | D13: =IF(OR(B13="",C13=""),"",MOD(C13-B13,1))
A14: =IF(A13="","",IF(MONTH(A13+1)>MONTH(A13),"",A13+1)) -> 43504 | D14: =IF(OR(B14="",C14=""),"",MOD(C14-B14,1))
A15: =IF(A14="","",IF(MONTH(A14+1)>MONTH(A14),"",A14+1)) -> 43505 | D15: =IF(OR(B15="",C15=""),"",MOD(C15-B15,1))
A16: =IF(A15="","",IF(MONTH(A15+1)>MONTH(A15),"",A15+1)) -> 43506 | D16: =IF(OR(B16="",C16=""),"",MOD(C16-B16,1))
A17: =IF(A16="","",IF(MONTH(A16+1)>MONTH(A16),"",A16+1)) -> 43507 | D17: =IF(OR(B17="",C17=""),"",MOD(C17-B17,1))
A18: =IF(A17="","",IF(MONTH(A17+1)>MONTH(A17),"",A17+1)) -> 43508 | D18: =IF(OR(B18="",C18=""),"",MOD(C18-B18,1))
A19: =IF(A18="","",IF(MONTH(A18+1)>MONTH(A18),"",A18+1)) -> 43509 | D19: =IF(OR(B19="",C19=""),"",MOD(C19-B19,1))
... A34: =IF(A33="","",IF(MONTH(A33+1)>MONTH(A33),"",A33+1)) -> 43524 | D34: =IF(OR(B34="",C34=""),"",MOD(C34-B34,1))
A35: =IF(A34="","",IF(MONTH(A34+1)>MONTH(A34),"",A34+1))

Sheet mars
F2: =IF(SUM(D7:D37)=0,"",SUM(D7:D37))
A7: =DATE(Accueil!I2,3,1) -> 43525 | D7: =IF(OR(B7="",C7=""),"",MOD(C7-B7,1))
A8: =IF(A7="","",IF(MONTH(A7+1)>MONTH(A7),"",A7+1)) -> 43526 | D8: =IF(OR(B8="",C8=""),"",MOD(C8-B8,1))
A9: =IF(A8="","",IF(MONTH(A8+1)>MONTH(A8),"",A8+1)) -> 43527 | D9: =IF(OR(B9="",C9=""),"",MOD(C9-B9,1))
A10: =IF(A9="","",IF(MONTH(A9+1)>MONTH(A9),"",A9+1)) -> 43528 | D10: =IF(OR(B10="",C10=""),"",MOD(C10-B10,1))
A11: =IF(A10="","",IF(MONTH(A10+1)>MONTH(A10),"",A10+1)) -> 43529 | D11: =IF(OR(B11="",C11=""),"",MOD(C11-B11,1))
A12: =IF(A11="","",IF(MONTH(A11+1)>MONTH(A11),"",A11+1)) -> 43530 | D12: =IF(OR(B12="",C12=""),"",MOD(C12-B12,1))
A13: =IF(A12="","",IF(MONTH(A12+1)>MONTH(A12),"",A12+1)) -> 43531 | D13: =IF(OR(B13="",C13=""),"",MOD(C13-B13,1))
A14: =IF(A13="","",IF(MONTH(A13+1)>MONTH(A13),"",A13+1)) -> 43532 | D14: =IF(OR(B14="",C14=""),"",MOD(C14-B14,1))
A15: =IF(A14="","",IF(MONTH(A14+1)>MONTH(A14),"",A14+1)) -> 43533 | D15: =IF(OR(B15="",C15=""),"",MOD(C15-B15,1))
A16: =IF(A15="","",IF(MONTH(A15+1)>MONTH(A15),"",A15+1)) -> 43534 | D16: =IF(OR(B16="",C16=""),"",MOD(C16-B16,1))
A17: =IF(A16="","",IF(MONTH(A16+1)>MONTH(A16),"",A16+1)) -> 43535 | D17: =IF(OR(B17="",C17=""),"",MOD(C17-B17,1))
A18: =IF(A17="","",IF(MONTH(A17+1)>MONTH(A17),"",A17+1)) -> 43536 | D18: =IF(OR(B18="",C18=""),"",MOD(C18-B18,1))
A19: =IF(A18="","",IF(MONTH(A18+1)>MONTH(A18),"",A18+1)) -> 43537 | D19: =IF(OR(B19="",C19=""),"",MOD(C19-B19,1))
... A37: =IF(A36="","",IF(MONTH(A36+1)>MONTH(A36),"",A36+1)) -> 43555 | D37: =IF(OR(B37="",C37=""),"",MOD(C37-B37,1))
A38: =IF(A37="","",IF(MONTH(A37+1)>MONTH(A37),"",A37+1))
A39: =IF(A38="","",IF(MONTH(A38+1)>MONTH(A38),"",A38+1))
A40: =IF(A39="","",IF(MONTH(A39+1)>MONTH(A39),"",A39+1))
A41: =IF(A40="","",IF(MONTH(A40+1)>MONTH(A40),"",A40+1))
A42: =IF(A41="","",IF(MONTH(A41+1)>MONTH(A41),"",A41+1))
A43: =IF(A42="","",IF(MONTH(A42+1)>MONTH(A42),"",A42+1))
A44: =IF(A43="","",IF(MONTH(A43+1)>MONTH(A43),"",A43+1))
A45: =IF(A44="","",IF(MONTH(A44+1)>MONTH(A44),"",A44+1))
A46: =IF(A45="","",IF(MONTH(A45+1)>MONTH(A45),"",A45+1))
A47: =IF(A46="","",IF(MONTH(A46+1)>MONTH(A46),"",A46+1))
A48: =IF(A47="","",IF(MONTH(A47+1)>MONTH(A47),"",A47+1))
A49: =IF(A48="","",IF(MONTH(A48+1)>MONTH(A48),"",A48+1))
... A60: =IF(A59="","",IF(MONTH(A59+1)>MONTH(A59),"",A59+1))

Sheet avril
F2: =IF(SUM(D7:D36)=0,"",SUM(D7:D36))
A7: =DATE(Accueil!I2,4,1) -> 43556 | D7: =IF(OR(B7="",C7=""),"",MOD(C7-B7,1))
A8: =IF(A7="","",IF(MONTH(A7+1)>MONTH(A7),"",A7+1)) -> 43557 | D8: =IF(OR(B8="",C8=""),"",MOD(C8-B8,1))
A9: =IF(A8="","",IF(MONTH(A8+1)>MONTH(A8),"",A8+1)) -> 43558 | D9: =IF(OR(B9="",C9=""),"",MOD(C9-B9,1))
A10: =IF(A9="","",IF(MONTH(A9+1)>MONTH(A9),"",A9+1)) -> 43559 | D10: =IF(OR(B10="",C10=""),"",MOD(C10-B10,1))
A11: =IF(A10="","",IF(MONTH(A10+1)>MONTH(A10),"",A10+1)) -> 43560 | D11: =IF(OR(B11="",C11=""),"",MOD(C11-B11,1))
A12: =IF(A11="","",IF(MONTH(A11+1)>MONTH(A11),"",A11+1)) -> 43561 | D12: =IF(OR(B12="",C12=""),"",MOD(C12-B12,1))
A13: =IF(A12="","",IF(MONTH(A12+1)>MONTH(A12),"",A12+1)) -> 43562 | D13: =IF(OR(B13="",C13=""),"",MOD(C13-B13,1))
A14: =IF(A13="","",IF(MONTH(A13+1)>MONTH(A13),"",A13+1)) -> 43563 | D14: =IF(OR(B14="",C14=""),"",MOD(C14-B14,1))
A15: =IF(A14="","",IF(MONTH(A14+1)>MONTH(A14),"",A14+1)) -> 43564 | D15: =IF(OR(B15="",C15=""),"",MOD(C15-B15,1))
A16: =IF(A15="","",IF(MONTH(A15+1)>MONTH(A15),"",A15+1)) -> 43565 | D16: =IF(OR(B16="",C16=""),"",MOD(C16-B16,1))
A17: =IF(A16="","",IF(MONTH(A16+1)>MONTH(A16),"",A16+1)) -> 43566 | D17: =IF(OR(B17="",C17=""),"",MOD(C17-B17,1))
A18: =IF(A17="","",IF(MONTH(A17+1)>MONTH(A17),"",A17+1)) -> 43567 | D18: =IF(OR(B18="",C18=""),"",MOD(C18-B18,1))
A19: =IF(A18="","",IF(MONTH(A18+1)>MONTH(A18),"",A18+1)) -> 43568 | D19: =IF(OR(B19="",C19=""),"",MOD(C19-B19,1))
... A36: =IF(A35="","",IF(MONTH(A35+1)>MONTH(A35),"",A35+1)) -> 43585 | D36: =IF(OR(B36="",C36=""),"",MOD(C36-B36,1))
A37: =IF(A36="","",IF(MONTH(A36+1)>MONTH(A36),"",A36+1))
A38: =IF(A37="","",IF(MONTH(A37+1)>MONTH(A37),"",A37+1))
A39: =IF(A38="","",IF(MONTH(A38+1)>MONTH(A38),"",A38+1))
A40: =IF(A39="","",IF(MONTH(A39+1)>MONTH(A39),"",A39+1))
A41: =IF(A40="","",IF(MONTH(A40+1)>MONTH(A40),"",A40+1))
A42: =IF(A41="","",IF(MONTH(A41+1)>MONTH(A41),"",A41+1))
A43: =IF(A42="","",IF(MONTH(A42+1)>MONTH(A42),"",A42+1))
A44: =IF(A43="","",IF(MONTH(A43+1)>MONTH(A43),"",A43+1))

Sheet mai
F2: =IF(SUM(D7:D37)=0,"",SUM(D7:D37))
A7: =DATE(Accueil!I2,5,1) -> 43586 | D7: =IF(OR(B7="",C7=""),"",MOD(C7-B7,1))
A8: =IF(A7="","",IF(MONTH(A7+1)>MONTH(A7),"",A7+1)) -> 43587 | D8: =IF(OR(B8="",C8=""),"",MOD(C8-B8,1))
A9: =IF(A8="","",IF(MONTH(A8+1)>MONTH(A8),"",A8+1)) -> 43588 | D9: =IF(OR(B9="",C9=""),"",MOD(C9-B9,1))
A10: =IF(A9="","",IF(MONTH(A9+1)>MONTH(A9),"",A9+1)) -> 43589 | D10: =IF(OR(B10="",C10=""),"",MOD(C10-B10,1))
A11: =IF(A10="","",IF(MONTH(A10+1)>MONTH(A10),"",A10+1)) -> 43590 | D11: =IF(OR(B11="",C11=""),"",MOD(C11-B11,1))
A12: =IF(A11="","",IF(MONTH(A11+1)>MONTH(A11),"",A11+1)) -> 43591 | D12: =IF(OR(B12="",C12=""),"",MOD(C12-B12,1))
A13: =IF(A12="","",IF(MONTH(A12+1)>MONTH(A12),"",A12+1)) -> 43592 | D13: =IF(OR(B13="",C13=""),"",MOD(C13-B13,1))
A14: =IF(A13="","",IF(MONTH(A13+1)>MONTH(A13),"",A13+1)) -> 43593 | D14: =IF(OR(B14="",C14=""),"",MOD(C14-B14,1))
A15: =IF(A14="","",IF(MONTH(A14+1)>MONTH(A14),"",A14+1)) -> 43594 | D15: =IF(OR(B15="",C15=""),"",MOD(C15-B15,1))
A16: =IF(A15="","",IF(MONTH(A15+1)>MONTH(A15),"",A15+1)) -> 43595 | D16: =IF(OR(B16="",C16=""),"",MOD(C16-B16,1))
A17: =IF(A16="","",IF(MONTH(A16+1)>MONTH(A16),"",A16+1)) -> 43596 | D17: =IF(OR(B17="",C17=""),"",MOD(C17-B17,1))
A18: =IF(A17="","",IF(MONTH(A17+1)>MONTH(A17),"",A17+1)) -> 43597 | D18: =IF(OR(B18="",C18=""),"",MOD(C18-B18,1))
A19: =IF(A18="","",IF(MONTH(A18+1)>MONTH(A18),"",A18+1)) -> 43598 | D19: =IF(OR(B19="",C19=""),"",MOD(C19-B19,1))
... A37: =IF(A36="","",IF(MONTH(A36+1)>MONTH(A36),"",A36+1)) -> 43616 | D37: =IF(OR(B37="",C37=""),"",MOD(C37-B37,1))
A38: =IF(A37="","",IF(MONTH(A37+1)>MONTH(A37),"",A37+1))
A39: =IF(A38="","",IF(MONTH(A38+1)>MONTH(A38),"",A38+1))
A40: =IF(A39="","",IF(MONTH(A39+1)>MONTH(A39),"",A39+1))
A41: =IF(A40="","",IF(MONTH(A40+1)>MONTH(A40),"",A40+1))
A42: =IF(A41="","",IF(MONTH(A41+1)>MONTH(A41),"",A41+1))
A43: =IF(A42="","",IF(MONTH(A42+1)>MONTH(A42),"",A42+1))
A44: =IF(A43="","",IF(MONTH(A43+1)>MONTH(A43),"",A43+1))
A45: =IF(A44="","",IF(MONTH(A44+1)>MONTH(A44),"",A44+1))
A46: =IF(A45="","",IF(MONTH(A45+1)>MONTH(A45),"",A45+1))
A47: =IF(A46="","",IF(MONTH(A46+1)>MONTH(A46),"",A46+1))
A48: =IF(A47="","",IF(MONTH(A47+1)>MONTH(A47),"",A47+1))
A49: =IF(A48="","",IF(MONTH(A48+1)>MONTH(A48),"",A48+1))
... A53: =IF(A52="","",IF(MONTH(A52+1)>MONTH(A52),"",A52+1))

Sheet juin
F2: =IF(SUM(D7:D36)=0,"",SUM(D7:D36))
A7: =DATE(Accueil!I2,6,1) -> 43617 | D7: =IF(OR(B7="",C7=""),"",MOD(C7-B7,1))
A8: =IF(A7="","",IF(MONTH(A7+1)>MONTH(A7),"",A7+1)) -> 43618 | D8: =IF(OR(B8="",C8=""),"",MOD(C8-B8,1))
A9: =IF(A8="","",IF(MONTH(A8+1)>MONTH(A8),"",A8+1)) -> 43619 | D9: =IF(OR(B9="",C9=""),"",MOD(C9-B9,1))
A10: =IF(A9="","",IF(MONTH(A9+1)>MONTH(A9),"",A9+1)) -> 43620 | D10: =IF(OR(B10="",C10=""),"",MOD(C10-B10,1))
A11: =IF(A10="","",IF(MONTH(A10+1)>MONTH(A10),"",A10+1)) -> 43621 | D11: =IF(OR(B11="",C11=""),"",MOD(C11-B11,1))
A12: =IF(A11="","",IF(MONTH(A11+1)>MONTH(A11),"",A11+1)) -> 43622 | D12: =IF(OR(B12="",C12=""),"",MOD(C12-B12,1))
A13: =IF(A12="","",IF(MONTH(A12+1)>MONTH(A12),"",A12+1)) -> 43623 | D13: =IF(OR(B13="",C13=""),"",MOD(C13-B13,1))
A14: =IF(A13="","",IF(MONTH(A13+1)>MONTH(A13),"",A13+1)) -> 43624 | D14: =IF(OR(B14="",C14=""),"",MOD(C14-B14,1))
A15: =IF(A14="","",IF(MONTH(A14+1)>MONTH(A14),"",A14+1)) -> 43625 | D15: =IF(OR(B15="",C15=""),"",MOD(C15-B15,1))
A16: =IF(A15="","",IF(MONTH(A15+1)>MONTH(A15),"",A15+1)) -> 43626 | D16: =IF(OR(B16="",C16=""),"",MOD(C16-B16,1))
A17: =IF(A16="","",IF(MONTH(A16+1)>MONTH(A16),"",A16+1)) -> 43627 | D17: =IF(OR(B17="",C17=""),"",MOD(C17-B17,1))
A18: =IF(A17="","",IF(MONTH(A17+1)>MONTH(A17),"",A17+1)) -> 43628 | D18: =IF(OR(B18="",C18=""),"",MOD(C18-B18,1))
A19: =IF(A18="","",IF(MONTH(A18+1)>MONTH(A18),"",A18+1)) -> 43629 | D19: =IF(OR(B19="",C19=""),"",MOD(C19-B19,1))
... A36: =IF(A35="","",IF(MONTH(A35+1)>MONTH(A35),"",A35+1)) -> 43646 | D36: =IF(OR(B36="",C36=""),"",MOD(C36-B36,1))
A37: =IF(A36="","",IF(MONTH(A36+1)>MONTH(A36),"",A36+1))
A38: =IF(A37="","",IF(MONTH(A37+1)>MONTH(A37),"",A37+1))
A39: =IF(A38="","",IF(MONTH(A38+1)>MONTH(A38),"",A38+1))
A40: =IF(A39="","",IF(MONTH(A39+1)>MONTH(A39),"",A39+1))
A41: =IF(A40="","",IF(MONTH(A40+1)>MONTH(A40),"",A40+1))
A42: =IF(A41="","",IF(MONTH(A41+1)>MONTH(A41),"",A41+1))
A43: =IF(A42="","",IF(MONTH(A42+1)>MONTH(A42),"",A42+1))
A44: =IF(A43="","",IF(MONTH(A43+1)>MONTH(A43),"",A43+1))
A45: =IF(A44="","",IF(MONTH(A44+1)>MONTH(A44),"",A44+1))
A46: =IF(A45="","",IF(MONTH(A45+1)>MONTH(A45),"",A45+1))

Sheet juillet
F2: =IF(SUM(D7:D37)=0,"",SUM(D7:D37))
A7: =DATE(Accueil!I2,7,1) -> 43647 | D7: =IF(OR(B7="",C7=""),"",MOD(C7-B7,1))
A8: =IF(A7="","",IF(MONTH(A7+1)>MONTH(A7),"",A7+1)) -> 43648 | D8: =IF(OR(B8="",C8=""),"",MOD(C8-B8,1))
A9: =IF(A8="","",IF(MONTH(A8+1)>MONTH(A8),"",A8+1)) -> 43649 | D9: =IF(OR(B9="",C9=""),"",MOD(C9-B9,1))
A10: =IF(A9="","",IF(MONTH(A9+1)>MONTH(A9),"",A9+1)) -> 43650 | D10: =IF(OR(B10="",C10=""),"",MOD(C10-B10,1))
A11: =IF(A10="","",IF(MONTH(A10+1)>MONTH(A10),"",A10+1)) -> 43651 | D11: =IF(OR(B11="",C11=""),"",MOD(C11-B11,1))
A12: =IF(A11="","",IF(MONTH(A11+1)>MONTH(A11),"",A11+1)) -> 43652 | D12: =IF(OR(B12="",C12=""),"",MOD(C12-B12,1))
A13: =IF(A12="","",IF(MONTH(A12+1)>MONTH(A12),"",A12+1)) -> 43653 | D13: =IF(OR(B13="",C13=""),"",MOD(C13-B13,1))
A14: =IF(A13="","",IF(MONTH(A13+1)>MONTH(A13),"",A13+1)) -> 43654 | D14: =IF(OR(B14="",C14=""),"",MOD(C14-B14,1))
A15: =IF(A14="","",IF(MONTH(A14+1)>MONTH(A14),"",A14+1)) -> 43655 | D15: =IF(OR(B15="",C15=""),"",MOD(C15-B15,1))
A16: =IF(A15="","",IF(MONTH(A15+1)>MONTH(A15),"",A15+1)) -> 43656 | D16: =IF(OR(B16="",C16=""),"",MOD(C16-B16,1))
A17: =IF(A16="","",IF(MONTH(A16+1)>MONTH(A16),"",A16+1)) -> 43657 | D17: =IF(OR(B17="",C17=""),"",MOD(C17-B17,1))
A18: =IF(A17="","",IF(MONTH(A17+1)>MONTH(A17),"",A17+1)) -> 43658 | D18: =IF(OR(B18="",C18=""),"",MOD(C18-B18,1))
A19: =IF(A18="","",IF(MONTH(A18+1)>MONTH(A18),"",A18+1)) -> 43659 | D19: =IF(OR(B19="",C19=""),"",MOD(C19-B19,1))
... A37: =IF(A36="","",IF(MONTH(A36+1)>MONTH(A36),"",A36+1)) -> 43677 | D37: =IF(OR(B37="",C37=""),"",MOD(C37-B37,1))
A38: =IF(A37="","",IF(MONTH(A37+1)>MONTH(A37),"",A37+1))
A39: =IF(A38="","",IF(MONTH(A38+1)>MONTH(A38),"",A38+1))
A40: =IF(A39="","",IF(MONTH(A39+1)>MONTH(A39),"",A39+1))
A41: =IF(A40="","",IF(MONTH(A40+1)>MONTH(A40),"",A40+1))
A42: =IF(A41="","",IF(MONTH(A41+1)>MONTH(A41),"",A41+1))
A43: =IF(A42="","",IF(MONTH(A42+1)>MONTH(A42),"",A42+1))
A44: =IF(A43="","",IF(MONTH(A43+1)>MONTH(A43),"",A43+1))

Sheet aout
F2: =IF(SUM(D7:D37)=0,"",SUM(D7:D37))
A7: =DATE(Accueil!I2,8,1) -> 43678 | D7: =IF(OR(B7="",C7=""),"",MOD(C7-B7,1))
A8: =IF(A7="","",IF(MONTH(A7+1)>MONTH(A7),"",A7+1)) -> 43679 | D8: =IF(OR(B8="",C8=""),"",MOD(C8-B8,1))
A9: =IF(A8="","",IF(MONTH(A8+1)>MONTH(A8),"",A8+1)) -> 43680 | D9: =IF(OR(B9="",C9=""),"",MOD(C9-B9,1))
A10: =IF(A9="","",IF(MONTH(A9+1)>MONTH(A9),"",A9+1)) -> 43681 | D10: =IF(OR(B10="",C10=""),"",MOD(C10-B10,1))
A11: =IF(A10="","",IF(MONTH(A10+1)>MONTH(A10),"",A10+1)) -> 43682 | D11: =IF(OR(B11="",C11=""),"",MOD(C11-B11,1))
A12: =IF(A11="","",IF(MONTH(A11+1)>MONTH(A11),"",A11+1)) -> 43683 | D12: =IF(OR(B12="",C12=""),"",MOD(C12-B12,1))
A13: =IF(A12="","",IF(MONTH(A12+1)>MONTH(A12),"",A12+1)) -> 43684 | D13: =IF(OR(B13="",C13=""),"",MOD(C13-B13,1))
A14: =IF(A13="","",IF(MONTH(A13+1)>MONTH(A13),"",A13+1)) -> 43685 | D14: =IF(OR(B14="",C14=""),"",MOD(C14-B14,1))
A15: =IF(A14="","",IF(MONTH(A14+1)>MONTH(A14),"",A14+1)) -> 43686 | D15: =IF(OR(B15="",C15=""),"",MOD(C15-B15,1))
A16: =IF(A15="","",IF(MONTH(A15+1)>MONTH(A15),"",A15+1)) -> 43687 | D16: =IF(OR(B16="",C16=""),"",MOD(C16-B16,1))
A17: =IF(A16="","",IF(MONTH(A16+1)>MONTH(A16),"",A16+1)) -> 43688 | D17: =IF(OR(B17="",C17=""),"",MOD(C17-B17,1))
A18: =IF(A17="","",IF(MONTH(A17+1)>MONTH(A17),"",A17+1)) -> 43689 | D18: =IF(OR(B18="",C18=""),"",MOD(C18-B18,1))
A19: =IF(A18="","",IF(MONTH(A18+1)>MONTH(A18),"",A18+1)) -> 43690 | D19: =IF(OR(B19="",C19=""),"",MOD(C19-B19,1))
... A37: =IF(A36="","",IF(MONTH(A36+1)>MONTH(A36),"",A36+1)) -> 43708 | D37: =IF(OR(B37="",C37=""),"",MOD(C37-B37,1))
A38: =IF(A37="","",IF(MONTH(A37+1)>MONTH(A37),"",A37+1))
A39: =IF(A38="","",IF(MONTH(A38+1)>MONTH(A38),"",A38+1))
A40: =IF(A39="","",IF(MONTH(A39+1)>MONTH(A39),"",A39+1))
A41: =IF(A40="","",IF(MONTH(A40+1)>MONTH(A40),"",A40+1))
A42: =IF(A41="","",IF(MONTH(A41+1)>MONTH(A41),"",A41+1))
A43: =IF(A42="","",IF(MONTH(A42+1)>MONTH(A42),"",A42+1))
A44: =IF(A43="","",IF(MONTH(A43+1)>MONTH(A43),"",A43+1))
A45: =IF(A44="","",IF(MONTH(A44+1)>MONTH(A44),"",A44+1))
A46: =IF(A45="","",IF(MONTH(A45+1)>MONTH(A45),"",A45+1))
A47: =IF(A46="","",IF(MONTH(A46+1)>MONTH(A46),"",A46+1))
A48: =IF(A47="","",IF(MONTH(A47+1)>MONTH(A47),"",A47+1))
A49: =IF(A48="","",IF(MONTH(A48+1)>MONTH(A48),"",A48+1))
... A53: =IF(A52="","",IF(MONTH(A52+1)>MONTH(A52),"",A52+1))

Sheet septembre
F2: =IF(SUM(D7:D36)=0,"",SUM(D7:D36))
A7: =DATE(Accueil!I2,9,1) -> 43709 | D7: =IF(OR(B7="",C7=""),"",MOD(C7-B7,1))
A8: =IF(A7="","",IF(MONTH(A7+1)>MONTH(A7),"",A7+1)) -> 43710 | D8: =IF(OR(B8="",C8=""),"",MOD(C8-B8,1))
A9: =IF(A8="","",IF(MONTH(A8+1)>MONTH(A8),"",A8+1)) -> 43711 | D9: =IF(OR(B9="",C9=""),"",MOD(C9-B9,1))
A10: =IF(A9="","",IF(MONTH(A9+1)>MONTH(A9),"",A9+1)) -> 43712 | D10: =IF(OR(B10="",C10=""),"",MOD(C10-B10,1))
A11: =IF(A10="","",IF(MONTH(A10+1)>MONTH(A10),"",A10+1)) -> 43713 | D11: =IF(OR(B11="",C11=""),"",MOD(C11-B11,1))
A12: =IF(A11="","",IF(MONTH(A11+1)>MONTH(A11),"",A11+1)) -> 43714 | D12: =IF(OR(B12="",C12=""),"",MOD(C12-B12,1))
A13: =IF(A12="","",IF(MONTH(A12+1)>MONTH(A12),"",A12+1)) -> 43715 | D13: =IF(OR(B13="",C13=""),"",MOD(C13-B13,1))
A14: =IF(A13="","",IF(MONTH(A13+1)>MONTH(A13),"",A13+1)) -> 43716 | D14: =IF(OR(B14="",C14=""),"",MOD(C14-B14,1))
A15: =IF(A14="","",IF(MONTH(A14+1)>MONTH(A14),"",A14+1)) -> 43717 | D15: =IF(OR(B15="",C15=""),"",MOD(C15-B15,1))
A16: =IF(A15="","",IF(MONTH(A15+1)>MONTH(A15),"",A15+1)) -> 43718 | D16: =IF(OR(B16="",C16=""),"",MOD(C16-B16,1))
A17: =IF(A16="","",IF(MONTH(A16+1)>MONTH(A16),"",A16+1)) -> 43719 | D17: =IF(OR(B17="",C17=""),"",MOD(C17-B17,1))
A18: =IF(A17="","",IF(MONTH(A17+1)>MONTH(A17),"",A17+1)) -> 43720 | D18: =IF(OR(B18="",C18=""),"",MOD(C18-B18,1))
A19: =IF(A18="","",IF(MONTH(A18+1)>MONTH(A18),"",A18+1)) -> 43721 | D19: =IF(OR(B19="",C19=""),"",MOD(C19-B19,1))
... A36: =IF(A35="","",IF(MONTH(A35+1)>MONTH(A35),"",A35+1)) -> 43738 | D36: =IF(OR(B36="",C36=""),"",MOD(C36-B36,1))
A37: =IF(A36="","",IF(MONTH(A36+1)>MONTH(A36),"",A36+1))
A38: =IF(A37="","",IF(MONTH(A37+1)>MONTH(A37),"",A37+1))
A39: =IF(A38="","",IF(MONTH(A38+1)>MONTH(A38),"",A38+1))
A40: =IF(A39="","",IF(MONTH(A39+1)>MONTH(A39),"",A39+1))

Sheet octobre
F2: =IF(SUM(D7:D37)=0,"",SUM(D7:D37))
A7: =DATE(Accueil!I2,10,1) -> 43739 | D7: =IF(OR(B7="",C7=""),"",MOD(C7-B7,1))
A8: =IF(A7="","",IF(MONTH(A7+1)>MONTH(A7),"",A7+1)) -> 43740 | D8: =IF(OR(B8="",C8=""),"",MOD(C8-B8,1))
A9: =IF(A8="","",IF(MONTH(A8+1)>MONTH(A8),"",A8+1)) -> 43741 | D9: =IF(OR(B9="",C9=""),"",MOD(C9-B9,1))
A10: =IF(A9="","",IF(MONTH(A9+1)>MONTH(A9),"",A9+1)) -> 43742 | D10: =IF(OR(B10="",C10=""),"",MOD(C10-B10,1))
A11: =IF(A10="","",IF(MONTH(A10+1)>MONTH(A10),"",A10+1)) -> 43743 | D11: =IF(OR(B11="",C11=""),"",MOD(C11-B11,1))
A12: =IF(A11="","",IF(MONTH(A11+1)>MONTH(A11),"",A11+1)) -> 43744 | D12: =IF(OR(B12="",C12=""),"",MOD(C12-B12,1))
A13: =IF(A12="","",IF(MONTH(A12+1)>MONTH(A12),"",A12+1)) -> 43745 | D13: =IF(OR(B13="",C13=""),"",MOD(C13-B13,1))
A14: =IF(A13="","",IF(MONTH(A13+1)>MONTH(A13),"",A13+1)) -> 43746 | D14: =IF(OR(B14="",C14=""),"",MOD(C14-B14,1))
A15: =IF(A14="","",IF(MONTH(A14+1)>MONTH(A14),"",A14+1)) -> 43747 | D15: =IF(OR(B15="",C15=""),"",MOD(C15-B15,1))
A16: =IF(A15="","",IF(MONTH(A15+1)>MONTH(A15),"",A15+1)) -> 43748 | D16: =IF(OR(B16="",C16=""),"",MOD(C16-B16,1))
A17: =IF(A16="","",IF(MONTH(A16+1)>MONTH(A16),"",A16+1)) -> 43749 | D17: =IF(OR(B17="",C17=""),"",MOD(C17-B17,1))
A18: =IF(A17="","",IF(MONTH(A17+1)>MONTH(A17),"",A17+1)) -> 43750 | D18: =IF(OR(B18="",C18=""),"",MOD(C18-B18,1))
A19: =IF(A18="","",IF(MONTH(A18+1)>MONTH(A18),"",A18+1)) -> 43751 | D19: =IF(OR(B19="",C19=""),"",MOD(C19-B19,1))
... A37: =IF(A36="","",IF(MONTH(A36+1)>MONTH(A36),"",A36+1)) -> 43769 | D37: =IF(OR(B37="",C37=""),"",MOD(C37-B37,1))
A38: =IF(A37="","",IF(MONTH(A37+1)>MONTH(A37),"",A37+1))
A39: =IF(A38="","",IF(MONTH(A38+1)>MONTH(A38),"",A38+1))
A40: =IF(A39="","",IF(MONTH(A39+1)>MONTH(A39),"",A39+1))
A41: =IF(A40="","",IF(MONTH(A40+1)>MONTH(A40),"",A40+1))
A42: =IF(A41="","",IF(MONTH(A41+1)>MONTH(A41),"",A41+1))
A43: =IF(A42="","",IF(MONTH(A42+1)>MONTH(A42),"",A42+1))
A44: =IF(A43="","",IF(MONTH(A43+1)>MONTH(A43),"",A43+1))
A45: =IF(A44="","",IF(MONTH(A44+1)>MONTH(A44),"",A44+1))
A46: =IF(A45="","",IF(MONTH(A45+1)>MONTH(A45),"",A45+1))
A47: =IF(A46="","",IF(MONTH(A46+1)>MONTH(A46),"",A46+1))
A48: =IF(A47="","",IF(MONTH(A47+1)>MONTH(A47),"",A47+1))

Sheet novembre
F2: =IF(SUM(D7:D36)=0,"",SUM(D7:D36))
A7: =DATE(Accueil!I2,11,1) -> 43770 | D7: =IF(OR(B7="",C7=""),"",MOD(C7-B7,1))
A8: =IF(A7="","",IF(MONTH(A7+1)>MONTH(A7),"",A7+1)) -> 43771 | D8: =IF(OR(B8="",C8=""),"",MOD(C8-B8,1))
A9: =IF(A8="","",IF(MONTH(A8+1)>MONTH(A8),"",A8+1)) -> 43772 | D9: =IF(OR(B9="",C9=""),"",MOD(C9-B9,1))
A10: =IF(A9="","",IF(MONTH(A9+1)>MONTH(A9),"",A9+1)) -> 43773 | D10: =IF(OR(B10="",C10=""),"",MOD(C10-B10,1))
A11: =IF(A10="","",IF(MONTH(A10+1)>MONTH(A10),"",A10+1)) -> 43774 | D11: =IF(OR(B11="",C11=""),"",MOD(C11-B11,1))
A12: =IF(A11="","",IF(MONTH(A11+1)>MONTH(A11),"",A11+1)) -> 43775 | D12: =IF(OR(B12="",C12=""),"",MOD(C12-B12,1))
A13: =IF(A12="","",IF(MONTH(A12+1)>MONTH(A12),"",A12+1)) -> 43776 | D13: =IF(OR(B13="",C13=""),"",MOD(C13-B13,1))
A14: =IF(A13="","",IF(MONTH(A13+1)>MONTH(A13),"",A13+1)) -> 43777 | D14: =IF(OR(B14="",C14=""),"",MOD(C14-B14,1))
A15: =IF(A14="","",IF(MONTH(A14+1)>MONTH(A14),"",A14+1)) -> 43778 | D15: =IF(OR(B15="",C15=""),"",MOD(C15-B15,1))
A16: =IF(A15="","",IF(MONTH(A15+1)>MONTH(A15),"",A15+1)) -> 43779 | D16: =IF(OR(B16="",C16=""),"",MOD(C16-B16,1))
A17: =IF(A16="","",IF(MONTH(A16+1)>MONTH(A16),"",A16+1)) -> 43780 | D17: =IF(OR(B17="",C17=""),"",MOD(C17-B17,1))
A18: =IF(A17="","",IF(MONTH(A17+1)>MONTH(A17),"",A17+1)) -> 43781 | D18: =IF(OR(B18="",C18=""),"",MOD(C18-B18,1))
A19: =IF(A18="","",IF(MONTH(A18+1)>MONTH(A18),"",A18+1)) -> 43782 | D19: =IF(OR(B19="",C19=""),"",MOD(C19-B19,1))
... A36: =IF(A35="","",IF(MONTH(A35+1)>MONTH(A35),"",A35+1)) -> 43799 | D36: =IF(OR(B36="",C36=""),"",MOD(C36-B36,1))
A37: =IF(A36="","",IF(MONTH(A36+1)>MONTH(A36),"",A36+1))
A38: =IF(A37="","",IF(MONTH(A37+1)>MONTH(A37),"",A37+1))
A39: =IF(A38="","",IF(MONTH(A38+1)>MONTH(A38),"",A38+1))
A40: =IF(A39="","",IF(MONTH(A39+1)>MONTH(A39),"",A39+1))
A41: =IF(A40="","",IF(MONTH(A40+1)>MONTH(A40),"",A40+1))
A42: =IF(A41="","",IF(MONTH(A41+1)>MONTH(A41),"",A41+1))
A43: =IF(A42="","",IF(MONTH(A42+1)>MONTH(A42),"",A42+1))
A44: =IF(A43="","",IF(MONTH(A43+1)>MONTH(A43),"",A43+1))
A45: =IF(A44="","",IF(MONTH(A44+1)>MONTH(A44),"",A44+1))
A46: =IF(A45="","",IF(MONTH(A45+1)>MONTH(A45),"",A45+1))
A47: =IF(A46="","",IF(MONTH(A46+1)>MONTH(A46),"",A46+1))
A48: =IF(A47="","",IF(MONTH(A47+1)>MONTH(A47),"",A47+1))
... A50: =IF(A49="","",IF(MONTH(A49+1)>MONTH(A49),"",A49+1))

Sheet Décembre
F2: =IF(SUM(D7:D37)=0,"",SUM(D7:D37))
A7: =DATE(Accueil!I2,12,1) -> 43800 | D7: =IF(OR(B7="",C7=""),"",MOD(C7-B7,1))
A8: =IF(A7="","",IF(MONTH(A7+1)>MONTH(A7),"",A7+1)) -> 43801 | D8: =IF(OR(B8="",C8=""),"",MOD(C8-B8,1))
A9: =IF(A8="","",IF(MONTH(A8+1)>MONTH(A8),"",A8+1)) -> 43802 | D9: =IF(OR(B9="",C9=""),"",MOD(C9-B9,1))
A10: =IF(A9="","",IF(MONTH(A9+1)>MONTH(A9),"",A9+1)) -> 43803 | D10: =IF(OR(B10="",C10=""),"",MOD(C10-B10,1))
A11: =IF(A10="","",IF(MONTH(A10+1)>MONTH(A10),"",A10+1)) -> 43804 | D11: =IF(OR(B11="",C11=""),"",MOD(C11-B11,1))
A12: =IF(A11="","",IF(MONTH(A11+1)>MONTH(A11),"",A11+1)) -> 43805 | D12: =IF(OR(B12="",C12=""),"",MOD(C12-B12,1))
A13: =IF(A12="","",IF(MONTH(A12+1)>MONTH(A12),"",A12+1)) -> 43806 | D13: =IF(OR(B13="",C13=""),"",MOD(C13-B13,1))
A14: =IF(A13="","",IF(MONTH(A13+1)>MONTH(A13),"",A13+1)) -> 43807 | D14: =IF(OR(B14="",C14=""),"",MOD(C14-B14,1))
A15: =IF(A14="","",IF(MONTH(A14+1)>MONTH(A14),"",A14+1)) -> 43808 | D15: =IF(OR(B15="",C15=""),"",MOD(C15-B15,1))
A16: =IF(A15="","",IF(MONTH(A15+1)>MONTH(A15),"",A15+1)) -> 43809 | D16: =IF(OR(B16="",C16=""),"",MOD(C16-B16,1))
A17: =IF(A16="","",IF(MONTH(A16+1)>MONTH(A16),"",A16+1)) -> 43810 | D17: =IF(OR(B17="",C17=""),"",MOD(C17-B17,1))
A18: =IF(A17="","",IF(MONTH(A17+1)>MONTH(A17),"",A17+1)) -> 43811 | D18: =IF(OR(B18="",C18=""),"",MOD(C18-B18,1))
A19: =IF(A18="","",IF(MONTH(A18+1)>MONTH(A18),"",A18+1)) -> 43812 | D19: =IF(OR(B19="",C19=""),"",MOD(C19-B19,1))
... A37: =IF(A36="","",IF(MONTH(A36+1)>MONTH(A36),"",A36+1)) -> 43830 | D37: =IF(OR(B37="",C37=""),"",MOD(C37-B37,1))

Sheet Jours Férié
A3: Jour de l'an: | B3: =DATE(Accueil!I2,1,1) -> 43466
A4: Pâques: | B4: =FLOOR(DAY(MINUTE(Accueil!I2/38)/2+56)&"/5/"&Accueil!I2,7)-34 -> 43576
A5: Lundi de Pâques: | B5: =B4+1 -> 43577
A6: Fête du travail: | B6: =DATE(Accueil!I2,5,1) -> 43586
A7: Victoire 39/45: | B7: =DATE(Accueil!I2,5,8) -> 43593
A8: Ascension: | B8: =B4+39 -> 43615
A9: Pentecôte: | B9: =B4+49 -> 43625
A10: Lundi de Pentecôte: | B10: =B4+50 -> 43626
A11: Fête Nationale: | B11: =DATE(Accueil!I2,7,14) -> 43660
A12: Assomption: | B12: =DATE(Accueil!I2,8,15) -> 43692
A13: Toussaint: | B13: =DATE(Accueil!I2,11,1) -> 43770
A14: Armistice 14/18: | B14: =DATE(Accueil!I2,11,11) -> 43780
A15: Noël: | B15: =DATE(Accueil!I2,12,25) -> 43824
A16: Vendredi saint: | B16: =B4-2 -> 43574
A17: Saint Etienne: | B17: =DATE(Accueil!I2,12,26) -> 43825
