Workbook

Sheet n
B2: Paris | C2: Paris | D2: Toulouse | E2: Paris
B3: V1 | C3: V2 | D3: V3 | E3: V4 | F3: Total
A4: Indic1 | B4: 1 | C4: 5 | D4: 1 | E4: 1 | F4: =SUM(B4:E4) -> 8
A5: Indic2 | B5: 1 | C5: 5 | D5: 1 | E5: 12 | F5: =SUM(B5:E5) -> 19
A6: Indic3 | B6: 12 | C6: 6 | D6: 12 | E6: 5 | F6: =SUM(B6:E6) -> 35
A7: Indic4 | B7: 5 | C7: 8 | D7: 5 | E7: 6 | F7: =SUM(B7:E7) -> 24
A8: Indic5 | B8: 6 | C8: 9 | D8: 6 | E8: 6 | F8: =SUM(B8:E8) -> 27
A9: Indic6 | B9: 4 | C9: 2 | D9: 4 | E9: 4 | F9: =SUM(B9:E9) -> 14
A10: Indic7 | B10: 8 | C10: 4 | D10: 8 | E10: 8 | F10: =SUM(B10:E10) -> 28
A11: Indic8 | B11: 5 | C11: 7 | D11: 5 | E11: 4 | F11: =SUM(B11:E11) -> 21
A12: Indic9 | B12: 4 | C12: 9 | D12: 4 | E12: 8 | F12: =SUM(B12:E12) -> 25
A13: Indic10 | B13: 7 | C13: 5 | D13: 7 | E13: 5 | F13: =SUM(B13:E13) -> 24
A14: Indic11 | B14: 5 | C14: 6 | D14: 5 | E14: 8 | F14: =SUM(B14:E14) -> 24

Sheet n+1
B2: Paris | C2: Paris | D2: Toulouse | E2: Paris | F2: Paris | G2: Toulouse
B3: V1 | C3: V2 | D3: V3 | E3: V4 | F3: V5 | G3: V6 | H3: Total
A4: Indic1 | B4: 4 | C4: 2 | D4: 4 | E4: 4 | F4: 2 | G4: 5 | H4: =SUM(B4:G4) -> 21
A5: Indic2 | B5: 12 | C5: 6 | D5: 12 | E5: 5 | F5: 9 | G5: 6 | H5: =SUM(B5:G5) -> 50
A6: Indic3 | B6: 5 | C6: 8 | D6: 5 | E6: 6 | F6: 2 | G6: 4 | H6: =SUM(B6:G6) -> 30
A7: Indic4 | B7: 6 | C7: 9 | D7: 6 | E7: 6 | F7: 9 | G7: 6 | H7: =SUM(B7:G7) -> 42
A8: Indic5 | B8: 4 | C8: 2 | D8: 4 | E8: 4 | F8: 2 | G8: 4 | H8: =SUM(B8:G8) -> 20
A9: Indic6 | B9: 8 | C9: 4 | D9: 8 | E9: 8 | F9: 9 | G9: 6 | H9: =SUM(B9:G9) -> 43
A10: Indic7 | B10: 5 | C10: 7 | D10: 5 | E10: 4 | F10: 2 | G10: 4 | H10: =SUM(B10:G10) -> 27
A11: Indic8 | B11: 4 | C11: 12 | D11: 6 | E11: 12 | F11: 5 | G11: 6 | H11: =SUM(B11:G11) -> 45
A12: Indic9 | B12: 7 | C12: 5 | D12: 8 | E12: 5 | F12: 6 | G12: 4 | H12: =SUM(B12:G12) -> 35
A13: Indic10 | B13: 12 | C13: 6 | D13: 9 | E13: 6 | F13: 6 | G13: 8 | H13: =SUM(B13:G13) -> 47
A14: Indic11 | B14: 5 | C14: 4 | D14: 2 | E14: 4 | F14: 4 | G14: 5 | H14: =SUM(B14:G14) -> 24

Sheet n+2
B2: Paris | C2: Toulouse | D2: Paris | E2: Paris | F2: Toulouse | G2: Toulouse
B3: V1 | C3: V3 | D3: V4 | E3: V5 | F3: V6 | G3: V7 | H3: Total
A4: Indic1 | B4: 12 | C4: 6 | D4: 12 | E4: 5 | F4: 9 | G4: 6 | H4: =SUM(B4:G4) -> 50
A5: Indic2 | B5: 5 | C5: 8 | D5: 5 | E5: 6 | F5: 2 | G5: 4 | H5: =SUM(B5:G5) -> 30
A6: Indic3 | B6: 6 | C6: 9 | D6: 6 | E6: 6 | F6: 9 | G6: 6 | H6: =SUM(B6:G6) -> 42
A7: Indic4 | B7: 4 | C7: 2 | D7: 4 | E7: 4 | F7: 2 | G7: 4 | H7: =SUM(B7:G7) -> 20
A8: Indic5 | B8: 5 | C8: 8 | D8: 5 | E8: 6 | F8: 2 | G8: 4 | H8: =SUM(B8:G8) -> 30
A9: Indic6 | B9: 6 | C9: 9 | D9: 6 | E9: 6 | F9: 9 | G9: 6 | H9: =SUM(B9:G9) -> 42
A10: Indic7 | B10: 4 | C10: 2 | D10: 4 | E10: 4 | F10: 2 | G10: 4 | H10: =SUM(B10:G10) -> 20
A11: Indic8 | B11: 4 | C11: 2 | D11: 4 | E11: 4 | F11: 2 | G11: 4 | H11: =SUM(B11:G11) -> 20
A12: Indic9 | B12: 5 | C12: 8 | D12: 5 | E12: 6 | F12: 2 | G12: 4 | H12: =SUM(B12:G12) -> 30
A13: Indic10 | B13: 4 | C13: 2 | D13: 4 | E13: 4 | F13: 2 | G13: 4 | H13: =SUM(B13:G13) -> 20
A14: Indic11 | B14: 5 | C14: 8 | D14: 5 | E14: 6 | F14: 2 | G14: 4 | H14: =SUM(B14:G14) -> 30

Sheet Principal
A1: Filtre1 : | B1: Total
A2: Filtre2 : | B2: Total
C4: n | D4: n+1 | E4: n+2 | G4: Paris n | H4: Paris n+1 | I4: Paris n+2 | K4: Toulouse n | L4: Toulouse n+1 | M4: Toulouse n+2
B5: Indic1 | C5: =SUM(n!B4:E4) -> 8 | D5: =SUM('n+1'!B4:G4) -> 21 | E5: =SUM('n+2'!B4:G4) -> 50 | G5: =n!B4+n!C4+n!E4 -> 7 | H5: ='n+1'!B4+'n+1'!C4+'n+1'!E4+'n+1'!F4 -> 12 | I5: ='n+2'!B4+'n+2'!D4+'n+2'!E4 -> 29 | K5: =n!D4 -> 1 | L5: ='n+1'!D4+'n+1'!G4 -> 9 | M5: ='n+2'!C4+'n+2'!F4+'n+2'!G4 -> 21
B6: Indic2 | C6: =SUM(n!B5:E5) -> 19 | D6: =SUM('n+1'!B5:G5) -> 50 | E6: =SUM('n+2'!B5:G5) -> 30 | G6: =n!B5+n!C5+n!E5 -> 18 | H6: ='n+1'!B5+'n+1'!C5+'n+1'!E5+'n+1'!F5 -> 32 | I6: ='n+2'!B5+'n+2'!D5+'n+2'!E5 -> 16 | K6: =n!D5 -> 1 | L6: ='n+1'!D5+'n+1'!G5 -> 18 | M6: ='n+2'!C5+'n+2'!F5+'n+2'!G5 -> 14
B7: Indic3 | C7: =SUM(n!B6:E6) -> 35 | D7: =SUM('n+1'!B6:G6) -> 30 | E7: =SUM('n+2'!B6:G6) -> 42 | G7: =n!B6+n!C6+n!E6 -> 23 | H7: ='n+1'!B6+'n+1'!C6+'n+1'!E6+'n+1'!F6 -> 21 | I7: ='n+2'!B6+'n+2'!D6+'n+2'!E6 -> 18 | K7: =n!D6 -> 12 | L7: ='n+1'!D6+'n+1'!G6 -> 9 | M7: ='n+2'!C6+'n+2'!F6+'n+2'!G6 -> 24
B8: Indic4 | C8: =SUM(n!B7:E7) -> 24 | D8: =SUM('n+1'!B7:G7) -> 42 | E8: =SUM('n+2'!B7:G7) -> 20 | G8: =n!B7+n!C7+n!E7 -> 19 | H8: ='n+1'!B7+'n+1'!C7+'n+1'!E7+'n+1'!F7 -> 30 | I8: ='n+2'!B7+'n+2'!D7+'n+2'!E7 -> 12 | K8: =n!D7 -> 5 | L8: ='n+1'!D7+'n+1'!G7 -> 12 | M8: ='n+2'!C7+'n+2'!F7+'n+2'!G7 -> 8
B9: Indic5 | C9: =SUM(n!B8:E8) -> 27 | D9: =SUM('n+1'!B8:G8) -> 20 | E9: =SUM('n+2'!B8:G8) -> 30 | G9: =n!B8+n!C8+n!E8 -> 21 | H9: ='n+1'!B8+'n+1'!C8+'n+1'!E8+'n+1'!F8 -> 12 | I9: ='n+2'!B8+'n+2'!D8+'n+2'!E8 -> 16 | K9: =n!D8 -> 6 | L9: ='n+1'!D8+'n+1'!G8 -> 8 | M9: ='n+2'!C8+'n+2'!F8+'n+2'!G8 -> 14
B10: Indic6 | C10: =SUM(n!B9:E9) -> 14 | D10: =SUM('n+1'!B9:G9) -> 43 | E10: =SUM('n+2'!B9:G9) -> 42 | G10: =n!B9+n!C9+n!E9 -> 10 | H10: ='n+1'!B9+'n+1'!C9+'n+1'!E9+'n+1'!F9 -> 29 | I10: ='n+2'!B9+'n+2'!D9+'n+2'!E9 -> 18 | K10: =n!D9 -> 4 | L10: ='n+1'!D9+'n+1'!G9 -> 14 | M10: ='n+2'!C9+'n+2'!F9+'n+2'!G9 -> 24
B11: Indic7 | C11: =SUM(n!B10:E10) -> 28 | D11: =SUM('n+1'!B10:G10) -> 27 | E11: =SUM('n+2'!B10:G10) -> 20 | G11: =n!B10+n!C10+n!E10 -> 20 | H11: ='n+1'!B10+'n+1'!C10+'n+1'!E10+'n+1'!F10 -> 18 | I11: ='n+2'!B10+'n+2'!D10+'n+2'!E10 -> 12 | K11: =n!D10 -> 8 | L11: ='n+1'!D10+'n+1'!G10 -> 9 | M11: ='n+2'!C10+'n+2'!F10+'n+2'!G10 -> 8
B12: Indic8 | C12: =SUM(n!B11:E11) -> 21 | D12: =SUM('n+1'!B11:G11) -> 45 | E12: =SUM('n+2'!B11:G11) -> 20 | G12: =n!B11+n!C11+n!E11 -> 16 | H12: ='n+1'!B11+'n+1'!C11+'n+1'!E11+'n+1'!F11 -> 33 | I12: ='n+2'!B11+'n+2'!D11+'n+2'!E11 -> 12 | K12: =n!D11 -> 5 | L12: ='n+1'!D11+'n+1'!G11 -> 12 | M12: ='n+2'!C11+'n+2'!F11+'n+2'!G11 -> 8
B13: Indic9 | C13: =SUM(n!B12:E12) -> 25 | D13: =SUM('n+1'!B12:G12) -> 35 | E13: =SUM('n+2'!B12:G12) -> 30 | G13: =n!B12+n!C12+n!E12 -> 21 | H13: ='n+1'!B12+'n+1'!C12+'n+1'!E12+'n+1'!F12 -> 23 | I13: ='n+2'!B12+'n+2'!D12+'n+2'!E12 -> 16 | K13: =n!D12 -> 4 | L13: ='n+1'!D12+'n+1'!G12 -> 12 | M13: ='n+2'!C12+'n+2'!F12+'n+2'!G12 -> 14
B14: Indic10 | C14: =SUM(n!B13:E13) -> 24 | D14: =SUM('n+1'!B13:G13) -> 47 | E14: =SUM('n+2'!B13:G13) -> 20 | G14: =n!B13+n!C13+n!E13 -> 17 | H14: ='n+1'!B13+'n+1'!C13+'n+1'!E13+'n+1'!F13 -> 30 | I14: ='n+2'!B13+'n+2'!D13+'n+2'!E13 -> 12 | K14: =n!D13 -> 7 | L14: ='n+1'!D13+'n+1'!G13 -> 17 | M14: ='n+2'!C13+'n+2'!F13+'n+2'!G13 -> 8
B15: Indic11 | C15: =SUM(n!B14:E14) -> 24 | D15: =SUM('n+1'!B14:G14) -> 24 | E15: =SUM('n+2'!B14:G14) -> 30 | G15: =n!B14+n!C14+n!E14 -> 19 | H15: ='n+1'!B14+'n+1'!C14+'n+1'!E14+'n+1'!F14 -> 17 | I15: ='n+2'!B14+'n+2'!D14+'n+2'!E14 -> 16 | K15: =n!D14 -> 5 | L15: ='n+1'!D14+'n+1'!G14 -> 7 | M15: ='n+2'!C14+'n+2'!F14+'n+2'!G14 -> 14

Sheet Liste_filtre
A1: Filtre1 | C1: Filtre2
A2: V1 | C2: Paris
A3: V2 | C3: Toulouse
A4: V3 | C4: Total
A5: V4
A6: V5
A7: V6
A8: V7
A9: Total
