Workbook

Sheet Semaine
A1: Année | B1: Semaine | C1: Semaine finissant le | D1: Personne1 | E1: Personne2 | F1: Personne3 | G1: Personne4
A2: 2015 | B2: 1 | C2: 42007 | D2: ='Liste de nom'!$B$2 -> nom1 | E2: ='Liste de nom'!$B$3 -> nom2 | F2: ='Liste de nom'!$B$4 -> nom3 | G2: ='Liste de nom'!$B$5 -> nom4 | O2: =IF(D2=1,'Liste de nom'!$B$2,IF(D2=2,'Liste de nom'!$B$3,IF(D2=3,'Liste de nom'!$B$4,IF(D2=4,'Liste de nom'!$B$5,IF(D2=5,'Liste de nom'!$B$6,IF(D2=6,'Liste de nom'!$B$7,IF(D2=7,'Liste de nom'!$B$8,IF(D2=8,'Liste de nom'!$B$9,IF(D2=9,'Liste de nom'!$B$10,IF(D2=10,'Liste de nom'!$B$11,"")))))))))) | P2: =IF(E2=1,'Liste de nom'!$B$2,IF(E2=2,'Liste de nom'!$B$3,IF(E2=3,'Liste de nom'!$B$4,IF(E2=4,'Liste de nom'!$B$5,IF(E2=5,'Liste de nom'!$B$6,IF(E2=6,'Liste de nom'!$B$7,IF(E2=7,'Liste de nom'!$B$8,IF(E2=8,'Liste de nom'!$B$9,IF(E2=9,'Liste de nom'!$B$10,IF(E2=10,'Liste de nom'!$B$11,"")))))))))) | Q2: =IF(F2=1,'Liste de nom'!$B$2,IF(F2=2,'Liste de nom'!$B$3,IF(F2=3,'Liste de nom'!$B$4,IF(F2=4,'Liste de nom'!$B$5,IF(F2=5,'Liste de nom'!$B$6,IF(F2=6,'Liste de nom'!$B$7,IF(F2=7,'Liste de nom'!$B$8,IF(F2=8,'Liste de nom'!$B$9,IF(F2=9,'Liste de nom'!$B$10,IF(F2=10,'Liste de nom'!$B$11,"")))))))))) | R2: =IF(G2=1,'Liste de nom'!$B$2,IF(G2=2,'Liste de nom'!$B$3,IF(G2=3,'Liste de nom'!$B$4,IF(G2=4,'Liste de nom'!$B$5,IF(G2=5,'Liste de nom'!$B$6,IF(G2=6,'Liste de nom'!$B$7,IF(G2=7,'Liste de nom'!$B$8,IF(G2=8,'Liste de nom'!$B$9,IF(G2=9,'Liste de nom'!$B$10,IF(G2=10,'Liste de nom'!$B$11,""))))))))))
A3: 2015 | B3: 2 | C3: 42014 | D3: ='Liste de nom'!$B$6 -> nom5 | E3: ='Liste de nom'!$B$7 -> nom6 | F3: ='Liste de nom'!$B$8 -> nom7 | G3: ='Liste de nom'!$B$9 -> nom8 | O3: =IF(D3=1,'Liste de nom'!$B$2,IF(D3=2,'Liste de nom'!$B$3,IF(D3=3,'Liste de nom'!$B$4,IF(D3=4,'Liste de nom'!$B$5,IF(D3=5,'Liste de nom'!$B$6,IF(D3=6,'Liste de nom'!$B$7,IF(D3=7,'Liste de nom'!$B$8,IF(D3=8,'Liste de nom'!$B$9,IF(D3=9,'Liste de nom'!$B$10,IF(D3=10,'Liste de nom'!$B$11,"")))))))))) | P3: =IF(E3=1,'Liste de nom'!$B$2,IF(E3=2,'Liste de nom'!$B$3,IF(E3=3,'Liste de nom'!$B$4,IF(E3=4,'Liste de nom'!$B$5,IF(E3=5,'Liste de nom'!$B$6,IF(E3=6,'Liste de nom'!$B$7,IF(E3=7,'Liste de nom'!$B$8,IF(E3=8,'Liste de nom'!$B$9,IF(E3=9,'Liste de nom'!$B$10,IF(E3=10,'Liste de nom'!$B$11,"")))))))))) | Q3: =IF(F3=1,'Liste de nom'!$B$2,IF(F3=2,'Liste de nom'!$B$3,IF(F3=3,'Liste de nom'!$B$4,IF(F3=4,'Liste de nom'!$B$5,IF(F3=5,'Liste de nom'!$B$6,IF(F3=6,'Liste de nom'!$B$7,IF(F3=7,'Liste de nom'!$B$8,IF(F3=8,'Liste de nom'!$B$9,IF(F3=9,'Liste de nom'!$B$10,IF(F3=10,'Liste de nom'!$B$11,"")))))))))) | R3: =IF(G3=1,'Liste de nom'!$B$2,IF(G3=2,'Liste de nom'!$B$3,IF(G3=3,'Liste de nom'!$B$4,IF(G3=4,'Liste de nom'!$B$5,IF(G3=5,'Liste de nom'!$B$6,IF(G3=6,'Liste de nom'!$B$7,IF(G3=7,'Liste de nom'!$B$8,IF(G3=8,'Liste de nom'!$B$9,IF(G3=9,'Liste de nom'!$B$10,IF(G3=10,'Liste de nom'!$B$11,""))))))))))
A4: 2015 | B4: 3 | C4: 42021 | D4: ='Liste de nom'!$B$10 -> nom9 | E4: ='Liste de nom'!$B$11 -> nom10 | F4: ='Liste de nom'!$B$2 -> nom1 | G4: ='Liste de nom'!$B$3 -> nom2 | O4: =IF(D4=1,'Liste de nom'!$B$2,IF(D4=2,'Liste de nom'!$B$3,IF(D4=3,'Liste de nom'!$B$4,IF(D4=4,'Liste de nom'!$B$5,IF(D4=5,'Liste de nom'!$B$6,IF(D4=6,'Liste de nom'!$B$7,IF(D4=7,'Liste de nom'!$B$8,IF(D4=8,'Liste de nom'!$B$9,IF(D4=9,'Liste de nom'!$B$10,IF(D4=10,'Liste de nom'!$B$11,"")))))))))) | P4: =IF(E4=1,'Liste de nom'!$B$2,IF(E4=2,'Liste de nom'!$B$3,IF(E4=3,'Liste de nom'!$B$4,IF(E4=4,'Liste de nom'!$B$5,IF(E4=5,'Liste de nom'!$B$6,IF(E4=6,'Liste de nom'!$B$7,IF(E4=7,'Liste de nom'!$B$8,IF(E4=8,'Liste de nom'!$B$9,IF(E4=9,'Liste de nom'!$B$10,IF(E4=10,'Liste de nom'!$B$11,"")))))))))) | Q4: =IF(F4=1,'Liste de nom'!$B$2,IF(F4=2,'Liste de nom'!$B$3,IF(F4=3,'Liste de nom'!$B$4,IF(F4=4,'Liste de nom'!$B$5,IF(F4=5,'Liste de nom'!$B$6,IF(F4=6,'Liste de nom'!$B$7,IF(F4=7,'Liste de nom'!$B$8,IF(F4=8,'Liste de nom'!$B$9,IF(F4=9,'Liste de nom'!$B$10,IF(F4=10,'Liste de nom'!$B$11,"")))))))))) | R4: =IF(G4=1,'Liste de nom'!$B$2,IF(G4=2,'Liste de nom'!$B$3,IF(G4=3,'Liste de nom'!$B$4,IF(G4=4,'Liste de nom'!$B$5,IF(G4=5,'Liste de nom'!$B$6,IF(G4=6,'Liste de nom'!$B$7,IF(G4=7,'Liste de nom'!$B$8,IF(G4=8,'Liste de nom'!$B$9,IF(G4=9,'Liste de nom'!$B$10,IF(G4=10,'Liste de nom'!$B$11,""))))))))))
A5: 2015 | B5: 4 | C5: 42028 | D5: ='Liste de nom'!$B$4 -> nom3 | E5: ='Liste de nom'!$B$5 -> nom4 | F5: ='Liste de nom'!$B$6 -> nom5 | G5: ='Liste de nom'!$B$7 -> nom6 | O5: =IF(D5=1,'Liste de nom'!$B$2,IF(D5=2,'Liste de nom'!$B$3,IF(D5=3,'Liste de nom'!$B$4,IF(D5=4,'Liste de nom'!$B$5,IF(D5=5,'Liste de nom'!$B$6,IF(D5=6,'Liste de nom'!$B$7,IF(D5=7,'Liste de nom'!$B$8,IF(D5=8,'Liste de nom'!$B$9,IF(D5=9,'Liste de nom'!$B$10,IF(D5=10,'Liste de nom'!$B$11,"")))))))))) | P5: =IF(E5=1,'Liste de nom'!$B$2,IF(E5=2,'Liste de nom'!$B$3,IF(E5=3,'Liste de nom'!$B$4,IF(E5=4,'Liste de nom'!$B$5,IF(E5=5,'Liste de nom'!$B$6,IF(E5=6,'Liste de nom'!$B$7,IF(E5=7,'Liste de nom'!$B$8,IF(E5=8,'Liste de nom'!$B$9,IF(E5=9,'Liste de nom'!$B$10,IF(E5=10,'Liste de nom'!$B$11,"")))))))))) | Q5: =IF(F5=1,'Liste de nom'!$B$2,IF(F5=2,'Liste de nom'!$B$3,IF(F5=3,'Liste de nom'!$B$4,IF(F5=4,'Liste de nom'!$B$5,IF(F5=5,'Liste de nom'!$B$6,IF(F5=6,'Liste de nom'!$B$7,IF(F5=7,'Liste de nom'!$B$8,IF(F5=8,'Liste de nom'!$B$9,IF(F5=9,'Liste de nom'!$B$10,IF(F5=10,'Liste de nom'!$B$11,"")))))))))) | R5: =IF(G5=1,'Liste de nom'!$B$2,IF(G5=2,'Liste de nom'!$B$3,IF(G5=3,'Liste de nom'!$B$4,IF(G5=4,'Liste de nom'!$B$5,IF(G5=5,'Liste de nom'!$B$6,IF(G5=6,'Liste de nom'!$B$7,IF(G5=7,'Liste de nom'!$B$8,IF(G5=8,'Liste de nom'!$B$9,IF(G5=9,'Liste de nom'!$B$10,IF(G5=10,'Liste de nom'!$B$11,""))))))))))
A6: 2015 | B6: 5 | C6: 42035 | D6: ='Liste de nom'!$B$8 -> nom7 | E6: ='Liste de nom'!$B$9 -> nom8 | F6: ='Liste de nom'!$B$10 -> nom9 | G6: ='Liste de nom'!$B$11 -> nom10 | O6: =IF(D6=1,'Liste de nom'!$B$2,IF(D6=2,'Liste de nom'!$B$3,IF(D6=3,'Liste de nom'!$B$4,IF(D6=4,'Liste de nom'!$B$5,IF(D6=5,'Liste de nom'!$B$6,IF(D6=6,'Liste de nom'!$B$7,IF(D6=7,'Liste de nom'!$B$8,IF(D6=8,'Liste de nom'!$B$9,IF(D6=9,'Liste de nom'!$B$10,IF(D6=10,'Liste de nom'!$B$11,"")))))))))) | P6: =IF(E6=1,'Liste de nom'!$B$2,IF(E6=2,'Liste de nom'!$B$3,IF(E6=3,'Liste de nom'!$B$4,IF(E6=4,'Liste de nom'!$B$5,IF(E6=5,'Liste de nom'!$B$6,IF(E6=6,'Liste de nom'!$B$7,IF(E6=7,'Liste de nom'!$B$8,IF(E6=8,'Liste de nom'!$B$9,IF(E6=9,'Liste de nom'!$B$10,IF(E6=10,'Liste de nom'!$B$11,"")))))))))) | Q6: =IF(F6=1,'Liste de nom'!$B$2,IF(F6=2,'Liste de nom'!$B$3,IF(F6=3,'Liste de nom'!$B$4,IF(F6=4,'Liste de nom'!$B$5,IF(F6=5,'Liste de nom'!$B$6,IF(F6=6,'Liste de nom'!$B$7,IF(F6=7,'Liste de nom'!$B$8,IF(F6=8,'Liste de nom'!$B$9,IF(F6=9,'Liste de nom'!$B$10,IF(F6=10,'Liste de nom'!$B$11,"")))))))))) | R6: =IF(G6=1,'Liste de nom'!$B$2,IF(G6=2,'Liste de nom'!$B$3,IF(G6=3,'Liste de nom'!$B$4,IF(G6=4,'Liste de nom'!$B$5,IF(G6=5,'Liste de nom'!$B$6,IF(G6=6,'Liste de nom'!$B$7,IF(G6=7,'Liste de nom'!$B$8,IF(G6=8,'Liste de nom'!$B$9,IF(G6=9,'Liste de nom'!$B$10,IF(G6=10,'Liste de nom'!$B$11,""))))))))))
A7: 2015 | B7: 6 | C7: 42042 | D7: ='Liste de nom'!$B$2 -> nom1 | E7: ='Liste de nom'!$B$4 -> nom3 | F7: ='Liste de nom'!$B$6 -> nom5 | G7: ='Liste de nom'!$B$8 -> nom7 | O7: =IF(D7=1,'Liste de nom'!$B$2,IF(D7=2,'Liste de nom'!$B$3,IF(D7=3,'Liste de nom'!$B$4,IF(D7=4,'Liste de nom'!$B$5,IF(D7=5,'Liste de nom'!$B$6,IF(D7=6,'Liste de nom'!$B$7,IF(D7=7,'Liste de nom'!$B$8,IF(D7=8,'Liste de nom'!$B$9,IF(D7=9,'Liste de nom'!$B$10,IF(D7=10,'Liste de nom'!$B$11,"")))))))))) | P7: =IF(E7=1,'Liste de nom'!$B$2,IF(E7=2,'Liste de nom'!$B$3,IF(E7=3,'Liste de nom'!$B$4,IF(E7=4,'Liste de nom'!$B$5,IF(E7=5,'Liste de nom'!$B$6,IF(E7=6,'Liste de nom'!$B$7,IF(E7=7,'Liste de nom'!$B$8,IF(E7=8,'Liste de nom'!$B$9,IF(E7=9,'Liste de nom'!$B$10,IF(E7=10,'Liste de nom'!$B$11,"")))))))))) | Q7: =IF(F7=1,'Liste de nom'!$B$2,IF(F7=2,'Liste de nom'!$B$3,IF(F7=3,'Liste de nom'!$B$4,IF(F7=4,'Liste de nom'!$B$5,IF(F7=5,'Liste de nom'!$B$6,IF(F7=6,'Liste de nom'!$B$7,IF(F7=7,'Liste de nom'!$B$8,IF(F7=8,'Liste de nom'!$B$9,IF(F7=9,'Liste de nom'!$B$10,IF(F7=10,'Liste de nom'!$B$11,"")))))))))) | R7: =IF(G7=1,'Liste de nom'!$B$2,IF(G7=2,'Liste de nom'!$B$3,IF(G7=3,'Liste de nom'!$B$4,IF(G7=4,'Liste de nom'!$B$5,IF(G7=5,'Liste de nom'!$B$6,IF(G7=6,'Liste de nom'!$B$7,IF(G7=7,'Liste de nom'!$B$8,IF(G7=8,'Liste de nom'!$B$9,IF(G7=9,'Liste de nom'!$B$10,IF(G7=10,'Liste de nom'!$B$11,""))))))))))
A8: 2015 | B8: 7 | C8: 42049 | D8: ='Liste de nom'!$B$10 -> nom9 | E8: ='Liste de nom'!$B$3 -> nom2 | F8: ='Liste de nom'!$B$5 -> nom4 | G8: ='Liste de nom'!$B$7 -> nom6 | O8: =IF(D8=1,'Liste de nom'!$B$2,IF(D8=2,'Liste de nom'!$B$3,IF(D8=3,'Liste de nom'!$B$4,IF(D8=4,'Liste de nom'!$B$5,IF(D8=5,'Liste de nom'!$B$6,IF(D8=6,'Liste de nom'!$B$7,IF(D8=7,'Liste de nom'!$B$8,IF(D8=8,'Liste de nom'!$B$9,IF(D8=9,'Liste de nom'!$B$10,IF(D8=10,'Liste de nom'!$B$11,"")))))))))) | P8: =IF(E8=1,'Liste de nom'!$B$2,IF(E8=2,'Liste de nom'!$B$3,IF(E8=3,'Liste de nom'!$B$4,IF(E8=4,'Liste de nom'!$B$5,IF(E8=5,'Liste de nom'!$B$6,IF(E8=6,'Liste de nom'!$B$7,IF(E8=7,'Liste de nom'!$B$8,IF(E8=8,'Liste de nom'!$B$9,IF(E8=9,'Liste de nom'!$B$10,IF(E8=10,'Liste de nom'!$B$11,"")))))))))) | Q8: =IF(F8=1,'Liste de nom'!$B$2,IF(F8=2,'Liste de nom'!$B$3,IF(F8=3,'Liste de nom'!$B$4,IF(F8=4,'Liste de nom'!$B$5,IF(F8=5,'Liste de nom'!$B$6,IF(F8=6,'Liste de nom'!$B$7,IF(F8=7,'Liste de nom'!$B$8,IF(F8=8,'Liste de nom'!$B$9,IF(F8=9,'Liste de nom'!$B$10,IF(F8=10,'Liste de nom'!$B$11,"")))))))))) | R8: =IF(G8=1,'Liste de nom'!$B$2,IF(G8=2,'Liste de nom'!$B$3,IF(G8=3,'Liste de nom'!$B$4,IF(G8=4,'Liste de nom'!$B$5,IF(G8=5,'Liste de nom'!$B$6,IF(G8=6,'Liste de nom'!$B$7,IF(G8=7,'Liste de nom'!$B$8,IF(G8=8,'Liste de nom'!$B$9,IF(G8=9,'Liste de nom'!$B$10,IF(G8=10,'Liste de nom'!$B$11,""))))))))))
A9: 2015 | B9: 8 | C9: 42056 | D9: ='Liste de nom'!$B$9 -> nom8 | E9: ='Liste de nom'!$B$11 -> nom10 | F9: ='Liste de nom'!$B$2 -> nom1 | G9: ='Liste de nom'!$B$4 -> nom3 | O9: =IF(D9=1,'Liste de nom'!$B$2,IF(D9=2,'Liste de nom'!$B$3,IF(D9=3,'Liste de nom'!$B$4,IF(D9=4,'Liste de nom'!$B$5,IF(D9=5,'Liste de nom'!$B$6,IF(D9=6,'Liste de nom'!$B$7,IF(D9=7,'Liste de nom'!$B$8,IF(D9=8,'Liste de nom'!$B$9,IF(D9=9,'Liste de nom'!$B$10,IF(D9=10,'Liste de nom'!$B$11,"")))))))))) | P9: =IF(E9=1,'Liste de nom'!$B$2,IF(E9=2,'Liste de nom'!$B$3,IF(E9=3,'Liste de nom'!$B$4,IF(E9=4,'Liste de nom'!$B$5,IF(E9=5,'Liste de nom'!$B$6,IF(E9=6,'Liste de nom'!$B$7,IF(E9=7,'Liste de nom'!$B$8,IF(E9=8,'Liste de nom'!$B$9,IF(E9=9,'Liste de nom'!$B$10,IF(E9=10,'Liste de nom'!$B$11,"")))))))))) | Q9: =IF(F9=1,'Liste de nom'!$B$2,IF(F9=2,'Liste de nom'!$B$3,IF(F9=3,'Liste de nom'!$B$4,IF(F9=4,'Liste de nom'!$B$5,IF(F9=5,'Liste de nom'!$B$6,IF(F9=6,'Liste de nom'!$B$7,IF(F9=7,'Liste de nom'!$B$8,IF(F9=8,'Liste de nom'!$B$9,IF(F9=9,'Liste de nom'!$B$10,IF(F9=10,'Liste de nom'!$B$11,"")))))))))) | R9: =IF(G9=1,'Liste de nom'!$B$2,IF(G9=2,'Liste de nom'!$B$3,IF(G9=3,'Liste de nom'!$B$4,IF(G9=4,'Liste de nom'!$B$5,IF(G9=5,'Liste de nom'!$B$6,IF(G9=6,'Liste de nom'!$B$7,IF(G9=7,'Liste de nom'!$B$8,IF(G9=8,'Liste de nom'!$B$9,IF(G9=9,'Liste de nom'!$B$10,IF(G9=10,'Liste de nom'!$B$11,""))))))))))
A10: 2015 | B10: 9 | C10: 42063 | D10: ='Liste de nom'!$B$6 -> nom5 | E10: ='Liste de nom'!$B$8 -> nom7 | F10: ='Liste de nom'!$B$10 -> nom9 | G10: ='Liste de nom'!$B$3 -> nom2 | O10: =IF(D10=1,'Liste de nom'!$B$2,IF(D10=2,'Liste de nom'!$B$3,IF(D10=3,'Liste de nom'!$B$4,IF(D10=4,'Liste de nom'!$B$5,IF(D10=5,'Liste de nom'!$B$6,IF(D10=6,'Liste de nom'!$B$7,IF(D10=7,'Liste de nom'!$B$8,IF(D10=8,'Liste de nom'!$B$9,IF(D10=9,'Liste de nom'!$B$10,IF(D10=10,'Liste de nom'!$B$11,"")))))))))) | P10: =IF(E10=1,'Liste de nom'!$B$2,IF(E10=2,'Liste de nom'!$B$3,IF(E10=3,'Liste de nom'!$B$4,IF(E10=4,'Liste de nom'!$B$5,IF(E10=5,'Liste de nom'!$B$6,IF(E10=6,'Liste de nom'!$B$7,IF(E10=7,'Liste de nom'!$B$8,IF(E10=8,'Liste de nom'!$B$9,IF(E10=9,'Liste de nom'!$B$10,IF(E10=10,'Liste de nom'!$B$11,"")))))))))) | Q10: =IF(F10=1,'Liste de nom'!$B$2,IF(F10=2,'Liste de nom'!$B$3,IF(F10=3,'Liste de nom'!$B$4,IF(F10=4,'Liste de nom'!$B$5,IF(F10=5,'Liste de nom'!$B$6,IF(F10=6,'Liste de nom'!$B$7,IF(F10=7,'Liste de nom'!$B$8,IF(F10=8,'Liste de nom'!$B$9,IF(F10=9,'Liste de nom'!$B$10,IF(F10=10,'Liste de nom'!$B$11,"")))))))))) | R10: =IF(G10=1,'Liste de nom'!$B$2,IF(G10=2,'Liste de nom'!$B$3,IF(G10=3,'Liste de nom'!$B$4,IF(G10=4,'Liste de nom'!$B$5,IF(G10=5,'Liste de nom'!$B$6,IF(G10=6,'Liste de nom'!$B$7,IF(G10=7,'Liste de nom'!$B$8,IF(G10=8,'Liste de nom'!$B$9,IF(G10=9,'Liste de nom'!$B$10,IF(G10=10,'Liste de nom'!$B$11,""))))))))))
A11: 2015 | B11: 10 | C11: 42070 | D11: ='Liste de nom'!$B$5 -> nom4 | E11: ='Liste de nom'!$B$7 -> nom6 | F11: ='Liste de nom'!$B$9 -> nom8 | G11: ='Liste de nom'!$B$11 -> nom10 | O11: =IF(D11=1,'Liste de nom'!$B$2,IF(D11=2,'Liste de nom'!$B$3,IF(D11=3,'Liste de nom'!$B$4,IF(D11=4,'Liste de nom'!$B$5,IF(D11=5,'Liste de nom'!$B$6,IF(D11=6,'Liste de nom'!$B$7,IF(D11=7,'Liste de nom'!$B$8,IF(D11=8,'Liste de nom'!$B$9,IF(D11=9,'Liste de nom'!$B$10,IF(D11=10,'Liste de nom'!$B$11,"")))))))))) | P11: =IF(E11=1,'Liste de nom'!$B$2,IF(E11=2,'Liste de nom'!$B$3,IF(E11=3,'Liste de nom'!$B$4,IF(E11=4,'Liste de nom'!$B$5,IF(E11=5,'Liste de nom'!$B$6,IF(E11=6,'Liste de nom'!$B$7,IF(E11=7,'Liste de nom'!$B$8,IF(E11=8,'Liste de nom'!$B$9,IF(E11=9,'Liste de nom'!$B$10,IF(E11=10,'Liste de nom'!$B$11,"")))))))))) | Q11: =IF(F11=1,'Liste de nom'!$B$2,IF(F11=2,'Liste de nom'!$B$3,IF(F11=3,'Liste de nom'!$B$4,IF(F11=4,'Liste de nom'!$B$5,IF(F11=5,'Liste de nom'!$B$6,IF(F11=6,'Liste de nom'!$B$7,IF(F11=7,'Liste de nom'!$B$8,IF(F11=8,'Liste de nom'!$B$9,IF(F11=9,'Liste de nom'!$B$10,IF(F11=10,'Liste de nom'!$B$11,"")))))))))) | R11: =IF(G11=1,'Liste de nom'!$B$2,IF(G11=2,'Liste de nom'!$B$3,IF(G11=3,'Liste de nom'!$B$4,IF(G11=4,'Liste de nom'!$B$5,IF(G11=5,'Liste de nom'!$B$6,IF(G11=6,'Liste de nom'!$B$7,IF(G11=7,'Liste de nom'!$B$8,IF(G11=8,'Liste de nom'!$B$9,IF(G11=9,'Liste de nom'!$B$10,IF(G11=10,'Liste de nom'!$B$11,""))))))))))
A12: 2015 | B12: 11 | C12: 42077 | D12: ='Liste de nom'!$B$3 -> nom2 | E12: ='Liste de nom'!$B$4 -> nom3 | F12: ='Liste de nom'!$B$7 -> nom6 | G12: ='Liste de nom'!$B$8 -> nom7 | O12: =IF(D12=1,'Liste de nom'!$B$2,IF(D12=2,'Liste de nom'!$B$3,IF(D12=3,'Liste de nom'!$B$4,IF(D12=4,'Liste de nom'!$B$5,IF(D12=5,'Liste de nom'!$B$6,IF(D12=6,'Liste de nom'!$B$7,IF(D12=7,'Liste de nom'!$B$8,IF(D12=8,'Liste de nom'!$B$9,IF(D12=9,'Liste de nom'!$B$10,IF(D12=10,'Liste de nom'!$B$11,"")))))))))) | P12: =IF(E12=1,'Liste de nom'!$B$2,IF(E12=2,'Liste de nom'!$B$3,IF(E12=3,'Liste de nom'!$B$4,IF(E12=4,'Liste de nom'!$B$5,IF(E12=5,'Liste de nom'!$B$6,IF(E12=6,'Liste de nom'!$B$7,IF(E12=7,'Liste de nom'!$B$8,IF(E12=8,'Liste de nom'!$B$9,IF(E12=9,'Liste de nom'!$B$10,IF(E12=10,'Liste de nom'!$B$11,"")))))))))) | Q12: =IF(F12=1,'Liste de nom'!$B$2,IF(F12=2,'Liste de nom'!$B$3,IF(F12=3,'Liste de nom'!$B$4,IF(F12=4,'Liste de nom'!$B$5,IF(F12=5,'Liste de nom'!$B$6,IF(F12=6,'Liste de nom'!$B$7,IF(F12=7,'Liste de nom'!$B$8,IF(F12=8,'Liste de nom'!$B$9,IF(F12=9,'Liste de nom'!$B$10,IF(F12=10,'Liste de nom'!$B$11,"")))))))))) | R12: =IF(G12=1,'Liste de nom'!$B$2,IF(G12=2,'Liste de nom'!$B$3,IF(G12=3,'Liste de nom'!$B$4,IF(G12=4,'Liste de nom'!$B$5,IF(G12=5,'Liste de nom'!$B$6,IF(G12=6,'Liste de nom'!$B$7,IF(G12=7,'Liste de nom'!$B$8,IF(G12=8,'Liste de nom'!$B$9,IF(G12=9,'Liste de nom'!$B$10,IF(G12=10,'Liste de nom'!$B$11,""))))))))))
A13: 2015 | B13: 12 | C13: 42084 | D13: ='Liste de nom'!$B$5 -> nom4 | E13: ='Liste de nom'!$B$6 -> nom5 | F13: ='Liste de nom'!$B$9 -> nom8 | G13: ='Liste de nom'!$B$10 -> nom9 | O13: =IF(D13=1,'Liste de nom'!$B$2,IF(D13=2,'Liste de nom'!$B$3,IF(D13=3,'Liste de nom'!$B$4,IF(D13=4,'Liste de nom'!$B$5,IF(D13=5,'Liste de nom'!$B$6,IF(D13=6,'Liste de nom'!$B$7,IF(D13=7,'Liste de nom'!$B$8,IF(D13=8,'Liste de nom'!$B$9,IF(D13=9,'Liste de nom'!$B$10,IF(D13=10,'Liste de nom'!$B$11,"")))))))))) | P13: =IF(E13=1,'Liste de nom'!$B$2,IF(E13=2,'Liste de nom'!$B$3,IF(E13=3,'Liste de nom'!$B$4,IF(E13=4,'Liste de nom'!$B$5,IF(E13=5,'Liste de nom'!$B$6,IF(E13=6,'Liste de nom'!$B$7,IF(E13=7,'Liste de nom'!$B$8,IF(E13=8,'Liste de nom'!$B$9,IF(E13=9,'Liste de nom'!$B$10,IF(E13=10,'Liste de nom'!$B$11,"")))))))))) | Q13: =IF(F13=1,'Liste de nom'!$B$2,IF(F13=2,'Liste de nom'!$B$3,IF(F13=3,'Liste de nom'!$B$4,IF(F13=4,'Liste de nom'!$B$5,IF(F13=5,'Liste de nom'!$B$6,IF(F13=6,'Liste de nom'!$B$7,IF(F13=7,'Liste de nom'!$B$8,IF(F13=8,'Liste de nom'!$B$9,IF(F13=9,'Liste de nom'!$B$10,IF(F13=10,'Liste de nom'!$B$11,"")))))))))) | R13: =IF(G13=1,'Liste de nom'!$B$2,IF(G13=2,'Liste de nom'!$B$3,IF(G13=3,'Liste de nom'!$B$4,IF(G13=4,'Liste de nom'!$B$5,IF(G13=5,'Liste de nom'!$B$6,IF(G13=6,'Liste de nom'!$B$7,IF(G13=7,'Liste de nom'!$B$8,IF(G13=8,'Liste de nom'!$B$9,IF(G13=9,'Liste de nom'!$B$10,IF(G13=10,'Liste de nom'!$B$11,""))))))))))
A14: 2015 | B14: 13 | C14: 42091 | D14: ='Liste de nom'!$B$11 -> nom10 | E14: ='Liste de nom'!$B$2 -> nom1 | F14: ='Liste de nom'!$B$3 -> nom2 | G14: ='Liste de nom'!$B$4 -> nom3 | O14: =IF(D14=1,'Liste de nom'!$B$2,IF(D14=2,'Liste de nom'!$B$3,IF(D14=3,'Liste de nom'!$B$4,IF(D14=4,'Liste de nom'!$B$5,IF(D14=5,'Liste de nom'!$B$6,IF(D14=6,'Liste de nom'!$B$7,IF(D14=7,'Liste de nom'!$B$8,IF(D14=8,'Liste de nom'!$B$9,IF(D14=9,'Liste de nom'!$B$10,IF(D14=10,'Liste de nom'!$B$11,"")))))))))) | P14: =IF(E14=1,'Liste de nom'!$B$2,IF(E14=2,'Liste de nom'!$B$3,IF(E14=3,'Liste de nom'!$B$4,IF(E14=4,'Liste de nom'!$B$5,IF(E14=5,'Liste de nom'!$B$6,IF(E14=6,'Liste de nom'!$B$7,IF(E14=7,'Liste de nom'!$B$8,IF(E14=8,'Liste de nom'!$B$9,IF(E14=9,'Liste de nom'!$B$10,IF(E14=10,'Liste de nom'!$B$11,"")))))))))) | Q14: =IF(F14=1,'Liste de nom'!$B$2,IF(F14=2,'Liste de nom'!$B$3,IF(F14=3,'Liste de nom'!$B$4,IF(F14=4,'Liste de nom'!$B$5,IF(F14=5,'Liste de nom'!$B$6,IF(F14=6,'Liste de nom'!$B$7,IF(F14=7,'Liste de nom'!$B$8,IF(F14=8,'Liste de nom'!$B$9,IF(F14=9,'Liste de nom'!$B$10,IF(F14=10,'Liste de nom'!$B$11,"")))))))))) | R14: =IF(G14=1,'Liste de nom'!$B$2,IF(G14=2,'Liste de nom'!$B$3,IF(G14=3,'Liste de nom'!$B$4,IF(G14=4,'Liste de nom'!$B$5,IF(G14=5,'Liste de nom'!$B$6,IF(G14=6,'Liste de nom'!$B$7,IF(G14=7,'Liste de nom'!$B$8,IF(G14=8,'Liste de nom'!$B$9,IF(G14=9,'Liste de nom'!$B$10,IF(G14=10,'Liste de nom'!$B$11,""))))))))))
A15: 2015 | B15: 14 | C15: 42098 | D15: ='Liste de nom'!$B$7 -> nom6 | E15: ='Liste de nom'!$B$8 -> nom7 | F15: ='Liste de nom'!$B$5 -> nom4 | G15: ='Liste de nom'!$B$6 -> nom5 | O15: =IF(D15=1,'Liste de nom'!$B$2,IF(D15=2,'Liste de nom'!$B$3,IF(D15=3,'Liste de nom'!$B$4,IF(D15=4,'Liste de nom'!$B$5,IF(D15=5,'Liste de nom'!$B$6,IF(D15=6,'Liste de nom'!$B$7,IF(D15=7,'Liste de nom'!$B$8,IF(D15=8,'Liste de nom'!$B$9,IF(D15=9,'Liste de nom'!$B$10,IF(D15=10,'Liste de nom'!$B$11,"")))))))))) | P15: =IF(E15=1,'Liste de nom'!$B$2,IF(E15=2,'Liste de nom'!$B$3,IF(E15=3,'Liste de nom'!$B$4,IF(E15=4,'Liste de nom'!$B$5,IF(E15=5,'Liste de nom'!$B$6,IF(E15=6,'Liste de nom'!$B$7,IF(E15=7,'Liste de nom'!$B$8,IF(E15=8,'Liste de nom'!$B$9,IF(E15=9,'Liste de nom'!$B$10,IF(E15=10,'Liste de nom'!$B$11,"")))))))))) | Q15: =IF(F15=1,'Liste de nom'!$B$2,IF(F15=2,'Liste de nom'!$B$3,IF(F15=3,'Liste de nom'!$B$4,IF(F15=4,'Liste de nom'!$B$5,IF(F15=5,'Liste de nom'!$B$6,IF(F15=6,'Liste de nom'!$B$7,IF(F15=7,'Liste de nom'!$B$8,IF(F15=8,'Liste de nom'!$B$9,IF(F15=9,'Liste de nom'!$B$10,IF(F15=10,'Liste de nom'!$B$11,"")))))))))) | R15: =IF(G15=1,'Liste de nom'!$B$2,IF(G15=2,'Liste de nom'!$B$3,IF(G15=3,'Liste de nom'!$B$4,IF(G15=4,'Liste de nom'!$B$5,IF(G15=5,'Liste de nom'!$B$6,IF(G15=6,'Liste de nom'!$B$7,IF(G15=7,'Liste de nom'!$B$8,IF(G15=8,'Liste de nom'!$B$9,IF(G15=9,'Liste de nom'!$B$10,IF(G15=10,'Liste de nom'!$B$11,""))))))))))
A16: 2015 | B16: 15 | C16: 42105 | D16: ='Liste de nom'!$B$9 -> nom8 | E16: ='Liste de nom'!$B$10 -> nom9 | F16: ='Liste de nom'!$B$11 -> nom10 | G16: ='Liste de nom'!$B$2 -> nom1 | O16: =IF(D16=1,'Liste de nom'!$B$2,IF(D16=2,'Liste de nom'!$B$3,IF(D16=3,'Liste de nom'!$B$4,IF(D16=4,'Liste de nom'!$B$5,IF(D16=5,'Liste de nom'!$B$6,IF(D16=6,'Liste de nom'!$B$7,IF(D16=7,'Liste de nom'!$B$8,IF(D16=8,'Liste de nom'!$B$9,IF(D16=9,'Liste de nom'!$B$10,IF(D16=10,'Liste de nom'!$B$11,"")))))))))) | P16: =IF(E16=1,'Liste de nom'!$B$2,IF(E16=2,'Liste de nom'!$B$3,IF(E16=3,'Liste de nom'!$B$4,IF(E16=4,'Liste de nom'!$B$5,IF(E16=5,'Liste de nom'!$B$6,IF(E16=6,'Liste de nom'!$B$7,IF(E16=7,'Liste de nom'!$B$8,IF(E16=8,'Liste de nom'!$B$9,IF(E16=9,'Liste de nom'!$B$10,IF(E16=10,'Liste de nom'!$B$11,"")))))))))) | Q16: =IF(F16=1,'Liste de nom'!$B$2,IF(F16=2,'Liste de nom'!$B$3,IF(F16=3,'Liste de nom'!$B$4,IF(F16=4,'Liste de nom'!$B$5,IF(F16=5,'Liste de nom'!$B$6,IF(F16=6,'Liste de nom'!$B$7,IF(F16=7,'Liste de nom'!$B$8,IF(F16=8,'Liste de nom'!$B$9,IF(F16=9,'Liste de nom'!$B$10,IF(F16=10,'Liste de nom'!$B$11,"")))))))))) | R16: =IF(G16=1,'Liste de nom'!$B$2,IF(G16=2,'Liste de nom'!$B$3,IF(G16=3,'Liste de nom'!$B$4,IF(G16=4,'Liste de nom'!$B$5,IF(G16=5,'Liste de nom'!$B$6,IF(G16=6,'Liste de nom'!$B$7,IF(G16=7,'Liste de nom'!$B$8,IF(G16=8,'Liste de nom'!$B$9,IF(G16=9,'Liste de nom'!$B$10,IF(G16=10,'Liste de nom'!$B$11,""))))))))))
A17: 2015 | B17: 16 | C17: 42112 | D17: ='Liste de nom'!$B$3 -> nom2 | E17: ='Liste de nom'!$B$5 -> nom4 | F17: ='Liste de nom'!$B$7 -> nom6 | G17: ='Liste de nom'!$B$9 -> nom8 | O17: =IF(D17=1,'Liste de nom'!$B$2,IF(D17=2,'Liste de nom'!$B$3,IF(D17=3,'Liste de nom'!$B$4,IF(D17=4,'Liste de nom'!$B$5,IF(D17=5,'Liste de nom'!$B$6,IF(D17=6,'Liste de nom'!$B$7,IF(D17=7,'Liste de nom'!$B$8,IF(D17=8,'Liste de nom'!$B$9,IF(D17=9,'Liste de nom'!$B$10,IF(D17=10,'Liste de nom'!$B$11,"")))))))))) | P17: =IF(E17=1,'Liste de nom'!$B$2,IF(E17=2,'Liste de nom'!$B$3,IF(E17=3,'Liste de nom'!$B$4,IF(E17=4,'Liste de nom'!$B$5,IF(E17=5,'Liste de nom'!$B$6,IF(E17=6,'Liste de nom'!$B$7,IF(E17=7,'Liste de nom'!$B$8,IF(E17=8,'Liste de nom'!$B$9,IF(E17=9,'Liste de nom'!$B$10,IF(E17=10,'Liste de nom'!$B$11,"")))))))))) | Q17: =IF(F17=1,'Liste de nom'!$B$2,IF(F17=2,'Liste de nom'!$B$3,IF(F17=3,'Liste de nom'!$B$4,IF(F17=4,'Liste de nom'!$B$5,IF(F17=5,'Liste de nom'!$B$6,IF(F17=6,'Liste de nom'!$B$7,IF(F17=7,'Liste de nom'!$B$8,IF(F17=8,'Liste de nom'!$B$9,IF(F17=9,'Liste de nom'!$B$10,IF(F17=10,'Liste de nom'!$B$11,"")))))))))) | R17: =IF(G17=1,'Liste de nom'!$B$2,IF(G17=2,'Liste de nom'!$B$3,IF(G17=3,'Liste de nom'!$B$4,IF(G17=4,'Liste de nom'!$B$5,IF(G17=5,'Liste de nom'!$B$6,IF(G17=6,'Liste de nom'!$B$7,IF(G17=7,'Liste de nom'!$B$8,IF(G17=8,'Liste de nom'!$B$9,IF(G17=9,'Liste de nom'!$B$10,IF(G17=10,'Liste de nom'!$B$11,""))))))))))
A18: 2015 | B18: 17 | C18: 42119 | D18: ='Liste de nom'!$B$11 -> nom10 | E18: ='Liste de nom'!$B$2 -> nom1 | F18: ='Liste de nom'!$B$4 -> nom3 | G18: ='Liste de nom'!$B$6 -> nom5 | O18: =IF(D18=1,'Liste de nom'!$B$2,IF(D18=2,'Liste de nom'!$B$3,IF(D18=3,'Liste de nom'!$B$4,IF(D18=4,'Liste de nom'!$B$5,IF(D18=5,'Liste de nom'!$B$6,IF(D18=6,'Liste de nom'!$B$7,IF(D18=7,'Liste de nom'!$B$8,IF(D18=8,'Liste de nom'!$B$9,IF(D18=9,'Liste de nom'!$B$10,IF(D18=10,'Liste de nom'!$B$11,"")))))))))) | P18: =IF(E18=1,'Liste de nom'!$B$2,IF(E18=2,'Liste de nom'!$B$3,IF(E18=3,'Liste de nom'!$B$4,IF(E18=4,'Liste de nom'!$B$5,IF(E18=5,'Liste de nom'!$B$6,IF(E18=6,'Liste de nom'!$B$7,IF(E18=7,'Liste de nom'!$B$8,IF(E18=8,'Liste de nom'!$B$9,IF(E18=9,'Liste de nom'!$B$10,IF(E18=10,'Liste de nom'!$B$11,"")))))))))) | Q18: =IF(F18=1,'Liste de nom'!$B$2,IF(F18=2,'Liste de nom'!$B$3,IF(F18=3,'Liste de nom'!$B$4,IF(F18=4,'Liste de nom'!$B$5,IF(F18=5,'Liste de nom'!$B$6,IF(F18=6,'Liste de nom'!$B$7,IF(F18=7,'Liste de nom'!$B$8,IF(F18=8,'Liste de nom'!$B$9,IF(F18=9,'Liste de nom'!$B$10,IF(F18=10,'Liste de nom'!$B$11,"")))))))))) | R18: =IF(G18=1,'Liste de nom'!$B$2,IF(G18=2,'Liste de nom'!$B$3,IF(G18=3,'Liste de nom'!$B$4,IF(G18=4,'Liste de nom'!$B$5,IF(G18=5,'Liste de nom'!$B$6,IF(G18=6,'Liste de nom'!$B$7,IF(G18=7,'Liste de nom'!$B$8,IF(G18=8,'Liste de nom'!$B$9,IF(G18=9,'Liste de nom'!$B$10,IF(G18=10,'Liste de nom'!$B$11,""))))))))))
A19: 2015 | B19: 18 | C19: 42126 | D19: ='Liste de nom'!$B$8 -> nom7 | E19: ='Liste de nom'!$B$10 -> nom9 | F19: ='Liste de nom'!$B$3 -> nom2 | G19: ='Liste de nom'!$B$5 -> nom4 | O19: =IF(D19=1,'Liste de nom'!$B$2,IF(D19=2,'Liste de nom'!$B$3,IF(D19=3,'Liste de nom'!$B$4,IF(D19=4,'Liste de nom'!$B$5,IF(D19=5,'Liste de nom'!$B$6,IF(D19=6,'Liste de nom'!$B$7,IF(D19=7,'Liste de nom'!$B$8,IF(D19=8,'Liste de nom'!$B$9,IF(D19=9,'Liste de nom'!$B$10,IF(D19=10,'Liste de nom'!$B$11,"")))))))))) | P19: =IF(E19=1,'Liste de nom'!$B$2,IF(E19=2,'Liste de nom'!$B$3,IF(E19=3,'Liste de nom'!$B$4,IF(E19=4,'Liste de nom'!$B$5,IF(E19=5,'Liste de nom'!$B$6,IF(E19=6,'Liste de nom'!$B$7,IF(E19=7,'Liste de nom'!$B$8,IF(E19=8,'Liste de nom'!$B$9,IF(E19=9,'Liste de nom'!$B$10,IF(E19=10,'Liste de nom'!$B$11,"")))))))))) | Q19: =IF(F19=1,'Liste de nom'!$B$2,IF(F19=2,'Liste de nom'!$B$3,IF(F19=3,'Liste de nom'!$B$4,IF(F19=4,'Liste de nom'!$B$5,IF(F19=5,'Liste de nom'!$B$6,IF(F19=6,'Liste de nom'!$B$7,IF(F19=7,'Liste de nom'!$B$8,IF(F19=8,'Liste de nom'!$B$9,IF(F19=9,'Liste de nom'!$B$10,IF(F19=10,'Liste de nom'!$B$11,"")))))))))) | R19: =IF(G19=1,'Liste de nom'!$B$2,IF(G19=2,'Liste de nom'!$B$3,IF(G19=3,'Liste de nom'!$B$4,IF(G19=4,'Liste de nom'!$B$5,IF(G19=5,'Liste de nom'!$B$6,IF(G19=6,'Liste de nom'!$B$7,IF(G19=7,'Liste de nom'!$B$8,IF(G19=8,'Liste de nom'!$B$9,IF(G19=9,'Liste de nom'!$B$10,IF(G19=10,'Liste de nom'!$B$11,""))))))))))
A20: 2015 | B20: 19 | C20: 42133 | D20: ='Liste de nom'!$B$7 -> nom6 | E20: ='Liste de nom'!$B$9 -> nom8 | F20: ='Liste de nom'!$B$11 -> nom10 | G20: ='Liste de nom'!$B$2 -> nom1 | O20: =IF(D20=1,'Liste de nom'!$B$2,IF(D20=2,'Liste de nom'!$B$3,IF(D20=3,'Liste de nom'!$B$4,IF(D20=4,'Liste de nom'!$B$5,IF(D20=5,'Liste de nom'!$B$6,IF(D20=6,'Liste de nom'!$B$7,IF(D20=7,'Liste de nom'!$B$8,IF(D20=8,'Liste de nom'!$B$9,IF(D20=9,'Liste de nom'!$B$10,IF(D20=10,'Liste de nom'!$B$11,"")))))))))) | P20: =IF(E20=1,'Liste de nom'!$B$2,IF(E20=2,'Liste de nom'!$B$3,IF(E20=3,'Liste de nom'!$B$4,IF(E20=4,'Liste de nom'!$B$5,IF(E20=5,'Liste de nom'!$B$6,IF(E20=6,'Liste de nom'!$B$7,IF(E20=7,'Liste de nom'!$B$8,IF(E20=8,'Liste de nom'!$B$9,IF(E20=9,'Liste de nom'!$B$10,IF(E20=10,'Liste de nom'!$B$11,"")))))))))) | Q20: =IF(F20=1,'Liste de nom'!$B$2,IF(F20=2,'Liste de nom'!$B$3,IF(F20=3,'Liste de nom'!$B$4,IF(F20=4,'Liste de nom'!$B$5,IF(F20=5,'Liste de nom'!$B$6,IF(F20=6,'Liste de nom'!$B$7,IF(F20=7,'Liste de nom'!$B$8,IF(F20=8,'Liste de nom'!$B$9,IF(F20=9,'Liste de nom'!$B$10,IF(F20=10,'Liste de nom'!$B$11,"")))))))))) | R20: =IF(G20=1,'Liste de nom'!$B$2,IF(G20=2,'Liste de nom'!$B$3,IF(G20=3,'Liste de nom'!$B$4,IF(G20=4,'Liste de nom'!$B$5,IF(G20=5,'Liste de nom'!$B$6,IF(G20=6,'Liste de nom'!$B$7,IF(G20=7,'Liste de nom'!$B$8,IF(G20=8,'Liste de nom'!$B$9,IF(G20=9,'Liste de nom'!$B$10,IF(G20=10,'Liste de nom'!$B$11,""))))))))))
A21: 2015 | B21: 20 | C21: 42140 | D21: ='Liste de nom'!$B$4 -> nom3 | E21: ='Liste de nom'!$B$6 -> nom5 | F21: ='Liste de nom'!$B$8 -> nom7 | G21: ='Liste de nom'!$B$10 -> nom9 | O21: =IF(D21=1,'Liste de nom'!$B$2,IF(D21=2,'Liste de nom'!$B$3,IF(D21=3,'Liste de nom'!$B$4,IF(D21=4,'Liste de nom'!$B$5,IF(D21=5,'Liste de nom'!$B$6,IF(D21=6,'Liste de nom'!$B$7,IF(D21=7,'Liste de nom'!$B$8,IF(D21=8,'Liste de nom'!$B$9,IF(D21=9,'Liste de nom'!$B$10,IF(D21=10,'Liste de nom'!$B$11,"")))))))))) | P21: =IF(E21=1,'Liste de nom'!$B$2,IF(E21=2,'Liste de nom'!$B$3,IF(E21=3,'Liste de nom'!$B$4,IF(E21=4,'Liste de nom'!$B$5,IF(E21=5,'Liste de nom'!$B$6,IF(E21=6,'Liste de nom'!$B$7,IF(E21=7,'Liste de nom'!$B$8,IF(E21=8,'Liste de nom'!$B$9,IF(E21=9,'Liste de nom'!$B$10,IF(E21=10,'Liste de nom'!$B$11,"")))))))))) | Q21: =IF(F21=1,'Liste de nom'!$B$2,IF(F21=2,'Liste de nom'!$B$3,IF(F21=3,'Liste de nom'!$B$4,IF(F21=4,'Liste de nom'!$B$5,IF(F21=5,'Liste de nom'!$B$6,IF(F21=6,'Liste de nom'!$B$7,IF(F21=7,'Liste de nom'!$B$8,IF(F21=8,'Liste de nom'!$B$9,IF(F21=9,'Liste de nom'!$B$10,IF(F21=10,'Liste de nom'!$B$11,"")))))))))) | R21: =IF(G21=1,'Liste de nom'!$B$2,IF(G21=2,'Liste de nom'!$B$3,IF(G21=3,'Liste de nom'!$B$4,IF(G21=4,'Liste de nom'!$B$5,IF(G21=5,'Liste de nom'!$B$6,IF(G21=6,'Liste de nom'!$B$7,IF(G21=7,'Liste de nom'!$B$8,IF(G21=8,'Liste de nom'!$B$9,IF(G21=9,'Liste de nom'!$B$10,IF(G21=10,'Liste de nom'!$B$11,""))))))))))
A22: 2015 | B22: 21 | C22: 42147 | D22: ='Liste de nom'!$B$11 -> nom10 | E22: ='Liste de nom'!$B$9 -> nom8 | F22: ='Liste de nom'!$B$7 -> nom6 | G22: ='Liste de nom'!$B$5 -> nom4 | O22: =IF(D22=1,'Liste de nom'!$B$2,IF(D22=2,'Liste de nom'!$B$3,IF(D22=3,'Liste de nom'!$B$4,IF(D22=4,'Liste de nom'!$B$5,IF(D22=5,'Liste de nom'!$B$6,IF(D22=6,'Liste de nom'!$B$7,IF(D22=7,'Liste de nom'!$B$8,IF(D22=8,'Liste de nom'!$B$9,IF(D22=9,'Liste de nom'!$B$10,IF(D22=10,'Liste de nom'!$B$11,"")))))))))) | P22: =IF(E22=1,'Liste de nom'!$B$2,IF(E22=2,'Liste de nom'!$B$3,IF(E22=3,'Liste de nom'!$B$4,IF(E22=4,'Liste de nom'!$B$5,IF(E22=5,'Liste de nom'!$B$6,IF(E22=6,'Liste de nom'!$B$7,IF(E22=7,'Liste de nom'!$B$8,IF(E22=8,'Liste de nom'!$B$9,IF(E22=9,'Liste de nom'!$B$10,IF(E22=10,'Liste de nom'!$B$11,"")))))))))) | Q22: =IF(F22=1,'Liste de nom'!$B$2,IF(F22=2,'Liste de nom'!$B$3,IF(F22=3,'Liste de nom'!$B$4,IF(F22=4,'Liste de nom'!$B$5,IF(F22=5,'Liste de nom'!$B$6,IF(F22=6,'Liste de nom'!$B$7,IF(F22=7,'Liste de nom'!$B$8,IF(F22=8,'Liste de nom'!$B$9,IF(F22=9,'Liste de nom'!$B$10,IF(F22=10,'Liste de nom'!$B$11,"")))))))))) | R22: =IF(G22=1,'Liste de nom'!$B$2,IF(G22=2,'Liste de nom'!$B$3,IF(G22=3,'Liste de nom'!$B$4,IF(G22=4,'Liste de nom'!$B$5,IF(G22=5,'Liste de nom'!$B$6,IF(G22=6,'Liste de nom'!$B$7,IF(G22=7,'Liste de nom'!$B$8,IF(G22=8,'Liste de nom'!$B$9,IF(G22=9,'Liste de nom'!$B$10,IF(G22=10,'Liste de nom'!$B$11,""))))))))))
A23: 2015 | B23: 22 | C23: 42154 | D23: ='Liste de nom'!$B$3 -> nom2 | E23: ='Liste de nom'!$B$10 -> nom9 | F23: ='Liste de nom'!$B$2 -> nom1 | G23: ='Liste de nom'!$B$4 -> nom3 | O23: =IF(D23=1,'Liste de nom'!$B$2,IF(D23=2,'Liste de nom'!$B$3,IF(D23=3,'Liste de nom'!$B$4,IF(D23=4,'Liste de nom'!$B$5,IF(D23=5,'Liste de nom'!$B$6,IF(D23=6,'Liste de nom'!$B$7,IF(D23=7,'Liste de nom'!$B$8,IF(D23=8,'Liste de nom'!$B$9,IF(D23=9,'Liste de nom'!$B$10,IF(D23=10,'Liste de nom'!$B$11,"")))))))))) | P23: =IF(E23=1,'Liste de nom'!$B$2,IF(E23=2,'Liste de nom'!$B$3,IF(E23=3,'Liste de nom'!$B$4,IF(E23=4,'Liste de nom'!$B$5,IF(E23=5,'Liste de nom'!$B$6,IF(E23=6,'Liste de nom'!$B$7,IF(E23=7,'Liste de nom'!$B$8,IF(E23=8,'Liste de nom'!$B$9,IF(E23=9,'Liste de nom'!$B$10,IF(E23=10,'Liste de nom'!$B$11,"")))))))))) | Q23: =IF(F23=1,'Liste de nom'!$B$2,IF(F23=2,'Liste de nom'!$B$3,IF(F23=3,'Liste de nom'!$B$4,IF(F23=4,'Liste de nom'!$B$5,IF(F23=5,'Liste de nom'!$B$6,IF(F23=6,'Liste de nom'!$B$7,IF(F23=7,'Liste de nom'!$B$8,IF(F23=8,'Liste de nom'!$B$9,IF(F23=9,'Liste de nom'!$B$10,IF(F23=10,'Liste de nom'!$B$11,"")))))))))) | R23: =IF(G23=1,'Liste de nom'!$B$2,IF(G23=2,'Liste de nom'!$B$3,IF(G23=3,'Liste de nom'!$B$4,IF(G23=4,'Liste de nom'!$B$5,IF(G23=5,'Liste de nom'!$B$6,IF(G23=6,'Liste de nom'!$B$7,IF(G23=7,'Liste de nom'!$B$8,IF(G23=8,'Liste de nom'!$B$9,IF(G23=9,'Liste de nom'!$B$10,IF(G23=10,'Liste de nom'!$B$11,""))))))))))
A24: 2015 | B24: 23 | C24: 42161 | D24: ='Liste de nom'!$B$6 -> nom5 | E24: ='Liste de nom'!$B$8 -> nom7 | F24: ='Liste de nom'!$B$11 -> nom10 | G24: ='Liste de nom'!$B$9 -> nom8 | O24: =IF(D24=1,'Liste de nom'!$B$2,IF(D24=2,'Liste de nom'!$B$3,IF(D24=3,'Liste de nom'!$B$4,IF(D24=4,'Liste de nom'!$B$5,IF(D24=5,'Liste de nom'!$B$6,IF(D24=6,'Liste de nom'!$B$7,IF(D24=7,'Liste de nom'!$B$8,IF(D24=8,'Liste de nom'!$B$9,IF(D24=9,'Liste de nom'!$B$10,IF(D24=10,'Liste de nom'!$B$11,"")))))))))) | P24: =IF(E24=1,'Liste de nom'!$B$2,IF(E24=2,'Liste de nom'!$B$3,IF(E24=3,'Liste de nom'!$B$4,IF(E24=4,'Liste de nom'!$B$5,IF(E24=5,'Liste de nom'!$B$6,IF(E24=6,'Liste de nom'!$B$7,IF(E24=7,'Liste de nom'!$B$8,IF(E24=8,'Liste de nom'!$B$9,IF(E24=9,'Liste de nom'!$B$10,IF(E24=10,'Liste de nom'!$B$11,"")))))))))) | Q24: =IF(F24=1,'Liste de nom'!$B$2,IF(F24=2,'Liste de nom'!$B$3,IF(F24=3,'Liste de nom'!$B$4,IF(F24=4,'Liste de nom'!$B$5,IF(F24=5,'Liste de nom'!$B$6,IF(F24=6,'Liste de nom'!$B$7,IF(F24=7,'Liste de nom'!$B$8,IF(F24=8,'Liste de nom'!$B$9,IF(F24=9,'Liste de nom'!$B$10,IF(F24=10,'Liste de nom'!$B$11,"")))))))))) | R24: =IF(G24=1,'Liste de nom'!$B$2,IF(G24=2,'Liste de nom'!$B$3,IF(G24=3,'Liste de nom'!$B$4,IF(G24=4,'Liste de nom'!$B$5,IF(G24=5,'Liste de nom'!$B$6,IF(G24=6,'Liste de nom'!$B$7,IF(G24=7,'Liste de nom'!$B$8,IF(G24=8,'Liste de nom'!$B$9,IF(G24=9,'Liste de nom'!$B$10,IF(G24=10,'Liste de nom'!$B$11,""))))))))))
A25: 2015 | B25: 24 | C25: 42168 | D25: ='Liste de nom'!$B$7 -> nom6 | E25: ='Liste de nom'!$B$5 -> nom4 | F25: ='Liste de nom'!$B$3 -> nom2 | G25: ='Liste de nom'!$B$10 -> nom9 | O25: =IF(D25=1,'Liste de nom'!$B$2,IF(D25=2,'Liste de nom'!$B$3,IF(D25=3,'Liste de nom'!$B$4,IF(D25=4,'Liste de nom'!$B$5,IF(D25=5,'Liste de nom'!$B$6,IF(D25=6,'Liste de nom'!$B$7,IF(D25=7,'Liste de nom'!$B$8,IF(D25=8,'Liste de nom'!$B$9,IF(D25=9,'Liste de nom'!$B$10,IF(D25=10,'Liste de nom'!$B$11,"")))))))))) | P25: =IF(E25=1,'Liste de nom'!$B$2,IF(E25=2,'Liste de nom'!$B$3,IF(E25=3,'Liste de nom'!$B$4,IF(E25=4,'Liste de nom'!$B$5,IF(E25=5,'Liste de nom'!$B$6,IF(E25=6,'Liste de nom'!$B$7,IF(E25=7,'Liste de nom'!$B$8,IF(E25=8,'Liste de nom'!$B$9,IF(E25=9,'Liste de nom'!$B$10,IF(E25=10,'Liste de nom'!$B$11,"")))))))))) | Q25: =IF(F25=1,'Liste de nom'!$B$2,IF(F25=2,'Liste de nom'!$B$3,IF(F25=3,'Liste de nom'!$B$4,IF(F25=4,'Liste de nom'!$B$5,IF(F25=5,'Liste de nom'!$B$6,IF(F25=6,'Liste de nom'!$B$7,IF(F25=7,'Liste de nom'!$B$8,IF(F25=8,'Liste de nom'!$B$9,IF(F25=9,'Liste de nom'!$B$10,IF(F25=10,'Liste de nom'!$B$11,"")))))))))) | R25: =IF(G25=1,'Liste de nom'!$B$2,IF(G25=2,'Liste de nom'!$B$3,IF(G25=3,'Liste de nom'!$B$4,IF(G25=4,'Liste de nom'!$B$5,IF(G25=5,'Liste de nom'!$B$6,IF(G25=6,'Liste de nom'!$B$7,IF(G25=7,'Liste de nom'!$B$8,IF(G25=8,'Liste de nom'!$B$9,IF(G25=9,'Liste de nom'!$B$10,IF(G25=10,'Liste de nom'!$B$11,""))))))))))
A26: 2015 | B26: 25 | C26: 42175 | D26: ='Liste de nom'!$B$2 -> nom1 | E26: ='Liste de nom'!$B$4 -> nom3 | F26: ='Liste de nom'!$B$6 -> nom5 | G26: ='Liste de nom'!$B$8 -> nom7 | O26: =IF(D26=1,'Liste de nom'!$B$2,IF(D26=2,'Liste de nom'!$B$3,IF(D26=3,'Liste de nom'!$B$4,IF(D26=4,'Liste de nom'!$B$5,IF(D26=5,'Liste de nom'!$B$6,IF(D26=6,'Liste de nom'!$B$7,IF(D26=7,'Liste de nom'!$B$8,IF(D26=8,'Liste de nom'!$B$9,IF(D26=9,'Liste de nom'!$B$10,IF(D26=10,'Liste de nom'!$B$11,"")))))))))) | P26: =IF(E26=1,'Liste de nom'!$B$2,IF(E26=2,'Liste de nom'!$B$3,IF(E26=3,'Liste de nom'!$B$4,IF(E26=4,'Liste de nom'!$B$5,IF(E26=5,'Liste de nom'!$B$6,IF(E26=6,'Liste de nom'!$B$7,IF(E26=7,'Liste de nom'!$B$8,IF(E26=8,'Liste de nom'!$B$9,IF(E26=9,'Liste de nom'!$B$10,IF(E26=10,'Liste de nom'!$B$11,"")))))))))) | Q26: =IF(F26=1,'Liste de nom'!$B$2,IF(F26=2,'Liste de nom'!$B$3,IF(F26=3,'Liste de nom'!$B$4,IF(F26=4,'Liste de nom'!$B$5,IF(F26=5,'Liste de nom'!$B$6,IF(F26=6,'Liste de nom'!$B$7,IF(F26=7,'Liste de nom'!$B$8,IF(F26=8,'Liste de nom'!$B$9,IF(F26=9,'Liste de nom'!$B$10,IF(F26=10,'Liste de nom'!$B$11,"")))))))))) | R26: =IF(G26=1,'Liste de nom'!$B$2,IF(G26=2,'Liste de nom'!$B$3,IF(G26=3,'Liste de nom'!$B$4,IF(G26=4,'Liste de nom'!$B$5,IF(G26=5,'Liste de nom'!$B$6,IF(G26=6,'Liste de nom'!$B$7,IF(G26=7,'Liste de nom'!$B$8,IF(G26=8,'Liste de nom'!$B$9,IF(G26=9,'Liste de nom'!$B$10,IF(G26=10,'Liste de nom'!$B$11,""))))))))))
A27: 2015 | B27: 26 | C27: 42182 | D27: ='Liste de nom'!$B$11 -> nom10 | E27: ='Liste de nom'!$B$10 -> nom9 | F27: ='Liste de nom'!$B$8 -> nom7 | G27: ='Liste de nom'!$B$7 -> nom6 | O27: =IF(D27=1,'Liste de nom'!$B$2,IF(D27=2,'Liste de nom'!$B$3,IF(D27=3,'Liste de nom'!$B$4,IF(D27=4,'Liste de nom'!$B$5,IF(D27=5,'Liste de nom'!$B$6,IF(D27=6,'Liste de nom'!$B$7,IF(D27=7,'Liste de nom'!$B$8,IF(D27=8,'Liste de nom'!$B$9,IF(D27=9,'Liste de nom'!$B$10,IF(D27=10,'Liste de nom'!$B$11,"")))))))))) | P27: =IF(E27=1,'Liste de nom'!$B$2,IF(E27=2,'Liste de nom'!$B$3,IF(E27=3,'Liste de nom'!$B$4,IF(E27=4,'Liste de nom'!$B$5,IF(E27=5,'Liste de nom'!$B$6,IF(E27=6,'Liste de nom'!$B$7,IF(E27=7,'Liste de nom'!$B$8,IF(E27=8,'Liste de nom'!$B$9,IF(E27=9,'Liste de nom'!$B$10,IF(E27=10,'Liste de nom'!$B$11,"")))))))))) | Q27: =IF(F27=1,'Liste de nom'!$B$2,IF(F27=2,'Liste de nom'!$B$3,IF(F27=3,'Liste de nom'!$B$4,IF(F27=4,'Liste de nom'!$B$5,IF(F27=5,'Liste de nom'!$B$6,IF(F27=6,'Liste de nom'!$B$7,IF(F27=7,'Liste de nom'!$B$8,IF(F27=8,'Liste de nom'!$B$9,IF(F27=9,'Liste de nom'!$B$10,IF(F27=10,'Liste de nom'!$B$11,"")))))))))) | R27: =IF(G27=1,'Liste de nom'!$B$2,IF(G27=2,'Liste de nom'!$B$3,IF(G27=3,'Liste de nom'!$B$4,IF(G27=4,'Liste de nom'!$B$5,IF(G27=5,'Liste de nom'!$B$6,IF(G27=6,'Liste de nom'!$B$7,IF(G27=7,'Liste de nom'!$B$8,IF(G27=8,'Liste de nom'!$B$9,IF(G27=9,'Liste de nom'!$B$10,IF(G27=10,'Liste de nom'!$B$11,""))))))))))
A28: 2015 | B28: 27 | C28: 42189 | D28: ='Liste de nom'!$B$6 -> nom5 | E28: ='Liste de nom'!$B$5 -> nom4 | F28: ='Liste de nom'!$B$3 -> nom2 | G28: ='Liste de nom'!$B$2 -> nom1 | O28: =IF(D28=1,'Liste de nom'!$B$2,IF(D28=2,'Liste de nom'!$B$3,IF(D28=3,'Liste de nom'!$B$4,IF(D28=4,'Liste de nom'!$B$5,IF(D28=5,'Liste de nom'!$B$6,IF(D28=6,'Liste de nom'!$B$7,IF(D28=7,'Liste de nom'!$B$8,IF(D28=8,'Liste de nom'!$B$9,IF(D28=9,'Liste de nom'!$B$10,IF(D28=10,'Liste de nom'!$B$11,"")))))))))) | P28: =IF(E28=1,'Liste de nom'!$B$2,IF(E28=2,'Liste de nom'!$B$3,IF(E28=3,'Liste de nom'!$B$4,IF(E28=4,'Liste de nom'!$B$5,IF(E28=5,'Liste de nom'!$B$6,IF(E28=6,'Liste de nom'!$B$7,IF(E28=7,'Liste de nom'!$B$8,IF(E28=8,'Liste de nom'!$B$9,IF(E28=9,'Liste de nom'!$B$10,IF(E28=10,'Liste de nom'!$B$11,"")))))))))) | Q28: =IF(F28=1,'Liste de nom'!$B$2,IF(F28=2,'Liste de nom'!$B$3,IF(F28=3,'Liste de nom'!$B$4,IF(F28=4,'Liste de nom'!$B$5,IF(F28=5,'Liste de nom'!$B$6,IF(F28=6,'Liste de nom'!$B$7,IF(F28=7,'Liste de nom'!$B$8,IF(F28=8,'Liste de nom'!$B$9,IF(F28=9,'Liste de nom'!$B$10,IF(F28=10,'Liste de nom'!$B$11,"")))))))))) | R28: =IF(G28=1,'Liste de nom'!$B$2,IF(G28=2,'Liste de nom'!$B$3,IF(G28=3,'Liste de nom'!$B$4,IF(G28=4,'Liste de nom'!$B$5,IF(G28=5,'Liste de nom'!$B$6,IF(G28=6,'Liste de nom'!$B$7,IF(G28=7,'Liste de nom'!$B$8,IF(G28=8,'Liste de nom'!$B$9,IF(G28=9,'Liste de nom'!$B$10,IF(G28=10,'Liste de nom'!$B$11,""))))))))))
A29: 2015 | B29: 28 | C29: 42196 | D29: ='Liste de nom'!$B$9 -> nom8 | E29: ='Liste de nom'!$B$4 -> nom3 | F29: ='Liste de nom'!$B$11 -> nom10 | G29: ='Liste de nom'!$B$10 -> nom9 | O29: =IF(D29=1,'Liste de nom'!$B$2,IF(D29=2,'Liste de nom'!$B$3,IF(D29=3,'Liste de nom'!$B$4,IF(D29=4,'Liste de nom'!$B$5,IF(D29=5,'Liste de nom'!$B$6,IF(D29=6,'Liste de nom'!$B$7,IF(D29=7,'Liste de nom'!$B$8,IF(D29=8,'Liste de nom'!$B$9,IF(D29=9,'Liste de nom'!$B$10,IF(D29=10,'Liste de nom'!$B$11,"")))))))))) | P29: =IF(E29=1,'Liste de nom'!$B$2,IF(E29=2,'Liste de nom'!$B$3,IF(E29=3,'Liste de nom'!$B$4,IF(E29=4,'Liste de nom'!$B$5,IF(E29=5,'Liste de nom'!$B$6,IF(E29=6,'Liste de nom'!$B$7,IF(E29=7,'Liste de nom'!$B$8,IF(E29=8,'Liste de nom'!$B$9,IF(E29=9,'Liste de nom'!$B$10,IF(E29=10,'Liste de nom'!$B$11,"")))))))))) | Q29: =IF(F29=1,'Liste de nom'!$B$2,IF(F29=2,'Liste de nom'!$B$3,IF(F29=3,'Liste de nom'!$B$4,IF(F29=4,'Liste de nom'!$B$5,IF(F29=5,'Liste de nom'!$B$6,IF(F29=6,'Liste de nom'!$B$7,IF(F29=7,'Liste de nom'!$B$8,IF(F29=8,'Liste de nom'!$B$9,IF(F29=9,'Liste de nom'!$B$10,IF(F29=10,'Liste de nom'!$B$11,"")))))))))) | R29: =IF(G29=1,'Liste de nom'!$B$2,IF(G29=2,'Liste de nom'!$B$3,IF(G29=3,'Liste de nom'!$B$4,IF(G29=4,'Liste de nom'!$B$5,IF(G29=5,'Liste de nom'!$B$6,IF(G29=6,'Liste de nom'!$B$7,IF(G29=7,'Liste de nom'!$B$8,IF(G29=8,'Liste de nom'!$B$9,IF(G29=9,'Liste de nom'!$B$10,IF(G29=10,'Liste de nom'!$B$11,""))))))))))
A30: 2015 | B30: 29 | C30: 42203 | D30: ='Liste de nom'!$B$8 -> nom7 | E30: ='Liste de nom'!$B$7 -> nom6 | F30: ='Liste de nom'!$B$6 -> nom5 | G30: ='Liste de nom'!$B$5 -> nom4 | O30: =IF(D30=1,'Liste de nom'!$B$2,IF(D30=2,'Liste de nom'!$B$3,IF(D30=3,'Liste de nom'!$B$4,IF(D30=4,'Liste de nom'!$B$5,IF(D30=5,'Liste de nom'!$B$6,IF(D30=6,'Liste de nom'!$B$7,IF(D30=7,'Liste de nom'!$B$8,IF(D30=8,'Liste de nom'!$B$9,IF(D30=9,'Liste de nom'!$B$10,IF(D30=10,'Liste de nom'!$B$11,"")))))))))) | P30: =IF(E30=1,'Liste de nom'!$B$2,IF(E30=2,'Liste de nom'!$B$3,IF(E30=3,'Liste de nom'!$B$4,IF(E30=4,'Liste de nom'!$B$5,IF(E30=5,'Liste de nom'!$B$6,IF(E30=6,'Liste de nom'!$B$7,IF(E30=7,'Liste de nom'!$B$8,IF(E30=8,'Liste de nom'!$B$9,IF(E30=9,'Liste de nom'!$B$10,IF(E30=10,'Liste de nom'!$B$11,"")))))))))) | Q30: =IF(F30=1,'Liste de nom'!$B$2,IF(F30=2,'Liste de nom'!$B$3,IF(F30=3,'Liste de nom'!$B$4,IF(F30=4,'Liste de nom'!$B$5,IF(F30=5,'Liste de nom'!$B$6,IF(F30=6,'Liste de nom'!$B$7,IF(F30=7,'Liste de nom'!$B$8,IF(F30=8,'Liste de nom'!$B$9,IF(F30=9,'Liste de nom'!$B$10,IF(F30=10,'Liste de nom'!$B$11,"")))))))))) | R30: =IF(G30=1,'Liste de nom'!$B$2,IF(G30=2,'Liste de nom'!$B$3,IF(G30=3,'Liste de nom'!$B$4,IF(G30=4,'Liste de nom'!$B$5,IF(G30=5,'Liste de nom'!$B$6,IF(G30=6,'Liste de nom'!$B$7,IF(G30=7,'Liste de nom'!$B$8,IF(G30=8,'Liste de nom'!$B$9,IF(G30=9,'Liste de nom'!$B$10,IF(G30=10,'Liste de nom'!$B$11,""))))))))))
A31: 2015 | B31: 30 | C31: 42210 | D31: ='Liste de nom'!$B$3 -> nom2 | E31: ='Liste de nom'!$B$2 -> nom1 | F31: ='Liste de nom'!$B$9 -> nom8 | G31: ='Liste de nom'!$B$4 -> nom3 | O31: =IF(D31=1,'Liste de nom'!$B$2,IF(D31=2,'Liste de nom'!$B$3,IF(D31=3,'Liste de nom'!$B$4,IF(D31=4,'Liste de nom'!$B$5,IF(D31=5,'Liste de nom'!$B$6,IF(D31=6,'Liste de nom'!$B$7,IF(D31=7,'Liste de nom'!$B$8,IF(D31=8,'Liste de nom'!$B$9,IF(D31=9,'Liste de nom'!$B$10,IF(D31=10,'Liste de nom'!$B$11,"")))))))))) | P31: =IF(E31=1,'Liste de nom'!$B$2,IF(E31=2,'Liste de nom'!$B$3,IF(E31=3,'Liste de nom'!$B$4,IF(E31=4,'Liste de nom'!$B$5,IF(E31=5,'Liste de nom'!$B$6,IF(E31=6,'Liste de nom'!$B$7,IF(E31=7,'Liste de nom'!$B$8,IF(E31=8,'Liste de nom'!$B$9,IF(E31=9,'Liste de nom'!$B$10,IF(E31=10,'Liste de nom'!$B$11,"")))))))))) | Q31: =IF(F31=1,'Liste de nom'!$B$2,IF(F31=2,'Liste de nom'!$B$3,IF(F31=3,'Liste de nom'!$B$4,IF(F31=4,'Liste de nom'!$B$5,IF(F31=5,'Liste de nom'!$B$6,IF(F31=6,'Liste de nom'!$B$7,IF(F31=7,'Liste de nom'!$B$8,IF(F31=8,'Liste de nom'!$B$9,IF(F31=9,'Liste de nom'!$B$10,IF(F31=10,'Liste de nom'!$B$11,"")))))))))) | R31: =IF(G31=1,'Liste de nom'!$B$2,IF(G31=2,'Liste de nom'!$B$3,IF(G31=3,'Liste de nom'!$B$4,IF(G31=4,'Liste de nom'!$B$5,IF(G31=5,'Liste de nom'!$B$6,IF(G31=6,'Liste de nom'!$B$7,IF(G31=7,'Liste de nom'!$B$8,IF(G31=8,'Liste de nom'!$B$9,IF(G31=9,'Liste de nom'!$B$10,IF(G31=10,'Liste de nom'!$B$11,""))))))))))
A32: 2015 | B32: 31 | C32: 42217 | D32: ='Liste de nom'!$B$10 -> nom9 | E32: ='Liste de nom'!$B$8 -> nom7 | F32: ='Liste de nom'!$B$6 -> nom5 | G32: ='Liste de nom'!$B$4 -> nom3 | O32: =IF(D32=1,'Liste de nom'!$B$2,IF(D32=2,'Liste de nom'!$B$3,IF(D32=3,'Liste de nom'!$B$4,IF(D32=4,'Liste de nom'!$B$5,IF(D32=5,'Liste de nom'!$B$6,IF(D32=6,'Liste de nom'!$B$7,IF(D32=7,'Liste de nom'!$B$8,IF(D32=8,'Liste de nom'!$B$9,IF(D32=9,'Liste de nom'!$B$10,IF(D32=10,'Liste de nom'!$B$11,"")))))))))) | P32: =IF(E32=1,'Liste de nom'!$B$2,IF(E32=2,'Liste de nom'!$B$3,IF(E32=3,'Liste de nom'!$B$4,IF(E32=4,'Liste de nom'!$B$5,IF(E32=5,'Liste de nom'!$B$6,IF(E32=6,'Liste de nom'!$B$7,IF(E32=7,'Liste de nom'!$B$8,IF(E32=8,'Liste de nom'!$B$9,IF(E32=9,'Liste de nom'!$B$10,IF(E32=10,'Liste de nom'!$B$11,"")))))))))) | Q32: =IF(F32=1,'Liste de nom'!$B$2,IF(F32=2,'Liste de nom'!$B$3,IF(F32=3,'Liste de nom'!$B$4,IF(F32=4,'Liste de nom'!$B$5,IF(F32=5,'Liste de nom'!$B$6,IF(F32=6,'Liste de nom'!$B$7,IF(F32=7,'Liste de nom'!$B$8,IF(F32=8,'Liste de nom'!$B$9,IF(F32=9,'Liste de nom'!$B$10,IF(F32=10,'Liste de nom'!$B$11,"")))))))))) | R32: =IF(G32=1,'Liste de nom'!$B$2,IF(G32=2,'Liste de nom'!$B$3,IF(G32=3,'Liste de nom'!$B$4,IF(G32=4,'Liste de nom'!$B$5,IF(G32=5,'Liste de nom'!$B$6,IF(G32=6,'Liste de nom'!$B$7,IF(G32=7,'Liste de nom'!$B$8,IF(G32=8,'Liste de nom'!$B$9,IF(G32=9,'Liste de nom'!$B$10,IF(G32=10,'Liste de nom'!$B$11,""))))))))))
A33: 2015 | B33: 32 | C33: 42224 | D33: ='Liste de nom'!$B$2 -> nom1 | E33: ='Liste de nom'!$B$11 -> nom10 | F33: ='Liste de nom'!$B$9 -> nom8 | G33: ='Liste de nom'!$B$7 -> nom6 | O33: =IF(D33=1,'Liste de nom'!$B$2,IF(D33=2,'Liste de nom'!$B$3,IF(D33=3,'Liste de nom'!$B$4,IF(D33=4,'Liste de nom'!$B$5,IF(D33=5,'Liste de nom'!$B$6,IF(D33=6,'Liste de nom'!$B$7,IF(D33=7,'Liste de nom'!$B$8,IF(D33=8,'Liste de nom'!$B$9,IF(D33=9,'Liste de nom'!$B$10,IF(D33=10,'Liste de nom'!$B$11,"")))))))))) | P33: =IF(E33=1,'Liste de nom'!$B$2,IF(E33=2,'Liste de nom'!$B$3,IF(E33=3,'Liste de nom'!$B$4,IF(E33=4,'Liste de nom'!$B$5,IF(E33=5,'Liste de nom'!$B$6,IF(E33=6,'Liste de nom'!$B$7,IF(E33=7,'Liste de nom'!$B$8,IF(E33=8,'Liste de nom'!$B$9,IF(E33=9,'Liste de nom'!$B$10,IF(E33=10,'Liste de nom'!$B$11,"")))))))))) | Q33: =IF(F33=1,'Liste de nom'!$B$2,IF(F33=2,'Liste de nom'!$B$3,IF(F33=3,'Liste de nom'!$B$4,IF(F33=4,'Liste de nom'!$B$5,IF(F33=5,'Liste de nom'!$B$6,IF(F33=6,'Liste de nom'!$B$7,IF(F33=7,'Liste de nom'!$B$8,IF(F33=8,'Liste de nom'!$B$9,IF(F33=9,'Liste de nom'!$B$10,IF(F33=10,'Liste de nom'!$B$11,"")))))))))) | R33: =IF(G33=1,'Liste de nom'!$B$2,IF(G33=2,'Liste de nom'!$B$3,IF(G33=3,'Liste de nom'!$B$4,IF(G33=4,'Liste de nom'!$B$5,IF(G33=5,'Liste de nom'!$B$6,IF(G33=6,'Liste de nom'!$B$7,IF(G33=7,'Liste de nom'!$B$8,IF(G33=8,'Liste de nom'!$B$9,IF(G33=9,'Liste de nom'!$B$10,IF(G33=10,'Liste de nom'!$B$11,""))))))))))
A34: 2015 | B34: 33 | C34: 42231 | D34: ='Liste de nom'!$B$5 -> nom4 | E34: ='Liste de nom'!$B$3 -> nom2 | F34: ='Liste de nom'!$B$10 -> nom9 | G34: ='Liste de nom'!$B$8 -> nom7 | O34: =IF(D34=1,'Liste de nom'!$B$2,IF(D34=2,'Liste de nom'!$B$3,IF(D34=3,'Liste de nom'!$B$4,IF(D34=4,'Liste de nom'!$B$5,IF(D34=5,'Liste de nom'!$B$6,IF(D34=6,'Liste de nom'!$B$7,IF(D34=7,'Liste de nom'!$B$8,IF(D34=8,'Liste de nom'!$B$9,IF(D34=9,'Liste de nom'!$B$10,IF(D34=10,'Liste de nom'!$B$11,"")))))))))) | P34: =IF(E34=1,'Liste de nom'!$B$2,IF(E34=2,'Liste de nom'!$B$3,IF(E34=3,'Liste de nom'!$B$4,IF(E34=4,'Liste de nom'!$B$5,IF(E34=5,'Liste de nom'!$B$6,IF(E34=6,'Liste de nom'!$B$7,IF(E34=7,'Liste de nom'!$B$8,IF(E34=8,'Liste de nom'!$B$9,IF(E34=9,'Liste de nom'!$B$10,IF(E34=10,'Liste de nom'!$B$11,"")))))))))) | Q34: =IF(F34=1,'Liste de nom'!$B$2,IF(F34=2,'Liste de nom'!$B$3,IF(F34=3,'Liste de nom'!$B$4,IF(F34=4,'Liste de nom'!$B$5,IF(F34=5,'Liste de nom'!$B$6,IF(F34=6,'Liste de nom'!$B$7,IF(F34=7,'Liste de nom'!$B$8,IF(F34=8,'Liste de nom'!$B$9,IF(F34=9,'Liste de nom'!$B$10,IF(F34=10,'Liste de nom'!$B$11,"")))))))))) | R34: =IF(G34=1,'Liste de nom'!$B$2,IF(G34=2,'Liste de nom'!$B$3,IF(G34=3,'Liste de nom'!$B$4,IF(G34=4,'Liste de nom'!$B$5,IF(G34=5,'Liste de nom'!$B$6,IF(G34=6,'Liste de nom'!$B$7,IF(G34=7,'Liste de nom'!$B$8,IF(G34=8,'Liste de nom'!$B$9,IF(G34=9,'Liste de nom'!$B$10,IF(G34=10,'Liste de nom'!$B$11,""))))))))))
A35: 2015 | B35: 34 | C35: 42238 | D35: ='Liste de nom'!$B$6 -> nom5 | E35: ='Liste de nom'!$B$4 -> nom3 | F35: ='Liste de nom'!$B$2 -> nom1 | G35: ='Liste de nom'!$B$11 -> nom10 | O35: =IF(D35=1,'Liste de nom'!$B$2,IF(D35=2,'Liste de nom'!$B$3,IF(D35=3,'Liste de nom'!$B$4,IF(D35=4,'Liste de nom'!$B$5,IF(D35=5,'Liste de nom'!$B$6,IF(D35=6,'Liste de nom'!$B$7,IF(D35=7,'Liste de nom'!$B$8,IF(D35=8,'Liste de nom'!$B$9,IF(D35=9,'Liste de nom'!$B$10,IF(D35=10,'Liste de nom'!$B$11,"")))))))))) | P35: =IF(E35=1,'Liste de nom'!$B$2,IF(E35=2,'Liste de nom'!$B$3,IF(E35=3,'Liste de nom'!$B$4,IF(E35=4,'Liste de nom'!$B$5,IF(E35=5,'Liste de nom'!$B$6,IF(E35=6,'Liste de nom'!$B$7,IF(E35=7,'Liste de nom'!$B$8,IF(E35=8,'Liste de nom'!$B$9,IF(E35=9,'Liste de nom'!$B$10,IF(E35=10,'Liste de nom'!$B$11,"")))))))))) | Q35: =IF(F35=1,'Liste de nom'!$B$2,IF(F35=2,'Liste de nom'!$B$3,IF(F35=3,'Liste de nom'!$B$4,IF(F35=4,'Liste de nom'!$B$5,IF(F35=5,'Liste de nom'!$B$6,IF(F35=6,'Liste de nom'!$B$7,IF(F35=7,'Liste de nom'!$B$8,IF(F35=8,'Liste de nom'!$B$9,IF(F35=9,'Liste de nom'!$B$10,IF(F35=10,'Liste de nom'!$B$11,"")))))))))) | R35: =IF(G35=1,'Liste de nom'!$B$2,IF(G35=2,'Liste de nom'!$B$3,IF(G35=3,'Liste de nom'!$B$4,IF(G35=4,'Liste de nom'!$B$5,IF(G35=5,'Liste de nom'!$B$6,IF(G35=6,'Liste de nom'!$B$7,IF(G35=7,'Liste de nom'!$B$8,IF(G35=8,'Liste de nom'!$B$9,IF(G35=9,'Liste de nom'!$B$10,IF(G35=10,'Liste de nom'!$B$11,""))))))))))
A36: 2015 | B36: 35 | C36: 42245 | D36: ='Liste de nom'!$B$9 -> nom8 | E36: ='Liste de nom'!$B$7 -> nom6 | F36: ='Liste de nom'!$B$5 -> nom4 | G36: ='Liste de nom'!$B$3 -> nom2 | O36: =IF(D36=1,'Liste de nom'!$B$2,IF(D36=2,'Liste de nom'!$B$3,IF(D36=3,'Liste de nom'!$B$4,IF(D36=4,'Liste de nom'!$B$5,IF(D36=5,'Liste de nom'!$B$6,IF(D36=6,'Liste de nom'!$B$7,IF(D36=7,'Liste de nom'!$B$8,IF(D36=8,'Liste de nom'!$B$9,IF(D36=9,'Liste de nom'!$B$10,IF(D36=10,'Liste de nom'!$B$11,"")))))))))) | P36: =IF(E36=1,'Liste de nom'!$B$2,IF(E36=2,'Liste de nom'!$B$3,IF(E36=3,'Liste de nom'!$B$4,IF(E36=4,'Liste de nom'!$B$5,IF(E36=5,'Liste de nom'!$B$6,IF(E36=6,'Liste de nom'!$B$7,IF(E36=7,'Liste de nom'!$B$8,IF(E36=8,'Liste de nom'!$B$9,IF(E36=9,'Liste de nom'!$B$10,IF(E36=10,'Liste de nom'!$B$11,"")))))))))) | Q36: =IF(F36=1,'Liste de nom'!$B$2,IF(F36=2,'Liste de nom'!$B$3,IF(F36=3,'Liste de nom'!$B$4,IF(F36=4,'Liste de nom'!$B$5,IF(F36=5,'Liste de nom'!$B$6,IF(F36=6,'Liste de nom'!$B$7,IF(F36=7,'Liste de nom'!$B$8,IF(F36=8,'Liste de nom'!$B$9,IF(F36=9,'Liste de nom'!$B$10,IF(F36=10,'Liste de nom'!$B$11,"")))))))))) | R36: =IF(G36=1,'Liste de nom'!$B$2,IF(G36=2,'Liste de nom'!$B$3,IF(G36=3,'Liste de nom'!$B$4,IF(G36=4,'Liste de nom'!$B$5,IF(G36=5,'Liste de nom'!$B$6,IF(G36=6,'Liste de nom'!$B$7,IF(G36=7,'Liste de nom'!$B$8,IF(G36=8,'Liste de nom'!$B$9,IF(G36=9,'Liste de nom'!$B$10,IF(G36=10,'Liste de nom'!$B$11,""))))))))))
A37: 2015 | B37: 36 | C37: 42252 | D37: ='Liste de nom'!$B$2 -> nom1 | E37: ='Liste de nom'!$B$3 -> nom2 | F37: ='Liste de nom'!$B$4 -> nom3 | G37: ='Liste de nom'!$B$5 -> nom4 | O37: =IF(D37=1,'Liste de nom'!$B$2,IF(D37=2,'Liste de nom'!$B$3,IF(D37=3,'Liste de nom'!$B$4,IF(D37=4,'Liste de nom'!$B$5,IF(D37=5,'Liste de nom'!$B$6,IF(D37=6,'Liste de nom'!$B$7,IF(D37=7,'Liste de nom'!$B$8,IF(D37=8,'Liste de nom'!$B$9,IF(D37=9,'Liste de nom'!$B$10,IF(D37=10,'Liste de nom'!$B$11,"")))))))))) | P37: =IF(E37=1,'Liste de nom'!$B$2,IF(E37=2,'Liste de nom'!$B$3,IF(E37=3,'Liste de nom'!$B$4,IF(E37=4,'Liste de nom'!$B$5,IF(E37=5,'Liste de nom'!$B$6,IF(E37=6,'Liste de nom'!$B$7,IF(E37=7,'Liste de nom'!$B$8,IF(E37=8,'Liste de nom'!$B$9,IF(E37=9,'Liste de nom'!$B$10,IF(E37=10,'Liste de nom'!$B$11,"")))))))))) | Q37: =IF(F37=1,'Liste de nom'!$B$2,IF(F37=2,'Liste de nom'!$B$3,IF(F37=3,'Liste de nom'!$B$4,IF(F37=4,'Liste de nom'!$B$5,IF(F37=5,'Liste de nom'!$B$6,IF(F37=6,'Liste de nom'!$B$7,IF(F37=7,'Liste de nom'!$B$8,IF(F37=8,'Liste de nom'!$B$9,IF(F37=9,'Liste de nom'!$B$10,IF(F37=10,'Liste de nom'!$B$11,"")))))))))) | R37: =IF(G37=1,'Liste de nom'!$B$2,IF(G37=2,'Liste de nom'!$B$3,IF(G37=3,'Liste de nom'!$B$4,IF(G37=4,'Liste de nom'!$B$5,IF(G37=5,'Liste de nom'!$B$6,IF(G37=6,'Liste de nom'!$B$7,IF(G37=7,'Liste de nom'!$B$8,IF(G37=8,'Liste de nom'!$B$9,IF(G37=9,'Liste de nom'!$B$10,IF(G37=10,'Liste de nom'!$B$11,""))))))))))
A38: 2015 | B38: 37 | C38: 42259 | D38: ='Liste de nom'!$B$6 -> nom5 | E38: ='Liste de nom'!$B$7 -> nom6 | F38: ='Liste de nom'!$B$8 -> nom7 | G38: ='Liste de nom'!$B$9 -> nom8 | O38: =IF(D38=1,'Liste de nom'!$B$2,IF(D38=2,'Liste de nom'!$B$3,IF(D38=3,'Liste de nom'!$B$4,IF(D38=4,'Liste de nom'!$B$5,IF(D38=5,'Liste de nom'!$B$6,IF(D38=6,'Liste de nom'!$B$7,IF(D38=7,'Liste de nom'!$B$8,IF(D38=8,'Liste de nom'!$B$9,IF(D38=9,'Liste de nom'!$B$10,IF(D38=10,'Liste de nom'!$B$11,"")))))))))) | P38: =IF(E38=1,'Liste de nom'!$B$2,IF(E38=2,'Liste de nom'!$B$3,IF(E38=3,'Liste de nom'!$B$4,IF(E38=4,'Liste de nom'!$B$5,IF(E38=5,'Liste de nom'!$B$6,IF(E38=6,'Liste de nom'!$B$7,IF(E38=7,'Liste de nom'!$B$8,IF(E38=8,'Liste de nom'!$B$9,IF(E38=9,'Liste de nom'!$B$10,IF(E38=10,'Liste de nom'!$B$11,"")))))))))) | Q38: =IF(F38=1,'Liste de nom'!$B$2,IF(F38=2,'Liste de nom'!$B$3,IF(F38=3,'Liste de nom'!$B$4,IF(F38=4,'Liste de nom'!$B$5,IF(F38=5,'Liste de nom'!$B$6,IF(F38=6,'Liste de nom'!$B$7,IF(F38=7,'Liste de nom'!$B$8,IF(F38=8,'Liste de nom'!$B$9,IF(F38=9,'Liste de nom'!$B$10,IF(F38=10,'Liste de nom'!$B$11,"")))))))))) | R38: =IF(G38=1,'Liste de nom'!$B$2,IF(G38=2,'Liste de nom'!$B$3,IF(G38=3,'Liste de nom'!$B$4,IF(G38=4,'Liste de nom'!$B$5,IF(G38=5,'Liste de nom'!$B$6,IF(G38=6,'Liste de nom'!$B$7,IF(G38=7,'Liste de nom'!$B$8,IF(G38=8,'Liste de nom'!$B$9,IF(G38=9,'Liste de nom'!$B$10,IF(G38=10,'Liste de nom'!$B$11,""))))))))))
A39: 2015 | B39: 38 | C39: 42266 | D39: ='Liste de nom'!$B$10 -> nom9 | E39: ='Liste de nom'!$B$11 -> nom10 | F39: ='Liste de nom'!$B$2 -> nom1 | G39: ='Liste de nom'!$B$3 -> nom2 | O39: =IF(D39=1,'Liste de nom'!$B$2,IF(D39=2,'Liste de nom'!$B$3,IF(D39=3,'Liste de nom'!$B$4,IF(D39=4,'Liste de nom'!$B$5,IF(D39=5,'Liste de nom'!$B$6,IF(D39=6,'Liste de nom'!$B$7,IF(D39=7,'Liste de nom'!$B$8,IF(D39=8,'Liste de nom'!$B$9,IF(D39=9,'Liste de nom'!$B$10,IF(D39=10,'Liste de nom'!$B$11,"")))))))))) | P39: =IF(E39=1,'Liste de nom'!$B$2,IF(E39=2,'Liste de nom'!$B$3,IF(E39=3,'Liste de nom'!$B$4,IF(E39=4,'Liste de nom'!$B$5,IF(E39=5,'Liste de nom'!$B$6,IF(E39=6,'Liste de nom'!$B$7,IF(E39=7,'Liste de nom'!$B$8,IF(E39=8,'Liste de nom'!$B$9,IF(E39=9,'Liste de nom'!$B$10,IF(E39=10,'Liste de nom'!$B$11,"")))))))))) | Q39: =IF(F39=1,'Liste de nom'!$B$2,IF(F39=2,'Liste de nom'!$B$3,IF(F39=3,'Liste de nom'!$B$4,IF(F39=4,'Liste de nom'!$B$5,IF(F39=5,'Liste de nom'!$B$6,IF(F39=6,'Liste de nom'!$B$7,IF(F39=7,'Liste de nom'!$B$8,IF(F39=8,'Liste de nom'!$B$9,IF(F39=9,'Liste de nom'!$B$10,IF(F39=10,'Liste de nom'!$B$11,"")))))))))) | R39: =IF(G39=1,'Liste de nom'!$B$2,IF(G39=2,'Liste de nom'!$B$3,IF(G39=3,'Liste de nom'!$B$4,IF(G39=4,'Liste de nom'!$B$5,IF(G39=5,'Liste de nom'!$B$6,IF(G39=6,'Liste de nom'!$B$7,IF(G39=7,'Liste de nom'!$B$8,IF(G39=8,'Liste de nom'!$B$9,IF(G39=9,'Liste de nom'!$B$10,IF(G39=10,'Liste de nom'!$B$11,""))))))))))
A40: 2015 | B40: 39 | C40: 42273 | D40: ='Liste de nom'!$B$4 -> nom3 | E40: ='Liste de nom'!$B$5 -> nom4 | F40: ='Liste de nom'!$B$6 -> nom5 | G40: ='Liste de nom'!$B$7 -> nom6 | O40: =IF(D40=1,'Liste de nom'!$B$2,IF(D40=2,'Liste de nom'!$B$3,IF(D40=3,'Liste de nom'!$B$4,IF(D40=4,'Liste de nom'!$B$5,IF(D40=5,'Liste de nom'!$B$6,IF(D40=6,'Liste de nom'!$B$7,IF(D40=7,'Liste de nom'!$B$8,IF(D40=8,'Liste de nom'!$B$9,IF(D40=9,'Liste de nom'!$B$10,IF(D40=10,'Liste de nom'!$B$11,"")))))))))) | P40: =IF(E40=1,'Liste de nom'!$B$2,IF(E40=2,'Liste de nom'!$B$3,IF(E40=3,'Liste de nom'!$B$4,IF(E40=4,'Liste de nom'!$B$5,IF(E40=5,'Liste de nom'!$B$6,IF(E40=6,'Liste de nom'!$B$7,IF(E40=7,'Liste de nom'!$B$8,IF(E40=8,'Liste de nom'!$B$9,IF(E40=9,'Liste de nom'!$B$10,IF(E40=10,'Liste de nom'!$B$11,"")))))))))) | Q40: =IF(F40=1,'Liste de nom'!$B$2,IF(F40=2,'Liste de nom'!$B$3,IF(F40=3,'Liste de nom'!$B$4,IF(F40=4,'Liste de nom'!$B$5,IF(F40=5,'Liste de nom'!$B$6,IF(F40=6,'Liste de nom'!$B$7,IF(F40=7,'Liste de nom'!$B$8,IF(F40=8,'Liste de nom'!$B$9,IF(F40=9,'Liste de nom'!$B$10,IF(F40=10,'Liste de nom'!$B$11,"")))))))))) | R40: =IF(G40=1,'Liste de nom'!$B$2,IF(G40=2,'Liste de nom'!$B$3,IF(G40=3,'Liste de nom'!$B$4,IF(G40=4,'Liste de nom'!$B$5,IF(G40=5,'Liste de nom'!$B$6,IF(G40=6,'Liste de nom'!$B$7,IF(G40=7,'Liste de nom'!$B$8,IF(G40=8,'Liste de nom'!$B$9,IF(G40=9,'Liste de nom'!$B$10,IF(G40=10,'Liste de nom'!$B$11,""))))))))))
...

Sheet Liste de nom
B1: Nom
A2: 1 | B2: nom1
A3: 2 | B3: nom2
A4: 3 | B4: nom3
A5: 4 | B5: nom4
A6: 5 | B6: nom5
A7: 6 | B7: nom6
A8: 7 | B8: nom7
A9: 8 | B9: nom8
A10: 9 | B10: nom9
A11: 10 | B11: nom10

Sheet Cédule 2015
A1: 2015 | C1: Groupe
A2: Semaine finissant le | C2: Personne 1 | D2: Personne 2 | E2: Personne 3 | F2: Personne 4
A3: =LOOKUP(B3,Semaine!C:C,Semaine!B:B) -> 1 | B3: 42007 | C3: =LOOKUP(B3,Semaine!C:C,Semaine!D:D) -> nom1 | D3: =LOOKUP(B3,Semaine!C:C,Semaine!E:E) -> nom2 | E3: =LOOKUP(B3,Semaine!C:C,Semaine!F:F) -> nom3 | F3: =LOOKUP(B3,Semaine!C:C,Semaine!G:G) -> nom4
A4: =LOOKUP(B4,Semaine!C:C,Semaine!B:B) -> 2 | B4: =B3+7 -> 42014 | C4: =LOOKUP(B4,Semaine!C:C,Semaine!D:D) -> nom5 | D4: =LOOKUP(B4,Semaine!C:C,Semaine!E:E) -> nom6 | E4: =LOOKUP(B4,Semaine!C:C,Semaine!F:F) -> nom7 | F4: =LOOKUP(B4,Semaine!C:C,Semaine!G:G) -> nom8
A5: =LOOKUP(B5,Semaine!C:C,Semaine!B:B) -> 3 | B5: =B4+7 -> 42021 | C5: =LOOKUP(B5,Semaine!C:C,Semaine!D:D) -> nom9 | D5: =LOOKUP(B5,Semaine!C:C,Semaine!E:E) -> nom10 | E5: =LOOKUP(B5,Semaine!C:C,Semaine!F:F) -> nom1 | F5: =LOOKUP(B5,Semaine!C:C,Semaine!G:G) -> nom2
A6: =LOOKUP(B6,Semaine!C:C,Semaine!B:B) -> 4 | B6: =B5+7 -> 42028 | C6: =LOOKUP(B6,Semaine!C:C,Semaine!D:D) -> nom3 | D6: =LOOKUP(B6,Semaine!C:C,Semaine!E:E) -> nom4 | E6: =LOOKUP(B6,Semaine!C:C,Semaine!F:F) -> nom5 | F6: =LOOKUP(B6,Semaine!C:C,Semaine!G:G) -> nom6
A7: =LOOKUP(B7,Semaine!C:C,Semaine!B:B) -> 5 | B7: =B6+7 -> 42035 | C7: =LOOKUP(B7,Semaine!C:C,Semaine!D:D) -> nom7 | D7: =LOOKUP(B7,Semaine!C:C,Semaine!E:E) -> nom8 | E7: =LOOKUP(B7,Semaine!C:C,Semaine!F:F) -> nom9 | F7: =LOOKUP(B7,Semaine!C:C,Semaine!G:G) -> nom10
A8: =LOOKUP(B8,Semaine!C:C,Semaine!B:B) -> 6 | B8: =B7+7 -> 42042 | C8: =LOOKUP(B8,Semaine!C:C,Semaine!D:D) -> nom1 | D8: =LOOKUP(B8,Semaine!C:C,Semaine!E:E) -> nom3 | E8: =LOOKUP(B8,Semaine!C:C,Semaine!F:F) -> nom5 | F8: =LOOKUP(B8,Semaine!C:C,Semaine!G:G) -> nom7
A9: =LOOKUP(B9,Semaine!C:C,Semaine!B:B) -> 7 | B9: =B8+7 -> 42049 | C9: =LOOKUP(B9,Semaine!C:C,Semaine!D:D) -> nom9 | D9: =LOOKUP(B9,Semaine!C:C,Semaine!E:E) -> nom2 | E9: =LOOKUP(B9,Semaine!C:C,Semaine!F:F) -> nom4 | F9: =LOOKUP(B9,Semaine!C:C,Semaine!G:G) -> nom6
A10: =LOOKUP(B10,Semaine!C:C,Semaine!B:B) -> 8 | B10: =B9+7 -> 42056 | C10: =LOOKUP(B10,Semaine!C:C,Semaine!D:D) -> nom8 | D10: =LOOKUP(B10,Semaine!C:C,Semaine!E:E) -> nom10 | E10: =LOOKUP(B10,Semaine!C:C,Semaine!F:F) -> nom1 | F10: =LOOKUP(B10,Semaine!C:C,Semaine!G:G) -> nom3
A11: =LOOKUP(B11,Semaine!C:C,Semaine!B:B) -> 9 | B11: =B10+7 -> 42063 | C11: =LOOKUP(B11,Semaine!C:C,Semaine!D:D) -> nom5 | D11: =LOOKUP(B11,Semaine!C:C,Semaine!E:E) -> nom7 | E11: =LOOKUP(B11,Semaine!C:C,Semaine!F:F) -> nom9 | F11: =LOOKUP(B11,Semaine!C:C,Semaine!G:G) -> nom2
A12: =LOOKUP(B12,Semaine!C:C,Semaine!B:B) -> 10 | B12: =B11+7 -> 42070 | C12: =LOOKUP(B12,Semaine!C:C,Semaine!D:D) -> nom4 | D12: =LOOKUP(B12,Semaine!C:C,Semaine!E:E) -> nom6 | E12: =LOOKUP(B12,Semaine!C:C,Semaine!F:F) -> nom8 | F12: =LOOKUP(B12,Semaine!C:C,Semaine!G:G) -> nom10
A13: =LOOKUP(B13,Semaine!C:C,Semaine!B:B) -> 11 | B13: =B12+7 -> 42077 | C13: =LOOKUP(B13,Semaine!C:C,Semaine!D:D) -> nom2 | D13: =LOOKUP(B13,Semaine!C:C,Semaine!E:E) -> nom3 | E13: =LOOKUP(B13,Semaine!C:C,Semaine!F:F) -> nom6 | F13: =LOOKUP(B13,Semaine!C:C,Semaine!G:G) -> nom7
A14: =LOOKUP(B14,Semaine!C:C,Semaine!B:B) -> 12 | B14: =B13+7 -> 42084 | C14: =LOOKUP(B14,Semaine!C:C,Semaine!D:D) -> nom4 | D14: =LOOKUP(B14,Semaine!C:C,Semaine!E:E) -> nom5 | E14: =LOOKUP(B14,Semaine!C:C,Semaine!F:F) -> nom8 | F14: =LOOKUP(B14,Semaine!C:C,Semaine!G:G) -> nom9
A15: =LOOKUP(B15,Semaine!C:C,Semaine!B:B) -> 13 | B15: =B14+7 -> 42091 | C15: =LOOKUP(B15,Semaine!C:C,Semaine!D:D) -> nom10 | D15: =LOOKUP(B15,Semaine!C:C,Semaine!E:E) -> nom1 | E15: =LOOKUP(B15,Semaine!C:C,Semaine!F:F) -> nom2 | F15: =LOOKUP(B15,Semaine!C:C,Semaine!G:G) -> nom3
... A54: =LOOKUP(B54,Semaine!C:C,Semaine!B:B) -> 52 | B54: =B53+7 -> 42364 | C54: =LOOKUP(B54,Semaine!C:C,Semaine!D:D) -> nom10 | D54: =LOOKUP(B54,Semaine!C:C,Semaine!E:E) -> nom1 | E54: =LOOKUP(B54,Semaine!C:C,Semaine!F:F) -> nom3 | F54: =LOOKUP(B54,Semaine!C:C,Semaine!G:G) -> nom5

Sheet Cédule 2016
A1: 2015 | C1: Groupe
A2: Semaine finissant le | C2: Personne 1 | D2: Personne 2 | E2: Personne 3 | F2: Personne 4
