Workbook

Sheet Semaine
A1: Année | B1: Semaine | C1: Semaine finissant le | D1: Personne1 | E1: Personne2 | F1: Personne3 | G1: Personne4
A2: 2015 | B2: 1 | C2: 42007 | D2: ='Liste de nom'!$B$2 -> nom1 | E2: ='Liste de nom'!$B$3 -> nom2 | F2: ='Liste de nom'!$B$4 -> nom3 | G2: ='Liste de nom'!$B$5 -> nom4 | O2: =IF(D2=1,'Liste de nom'!$B$2,IF(D2=2,'Liste de nom'!$B$3,IF(D2=3,'Liste de nom'!$B$4,IF(D2=4,'Liste de nom'!$B$5,IF(D2=5,'Liste de nom'!$B$6,IF(D2=6,'Liste de nom'!$B$7,IF(D2=7,'Liste de nom'!$B$8,IF(D2=8,'Liste de nom'!$B$9,IF(D2=9,'Liste de nom'!$B$10,IF(D2=10,'Liste de nom'!$B$11,"")))))))))) | P2: =IF(E2=1,'Liste de nom'!$B$2,IF(E2=2,'Liste de nom'!$B$3,IF(E2=3,'Liste de nom'!$B$4,IF(E2=4,'Liste de nom'!$B$5,IF(E2=5,'Liste de nom'!$B$6,IF(E2=6,'Liste de nom'!$B$7,IF(E2=7,'Liste de nom'!$B$8,IF(E2=8,'Liste de nom'!$B$9,IF(E2=9,'Liste de nom'!$B$10,IF(E2=10,'Liste de nom'!$B$11,"")))))))))) | Q2: =IF(F2=1,'Liste de nom'!$B$2,IF(F2=2,'Liste de nom'!$B$3,IF(F2=3,'Liste de nom'!$B$4,IF(F2=4,'Liste de nom'!$B$5,IF(F2=5,'Liste de nom'!$B$6,IF(F2=6,'Liste de nom'!$B$7,IF(F2=7,'Liste de nom'!$B$8,IF(F2=8,'Liste de nom'!$B$9,IF(F2=9,'Liste de nom'!$B$10,IF(F2=10,'Liste de nom'!$B$11,"")))))))))) | R2: =IF(G2=1,'Liste de nom'!$B$2,IF(G2=2,'Liste de nom'!$B$3,IF(G2=3,'Liste de nom'!$B$4,IF(G2=4,'Liste de nom'!$B$5,IF(G2=5,'Liste de nom'!$B$6,IF(G2=6,'Liste de nom'!$B$7,IF(G2=7,'Liste de nom'!$B$8,IF(G2=8,'Liste de nom'!$B$9,IF(G2=9,'Liste de nom'!$B$10,IF(G2=10,'Liste de nom'!$B$11,""))))))))))
A3: 2015 | B3: 2 | C3: 42014 | D3: ='Liste de nom'!$B$6 -> nom5 | E3: ='Liste de nom'!$B$7 -> nom6 | F3: ='Liste de nom'!$B$8 -> nom7 | G3: ='Liste de nom'!$B$9 -> nom8 | O3: =IF(D3=1,'Liste de nom'!$B$2,IF(D3=2,'Liste de nom'!$B$3,IF(D3=3,'Liste de nom'!$B$4,IF(D3=4,'Liste de nom'!$B$5,IF(D3=5,'Liste de nom'!$B$6,IF(D3=6,'Liste de nom'!$B$7,IF(D3=7,'Liste de nom'!$B$8,IF(D3=8,'Liste de nom'!$B$9,IF(D3=9,'Liste de nom'!$B$10,IF(D3=10,'Liste de nom'!$B$11,"")))))))))) | P3: =IF(E3=1,'Liste de nom'!$B$2,IF(E3=2,'Liste de nom'!$B$3,IF(E3=3,'Liste de nom'!$B$4,IF(E3=4,'Liste de nom'!$B$5,IF(E3=5,'Liste de nom'!$B$6,IF(E3=6,'Liste de nom'!$B$7,IF(E3=7,'Liste de nom'!$B$8,IF(E3=8,'Liste de nom'!$B$9,IF(E3=9,'Liste de nom'!$B$10,IF(E3=10,'Liste de nom'!$B$11,"")))))))))) | Q3: =IF(F3=1,'Liste de nom'!$B$2,IF(F3=2,'Liste de nom'!$B$3,IF(F3=3,'Liste de nom'!$B$4,IF(F3=4,'Liste de nom'!$B$5,IF(F3=5,'Liste de nom'!$B$6,IF(F3=6,'Liste de nom'!$B$7,IF(F3=7,'Liste de nom'!$B$8,IF(F3=8,'Liste de nom'!$B$9,IF(F3=9,'Liste de nom'!$B$10,IF(F3=10,'Liste de nom'!$B$11,"")))))))))) | R3: =IF(G3=1,'Liste de nom'!$B$2,IF(G3=2,'Liste de nom'!$B$3,IF(G3=3,'Liste de nom'!$B$4,IF(G3=4,'Liste de nom'!$B$5,IF(G3=5,'Liste de nom'!$B$6,IF(G3=6,'Liste de nom'!$B$7,IF(G3=7,'Liste de nom'!$B$8,IF(G3=8,'Liste de nom'!$B$9,IF(G3=9,'Liste de nom'!$B$10,IF(G3=10,'Liste de nom'!$B$11,""))))))))))
A4: 2015 | B4: 3 | C4: 42021 | D4: ='Liste de nom'!$B$10 -> nom9 | E4: ='Liste de nom'!$B$11 -> nom10 | F4: ='Liste de nom'!$B$2 -> nom1 | G4: ='Liste de nom'!$B$3 -> nom2 | O4: =IF(D4=1,'Liste de nom'!$B$2,IF(D4=2,'Liste de nom'!$B$3,IF(D4=3,'Liste de nom'!$B$4,IF(D4=4,'Liste de nom'!$B$5,IF(D4=5,'Liste de nom'!$B$6,IF(D4=6,'Liste de nom'!$B$7,IF(D4=7,'Liste de nom'!$B$8,IF(D4=8,'Liste de nom'!$B$9,IF(D4=9,'Liste de nom'!$B$10,IF(D4=10,'Liste de nom'!$B$11,"")))))))))) | P4: =IF(E4=1,'Liste de nom'!$B$2,IF(E4=2,'Liste de nom'!$B$3,IF(E4=3,'Liste de nom'!$B$4,IF(E4=4,'Liste de nom'!$B$5,IF(E4=5,'Liste de nom'!$B$6,IF(E4=6,'Liste de nom'!$B$7,IF(E4=7,'Liste de nom'!$B$8,IF(E4=8,'Liste de nom'!$B$9,IF(E4=9,'Liste de nom'!$B$10,IF(E4=10,'Liste de nom'!$B$11,"")))))))))) | Q4: =IF(F4=1,'Liste de nom'!$B$2,IF(F4=2,'Liste de nom'!$B$3,IF(F4=3,'Liste de nom'!$B$4,IF(F4=4,'Liste de nom'!$B$5,IF(F4=5,'Liste de nom'!$B$6,IF(F4=6,'Liste de nom'!$B$7,IF(F4=7,'Liste de nom'!$B$8,IF(F4=8,'Liste de nom'!$B$9,IF(F4=9,'Liste de nom'!$B$10,IF(F4=10,'Liste de nom'!$B$11,"")))))))))) | R4: =IF(G4=1,'Liste de nom'!$B$2,IF(G4=2,'Liste de nom'!$B$3,IF(G4=3,'Liste de nom'!$B$4,IF(G4=4,'Liste de nom'!$B$5,IF(G4=5,'Liste de nom'!$B$6,IF(G4=6,'Liste de nom'!$B$7,IF(G4=7,'Liste de nom'!$B$8,IF(G4=8,'Liste de nom'!$B$9,IF(G4=9,'Liste de nom'!$B$10,IF(G4=10,'Liste de nom'!$B$11,""))))))))))
A5: 2015 | B5: 4 | C5: 42028 | D5: ='Liste de nom'!$B$4 -> nom3 | E5: ='Liste de nom'!$B$5 -> nom4 | F5: ='Liste de nom'!$B$6 -> nom5 | G5: ='Liste de nom'!$B$7 -> nom6 | O5: =IF(D5=1,'Liste de nom'!$B$2,IF(D5=2,'Liste de nom'!$B$3,IF(D5=3,'Liste de nom'!$B$4,IF(D5=4,'Liste de nom'!$B$5,IF(D5=5,'Liste de nom'!$B$6,IF(D5=6,'Liste de nom'!$B$7,IF(D5=7,'Liste de nom'!$B$8,IF(D5=8,'Liste de nom'!$B$9,IF(D5=9,'Liste de nom'!$B$10,IF(D5=10,'Liste de nom'!$B$11,"")))))))))) | P5: =IF(E5=1,'Liste de nom'!$B$2,IF(E5=2,'Liste de nom'!$B$3,IF(E5=3,'Liste de nom'!$B$4,IF(E5=4,'Liste de nom'!$B$5,IF(E5=5,'Liste de nom'!$B$6,IF(E5=6,'Liste de nom'!$B$7,IF(E5=7,'Liste de nom'!$B$8,IF(E5=8,'Liste de nom'!$B$9,IF(E5=9,'Liste de nom'!$B$10,IF(E5=10,'Liste de nom'!$B$11,"")))))))))) | Q5: =IF(F5=1,'Liste de nom'!$B$2,IF(F5=2,'Liste de nom'!$B$3,IF(F5=3,'Liste de nom'!$B$4,IF(F5=4,'Liste de nom'!$B$5,IF(F5=5,'Liste de nom'!$B$6,IF(F5=6,'Liste de nom'!$B$7,IF(F5=7,'Liste de nom'!$B$8,IF(F5=8,'Liste de nom'!$B$9,IF(F5=9,'Liste de nom'!$B$10,IF(F5=10,'Liste de nom'!$B$11,"")))))))))) | R5: =IF(G5=1,'Liste de nom'!$B$2,IF(G5=2,'Liste de nom'!$B$3,IF(G5=3,'Liste de nom'!$B$4,IF(G5=4,'Liste de nom'!$B$5,IF(G5=5,'Liste de nom'!$B$6,IF(G5=6,'Liste de nom'!$B$7,IF(G5=7,'Liste de nom'!$B$8,IF(G5=8,'Liste de nom'!$B$9,IF(G5=9,'Liste de nom'!$B$10,IF(G5=10,'Liste de nom'!$B$11,""))))))))))
A6: 2015 | B6: 5 | C6: 42035 | D6: ='Liste de nom'!$B$8 -> nom7 | E6: ='Liste de nom'!$B$9 -> nom8 | F6: ='Liste de nom'!$B$10 -> nom9 | G6: ='Liste de nom'!$B$11 -> nom10 | O6: =IF(D6=1,'Liste de nom'!$B$2,IF(D6=2,'Liste de nom'!$B$3,IF(D6=3,'Liste de nom'!$B$4,IF(D6=4,'Liste de nom'!$B$5,IF(D6=5,'Liste de nom'!$B$6,IF(D6=6,'Liste de nom'!$B$7,IF(D6=7,'Liste de nom'!$B$8,IF(D6=8,'Liste de nom'!$B$9,IF(D6=9,'Liste de nom'!$B$10,IF(D6=10,'Liste de nom'!$B$11,"")))))))))) | P6: =IF(E6=1,'Liste de nom'!$B$2,IF(E6=2,'Liste de nom'!$B$3,IF(E6=3,'Liste de nom'!$B$4,IF(E6=4,'Liste de nom'!$B$5,IF(E6=5,'Liste de nom'!$B$6,IF(E6=6,'Liste de nom'!$B$7,IF(E6=7,'Liste de nom'!$B$8,IF(E6=8,'Liste de nom'!$B$9,IF(E6=9,'Liste de nom'!$B$10,IF(E6=10,'Liste de nom'!$B$11,"")))))))))) | Q6: =IF(F6=1,'Liste de nom'!$B$2,IF(F6=2,'Liste de nom'!$B$3,IF(F6=3,'Liste de nom'!$B$4,IF(F6=4,'Liste de nom'!$B$5,IF(F6=5,'Liste de nom'!$B$6,IF(F6=6,'Liste de nom'!$B$7,IF(F6=7,'Liste de nom'!$B$8,IF(F6=8,'Liste de nom'!$B$9,IF(F6=9,'Liste de nom'!$B$10,IF(F6=10,'Liste de nom'!$B$11,"")))))))))) | R6: =IF(G6=1,'Liste de nom'!$B$2,IF(G6=2,'Liste de nom'!$B$3,IF(G6=3,'Liste de nom'!$B$4,IF(G6=4,'Liste de nom'!$B$5,IF(G6=5,'Liste de nom'!$B$6,IF(G6=6,'Liste de nom'!$B$7,IF(G6=7,'Liste de nom'!$B$8,IF(G6=8,'Liste de nom'!$B$9,IF(G6=9,'Liste de nom'!$B$10,IF(G6=10,'Liste de nom'!$B$11,""))))))))))
A7: 2015 | B7: 6 | C7: 42042 | D7: ='Liste de nom'!$B$2 -> nom1 | E7: ='Liste de nom'!$B$4 -> nom3 | F7: ='Liste de nom'!$B$6 -> nom5 | G7: ='Liste de nom'!$B$8 -> nom7 | O7: =IF(D7=1,'Liste de nom'!$B$2,IF(D7=2,'Liste de nom'!$B$3,IF(D7=3,'Liste de nom'!$B$4,IF(D7=4,'Liste de nom'!$B$5,IF(D7=5,'Liste de nom'!$B$6,IF(D7=6,'Liste de nom'!$B$7,IF(D7=7,'Liste de nom'!$B$8,IF(D7=8,'Liste de nom'!$B$9,IF(D7=9,'Liste de nom'!$B$10,IF(D7=10,'Liste de nom'!$B$11,"")))))))))) | P7: =IF(E7=1,'Liste de nom'!$B$2,IF(E7=2,'Liste de nom'!$B$3,IF(E7=3,'Liste de nom'!$B$4,IF(E7=4,'Liste de nom'!$B$5,IF(E7=5,'Liste de nom'!$B$6,IF(E7=6,'Liste de nom'!$B$7,IF(E7=7,'Liste de nom'!$B$8,IF(E7=8,'Liste de nom'!$B$9,IF(E7=9,'Liste de nom'!$B$10,IF(E7=10,'Liste de nom'!$B$11,"")))))))))) | Q7: =IF(F7=1,'Liste de nom'!$B$2,IF(F7=2,'Liste de nom'!$B$3,IF(F7=3,'Liste de nom'!$B$4,IF(F7=4,'Liste de nom'!$B$5,IF(F7=5,'Liste de nom'!$B$6,IF(F7=6,'Liste de nom'!$B$7,IF(F7=7,'Liste de nom'!$B$8,IF(F7=8,'Liste de nom'!$B$9,IF(F7=9,'Liste de nom'!$B$10,IF(F7=10,'Liste de nom'!$B$11,"")))))))))) | R7: =IF(G7=1,'Liste de nom'!$B$2,IF(G7=2,'Liste de nom'!$B$3,IF(G7=3,'Liste de nom'!$B$4,IF(G7=4,'Liste de nom'!$B$5,IF(G7=5,'Liste de nom'!$B$6,IF(G7=6,'Liste de nom'!$B$7,IF(G7=7,'Liste de nom'!$B$8,IF(G7=8,'Liste de nom'!$B$9,IF(G7=9,'Liste de nom'!$B$10,IF(G7=10,'Liste de nom'!$B$11,""))))))))))
A8: 2015 | B8: 7 | C8: 42049 | D8: ='Liste de nom'!$B$10 -> nom9 | E8: ='Liste de nom'!$B$3 -> nom2 | F8: ='Liste de nom'!$B$5 -> nom4 | G8: ='Liste de nom'!$B$7 -> nom6 | O8: =IF(D8=1,'Liste de nom'!$B$2,IF(D8=2,'Liste de nom'!$B$3,IF(D8=3,'Liste de nom'!$B$4,IF(D8=4,'Liste de nom'!$B$5,IF(D8=5,'Liste de nom'!$B$6,IF(D8=6,'Liste de nom'!$B$7,IF(D8=7,'Liste de nom'!$B$8,IF(D8=8,'Liste de nom'!$B$9,IF(D8=9,'Liste de nom'!$B$10,IF(D8=10,'Liste de nom'!$B$11,"")))))))))) | P8: =IF(E8=1,'Liste de nom'!$B$2,IF(E8=2,'Liste de nom'!$B$3,IF(E8=3,'Liste de nom'!$B$4,IF(E8=4,'Liste de nom'!$B$5,IF(E8=5,'Liste de nom'!$B$6,IF(E8=6,'Liste de nom'!$B$7,IF(E8=7,'Liste de nom'!$B$8,IF(E8=8,'Liste de nom'!$B$9,IF(E8=9,'Liste de nom'!$B$10,IF(E8=10,'Liste de nom'!$B$11,"")))))))))) | Q8: =IF(F8=1,'Liste de nom'!$B$2,IF(F8=2,'Liste de nom'!$B$3,IF(F8=3,'Liste de nom'!$B$4,IF(F8=4,'Liste de nom'!$B$5,IF(F8=5,'Liste de nom'!$B$6,IF(F8=6,'Liste de nom'!$B$7,IF(F8=7,'Liste de nom'!$B$8,IF(F8=8,'Liste de nom'!$B$9,IF(F8=9,'Liste de nom'!$B$10,IF(F8=10,'Liste de nom'!$B$11,"")))))))))) | R8: =IF(G8=1,'Liste de nom'!$B$2,IF(G8=2,'Liste de nom'!$B$3,IF(G8=3,'Liste de nom'!$B$4,IF(G8=4,'Liste de nom'!$B$5,IF(G8=5,'Liste de nom'!$B$6,IF(G8=6,'Liste de nom'!$B$7,IF(G8=7,'Liste de nom'!$B$8,IF(G8=8,'Liste de nom'!$B$9,IF(G8=9,'Liste de nom'!$B$10,IF(G8=10,'Liste de nom'!$B$11,""))))))))))
A9: 2015 | B9: 8 | C9: 42056 | D9: ='Liste de nom'!$B$9 -> nom8 | E9: ='Liste de nom'!$B$11 -> nom10 | F9: ='Liste de nom'!$B$2 -> nom1 | G9: ='Liste de nom'!$B$4 -> nom3 | O9: =IF(D9=1,'Liste de nom'!$B$2,IF(D9=2,'Liste de nom'!$B$3,IF(D9=3,'Liste de nom'!$B$4,IF(D9=4,'Liste de nom'!$B$5,IF(D9=5,'Liste de nom'!$B$6,IF(D9=6,'Liste de nom'!$B$7,IF(D9=7,'Liste de nom'!$B$8,IF(D9=8,'Liste de nom'!$B$9,IF(D9=9,'Liste de nom'!$B$10,IF(D9=10,'Liste de nom'!$B$11,"")))))))))) | P9: =IF(E9=1,'Liste de nom'!$B$2,IF(E9=2,'Liste de nom'!$B$3,IF(E9=3,'Liste de nom'!$B$4,IF(E9=4,'Liste de nom'!$B$5,IF(E9=5,'Liste de nom'!$B$6,IF(E9=6,'Liste de nom'!$B$7,IF(E9=7,'Liste de nom'!$B$8,IF(E9=8,'Liste de nom'!$B$9,IF(E9=9,'Liste de nom'!$B$10,IF(E9=10,'Liste de nom'!$B$11,"")))))))))) | Q9: =IF(F9=1,'Liste de nom'!$B$2,IF(F9=2,'Liste de nom'!$B$3,IF(F9=3,'Liste de nom'!$B$4,IF(F9=4,'Liste de nom'!$B$5,IF(F9=5,'Liste de nom'!$B$6,IF(F9=6,'Liste de nom'!$B$7,IF(F9=7,'Liste de nom'!$B$8,IF(F9=8,'Liste de nom'!$B$9,IF(F9=9,'Liste de nom'!$B$10,IF(F9=10,'Liste de nom'!$B$11,"")))))))))) | R9: =IF(G9=1,'Liste de nom'!$B$2,IF(G9=2,'Liste de nom'!$B$3,IF(G9=3,'Liste de nom'!$B$4,IF(G9=4,'Liste de nom'!$B$5,IF(G9=5,'Liste de nom'!$B$6,IF(G9=6,'Liste de nom'!$B$7,IF(G9=7,'Liste de nom'!$B$8,IF(G9=8,'Liste de nom'!$B$9,IF(G9=9,'Liste de nom'!$B$10,IF(G9=10,'Liste de nom'!$B$11,""))))))))))
A10: 2015 | B10: 9 | C10: 42063 | D10: ='Liste de nom'!$B$6 -> nom5 | E10: ='Liste de nom'!$B$8 -> nom7 | F10: ='Liste de nom'!$B$10 -> nom9 | G10: ='Liste de nom'!$B$3 -> nom2 | O10: =IF(D10=1,'Liste de nom'!$B$2,IF(D10=2,'Liste de nom'!$B$3,IF(D10=3,'Liste de nom'!$B$4,IF(D10=4,'Liste de nom'!$B$5,IF(D10=5,'Liste de nom'!$B$6,IF(D10=6,'Liste de nom'!$B$7,IF(D10=7,'Liste de nom'!$B$8,IF(D10=8,'Liste de nom'!$B$9,IF(D10=9,'Liste de nom'!$B$10,IF(D10=10,'Liste de nom'!$B$11,"")))))))))) | P10: =IF(E10=1,'Liste de nom'!$B$2,IF(E10=2,'Liste de nom'!$B$3,IF(E10=3,'Liste de nom'!$B$4,IF(E10=4,'Liste de nom'!$B$5,IF(E10=5,'Liste de nom'!$B$6,IF(E10=6,'Liste de nom'!$B$7,IF(E10=7,'Liste de nom'!$B$8,IF(E10=8,'Liste de nom'!$B$9,IF(E10=9,'Liste de nom'!$B$10,IF(E10=10,'Liste de nom'!$B$11,"")))))))))) | Q10: =IF(F10=1,'Liste de nom'!$B$2,IF(F10=2,'Liste de nom'!$B$3,IF(F10=3,'Liste de nom'!$B$4,IF(F10=4,'Liste de nom'!$B$5,IF(F10=5,'Liste de nom'!$B$6,IF(F10=6,'Liste de nom'!$B$7,IF(F10=7,'Liste de nom'!$B$8,IF(F10=8,'Liste de nom'!$B$9,IF(F10=9,'Liste de nom'!$B$10,IF(F10=10,'Liste de nom'!$B$11,"")))))))))) | R10: =IF(G10=1,'Liste de nom'!$B$2,IF(G10=2,'Liste de nom'!$B$3,IF(G10=3,'Liste de nom'!$B$4,IF(G10=4,'Liste de nom'!$B$5,IF(G10=5,'Liste de nom'!$B$6,IF(G10=6,'Liste de nom'!$B$7,IF(G10=7,'Liste de nom'!$B$8,IF(G10=8,'Liste de nom'!$B$9,IF(G10=9,'Liste de nom'!$B$10,IF(G10=10,'Liste de nom'!$B$11,""))))))))))
A11: 2015 | B11: 10 | C11: 42070 | D11: ='Liste de nom'!$B$5 -> nom4 | E11: ='Liste de nom'!$B$7 -> nom6 | F11: ='Liste de nom'!$B$9 -> nom8 | G11: ='Liste de nom'!$B$11 -> nom10 | O11: =IF(D11=1,'Liste de nom'!$B$2,IF(D11=2,'Liste de nom'!$B$3,IF(D11=3,'Liste de nom'!$B$4,IF(D11=4,'Liste de nom'!$B$5,IF(D11=5,'Liste de nom'!$B$6,IF(D11=6,'Liste de nom'!$B$7,IF(D11=7,'Liste de nom'!$B$8,IF(D11=8,'Liste de nom'!$B$9,IF(D11=9,'Liste de nom'!$B$10,IF(D11=10,'Liste de nom'!$B$11,"")))))))))) | P11: =IF(E11=1,'Liste de nom'!$B$2,IF(E11=2,'Liste de nom'!$B$3,IF(E11=3,'Liste de nom'!$B$4,IF(E11=4,'Liste de nom'!$B$5,IF(E11=5,'Liste de nom'!$B$6,IF(E11=6,'Liste de nom'!$B$7,IF(E11=7,'Liste de nom'!$B$8,IF(E11=8,'Liste de nom'!$B$9,IF(E11=9,'Liste de nom'!$B$10,IF(E11=10,'Liste de nom'!$B$11,"")))))))))) | Q11: =IF(F11=1,'Liste de nom'!$B$2,IF(F11=2,'Liste de nom'!$B$3,IF(F11=3,'Liste de nom'!$B$4,IF(F11=4,'Liste de nom'!$B$5,IF(F11=5,'Liste de nom'!$B$6,IF(F11=6,'Liste de nom'!$B$7,IF(F11=7,'Liste de nom'!$B$8,IF(F11=8,'Liste de nom'!$B$9,IF(F11=9,'Liste de nom'!$B$10,IF(F11=10,'Liste de nom'!$B$11,"")))))))))) | R11: =IF(G11=1,'Liste de nom'!$B$2,IF(G11=2,'Liste de nom'!$B$3,IF(G11=3,'Liste de nom'!$B$4,IF(G11=4,'Liste de nom'!$B$5,IF(G11=5,'Liste de nom'!$B$6,IF(G11=6,'Liste de nom'!$B$7,IF(G11=7,'Liste de nom'!$B$8,IF(G11=8,'Liste de nom'!$B$9,IF(G11=9,'Liste de nom'!$B$10,IF(G11=10,'Liste de nom'!$B$11,""))))))))))
A12: 2015 | B12: 11 | C12: 42077 | D12: ='Liste de nom'!$B$3 -> nom2 | E12: ='Liste de nom'!$B$4 -> nom3 | F12: ='Liste de nom'!$B$7 -> nom6 | G12: ='Liste de nom'!$B$8 -> nom7 | O12: =IF(D12=1,'Liste de nom'!$B$2,IF(D12=2,'Liste de nom'!$B$3,IF(D12=3,'Liste de nom'!$B$4,IF(D12=4,'Liste de nom'!$B$5,IF(D12=5,'Liste de nom'!$B$6,IF(D12=6,'Liste de nom'!$B$7,IF(D12=7,'Liste de nom'!$B$8,IF(D12=8,'Liste de nom'!$B$9,IF(D12=9,'Liste de nom'!$B$10,IF(D12=10,'Liste de nom'!$B$11,"")))))))))) | P12: =IF(E12=1,'Liste de nom'!$B$2,IF(E12=2,'Liste de nom'!$B$3,IF(E12=3,'Liste de nom'!$B$4,IF(E12=4,'Liste de nom'!$B$5,IF(E12=5,'Liste de nom'!$B$6,IF(E12=6,'Liste de nom'!$B$7,IF(E12=7,'Liste de nom'!$B$8,IF(E12=8,'Liste de nom'!$B$9,IF(E12=9,'Liste de nom'!$B$10,IF(E12=10,'Liste de nom'!$B$11,"")))))))))) | Q12: =IF(F12=1,'Liste de nom'!$B$2,IF(F12=2,'Liste de nom'!$B$3,IF(F12=3,'Liste de nom'!$B$4,IF(F12=4,'Liste de nom'!$B$5,IF(F12=5,'Liste de nom'!$B$6,IF(F12=6,'Liste de nom'!$B$7,IF(F12=7,'Liste de nom'!$B$8,IF(F12=8,'Liste de nom'!$B$9,IF(F12=9,'Liste de nom'!$B$10,IF(F12=10,'Liste de nom'!$B$11,"")))))))))) | R12: =IF(G12=1,'Liste de nom'!$B$2,IF(G12=2,'Liste de nom'!$B$3,IF(G12=3,'Liste de nom'!$B$4,IF(G12=4,'Liste de nom'!$B$5,IF(G12=5,'Liste de nom'!$B$6,IF(G12=6,'Liste de nom'!$B$7,IF(G12=7,'Liste de nom'!$B$8,IF(G12=8,'Liste de nom'!$B$9,IF(G12=9,'Liste de nom'!$B$10,IF(G12=10,'Liste de nom'!$B$11,""))))))))))
A13: 2015 | B13: 12 | C13: 42084 | D13: ='Liste de nom'!$B$5 -> nom4 | E13: ='Liste de nom'!$B$6 -> nom5 | F13: ='Liste de nom'!$B$9 -> nom8 | G13: ='Liste de nom'!$B$10 -> nom9 | O13: =IF(D13=1,'Liste de nom'!$B$2,IF(D13=2,'Liste de nom'!$B$3,IF(D13=3,'Liste de nom'!$B$4,IF(D13=4,'Liste de nom'!$B$5,IF(D13=5,'Liste de nom'!$B$6,IF(D13=6,'Liste de nom'!$B$7,IF(D13=7,'Liste de nom'!$B$8,IF(D13=8,'Liste de nom'!$B$9,IF(D13=9,'Liste de nom'!$B$10,IF(D13=10,'Liste de nom'!$B$11,"")))))))))) | P13: =IF(E13=1,'Liste de nom'!$B$2,IF(E13=2,'Liste de nom'!$B$3,IF(E13=3,'Liste de nom'!$B$4,IF(E13=4,'Liste de nom'!$B$5,IF(E13=5,'Liste de nom'!$B$6,IF(E13=6,'Liste de nom'!$B$7,IF(E13=7,'Liste de nom'!$B$8,IF(E13=8,'Liste de nom'!$B$9,IF(E13=9,'Liste de nom'!$B$10,IF(E13=10,'Liste de nom'!$B$11,"")))))))))) | Q13: =IF(F13=1,'Liste de nom'!$B$2,IF(F13=2,'Liste de nom'!$B$3,IF(F13=3,'Liste de nom'!$B$4,IF(F13=4,'Liste de nom'!$B$5,IF(F13=5,'Liste de nom'!$B$6,IF(F13=6,'Liste de nom'!$B$7,IF(F13=7,'Liste de nom'!$B$8,IF(F13=8,'Liste de nom'!$B$9,IF(F13=9,'Liste de nom'!$B$10,IF(F13=10,'Liste de nom'!$B$11,"")))))))))) | R13: =IF(G13=1,'Liste de nom'!$B$2,IF(G13=2,'Liste de nom'!$B$3,IF(G13=3,'Liste de nom'!$B$4,IF(G13=4,'Liste de nom'!$B$5,IF(G13=5,'Liste de nom'!$B$6,IF(G13=6,'Liste de nom'!$B$7,IF(G13=7,'Liste de nom'!$B$8,IF(G13=8,'Liste de nom'!$B$9,IF(G13=9,'Liste de nom'!$B$10,IF(G13=10,'Liste de nom'!$B$11,""))))))))))
A14: 2015 | B14: 13 | C14: 42091 | D14: ='Liste de nom'!$B$11 -> nom10 | E14: ='Liste de nom'!$B$2 -> nom1 | F14: ='Liste de nom'!$B$3 -> nom2 | G14: ='Liste de nom'!$B$4 -> nom3 | O14: =IF(D14=1,'Liste de nom'!$B$2,IF(D14=2,'Liste de nom'!$B$3,IF(D14=3,'Liste de nom'!$B$4,IF(D14=4,'Liste de nom'!$B$5,IF(D14=5,'Liste de nom'!$B$6,IF(D14=6,'Liste de nom'!$B$7,IF(D14=7,'Liste de nom'!$B$8,IF(D14=8,'Liste de nom'!$B$9,IF(D14=9,'Liste de nom'!$B$10,IF(D14=10,'Liste de nom'!$B$11,"")))))))))) | P14: =IF(E14=1,'Liste de nom'!$B$2,IF(E14=2,'Liste de nom'!$B$3,IF(E14=3,'Liste de nom'!$B$4,IF(E14=4,'Liste de nom'!$B$5,IF(E14=5,'Liste de nom'!$B$6,IF(E14=6,'Liste de nom'!$B$7,IF(E14=7,'Liste de nom'!$B$8,IF(E14=8,'Liste de nom'!$B$9,IF(E14=9,'Liste de nom'!$B$10,IF(E14=10,'Liste de nom'!$B$11,"")))))))))) | Q14: =IF(F14=1,'Liste de nom'!$B$2,IF(F14=2,'Liste de nom'!$B$3,IF(F14=3,'Liste de nom'!$B$4,IF(F14=4,'Liste de nom'!$B$5,IF(F14=5,'Liste de nom'!$B$6,IF(F14=6,'Liste de nom'!$B$7,IF(F14=7,'Liste de nom'!$B$8,IF(F14=8,'Liste de nom'!$B$9,IF(F14=9,'Liste de nom'!$B$10,IF(F14=10,'Liste de nom'!$B$11,"")))))))))) | R14: =IF(G14=1,'Liste de nom'!$B$2,IF(G14=2,'Liste de nom'!$B$3,IF(G14=3,'Liste de nom'!$B$4,IF(G14=4,'Liste de nom'!$B$5,IF(G14=5,'Liste de nom'!$B$6,IF(G14=6,'Liste de nom'!$B$7,IF(G14=7,'Liste de nom'!$B$8,IF(G14=8,'Liste de nom'!$B$9,IF(G14=9,'Liste de nom'!$B$10,IF(G14=10,'Liste de nom'!$B$11,""))))))))))
A15: 2015 | B15: 14 | C15: 42098 | D15: ='Liste de nom'!$B$7 -> nom6 | E15: ='Liste de nom'!$B$8 -> nom7 | F15: ='Liste de nom'!$B$5 -> nom4 | G15: ='Liste de nom'!$B$6 -> nom5 | O15: =IF(D15=1,'Liste de nom'!$B$2,IF(D15=2,'Liste de nom'!$B$3,IF(D15=3,'Liste de nom'!$B$4,IF(D15=4,'Liste de nom'!$B$5,IF(D15=5,'Liste de nom'!$B$6,IF(D15=6,'Liste de nom'!$B$7,IF(D15=7,'Liste de nom'!$B$8,IF(D15=8,'Liste de nom'!$B$9,IF(D15=9,'Liste de nom'!$B$10,IF(D15=10,'Liste de nom'!$B$11,"")))))))))) | P15: =IF(E15=1,'Liste de nom'!$B$2,IF(E15=2,'Liste de nom'!$B$3,IF(E15=3,'Liste de nom'!$B$4,IF(E15=4,'Liste de nom'!$B$5,IF(E15=5,'Liste de nom'!$B$6,IF(E15=6,'Liste de nom'!$B$7,IF(E15=7,'Liste de nom'!$B$8,IF(E15=8,'Liste de nom'!$B$9,IF(E15=9,'Liste de nom'!$B$10,IF(E15=10,'Liste de nom'!$B$11,"")))))))))) | Q15: =IF(F15=1,'Liste de nom'!$B$2,IF(F15=2,'Liste de nom'!$B$3,IF(F15=3,'Liste de nom'!$B$4,IF(F15=4,'Liste de nom'!$B$5,IF(F15=5,'Liste de nom'!$B$6,IF(F15=6,'Liste de nom'!$B$7,IF(F15=7,'Liste de nom'!$B$8,IF(F15=8,'Liste de nom'!$B$9,IF(F15=9,'Liste de nom'!$B$10,IF(F15=10,'Liste de nom'!$B$11,"")))))))))) | R15: =IF(G15=1,'Liste de nom'!$B$2,IF(G15=2,'Liste de nom'!$B$3,IF(G15=3,'Liste de nom'!$B$4,IF(G15=4,'Liste de nom'!$B$5,IF(G15=5,'Liste de nom'!$B$6,IF(G15=6,'Liste de nom'!$B$7,IF(G15=7,'Liste de nom'!$B$8,IF(G15=8,'Liste de nom'!$B$9,IF(G15=9,'Liste de nom'!$B$10,IF(G15=10,'Liste de nom'!$B$11,""))))))))))
A16: 2015 | B16: 15 | C16: 42105 | D16: ='Liste de nom'!$B$9 -> nom8 | E16: ='Liste de nom'!$B$10 -> nom9 | F16: ='Liste de nom'!$B$11 -> nom10 | G16: ='Liste de nom'!$B$2 -> nom1 | O16: =IF(D16=1,'Liste de nom'!$B$2,IF(D16=2,'Liste de nom'!$B$3,IF(D16=3,'Liste de nom'!$B$4,IF(D16=4,'Liste de nom'!$B$5,IF(D16=5,'Liste de nom'!$B$6,IF(D16=6,'Liste de nom'!$B$7,IF(D16=7,'Liste de nom'!$B$8,IF(D16=8,'Liste de nom'!$B$9,IF(D16=9,'Liste de nom'!$B$10,IF(D16=10,'Liste de nom'!$B$11,"")))))))))) | P16: =IF(E16=1,'Liste de nom'!$B$2,IF(E16=2,'Liste de nom'!$B$3,IF(E16=3,'Liste de nom'!$B$4,IF(E16=4,'Liste de nom'!$B$5,IF(E16=5,'Liste de nom'!$B$6,IF(E16=6,'Liste de nom'!$B$7,IF(E16=7,'Liste de nom'!$B$8,IF(E16=8,'Liste de nom'!$B$9,IF(E16=9,'Liste de nom'!$B$10,IF(E16=10,'Liste de nom'!$B$11,"")))))))))) | Q16: =IF(F16=1,'Liste de nom'!$B$2,IF(F16=2,'Liste de nom'!$B$3,IF(F16=3,'Liste de nom'!$B$4,IF(F16=4,'Liste de nom'!$B$5,IF(F16=5,'Liste de nom'!$B$6,IF(F16=6,'Liste de nom'!$B$7,IF(F16=7,'Liste de nom'!$B$8,IF(F16=8,'Liste de nom'!$B$9,IF(F16=9,'Liste de nom'!$B$10,IF(F16=10,'Liste de nom'!$B$11,"")))))))))) | R16: =IF(G16=1,'Liste de nom'!$B$2,IF(G16=2,'Liste de nom'!$B$3,IF(G16=3,'Liste de nom'!$B$4,IF(G16=4,'Liste de nom'!$B$5,IF(G16=5,'Liste de nom'!$B$6,IF(G16=6,'Liste de nom'!$B$7,IF(G16=7,'Liste de nom'!$B$8,IF(G16=8,'Liste de nom'!$B$9,IF(G16=9,'Liste de nom'!$B$10,IF(G16=10,'Liste de nom'!$B$11,""))))))))))
A17: 2015 | B17: 16 | C17: 42112 | D17: ='Liste de nom'!$B$3 -> nom2 | E17: ='Liste de nom'!$B$5 -> nom4 | F17: ='Liste de nom'!$B$7 -> nom6 | G17: ='Liste de nom'!$B$9 -> nom8 | O17: =IF(D17=1,'Liste de nom'!$B$2,IF(D17=2,'Liste de nom'!$B$3,IF(D17=3,'Liste de nom'!$B$4,IF(D17=4,'Liste de nom'!$B$5,IF(D17=5,'Liste de nom'!$B$6,IF(D17=6,'Liste de nom'!$B$7,IF(D17=7,'Liste de nom'!$B$8,IF(D17=8,'Liste de nom'!$B$9,IF(D17=9,'Liste de nom'!$B$10,IF(D17=10,'Liste de nom'!$B$11,"")))))))))) | P17: =IF(E17=1,'Liste de nom'!$B$2,IF(E17=2,'Liste de nom'!$B$3,IF(E17=3,'Liste de nom'!$B$4,IF(E17=4,'Liste de nom'!$B$5,IF(E17=5,'Liste de nom'!$B$6,IF(E17=6,'Liste de nom'!$B$7,IF(E17=7,'Liste de nom'!$B$8,IF(E17=8,'Liste de nom'!$B$9,IF(E17=9,'Liste de nom'!$B$10,IF(E17=10,'Liste de nom'!$B$11,"")))))))))) | Q17: =IF(F17=1,'Liste de nom'!$B$2,IF(F17=2,'Liste de nom'!$B$3,IF(F17=3,'Liste de nom'!$B$4,IF(F17=4,'Liste de nom'!$B$5,IF(F17=5,'Liste de nom'!$B$6,IF(F17=6,'Liste de nom'!$B$7,IF(F17=7,'Liste de nom'!$B$8,IF(F17=8,'Liste de nom'!$B$9,IF(F17=9,'Liste de nom'!$B$10,IF(F17=10,'Liste de nom'!$B$11,"")))))))))) | R17: =IF(G17=1,'Liste de nom'!$B$2,IF(G17=2,'Liste de nom'!$B$3,IF(G17=3,'Liste de nom'!$B$4,IF(G17=4,'Liste de nom'!$B$5,IF(G17=5,'Liste de nom'!$B$6,IF(G17=6,'Liste de nom'!$B$7,IF(G17=7,'Liste de nom'!$B$8,IF(G17=8,'Liste de nom'!$B$9,IF(G17=9,'Liste de nom'!$B$10,IF(G17=10,'Liste de nom'!$B$11,""))))))))))
A18: 2015 | B18: 17 | C18: 42119 | D18: ='Liste de nom'!$B$11 -> nom10 | E18: ='Liste de nom'!$B$2 -> nom1 | F18: ='Liste de nom'!$B$4 -> nom3 | G18: ='Liste de nom'!$B$6 -> nom5 | O18: =IF(D18=1,'Liste de nom'!$B$2,IF(D18=2,'Liste de nom'!$B$3,IF(D18=3,'Liste de nom'!$B$4,IF(D18=4,'Liste de nom'!$B$5,IF(D18=5,'Liste de nom'!$B$6,IF(D18=6,'Liste de nom'!$B$7,IF(D18=7,'Liste de nom'!$B$8,IF(D18=8,'Liste de nom'!$B$9,IF(D18=9,'Liste de nom'!$B$10,IF(D18=10,'Liste de nom'!$B$11,"")))))))))) | P18: =IF(E18=1,'Liste de nom'!$B$2,IF(E18=2,'Liste de nom'!$B$3,IF(E18=3,'Liste de nom'!$B$4,IF(E18=4,'Liste de nom'!$B$5,IF(E18=5,'Liste de nom'!$B$6,IF(E18=6,'Liste de nom'!$B$7,IF(E18=7,'Liste de nom'!$B$8,IF(E18=8,'Liste de nom'!$B$9,IF(E18=9,'Liste de nom'!$B$10,IF(E18=10,'Liste de nom'!$B$11,"")))))))))) | Q18: =IF(F18=1,'Liste de nom'!$B$2,IF(F18=2,'Liste de nom'!$B$3,IF(F18=3,'Liste de nom'!$B$4,IF(F18=4,'Liste de nom'!$B$5,IF(F18=5,'Liste de nom'!$B$6,IF(F18=6,'Liste de nom'!$B$7,IF(F18=7,'Liste de nom'!$B$8,IF(F18=8,'Liste de nom'!$B$9,IF(F18=9,'Liste de nom'!$B$10,IF(F18=10,'Liste de nom'!$B$11,"")))))))))) | R18: =IF(G18=1,'Liste de nom'!$B$2,IF(G18=2,'Liste de nom'!$B$3,IF(G18=3,'Liste de nom'!$B$4,IF(G18=4,'Liste de nom'!$B$5,IF(G18=5,'Liste de nom'!$B$6,IF(G18=6,'Liste de nom'!$B$7,IF(G18=7,'Liste de nom'!$B$8,IF(G18=8,'Liste de nom'!$B$9,IF(G18=9,'Liste de nom'!$B$10,IF(G18=10,'Liste de nom'!$B$11,""))))))))))
A19: 2015 | B19: 18 | C19: 42126 | D19: ='Liste de nom'!$B$8 -> nom7 | E19: ='Liste de nom'!$B$10 -> nom9 | F19: ='Liste de nom'!$B$3 -> nom2 | G19: ='Liste de nom'!$B$5 -> nom4 | O19: =IF(D19=1,'Liste de nom'!$B$2,IF(D19=2,'Liste de nom'!$B$3,IF(D19=3,'Liste de nom'!$B$4,IF(D19=4,'Liste de nom'!$B$5,IF(D19=5,'Liste de nom'!$B$6,IF(D19=6,'Liste de nom'!$B$7,IF(D19=7,'Liste de nom'!$B$8,IF(D19=8,'Liste de nom'!$B$9,IF(D19=9,'Liste de nom'!$B$10,IF(D19=10,'Liste de nom'!$B$11,"")))))))))) | P19: =IF(E19=1,'Liste de nom'!$B$2,IF(E19=2,'Liste de nom'!$B$3,IF(E19=3,'Liste de nom'!$B$4,IF(E19=4,'Liste de nom'!$B$5,IF(E19=5,'Liste de nom'!$B$6,IF(E19=6,'Liste de nom'!$B$7,IF(E19=7,'Liste de nom'!$B$8,IF(E19=8,'Liste de nom'!$B$9,IF(E19=9,'Liste de nom'!$B$10,IF(E19=10,'Liste de nom'!$B$11,"")))))))))) | Q19: =IF(F19=1,'Liste de nom'!$B$2,IF(F19=2,'Liste de nom'!$B$3,IF(F19=3,'Liste de nom'!$B$4,IF(F19=4,'Liste de nom'!$B$5,IF(F19=5,'Liste de nom'!$B$6,IF(F19=6,'Liste de nom'!$B$7,IF(F19=7,'Liste de nom'!$B$8,IF(F19=8,'Liste de nom'!$B$9,IF(F19=9,'Liste de nom'!$B$10,IF(F19=10,'Liste de nom'!$B$11,"")))))))))) | R19: =IF(G19=1,'Liste de nom'!$B$2,IF(G19=2,'Liste de nom'!$B$3,IF(G19=3,'Liste de nom'!$B$4,IF(G19=4,'Liste de nom'!$B$5,IF(G19=5,'Liste de nom'!$B$6,IF(G19=6,'Liste de nom'!$B$7,IF(G19=7,'Liste de nom'!$B$8,IF(G19=8,'Liste de nom'!$B$9,IF(G19=9,'Liste de nom'!$B$10,IF(G19=10,'Liste de nom'!$B$11,""))))))))))
A20: 2015 | B20: 19 | C20: 42133 | D20: ='Liste de nom'!$B$7 -> nom6 | E20: ='Liste de nom'!$B$9 -> nom8 | F20: ='Liste de nom'!$B$11 -> nom10 | G20: ='Liste de nom'!$B$2 -> nom1 | O20: =IF(D20=1,'Liste de nom'!$B$2,IF(D20=2,'Liste de nom'!$B$3,IF(D20=3,'Liste de nom'!$B$4,IF(D20=4,'Liste de nom'!$B$5,IF(D20=5,'Liste de nom'!$B$6,IF(D20=6,'Liste de nom'!$B$7,IF(D20=7,'Liste de nom'!$B$8,IF(D20=8,'Liste de nom'!$B$9,IF(D20=9,'Liste de nom'!$B$10,IF(D20=10,'Liste de nom'!$B$11,"")))))))))) | P20: =IF(E20=1,'Liste de nom'!$B$2,IF(E20=2,'Liste de nom'!$B$3,IF(E20=3,'Liste de nom'!$B$4,IF(E20=4,'Liste de nom'!$B$5,IF(E20=5,'Liste de nom'!$B$6,IF(E20=6,'Liste de nom'!$B$7,IF(E20=7,'Liste de nom'!$B$8,IF(E20=8,'Liste de nom'!$B$9,IF(E20=9,'Liste de nom'!$B$10,IF(E20=10,'Liste de nom'!$B$11,"")))))))))) | Q20: =IF(F20=1,'Liste de nom'!$B$2,IF(F20=2,'Liste de nom'!$B$3,IF(F20=3,'Liste de nom'!$B$4,IF(F20=4,'Liste de nom'!$B$5,IF(F20=5,'Liste de nom'!$B$6,IF(F20=6,'Liste de nom'!$B$7,IF(F20=7,'Liste de nom'!$B$8,IF(F20=8,'Liste de nom'!$B$9,IF(F20=9,'Liste de nom'!$B$10,IF(F20=10,'Liste de nom'!$B$11,"")))))))))) | R20: =IF(G20=1,'Liste de nom'!$B$2,IF(G20=2,'Liste de nom'!$B$3,IF(G20=3,'Liste de nom'!$B$4,IF(G20=4,'Liste de nom'!$B$5,IF(G20=5,'Liste de nom'!$B$6,IF(G20=6,'Liste de nom'!$B$7,IF(G20=7,'Liste de nom'!$B$8,IF(G20=8,'Liste de nom'!$B$9,IF(G20=9,'Liste de nom'!$B$10,IF(G20=10,'Liste de nom'!$B$11,""))))))))))
A21: 2015 | B21: 20 | C21: 42140 | D21: ='Liste de nom'!$B$4 -> nom3 | E21: ='Liste de nom'!$B$6 -> nom5 | F21: ='Liste de nom'!$B$8 -> nom7 | G21: ='Liste de nom'!$B$10 -> nom9 | O21: =IF(D21=1,'Liste de nom'!$B$2,IF(D21=2,'Liste de nom'!$B$3,IF(D21=3,'Liste de nom'!$B$4,IF(D21=4,'Liste de nom'!$B$5,IF(D21=5,'Liste de nom'!$B$6,IF(D21=6,'Liste de nom'!$B$7,IF(D21=7,'Liste de nom'!$B$8,IF(D21=8,'Liste de nom'!$B$9,IF(D21=9,'Liste de nom'!$B$10,IF(D21=10,'Liste de nom'!$B$11,"")))))))))) | P21: =IF(E21=1,'Liste de nom'!$B$2,IF(E21=2,'Liste de nom'!$B$3,IF(E21=3,'Liste de nom'!$B$4,IF(E21=4,'Liste de nom'!$B$5,IF(E21=5,'Liste de nom'!$B$6,IF(E21=6,'Liste de nom'!$B$7,IF(E21=7,'Liste de nom'!$B$8,IF(E21=8,'Liste de nom'!$B$9,IF(E21=9,'Liste de nom'!$B$10,IF(E21=10,'Liste de nom'!$B$11,"")))))))))) | Q21: =IF(F21=1,'Liste de nom'!$B$2,IF(F21=2,'Liste de nom'!$B$3,IF(F21=3,'Liste de nom'!$B$4,IF(F21=4,'Liste de nom'!$B$5,IF(F21=5,'Liste de nom'!$B$6,IF(F21=6,'Liste de nom'!$B$7,IF(F21=7,'Liste de nom'!$B$8,IF(F21=8,'Liste de nom'!$B$9,IF(F21=9,'Liste de nom'!$B$10,IF(F21=10,'Liste de nom'!$B$11,"")))))))))) | R21: =IF(G21=1,'Liste de nom'!$B$2,IF(G21=2,'Liste de nom'!$B$3,IF(G21=3,'Liste de nom'!$B$4,IF(G21=4,'Liste de nom'!$B$5,IF(G21=5,'Liste de nom'!$B$6,IF(G21=6,'Liste de nom'!$B$7,IF(G21=7,'Liste de nom'!$B$8,IF(G21=8,'Liste de nom'!$B$9,IF(G21=9,'Liste de nom'!$B$10,IF(G21=10,'Liste de nom'!$B$11,""))))))))))
A22: 2015 | B22: 21 | C22: 42147 | D22: ='Liste de nom'!$B$11 -> nom10 | E22: ='Liste de nom'!$B$9 -> nom8 | F22: ='Liste de nom'!$B$7 -> nom6 | G22: ='Liste de nom'!$B$5 -> nom4 | O22: =IF(D22=1,'Liste de nom'!$B$2,IF(D22=2,'Liste de nom'!$B$3,IF(D22=3,'Liste de nom'!$B$4,IF(D22=4,'Liste de nom'!$B$5,IF(D22=5,'Liste de nom'!$B$6,IF(D22=6,'Liste de nom'!$B$7,IF(D22=7,'Liste de nom'!$B$8,IF(D22=8,'Liste de nom'!$B$9,IF(D22=9,'Liste de nom'!$B$10,IF(D22=10,'Liste de nom'!$B$11,"")))))))))) | P22: =IF(E22=1,'Liste de nom'!$B$2,IF(E22=2,'Liste de nom'!$B$3,IF(E22=3,'Liste de nom'!$B$4,IF(E22=4,'Liste de nom'!$B$5,IF(E22=5,'Liste de nom'!$B$6,IF(E22=6,'Liste de nom'!$B$7,IF(E22=7,'Liste de nom'!$B$8,IF(E22=8,'Liste de nom'!$B$9,IF(E22=9,'Liste de nom'!$B$10,IF(E22=10,'Liste de nom'!$B$11,"")))))))))) | Q22: =IF(F22=1,'Liste de nom'!$B$2,IF(F22=2,'Liste de nom'!$B$3,IF(F22=3,'Liste de nom'!$B$4,IF(F22=4,'Liste de nom'!$B$5,IF(F22=5,'Liste de nom'!$B$6,IF(F22=6,'Liste de nom'!$B$7,IF(F22=7,'Liste de nom'!$B$8,IF(F22=8,'Liste de nom'!$B$9,IF(F22=9,'Liste de nom'!$B$10,IF(F22=10,'Liste de nom'!$B$11,"")))))))))) | R22: =IF(G22=1,'Liste de nom'!$B$2,IF(G22=2,'Liste de nom'!$B$3,IF(G22=3,'Liste de nom'!$B$4,IF(G22=4,'Liste de nom'!$B$5,IF(G22=5,'Liste de nom'!$B$6,IF(G22=6,'Liste de nom'!$B$7,IF(G22=7,'Liste de nom'!$B$8,IF(G22=8,'Liste de nom'!$B$9,IF(G22=9,'Liste de nom'!$B$10,IF(G22=10,'Liste de nom'!$B$11,""))))))))))
A23: 2015 | B23: 22 | C23: 42154 | D23: ='Liste de nom'!$B$3 -> nom2 | E23: ='Liste de nom'!$B$10 -> nom9 | F23: ='Liste de nom'!$B$2 -> nom1 | G23: ='Liste de nom'!$B$4 -> nom3 | O23: =IF(D23=1,'Liste de nom'!$B$2,IF(D23=2,'Liste de nom'!$B$3,IF(D23=3,'Liste de nom'!$B$4,IF(D23=4,'Liste de nom'!$B$5,IF(D23=5,'Liste de nom'!$B$6,IF(D23=6,'Liste de nom'!$B$7,IF(D23=7,'Liste de nom'!$B$8,IF(D23=8,'Liste de nom'!$B$9,IF(D23=9,'Liste de nom'!$B$10,IF(D23=10,'Liste de nom'!$B$11,"")))))))))) | P23: =IF(E23=1,'Liste de nom'!$B$2,IF(E23=2,'Liste de nom'!$B$3,IF(E23=3,'Liste de nom'!$B$4,IF(E23=4,'Liste de nom'!$B$5,IF(E23=5,'Liste de nom'!$B$6,IF(E23=6,'Liste de nom'!$B$7,IF(E23=7,'Liste de nom'!$B$8,IF(E23=8,'Liste de nom'!$B$9,IF(E23=9,'Liste de nom'!$B$10,IF(E23=10,'Liste de nom'!$B$11,"")))))))))) | Q23: =IF(F23=1,'Liste de nom'!$B$2,IF(F23=2,'Liste de nom'!$B$3,IF(F23=3,'Liste de nom'!$B$4,IF(F23=4,'Liste de nom'!$B$5,IF(F23=5,'Liste de nom'!$B$6,IF(F23=6,'Liste de nom'!$B$7,IF(F23=7,'Liste de nom'!$B$8,IF(F23=8,'Liste de nom'!$B$9,IF(F23=9,'Liste de nom'!$B$10,IF(F23=10,'Liste de nom'!$B$11,"")))))))))) | R23: =IF(G23=1,'Liste de nom'!$B$2,IF(G23=2,'Liste de nom'!$B$3,IF(G23=3,'Liste de nom'!$B$4,IF(G23=4,'Liste de nom'!$B$5,IF(G23=5,'Liste de nom'!$B$6,IF(G23=6,'Liste de nom'!$B$7,IF(G23=7,'Liste de nom'!$B$8,IF(G23=8,'Liste de nom'!$B$9,IF(G23=9,'Liste de nom'!$B$10,IF(G23=10,'Liste de nom'!$B$11,""))))))))))
A24: 2015 | B24: 23 | C24: 42161 | D24: ='Liste de nom'!$B$6 -> nom5 | E24: ='Liste de nom'!$B$8 -> nom7 | F24: ='Liste de nom'!$B$11 -> nom10 | G24: ='Liste de nom'!$B$9 -> nom8 | O24: =IF(D24=1,'Liste de nom'!$B$2,IF(D24=2,'Liste de nom'!$B$3,IF(D24=3,'Liste de nom'!$B$4,IF(D24=4,'Liste de nom'!$B$5,IF(D24=5,'Liste de nom'!$B$6,IF(D24=6,'Liste de nom'!$B$7,IF(D24=7,'Liste de nom'!$B$8,IF(D24=8,'Liste de nom'!$B$9,IF(D24=9,'Liste de nom'!$B$10,IF(D24=10,'Liste de nom'!$B$11,"")))))))))) | P24: =IF(E24=1,'Liste de nom'!$B$2,IF(E24=2,'Liste de nom'!$B$3,IF(E24=3,'Liste de nom'!$B$4,IF(E24=4,'Liste de nom'!$B$5,IF(E24=5,'Liste de nom'!$B$6,IF(E24=6,'Liste de nom'!$B$7,IF(E24=7,'Liste de nom'!$B$8,IF(E24=8,'Liste de nom'!$B$9,IF(E24=9,'Liste de nom'!$B$10,IF(E24=10,'Liste de nom'!$B$11,"")))))))))) | Q24: =IF(F24=1,'Liste de nom'!$B$2,IF(F24=2,'Liste de nom'!$B$3,IF(F24=3,'Liste de nom'!$B$4,IF(F24=4,'Liste de nom'!$B$5,IF(F24=5,'Liste de nom'!$B$6,IF(F24=6,'Liste de nom'!$B$7,IF(F24=7,'Liste de nom'!$B$8,IF(F24=8,'Liste de nom'!$B$9,IF(F24=9,'Liste de nom'!$B$10,IF(F24=10,'Liste de nom'!$B$11,"")))))))))) | R24: =IF(G24=1,'Liste de nom'!$B$2,IF(G24=2,'Liste de nom'!$B$3,IF(G24=3,'Liste de nom'!$B$4,IF(G24=4,'Liste de nom'!$B$5,IF(G24=5,'Liste de nom'!$B$6,IF(G24=6,'Liste de nom'!$B$7,IF(G24=7,'Liste de nom'!$B$8,IF(G24=8,'Liste de nom'!$B$9,IF(G24=9,'Liste de nom'!$B$10,IF(G24=10,'Liste de nom'!$B$11,""))))))))))
A25: 2015 | B25: 24 | C25: 42168 | D25: ='Liste de nom'!$B$7 -> nom6 | E25: ='Liste de nom'!$B$5 -> nom4 | F25: ='Liste de nom'!$B$3 -> nom2 | G25: ='Liste de nom'!$B$10 -> nom9 | O25: =IF(D25=1,'Liste de nom'!$B$2,IF(D25=2,'Liste de nom'!$B$3,IF(D25=3,'Liste de nom'!$B$4,IF(D25=4,'Liste de nom'!$B$5,IF(D25=5,'Liste de nom'!$B$6,IF(D25=6,'Liste de nom'!$B$7,IF(D25=7,'Liste de nom'!$B$8,IF(D25=8,'Liste de nom'!$B$9,IF(D25=9,'Liste de nom'!$B$10,IF(D25=10,'Liste de nom'!$B$11,"")))))))))) | P25: =IF(E25=1,'Liste de nom'!$B$2,IF(E25=2,'Liste de nom'!$B$3,IF(E25=3,'Liste de nom'!$B$4,IF(E25=4,'Liste de nom'!$B$5,IF(E25=5,'Liste de nom'!$B$6,IF(E25=6,'Liste de nom'!$B$7,IF(E25=7,'Liste de nom'!$B$8,IF(E25=8,'Liste de nom'!$B$9,IF(E25=9,'Liste de nom'!$B$10,IF(E25=10,'Liste de nom'!$B$11,"")))))))))) | Q25: =IF(F25=1,'Liste de nom'!$B$2,IF(F25=2,'Liste de nom'!$B$3,IF(F25=3,'Liste de nom'!$B$4,IF(F25=4,'Liste de nom'!$B$5,IF(F25=5,'Liste de nom'!$B$6,IF(F25=6,'Liste de nom'!$B$7,IF(F25=7,'Liste de nom'!$B$8,IF(F25=8,'Liste de nom'!$B$9,IF(F25=9,'Liste de nom'!$B$10,IF(F25=10,'Liste de nom'!$B$11,"")))))))))) | R25: =IF(G25=1,'Liste de nom'!$B$2,IF(G25=2,'Liste de nom'!$B$3,IF(G25=3,'Liste de nom'!$B$4,IF(G25=4,'Liste de nom'!$B$5,IF(G25=5,'Liste de nom'!$B$6,IF(G25=6,'Liste de nom'!$B$7,IF(G25=7,'Liste de nom'!$B$8,IF(G25=8,'Liste de nom'!$B$9,IF(G25=9,'Liste de nom'!$B$10,IF(G25=10,'Liste de nom'!$B$11,""))))))))))
A26: 2015 | B26: 25 | C26: 42175 | D26: ='Liste de nom'!$B$2 -> nom1 | E26: ='Liste de nom'!$B$4 -> nom3 | F26: ='Liste de nom'!$B$6 -> nom5 | G26: ='Liste de nom'!$B$8 -> nom7 | O26: =IF(D26=1,'Liste de nom'!$B$2,IF(D26=2,'Liste de nom'!$B$3,IF(D26=3,'Liste de nom'!$B$4,IF(D26=4,'Liste de nom'!$B$5,IF(D26=5,'Liste de nom'!$B$6,IF(D26=6,'Liste de nom'!$B$7,IF(D26=7,'Liste de nom'!$B$8,IF(D26=8,'Liste de nom'!$B$9,IF(D26=9,'Liste de nom'!$B$10,IF(D26=10,'Liste de nom'!$B$11,"")))))))))) | P26: =IF(E26=1,'Liste de nom'!$B$2,IF(E26=2,'Liste de nom'!$B$3,IF(E26=3,'Liste de nom'!$B$4,IF(E26=4,'Liste de nom'!$B$5,IF(E26=5,'Liste de nom'!$B$6,IF(E26=6,'Liste de nom'!$B$7,IF(E26=7,'Liste de nom'!$B$8,IF(E26=8,'Liste de nom'!$B$9,IF(E26=9,'Liste de nom'!$B$10,IF(E26=10,'Liste de nom'!$B$11,"")))))))))) | Q26: =IF(F26=1,'Liste de nom'!$B$2,IF(F26=2,'Liste de nom'!$B$3,IF(F26=3,'Liste de nom'!$B$4,IF(F26=4,'Liste de nom'!$B$5,IF(F26=5,'Liste de nom'!$B$6,IF(F26=6,'Liste de nom'!$B$7,IF(F26=7,'Liste de nom'!$B$8,IF(F26=8,'Liste de nom'!$B$9,IF(F26=9,'Liste de nom'!$B$10,IF(F26=10,'Liste de nom'!$B$11,"")))))))))) | R26: =IF(G26=1,'Liste de nom'!$B$2,IF(G26=2,'Liste de nom'!$B$3,IF(G26=3,'Liste de nom'!$B$4,IF(G26=4,'Liste de nom'!$B$5,IF(G26=5,'Liste de nom'!$B$6,IF(G26=6,'Liste de nom'!$B$7,IF(G26=7,'Liste de nom'!$B$8,IF(G26=8,'Liste de nom'!$B$9,IF(G26=9,'Liste de nom'!$B$10,IF(G26=10,'Liste de nom'!$B$11,""))))))))))
A27: 2015 | B27: 26 | C27: 42182 | D27: ='Liste de nom'!$B$11 -> nom10 | E27: ='Liste de nom'!$B$10 -> nom9 | F27: ='Liste de nom'!$B$8 -> nom7 | G27: ='Liste de nom'!$B$7 -> nom6 | O27: =IF(D27=1,'Liste de nom'!$B$2,IF(D27=2,'Liste de nom'!$B$3,IF(D27=3,'Liste de nom'!$B$4,IF(D27=4,'Liste de nom'!$B$5,IF(D27=5,'Liste de nom'!$B$6,IF(D27=6,'Liste de nom'!$B$7,IF(D27=7,'Liste de nom'!$B$8,IF(D27=8,'Liste de nom'!$B$9,IF(D27=9,'Liste de nom'!$B$10,IF(D27=10,'Liste de nom'!$B$11,"")))))))))) | P27: =IF(E27=1,'Liste de nom'!$B$2,IF(E27=2,'Liste de nom'!$B$3,IF(E27=3,'Liste de nom'!$B$4,IF(E27=4,'Liste de nom'!$B$5,IF(E27=5,'Liste de nom'!$B$6,IF(E27=6,'Liste de nom'!$B$7,IF(E27=7,'Liste de nom'!$B$8,IF(E27=8,'Liste de nom'!$B$9,IF(E27=9,'Liste de nom'!$B$10,IF(E27=10,'Liste de nom'!$B$11,"")))))))))) | Q27: =IF(F27=1,'Liste de nom'!$B$2,IF(F27=2,'Liste de nom'!$B$3,IF(F27=3,'Liste de nom'!$B$4,IF(F27=4,'Liste de nom'!$B$5,IF(F27=5,'Liste de nom'!$B$6,IF(F27=6,'Liste de nom'!$B$7,IF(F27=7,'Liste de nom'!$B$8,IF(F27=8,'Liste de nom'!$B$9,IF(F27=9,'Liste de nom'!$B$10,IF(F27=10,'Liste de nom'!$B$11,"")))))))))) | R27: =IF(G27=1,'Liste de nom'!$B$2,IF(G27=2,'Liste de nom'!$B$3,IF(G27=3,'Liste de nom'!$B$4,IF(G27=4,'Liste de nom'!$B$5,IF(G27=5,'Liste de nom'!$B$6,IF(G27=6,'Liste de nom'!$B$7,IF(G27=7,'Liste de nom'!$B$8,IF(G27=8,'Liste de nom'!$B$9,IF(G27=9,'Liste de nom'!$B$10,IF(G27=10,'Liste de nom'!$B$11,""))))))))))
A28: 2015 | B28: 27 | C28: 42189 | D28: ='Liste de nom'!$B$6 -> nom5 | E28: ='Liste de nom'!$B$5 -> nom4 | F28: ='Liste de nom'!$B$3 -> nom2 | G28: ='Liste de nom'!$B$2 -> nom1 | O28: =IF(D28=1,'Liste de nom'!$B$2,IF(D28=2,'Liste de nom'!$B$3,IF(D28=3,'Liste de nom'!$B$4,IF(D28=4,'Liste de nom'!$B$5,IF(D28=5,'Liste de nom'!$B$6,IF(D28=6,'Liste de nom'!$B$7,IF(D28=7,'Liste de nom'!$B$8,IF(D28=8,'Liste de nom'!$B$9,IF(D28=9,'Liste de nom'!$B$10,IF(D28=10,'Liste de nom'!$B$11,"")))))))))) | P28: =IF(E28=1,'Liste de nom'!$B$2,IF(E28=2,'Liste de nom'!$B$3,IF(E28=3,'Liste de nom'!$B$4,IF(E28=4,'Liste de nom'!$B$5,IF(E28=5,'Liste de nom'!$B$6,IF(E28=6,'Liste de nom'!$B$7,IF(E28=7,'Liste de nom'!$B$8,IF(E28=8,'Liste de nom'!$B$9,IF(E28=9,'Liste de nom'!$B$10,IF(E28=10,'Liste de nom'!$B$11,"")))))))))) | Q28: =IF(F28=1,'Liste de nom'!$B$2,IF(F28=2,'Liste de nom'!$B$3,IF(F28=3,'Liste de nom'!$B$4,IF(F28=4,'Liste de nom'!$B$5,IF(F28=5,'Liste de nom'!$B$6,IF(F28=6,'Liste de nom'!$B$7,IF(F28=7,'Liste de nom'!$B$8,IF(F28=8,'Liste de nom'!$B$9,IF(F28=9,'Liste de nom'!$B$10,IF(F28=10,'Liste de nom'!$B$11,"")))))))))) | R28: =IF(G28=1,'Liste de nom'!$B$2,IF(G28=2,'Liste de nom'!$B$3,IF(G28=3,'Liste de nom'!$B$4,IF(G28=4,'Liste de nom'!$B$5,IF(G28=5,'Liste de nom'!$B$6,IF(G28=6,'Liste de nom'!$B$7,IF(G28=7,'Liste de nom'!$B$8,IF(G28=8,'Liste de nom'!$B$9,IF(G28=9,'Liste de nom'!$B$10,IF(G28=10,'Liste de nom'!$B$11,""))))))))))
A29: 2015 | B29: 28 | C29: 42196 | D29: ='Liste de nom'!$B$9 -> nom8 | E29: ='Liste de nom'!$B$4 -> nom3 | F29: ='Liste de nom'!$B$11 -> nom10 | G29: ='Liste de nom'!$B$10 -> nom9 | O29: =IF(D29=1,'Liste de nom'!$B$2,IF(D29=2,'Liste de nom'!$B$3,IF(D29=3,'Liste de nom'!$B$4,IF(D29=4,'Liste de nom'!$B$5,IF(D29=5,'Liste de nom'!$B$6,IF(D29=6,'Liste de nom'!$B$7,IF(D29=7,'Liste de nom'!$B$8,IF(D29=8,'Liste de nom'!$B$9,IF(D29=9,'Liste de nom'!$B$10,IF(D29=10,'Liste de nom'!$B$11,"")))))))))) | P29: =IF(E29=1,'Liste de nom'!$B$2,IF(E29=2,'Liste de nom'!$B$3,IF(E29=3,'Liste de nom'!$B$4,IF(E29=4,'Liste de nom'!$B$5,IF(E29=5,'Liste de nom'!$B$6,IF(E29=6,'Liste de nom'!$B$7,IF(E29=7,'Liste de nom'!$B$8,IF(E29=8,'Liste de nom'!$B$9,IF(E29=9,'Liste de nom'!$B$10,IF(E29=10,'Liste de nom'!$B$11,"")))))))))) | Q29: =IF(F29=1,'Liste de nom'!$B$2,IF(F29=2,'Liste de nom'!$B$3,IF(F29=3,'Liste de nom'!$B$4,IF(F29=4,'Liste de nom'!$B$5,IF(F29=5,'Liste de nom'!$B$6,IF(F29=6,'Liste de nom'!$B$7,IF(F29=7,'Liste de nom'!$B$8,IF(F29=8,'Liste de nom'!$B$9,IF(F29=9,'Liste de nom'!$B$10,IF(F29=10,'Liste de nom'!$B$11,"")))))))))) | R29: =IF(G29=1,'Liste de nom'!$B$2,IF(G29=2,'Liste de nom'!$B$3,IF(G29=3,'Liste de nom'!$B$4,IF(G29=4,'Liste de nom'!$B$5,IF(G29=5,'Liste de nom'!$B$6,IF(G29=6,'Liste de nom'!$B$7,IF(G29=7,'Liste de nom'!$B$8,IF(G29=8,'Liste de nom'!$B$9,IF(G29=9,'Liste de nom'!$B$10,IF(G29=10,'Liste de nom'!$B$11,""))))))))))
A30: 2015 | B30: 29 | C30: 42203 | D30: ='Liste de nom'!$B$8 -> nom7 | E30: ='Liste de nom'!$B$7 -> nom6 | F30: ='Liste de nom'!$B$6 -> nom5 | G30: ='Liste de nom'!$B$5 -> nom4 | O30: =IF(D30=1,'Liste de nom'!$B$2,IF(D30=2,'Liste de nom'!$B$3,IF(D30=3,'Liste de nom'!$B$4,IF(D30=4,'Liste de nom'!$B$5,IF(D30=5,'Liste de nom'!$B$6,IF(D30=6,'Liste de nom'!$B$7,IF(D30=7,'Liste de nom'!$B$8,IF(D30=8,'Liste de nom'!$B$9,IF(D30=9,'Liste de nom'!$B$10,IF(D30=10,'Liste de nom'!$B$11,"")))))))))) | P30: =IF(E30=1,'Liste de nom'!$B$2,IF(E30=2,'Liste de nom'!$B$3,IF(E30=3,'Liste de nom'!$B$4,IF(E30=4,'Liste de nom'!$B$5,IF(E30=5,'Liste de nom'!$B$6,IF(E30=6,'Liste de nom'!$B$7,IF(E30=7,'Liste de nom'!$B$8,IF(E30=8,'Liste de nom'!$B$9,IF(E30=9,'Liste de nom'!$B$10,IF(E30=10,'Liste de nom'!$B$11,"")))))))))) | Q30: =IF(F30=1,'Liste de nom'!$B$2,IF(F30=2,'Liste de nom'!$B$3,IF(F30=3,'Liste de nom'!$B$4,IF(F30=4,'Liste de nom'!$B$5,IF(F30=5,'Liste de nom'!$B$6,IF(F30=6,'Liste de nom'!$B$7,IF(F30=7,'Liste de nom'!$B$8,IF(F30=8,'Liste de nom'!$B$9,IF(F30=9,'Liste de nom'!$B$10,IF(F30=10,'Liste de nom'!$B$11,"")))))))))) | R30: =IF(G30=1,'Liste de nom'!$B$2,IF(G30=2,'Liste de nom'!$B$3,IF(G30=3,'Liste de nom'!$B$4,IF(G30=4,'Liste de nom'!$B$5,IF(G30=5,'Liste de nom'!$B$6,IF(G30=6,'Liste de nom'!$B$7,IF(G30=7,'Liste de nom'!$B$8,IF(G30=8,'Liste de nom'!$B$9,IF(G30=9,'Liste de nom'!$B$10,IF(G30=10,'Liste de nom'!$B$11,""))))))))))
A31: 2015 | B31: 30 | C31: 42210 | D31: ='Liste de nom'!$B$3 -> nom2 | E31: ='Liste de nom'!$B$2 -> nom1 | F31: ='Liste de nom'!$B$9 -> nom8 | G31: ='Liste de nom'!$B$4 -> nom3 | O31: =IF(D31=1,'Liste de nom'!$B$2,IF(D31=2,'Liste de nom'!$B$3,IF(D31=3,'Liste de nom'!$B$4,IF(D31=4,'Liste de nom'!$B$5,IF(D31=5,'Liste de nom'!$B$6,IF(D31=6,'Liste de nom'!$B$7,IF(D31=7,'Liste de nom'!$B$8,IF(D31=8,'Liste de nom'!$B$9,IF(D31=9,'Liste de nom'!$B$10,IF(D31=10,'Liste de nom'!$B$11,"")))))))))) | P31: =IF(E31=1,'Liste de nom'!$B$2,IF(E31=2,'Liste de nom'!$B$3,IF(E31=3,'Liste de nom'!$B$4,IF(E31=4,'Liste de nom'!$B$5,IF(E31=5,'Liste de nom'!$B$6,IF(E31=6,'Liste de nom'!$B$7,IF(E31=7,'Liste de nom'!$B$8,IF(E31=8,'Liste de nom'!$B$9,IF(E31=9,'Liste de nom'!$B$10,IF(E31=10,'Liste de nom'!$B$11,"")))))))))) | Q31: =IF(F31=1,'Liste de nom'!$B$2,IF(F31=2,'Liste de nom'!$B$3,IF(F31=3,'Liste de nom'!$B$4,IF(F31=4,'Liste de nom'!$B$5,IF(F31=5,'Liste de nom'!$B$6,IF(F31=6,'Liste de nom'!$B$7,IF(F31=7,'Liste de nom'!$B$8,IF(F31=8,'Liste de nom'!$B$9,IF(F31=9,'Liste de nom'!$B$10,IF(F31=10,'Liste de nom'!$B$11,"")))))))))) | R31: =IF(G31=1,'Liste de nom'!$B$2,IF(G31=2,'Liste de nom'!$B$3,IF(G31=3,'Liste de nom'!$B$4,IF(G31=4,'Liste de nom'!$B$5,IF(G31=5,'Liste de nom'!$B$6,IF(G31=6,'Liste de nom'!$B$7,IF(G31=7,'Liste de nom'!$B$8,IF(G31=8,'Liste de nom'!$B$9,IF(G31=9,'Liste de nom'!$B$10,IF(G31=10,'Liste de nom'!$B$11,""))))))))))
A32: 2015 | B32: 31 | C32: 42217 | D32: ='Liste de nom'!$B$10 -> nom9 | E32: ='Liste de nom'!$B$8 -> nom7 | F32: ='Liste de nom'!$B$6 -> nom5 | G32: ='Liste de nom'!$B$4 -> nom3 | O32: =IF(D32=1,'Liste de nom'!$B$2,IF(D32=2,'Liste de nom'!$B$3,IF(D32=3,'Liste de nom'!$B$4,IF(D32=4,'Liste de nom'!$B$5,IF(D32=5,'Liste de nom'!$B$6,IF(D32=6,'Liste de nom'!$B$7,IF(D32=7,'Liste de nom'!$B$8,IF(D32=8,'Liste de nom'!$B$9,IF(D32=9,'Liste de nom'!$B$10,IF(D32=10,'Liste de nom'!$B$11,"")))))))))) | P32: =IF(E32=1,'Liste de nom'!$B$2,IF(E32=2,'Liste de nom'!$B$3,IF(E32=3,'Liste de nom'!$B$4,IF(E32=4,'Liste de nom'!$B$5,IF(E32=5,'Liste de nom'!$B$6,IF(E32=6,'Liste de nom'!$B$7,IF(E32=7,'Liste de nom'!$B$8,IF(E32=8,'Liste de nom'!$B$9,IF(E32=9,'Liste de nom'!$B$10,IF(E32=10,'Liste de nom'!$B$11,"")))))))))) | Q32: =IF(F32=1,'Liste de nom'!$B$2,IF(F32=2,'Liste de nom'!$B$3,IF(F32=3,'Liste de nom'!$B$4,IF(F32=4,'Liste de nom'!$B$5,IF(F32=5,'Liste de nom'!$B$6,IF(F32=6,'Liste de nom'!$B$7,IF(F32=7,'Liste de nom'!$B$8,IF(F32=8,'Liste de nom'!$B$9,IF(F32=9,'Liste de nom'!$B$10,IF(F32=10,'Liste de nom'!$B$11,"")))))))))) | R32: =IF(G32=1,'Liste de nom'!$B$2,IF(G32=2,'Liste de nom'!$B$3,IF(G32=3,'Liste de nom'!$B$4,IF(G32=4,'Liste de nom'!$B$5,IF(G32=5,'Liste de nom'!$B$6,IF(G32=6,'Liste de nom'!$B$7,IF(G32=7,'Liste de nom'!$B$8,IF(G32=8,'Liste de nom'!$B$9,IF(G32=9,'Liste de nom'!$B$10,IF(G32=10,'Liste de nom'!$B$11,""))))))))))
A33: 2015 | B33: 32 | C33: 42224 | D33: ='Liste de nom'!$B$2 -> nom1 | E33: ='Liste de nom'!$B$11 -> nom10 | F33: ='Liste de nom'!$B$9 -> nom8 | G33: ='Liste de nom'!$B$7 -> nom6 | O33: =IF(D33=1,'Liste de nom'!$B$2,IF(D33=2,'Liste de nom'!$B$3,IF(D33=3,'Liste de nom'!$B$4,IF(D33=4,'Liste de nom'!$B$5,IF(D33=5,'Liste de nom'!$B$6,IF(D33=6,'Liste de nom'!$B$7,IF(D33=7,'Liste de nom'!$B$8,IF(D33=8,'Liste de nom'!$B$9,IF(D33=9,'Liste de nom'!$B$10,IF(D33=10,'Liste de nom'!$B$11,"")))))))))) | P33: =IF(E33=1,'Liste de nom'!$B$2,IF(E33=2,'Liste de nom'!$B$3,IF(E33=3,'Liste de nom'!$B$4,IF(E33=4,'Liste de nom'!$B$5,IF(E33=5,'Liste de nom'!$B$6,IF(E33=6,'Liste de nom'!$B$7,IF(E33=7,'Liste de nom'!$B$8,IF(E33=8,'Liste de nom'!$B$9,IF(E33=9,'Liste de nom'!$B$10,IF(E33=10,'Liste de nom'!$B$11,"")))))))))) | Q33: =IF(F33=1,'Liste de nom'!$B$2,IF(F33=2,'Liste de nom'!$B$3,IF(F33=3,'Liste de nom'!$B$4,IF(F33=4,'Liste de nom'!$B$5,IF(F33=5,'Liste de nom'!$B$6,IF(F33=6,'Liste de nom'!$B$7,IF(F33=7,'Liste de nom'!$B$8,IF(F33=8,'Liste de nom'!$B$9,IF(F33=9,'Liste de nom'!$B$10,IF(F33=10,'Liste de nom'!$B$11,"")))))))))) | R33: =IF(G33=1,'Liste de nom'!$B$2,IF(G33=2,'Liste de nom'!$B$3,IF(G33=3,'Liste de nom'!$B$4,IF(G33=4,'Liste de nom'!$B$5,IF(G33=5,'Liste de nom'!$B$6,IF(G33=6,'Liste de nom'!$B$7,IF(G33=7,'Liste de nom'!$B$8,IF(G33=8,'Liste de nom'!$B$9,IF(G33=9,'Liste de nom'!$B$10,IF(G33=10,'Liste de nom'!$B$11,""))))))))))
A34: 2015 | B34: 33 | C34: 42231 | D34: ='Liste de nom'!$B$5 -> nom4 | E34: ='Liste de nom'!$B$3 -> nom2 | F34: ='Liste de nom'!$B$10 -> nom9 | G34: ='Liste de nom'!$B$8 -> nom7 | O34: =IF(D34=1,'Liste de nom'!$B$2,IF(D34=2,'Liste de nom'!$B$3,IF(D34=3,'Liste de nom'!$B$4,IF(D34=4,'Liste de nom'!$B$5,IF(D34=5,'Liste de nom'!$B$6,IF(D34=6,'Liste de nom'!$B$7,IF(D34=7,'Liste de nom'!$B$8,IF(D34=8,'Liste de nom'!$B$9,IF(D34=9,'Liste de nom'!$B$10,IF(D34=10,'Liste de nom'!$B$11,"")))))))))) | P34: =IF(E34=1,'Liste de nom'!$B$2,IF(E34=2,'Liste de nom'!$B$3,IF(E34=3,'Liste de nom'!$B$4,IF(E34=4,'Liste de nom'!$B$5,IF(E34=5,'Liste de nom'!$B$6,IF(E34=6,'Liste de nom'!$B$7,IF(E34=7,'Liste de nom'!$B$8,IF(E34=8,'Liste de nom'!$B$9,IF(E34=9,'Liste de nom'!$B$10,IF(E34=10,'Liste de nom'!$B$11,"")))))))))) | Q34: =IF(F34=1,'Liste de nom'!$B$2,IF(F34=2,'Liste de nom'!$B$3,IF(F34=3,'Liste de nom'!$B$4,IF(F34=4,'Liste de nom'!$B$5,IF(F34=5,'Liste de nom'!$B$6,IF(F34=6,'Liste de nom'!$B$7,IF(F34=7,'Liste de nom'!$B$8,IF(F34=8,'Liste de nom'!$B$9,IF(F34=9,'Liste de nom'!$B$10,IF(F34=10,'Liste de nom'!$B$11,"")))))))))) | R34: =IF(G34=1,'Liste de nom'!$B$2,IF(G34=2,'Liste de nom'!$B$3,IF(G34=3,'Liste de nom'!$B$4,IF(G34=4,'Liste de nom'!$B$5,IF(G34=5,'Liste de nom'!$B$6,IF(G34=6,'Liste de nom'!$B$7,IF(G34=7,'Liste de nom'!$B$8,IF(G34=8,'Liste de nom'!$B$9,IF(G34=9,'Liste de nom'!$B$10,IF(G34=10,'Liste de nom'!$B$11,""))))))))))
A35: 2015 | B35: 34 | C35: 42238 | D35: ='Liste de nom'!$B$6 -> nom5 | E35: ='Liste de nom'!$B$4 -> nom3 | F35: ='Liste de nom'!$B$2 -> nom1 | G35: ='Liste de nom'!$B$11 -> nom10 | O35: =IF(D35=1,'Liste de nom'!$B$2,IF(D35=2,'Liste de nom'!$B$3,IF(D35=3,'Liste de nom'!$B$4,IF(D35=4,'Liste de nom'!$B$5,IF(D35=5,'Liste de nom'!$B$6,IF(D35=6,'Liste de nom'!$B$7,IF(D35=7,'Liste de nom'!$B$8,IF(D35=8,'Liste de nom'!$B$9,IF(D35=9,'Liste de nom'!$B$10,IF(D35=10,'Liste de nom'!$B$11,"")))))))))) | P35: =IF(E35=1,'Liste de nom'!$B$2,IF(E35=2,'Liste de nom'!$B$3,IF(E35=3,'Liste de nom'!$B$4,IF(E35=4,'Liste de nom'!$B$5,IF(E35=5,'Liste de nom'!$B$6,IF(E35=6,'Liste de nom'!$B$7,IF(E35=7,'Liste de nom'!$B$8,IF(E35=8,'Liste de nom'!$B$9,IF(E35=9,'Liste de nom'!$B$10,IF(E35=10,'Liste de nom'!$B$11,"")))))))))) | Q35: =IF(F35=1,'Liste de nom'!$B$2,IF(F35=2,'Liste de nom'!$B$3,IF(F35=3,'Liste de nom'!$B$4,IF(F35=4,'Liste de nom'!$B$5,IF(F35=5,'Liste de nom'!$B$6,IF(F35=6,'Liste de nom'!$B$7,IF(F35=7,'Liste de nom'!$B$8,IF(F35=8,'Liste de nom'!$B$9,IF(F35=9,'Liste de nom'!$B$10,IF(F35=10,'Liste de nom'!$B$11,"")))))))))) | R35: =IF(G35=1,'Liste de nom'!$B$2,IF(G35=2,'Liste de nom'!$B$3,IF(G35=3,'Liste de nom'!$B$4,IF(G35=4,'Liste de nom'!$B$5,IF(G35=5,'Liste de nom'!$B$6,IF(G35=6,'Liste de nom'!$B$7,IF(G35=7,'Liste de nom'!$B$8,IF(G35=8,'Liste de nom'!$B$9,IF(G35=9,'Liste de nom'!$B$10,IF(G35=10,'Liste de nom'!$B$11,""))))))))))
A36: 2015 | B36: 35 | C36: 42245 | D36: ='Liste de nom'!$B$9 -> nom8 | E36: ='Liste de nom'!$B$7 -> nom6 | F36: ='Liste de nom'!$B$5 -> nom4 | G36: ='Liste de nom'!$B$3 -> nom2 | O36: =IF(D36=1,'Liste de nom'!$B$2,IF(D36=2,'Liste de nom'!$B$3,IF(D36=3,'Liste de nom'!$B$4,IF(D36=4,'Liste de nom'!$B$5,IF(D36=5,'Liste de nom'!$B$6,IF(D36=6,'Liste de nom'!$B$7,IF(D36=7,'Liste de nom'!$B$8,IF(D36=8,'Liste de nom'!$B$9,IF(D36=9,'Liste de nom'!$B$10,IF(D36=10,'Liste de nom'!$B$11,"")))))))))) | P36: =IF(E36=1,'Liste de nom'!$B$2,IF(E36=2,'Liste de nom'!$B$3,IF(E36=3,'Liste de nom'!$B$4,IF(E36=4,'Liste de nom'!$B$5,IF(E36=5,'Liste de nom'!$B$6,IF(E36=6,'Liste de nom'!$B$7,IF(E36=7,'Liste de nom'!$B$8,IF(E36=8,'Liste de nom'!$B$9,IF(E36=9,'Liste de nom'!$B$10,IF(E36=10,'Liste de nom'!$B$11,"")))))))))) | Q36: =IF(F36=1,'Liste de nom'!$B$2,IF(F36=2,'Liste de nom'!$B$3,IF(F36=3,'Liste de nom'!$B$4,IF(F36=4,'Liste de nom'!$B$5,IF(F36=5,'Liste de nom'!$B$6,IF(F36=6,'Liste de nom'!$B$7,IF(F36=7,'Liste de nom'!$B$8,IF(F36=8,'Liste de nom'!$B$9,IF(F36=9,'Liste de nom'!$B$10,IF(F36=10,'Liste de nom'!$B$11,"")))))))))) | R36: =IF(G36=1,'Liste de nom'!$B$2,IF(G36=2,'Liste de nom'!$B$3,IF(G36=3,'Liste de nom'!$B$4,IF(G36=4,'Liste de nom'!$B$5,IF(G36=5,'Liste de nom'!$B$6,IF(G36=6,'Liste de nom'!$B$7,IF(G36=7,'Liste de nom'!$B$8,IF(G36=8,'Liste de nom'!$B$9,IF(G36=9,'Liste de nom'!$B$10,IF(G36=10,'Liste de nom'!$B$11,""))))))))))
A37: 2015 | B37: 36 | C37: 42252 | D37: ='Liste de nom'!$B$2 -> nom1 | E37: ='Liste de nom'!$B$3 -> nom2 | F37: ='Liste de nom'!$B$4 -> nom3 | G37: ='Liste de nom'!$B$5 -> nom4 | O37: =IF(D37=1,'Liste de nom'!$B$2,IF(D37=2,'Liste de nom'!$B$3,IF(D37=3,'Liste de nom'!$B$4,IF(D37=4,'Liste de nom'!$B$5,IF(D37=5,'Liste de nom'!$B$6,IF(D37=6,'Liste de nom'!$B$7,IF(D37=7,'Liste de nom'!$B$8,IF(D37=8,'Liste de nom'!$B$9,IF(D37=9,'Liste de nom'!$B$10,IF(D37=10,'Liste de nom'!$B$11,"")))))))))) | P37: =IF(E37=1,'Liste de nom'!$B$2,IF(E37=2,'Liste de nom'!$B$3,IF(E37=3,'Liste de nom'!$B$4,IF(E37=4,'Liste de nom'!$B$5,IF(E37=5,'Liste de nom'!$B$6,IF(E37=6,'Liste de nom'!$B$7,IF(E37=7,'Liste de nom'!$B$8,IF(E37=8,'Liste de nom'!$B$9,IF(E37=9,'Liste de nom'!$B$10,IF(E37=10,'Liste de nom'!$B$11,"")))))))))) | Q37: =IF(F37=1,'Liste de nom'!$B$2,IF(F37=2,'Liste de nom'!$B$3,IF(F37=3,'Liste de nom'!$B$4,IF(F37=4,'Liste de nom'!$B$5,IF(F37=5,'Liste de nom'!$B$6,IF(F37=6,'Liste de nom'!$B$7,IF(F37=7,'Liste de nom'!$B$8,IF(F37=8,'Liste de nom'!$B$9,IF(F37=9,'Liste de nom'!$B$10,IF(F37=10,'Liste de nom'!$B$11,"")))))))))) | R37: =IF(G37=1,'Liste de nom'!$B$2,IF(G37=2,'Liste de nom'!$B$3,IF(G37=3,'Liste de nom'!$B$4,IF(G37=4,'Liste de nom'!$B$5,IF(G37=5,'Liste de nom'!$B$6,IF(G37=6,'Liste de nom'!$B$7,IF(G37=7,'Liste de nom'!$B$8,IF(G37=8,'Liste de nom'!$B$9,IF(G37=9,'Liste de nom'!$B$10,IF(G37=10,'Liste de nom'!$B$11,""))))))))))
A38: 2015 | B38: 37 | C38: 42259 | D38: ='Liste de nom'!$B$6 -> nom5 | E38: ='Liste de nom'!$B$7 -> nom6 | F38: ='Liste de nom'!$B$8 -> nom7 | G38: ='Liste de nom'!$B$9 -> nom8 | O38: =IF(D38=1,'Liste de nom'!$B$2,IF(D38=2,'Liste de nom'!$B$3,IF(D38=3,'Liste de nom'!$B$4,IF(D38=4,'Liste de nom'!$B$5,IF(D38=5,'Liste de nom'!$B$6,IF(D38=6,'Liste de nom'!$B$7,IF(D38=7,'Liste de nom'!$B$8,IF(D38=8,'Liste de nom'!$B$9,IF(D38=9,'Liste de nom'!$B$10,IF(D38=10,'Liste de nom'!$B$11,"")))))))))) | P38: =IF(E38=1,'Liste de nom'!$B$2,IF(E38=2,'Liste de nom'!$B$3,IF(E38=3,'Liste de nom'!$B$4,IF(E38=4,'Liste de nom'!$B$5,IF(E38=5,'Liste de nom'!$B$6,IF(E38=6,'Liste de nom'!$B$7,IF(E38=7,'Liste de nom'!$B$8,IF(E38=8,'Liste de nom'!$B$9,IF(E38=9,'Liste de nom'!$B$10,IF(E38=10,'Liste de nom'!$B$11,"")))))))))) | Q38: =IF(F38=1,'Liste de nom'!$B$2,IF(F38=2,'Liste de nom'!$B$3,IF(F38=3,'Liste de nom'!$B$4,IF(F38=4,'Liste de nom'!$B$5,IF(F38=5,'Liste de nom'!$B$6,IF(F38=6,'Liste de nom'!$B$7,IF(F38=7,'Liste de nom'!$B$8,IF(F38=8,'Liste de nom'!$B$9,IF(F38=9,'Liste de nom'!$B$10,IF(F38=10,'Liste de nom'!$B$11,"")))))))))) | R38: =IF(G38=1,'Liste de nom'!$B$2,IF(G38=2,'Liste de nom'!$B$3,IF(G38=3,'Liste de nom'!$B$4,IF(G38=4,'Liste de nom'!$B$5,IF(G38=5,'Liste de nom'!$B$6,IF(G38=6,'Liste de nom'!$B$7,IF(G38=7,'Liste de nom'!$B$8,IF(G38=8,'Liste de nom'!$B$9,IF(G38=9,'Liste de nom'!$B$10,IF(G38=10,'Liste de nom'!$B$11,""))))))))))
A39: 2015 | B39: 38 | C39: 42266 | D39: ='Liste de nom'!$B$10 -> nom9 | E39: ='Liste de nom'!$B$11 -> nom10 | F39: ='Liste de nom'!$B$2 -> nom1 | G39: ='Liste de nom'!$B$3 -> nom2 | O39: =IF(D39=1,'Liste de nom'!$B$2,IF(D39=2,'Liste de nom'!$B$3,IF(D39=3,'Liste de nom'!$B$4,IF(D39=4,'Liste de nom'!$B$5,IF(D39=5,'Liste de nom'!$B$6,IF(D39=6,'Liste de nom'!$B$7,IF(D39=7,'Liste de nom'!$B$8,IF(D39=8,'Liste de nom'!$B$9,IF(D39=9,'Liste de nom'!$B$10,IF(D39=10,'Liste de nom'!$B$11,"")))))))))) | P39: =IF(E39=1,'Liste de nom'!$B$2,IF(E39=2,'Liste de nom'!$B$3,IF(E39=3,'Liste de nom'!$B$4,IF(E39=4,'Liste de nom'!$B$5,IF(E39=5,'Liste de nom'!$B$6,IF(E39=6,'Liste de nom'!$B$7,IF(E39=7,'Liste de nom'!$B$8,IF(E39=8,'Liste de nom'!$B$9,IF(E39=9,'Liste de nom'!$B$10,IF(E39=10,'Liste de nom'!$B$11,"")))))))))) | Q39: =IF(F39=1,'Liste de nom'!$B$2,IF(F39=2,'Liste de nom'!$B$3,IF(F39=3,'Liste de nom'!$B$4,IF(F39=4,'Liste de nom'!$B$5,IF(F39=5,'Liste de nom'!$B$6,IF(F39=6,'Liste de nom'!$B$7,IF(F39=7,'Liste de nom'!$B$8,IF(F39=8,'Liste de nom'!$B$9,IF(F39=9,'Liste de nom'!$B$10,IF(F39=10,'Liste de nom'!$B$11,"")))))))))) | R39: =IF(G39=1,'Liste de nom'!$B$2,IF(G39=2,'Liste de nom'!$B$3,IF(G39=3,'Liste de nom'!$B$4,IF(G39=4,'Liste de nom'!$B$5,IF(G39=5,'Liste de nom'!$B$6,IF(G39=6,'Liste de nom'!$B$7,IF(G39=7,'Liste de nom'!$B$8,IF(G39=8,'Liste de nom'!$B$9,IF(G39=9,'Liste de nom'!$B$10,IF(G39=10,'Liste de nom'!$B$11,""))))))))))
A40: 2015 | B40: 39 | C40: 42273 | D40: ='Liste de nom'!$B$4 -> nom3 | E40: ='Liste de nom'!$B$5 -> nom4 | F40: ='Liste de nom'!$B$6 -> nom5 | G40: ='Liste de nom'!$B$7 -> nom6 | O40: =IF(D40=1,'Liste de nom'!$B$2,IF(D40=2,'Liste de nom'!$B$3,IF(D40=3,'Liste de nom'!$B$4,IF(D40=4,'Liste de nom'!$B$5,IF(D40=5,'Liste de nom'!$B$6,IF(D40=6,'Liste de nom'!$B$7,IF(D40=7,'Liste de nom'!$B$8,IF(D40=8,'Liste de nom'!$B$9,IF(D40=9,'Liste de nom'!$B$10,IF(D40=10,'Liste de nom'!$B$11,"")))))))))) | P40: =IF(E40=1,'Liste de nom'!$B$2,IF(E40=2,'Liste de nom'!$B$3,IF(E40=3,'Liste de nom'!$B$4,IF(E40=4,'Liste de nom'!$B$5,IF(E40=5,'Liste de nom'!$B$6,IF(E40=6,'Liste de nom'!$B$7,IF(E40=7,'Liste de nom'!$B$8,IF(E40=8,'Liste de nom'!$B$9,IF(E40=9,'Liste de nom'!$B$10,IF(E40=10,'Liste de nom'!$B$11,"")))))))))) | Q40: =IF(F40=1,'Liste de nom'!$B$2,IF(F40=2,'Liste de nom'!$B$3,IF(F40=3,'Liste de nom'!$B$4,IF(F40=4,'Liste de nom'!$B$5,IF(F40=5,'Liste de nom'!$B$6,IF(F40=6,'Liste de nom'!$B$7,IF(F40=7,'Liste de nom'!$B$8,IF(F40=8,'Liste de nom'!$B$9,IF(F40=9,'Liste de nom'!$B$10,IF(F40=10,'Liste de nom'!$B$11,"")))))))))) | R40: =IF(G40=1,'Liste de nom'!$B$2,IF(G40=2,'Liste de nom'!$B$3,IF(G40=3,'Liste de nom'!$B$4,IF(G40=4,'Liste de nom'!$B$5,IF(G40=5,'Liste de nom'!$B$6,IF(G40=6,'Liste de nom'!$B$7,IF(G40=7,'Liste de nom'!$B$8,IF(G40=8,'Liste de nom'!$B$9,IF(G40=9,'Liste de nom'!$B$10,IF(G40=10,'Liste de nom'!$B$11,""))))))))))
A41: 2015 | B41: 40 | C41: 42280 | D41: ='Liste de nom'!$B$8 -> nom7 | E41: ='Liste de nom'!$B$9 -> nom8 | F41: ='Liste de nom'!$B$10 -> nom9 | G41: ='Liste de nom'!$B$11 -> nom10 | O41: =IF(D41=1,'Liste de nom'!$B$2,IF(D41=2,'Liste de nom'!$B$3,IF(D41=3,'Liste de nom'!$B$4,IF(D41=4,'Liste de nom'!$B$5,IF(D41=5,'Liste de nom'!$B$6,IF(D41=6,'Liste de nom'!$B$7,IF(D41=7,'Liste de nom'!$B$8,IF(D41=8,'Liste de nom'!$B$9,IF(D41=9,'Liste de nom'!$B$10,IF(D41=10,'Liste de nom'!$B$11,"")))))))))) | P41: =IF(E41=1,'Liste de nom'!$B$2,IF(E41=2,'Liste de nom'!$B$3,IF(E41=3,'Liste de nom'!$B$4,IF(E41=4,'Liste de nom'!$B$5,IF(E41=5,'Liste de nom'!$B$6,IF(E41=6,'Liste de nom'!$B$7,IF(E41=7,'Liste de nom'!$B$8,IF(E41=8,'Liste de nom'!$B$9,IF(E41=9,'Liste de nom'!$B$10,IF(E41=10,'Liste de nom'!$B$11,"")))))))))) | Q41: =IF(F41=1,'Liste de nom'!$B$2,IF(F41=2,'Liste de nom'!$B$3,IF(F41=3,'Liste de nom'!$B$4,IF(F41=4,'Liste de nom'!$B$5,IF(F41=5,'Liste de nom'!$B$6,IF(F41=6,'Liste de nom'!$B$7,IF(F41=7,'Liste de nom'!$B$8,IF(F41=8,'Liste de nom'!$B$9,IF(F41=9,'Liste de nom'!$B$10,IF(F41=10,'Liste de nom'!$B$11,"")))))))))) | R41: =IF(G41=1,'Liste de nom'!$B$2,IF(G41=2,'Liste de nom'!$B$3,IF(G41=3,'Liste de nom'!$B$4,IF(G41=4,'Liste de nom'!$B$5,IF(G41=5,'Liste de nom'!$B$6,IF(G41=6,'Liste de nom'!$B$7,IF(G41=7,'Liste de nom'!$B$8,IF(G41=8,'Liste de nom'!$B$9,IF(G41=9,'Liste de nom'!$B$10,IF(G41=10,'Liste de nom'!$B$11,""))))))))))
A42: 2015 | B42: 41 | C42: 42287 | D42: ='Liste de nom'!$B$2 -> nom1 | E42: ='Liste de nom'!$B$4 -> nom3 | F42: ='Liste de nom'!$B$6 -> nom5 | G42: ='Liste de nom'!$B$8 -> nom7 | O42: =IF(D42=1,'Liste de nom'!$B$2,IF(D42=2,'Liste de nom'!$B$3,IF(D42=3,'Liste de nom'!$B$4,IF(D42=4,'Liste de nom'!$B$5,IF(D42=5,'Liste de nom'!$B$6,IF(D42=6,'Liste de nom'!$B$7,IF(D42=7,'Liste de nom'!$B$8,IF(D42=8,'Liste de nom'!$B$9,IF(D42=9,'Liste de nom'!$B$10,IF(D42=10,'Liste de nom'!$B$11,"")))))))))) | P42: =IF(E42=1,'Liste de nom'!$B$2,IF(E42=2,'Liste de nom'!$B$3,IF(E42=3,'Liste de nom'!$B$4,IF(E42=4,'Liste de nom'!$B$5,IF(E42=5,'Liste de nom'!$B$6,IF(E42=6,'Liste de nom'!$B$7,IF(E42=7,'Liste de nom'!$B$8,IF(E42=8,'Liste de nom'!$B$9,IF(E42=9,'Liste de nom'!$B$10,IF(E42=10,'Liste de nom'!$B$11,"")))))))))) | Q42: =IF(F42=1,'Liste de nom'!$B$2,IF(F42=2,'Liste de nom'!$B$3,IF(F42=3,'Liste de nom'!$B$4,IF(F42=4,'Liste de nom'!$B$5,IF(F42=5,'Liste de nom'!$B$6,IF(F42=6,'Liste de nom'!$B$7,IF(F42=7,'Liste de nom'!$B$8,IF(F42=8,'Liste de nom'!$B$9,IF(F42=9,'Liste de nom'!$B$10,IF(F42=10,'Liste de nom'!$B$11,"")))))))))) | R42: =IF(G42=1,'Liste de nom'!$B$2,IF(G42=2,'Liste de nom'!$B$3,IF(G42=3,'Liste de nom'!$B$4,IF(G42=4,'Liste de nom'!$B$5,IF(G42=5,'Liste de nom'!$B$6,IF(G42=6,'Liste de nom'!$B$7,IF(G42=7,'Liste de nom'!$B$8,IF(G42=8,'Liste de nom'!$B$9,IF(G42=9,'Liste de nom'!$B$10,IF(G42=10,'Liste de nom'!$B$11,""))))))))))
A43: 2015 | B43: 42 | C43: 42294 | D43: ='Liste de nom'!$B$10 -> nom9 | E43: ='Liste de nom'!$B$3 -> nom2 | F43: ='Liste de nom'!$B$5 -> nom4 | G43: ='Liste de nom'!$B$7 -> nom6 | O43: =IF(D43=1,'Liste de nom'!$B$2,IF(D43=2,'Liste de nom'!$B$3,IF(D43=3,'Liste de nom'!$B$4,IF(D43=4,'Liste de nom'!$B$5,IF(D43=5,'Liste de nom'!$B$6,IF(D43=6,'Liste de nom'!$B$7,IF(D43=7,'Liste de nom'!$B$8,IF(D43=8,'Liste de nom'!$B$9,IF(D43=9,'Liste de nom'!$B$10,IF(D43=10,'Liste de nom'!$B$11,"")))))))))) | P43: =IF(E43=1,'Liste de nom'!$B$2,IF(E43=2,'Liste de nom'!$B$3,IF(E43=3,'Liste de nom'!$B$4,IF(E43=4,'Liste de nom'!$B$5,IF(E43=5,'Liste de nom'!$B$6,IF(E43=6,'Liste de nom'!$B$7,IF(E43=7,'Liste de nom'!$B$8,IF(E43=8,'Liste de nom'!$B$9,IF(E43=9,'Liste de nom'!$B$10,IF(E43=10,'Liste de nom'!$B$11,"")))))))))) | Q43: =IF(F43=1,'Liste de nom'!$B$2,IF(F43=2,'Liste de nom'!$B$3,IF(F43=3,'Liste de nom'!$B$4,IF(F43=4,'Liste de nom'!$B$5,IF(F43=5,'Liste de nom'!$B$6,IF(F43=6,'Liste de nom'!$B$7,IF(F43=7,'Liste de nom'!$B$8,IF(F43=8,'Liste de nom'!$B$9,IF(F43=9,'Liste de nom'!$B$10,IF(F43=10,'Liste de nom'!$B$11,"")))))))))) | R43: =IF(G43=1,'Liste de nom'!$B$2,IF(G43=2,'Liste de nom'!$B$3,IF(G43=3,'Liste de nom'!$B$4,IF(G43=4,'Liste de nom'!$B$5,IF(G43=5,'Liste de nom'!$B$6,IF(G43=6,'Liste de nom'!$B$7,IF(G43=7,'Liste de nom'!$B$8,IF(G43=8,'Liste de nom'!$B$9,IF(G43=9,'Liste de nom'!$B$10,IF(G43=10,'Liste de nom'!$B$11,""))))))))))
A44: 2015 | B44: 43 | C44: 42301 | D44: ='Liste de nom'!$B$9 -> nom8 | E44: ='Liste de nom'!$B$11 -> nom10 | F44: ='Liste de nom'!$B$2 -> nom1 | G44: ='Liste de nom'!$B$4 -> nom3 | O44: =IF(D44=1,'Liste de nom'!$B$2,IF(D44=2,'Liste de nom'!$B$3,IF(D44=3,'Liste de nom'!$B$4,IF(D44=4,'Liste de nom'!$B$5,IF(D44=5,'Liste de nom'!$B$6,IF(D44=6,'Liste de nom'!$B$7,IF(D44=7,'Liste de nom'!$B$8,IF(D44=8,'Liste de nom'!$B$9,IF(D44=9,'Liste de nom'!$B$10,IF(D44=10,'Liste de nom'!$B$11,"")))))))))) | P44: =IF(E44=1,'Liste de nom'!$B$2,IF(E44=2,'Liste de nom'!$B$3,IF(E44=3,'Liste de nom'!$B$4,IF(E44=4,'Liste de nom'!$B$5,IF(E44=5,'Liste de nom'!$B$6,IF(E44=6,'Liste de nom'!$B$7,IF(E44=7,'Liste de nom'!$B$8,IF(E44=8,'Liste de nom'!$B$9,IF(E44=9,'Liste de nom'!$B$10,IF(E44=10,'Liste de nom'!$B$11,"")))))))))) | Q44: =IF(F44=1,'Liste de nom'!$B$2,IF(F44=2,'Liste de nom'!$B$3,IF(F44=3,'Liste de nom'!$B$4,IF(F44=4,'Liste de nom'!$B$5,IF(F44=5,'Liste de nom'!$B$6,IF(F44=6,'Liste de nom'!$B$7,IF(F44=7,'Liste de nom'!$B$8,IF(F44=8,'Liste de nom'!$B$9,IF(F44=9,'Liste de nom'!$B$10,IF(F44=10,'Liste de nom'!$B$11,"")))))))))) | R44: =IF(G44=1,'Liste de nom'!$B$2,IF(G44=2,'Liste de nom'!$B$3,IF(G44=3,'Liste de nom'!$B$4,IF(G44=4,'Liste de nom'!$B$5,IF(G44=5,'Liste de nom'!$B$6,IF(G44=6,'Liste de nom'!$B$7,IF(G44=7,'Liste de nom'!$B$8,IF(G44=8,'Liste de nom'!$B$9,IF(G44=9,'Liste de nom'!$B$10,IF(G44=10,'Liste de nom'!$B$11,""))))))))))
A45: 2015 | B45: 44 | C45: 42308 | D45: ='Liste de nom'!$B$6 -> nom5 | E45: ='Liste de nom'!$B$8 -> nom7 | F45: ='Liste de nom'!$B$10 -> nom9 | G45: ='Liste de nom'!$B$3 -> nom2 | O45: =IF(D45=1,'Liste de nom'!$B$2,IF(D45=2,'Liste de nom'!$B$3,IF(D45=3,'Liste de nom'!$B$4,IF(D45=4,'Liste de nom'!$B$5,IF(D45=5,'Liste de nom'!$B$6,IF(D45=6,'Liste de nom'!$B$7,IF(D45=7,'Liste de nom'!$B$8,IF(D45=8,'Liste de nom'!$B$9,IF(D45=9,'Liste de nom'!$B$10,IF(D45=10,'Liste de nom'!$B$11,"")))))))))) | P45: =IF(E45=1,'Liste de nom'!$B$2,IF(E45=2,'Liste de nom'!$B$3,IF(E45=3,'Liste de nom'!$B$4,IF(E45=4,'Liste de nom'!$B$5,IF(E45=5,'Liste de nom'!$B$6,IF(E45=6,'Liste de nom'!$B$7,IF(E45=7,'Liste de nom'!$B$8,IF(E45=8,'Liste de nom'!$B$9,IF(E45=9,'Liste de nom'!$B$10,IF(E45=10,'Liste de nom'!$B$11,"")))))))))) | Q45: =IF(F45=1,'Liste de nom'!$B$2,IF(F45=2,'Liste de nom'!$B$3,IF(F45=3,'Liste de nom'!$B$4,IF(F45=4,'Liste de nom'!$B$5,IF(F45=5,'Liste de nom'!$B$6,IF(F45=6,'Liste de nom'!$B$7,IF(F45=7,'Liste de nom'!$B$8,IF(F45=8,'Liste de nom'!$B$9,IF(F45=9,'Liste de nom'!$B$10,IF(F45=10,'Liste de nom'!$B$11,"")))))))))) | R45: =IF(G45=1,'Liste de nom'!$B$2,IF(G45=2,'Liste de nom'!$B$3,IF(G45=3,'Liste de nom'!$B$4,IF(G45=4,'Liste de nom'!$B$5,IF(G45=5,'Liste de nom'!$B$6,IF(G45=6,'Liste de nom'!$B$7,IF(G45=7,'Liste de nom'!$B$8,IF(G45=8,'Liste de nom'!$B$9,IF(G45=9,'Liste de nom'!$B$10,IF(G45=10,'Liste de nom'!$B$11,""))))))))))
A46: 2015 | B46: 45 | C46: 42315 | D46: ='Liste de nom'!$B$5 -> nom4 | E46: ='Liste de nom'!$B$7 -> nom6 | F46: ='Liste de nom'!$B$9 -> nom8 | G46: ='Liste de nom'!$B$11 -> nom10 | O46: =IF(D46=1,'Liste de nom'!$B$2,IF(D46=2,'Liste de nom'!$B$3,IF(D46=3,'Liste de nom'!$B$4,IF(D46=4,'Liste de nom'!$B$5,IF(D46=5,'Liste de nom'!$B$6,IF(D46=6,'Liste de nom'!$B$7,IF(D46=7,'Liste de nom'!$B$8,IF(D46=8,'Liste de nom'!$B$9,IF(D46=9,'Liste de nom'!$B$10,IF(D46=10,'Liste de nom'!$B$11,"")))))))))) | P46: =IF(E46=1,'Liste de nom'!$B$2,IF(E46=2,'Liste de nom'!$B$3,IF(E46=3,'Liste de nom'!$B$4,IF(E46=4,'Liste de nom'!$B$5,IF(E46=5,'Liste de nom'!$B$6,IF(E46=6,'Liste de nom'!$B$7,IF(E46=7,'Liste de nom'!$B$8,IF(E46=8,'Liste de nom'!$B$9,IF(E46=9,'Liste de nom'!$B$10,IF(E46=10,'Liste de nom'!$B$11,"")))))))))) | Q46: =IF(F46=1,'Liste de nom'!$B$2,IF(F46=2,'Liste de nom'!$B$3,IF(F46=3,'Liste de nom'!$B$4,IF(F46=4,'Liste de nom'!$B$5,IF(F46=5,'Liste de nom'!$B$6,IF(F46=6,'Liste de nom'!$B$7,IF(F46=7,'Liste de nom'!$B$8,IF(F46=8,'Liste de nom'!$B$9,IF(F46=9,'Liste de nom'!$B$10,IF(F46=10,'Liste de nom'!$B$11,"")))))))))) | R46: =IF(G46=1,'Liste de nom'!$B$2,IF(G46=2,'Liste de nom'!$B$3,IF(G46=3,'Liste de nom'!$B$4,IF(G46=4,'Liste de nom'!$B$5,IF(G46=5,'Liste de nom'!$B$6,IF(G46=6,'Liste de nom'!$B$7,IF(G46=7,'Liste de nom'!$B$8,IF(G46=8,'Liste de nom'!$B$9,IF(G46=9,'Liste de nom'!$B$10,IF(G46=10,'Liste de nom'!$B$11,""))))))))))
A47: 2015 | B47: 46 | C47: 42322 | D47: ='Liste de nom'!$B$3 -> nom2 | E47: ='Liste de nom'!$B$4 -> nom3 | F47: ='Liste de nom'!$B$7 -> nom6 | G47: ='Liste de nom'!$B$8 -> nom7 | O47: =IF(D47=1,'Liste de nom'!$B$2,IF(D47=2,'Liste de nom'!$B$3,IF(D47=3,'Liste de nom'!$B$4,IF(D47=4,'Liste de nom'!$B$5,IF(D47=5,'Liste de nom'!$B$6,IF(D47=6,'Liste de nom'!$B$7,IF(D47=7,'Liste de nom'!$B$8,IF(D47=8,'Liste de nom'!$B$9,IF(D47=9,'Liste de nom'!$B$10,IF(D47=10,'Liste de nom'!$B$11,"")))))))))) | P47: =IF(E47=1,'Liste de nom'!$B$2,IF(E47=2,'Liste de nom'!$B$3,IF(E47=3,'Liste de nom'!$B$4,IF(E47=4,'Liste de nom'!$B$5,IF(E47=5,'Liste de nom'!$B$6,IF(E47=6,'Liste de nom'!$B$7,IF(E47=7,'Liste de nom'!$B$8,IF(E47=8,'Liste de nom'!$B$9,IF(E47=9,'Liste de nom'!$B$10,IF(E47=10,'Liste de nom'!$B$11,"")))))))))) | Q47: =IF(F47=1,'Liste de nom'!$B$2,IF(F47=2,'Liste de nom'!$B$3,IF(F47=3,'Liste de nom'!$B$4,IF(F47=4,'Liste de nom'!$B$5,IF(F47=5,'Liste de nom'!$B$6,IF(F47=6,'Liste de nom'!$B$7,IF(F47=7,'Liste de nom'!$B$8,IF(F47=8,'Liste de nom'!$B$9,IF(F47=9,'Liste de nom'!$B$10,IF(F47=10,'Liste de nom'!$B$11,"")))))))))) | R47: =IF(G47=1,'Liste de nom'!$B$2,IF(G47=2,'Liste de nom'!$B$3,IF(G47=3,'Liste de nom'!$B$4,IF(G47=4,'Liste de nom'!$B$5,IF(G47=5,'Liste de nom'!$B$6,IF(G47=6,'Liste de nom'!$B$7,IF(G47=7,'Liste de nom'!$B$8,IF(G47=8,'Liste de nom'!$B$9,IF(G47=9,'Liste de nom'!$B$10,IF(G47=10,'Liste de nom'!$B$11,""))))))))))
A48: 2015 | B48: 47 | C48: 42329 | D48: ='Liste de nom'!$B$5 -> nom4 | E48: ='Liste de nom'!$B$6 -> nom5 | F48: ='Liste de nom'!$B$9 -> nom8 | G48: ='Liste de nom'!$B$10 -> nom9 | O48: =IF(D48=1,'Liste de nom'!$B$2,IF(D48=2,'Liste de nom'!$B$3,IF(D48=3,'Liste de nom'!$B$4,IF(D48=4,'Liste de nom'!$B$5,IF(D48=5,'Liste de nom'!$B$6,IF(D48=6,'Liste de nom'!$B$7,IF(D48=7,'Liste de nom'!$B$8,IF(D48=8,'Liste de nom'!$B$9,IF(D48=9,'Liste de nom'!$B$10,IF(D48=10,'Liste de nom'!$B$11,"")))))))))) | P48: =IF(E48=1,'Liste de nom'!$B$2,IF(E48=2,'Liste de nom'!$B$3,IF(E48=3,'Liste de nom'!$B$4,IF(E48=4,'Liste de nom'!$B$5,IF(E48=5,'Liste de nom'!$B$6,IF(E48=6,'Liste de nom'!$B$7,IF(E48=7,'Liste de nom'!$B$8,IF(E48=8,'Liste de nom'!$B$9,IF(E48=9,'Liste de nom'!$B$10,IF(E48=10,'Liste de nom'!$B$11,"")))))))))) | Q48: =IF(F48=1,'Liste de nom'!$B$2,IF(F48=2,'Liste de nom'!$B$3,IF(F48=3,'Liste de nom'!$B$4,IF(F48=4,'Liste de nom'!$B$5,IF(F48=5,'Liste de nom'!$B$6,IF(F48=6,'Liste de nom'!$B$7,IF(F48=7,'Liste de nom'!$B$8,IF(F48=8,'Liste de nom'!$B$9,IF(F48=9,'Liste de nom'!$B$10,IF(F48=10,'Liste de nom'!$B$11,"")))))))))) | R48: =IF(G48=1,'Liste de nom'!$B$2,IF(G48=2,'Liste de nom'!$B$3,IF(G48=3,'Liste de nom'!$B$4,IF(G48=4,'Liste de nom'!$B$5,IF(G48=5,'Liste de nom'!$B$6,IF(G48=6,'Liste de nom'!$B$7,IF(G48=7,'Liste de nom'!$B$8,IF(G48=8,'Liste de nom'!$B$9,IF(G48=9,'Liste de nom'!$B$10,IF(G48=10,'Liste de nom'!$B$11,""))))))))))
A49: 2015 | B49: 48 | C49: 42336 | D49: ='Liste de nom'!$B$11 -> nom10 | E49: ='Liste de nom'!$B$2 -> nom1 | F49: ='Liste de nom'!$B$3 -> nom2 | G49: ='Liste de nom'!$B$4 -> nom3 | O49: =IF(D49=1,'Liste de nom'!$B$2,IF(D49=2,'Liste de nom'!$B$3,IF(D49=3,'Liste de nom'!$B$4,IF(D49=4,'Liste de nom'!$B$5,IF(D49=5,'Liste de nom'!$B$6,IF(D49=6,'Liste de nom'!$B$7,IF(D49=7,'Liste de nom'!$B$8,IF(D49=8,'Liste de nom'!$B$9,IF(D49=9,'Liste de nom'!$B$10,IF(D49=10,'Liste de nom'!$B$11,"")))))))))) | P49: =IF(E49=1,'Liste de nom'!$B$2,IF(E49=2,'Liste de nom'!$B$3,IF(E49=3,'Liste de nom'!$B$4,IF(E49=4,'Liste de nom'!$B$5,IF(E49=5,'Liste de nom'!$B$6,IF(E49=6,'Liste de nom'!$B$7,IF(E49=7,'Liste de nom'!$B$8,IF(E49=8,'Liste de nom'!$B$9,IF(E49=9,'Liste de nom'!$B$10,IF(E49=10,'Liste de nom'!$B$11,"")))))))))) | Q49: =IF(F49=1,'Liste de nom'!$B$2,IF(F49=2,'Liste de nom'!$B$3,IF(F49=3,'Liste de nom'!$B$4,IF(F49=4,'Liste de nom'!$B$5,IF(F49=5,'Liste de nom'!$B$6,IF(F49=6,'Liste de nom'!$B$7,IF(F49=7,'Liste de nom'!$B$8,IF(F49=8,'Liste de nom'!$B$9,IF(F49=9,'Liste de nom'!$B$10,IF(F49=10,'Liste de nom'!$B$11,"")))))))))) | R49: =IF(G49=1,'Liste de nom'!$B$2,IF(G49=2,'Liste de nom'!$B$3,IF(G49=3,'Liste de nom'!$B$4,IF(G49=4,'Liste de nom'!$B$5,IF(G49=5,'Liste de nom'!$B$6,IF(G49=6,'Liste de nom'!$B$7,IF(G49=7,'Liste de nom'!$B$8,IF(G49=8,'Liste de nom'!$B$9,IF(G49=9,'Liste de nom'!$B$10,IF(G49=10,'Liste de nom'!$B$11,""))))))))))
A50: 2015 | B50: 49 | C50: 42343 | D50: ='Liste de nom'!$B$7 -> nom6 | E50: ='Liste de nom'!$B$8 -> nom7 | F50: ='Liste de nom'!$B$5 -> nom4 | G50: ='Liste de nom'!$B$6 -> nom5 | O50: =IF(D50=1,'Liste de nom'!$B$2,IF(D50=2,'Liste de nom'!$B$3,IF(D50=3,'Liste de nom'!$B$4,IF(D50=4,'Liste de nom'!$B$5,IF(D50=5,'Liste de nom'!$B$6,IF(D50=6,'Liste de nom'!$B$7,IF(D50=7,'Liste de nom'!$B$8,IF(D50=8,'Liste de nom'!$B$9,IF(D50=9,'Liste de nom'!$B$10,IF(D50=10,'Liste de nom'!$B$11,"")))))))))) | P50: =IF(E50=1,'Liste de nom'!$B$2,IF(E50=2,'Liste de nom'!$B$3,IF(E50=3,'Liste de nom'!$B$4,IF(E50=4,'Liste de nom'!$B$5,IF(E50=5,'Liste de nom'!$B$6,IF(E50=6,'Liste de nom'!$B$7,IF(E50=7,'Liste de nom'!$B$8,IF(E50=8,'Liste de nom'!$B$9,IF(E50=9,'Liste de nom'!$B$10,IF(E50=10,'Liste de nom'!$B$11,"")))))))))) | Q50: =IF(F50=1,'Liste de nom'!$B$2,IF(F50=2,'Liste de nom'!$B$3,IF(F50=3,'Liste de nom'!$B$4,IF(F50=4,'Liste de nom'!$B$5,IF(F50=5,'Liste de nom'!$B$6,IF(F50=6,'Liste de nom'!$B$7,IF(F50=7,'Liste de nom'!$B$8,IF(F50=8,'Liste de nom'!$B$9,IF(F50=9,'Liste de nom'!$B$10,IF(F50=10,'Liste de nom'!$B$11,"")))))))))) | R50: =IF(G50=1,'Liste de nom'!$B$2,IF(G50=2,'Liste de nom'!$B$3,IF(G50=3,'Liste de nom'!$B$4,IF(G50=4,'Liste de nom'!$B$5,IF(G50=5,'Liste de nom'!$B$6,IF(G50=6,'Liste de nom'!$B$7,IF(G50=7,'Liste de nom'!$B$8,IF(G50=8,'Liste de nom'!$B$9,IF(G50=9,'Liste de nom'!$B$10,IF(G50=10,'Liste de nom'!$B$11,""))))))))))
A51: 2015 | B51: 50 | C51: 42350 | D51: ='Liste de nom'!$B$9 -> nom8 | E51: ='Liste de nom'!$B$10 -> nom9 | F51: ='Liste de nom'!$B$11 -> nom10 | G51: ='Liste de nom'!$B$2 -> nom1 | O51: =IF(D51=1,'Liste de nom'!$B$2,IF(D51=2,'Liste de nom'!$B$3,IF(D51=3,'Liste de nom'!$B$4,IF(D51=4,'Liste de nom'!$B$5,IF(D51=5,'Liste de nom'!$B$6,IF(D51=6,'Liste de nom'!$B$7,IF(D51=7,'Liste de nom'!$B$8,IF(D51=8,'Liste de nom'!$B$9,IF(D51=9,'Liste de nom'!$B$10,IF(D51=10,'Liste de nom'!$B$11,"")))))))))) | P51: =IF(E51=1,'Liste de nom'!$B$2,IF(E51=2,'Liste de nom'!$B$3,IF(E51=3,'Liste de nom'!$B$4,IF(E51=4,'Liste de nom'!$B$5,IF(E51=5,'Liste de nom'!$B$6,IF(E51=6,'Liste de nom'!$B$7,IF(E51=7,'Liste de nom'!$B$8,IF(E51=8,'Liste de nom'!$B$9,IF(E51=9,'Liste de nom'!$B$10,IF(E51=10,'Liste de nom'!$B$11,"")))))))))) | Q51: =IF(F51=1,'Liste de nom'!$B$2,IF(F51=2,'Liste de nom'!$B$3,IF(F51=3,'Liste de nom'!$B$4,IF(F51=4,'Liste de nom'!$B$5,IF(F51=5,'Liste de nom'!$B$6,IF(F51=6,'Liste de nom'!$B$7,IF(F51=7,'Liste de nom'!$B$8,IF(F51=8,'Liste de nom'!$B$9,IF(F51=9,'Liste de nom'!$B$10,IF(F51=10,'Liste de nom'!$B$11,"")))))))))) | R51: =IF(G51=1,'Liste de nom'!$B$2,IF(G51=2,'Liste de nom'!$B$3,IF(G51=3,'Liste de nom'!$B$4,IF(G51=4,'Liste de nom'!$B$5,IF(G51=5,'Liste de nom'!$B$6,IF(G51=6,'Liste de nom'!$B$7,IF(G51=7,'Liste de nom'!$B$8,IF(G51=8,'Liste de nom'!$B$9,IF(G51=9,'Liste de nom'!$B$10,IF(G51=10,'Liste de nom'!$B$11,""))))))))))
A52: 2015 | B52: 51 | C52: 42357 | D52: ='Liste de nom'!$B$3 -> nom2 | E52: ='Liste de nom'!$B$5 -> nom4 | F52: ='Liste de nom'!$B$7 -> nom6 | G52: ='Liste de nom'!$B$9 -> nom8 | O52: =IF(D52=1,'Liste de nom'!$B$2,IF(D52=2,'Liste de nom'!$B$3,IF(D52=3,'Liste de nom'!$B$4,IF(D52=4,'Liste de nom'!$B$5,IF(D52=5,'Liste de nom'!$B$6,IF(D52=6,'Liste de nom'!$B$7,IF(D52=7,'Liste de nom'!$B$8,IF(D52=8,'Liste de nom'!$B$9,IF(D52=9,'Liste de nom'!$B$10,IF(D52=10,'Liste de nom'!$B$11,"")))))))))) | P52: =IF(E52=1,'Liste de nom'!$B$2,IF(E52=2,'Liste de nom'!$B$3,IF(E52=3,'Liste de nom'!$B$4,IF(E52=4,'Liste de nom'!$B$5,IF(E52=5,'Liste de nom'!$B$6,IF(E52=6,'Liste de nom'!$B$7,IF(E52=7,'Liste de nom'!$B$8,IF(E52=8,'Liste de nom'!$B$9,IF(E52=9,'Liste de nom'!$B$10,IF(E52=10,'Liste de nom'!$B$11,"")))))))))) | Q52: =IF(F52=1,'Liste de nom'!$B$2,IF(F52=2,'Liste de nom'!$B$3,IF(F52=3,'Liste de nom'!$B$4,IF(F52=4,'Liste de nom'!$B$5,IF(F52=5,'Liste de nom'!$B$6,IF(F52=6,'Liste de nom'!$B$7,IF(F52=7,'Liste de nom'!$B$8,IF(F52=8,'Liste de nom'!$B$9,IF(F52=9,'Liste de nom'!$B$10,IF(F52=10,'Liste de nom'!$B$11,"")))))))))) | R52: =IF(G52=1,'Liste de nom'!$B$2,IF(G52=2,'Liste de nom'!$B$3,IF(G52=3,'Liste de nom'!$B$4,IF(G52=4,'Liste de nom'!$B$5,IF(G52=5,'Liste de nom'!$B$6,IF(G52=6,'Liste de nom'!$B$7,IF(G52=7,'Liste de nom'!$B$8,IF(G52=8,'Liste de nom'!$B$9,IF(G52=9,'Liste de nom'!$B$10,IF(G52=10,'Liste de nom'!$B$11,""))))))))))
A53: 2015 | B53: 52 | C53: 42364 | D53: ='Liste de nom'!$B$11 -> nom10 | E53: ='Liste de nom'!$B$2 -> nom1 | F53: ='Liste de nom'!$B$4 -> nom3 | G53: ='Liste de nom'!$B$6 -> nom5 | O53: =IF(D53=1,'Liste de nom'!$B$2,IF(D53=2,'Liste de nom'!$B$3,IF(D53=3,'Liste de nom'!$B$4,IF(D53=4,'Liste de nom'!$B$5,IF(D53=5,'Liste de nom'!$B$6,IF(D53=6,'Liste de nom'!$B$7,IF(D53=7,'Liste de nom'!$B$8,IF(D53=8,'Liste de nom'!$B$9,IF(D53=9,'Liste de nom'!$B$10,IF(D53=10,'Liste de nom'!$B$11,"")))))))))) | P53: =IF(E53=1,'Liste de nom'!$B$2,IF(E53=2,'Liste de nom'!$B$3,IF(E53=3,'Liste de nom'!$B$4,IF(E53=4,'Liste de nom'!$B$5,IF(E53=5,'Liste de nom'!$B$6,IF(E53=6,'Liste de nom'!$B$7,IF(E53=7,'Liste de nom'!$B$8,IF(E53=8,'Liste de nom'!$B$9,IF(E53=9,'Liste de nom'!$B$10,IF(E53=10,'Liste de nom'!$B$11,"")))))))))) | Q53: =IF(F53=1,'Liste de nom'!$B$2,IF(F53=2,'Liste de nom'!$B$3,IF(F53=3,'Liste de nom'!$B$4,IF(F53=4,'Liste de nom'!$B$5,IF(F53=5,'Liste de nom'!$B$6,IF(F53=6,'Liste de nom'!$B$7,IF(F53=7,'Liste de nom'!$B$8,IF(F53=8,'Liste de nom'!$B$9,IF(F53=9,'Liste de nom'!$B$10,IF(F53=10,'Liste de nom'!$B$11,"")))))))))) | R53: =IF(G53=1,'Liste de nom'!$B$2,IF(G53=2,'Liste de nom'!$B$3,IF(G53=3,'Liste de nom'!$B$4,IF(G53=4,'Liste de nom'!$B$5,IF(G53=5,'Liste de nom'!$B$6,IF(G53=6,'Liste de nom'!$B$7,IF(G53=7,'Liste de nom'!$B$8,IF(G53=8,'Liste de nom'!$B$9,IF(G53=9,'Liste de nom'!$B$10,IF(G53=10,'Liste de nom'!$B$11,""))))))))))
A54: 2016 | B54: 1 | C54: 42371 | D54: ='Liste de nom'!$B$8 -> nom7 | E54: ='Liste de nom'!$B$10 -> nom9 | F54: ='Liste de nom'!$B$3 -> nom2 | G54: ='Liste de nom'!$B$5 -> nom4 | O54: =IF(D54=1,'Liste de nom'!$B$2,IF(D54=2,'Liste de nom'!$B$3,IF(D54=3,'Liste de nom'!$B$4,IF(D54=4,'Liste de nom'!$B$5,IF(D54=5,'Liste de nom'!$B$6,IF(D54=6,'Liste de nom'!$B$7,IF(D54=7,'Liste de nom'!$B$8,IF(D54=8,'Liste de nom'!$B$9,IF(D54=9,'Liste de nom'!$B$10,IF(D54=10,'Liste de nom'!$B$11,"")))))))))) | P54: =IF(E54=1,'Liste de nom'!$B$2,IF(E54=2,'Liste de nom'!$B$3,IF(E54=3,'Liste de nom'!$B$4,IF(E54=4,'Liste de nom'!$B$5,IF(E54=5,'Liste de nom'!$B$6,IF(E54=6,'Liste de nom'!$B$7,IF(E54=7,'Liste de nom'!$B$8,IF(E54=8,'Liste de nom'!$B$9,IF(E54=9,'Liste de nom'!$B$10,IF(E54=10,'Liste de nom'!$B$11,"")))))))))) | Q54: =IF(F54=1,'Liste de nom'!$B$2,IF(F54=2,'Liste de nom'!$B$3,IF(F54=3,'Liste de nom'!$B$4,IF(F54=4,'Liste de nom'!$B$5,IF(F54=5,'Liste de nom'!$B$6,IF(F54=6,'Liste de nom'!$B$7,IF(F54=7,'Liste de nom'!$B$8,IF(F54=8,'Liste de nom'!$B$9,IF(F54=9,'Liste de nom'!$B$10,IF(F54=10,'Liste de nom'!$B$11,"")))))))))) | R54: =IF(G54=1,'Liste de nom'!$B$2,IF(G54=2,'Liste de nom'!$B$3,IF(G54=3,'Liste de nom'!$B$4,IF(G54=4,'Liste de nom'!$B$5,IF(G54=5,'Liste de nom'!$B$6,IF(G54=6,'Liste de nom'!$B$7,IF(G54=7,'Liste de nom'!$B$8,IF(G54=8,'Liste de nom'!$B$9,IF(G54=9,'Liste de nom'!$B$10,IF(G54=10,'Liste de nom'!$B$11,""))))))))))
A55: 2016 | B55: 2 | C55: 42378 | D55: ='Liste de nom'!$B$7 -> nom6 | E55: ='Liste de nom'!$B$9 -> nom8 | F55: ='Liste de nom'!$B$11 -> nom10 | G55: ='Liste de nom'!$B$2 -> nom1 | O55: =IF(D55=1,'Liste de nom'!$B$2,IF(D55=2,'Liste de nom'!$B$3,IF(D55=3,'Liste de nom'!$B$4,IF(D55=4,'Liste de nom'!$B$5,IF(D55=5,'Liste de nom'!$B$6,IF(D55=6,'Liste de nom'!$B$7,IF(D55=7,'Liste de nom'!$B$8,IF(D55=8,'Liste de nom'!$B$9,IF(D55=9,'Liste de nom'!$B$10,IF(D55=10,'Liste de nom'!$B$11,"")))))))))) | P55: =IF(E55=1,'Liste de nom'!$B$2,IF(E55=2,'Liste de nom'!$B$3,IF(E55=3,'Liste de nom'!$B$4,IF(E55=4,'Liste de nom'!$B$5,IF(E55=5,'Liste de nom'!$B$6,IF(E55=6,'Liste de nom'!$B$7,IF(E55=7,'Liste de nom'!$B$8,IF(E55=8,'Liste de nom'!$B$9,IF(E55=9,'Liste de nom'!$B$10,IF(E55=10,'Liste de nom'!$B$11,"")))))))))) | Q55: =IF(F55=1,'Liste de nom'!$B$2,IF(F55=2,'Liste de nom'!$B$3,IF(F55=3,'Liste de nom'!$B$4,IF(F55=4,'Liste de nom'!$B$5,IF(F55=5,'Liste de nom'!$B$6,IF(F55=6,'Liste de nom'!$B$7,IF(F55=7,'Liste de nom'!$B$8,IF(F55=8,'Liste de nom'!$B$9,IF(F55=9,'Liste de nom'!$B$10,IF(F55=10,'Liste de nom'!$B$11,"")))))))))) | R55: =IF(G55=1,'Liste de nom'!$B$2,IF(G55=2,'Liste de nom'!$B$3,IF(G55=3,'Liste de nom'!$B$4,IF(G55=4,'Liste de nom'!$B$5,IF(G55=5,'Liste de nom'!$B$6,IF(G55=6,'Liste de nom'!$B$7,IF(G55=7,'Liste de nom'!$B$8,IF(G55=8,'Liste de nom'!$B$9,IF(G55=9,'Liste de nom'!$B$10,IF(G55=10,'Liste de nom'!$B$11,""))))))))))
A56: 2016 | B56: 3 | C56: 42385 | D56: ='Liste de nom'!$B$4 -> nom3 | E56: ='Liste de nom'!$B$6 -> nom5 | F56: ='Liste de nom'!$B$8 -> nom7 | G56: ='Liste de nom'!$B$10 -> nom9 | O56: =IF(D56=1,'Liste de nom'!$B$2,IF(D56=2,'Liste de nom'!$B$3,IF(D56=3,'Liste de nom'!$B$4,IF(D56=4,'Liste de nom'!$B$5,IF(D56=5,'Liste de nom'!$B$6,IF(D56=6,'Liste de nom'!$B$7,IF(D56=7,'Liste de nom'!$B$8,IF(D56=8,'Liste de nom'!$B$9,IF(D56=9,'Liste de nom'!$B$10,IF(D56=10,'Liste de nom'!$B$11,"")))))))))) | P56: =IF(E56=1,'Liste de nom'!$B$2,IF(E56=2,'Liste de nom'!$B$3,IF(E56=3,'Liste de nom'!$B$4,IF(E56=4,'Liste de nom'!$B$5,IF(E56=5,'Liste de nom'!$B$6,IF(E56=6,'Liste de nom'!$B$7,IF(E56=7,'Liste de nom'!$B$8,IF(E56=8,'Liste de nom'!$B$9,IF(E56=9,'Liste de nom'!$B$10,IF(E56=10,'Liste de nom'!$B$11,"")))))))))) | Q56: =IF(F56=1,'Liste de nom'!$B$2,IF(F56=2,'Liste de nom'!$B$3,IF(F56=3,'Liste de nom'!$B$4,IF(F56=4,'Liste de nom'!$B$5,IF(F56=5,'Liste de nom'!$B$6,IF(F56=6,'Liste de nom'!$B$7,IF(F56=7,'Liste de nom'!$B$8,IF(F56=8,'Liste de nom'!$B$9,IF(F56=9,'Liste de nom'!$B$10,IF(F56=10,'Liste de nom'!$B$11,"")))))))))) | R56: =IF(G56=1,'Liste de nom'!$B$2,IF(G56=2,'Liste de nom'!$B$3,IF(G56=3,'Liste de nom'!$B$4,IF(G56=4,'Liste de nom'!$B$5,IF(G56=5,'Liste de nom'!$B$6,IF(G56=6,'Liste de nom'!$B$7,IF(G56=7,'Liste de nom'!$B$8,IF(G56=8,'Liste de nom'!$B$9,IF(G56=9,'Liste de nom'!$B$10,IF(G56=10,'Liste de nom'!$B$11,""))))))))))
A57: 2016 | B57: 4 | C57: 42392 | D57: ='Liste de nom'!$B$11 -> nom10 | E57: ='Liste de nom'!$B$9 -> nom8 | F57: ='Liste de nom'!$B$7 -> nom6 | G57: ='Liste de nom'!$B$5 -> nom4 | O57: =IF(D57=1,'Liste de nom'!$B$2,IF(D57=2,'Liste de nom'!$B$3,IF(D57=3,'Liste de nom'!$B$4,IF(D57=4,'Liste de nom'!$B$5,IF(D57=5,'Liste de nom'!$B$6,IF(D57=6,'Liste de nom'!$B$7,IF(D57=7,'Liste de nom'!$B$8,IF(D57=8,'Liste de nom'!$B$9,IF(D57=9,'Liste de nom'!$B$10,IF(D57=10,'Liste de nom'!$B$11,"")))))))))) | P57: =IF(E57=1,'Liste de nom'!$B$2,IF(E57=2,'Liste de nom'!$B$3,IF(E57=3,'Liste de nom'!$B$4,IF(E57=4,'Liste de nom'!$B$5,IF(E57=5,'Liste de nom'!$B$6,IF(E57=6,'Liste de nom'!$B$7,IF(E57=7,'Liste de nom'!$B$8,IF(E57=8,'Liste de nom'!$B$9,IF(E57=9,'Liste de nom'!$B$10,IF(E57=10,'Liste de nom'!$B$11,"")))))))))) | Q57: =IF(F57=1,'Liste de nom'!$B$2,IF(F57=2,'Liste de nom'!$B$3,IF(F57=3,'Liste de nom'!$B$4,IF(F57=4,'Liste de nom'!$B$5,IF(F57=5,'Liste de nom'!$B$6,IF(F57=6,'Liste de nom'!$B$7,IF(F57=7,'Liste de nom'!$B$8,IF(F57=8,'Liste de nom'!$B$9,IF(F57=9,'Liste de nom'!$B$10,IF(F57=10,'Liste de nom'!$B$11,"")))))))))) | R57: =IF(G57=1,'Liste de nom'!$B$2,IF(G57=2,'Liste de nom'!$B$3,IF(G57=3,'Liste de nom'!$B$4,IF(G57=4,'Liste de nom'!$B$5,IF(G57=5,'Liste de nom'!$B$6,IF(G57=6,'Liste de nom'!$B$7,IF(G57=7,'Liste de nom'!$B$8,IF(G57=8,'Liste de nom'!$B$9,IF(G57=9,'Liste de nom'!$B$10,IF(G57=10,'Liste de nom'!$B$11,""))))))))))
A58: 2016 | B58: 5 | C58: 42399 | D58: ='Liste de nom'!$B$3 -> nom2 | E58: ='Liste de nom'!$B$10 -> nom9 | F58: ='Liste de nom'!$B$2 -> nom1 | G58: ='Liste de nom'!$B$4 -> nom3 | O58: =IF(D58=1,'Liste de nom'!$B$2,IF(D58=2,'Liste de nom'!$B$3,IF(D58=3,'Liste de nom'!$B$4,IF(D58=4,'Liste de nom'!$B$5,IF(D58=5,'Liste de nom'!$B$6,IF(D58=6,'Liste de nom'!$B$7,IF(D58=7,'Liste de nom'!$B$8,IF(D58=8,'Liste de nom'!$B$9,IF(D58=9,'Liste de nom'!$B$10,IF(D58=10,'Liste de nom'!$B$11,"")))))))))) | P58: =IF(E58=1,'Liste de nom'!$B$2,IF(E58=2,'Liste de nom'!$B$3,IF(E58=3,'Liste de nom'!$B$4,IF(E58=4,'Liste de nom'!$B$5,IF(E58=5,'Liste de nom'!$B$6,IF(E58=6,'Liste de nom'!$B$7,IF(E58=7,'Liste de nom'!$B$8,IF(E58=8,'Liste de nom'!$B$9,IF(E58=9,'Liste de nom'!$B$10,IF(E58=10,'Liste de nom'!$B$11,"")))))))))) | Q58: =IF(F58=1,'Liste de nom'!$B$2,IF(F58=2,'Liste de nom'!$B$3,IF(F58=3,'Liste de nom'!$B$4,IF(F58=4,'Liste de nom'!$B$5,IF(F58=5,'Liste de nom'!$B$6,IF(F58=6,'Liste de nom'!$B$7,IF(F58=7,'Liste de nom'!$B$8,IF(F58=8,'Liste de nom'!$B$9,IF(F58=9,'Liste de nom'!$B$10,IF(F58=10,'Liste de nom'!$B$11,"")))))))))) | R58: =IF(G58=1,'Liste de nom'!$B$2,IF(G58=2,'Liste de nom'!$B$3,IF(G58=3,'Liste de nom'!$B$4,IF(G58=4,'Liste de nom'!$B$5,IF(G58=5,'Liste de nom'!$B$6,IF(G58=6,'Liste de nom'!$B$7,IF(G58=7,'Liste de nom'!$B$8,IF(G58=8,'Liste de nom'!$B$9,IF(G58=9,'Liste de nom'!$B$10,IF(G58=10,'Liste de nom'!$B$11,""))))))))))
A59: 2016 | B59: 6 | C59: 42406 | D59: ='Liste de nom'!$B$6 -> nom5 | E59: ='Liste de nom'!$B$8 -> nom7 | F59: ='Liste de nom'!$B$11 -> nom10 | G59: ='Liste de nom'!$B$9 -> nom8 | O59: =IF(D59=1,'Liste de nom'!$B$2,IF(D59=2,'Liste de nom'!$B$3,IF(D59=3,'Liste de nom'!$B$4,IF(D59=4,'Liste de nom'!$B$5,IF(D59=5,'Liste de nom'!$B$6,IF(D59=6,'Liste de nom'!$B$7,IF(D59=7,'Liste de nom'!$B$8,IF(D59=8,'Liste de nom'!$B$9,IF(D59=9,'Liste de nom'!$B$10,IF(D59=10,'Liste de nom'!$B$11,"")))))))))) | P59: =IF(E59=1,'Liste de nom'!$B$2,IF(E59=2,'Liste de nom'!$B$3,IF(E59=3,'Liste de nom'!$B$4,IF(E59=4,'Liste de nom'!$B$5,IF(E59=5,'Liste de nom'!$B$6,IF(E59=6,'Liste de nom'!$B$7,IF(E59=7,'Liste de nom'!$B$8,IF(E59=8,'Liste de nom'!$B$9,IF(E59=9,'Liste de nom'!$B$10,IF(E59=10,'Liste de nom'!$B$11,"")))))))))) | Q59: =IF(F59=1,'Liste de nom'!$B$2,IF(F59=2,'Liste de nom'!$B$3,IF(F59=3,'Liste de nom'!$B$4,IF(F59=4,'Liste de nom'!$B$5,IF(F59=5,'Liste de nom'!$B$6,IF(F59=6,'Liste de nom'!$B$7,IF(F59=7,'Liste de nom'!$B$8,IF(F59=8,'Liste de nom'!$B$9,IF(F59=9,'Liste de nom'!$B$10,IF(F59=10,'Liste de nom'!$B$11,"")))))))))) | R59: =IF(G59=1,'Liste de nom'!$B$2,IF(G59=2,'Liste de nom'!$B$3,IF(G59=3,'Liste de nom'!$B$4,IF(G59=4,'Liste de nom'!$B$5,IF(G59=5,'Liste de nom'!$B$6,IF(G59=6,'Liste de nom'!$B$7,IF(G59=7,'Liste de nom'!$B$8,IF(G59=8,'Liste de nom'!$B$9,IF(G59=9,'Liste de nom'!$B$10,IF(G59=10,'Liste de nom'!$B$11,""))))))))))
A60: 2016 | B60: 7 | C60: 42413 | D60: ='Liste de nom'!$B$7 -> nom6 | E60: ='Liste de nom'!$B$5 -> nom4 | F60: ='Liste de nom'!$B$3 -> nom2 | G60: ='Liste de nom'!$B$10 -> nom9 | O60: =IF(D60=1,'Liste de nom'!$B$2,IF(D60=2,'Liste de nom'!$B$3,IF(D60=3,'Liste de nom'!$B$4,IF(D60=4,'Liste de nom'!$B$5,IF(D60=5,'Liste de nom'!$B$6,IF(D60=6,'Liste de nom'!$B$7,IF(D60=7,'Liste de nom'!$B$8,IF(D60=8,'Liste de nom'!$B$9,IF(D60=9,'Liste de nom'!$B$10,IF(D60=10,'Liste de nom'!$B$11,"")))))))))) | P60: =IF(E60=1,'Liste de nom'!$B$2,IF(E60=2,'Liste de nom'!$B$3,IF(E60=3,'Liste de nom'!$B$4,IF(E60=4,'Liste de nom'!$B$5,IF(E60=5,'Liste de nom'!$B$6,IF(E60=6,'Liste de nom'!$B$7,IF(E60=7,'Liste de nom'!$B$8,IF(E60=8,'Liste de nom'!$B$9,IF(E60=9,'Liste de nom'!$B$10,IF(E60=10,'Liste de nom'!$B$11,"")))))))))) | Q60: =IF(F60=1,'Liste de nom'!$B$2,IF(F60=2,'Liste de nom'!$B$3,IF(F60=3,'Liste de nom'!$B$4,IF(F60=4,'Liste de nom'!$B$5,IF(F60=5,'Liste de nom'!$B$6,IF(F60=6,'Liste de nom'!$B$7,IF(F60=7,'Liste de nom'!$B$8,IF(F60=8,'Liste de nom'!$B$9,IF(F60=9,'Liste de nom'!$B$10,IF(F60=10,'Liste de nom'!$B$11,"")))))))))) | R60: =IF(G60=1,'Liste de nom'!$B$2,IF(G60=2,'Liste de nom'!$B$3,IF(G60=3,'Liste de nom'!$B$4,IF(G60=4,'Liste de nom'!$B$5,IF(G60=5,'Liste de nom'!$B$6,IF(G60=6,'Liste de nom'!$B$7,IF(G60=7,'Liste de nom'!$B$8,IF(G60=8,'Liste de nom'!$B$9,IF(G60=9,'Liste de nom'!$B$10,IF(G60=10,'Liste de nom'!$B$11,""))))))))))
A61: 2016 | B61: 8 | C61: 42420 | D61: ='Liste de nom'!$B$2 -> nom1 | E61: ='Liste de nom'!$B$4 -> nom3 | F61: ='Liste de nom'!$B$6 -> nom5 | G61: ='Liste de nom'!$B$8 -> nom7 | O61: =IF(D61=1,'Liste de nom'!$B$2,IF(D61=2,'Liste de nom'!$B$3,IF(D61=3,'Liste de nom'!$B$4,IF(D61=4,'Liste de nom'!$B$5,IF(D61=5,'Liste de nom'!$B$6,IF(D61=6,'Liste de nom'!$B$7,IF(D61=7,'Liste de nom'!$B$8,IF(D61=8,'Liste de nom'!$B$9,IF(D61=9,'Liste de nom'!$B$10,IF(D61=10,'Liste de nom'!$B$11,"")))))))))) | P61: =IF(E61=1,'Liste de nom'!$B$2,IF(E61=2,'Liste de nom'!$B$3,IF(E61=3,'Liste de nom'!$B$4,IF(E61=4,'Liste de nom'!$B$5,IF(E61=5,'Liste de nom'!$B$6,IF(E61=6,'Liste de nom'!$B$7,IF(E61=7,'Liste de nom'!$B$8,IF(E61=8,'Liste de nom'!$B$9,IF(E61=9,'Liste de nom'!$B$10,IF(E61=10,'Liste de nom'!$B$11,"")))))))))) | Q61: =IF(F61=1,'Liste de nom'!$B$2,IF(F61=2,'Liste de nom'!$B$3,IF(F61=3,'Liste de nom'!$B$4,IF(F61=4,'Liste de nom'!$B$5,IF(F61=5,'Liste de nom'!$B$6,IF(F61=6,'Liste de nom'!$B$7,IF(F61=7,'Liste de nom'!$B$8,IF(F61=8,'Liste de nom'!$B$9,IF(F61=9,'Liste de nom'!$B$10,IF(F61=10,'Liste de nom'!$B$11,"")))))))))) | R61: =IF(G61=1,'Liste de nom'!$B$2,IF(G61=2,'Liste de nom'!$B$3,IF(G61=3,'Liste de nom'!$B$4,IF(G61=4,'Liste de nom'!$B$5,IF(G61=5,'Liste de nom'!$B$6,IF(G61=6,'Liste de nom'!$B$7,IF(G61=7,'Liste de nom'!$B$8,IF(G61=8,'Liste de nom'!$B$9,IF(G61=9,'Liste de nom'!$B$10,IF(G61=10,'Liste de nom'!$B$11,""))))))))))
A62: 2016 | B62: 9 | C62: 42427 | D62: ='Liste de nom'!$B$11 -> nom10 | E62: ='Liste de nom'!$B$10 -> nom9 | F62: ='Liste de nom'!$B$8 -> nom7 | G62: ='Liste de nom'!$B$7 -> nom6 | O62: =IF(D62=1,'Liste de nom'!$B$2,IF(D62=2,'Liste de nom'!$B$3,IF(D62=3,'Liste de nom'!$B$4,IF(D62=4,'Liste de nom'!$B$5,IF(D62=5,'Liste de nom'!$B$6,IF(D62=6,'Liste de nom'!$B$7,IF(D62=7,'Liste de nom'!$B$8,IF(D62=8,'Liste de nom'!$B$9,IF(D62=9,'Liste de nom'!$B$10,IF(D62=10,'Liste de nom'!$B$11,"")))))))))) | P62: =IF(E62=1,'Liste de nom'!$B$2,IF(E62=2,'Liste de nom'!$B$3,IF(E62=3,'Liste de nom'!$B$4,IF(E62=4,'Liste de nom'!$B$5,IF(E62=5,'Liste de nom'!$B$6,IF(E62=6,'Liste de nom'!$B$7,IF(E62=7,'Liste de nom'!$B$8,IF(E62=8,'Liste de nom'!$B$9,IF(E62=9,'Liste de nom'!$B$10,IF(E62=10,'Liste de nom'!$B$11,"")))))))))) | Q62: =IF(F62=1,'Liste de nom'!$B$2,IF(F62=2,'Liste de nom'!$B$3,IF(F62=3,'Liste de nom'!$B$4,IF(F62=4,'Liste de nom'!$B$5,IF(F62=5,'Liste de nom'!$B$6,IF(F62=6,'Liste de nom'!$B$7,IF(F62=7,'Liste de nom'!$B$8,IF(F62=8,'Liste de nom'!$B$9,IF(F62=9,'Liste de nom'!$B$10,IF(F62=10,'Liste de nom'!$B$11,"")))))))))) | R62: =IF(G62=1,'Liste de nom'!$B$2,IF(G62=2,'Liste de nom'!$B$3,IF(G62=3,'Liste de nom'!$B$4,IF(G62=4,'Liste de nom'!$B$5,IF(G62=5,'Liste de nom'!$B$6,IF(G62=6,'Liste de nom'!$B$7,IF(G62=7,'Liste de nom'!$B$8,IF(G62=8,'Liste de nom'!$B$9,IF(G62=9,'Liste de nom'!$B$10,IF(G62=10,'Liste de nom'!$B$11,""))))))))))
A63: 2016 | B63: 10 | C63: 42434 | D63: ='Liste de nom'!$B$6 -> nom5 | E63: ='Liste de nom'!$B$5 -> nom4 | F63: ='Liste de nom'!$B$3 -> nom2 | G63: ='Liste de nom'!$B$2 -> nom1 | O63: =IF(D63=1,'Liste de nom'!$B$2,IF(D63=2,'Liste de nom'!$B$3,IF(D63=3,'Liste de nom'!$B$4,IF(D63=4,'Liste de nom'!$B$5,IF(D63=5,'Liste de nom'!$B$6,IF(D63=6,'Liste de nom'!$B$7,IF(D63=7,'Liste de nom'!$B$8,IF(D63=8,'Liste de nom'!$B$9,IF(D63=9,'Liste de nom'!$B$10,IF(D63=10,'Liste de nom'!$B$11,"")))))))))) | P63: =IF(E63=1,'Liste de nom'!$B$2,IF(E63=2,'Liste de nom'!$B$3,IF(E63=3,'Liste de nom'!$B$4,IF(E63=4,'Liste de nom'!$B$5,IF(E63=5,'Liste de nom'!$B$6,IF(E63=6,'Liste de nom'!$B$7,IF(E63=7,'Liste de nom'!$B$8,IF(E63=8,'Liste de nom'!$B$9,IF(E63=9,'Liste de nom'!$B$10,IF(E63=10,'Liste de nom'!$B$11,"")))))))))) | Q63: =IF(F63=1,'Liste de nom'!$B$2,IF(F63=2,'Liste de nom'!$B$3,IF(F63=3,'Liste de nom'!$B$4,IF(F63=4,'Liste de nom'!$B$5,IF(F63=5,'Liste de nom'!$B$6,IF(F63=6,'Liste de nom'!$B$7,IF(F63=7,'Liste de nom'!$B$8,IF(F63=8,'Liste de nom'!$B$9,IF(F63=9,'Liste de nom'!$B$10,IF(F63=10,'Liste de nom'!$B$11,"")))))))))) | R63: =IF(G63=1,'Liste de nom'!$B$2,IF(G63=2,'Liste de nom'!$B$3,IF(G63=3,'Liste de nom'!$B$4,IF(G63=4,'Liste de nom'!$B$5,IF(G63=5,'Liste de nom'!$B$6,IF(G63=6,'Liste de nom'!$B$7,IF(G63=7,'Liste de nom'!$B$8,IF(G63=8,'Liste de nom'!$B$9,IF(G63=9,'Liste de nom'!$B$10,IF(G63=10,'Liste de nom'!$B$11,""))))))))))
A64: 2016 | B64: 11 | C64: 42441 | D64: ='Liste de nom'!$B$9 -> nom8 | E64: ='Liste de nom'!$B$4 -> nom3 | F64: ='Liste de nom'!$B$11 -> nom10 | G64: ='Liste de nom'!$B$10 -> nom9 | O64: =IF(D64=1,'Liste de nom'!$B$2,IF(D64=2,'Liste de nom'!$B$3,IF(D64=3,'Liste de nom'!$B$4,IF(D64=4,'Liste de nom'!$B$5,IF(D64=5,'Liste de nom'!$B$6,IF(D64=6,'Liste de nom'!$B$7,IF(D64=7,'Liste de nom'!$B$8,IF(D64=8,'Liste de nom'!$B$9,IF(D64=9,'Liste de nom'!$B$10,IF(D64=10,'Liste de nom'!$B$11,"")))))))))) | P64: =IF(E64=1,'Liste de nom'!$B$2,IF(E64=2,'Liste de nom'!$B$3,IF(E64=3,'Liste de nom'!$B$4,IF(E64=4,'Liste de nom'!$B$5,IF(E64=5,'Liste de nom'!$B$6,IF(E64=6,'Liste de nom'!$B$7,IF(E64=7,'Liste de nom'!$B$8,IF(E64=8,'Liste de nom'!$B$9,IF(E64=9,'Liste de nom'!$B$10,IF(E64=10,'Liste de nom'!$B$11,"")))))))))) | Q64: =IF(F64=1,'Liste de nom'!$B$2,IF(F64=2,'Liste de nom'!$B$3,IF(F64=3,'Liste de nom'!$B$4,IF(F64=4,'Liste de nom'!$B$5,IF(F64=5,'Liste de nom'!$B$6,IF(F64=6,'Liste de nom'!$B$7,IF(F64=7,'Liste de nom'!$B$8,IF(F64=8,'Liste de nom'!$B$9,IF(F64=9,'Liste de nom'!$B$10,IF(F64=10,'Liste de nom'!$B$11,"")))))))))) | R64: =IF(G64=1,'Liste de nom'!$B$2,IF(G64=2,'Liste de nom'!$B$3,IF(G64=3,'Liste de nom'!$B$4,IF(G64=4,'Liste de nom'!$B$5,IF(G64=5,'Liste de nom'!$B$6,IF(G64=6,'Liste de nom'!$B$7,IF(G64=7,'Liste de nom'!$B$8,IF(G64=8,'Liste de nom'!$B$9,IF(G64=9,'Liste de nom'!$B$10,IF(G64=10,'Liste de nom'!$B$11,""))))))))))
A65: 2016 | B65: 12 | C65: 42448 | D65: ='Liste de nom'!$B$8 -> nom7 | E65: ='Liste de nom'!$B$7 -> nom6 | F65: ='Liste de nom'!$B$6 -> nom5 | G65: ='Liste de nom'!$B$5 -> nom4 | O65: =IF(D65=1,'Liste de nom'!$B$2,IF(D65=2,'Liste de nom'!$B$3,IF(D65=3,'Liste de nom'!$B$4,IF(D65=4,'Liste de nom'!$B$5,IF(D65=5,'Liste de nom'!$B$6,IF(D65=6,'Liste de nom'!$B$7,IF(D65=7,'Liste de nom'!$B$8,IF(D65=8,'Liste de nom'!$B$9,IF(D65=9,'Liste de nom'!$B$10,IF(D65=10,'Liste de nom'!$B$11,"")))))))))) | P65: =IF(E65=1,'Liste de nom'!$B$2,IF(E65=2,'Liste de nom'!$B$3,IF(E65=3,'Liste de nom'!$B$4,IF(E65=4,'Liste de nom'!$B$5,IF(E65=5,'Liste de nom'!$B$6,IF(E65=6,'Liste de nom'!$B$7,IF(E65=7,'Liste de nom'!$B$8,IF(E65=8,'Liste de nom'!$B$9,IF(E65=9,'Liste de nom'!$B$10,IF(E65=10,'Liste de nom'!$B$11,"")))))))))) | Q65: =IF(F65=1,'Liste de nom'!$B$2,IF(F65=2,'Liste de nom'!$B$3,IF(F65=3,'Liste de nom'!$B$4,IF(F65=4,'Liste de nom'!$B$5,IF(F65=5,'Liste de nom'!$B$6,IF(F65=6,'Liste de nom'!$B$7,IF(F65=7,'Liste de nom'!$B$8,IF(F65=8,'Liste de nom'!$B$9,IF(F65=9,'Liste de nom'!$B$10,IF(F65=10,'Liste de nom'!$B$11,"")))))))))) | R65: =IF(G65=1,'Liste de nom'!$B$2,IF(G65=2,'Liste de nom'!$B$3,IF(G65=3,'Liste de nom'!$B$4,IF(G65=4,'Liste de nom'!$B$5,IF(G65=5,'Liste de nom'!$B$6,IF(G65=6,'Liste de nom'!$B$7,IF(G65=7,'Liste de nom'!$B$8,IF(G65=8,'Liste de nom'!$B$9,IF(G65=9,'Liste de nom'!$B$10,IF(G65=10,'Liste de nom'!$B$11,""))))))))))
A66: 2016 | B66: 13 | C66: 42455 | D66: ='Liste de nom'!$B$3 -> nom2 | E66: ='Liste de nom'!$B$2 -> nom1 | F66: ='Liste de nom'!$B$9 -> nom8 | G66: ='Liste de nom'!$B$4 -> nom3 | O66: =IF(D66=1,'Liste de nom'!$B$2,IF(D66=2,'Liste de nom'!$B$3,IF(D66=3,'Liste de nom'!$B$4,IF(D66=4,'Liste de nom'!$B$5,IF(D66=5,'Liste de nom'!$B$6,IF(D66=6,'Liste de nom'!$B$7,IF(D66=7,'Liste de nom'!$B$8,IF(D66=8,'Liste de nom'!$B$9,IF(D66=9,'Liste de nom'!$B$10,IF(D66=10,'Liste de nom'!$B$11,"")))))))))) | P66: =IF(E66=1,'Liste de nom'!$B$2,IF(E66=2,'Liste de nom'!$B$3,IF(E66=3,'Liste de nom'!$B$4,IF(E66=4,'Liste de nom'!$B$5,IF(E66=5,'Liste de nom'!$B$6,IF(E66=6,'Liste de nom'!$B$7,IF(E66=7,'Liste de nom'!$B$8,IF(E66=8,'Liste de nom'!$B$9,IF(E66=9,'Liste de nom'!$B$10,IF(E66=10,'Liste de nom'!$B$11,"")))))))))) | Q66: =IF(F66=1,'Liste de nom'!$B$2,IF(F66=2,'Liste de nom'!$B$3,IF(F66=3,'Liste de nom'!$B$4,IF(F66=4,'Liste de nom'!$B$5,IF(F66=5,'Liste de nom'!$B$6,IF(F66=6,'Liste de nom'!$B$7,IF(F66=7,'Liste de nom'!$B$8,IF(F66=8,'Liste de nom'!$B$9,IF(F66=9,'Liste de nom'!$B$10,IF(F66=10,'Liste de nom'!$B$11,"")))))))))) | R66: =IF(G66=1,'Liste de nom'!$B$2,IF(G66=2,'Liste de nom'!$B$3,IF(G66=3,'Liste de nom'!$B$4,IF(G66=4,'Liste de nom'!$B$5,IF(G66=5,'Liste de nom'!$B$6,IF(G66=6,'Liste de nom'!$B$7,IF(G66=7,'Liste de nom'!$B$8,IF(G66=8,'Liste de nom'!$B$9,IF(G66=9,'Liste de nom'!$B$10,IF(G66=10,'Liste de nom'!$B$11,""))))))))))
A67: 2016 | B67: 14 | C67: 42462 | D67: ='Liste de nom'!$B$10 -> nom9 | E67: ='Liste de nom'!$B$8 -> nom7 | F67: ='Liste de nom'!$B$6 -> nom5 | G67: ='Liste de nom'!$B$4 -> nom3 | O67: =IF(D67=1,'Liste de nom'!$B$2,IF(D67=2,'Liste de nom'!$B$3,IF(D67=3,'Liste de nom'!$B$4,IF(D67=4,'Liste de nom'!$B$5,IF(D67=5,'Liste de nom'!$B$6,IF(D67=6,'Liste de nom'!$B$7,IF(D67=7,'Liste de nom'!$B$8,IF(D67=8,'Liste de nom'!$B$9,IF(D67=9,'Liste de nom'!$B$10,IF(D67=10,'Liste de nom'!$B$11,"")))))))))) | P67: =IF(E67=1,'Liste de nom'!$B$2,IF(E67=2,'Liste de nom'!$B$3,IF(E67=3,'Liste de nom'!$B$4,IF(E67=4,'Liste de nom'!$B$5,IF(E67=5,'Liste de nom'!$B$6,IF(E67=6,'Liste de nom'!$B$7,IF(E67=7,'Liste de nom'!$B$8,IF(E67=8,'Liste de nom'!$B$9,IF(E67=9,'Liste de nom'!$B$10,IF(E67=10,'Liste de nom'!$B$11,"")))))))))) | Q67: =IF(F67=1,'Liste de nom'!$B$2,IF(F67=2,'Liste de nom'!$B$3,IF(F67=3,'Liste de nom'!$B$4,IF(F67=4,'Liste de nom'!$B$5,IF(F67=5,'Liste de nom'!$B$6,IF(F67=6,'Liste de nom'!$B$7,IF(F67=7,'Liste de nom'!$B$8,IF(F67=8,'Liste de nom'!$B$9,IF(F67=9,'Liste de nom'!$B$10,IF(F67=10,'Liste de nom'!$B$11,"")))))))))) | R67: =IF(G67=1,'Liste de nom'!$B$2,IF(G67=2,'Liste de nom'!$B$3,IF(G67=3,'Liste de nom'!$B$4,IF(G67=4,'Liste de nom'!$B$5,IF(G67=5,'Liste de nom'!$B$6,IF(G67=6,'Liste de nom'!$B$7,IF(G67=7,'Liste de nom'!$B$8,IF(G67=8,'Liste de nom'!$B$9,IF(G67=9,'Liste de nom'!$B$10,IF(G67=10,'Liste de nom'!$B$11,""))))))))))
A68: 2016 | B68: 15 | C68: 42469 | D68: ='Liste de nom'!$B$2 -> nom1 | E68: ='Liste de nom'!$B$11 -> nom10 | F68: ='Liste de nom'!$B$9 -> nom8 | G68: ='Liste de nom'!$B$7 -> nom6 | O68: =IF(D68=1,'Liste de nom'!$B$2,IF(D68=2,'Liste de nom'!$B$3,IF(D68=3,'Liste de nom'!$B$4,IF(D68=4,'Liste de nom'!$B$5,IF(D68=5,'Liste de nom'!$B$6,IF(D68=6,'Liste de nom'!$B$7,IF(D68=7,'Liste de nom'!$B$8,IF(D68=8,'Liste de nom'!$B$9,IF(D68=9,'Liste de nom'!$B$10,IF(D68=10,'Liste de nom'!$B$11,"")))))))))) | P68: =IF(E68=1,'Liste de nom'!$B$2,IF(E68=2,'Liste de nom'!$B$3,IF(E68=3,'Liste de nom'!$B$4,IF(E68=4,'Liste de nom'!$B$5,IF(E68=5,'Liste de nom'!$B$6,IF(E68=6,'Liste de nom'!$B$7,IF(E68=7,'Liste de nom'!$B$8,IF(E68=8,'Liste de nom'!$B$9,IF(E68=9,'Liste de nom'!$B$10,IF(E68=10,'Liste de nom'!$B$11,"")))))))))) | Q68: =IF(F68=1,'Liste de nom'!$B$2,IF(F68=2,'Liste de nom'!$B$3,IF(F68=3,'Liste de nom'!$B$4,IF(F68=4,'Liste de nom'!$B$5,IF(F68=5,'Liste de nom'!$B$6,IF(F68=6,'Liste de nom'!$B$7,IF(F68=7,'Liste de nom'!$B$8,IF(F68=8,'Liste de nom'!$B$9,IF(F68=9,'Liste de nom'!$B$10,IF(F68=10,'Liste de nom'!$B$11,"")))))))))) | R68: =IF(G68=1,'Liste de nom'!$B$2,IF(G68=2,'Liste de nom'!$B$3,IF(G68=3,'Liste de nom'!$B$4,IF(G68=4,'Liste de nom'!$B$5,IF(G68=5,'Liste de nom'!$B$6,IF(G68=6,'Liste de nom'!$B$7,IF(G68=7,'Liste de nom'!$B$8,IF(G68=8,'Liste de nom'!$B$9,IF(G68=9,'Liste de nom'!$B$10,IF(G68=10,'Liste de nom'!$B$11,""))))))))))
A69: 2016 | B69: 16 | C69: 42476 | D69: ='Liste de nom'!$B$5 -> nom4 | E69: ='Liste de nom'!$B$3 -> nom2 | F69: ='Liste de nom'!$B$10 -> nom9 | G69: ='Liste de nom'!$B$8 -> nom7 | O69: =IF(D69=1,'Liste de nom'!$B$2,IF(D69=2,'Liste de nom'!$B$3,IF(D69=3,'Liste de nom'!$B$4,IF(D69=4,'Liste de nom'!$B$5,IF(D69=5,'Liste de nom'!$B$6,IF(D69=6,'Liste de nom'!$B$7,IF(D69=7,'Liste de nom'!$B$8,IF(D69=8,'Liste de nom'!$B$9,IF(D69=9,'Liste de nom'!$B$10,IF(D69=10,'Liste de nom'!$B$11,"")))))))))) | P69: =IF(E69=1,'Liste de nom'!$B$2,IF(E69=2,'Liste de nom'!$B$3,IF(E69=3,'Liste de nom'!$B$4,IF(E69=4,'Liste de nom'!$B$5,IF(E69=5,'Liste de nom'!$B$6,IF(E69=6,'Liste de nom'!$B$7,IF(E69=7,'Liste de nom'!$B$8,IF(E69=8,'Liste de nom'!$B$9,IF(E69=9,'Liste de nom'!$B$10,IF(E69=10,'Liste de nom'!$B$11,"")))))))))) | Q69: =IF(F69=1,'Liste de nom'!$B$2,IF(F69=2,'Liste de nom'!$B$3,IF(F69=3,'Liste de nom'!$B$4,IF(F69=4,'Liste de nom'!$B$5,IF(F69=5,'Liste de nom'!$B$6,IF(F69=6,'Liste de nom'!$B$7,IF(F69=7,'Liste de nom'!$B$8,IF(F69=8,'Liste de nom'!$B$9,IF(F69=9,'Liste de nom'!$B$10,IF(F69=10,'Liste de nom'!$B$11,"")))))))))) | R69: =IF(G69=1,'Liste de nom'!$B$2,IF(G69=2,'Liste de nom'!$B$3,IF(G69=3,'Liste de nom'!$B$4,IF(G69=4,'Liste de nom'!$B$5,IF(G69=5,'Liste de nom'!$B$6,IF(G69=6,'Liste de nom'!$B$7,IF(G69=7,'Liste de nom'!$B$8,IF(G69=8,'Liste de nom'!$B$9,IF(G69=9,'Liste de nom'!$B$10,IF(G69=10,'Liste de nom'!$B$11,""))))))))))
A70: 2016 | B70: 17 | C70: 42483 | D70: ='Liste de nom'!$B$6 -> nom5 | E70: ='Liste de nom'!$B$4 -> nom3 | F70: ='Liste de nom'!$B$2 -> nom1 | G70: ='Liste de nom'!$B$11 -> nom10 | O70: =IF(D70=1,'Liste de nom'!$B$2,IF(D70=2,'Liste de nom'!$B$3,IF(D70=3,'Liste de nom'!$B$4,IF(D70=4,'Liste de nom'!$B$5,IF(D70=5,'Liste de nom'!$B$6,IF(D70=6,'Liste de nom'!$B$7,IF(D70=7,'Liste de nom'!$B$8,IF(D70=8,'Liste de nom'!$B$9,IF(D70=9,'Liste de nom'!$B$10,IF(D70=10,'Liste de nom'!$B$11,"")))))))))) | P70: =IF(E70=1,'Liste de nom'!$B$2,IF(E70=2,'Liste de nom'!$B$3,IF(E70=3,'Liste de nom'!$B$4,IF(E70=4,'Liste de nom'!$B$5,IF(E70=5,'Liste de nom'!$B$6,IF(E70=6,'Liste de nom'!$B$7,IF(E70=7,'Liste de nom'!$B$8,IF(E70=8,'Liste de nom'!$B$9,IF(E70=9,'Liste de nom'!$B$10,IF(E70=10,'Liste de nom'!$B$11,"")))))))))) | Q70: =IF(F70=1,'Liste de nom'!$B$2,IF(F70=2,'Liste de nom'!$B$3,IF(F70=3,'Liste de nom'!$B$4,IF(F70=4,'Liste de nom'!$B$5,IF(F70=5,'Liste de nom'!$B$6,IF(F70=6,'Liste de nom'!$B$7,IF(F70=7,'Liste de nom'!$B$8,IF(F70=8,'Liste de nom'!$B$9,IF(F70=9,'Liste de nom'!$B$10,IF(F70=10,'Liste de nom'!$B$11,"")))))))))) | R70: =IF(G70=1,'Liste de nom'!$B$2,IF(G70=2,'Liste de nom'!$B$3,IF(G70=3,'Liste de nom'!$B$4,IF(G70=4,'Liste de nom'!$B$5,IF(G70=5,'Liste de nom'!$B$6,IF(G70=6,'Liste de nom'!$B$7,IF(G70=7,'Liste de nom'!$B$8,IF(G70=8,'Liste de nom'!$B$9,IF(G70=9,'Liste de nom'!$B$10,IF(G70=10,'Liste de nom'!$B$11,""))))))))))
A71: 2016 | B71: 18 | C71: 42490 | D71: ='Liste de nom'!$B$9 -> nom8 | E71: ='Liste de nom'!$B$7 -> nom6 | F71: ='Liste de nom'!$B$5 -> nom4 | G71: ='Liste de nom'!$B$3 -> nom2 | O71: =IF(D71=1,'Liste de nom'!$B$2,IF(D71=2,'Liste de nom'!$B$3,IF(D71=3,'Liste de nom'!$B$4,IF(D71=4,'Liste de nom'!$B$5,IF(D71=5,'Liste de nom'!$B$6,IF(D71=6,'Liste de nom'!$B$7,IF(D71=7,'Liste de nom'!$B$8,IF(D71=8,'Liste de nom'!$B$9,IF(D71=9,'Liste de nom'!$B$10,IF(D71=10,'Liste de nom'!$B$11,"")))))))))) | P71: =IF(E71=1,'Liste de nom'!$B$2,IF(E71=2,'Liste de nom'!$B$3,IF(E71=3,'Liste de nom'!$B$4,IF(E71=4,'Liste de nom'!$B$5,IF(E71=5,'Liste de nom'!$B$6,IF(E71=6,'Liste de nom'!$B$7,IF(E71=7,'Liste de nom'!$B$8,IF(E71=8,'Liste de nom'!$B$9,IF(E71=9,'Liste de nom'!$B$10,IF(E71=10,'Liste de nom'!$B$11,"")))))))))) | Q71: =IF(F71=1,'Liste de nom'!$B$2,IF(F71=2,'Liste de nom'!$B$3,IF(F71=3,'Liste de nom'!$B$4,IF(F71=4,'Liste de nom'!$B$5,IF(F71=5,'Liste de nom'!$B$6,IF(F71=6,'Liste de nom'!$B$7,IF(F71=7,'Liste de nom'!$B$8,IF(F71=8,'Liste de nom'!$B$9,IF(F71=9,'Liste de nom'!$B$10,IF(F71=10,'Liste de nom'!$B$11,"")))))))))) | R71: =IF(G71=1,'Liste de nom'!$B$2,IF(G71=2,'Liste de nom'!$B$3,IF(G71=3,'Liste de nom'!$B$4,IF(G71=4,'Liste de nom'!$B$5,IF(G71=5,'Liste de nom'!$B$6,IF(G71=6,'Liste de nom'!$B$7,IF(G71=7,'Liste de nom'!$B$8,IF(G71=8,'Liste de nom'!$B$9,IF(G71=9,'Liste de nom'!$B$10,IF(G71=10,'Liste de nom'!$B$11,""))))))))))
A72: 2016 | B72: 19 | C72: 42497 | D72: ='Liste de nom'!$B$2 -> nom1 | E72: ='Liste de nom'!$B$3 -> nom2 | F72: ='Liste de nom'!$B$4 -> nom3 | G72: ='Liste de nom'!$B$5 -> nom4 | O72: =IF(D72=1,'Liste de nom'!$B$2,IF(D72=2,'Liste de nom'!$B$3,IF(D72=3,'Liste de nom'!$B$4,IF(D72=4,'Liste de nom'!$B$5,IF(D72=5,'Liste de nom'!$B$6,IF(D72=6,'Liste de nom'!$B$7,IF(D72=7,'Liste de nom'!$B$8,IF(D72=8,'Liste de nom'!$B$9,IF(D72=9,'Liste de nom'!$B$10,IF(D72=10,'Liste de nom'!$B$11,"")))))))))) | P72: =IF(E72=1,'Liste de nom'!$B$2,IF(E72=2,'Liste de nom'!$B$3,IF(E72=3,'Liste de nom'!$B$4,IF(E72=4,'Liste de nom'!$B$5,IF(E72=5,'Liste de nom'!$B$6,IF(E72=6,'Liste de nom'!$B$7,IF(E72=7,'Liste de nom'!$B$8,IF(E72=8,'Liste de nom'!$B$9,IF(E72=9,'Liste de nom'!$B$10,IF(E72=10,'Liste de nom'!$B$11,"")))))))))) | Q72: =IF(F72=1,'Liste de nom'!$B$2,IF(F72=2,'Liste de nom'!$B$3,IF(F72=3,'Liste de nom'!$B$4,IF(F72=4,'Liste de nom'!$B$5,IF(F72=5,'Liste de nom'!$B$6,IF(F72=6,'Liste de nom'!$B$7,IF(F72=7,'Liste de nom'!$B$8,IF(F72=8,'Liste de nom'!$B$9,IF(F72=9,'Liste de nom'!$B$10,IF(F72=10,'Liste de nom'!$B$11,"")))))))))) | R72: =IF(G72=1,'Liste de nom'!$B$2,IF(G72=2,'Liste de nom'!$B$3,IF(G72=3,'Liste de nom'!$B$4,IF(G72=4,'Liste de nom'!$B$5,IF(G72=5,'Liste de nom'!$B$6,IF(G72=6,'Liste de nom'!$B$7,IF(G72=7,'Liste de nom'!$B$8,IF(G72=8,'Liste de nom'!$B$9,IF(G72=9,'Liste de nom'!$B$10,IF(G72=10,'Liste de nom'!$B$11,""))))))))))
A73: 2016 | B73: 20 | C73: 42504 | D73: ='Liste de nom'!$B$6 -> nom5 | E73: ='Liste de nom'!$B$7 -> nom6 | F73: ='Liste de nom'!$B$8 -> nom7 | G73: ='Liste de nom'!$B$9 -> nom8 | O73: =IF(D73=1,'Liste de nom'!$B$2,IF(D73=2,'Liste de nom'!$B$3,IF(D73=3,'Liste de nom'!$B$4,IF(D73=4,'Liste de nom'!$B$5,IF(D73=5,'Liste de nom'!$B$6,IF(D73=6,'Liste de nom'!$B$7,IF(D73=7,'Liste de nom'!$B$8,IF(D73=8,'Liste de nom'!$B$9,IF(D73=9,'Liste de nom'!$B$10,IF(D73=10,'Liste de nom'!$B$11,"")))))))))) | P73: =IF(E73=1,'Liste de nom'!$B$2,IF(E73=2,'Liste de nom'!$B$3,IF(E73=3,'Liste de nom'!$B$4,IF(E73=4,'Liste de nom'!$B$5,IF(E73=5,'Liste de nom'!$B$6,IF(E73=6,'Liste de nom'!$B$7,IF(E73=7,'Liste de nom'!$B$8,IF(E73=8,'Liste de nom'!$B$9,IF(E73=9,'Liste de nom'!$B$10,IF(E73=10,'Liste de nom'!$B$11,"")))))))))) | Q73: =IF(F73=1,'Liste de nom'!$B$2,IF(F73=2,'Liste de nom'!$B$3,IF(F73=3,'Liste de nom'!$B$4,IF(F73=4,'Liste de nom'!$B$5,IF(F73=5,'Liste de nom'!$B$6,IF(F73=6,'Liste de nom'!$B$7,IF(F73=7,'Liste de nom'!$B$8,IF(F73=8,'Liste de nom'!$B$9,IF(F73=9,'Liste de nom'!$B$10,IF(F73=10,'Liste de nom'!$B$11,"")))))))))) | R73: =IF(G73=1,'Liste de nom'!$B$2,IF(G73=2,'Liste de nom'!$B$3,IF(G73=3,'Liste de nom'!$B$4,IF(G73=4,'Liste de nom'!$B$5,IF(G73=5,'Liste de nom'!$B$6,IF(G73=6,'Liste de nom'!$B$7,IF(G73=7,'Liste de nom'!$B$8,IF(G73=8,'Liste de nom'!$B$9,IF(G73=9,'Liste de nom'!$B$10,IF(G73=10,'Liste de nom'!$B$11,""))))))))))
A74: 2016 | B74: 21 | C74: 42511 | D74: ='Liste de nom'!$B$10 -> nom9 | E74: ='Liste de nom'!$B$11 -> nom10 | F74: ='Liste de nom'!$B$2 -> nom1 | G74: ='Liste de nom'!$B$3 -> nom2 | O74: =IF(D74=1,'Liste de nom'!$B$2,IF(D74=2,'Liste de nom'!$B$3,IF(D74=3,'Liste de nom'!$B$4,IF(D74=4,'Liste de nom'!$B$5,IF(D74=5,'Liste de nom'!$B$6,IF(D74=6,'Liste de nom'!$B$7,IF(D74=7,'Liste de nom'!$B$8,IF(D74=8,'Liste de nom'!$B$9,IF(D74=9,'Liste de nom'!$B$10,IF(D74=10,'Liste de nom'!$B$11,"")))))))))) | P74: =IF(E74=1,'Liste de nom'!$B$2,IF(E74=2,'Liste de nom'!$B$3,IF(E74=3,'Liste de nom'!$B$4,IF(E74=4,'Liste de nom'!$B$5,IF(E74=5,'Liste de nom'!$B$6,IF(E74=6,'Liste de nom'!$B$7,IF(E74=7,'Liste de nom'!$B$8,IF(E74=8,'Liste de nom'!$B$9,IF(E74=9,'Liste de nom'!$B$10,IF(E74=10,'Liste de nom'!$B$11,"")))))))))) | Q74: =IF(F74=1,'Liste de nom'!$B$2,IF(F74=2,'Liste de nom'!$B$3,IF(F74=3,'Liste de nom'!$B$4,IF(F74=4,'Liste de nom'!$B$5,IF(F74=5,'Liste de nom'!$B$6,IF(F74=6,'Liste de nom'!$B$7,IF(F74=7,'Liste de nom'!$B$8,IF(F74=8,'Liste de nom'!$B$9,IF(F74=9,'Liste de nom'!$B$10,IF(F74=10,'Liste de nom'!$B$11,"")))))))))) | R74: =IF(G74=1,'Liste de nom'!$B$2,IF(G74=2,'Liste de nom'!$B$3,IF(G74=3,'Liste de nom'!$B$4,IF(G74=4,'Liste de nom'!$B$5,IF(G74=5,'Liste de nom'!$B$6,IF(G74=6,'Liste de nom'!$B$7,IF(G74=7,'Liste de nom'!$B$8,IF(G74=8,'Liste de nom'!$B$9,IF(G74=9,'Liste de nom'!$B$10,IF(G74=10,'Liste de nom'!$B$11,""))))))))))
A75: 2016 | B75: 22 | C75: 42518 | D75: ='Liste de nom'!$B$4 -> nom3 | E75: ='Liste de nom'!$B$5 -> nom4 | F75: ='Liste de nom'!$B$6 -> nom5 | G75: ='Liste de nom'!$B$7 -> nom6 | O75: =IF(D75=1,'Liste de nom'!$B$2,IF(D75=2,'Liste de nom'!$B$3,IF(D75=3,'Liste de nom'!$B$4,IF(D75=4,'Liste de nom'!$B$5,IF(D75=5,'Liste de nom'!$B$6,IF(D75=6,'Liste de nom'!$B$7,IF(D75=7,'Liste de nom'!$B$8,IF(D75=8,'Liste de nom'!$B$9,IF(D75=9,'Liste de nom'!$B$10,IF(D75=10,'Liste de nom'!$B$11,"")))))))))) | P75: =IF(E75=1,'Liste de nom'!$B$2,IF(E75=2,'Liste de nom'!$B$3,IF(E75=3,'Liste de nom'!$B$4,IF(E75=4,'Liste de nom'!$B$5,IF(E75=5,'Liste de nom'!$B$6,IF(E75=6,'Liste de nom'!$B$7,IF(E75=7,'Liste de nom'!$B$8,IF(E75=8,'Liste de nom'!$B$9,IF(E75=9,'Liste de nom'!$B$10,IF(E75=10,'Liste de nom'!$B$11,"")))))))))) | Q75: =IF(F75=1,'Liste de nom'!$B$2,IF(F75=2,'Liste de nom'!$B$3,IF(F75=3,'Liste de nom'!$B$4,IF(F75=4,'Liste de nom'!$B$5,IF(F75=5,'Liste de nom'!$B$6,IF(F75=6,'Liste de nom'!$B$7,IF(F75=7,'Liste de nom'!$B$8,IF(F75=8,'Liste de nom'!$B$9,IF(F75=9,'Liste de nom'!$B$10,IF(F75=10,'Liste de nom'!$B$11,"")))))))))) | R75: =IF(G75=1,'Liste de nom'!$B$2,IF(G75=2,'Liste de nom'!$B$3,IF(G75=3,'Liste de nom'!$B$4,IF(G75=4,'Liste de nom'!$B$5,IF(G75=5,'Liste de nom'!$B$6,IF(G75=6,'Liste de nom'!$B$7,IF(G75=7,'Liste de nom'!$B$8,IF(G75=8,'Liste de nom'!$B$9,IF(G75=9,'Liste de nom'!$B$10,IF(G75=10,'Liste de nom'!$B$11,""))))))))))
A76: 2016 | B76: 23 | C76: 42525 | D76: ='Liste de nom'!$B$8 -> nom7 | E76: ='Liste de nom'!$B$9 -> nom8 | F76: ='Liste de nom'!$B$10 -> nom9 | G76: ='Liste de nom'!$B$11 -> nom10 | O76: =IF(D76=1,'Liste de nom'!$B$2,IF(D76=2,'Liste de nom'!$B$3,IF(D76=3,'Liste de nom'!$B$4,IF(D76=4,'Liste de nom'!$B$5,IF(D76=5,'Liste de nom'!$B$6,IF(D76=6,'Liste de nom'!$B$7,IF(D76=7,'Liste de nom'!$B$8,IF(D76=8,'Liste de nom'!$B$9,IF(D76=9,'Liste de nom'!$B$10,IF(D76=10,'Liste de nom'!$B$11,"")))))))))) | P76: =IF(E76=1,'Liste de nom'!$B$2,IF(E76=2,'Liste de nom'!$B$3,IF(E76=3,'Liste de nom'!$B$4,IF(E76=4,'Liste de nom'!$B$5,IF(E76=5,'Liste de nom'!$B$6,IF(E76=6,'Liste de nom'!$B$7,IF(E76=7,'Liste de nom'!$B$8,IF(E76=8,'Liste de nom'!$B$9,IF(E76=9,'Liste de nom'!$B$10,IF(E76=10,'Liste de nom'!$B$11,"")))))))))) | Q76: =IF(F76=1,'Liste de nom'!$B$2,IF(F76=2,'Liste de nom'!$B$3,IF(F76=3,'Liste de nom'!$B$4,IF(F76=4,'Liste de nom'!$B$5,IF(F76=5,'Liste de nom'!$B$6,IF(F76=6,'Liste de nom'!$B$7,IF(F76=7,'Liste de nom'!$B$8,IF(F76=8,'Liste de nom'!$B$9,IF(F76=9,'Liste de nom'!$B$10,IF(F76=10,'Liste de nom'!$B$11,"")))))))))) | R76: =IF(G76=1,'Liste de nom'!$B$2,IF(G76=2,'Liste de nom'!$B$3,IF(G76=3,'Liste de nom'!$B$4,IF(G76=4,'Liste de nom'!$B$5,IF(G76=5,'Liste de nom'!$B$6,IF(G76=6,'Liste de nom'!$B$7,IF(G76=7,'Liste de nom'!$B$8,IF(G76=8,'Liste de nom'!$B$9,IF(G76=9,'Liste de nom'!$B$10,IF(G76=10,'Liste de nom'!$B$11,""))))))))))
A77: 2016 | B77: 24 | C77: 42532 | D77: ='Liste de nom'!$B$2 -> nom1 | E77: ='Liste de nom'!$B$4 -> nom3 | F77: ='Liste de nom'!$B$6 -> nom5 | G77: ='Liste de nom'!$B$8 -> nom7 | O77: =IF(D77=1,'Liste de nom'!$B$2,IF(D77=2,'Liste de nom'!$B$3,IF(D77=3,'Liste de nom'!$B$4,IF(D77=4,'Liste de nom'!$B$5,IF(D77=5,'Liste de nom'!$B$6,IF(D77=6,'Liste de nom'!$B$7,IF(D77=7,'Liste de nom'!$B$8,IF(D77=8,'Liste de nom'!$B$9,IF(D77=9,'Liste de nom'!$B$10,IF(D77=10,'Liste de nom'!$B$11,"")))))))))) | P77: =IF(E77=1,'Liste de nom'!$B$2,IF(E77=2,'Liste de nom'!$B$3,IF(E77=3,'Liste de nom'!$B$4,IF(E77=4,'Liste de nom'!$B$5,IF(E77=5,'Liste de nom'!$B$6,IF(E77=6,'Liste de nom'!$B$7,IF(E77=7,'Liste de nom'!$B$8,IF(E77=8,'Liste de nom'!$B$9,IF(E77=9,'Liste de nom'!$B$10,IF(E77=10,'Liste de nom'!$B$11,"")))))))))) | Q77: =IF(F77=1,'Liste de nom'!$B$2,IF(F77=2,'Liste de nom'!$B$3,IF(F77=3,'Liste de nom'!$B$4,IF(F77=4,'Liste de nom'!$B$5,IF(F77=5,'Liste de nom'!$B$6,IF(F77=6,'Liste de nom'!$B$7,IF(F77=7,'Liste de nom'!$B$8,IF(F77=8,'Liste de nom'!$B$9,IF(F77=9,'Liste de nom'!$B$10,IF(F77=10,'Liste de nom'!$B$11,"")))))))))) | R77: =IF(G77=1,'Liste de nom'!$B$2,IF(G77=2,'Liste de nom'!$B$3,IF(G77=3,'Liste de nom'!$B$4,IF(G77=4,'Liste de nom'!$B$5,IF(G77=5,'Liste de nom'!$B$6,IF(G77=6,'Liste de nom'!$B$7,IF(G77=7,'Liste de nom'!$B$8,IF(G77=8,'Liste de nom'!$B$9,IF(G77=9,'Liste de nom'!$B$10,IF(G77=10,'Liste de nom'!$B$11,""))))))))))
A78: 2016 | B78: 25 | C78: 42539 | D78: ='Liste de nom'!$B$10 -> nom9 | E78: ='Liste de nom'!$B$3 -> nom2 | F78: ='Liste de nom'!$B$5 -> nom4 | G78: ='Liste de nom'!$B$7 -> nom6 | O78: =IF(D78=1,'Liste de nom'!$B$2,IF(D78=2,'Liste de nom'!$B$3,IF(D78=3,'Liste de nom'!$B$4,IF(D78=4,'Liste de nom'!$B$5,IF(D78=5,'Liste de nom'!$B$6,IF(D78=6,'Liste de nom'!$B$7,IF(D78=7,'Liste de nom'!$B$8,IF(D78=8,'Liste de nom'!$B$9,IF(D78=9,'Liste de nom'!$B$10,IF(D78=10,'Liste de nom'!$B$11,"")))))))))) | P78: =IF(E78=1,'Liste de nom'!$B$2,IF(E78=2,'Liste de nom'!$B$3,IF(E78=3,'Liste de nom'!$B$4,IF(E78=4,'Liste de nom'!$B$5,IF(E78=5,'Liste de nom'!$B$6,IF(E78=6,'Liste de nom'!$B$7,IF(E78=7,'Liste de nom'!$B$8,IF(E78=8,'Liste de nom'!$B$9,IF(E78=9,'Liste de nom'!$B$10,IF(E78=10,'Liste de nom'!$B$11,"")))))))))) | Q78: =IF(F78=1,'Liste de nom'!$B$2,IF(F78=2,'Liste de nom'!$B$3,IF(F78=3,'Liste de nom'!$B$4,IF(F78=4,'Liste de nom'!$B$5,IF(F78=5,'Liste de nom'!$B$6,IF(F78=6,'Liste de nom'!$B$7,IF(F78=7,'Liste de nom'!$B$8,IF(F78=8,'Liste de nom'!$B$9,IF(F78=9,'Liste de nom'!$B$10,IF(F78=10,'Liste de nom'!$B$11,"")))))))))) | R78: =IF(G78=1,'Liste de nom'!$B$2,IF(G78=2,'Liste de nom'!$B$3,IF(G78=3,'Liste de nom'!$B$4,IF(G78=4,'Liste de nom'!$B$5,IF(G78=5,'Liste de nom'!$B$6,IF(G78=6,'Liste de nom'!$B$7,IF(G78=7,'Liste de nom'!$B$8,IF(G78=8,'Liste de nom'!$B$9,IF(G78=9,'Liste de nom'!$B$10,IF(G78=10,'Liste de nom'!$B$11,""))))))))))
A79: 2016 | B79: 26 | C79: 42546 | D79: ='Liste de nom'!$B$9 -> nom8 | E79: ='Liste de nom'!$B$11 -> nom10 | F79: ='Liste de nom'!$B$2 -> nom1 | G79: ='Liste de nom'!$B$4 -> nom3 | O79: =IF(D79=1,'Liste de nom'!$B$2,IF(D79=2,'Liste de nom'!$B$3,IF(D79=3,'Liste de nom'!$B$4,IF(D79=4,'Liste de nom'!$B$5,IF(D79=5,'Liste de nom'!$B$6,IF(D79=6,'Liste de nom'!$B$7,IF(D79=7,'Liste de nom'!$B$8,IF(D79=8,'Liste de nom'!$B$9,IF(D79=9,'Liste de nom'!$B$10,IF(D79=10,'Liste de nom'!$B$11,"")))))))))) | P79: =IF(E79=1,'Liste de nom'!$B$2,IF(E79=2,'Liste de nom'!$B$3,IF(E79=3,'Liste de nom'!$B$4,IF(E79=4,'Liste de nom'!$B$5,IF(E79=5,'Liste de nom'!$B$6,IF(E79=6,'Liste de nom'!$B$7,IF(E79=7,'Liste de nom'!$B$8,IF(E79=8,'Liste de nom'!$B$9,IF(E79=9,'Liste de nom'!$B$10,IF(E79=10,'Liste de nom'!$B$11,"")))))))))) | Q79: =IF(F79=1,'Liste de nom'!$B$2,IF(F79=2,'Liste de nom'!$B$3,IF(F79=3,'Liste de nom'!$B$4,IF(F79=4,'Liste de nom'!$B$5,IF(F79=5,'Liste de nom'!$B$6,IF(F79=6,'Liste de nom'!$B$7,IF(F79=7,'Liste de nom'!$B$8,IF(F79=8,'Liste de nom'!$B$9,IF(F79=9,'Liste de nom'!$B$10,IF(F79=10,'Liste de nom'!$B$11,"")))))))))) | R79: =IF(G79=1,'Liste de nom'!$B$2,IF(G79=2,'Liste de nom'!$B$3,IF(G79=3,'Liste de nom'!$B$4,IF(G79=4,'Liste de nom'!$B$5,IF(G79=5,'Liste de nom'!$B$6,IF(G79=6,'Liste de nom'!$B$7,IF(G79=7,'Liste de nom'!$B$8,IF(G79=8,'Liste de nom'!$B$9,IF(G79=9,'Liste de nom'!$B$10,IF(G79=10,'Liste de nom'!$B$11,""))))))))))
A80: 2016 | B80: 27 | C80: 42553 | D80: ='Liste de nom'!$B$6 -> nom5 | E80: ='Liste de nom'!$B$8 -> nom7 | F80: ='Liste de nom'!$B$10 -> nom9 | G80: ='Liste de nom'!$B$3 -> nom2 | O80: =IF(D80=1,'Liste de nom'!$B$2,IF(D80=2,'Liste de nom'!$B$3,IF(D80=3,'Liste de nom'!$B$4,IF(D80=4,'Liste de nom'!$B$5,IF(D80=5,'Liste de nom'!$B$6,IF(D80=6,'Liste de nom'!$B$7,IF(D80=7,'Liste de nom'!$B$8,IF(D80=8,'Liste de nom'!$B$9,IF(D80=9,'Liste de nom'!$B$10,IF(D80=10,'Liste de nom'!$B$11,"")))))))))) | P80: =IF(E80=1,'Liste de nom'!$B$2,IF(E80=2,'Liste de nom'!$B$3,IF(E80=3,'Liste de nom'!$B$4,IF(E80=4,'Liste de nom'!$B$5,IF(E80=5,'Liste de nom'!$B$6,IF(E80=6,'Liste de nom'!$B$7,IF(E80=7,'Liste de nom'!$B$8,IF(E80=8,'Liste de nom'!$B$9,IF(E80=9,'Liste de nom'!$B$10,IF(E80=10,'Liste de nom'!$B$11,"")))))))))) | Q80: =IF(F80=1,'Liste de nom'!$B$2,IF(F80=2,'Liste de nom'!$B$3,IF(F80=3,'Liste de nom'!$B$4,IF(F80=4,'Liste de nom'!$B$5,IF(F80=5,'Liste de nom'!$B$6,IF(F80=6,'Liste de nom'!$B$7,IF(F80=7,'Liste de nom'!$B$8,IF(F80=8,'Liste de nom'!$B$9,IF(F80=9,'Liste de nom'!$B$10,IF(F80=10,'Liste de nom'!$B$11,"")))))))))) | R80: =IF(G80=1,'Liste de nom'!$B$2,IF(G80=2,'Liste de nom'!$B$3,IF(G80=3,'Liste de nom'!$B$4,IF(G80=4,'Liste de nom'!$B$5,IF(G80=5,'Liste de nom'!$B$6,IF(G80=6,'Liste de nom'!$B$7,IF(G80=7,'Liste de nom'!$B$8,IF(G80=8,'Liste de nom'!$B$9,IF(G80=9,'Liste de nom'!$B$10,IF(G80=10,'Liste de nom'!$B$11,""))))))))))
A81: 2016 | B81: 28 | C81: 42560 | D81: ='Liste de nom'!$B$5 -> nom4 | E81: ='Liste de nom'!$B$7 -> nom6 | F81: ='Liste de nom'!$B$9 -> nom8 | G81: ='Liste de nom'!$B$11 -> nom10 | O81: =IF(D81=1,'Liste de nom'!$B$2,IF(D81=2,'Liste de nom'!$B$3,IF(D81=3,'Liste de nom'!$B$4,IF(D81=4,'Liste de nom'!$B$5,IF(D81=5,'Liste de nom'!$B$6,IF(D81=6,'Liste de nom'!$B$7,IF(D81=7,'Liste de nom'!$B$8,IF(D81=8,'Liste de nom'!$B$9,IF(D81=9,'Liste de nom'!$B$10,IF(D81=10,'Liste de nom'!$B$11,"")))))))))) | P81: =IF(E81=1,'Liste de nom'!$B$2,IF(E81=2,'Liste de nom'!$B$3,IF(E81=3,'Liste de nom'!$B$4,IF(E81=4,'Liste de nom'!$B$5,IF(E81=5,'Liste de nom'!$B$6,IF(E81=6,'Liste de nom'!$B$7,IF(E81=7,'Liste de nom'!$B$8,IF(E81=8,'Liste de nom'!$B$9,IF(E81=9,'Liste de nom'!$B$10,IF(E81=10,'Liste de nom'!$B$11,"")))))))))) | Q81: =IF(F81=1,'Liste de nom'!$B$2,IF(F81=2,'Liste de nom'!$B$3,IF(F81=3,'Liste de nom'!$B$4,IF(F81=4,'Liste de nom'!$B$5,IF(F81=5,'Liste de nom'!$B$6,IF(F81=6,'Liste de nom'!$B$7,IF(F81=7,'Liste de nom'!$B$8,IF(F81=8,'Liste de nom'!$B$9,IF(F81=9,'Liste de nom'!$B$10,IF(F81=10,'Liste de nom'!$B$11,"")))))))))) | R81: =IF(G81=1,'Liste de nom'!$B$2,IF(G81=2,'Liste de nom'!$B$3,IF(G81=3,'Liste de nom'!$B$4,IF(G81=4,'Liste de nom'!$B$5,IF(G81=5,'Liste de nom'!$B$6,IF(G81=6,'Liste de nom'!$B$7,IF(G81=7,'Liste de nom'!$B$8,IF(G81=8,'Liste de nom'!$B$9,IF(G81=9,'Liste de nom'!$B$10,IF(G81=10,'Liste de nom'!$B$11,""))))))))))
A82: 2016 | B82: 29 | C82: 42567 | D82: ='Liste de nom'!$B$3 -> nom2 | E82: ='Liste de nom'!$B$4 -> nom3 | F82: ='Liste de nom'!$B$7 -> nom6 | G82: ='Liste de nom'!$B$8 -> nom7 | O82: =IF(D82=1,'Liste de nom'!$B$2,IF(D82=2,'Liste de nom'!$B$3,IF(D82=3,'Liste de nom'!$B$4,IF(D82=4,'Liste de nom'!$B$5,IF(D82=5,'Liste de nom'!$B$6,IF(D82=6,'Liste de nom'!$B$7,IF(D82=7,'Liste de nom'!$B$8,IF(D82=8,'Liste de nom'!$B$9,IF(D82=9,'Liste de nom'!$B$10,IF(D82=10,'Liste de nom'!$B$11,"")))))))))) | P82: =IF(E82=1,'Liste de nom'!$B$2,IF(E82=2,'Liste de nom'!$B$3,IF(E82=3,'Liste de nom'!$B$4,IF(E82=4,'Liste de nom'!$B$5,IF(E82=5,'Liste de nom'!$B$6,IF(E82=6,'Liste de nom'!$B$7,IF(E82=7,'Liste de nom'!$B$8,IF(E82=8,'Liste de nom'!$B$9,IF(E82=9,'Liste de nom'!$B$10,IF(E82=10,'Liste de nom'!$B$11,"")))))))))) | Q82: =IF(F82=1,'Liste de nom'!$B$2,IF(F82=2,'Liste de nom'!$B$3,IF(F82=3,'Liste de nom'!$B$4,IF(F82=4,'Liste de nom'!$B$5,IF(F82=5,'Liste de nom'!$B$6,IF(F82=6,'Liste de nom'!$B$7,IF(F82=7,'Liste de nom'!$B$8,IF(F82=8,'Liste de nom'!$B$9,IF(F82=9,'Liste de nom'!$B$10,IF(F82=10,'Liste de nom'!$B$11,"")))))))))) | R82: =IF(G82=1,'Liste de nom'!$B$2,IF(G82=2,'Liste de nom'!$B$3,IF(G82=3,'Liste de nom'!$B$4,IF(G82=4,'Liste de nom'!$B$5,IF(G82=5,'Liste de nom'!$B$6,IF(G82=6,'Liste de nom'!$B$7,IF(G82=7,'Liste de nom'!$B$8,IF(G82=8,'Liste de nom'!$B$9,IF(G82=9,'Liste de nom'!$B$10,IF(G82=10,'Liste de nom'!$B$11,""))))))))))
A83: 2016 | B83: 30 | C83: 42574 | D83: ='Liste de nom'!$B$5 -> nom4 | E83: ='Liste de nom'!$B$6 -> nom5 | F83: ='Liste de nom'!$B$9 -> nom8 | G83: ='Liste de nom'!$B$10 -> nom9 | O83: =IF(D83=1,'Liste de nom'!$B$2,IF(D83=2,'Liste de nom'!$B$3,IF(D83=3,'Liste de nom'!$B$4,IF(D83=4,'Liste de nom'!$B$5,IF(D83=5,'Liste de nom'!$B$6,IF(D83=6,'Liste de nom'!$B$7,IF(D83=7,'Liste de nom'!$B$8,IF(D83=8,'Liste de nom'!$B$9,IF(D83=9,'Liste de nom'!$B$10,IF(D83=10,'Liste de nom'!$B$11,"")))))))))) | P83: =IF(E83=1,'Liste de nom'!$B$2,IF(E83=2,'Liste de nom'!$B$3,IF(E83=3,'Liste de nom'!$B$4,IF(E83=4,'Liste de nom'!$B$5,IF(E83=5,'Liste de nom'!$B$6,IF(E83=6,'Liste de nom'!$B$7,IF(E83=7,'Liste de nom'!$B$8,IF(E83=8,'Liste de nom'!$B$9,IF(E83=9,'Liste de nom'!$B$10,IF(E83=10,'Liste de nom'!$B$11,"")))))))))) | Q83: =IF(F83=1,'Liste de nom'!$B$2,IF(F83=2,'Liste de nom'!$B$3,IF(F83=3,'Liste de nom'!$B$4,IF(F83=4,'Liste de nom'!$B$5,IF(F83=5,'Liste de nom'!$B$6,IF(F83=6,'Liste de nom'!$B$7,IF(F83=7,'Liste de nom'!$B$8,IF(F83=8,'Liste de nom'!$B$9,IF(F83=9,'Liste de nom'!$B$10,IF(F83=10,'Liste de nom'!$B$11,"")))))))))) | R83: =IF(G83=1,'Liste de nom'!$B$2,IF(G83=2,'Liste de nom'!$B$3,IF(G83=3,'Liste de nom'!$B$4,IF(G83=4,'Liste de nom'!$B$5,IF(G83=5,'Liste de nom'!$B$6,IF(G83=6,'Liste de nom'!$B$7,IF(G83=7,'Liste de nom'!$B$8,IF(G83=8,'Liste de nom'!$B$9,IF(G83=9,'Liste de nom'!$B$10,IF(G83=10,'Liste de nom'!$B$11,""))))))))))
A84: 2016 | B84: 31 | C84: 42581 | D84: ='Liste de nom'!$B$11 -> nom10 | E84: ='Liste de nom'!$B$2 -> nom1 | F84: ='Liste de nom'!$B$3 -> nom2 | G84: ='Liste de nom'!$B$4 -> nom3 | O84: =IF(D84=1,'Liste de nom'!$B$2,IF(D84=2,'Liste de nom'!$B$3,IF(D84=3,'Liste de nom'!$B$4,IF(D84=4,'Liste de nom'!$B$5,IF(D84=5,'Liste de nom'!$B$6,IF(D84=6,'Liste de nom'!$B$7,IF(D84=7,'Liste de nom'!$B$8,IF(D84=8,'Liste de nom'!$B$9,IF(D84=9,'Liste de nom'!$B$10,IF(D84=10,'Liste de nom'!$B$11,"")))))))))) | P84: =IF(E84=1,'Liste de nom'!$B$2,IF(E84=2,'Liste de nom'!$B$3,IF(E84=3,'Liste de nom'!$B$4,IF(E84=4,'Liste de nom'!$B$5,IF(E84=5,'Liste de nom'!$B$6,IF(E84=6,'Liste de nom'!$B$7,IF(E84=7,'Liste de nom'!$B$8,IF(E84=8,'Liste de nom'!$B$9,IF(E84=9,'Liste de nom'!$B$10,IF(E84=10,'Liste de nom'!$B$11,"")))))))))) | Q84: =IF(F84=1,'Liste de nom'!$B$2,IF(F84=2,'Liste de nom'!$B$3,IF(F84=3,'Liste de nom'!$B$4,IF(F84=4,'Liste de nom'!$B$5,IF(F84=5,'Liste de nom'!$B$6,IF(F84=6,'Liste de nom'!$B$7,IF(F84=7,'Liste de nom'!$B$8,IF(F84=8,'Liste de nom'!$B$9,IF(F84=9,'Liste de nom'!$B$10,IF(F84=10,'Liste de nom'!$B$11,"")))))))))) | R84: =IF(G84=1,'Liste de nom'!$B$2,IF(G84=2,'Liste de nom'!$B$3,IF(G84=3,'Liste de nom'!$B$4,IF(G84=4,'Liste de nom'!$B$5,IF(G84=5,'Liste de nom'!$B$6,IF(G84=6,'Liste de nom'!$B$7,IF(G84=7,'Liste de nom'!$B$8,IF(G84=8,'Liste de nom'!$B$9,IF(G84=9,'Liste de nom'!$B$10,IF(G84=10,'Liste de nom'!$B$11,""))))))))))
A85: 2016 | B85: 32 | C85: 42588 | D85: ='Liste de nom'!$B$7 -> nom6 | E85: ='Liste de nom'!$B$8 -> nom7 | F85: ='Liste de nom'!$B$5 -> nom4 | G85: ='Liste de nom'!$B$6 -> nom5 | O85: =IF(D85=1,'Liste de nom'!$B$2,IF(D85=2,'Liste de nom'!$B$3,IF(D85=3,'Liste de nom'!$B$4,IF(D85=4,'Liste de nom'!$B$5,IF(D85=5,'Liste de nom'!$B$6,IF(D85=6,'Liste de nom'!$B$7,IF(D85=7,'Liste de nom'!$B$8,IF(D85=8,'Liste de nom'!$B$9,IF(D85=9,'Liste de nom'!$B$10,IF(D85=10,'Liste de nom'!$B$11,"")))))))))) | P85: =IF(E85=1,'Liste de nom'!$B$2,IF(E85=2,'Liste de nom'!$B$3,IF(E85=3,'Liste de nom'!$B$4,IF(E85=4,'Liste de nom'!$B$5,IF(E85=5,'Liste de nom'!$B$6,IF(E85=6,'Liste de nom'!$B$7,IF(E85=7,'Liste de nom'!$B$8,IF(E85=8,'Liste de nom'!$B$9,IF(E85=9,'Liste de nom'!$B$10,IF(E85=10,'Liste de nom'!$B$11,"")))))))))) | Q85: =IF(F85=1,'Liste de nom'!$B$2,IF(F85=2,'Liste de nom'!$B$3,IF(F85=3,'Liste de nom'!$B$4,IF(F85=4,'Liste de nom'!$B$5,IF(F85=5,'Liste de nom'!$B$6,IF(F85=6,'Liste de nom'!$B$7,IF(F85=7,'Liste de nom'!$B$8,IF(F85=8,'Liste de nom'!$B$9,IF(F85=9,'Liste de nom'!$B$10,IF(F85=10,'Liste de nom'!$B$11,"")))))))))) | R85: =IF(G85=1,'Liste de nom'!$B$2,IF(G85=2,'Liste de nom'!$B$3,IF(G85=3,'Liste de nom'!$B$4,IF(G85=4,'Liste de nom'!$B$5,IF(G85=5,'Liste de nom'!$B$6,IF(G85=6,'Liste de nom'!$B$7,IF(G85=7,'Liste de nom'!$B$8,IF(G85=8,'Liste de nom'!$B$9,IF(G85=9,'Liste de nom'!$B$10,IF(G85=10,'Liste de nom'!$B$11,""))))))))))
A86: 2016 | B86: 33 | C86: 42595 | D86: ='Liste de nom'!$B$9 -> nom8 | E86: ='Liste de nom'!$B$10 -> nom9 | F86: ='Liste de nom'!$B$11 -> nom10 | G86: ='Liste de nom'!$B$2 -> nom1 | O86: =IF(D86=1,'Liste de nom'!$B$2,IF(D86=2,'Liste de nom'!$B$3,IF(D86=3,'Liste de nom'!$B$4,IF(D86=4,'Liste de nom'!$B$5,IF(D86=5,'Liste de nom'!$B$6,IF(D86=6,'Liste de nom'!$B$7,IF(D86=7,'Liste de nom'!$B$8,IF(D86=8,'Liste de nom'!$B$9,IF(D86=9,'Liste de nom'!$B$10,IF(D86=10,'Liste de nom'!$B$11,"")))))))))) | P86: =IF(E86=1,'Liste de nom'!$B$2,IF(E86=2,'Liste de nom'!$B$3,IF(E86=3,'Liste de nom'!$B$4,IF(E86=4,'Liste de nom'!$B$5,IF(E86=5,'Liste de nom'!$B$6,IF(E86=6,'Liste de nom'!$B$7,IF(E86=7,'Liste de nom'!$B$8,IF(E86=8,'Liste de nom'!$B$9,IF(E86=9,'Liste de nom'!$B$10,IF(E86=10,'Liste de nom'!$B$11,"")))))))))) | Q86: =IF(F86=1,'Liste de nom'!$B$2,IF(F86=2,'Liste de nom'!$B$3,IF(F86=3,'Liste de nom'!$B$4,IF(F86=4,'Liste de nom'!$B$5,IF(F86=5,'Liste de nom'!$B$6,IF(F86=6,'Liste de nom'!$B$7,IF(F86=7,'Liste de nom'!$B$8,IF(F86=8,'Liste de nom'!$B$9,IF(F86=9,'Liste de nom'!$B$10,IF(F86=10,'Liste de nom'!$B$11,"")))))))))) | R86: =IF(G86=1,'Liste de nom'!$B$2,IF(G86=2,'Liste de nom'!$B$3,IF(G86=3,'Liste de nom'!$B$4,IF(G86=4,'Liste de nom'!$B$5,IF(G86=5,'Liste de nom'!$B$6,IF(G86=6,'Liste de nom'!$B$7,IF(G86=7,'Liste de nom'!$B$8,IF(G86=8,'Liste de nom'!$B$9,IF(G86=9,'Liste de nom'!$B$10,IF(G86=10,'Liste de nom'!$B$11,""))))))))))
A87: 2016 | B87: 34 | C87: 42602 | D87: ='Liste de nom'!$B$3 -> nom2 | E87: ='Liste de nom'!$B$5 -> nom4 | F87: ='Liste de nom'!$B$7 -> nom6 | G87: ='Liste de nom'!$B$9 -> nom8 | O87: =IF(D87=1,'Liste de nom'!$B$2,IF(D87=2,'Liste de nom'!$B$3,IF(D87=3,'Liste de nom'!$B$4,IF(D87=4,'Liste de nom'!$B$5,IF(D87=5,'Liste de nom'!$B$6,IF(D87=6,'Liste de nom'!$B$7,IF(D87=7,'Liste de nom'!$B$8,IF(D87=8,'Liste de nom'!$B$9,IF(D87=9,'Liste de nom'!$B$10,IF(D87=10,'Liste de nom'!$B$11,"")))))))))) | P87: =IF(E87=1,'Liste de nom'!$B$2,IF(E87=2,'Liste de nom'!$B$3,IF(E87=3,'Liste de nom'!$B$4,IF(E87=4,'Liste de nom'!$B$5,IF(E87=5,'Liste de nom'!$B$6,IF(E87=6,'Liste de nom'!$B$7,IF(E87=7,'Liste de nom'!$B$8,IF(E87=8,'Liste de nom'!$B$9,IF(E87=9,'Liste de nom'!$B$10,IF(E87=10,'Liste de nom'!$B$11,"")))))))))) | Q87: =IF(F87=1,'Liste de nom'!$B$2,IF(F87=2,'Liste de nom'!$B$3,IF(F87=3,'Liste de nom'!$B$4,IF(F87=4,'Liste de nom'!$B$5,IF(F87=5,'Liste de nom'!$B$6,IF(F87=6,'Liste de nom'!$B$7,IF(F87=7,'Liste de nom'!$B$8,IF(F87=8,'Liste de nom'!$B$9,IF(F87=9,'Liste de nom'!$B$10,IF(F87=10,'Liste de nom'!$B$11,"")))))))))) | R87: =IF(G87=1,'Liste de nom'!$B$2,IF(G87=2,'Liste de nom'!$B$3,IF(G87=3,'Liste de nom'!$B$4,IF(G87=4,'Liste de nom'!$B$5,IF(G87=5,'Liste de nom'!$B$6,IF(G87=6,'Liste de nom'!$B$7,IF(G87=7,'Liste de nom'!$B$8,IF(G87=8,'Liste de nom'!$B$9,IF(G87=9,'Liste de nom'!$B$10,IF(G87=10,'Liste de nom'!$B$11,""))))))))))
A88: 2016 | B88: 35 | C88: 42609 | D88: ='Liste de nom'!$B$11 -> nom10 | E88: ='Liste de nom'!$B$2 -> nom1 | F88: ='Liste de nom'!$B$4 -> nom3 | G88: ='Liste de nom'!$B$6 -> nom5 | O88: =IF(D88=1,'Liste de nom'!$B$2,IF(D88=2,'Liste de nom'!$B$3,IF(D88=3,'Liste de nom'!$B$4,IF(D88=4,'Liste de nom'!$B$5,IF(D88=5,'Liste de nom'!$B$6,IF(D88=6,'Liste de nom'!$B$7,IF(D88=7,'Liste de nom'!$B$8,IF(D88=8,'Liste de nom'!$B$9,IF(D88=9,'Liste de nom'!$B$10,IF(D88=10,'Liste de nom'!$B$11,"")))))))))) | P88: =IF(E88=1,'Liste de nom'!$B$2,IF(E88=2,'Liste de nom'!$B$3,IF(E88=3,'Liste de nom'!$B$4,IF(E88=4,'Liste de nom'!$B$5,IF(E88=5,'Liste de nom'!$B$6,IF(E88=6,'Liste de nom'!$B$7,IF(E88=7,'Liste de nom'!$B$8,IF(E88=8,'Liste de nom'!$B$9,IF(E88=9,'Liste de nom'!$B$10,IF(E88=10,'Liste de nom'!$B$11,"")))))))))) | Q88: =IF(F88=1,'Liste de nom'!$B$2,IF(F88=2,'Liste de nom'!$B$3,IF(F88=3,'Liste de nom'!$B$4,IF(F88=4,'Liste de nom'!$B$5,IF(F88=5,'Liste de nom'!$B$6,IF(F88=6,'Liste de nom'!$B$7,IF(F88=7,'Liste de nom'!$B$8,IF(F88=8,'Liste de nom'!$B$9,IF(F88=9,'Liste de nom'!$B$10,IF(F88=10,'Liste de nom'!$B$11,"")))))))))) | R88: =IF(G88=1,'Liste de nom'!$B$2,IF(G88=2,'Liste de nom'!$B$3,IF(G88=3,'Liste de nom'!$B$4,IF(G88=4,'Liste de nom'!$B$5,IF(G88=5,'Liste de nom'!$B$6,IF(G88=6,'Liste de nom'!$B$7,IF(G88=7,'Liste de nom'!$B$8,IF(G88=8,'Liste de nom'!$B$9,IF(G88=9,'Liste de nom'!$B$10,IF(G88=10,'Liste de nom'!$B$11,""))))))))))
A89: 2016 | B89: 36 | C89: 42616 | D89: ='Liste de nom'!$B$8 -> nom7 | E89: ='Liste de nom'!$B$10 -> nom9 | F89: ='Liste de nom'!$B$3 -> nom2 | G89: ='Liste de nom'!$B$5 -> nom4 | O89: =IF(D89=1,'Liste de nom'!$B$2,IF(D89=2,'Liste de nom'!$B$3,IF(D89=3,'Liste de nom'!$B$4,IF(D89=4,'Liste de nom'!$B$5,IF(D89=5,'Liste de nom'!$B$6,IF(D89=6,'Liste de nom'!$B$7,IF(D89=7,'Liste de nom'!$B$8,IF(D89=8,'Liste de nom'!$B$9,IF(D89=9,'Liste de nom'!$B$10,IF(D89=10,'Liste de nom'!$B$11,"")))))))))) | P89: =IF(E89=1,'Liste de nom'!$B$2,IF(E89=2,'Liste de nom'!$B$3,IF(E89=3,'Liste de nom'!$B$4,IF(E89=4,'Liste de nom'!$B$5,IF(E89=5,'Liste de nom'!$B$6,IF(E89=6,'Liste de nom'!$B$7,IF(E89=7,'Liste de nom'!$B$8,IF(E89=8,'Liste de nom'!$B$9,IF(E89=9,'Liste de nom'!$B$10,IF(E89=10,'Liste de nom'!$B$11,"")))))))))) | Q89: =IF(F89=1,'Liste de nom'!$B$2,IF(F89=2,'Liste de nom'!$B$3,IF(F89=3,'Liste de nom'!$B$4,IF(F89=4,'Liste de nom'!$B$5,IF(F89=5,'Liste de nom'!$B$6,IF(F89=6,'Liste de nom'!$B$7,IF(F89=7,'Liste de nom'!$B$8,IF(F89=8,'Liste de nom'!$B$9,IF(F89=9,'Liste de nom'!$B$10,IF(F89=10,'Liste de nom'!$B$11,"")))))))))) | R89: =IF(G89=1,'Liste de nom'!$B$2,IF(G89=2,'Liste de nom'!$B$3,IF(G89=3,'Liste de nom'!$B$4,IF(G89=4,'Liste de nom'!$B$5,IF(G89=5,'Liste de nom'!$B$6,IF(G89=6,'Liste de nom'!$B$7,IF(G89=7,'Liste de nom'!$B$8,IF(G89=8,'Liste de nom'!$B$9,IF(G89=9,'Liste de nom'!$B$10,IF(G89=10,'Liste de nom'!$B$11,""))))))))))
A90: 2016 | B90: 37 | C90: 42623 | D90: ='Liste de nom'!$B$7 -> nom6 | E90: ='Liste de nom'!$B$9 -> nom8 | F90: ='Liste de nom'!$B$11 -> nom10 | G90: ='Liste de nom'!$B$2 -> nom1 | O90: =IF(D90=1,'Liste de nom'!$B$2,IF(D90=2,'Liste de nom'!$B$3,IF(D90=3,'Liste de nom'!$B$4,IF(D90=4,'Liste de nom'!$B$5,IF(D90=5,'Liste de nom'!$B$6,IF(D90=6,'Liste de nom'!$B$7,IF(D90=7,'Liste de nom'!$B$8,IF(D90=8,'Liste de nom'!$B$9,IF(D90=9,'Liste de nom'!$B$10,IF(D90=10,'Liste de nom'!$B$11,"")))))))))) | P90: =IF(E90=1,'Liste de nom'!$B$2,IF(E90=2,'Liste de nom'!$B$3,IF(E90=3,'Liste de nom'!$B$4,IF(E90=4,'Liste de nom'!$B$5,IF(E90=5,'Liste de nom'!$B$6,IF(E90=6,'Liste de nom'!$B$7,IF(E90=7,'Liste de nom'!$B$8,IF(E90=8,'Liste de nom'!$B$9,IF(E90=9,'Liste de nom'!$B$10,IF(E90=10,'Liste de nom'!$B$11,"")))))))))) | Q90: =IF(F90=1,'Liste de nom'!$B$2,IF(F90=2,'Liste de nom'!$B$3,IF(F90=3,'Liste de nom'!$B$4,IF(F90=4,'Liste de nom'!$B$5,IF(F90=5,'Liste de nom'!$B$6,IF(F90=6,'Liste de nom'!$B$7,IF(F90=7,'Liste de nom'!$B$8,IF(F90=8,'Liste de nom'!$B$9,IF(F90=9,'Liste de nom'!$B$10,IF(F90=10,'Liste de nom'!$B$11,"")))))))))) | R90: =IF(G90=1,'Liste de nom'!$B$2,IF(G90=2,'Liste de nom'!$B$3,IF(G90=3,'Liste de nom'!$B$4,IF(G90=4,'Liste de nom'!$B$5,IF(G90=5,'Liste de nom'!$B$6,IF(G90=6,'Liste de nom'!$B$7,IF(G90=7,'Liste de nom'!$B$8,IF(G90=8,'Liste de nom'!$B$9,IF(G90=9,'Liste de nom'!$B$10,IF(G90=10,'Liste de nom'!$B$11,""))))))))))
A91: 2016 | B91: 38 | C91: 42630 | D91: ='Liste de nom'!$B$4 -> nom3 | E91: ='Liste de nom'!$B$6 -> nom5 | F91: ='Liste de nom'!$B$8 -> nom7 | G91: ='Liste de nom'!$B$10 -> nom9 | O91: =IF(D91=1,'Liste de nom'!$B$2,IF(D91=2,'Liste de nom'!$B$3,IF(D91=3,'Liste de nom'!$B$4,IF(D91=4,'Liste de nom'!$B$5,IF(D91=5,'Liste de nom'!$B$6,IF(D91=6,'Liste de nom'!$B$7,IF(D91=7,'Liste de nom'!$B$8,IF(D91=8,'Liste de nom'!$B$9,IF(D91=9,'Liste de nom'!$B$10,IF(D91=10,'Liste de nom'!$B$11,"")))))))))) | P91: =IF(E91=1,'Liste de nom'!$B$2,IF(E91=2,'Liste de nom'!$B$3,IF(E91=3,'Liste de nom'!$B$4,IF(E91=4,'Liste de nom'!$B$5,IF(E91=5,'Liste de nom'!$B$6,IF(E91=6,'Liste de nom'!$B$7,IF(E91=7,'Liste de nom'!$B$8,IF(E91=8,'Liste de nom'!$B$9,IF(E91=9,'Liste de nom'!$B$10,IF(E91=10,'Liste de nom'!$B$11,"")))))))))) | Q91: =IF(F91=1,'Liste de nom'!$B$2,IF(F91=2,'Liste de nom'!$B$3,IF(F91=3,'Liste de nom'!$B$4,IF(F91=4,'Liste de nom'!$B$5,IF(F91=5,'Liste de nom'!$B$6,IF(F91=6,'Liste de nom'!$B$7,IF(F91=7,'Liste de nom'!$B$8,IF(F91=8,'Liste de nom'!$B$9,IF(F91=9,'Liste de nom'!$B$10,IF(F91=10,'Liste de nom'!$B$11,"")))))))))) | R91: =IF(G91=1,'Liste de nom'!$B$2,IF(G91=2,'Liste de nom'!$B$3,IF(G91=3,'Liste de nom'!$B$4,IF(G91=4,'Liste de nom'!$B$5,IF(G91=5,'Liste de nom'!$B$6,IF(G91=6,'Liste de nom'!$B$7,IF(G91=7,'Liste de nom'!$B$8,IF(G91=8,'Liste de nom'!$B$9,IF(G91=9,'Liste de nom'!$B$10,IF(G91=10,'Liste de nom'!$B$11,""))))))))))
A92: 2016 | B92: 39 | C92: 42637 | D92: ='Liste de nom'!$B$11 -> nom10 | E92: ='Liste de nom'!$B$9 -> nom8 | F92: ='Liste de nom'!$B$7 -> nom6 | G92: ='Liste de nom'!$B$5 -> nom4 | O92: =IF(D92=1,'Liste de nom'!$B$2,IF(D92=2,'Liste de nom'!$B$3,IF(D92=3,'Liste de nom'!$B$4,IF(D92=4,'Liste de nom'!$B$5,IF(D92=5,'Liste de nom'!$B$6,IF(D92=6,'Liste de nom'!$B$7,IF(D92=7,'Liste de nom'!$B$8,IF(D92=8,'Liste de nom'!$B$9,IF(D92=9,'Liste de nom'!$B$10,IF(D92=10,'Liste de nom'!$B$11,"")))))))))) | P92: =IF(E92=1,'Liste de nom'!$B$2,IF(E92=2,'Liste de nom'!$B$3,IF(E92=3,'Liste de nom'!$B$4,IF(E92=4,'Liste de nom'!$B$5,IF(E92=5,'Liste de nom'!$B$6,IF(E92=6,'Liste de nom'!$B$7,IF(E92=7,'Liste de nom'!$B$8,IF(E92=8,'Liste de nom'!$B$9,IF(E92=9,'Liste de nom'!$B$10,IF(E92=10,'Liste de nom'!$B$11,"")))))))))) | Q92: =IF(F92=1,'Liste de nom'!$B$2,IF(F92=2,'Liste de nom'!$B$3,IF(F92=3,'Liste de nom'!$B$4,IF(F92=4,'Liste de nom'!$B$5,IF(F92=5,'Liste de nom'!$B$6,IF(F92=6,'Liste de nom'!$B$7,IF(F92=7,'Liste de nom'!$B$8,IF(F92=8,'Liste de nom'!$B$9,IF(F92=9,'Liste de nom'!$B$10,IF(F92=10,'Liste de nom'!$B$11,"")))))))))) | R92: =IF(G92=1,'Liste de nom'!$B$2,IF(G92=2,'Liste de nom'!$B$3,IF(G92=3,'Liste de nom'!$B$4,IF(G92=4,'Liste de nom'!$B$5,IF(G92=5,'Liste de nom'!$B$6,IF(G92=6,'Liste de nom'!$B$7,IF(G92=7,'Liste de nom'!$B$8,IF(G92=8,'Liste de nom'!$B$9,IF(G92=9,'Liste de nom'!$B$10,IF(G92=10,'Liste de nom'!$B$11,""))))))))))
A93: 2016 | B93: 40 | C93: 42644 | D93: ='Liste de nom'!$B$3 -> nom2 | E93: ='Liste de nom'!$B$10 -> nom9 | F93: ='Liste de nom'!$B$2 -> nom1 | G93: ='Liste de nom'!$B$4 -> nom3 | O93: =IF(D93=1,'Liste de nom'!$B$2,IF(D93=2,'Liste de nom'!$B$3,IF(D93=3,'Liste de nom'!$B$4,IF(D93=4,'Liste de nom'!$B$5,IF(D93=5,'Liste de nom'!$B$6,IF(D93=6,'Liste de nom'!$B$7,IF(D93=7,'Liste de nom'!$B$8,IF(D93=8,'Liste de nom'!$B$9,IF(D93=9,'Liste de nom'!$B$10,IF(D93=10,'Liste de nom'!$B$11,"")))))))))) | P93: =IF(E93=1,'Liste de nom'!$B$2,IF(E93=2,'Liste de nom'!$B$3,IF(E93=3,'Liste de nom'!$B$4,IF(E93=4,'Liste de nom'!$B$5,IF(E93=5,'Liste de nom'!$B$6,IF(E93=6,'Liste de nom'!$B$7,IF(E93=7,'Liste de nom'!$B$8,IF(E93=8,'Liste de nom'!$B$9,IF(E93=9,'Liste de nom'!$B$10,IF(E93=10,'Liste de nom'!$B$11,"")))))))))) | Q93: =IF(F93=1,'Liste de nom'!$B$2,IF(F93=2,'Liste de nom'!$B$3,IF(F93=3,'Liste de nom'!$B$4,IF(F93=4,'Liste de nom'!$B$5,IF(F93=5,'Liste de nom'!$B$6,IF(F93=6,'Liste de nom'!$B$7,IF(F93=7,'Liste de nom'!$B$8,IF(F93=8,'Liste de nom'!$B$9,IF(F93=9,'Liste de nom'!$B$10,IF(F93=10,'Liste de nom'!$B$11,"")))))))))) | R93: =IF(G93=1,'Liste de nom'!$B$2,IF(G93=2,'Liste de nom'!$B$3,IF(G93=3,'Liste de nom'!$B$4,IF(G93=4,'Liste de nom'!$B$5,IF(G93=5,'Liste de nom'!$B$6,IF(G93=6,'Liste de nom'!$B$7,IF(G93=7,'Liste de nom'!$B$8,IF(G93=8,'Liste de nom'!$B$9,IF(G93=9,'Liste de nom'!$B$10,IF(G93=10,'Liste de nom'!$B$11,""))))))))))
A94: 2016 | B94: 41 | C94: 42651 | D94: ='Liste de nom'!$B$6 -> nom5 | E94: ='Liste de nom'!$B$8 -> nom7 | F94: ='Liste de nom'!$B$11 -> nom10 | G94: ='Liste de nom'!$B$9 -> nom8 | O94: =IF(D94=1,'Liste de nom'!$B$2,IF(D94=2,'Liste de nom'!$B$3,IF(D94=3,'Liste de nom'!$B$4,IF(D94=4,'Liste de nom'!$B$5,IF(D94=5,'Liste de nom'!$B$6,IF(D94=6,'Liste de nom'!$B$7,IF(D94=7,'Liste de nom'!$B$8,IF(D94=8,'Liste de nom'!$B$9,IF(D94=9,'Liste de nom'!$B$10,IF(D94=10,'Liste de nom'!$B$11,"")))))))))) | P94: =IF(E94=1,'Liste de nom'!$B$2,IF(E94=2,'Liste de nom'!$B$3,IF(E94=3,'Liste de nom'!$B$4,IF(E94=4,'Liste de nom'!$B$5,IF(E94=5,'Liste de nom'!$B$6,IF(E94=6,'Liste de nom'!$B$7,IF(E94=7,'Liste de nom'!$B$8,IF(E94=8,'Liste de nom'!$B$9,IF(E94=9,'Liste de nom'!$B$10,IF(E94=10,'Liste de nom'!$B$11,"")))))))))) | Q94: =IF(F94=1,'Liste de nom'!$B$2,IF(F94=2,'Liste de nom'!$B$3,IF(F94=3,'Liste de nom'!$B$4,IF(F94=4,'Liste de nom'!$B$5,IF(F94=5,'Liste de nom'!$B$6,IF(F94=6,'Liste de nom'!$B$7,IF(F94=7,'Liste de nom'!$B$8,IF(F94=8,'Liste de nom'!$B$9,IF(F94=9,'Liste de nom'!$B$10,IF(F94=10,'Liste de nom'!$B$11,"")))))))))) | R94: =IF(G94=1,'Liste de nom'!$B$2,IF(G94=2,'Liste de nom'!$B$3,IF(G94=3,'Liste de nom'!$B$4,IF(G94=4,'Liste de nom'!$B$5,IF(G94=5,'Liste de nom'!$B$6,IF(G94=6,'Liste de nom'!$B$7,IF(G94=7,'Liste de nom'!$B$8,IF(G94=8,'Liste de nom'!$B$9,IF(G94=9,'Liste de nom'!$B$10,IF(G94=10,'Liste de nom'!$B$11,""))))))))))
A95: 2016 | B95: 42 | C95: 42658 | D95: ='Liste de nom'!$B$7 -> nom6 | E95: ='Liste de nom'!$B$5 -> nom4 | F95: ='Liste de nom'!$B$3 -> nom2 | G95: ='Liste de nom'!$B$10 -> nom9 | O95: =IF(D95=1,'Liste de nom'!$B$2,IF(D95=2,'Liste de nom'!$B$3,IF(D95=3,'Liste de nom'!$B$4,IF(D95=4,'Liste de nom'!$B$5,IF(D95=5,'Liste de nom'!$B$6,IF(D95=6,'Liste de nom'!$B$7,IF(D95=7,'Liste de nom'!$B$8,IF(D95=8,'Liste de nom'!$B$9,IF(D95=9,'Liste de nom'!$B$10,IF(D95=10,'Liste de nom'!$B$11,"")))))))))) | P95: =IF(E95=1,'Liste de nom'!$B$2,IF(E95=2,'Liste de nom'!$B$3,IF(E95=3,'Liste de nom'!$B$4,IF(E95=4,'Liste de nom'!$B$5,IF(E95=5,'Liste de nom'!$B$6,IF(E95=6,'Liste de nom'!$B$7,IF(E95=7,'Liste de nom'!$B$8,IF(E95=8,'Liste de nom'!$B$9,IF(E95=9,'Liste de nom'!$B$10,IF(E95=10,'Liste de nom'!$B$11,"")))))))))) | Q95: =IF(F95=1,'Liste de nom'!$B$2,IF(F95=2,'Liste de nom'!$B$3,IF(F95=3,'Liste de nom'!$B$4,IF(F95=4,'Liste de nom'!$B$5,IF(F95=5,'Liste de nom'!$B$6,IF(F95=6,'Liste de nom'!$B$7,IF(F95=7,'Liste de nom'!$B$8,IF(F95=8,'Liste de nom'!$B$9,IF(F95=9,'Liste de nom'!$B$10,IF(F95=10,'Liste de nom'!$B$11,"")))))))))) | R95: =IF(G95=1,'Liste de nom'!$B$2,IF(G95=2,'Liste de nom'!$B$3,IF(G95=3,'Liste de nom'!$B$4,IF(G95=4,'Liste de nom'!$B$5,IF(G95=5,'Liste de nom'!$B$6,IF(G95=6,'Liste de nom'!$B$7,IF(G95=7,'Liste de nom'!$B$8,IF(G95=8,'Liste de nom'!$B$9,IF(G95=9,'Liste de nom'!$B$10,IF(G95=10,'Liste de nom'!$B$11,""))))))))))
A96: 2016 | B96: 43 | C96: 42665 | D96: ='Liste de nom'!$B$2 -> nom1 | E96: ='Liste de nom'!$B$4 -> nom3 | F96: ='Liste de nom'!$B$6 -> nom5 | G96: ='Liste de nom'!$B$8 -> nom7 | O96: =IF(D96=1,'Liste de nom'!$B$2,IF(D96=2,'Liste de nom'!$B$3,IF(D96=3,'Liste de nom'!$B$4,IF(D96=4,'Liste de nom'!$B$5,IF(D96=5,'Liste de nom'!$B$6,IF(D96=6,'Liste de nom'!$B$7,IF(D96=7,'Liste de nom'!$B$8,IF(D96=8,'Liste de nom'!$B$9,IF(D96=9,'Liste de nom'!$B$10,IF(D96=10,'Liste de nom'!$B$11,"")))))))))) | P96: =IF(E96=1,'Liste de nom'!$B$2,IF(E96=2,'Liste de nom'!$B$3,IF(E96=3,'Liste de nom'!$B$4,IF(E96=4,'Liste de nom'!$B$5,IF(E96=5,'Liste de nom'!$B$6,IF(E96=6,'Liste de nom'!$B$7,IF(E96=7,'Liste de nom'!$B$8,IF(E96=8,'Liste de nom'!$B$9,IF(E96=9,'Liste de nom'!$B$10,IF(E96=10,'Liste de nom'!$B$11,"")))))))))) | Q96: =IF(F96=1,'Liste de nom'!$B$2,IF(F96=2,'Liste de nom'!$B$3,IF(F96=3,'Liste de nom'!$B$4,IF(F96=4,'Liste de nom'!$B$5,IF(F96=5,'Liste de nom'!$B$6,IF(F96=6,'Liste de nom'!$B$7,IF(F96=7,'Liste de nom'!$B$8,IF(F96=8,'Liste de nom'!$B$9,IF(F96=9,'Liste de nom'!$B$10,IF(F96=10,'Liste de nom'!$B$11,"")))))))))) | R96: =IF(G96=1,'Liste de nom'!$B$2,IF(G96=2,'Liste de nom'!$B$3,IF(G96=3,'Liste de nom'!$B$4,IF(G96=4,'Liste de nom'!$B$5,IF(G96=5,'Liste de nom'!$B$6,IF(G96=6,'Liste de nom'!$B$7,IF(G96=7,'Liste de nom'!$B$8,IF(G96=8,'Liste de nom'!$B$9,IF(G96=9,'Liste de nom'!$B$10,IF(G96=10,'Liste de nom'!$B$11,""))))))))))
A97: 2016 | B97: 44 | C97: 42672 | D97: ='Liste de nom'!$B$11 -> nom10 | E97: ='Liste de nom'!$B$10 -> nom9 | F97: ='Liste de nom'!$B$8 -> nom7 | G97: ='Liste de nom'!$B$7 -> nom6 | O97: =IF(D97=1,'Liste de nom'!$B$2,IF(D97=2,'Liste de nom'!$B$3,IF(D97=3,'Liste de nom'!$B$4,IF(D97=4,'Liste de nom'!$B$5,IF(D97=5,'Liste de nom'!$B$6,IF(D97=6,'Liste de nom'!$B$7,IF(D97=7,'Liste de nom'!$B$8,IF(D97=8,'Liste de nom'!$B$9,IF(D97=9,'Liste de nom'!$B$10,IF(D97=10,'Liste de nom'!$B$11,"")))))))))) | P97: =IF(E97=1,'Liste de nom'!$B$2,IF(E97=2,'Liste de nom'!$B$3,IF(E97=3,'Liste de nom'!$B$4,IF(E97=4,'Liste de nom'!$B$5,IF(E97=5,'Liste de nom'!$B$6,IF(E97=6,'Liste de nom'!$B$7,IF(E97=7,'Liste de nom'!$B$8,IF(E97=8,'Liste de nom'!$B$9,IF(E97=9,'Liste de nom'!$B$10,IF(E97=10,'Liste de nom'!$B$11,"")))))))))) | Q97: =IF(F97=1,'Liste de nom'!$B$2,IF(F97=2,'Liste de nom'!$B$3,IF(F97=3,'Liste de nom'!$B$4,IF(F97=4,'Liste de nom'!$B$5,IF(F97=5,'Liste de nom'!$B$6,IF(F97=6,'Liste de nom'!$B$7,IF(F97=7,'Liste de nom'!$B$8,IF(F97=8,'Liste de nom'!$B$9,IF(F97=9,'Liste de nom'!$B$10,IF(F97=10,'Liste de nom'!$B$11,"")))))))))) | R97: =IF(G97=1,'Liste de nom'!$B$2,IF(G97=2,'Liste de nom'!$B$3,IF(G97=3,'Liste de nom'!$B$4,IF(G97=4,'Liste de nom'!$B$5,IF(G97=5,'Liste de nom'!$B$6,IF(G97=6,'Liste de nom'!$B$7,IF(G97=7,'Liste de nom'!$B$8,IF(G97=8,'Liste de nom'!$B$9,IF(G97=9,'Liste de nom'!$B$10,IF(G97=10,'Liste de nom'!$B$11,""))))))))))
A98: 2016 | B98: 45 | C98: 42679 | D98: ='Liste de nom'!$B$6 -> nom5 | E98: ='Liste de nom'!$B$5 -> nom4 | F98: ='Liste de nom'!$B$3 -> nom2 | G98: ='Liste de nom'!$B$2 -> nom1 | O98: =IF(D98=1,'Liste de nom'!$B$2,IF(D98=2,'Liste de nom'!$B$3,IF(D98=3,'Liste de nom'!$B$4,IF(D98=4,'Liste de nom'!$B$5,IF(D98=5,'Liste de nom'!$B$6,IF(D98=6,'Liste de nom'!$B$7,IF(D98=7,'Liste de nom'!$B$8,IF(D98=8,'Liste de nom'!$B$9,IF(D98=9,'Liste de nom'!$B$10,IF(D98=10,'Liste de nom'!$B$11,"")))))))))) | P98: =IF(E98=1,'Liste de nom'!$B$2,IF(E98=2,'Liste de nom'!$B$3,IF(E98=3,'Liste de nom'!$B$4,IF(E98=4,'Liste de nom'!$B$5,IF(E98=5,'Liste de nom'!$B$6,IF(E98=6,'Liste de nom'!$B$7,IF(E98=7,'Liste de nom'!$B$8,IF(E98=8,'Liste de nom'!$B$9,IF(E98=9,'Liste de nom'!$B$10,IF(E98=10,'Liste de nom'!$B$11,"")))))))))) | Q98: =IF(F98=1,'Liste de nom'!$B$2,IF(F98=2,'Liste de nom'!$B$3,IF(F98=3,'Liste de nom'!$B$4,IF(F98=4,'Liste de nom'!$B$5,IF(F98=5,'Liste de nom'!$B$6,IF(F98=6,'Liste de nom'!$B$7,IF(F98=7,'Liste de nom'!$B$8,IF(F98=8,'Liste de nom'!$B$9,IF(F98=9,'Liste de nom'!$B$10,IF(F98=10,'Liste de nom'!$B$11,"")))))))))) | R98: =IF(G98=1,'Liste de nom'!$B$2,IF(G98=2,'Liste de nom'!$B$3,IF(G98=3,'Liste de nom'!$B$4,IF(G98=4,'Liste de nom'!$B$5,IF(G98=5,'Liste de nom'!$B$6,IF(G98=6,'Liste de nom'!$B$7,IF(G98=7,'Liste de nom'!$B$8,IF(G98=8,'Liste de nom'!$B$9,IF(G98=9,'Liste de nom'!$B$10,IF(G98=10,'Liste de nom'!$B$11,""))))))))))
A99: 2016 | B99: 46 | C99: 42686 | D99: ='Liste de nom'!$B$9 -> nom8 | E99: ='Liste de nom'!$B$4 -> nom3 | F99: ='Liste de nom'!$B$11 -> nom10 | G99: ='Liste de nom'!$B$10 -> nom9 | O99: =IF(D99=1,'Liste de nom'!$B$2,IF(D99=2,'Liste de nom'!$B$3,IF(D99=3,'Liste de nom'!$B$4,IF(D99=4,'Liste de nom'!$B$5,IF(D99=5,'Liste de nom'!$B$6,IF(D99=6,'Liste de nom'!$B$7,IF(D99=7,'Liste de nom'!$B$8,IF(D99=8,'Liste de nom'!$B$9,IF(D99=9,'Liste de nom'!$B$10,IF(D99=10,'Liste de nom'!$B$11,"")))))))))) | P99: =IF(E99=1,'Liste de nom'!$B$2,IF(E99=2,'Liste de nom'!$B$3,IF(E99=3,'Liste de nom'!$B$4,IF(E99=4,'Liste de nom'!$B$5,IF(E99=5,'Liste de nom'!$B$6,IF(E99=6,'Liste de nom'!$B$7,IF(E99=7,'Liste de nom'!$B$8,IF(E99=8,'Liste de nom'!$B$9,IF(E99=9,'Liste de nom'!$B$10,IF(E99=10,'Liste de nom'!$B$11,"")))))))))) | Q99: =IF(F99=1,'Liste de nom'!$B$2,IF(F99=2,'Liste de nom'!$B$3,IF(F99=3,'Liste de nom'!$B$4,IF(F99=4,'Liste de nom'!$B$5,IF(F99=5,'Liste de nom'!$B$6,IF(F99=6,'Liste de nom'!$B$7,IF(F99=7,'Liste de nom'!$B$8,IF(F99=8,'Liste de nom'!$B$9,IF(F99=9,'Liste de nom'!$B$10,IF(F99=10,'Liste de nom'!$B$11,"")))))))))) | R99: =IF(G99=1,'Liste de nom'!$B$2,IF(G99=2,'Liste de nom'!$B$3,IF(G99=3,'Liste de nom'!$B$4,IF(G99=4,'Liste de nom'!$B$5,IF(G99=5,'Liste de nom'!$B$6,IF(G99=6,'Liste de nom'!$B$7,IF(G99=7,'Liste de nom'!$B$8,IF(G99=8,'Liste de nom'!$B$9,IF(G99=9,'Liste de nom'!$B$10,IF(G99=10,'Liste de nom'!$B$11,""))))))))))
A100: 2016 | B100: 47 | C100: 42693 | D100: ='Liste de nom'!$B$8 -> nom7 | E100: ='Liste de nom'!$B$7 -> nom6 | F100: ='Liste de nom'!$B$6 -> nom5 | G100: ='Liste de nom'!$B$5 -> nom4 | O100: =IF(D100=1,'Liste de nom'!$B$2,IF(D100=2,'Liste de nom'!$B$3,IF(D100=3,'Liste de nom'!$B$4,IF(D100=4,'Liste de nom'!$B$5,IF(D100=5,'Liste de nom'!$B$6,IF(D100=6,'Liste de nom'!$B$7,IF(D100=7,'Liste de nom'!$B$8,IF(D100=8,'Liste de nom'!$B$9,IF(D100=9,'Liste de nom'!$B$10,IF(D100=10,'Liste de nom'!$B$11,"")))))))))) | P100: =IF(E100=1,'Liste de nom'!$B$2,IF(E100=2,'Liste de nom'!$B$3,IF(E100=3,'Liste de nom'!$B$4,IF(E100=4,'Liste de nom'!$B$5,IF(E100=5,'Liste de nom'!$B$6,IF(E100=6,'Liste de nom'!$B$7,IF(E100=7,'Liste de nom'!$B$8,IF(E100=8,'Liste de nom'!$B$9,IF(E100=9,'Liste de nom'!$B$10,IF(E100=10,'Liste de nom'!$B$11,"")))))))))) | Q100: =IF(F100=1,'Liste de nom'!$B$2,IF(F100=2,'Liste de nom'!$B$3,IF(F100=3,'Liste de nom'!$B$4,IF(F100=4,'Liste de nom'!$B$5,IF(F100=5,'Liste de nom'!$B$6,IF(F100=6,'Liste de nom'!$B$7,IF(F100=7,'Liste de nom'!$B$8,IF(F100=8,'Liste de nom'!$B$9,IF(F100=9,'Liste de nom'!$B$10,IF(F100=10,'Liste de nom'!$B$11,"")))))))))) | R100: =IF(G100=1,'Liste de nom'!$B$2,IF(G100=2,'Liste de nom'!$B$3,IF(G100=3,'Liste de nom'!$B$4,IF(G100=4,'Liste de nom'!$B$5,IF(G100=5,'Liste de nom'!$B$6,IF(G100=6,'Liste de nom'!$B$7,IF(G100=7,'Liste de nom'!$B$8,IF(G100=8,'Liste de nom'!$B$9,IF(G100=9,'Liste de nom'!$B$10,IF(G100=10,'Liste de nom'!$B$11,""))))))))))
...

Sheet Liste de nom
B1: Nom
A2: 1 | B2: nom1
A3: 2 | B3: nom2
A4: 3 | B4: nom3
A5: 4 | B5: nom4
A6: 5 | B6: nom5
A7: 6 | B7: nom6
A8: 7 | B8: nom7
A9: 8 | B9: nom8
A10: 9 | B10: nom9
A11: 10 | B11: nom10

Sheet Cédule 2015
A1: 2015 | C1: Groupe
A2: Semaine finissant le | C2: Personne 1 | D2: Personne 2 | E2: Personne 3 | F2: Personne 4
A3: =LOOKUP(B3,Semaine!C:C,Semaine!B:B) -> 1 | B3: 42007 | C3: =LOOKUP(B3,Semaine!C:C,Semaine!D:D) -> nom1 | D3: =LOOKUP(B3,Semaine!C:C,Semaine!E:E) -> nom2 | E3: =LOOKUP(B3,Semaine!C:C,Semaine!F:F) -> nom3 | F3: =LOOKUP(B3,Semaine!C:C,Semaine!G:G) -> nom4
A4: =LOOKUP(B4,Semaine!C:C,Semaine!B:B) -> 2 | B4: =B3+7 -> 42014 | C4: =LOOKUP(B4,Semaine!C:C,Semaine!D:D) -> nom5 | D4: =LOOKUP(B4,Semaine!C:C,Semaine!E:E) -> nom6 | E4: =LOOKUP(B4,Semaine!C:C,Semaine!F:F) -> nom7 | F4: =LOOKUP(B4,Semaine!C:C,Semaine!G:G) -> nom8
A5: =LOOKUP(B5,Semaine!C:C,Semaine!B:B) -> 3 | B5: =B4+7 -> 42021 | C5: =LOOKUP(B5,Semaine!C:C,Semaine!D:D) -> nom9 | D5: =LOOKUP(B5,Semaine!C:C,Semaine!E:E) -> nom10 | E5: =LOOKUP(B5,Semaine!C:C,Semaine!F:F) -> nom1 | F5: =LOOKUP(B5,Semaine!C:C,Semaine!G:G) -> nom2
A6: =LOOKUP(B6,Semaine!C:C,Semaine!B:B) -> 4 | B6: =B5+7 -> 42028 | C6: =LOOKUP(B6,Semaine!C:C,Semaine!D:D) -> nom3 | D6: =LOOKUP(B6,Semaine!C:C,Semaine!E:E) -> nom4 | E6: =LOOKUP(B6,Semaine!C:C,Semaine!F:F) -> nom5 | F6: =LOOKUP(B6,Semaine!C:C,Semaine!G:G) -> nom6
A7: =LOOKUP(B7,Semaine!C:C,Semaine!B:B) -> 5 | B7: =B6+7 -> 42035 | C7: =LOOKUP(B7,Semaine!C:C,Semaine!D:D) -> nom7 | D7: =LOOKUP(B7,Semaine!C:C,Semaine!E:E) -> nom8 | E7: =LOOKUP(B7,Semaine!C:C,Semaine!F:F) -> nom9 | F7: =LOOKUP(B7,Semaine!C:C,Semaine!G:G) -> nom10
A8: =LOOKUP(B8,Semaine!C:C,Semaine!B:B) -> 6 | B8: =B7+7 -> 42042 | C8: =LOOKUP(B8,Semaine!C:C,Semaine!D:D) -> nom1 | D8: =LOOKUP(B8,Semaine!C:C,Semaine!E:E) -> nom3 | E8: =LOOKUP(B8,Semaine!C:C,Semaine!F:F) -> nom5 | F8: =LOOKUP(B8,Semaine!C:C,Semaine!G:G) -> nom7
A9: =LOOKUP(B9,Semaine!C:C,Semaine!B:B) -> 7 | B9: =B8+7 -> 42049 | C9: =LOOKUP(B9,Semaine!C:C,Semaine!D:D) -> nom9 | D9: =LOOKUP(B9,Semaine!C:C,Semaine!E:E) -> nom2 | E9: =LOOKUP(B9,Semaine!C:C,Semaine!F:F) -> nom4 | F9: =LOOKUP(B9,Semaine!C:C,Semaine!G:G) -> nom6
A10: =LOOKUP(B10,Semaine!C:C,Semaine!B:B) -> 8 | B10: =B9+7 -> 42056 | C10: =LOOKUP(B10,Semaine!C:C,Semaine!D:D) -> nom8 | D10: =LOOKUP(B10,Semaine!C:C,Semaine!E:E) -> nom10 | E10: =LOOKUP(B10,Semaine!C:C,Semaine!F:F) -> nom1 | F10: =LOOKUP(B10,Semaine!C:C,Semaine!G:G) -> nom3
A11: =LOOKUP(B11,Semaine!C:C,Semaine!B:B) -> 9 | B11: =B10+7 -> 42063 | C11: =LOOKUP(B11,Semaine!C:C,Semaine!D:D) -> nom5 | D11: =LOOKUP(B11,Semaine!C:C,Semaine!E:E) -> nom7 | E11: =LOOKUP(B11,Semaine!C:C,Semaine!F:F) -> nom9 | F11: =LOOKUP(B11,Semaine!C:C,Semaine!G:G) -> nom2
A12: =LOOKUP(B12,Semaine!C:C,Semaine!B:B) -> 10 | B12: =B11+7 -> 42070 | C12: =LOOKUP(B12,Semaine!C:C,Semaine!D:D) -> nom4 | D12: =LOOKUP(B12,Semaine!C:C,Semaine!E:E) -> nom6 | E12: =LOOKUP(B12,Semaine!C:C,Semaine!F:F) -> nom8 | F12: =LOOKUP(B12,Semaine!C:C,Semaine!G:G) -> nom10
A13: =LOOKUP(B13,Semaine!C:C,Semaine!B:B) -> 11 | B13: =B12+7 -> 42077 | C13: =LOOKUP(B13,Semaine!C:C,Semaine!D:D) -> nom2 | D13: =LOOKUP(B13,Semaine!C:C,Semaine!E:E) -> nom3 | E13: =LOOKUP(B13,Semaine!C:C,Semaine!F:F) -> nom6 | F13: =LOOKUP(B13,Semaine!C:C,Semaine!G:G) -> nom7
A14: =LOOKUP(B14,Semaine!C:C,Semaine!B:B) -> 12 | B14: =B13+7 -> 42084 | C14: =LOOKUP(B14,Semaine!C:C,Semaine!D:D) -> nom4 | D14: =LOOKUP(B14,Semaine!C:C,Semaine!E:E) -> nom5 | E14: =LOOKUP(B14,Semaine!C:C,Semaine!F:F) -> nom8 | F14: =LOOKUP(B14,Semaine!C:C,Semaine!G:G) -> nom9
A15: =LOOKUP(B15,Semaine!C:C,Semaine!B:B) -> 13 | B15: =B14+7 -> 42091 | C15: =LOOKUP(B15,Semaine!C:C,Semaine!D:D) -> nom10 | D15: =LOOKUP(B15,Semaine!C:C,Semaine!E:E) -> nom1 | E15: =LOOKUP(B15,Semaine!C:C,Semaine!F:F) -> nom2 | F15: =LOOKUP(B15,Semaine!C:C,Semaine!G:G) -> nom3
... A54: =LOOKUP(B54,Semaine!C:C,Semaine!B:B) -> 52 | B54: =B53+7 -> 42364 | C54: =LOOKUP(B54,Semaine!C:C,Semaine!D:D) -> nom10 | D54: =LOOKUP(B54,Semaine!C:C,Semaine!E:E) -> nom1 | E54: =LOOKUP(B54,Semaine!C:C,Semaine!F:F) -> nom3 | F54: =LOOKUP(B54,Semaine!C:C,Semaine!G:G) -> nom5

Sheet Cédule 2016
A1: 2015 | C1: Groupe
A2: Semaine finissant le | C2: Personne 1 | D2: Personne 2 | E2: Personne 3 | F2: Personne 4
A3: =LOOKUP(B3,Semaine!C:C,Semaine!B:B) -> 1 | B3: 42371 | C3: =LOOKUP(B3,Semaine!C:C,Semaine!D:D) -> nom7 | D3: =LOOKUP(B3,Semaine!C:C,Semaine!E:E) -> nom9 | E3: =LOOKUP(B3,Semaine!C:C,Semaine!F:F) -> nom2 | F3: =LOOKUP(B3,Semaine!C:C,Semaine!G:G) -> nom4
A4: =LOOKUP(B4,Semaine!C:C,Semaine!B:B) -> 2 | B4: =B3+7 -> 42378 | C4: =LOOKUP(B4,Semaine!C:C,Semaine!D:D) -> nom6 | D4: =LOOKUP(B4,Semaine!C:C,Semaine!E:E) -> nom8 | E4: =LOOKUP(B4,Semaine!C:C,Semaine!F:F) -> nom10 | F4: =LOOKUP(B4,Semaine!C:C,Semaine!G:G) -> nom1
A5: =LOOKUP(B5,Semaine!C:C,Semaine!B:B) -> 3 | B5: =B4+7 -> 42385 | C5: =LOOKUP(B5,Semaine!C:C,Semaine!D:D) -> nom3 | D5: =LOOKUP(B5,Semaine!C:C,Semaine!E:E) -> nom5 | E5: =LOOKUP(B5,Semaine!C:C,Semaine!F:F) -> nom7 | F5: =LOOKUP(B5,Semaine!C:C,Semaine!G:G) -> nom9
A6: =LOOKUP(B6,Semaine!C:C,Semaine!B:B) -> 4 | B6: =B5+7 -> 42392 | C6: =LOOKUP(B6,Semaine!C:C,Semaine!D:D) -> nom10 | D6: =LOOKUP(B6,Semaine!C:C,Semaine!E:E) -> nom8 | E6: =LOOKUP(B6,Semaine!C:C,Semaine!F:F) -> nom6 | F6: =LOOKUP(B6,Semaine!C:C,Semaine!G:G) -> nom4
A7: =LOOKUP(B7,Semaine!C:C,Semaine!B:B) -> 5 | B7: =B6+7 -> 42399 | C7: =LOOKUP(B7,Semaine!C:C,Semaine!D:D) -> nom2 | D7: =LOOKUP(B7,Semaine!C:C,Semaine!E:E) -> nom9 | E7: =LOOKUP(B7,Semaine!C:C,Semaine!F:F) -> nom1 | F7: =LOOKUP(B7,Semaine!C:C,Semaine!G:G) -> nom3
A8: =LOOKUP(B8,Semaine!C:C,Semaine!B:B) -> 6 | B8: =B7+7 -> 42406 | C8: =LOOKUP(B8,Semaine!C:C,Semaine!D:D) -> nom5 | D8: =LOOKUP(B8,Semaine!C:C,Semaine!E:E) -> nom7 | E8: =LOOKUP(B8,Semaine!C:C,Semaine!F:F) -> nom10 | F8: =LOOKUP(B8,Semaine!C:C,Semaine!G:G) -> nom8
A9: =LOOKUP(B9,Semaine!C:C,Semaine!B:B) -> 7 | B9: =B8+7 -> 42413 | C9: =LOOKUP(B9,Semaine!C:C,Semaine!D:D) -> nom6 | D9: =LOOKUP(B9,Semaine!C:C,Semaine!E:E) -> nom4 | E9: =LOOKUP(B9,Semaine!C:C,Semaine!F:F) -> nom2 | F9: =LOOKUP(B9,Semaine!C:C,Semaine!G:G) -> nom9
A10: =LOOKUP(B10,Semaine!C:C,Semaine!B:B) -> 8 | B10: =B9+7 -> 42420 | C10: =LOOKUP(B10,Semaine!C:C,Semaine!D:D) -> nom1 | D10: =LOOKUP(B10,Semaine!C:C,Semaine!E:E) -> nom3 | E10: =LOOKUP(B10,Semaine!C:C,Semaine!F:F) -> nom5 | F10: =LOOKUP(B10,Semaine!C:C,Semaine!G:G) -> nom7
A11: =LOOKUP(B11,Semaine!C:C,Semaine!B:B) -> 9 | B11: =B10+7 -> 42427 | C11: =LOOKUP(B11,Semaine!C:C,Semaine!D:D) -> nom10 | D11: =LOOKUP(B11,Semaine!C:C,Semaine!E:E) -> nom9 | E11: =LOOKUP(B11,Semaine!C:C,Semaine!F:F) -> nom7 | F11: =LOOKUP(B11,Semaine!C:C,Semaine!G:G) -> nom6
A12: =LOOKUP(B12,Semaine!C:C,Semaine!B:B) -> 10 | B12: =B11+7 -> 42434 | C12: =LOOKUP(B12,Semaine!C:C,Semaine!D:D) -> nom5 | D12: =LOOKUP(B12,Semaine!C:C,Semaine!E:E) -> nom4 | E12: =LOOKUP(B12,Semaine!C:C,Semaine!F:F) -> nom2 | F12: =LOOKUP(B12,Semaine!C:C,Semaine!G:G) -> nom1
A13: =LOOKUP(B13,Semaine!C:C,Semaine!B:B) -> 11 | B13: =B12+7 -> 42441 | C13: =LOOKUP(B13,Semaine!C:C,Semaine!D:D) -> nom8 | D13: =LOOKUP(B13,Semaine!C:C,Semaine!E:E) -> nom3 | E13: =LOOKUP(B13,Semaine!C:C,Semaine!F:F) -> nom10 | F13: =LOOKUP(B13,Semaine!C:C,Semaine!G:G) -> nom9
A14: =LOOKUP(B14,Semaine!C:C,Semaine!B:B) -> 12 | B14: =B13+7 -> 42448 | C14: =LOOKUP(B14,Semaine!C:C,Semaine!D:D) -> nom7 | D14: =LOOKUP(B14,Semaine!C:C,Semaine!E:E) -> nom6 | E14: =LOOKUP(B14,Semaine!C:C,Semaine!F:F) -> nom5 | F14: =LOOKUP(B14,Semaine!C:C,Semaine!G:G) -> nom4
A15: =LOOKUP(B15,Semaine!C:C,Semaine!B:B) -> 13 | B15: =B14+7 -> 42455 | C15: =LOOKUP(B15,Semaine!C:C,Semaine!D:D) -> nom2 | D15: =LOOKUP(B15,Semaine!C:C,Semaine!E:E) -> nom1 | E15: =LOOKUP(B15,Semaine!C:C,Semaine!F:F) -> nom8 | F15: =LOOKUP(B15,Semaine!C:C,Semaine!G:G) -> nom3
... A54: =LOOKUP(B54,Semaine!C:C,Semaine!B:B) -> 52 | B54: =B53+7 -> 42728 | C54: =LOOKUP(B54,Semaine!C:C,Semaine!D:D) -> nom5 | D54: =LOOKUP(B54,Semaine!C:C,Semaine!E:E) -> nom3 | E54: =LOOKUP(B54,Semaine!C:C,Semaine!F:F) -> nom1 | F54: =LOOKUP(B54,Semaine!C:C,Semaine!G:G) -> nom10
