Workbook

Sheet ZST 019
A1: BJ | B1: ZST | C1: TAG | D1: T | E1: JJMMTT | F1: R1H00 | G1: R1H01 | H1: R1H02 | I1: R1H03 | J1: R1H04 | K1: R1H05 | L1: R1H06 | M1: R1H07 | N1: R1H08 | O1: R1H09 | P1: R1H10 | Q1: R1H11 | R1: R1H12 | S1: R1H13 | T1: R1H14 | U1: R1H15 | V1: R1H16 | W1: R1H17 | X1: R1H18 | Y1: R1H19 | Z1: R1H20 | AA1: R1H21 | AB1: R1H22 | AC1: R1H23 | AD1: R2H00 | AE1: R2H01 | AF1: R2H02 | AG1: R2H03 | AH1: R2H04 | AI1: R2H05 | AJ1: R2H06 | AK1: R2H07 | AL1: R2H08 | AM1: R2H09 | AN1: R2H10 | AO1: R2H11 | AP1: R2H12 | AQ1: R2H13 | AR1: R2H14 | AS1: R2H15 | AT1: R2H16 | AU1: R2H17 | AV1: R2H18 | AW1: R2H19 | AX1: R2H20 | AY1: R2H21 | AZ1: R2H22 | BA1: R2H23 | BB1: KL
A2: 17 | B2: 19 | C2: 1 | D2: 7 | E2: 170101 | F2: 1 | G2: 1 | H2: 0 | I2: 0 | J2: 0 | K2: 0 | L2: 0 | M2: 0 | N2: 0 | O2: 1 | P2: 1 | Q2: 0 | R2: 0 | S2: 0 | T2: 3 | U2: 2 | V2: 0 | W2: 1 | X2: 0 | Y2: 1 | Z2: 0 | AA2: 1 | AB2: 1 | AC2: 0 | AD2: 0 | AE2: 1 | AF2: 0 | AG2: 0 | AH2: 0 | AI2: 0 | AJ2: 0 | AK2: 2 | AL2: 0 | AM2: 0 | AN2: 1 | AO2: 0 | AP2: 0 | AQ2: 0 | AR2: 3 | AS2: 3 | AT2: 3 | AU2: 1 | AV2: 1 | AW2: 0 | AX2: 0 | AY2: 0 | AZ2: 0 | BA2: 0 | BB2: 1
A3: 17 | B3: 19 | C3: 1 | D3: 7 | E3: 170101 | F3: 0 | G3: 1 | H3: 0 | I3: 1 | J3: 0 | K3: 20 | L3: 9 | M3: 9 | N3: 8 | O3: 3 | P3: 2 | Q3: 7 | R3: 2 | S3: 7 | T3: 12 | U3: 10 | V3: 2 | W3: 6 | X3: 8 | Y3: 5 | Z3: 3 | AA3: 0 | AB3: 6 | AC3: 2 | AD3: 11 | AE3: 1 | AF3: 1 | AG3: 3 | AH3: 1 | AI3: 29 | AJ3: 13 | AK3: 6 | AL3: 12 | AM3: 8 | AN3: 4 | AO3: 15 | AP3: 2 | AQ3: 9 | AR3: 12 | AS3: 22 | AT3: 7 | AU3: 11 | AV3: 6 | AW3: 13 | AX3: 12 | AY3: 7 | AZ3: 14 | BA3: 10 | BB3: 2
A4: 17 | B4: 19 | C4: 1 | D4: 7 | E4: 170101 | F4: 132 | G4: 231 | H4: 157 | I4: 102 | J4: 66 | K4: 51 | L4: 46 | M4: 39 | N4: 46 | O4: 52 | P4: 109 | Q4: 200 | R4: 202 | S4: 210 | T4: 228 | U4: 306 | V4: 375 | W4: 287 | X4: 205 | Y4: 125 | Z4: 124 | AA4: 107 | AB4: 95 | AC4: 83 | AD4: 66 | AE4: 92 | AF4: 74 | AG4: 61 | AH4: 37 | AI4: 32 | AJ4: 48 | AK4: 66 | AL4: 41 | AM4: 62 | AN4: 114 | AO4: 195 | AP4: 253 | AQ4: 283 | AR4: 322 | AS4: 416 | AT4: 383 | AU4: 289 | AV4: 276 | AW4: 178 | AX4: 110 | AY4: 119 | AZ4: 94 | BA4: 58 | BB4: 3
A5: 17 | B5: 19 | C5: 1 | D5: 7 | E5: 170101 | F5: 0 | G5: 0 | H5: 0 | I5: 0 | J5: 0 | K5: 0 | L5: 0 | M5: 0 | N5: 0 | O5: 0 | P5: 1 | Q5: 0 | R5: 0 | S5: 0 | T5: 0 | U5: 1 | V5: 0 | W5: 0 | X5: 0 | Y5: 0 | Z5: 0 | AA5: 0 | AB5: 0 | AC5: 0 | AD5: 0 | AE5: 0 | AF5: 0 | AG5: 0 | AH5: 0 | AI5: 0 | AJ5: 1 | AK5: 0 | AL5: 0 | AM5: 0 | AN5: 0 | AO5: 0 | AP5: 0 | AQ5: 0 | AR5: 0 | AS5: 0 | AT5: 0 | AU5: 0 | AV5: 0 | AW5: 0 | AX5: 0 | AY5: 0 | AZ5: 0 | BA5: 0 | BB5: 4
A6: 17 | B6: 19 | C6: 1 | D6: 7 | E6: 170101 | F6: 2 | G6: 8 | H6: 0 | I6: 3 | J6: 5 | K6: 5 | L6: 8 | M6: 5 | N6: 2 | O6: 1 | P6: 6 | Q6: 6 | R6: 7 | S6: 11 | T6: 15 | U6: 10 | V6: 12 | W6: 15 | X6: 5 | Y6: 6 | Z6: 7 | AA6: 5 | AB6: 4 | AC6: 2 | AD6: 6 | AE6: 4 | AF6: 2 | AG6: 4 | AH6: 6 | AI6: 4 | AJ6: 6 | AK6: 2 | AL6: 6 | AM6: 2 | AN6: 2 | AO6: 8 | AP6: 7 | AQ6: 3 | AR6: 8 | AS6: 14 | AT6: 6 | AU6: 6 | AV6: 3 | AW6: 7 | AX6: 5 | AY6: 5 | AZ6: 3 | BA6: 0 | BB6: 5
A7: 17 | B7: 19 | C7: 1 | D7: 7 | E7: 170101 | F7: 0 | G7: 0 | H7: 0 | I7: 0 | J7: 0 | K7: 0 | L7: 0 | M7: 0 | N7: 0 | O7: 0 | P7: 0 | Q7: 0 | R7: 0 | S7: 0 | T7: 0 | U7: 0 | V7: 0 | W7: 0 | X7: 0 | Y7: 0 | Z7: 0 | AA7: 0 | AB7: 0 | AC7: 0 | AD7: 0 | AE7: 0 | AF7: 0 | AG7: 0 | AH7: 0 | AI7: 0 | AJ7: 0 | AK7: 0 | AL7: 0 | AM7: 0 | AN7: 0 | AO7: 0 | AP7: 0 | AQ7: 0 | AR7: 0 | AS7: 0 | AT7: 0 | AU7: 0 | AV7: 0 | AW7: 0 | AX7: 0 | AY7: 0 | AZ7: 0 | BA7: 0 | BB7: 6
A8: 17 | B8: 19 | C8: 1 | D8: 7 | E8: 170101 | F8: 0 | G8: 0 | H8: 0 | I8: 0 | J8: 0 | K8: 0 | L8: 0 | M8: 0 | N8: 0 | O8: 0 | P8: 0 | Q8: 0 | R8: 0 | S8: 0 | T8: 0 | U8: 0 | V8: 0 | W8: 0 | X8: 0 | Y8: 0 | Z8: 0 | AA8: 0 | AB8: 0 | AC8: 0 | AD8: 0 | AE8: 0 | AF8: 0 | AG8: 0 | AH8: 0 | AI8: 0 | AJ8: 0 | AK8: 0 | AL8: 0 | AM8: 0 | AN8: 0 | AO8: 0 | AP8: 0 | AQ8: 0 | AR8: 0 | AS8: 0 | AT8: 0 | AU8: 0 | AV8: 0 | AW8: 0 | AX8: 0 | AY8: 0 | AZ8: 0 | BA8: 0 | BB8: 7
A9: 17 | B9: 19 | C9: 1 | D9: 7 | E9: 170101 | F9: 0 | G9: 0 | H9: 0 | I9: 0 | J9: 0 | K9: 1 | L9: 4 | M9: 2 | N9: 1 | O9: 1 | P9: 0 | Q9: 1 | R9: 1 | S9: 1 | T9: 2 | U9: 2 | V9: 1 | W9: 1 | X9: 0 | Y9: 3 | Z9: 3 | AA9: 0 | AB9: 1 | AC9: 0 | AD9: 4 | AE9: 0 | AF9: 0 | AG9: 0 | AH9: 0 | AI9: 3 | AJ9: 4 | AK9: 1 | AL9: 2 | AM9: 0 | AN9: 0 | AO9: 0 | AP9: 0 | AQ9: 2 | AR9: 7 | AS9: 4 | AT9: 1 | AU9: 0 | AV9: 0 | AW9: 2 | AX9: 4 | AY9: 1 | AZ9: 2 | BA9: 0 | BB9: 8
A10: 17 | B10: 19 | C10: 1 | D10: 7 | E10: 170101 | F10: 1 | G10: 0 | H10: 0 | I10: 0 | J10: 0 | K10: 1 | L10: 4 | M10: 3 | N10: 3 | O10: 4 | P10: 3 | Q10: 4 | R10: 5 | S10: 7 | T10: 5 | U10: 6 | V10: 6 | W10: 7 | X10: 5 | Y10: 5 | Z10: 6 | AA10: 3 | AB10: 4 | AC10: 4 | AD10: 2 | AE10: 0 | AF10: 0 | AG10: 0 | AH10: 0 | AI10: 0 | AJ10: 1 | AK10: 1 | AL10: 5 | AM10: 3 | AN10: 3 | AO10: 3 | AP10: 4 | AQ10: 4 | AR10: 5 | AS10: 6 | AT10: 3 | AU10: 4 | AV10: 6 | AW10: 4 | AX10: 3 | AY10: 3 | AZ10: 3 | BA10: 2 | BB10: 9
A11: 17 | B11: 19 | C11: 1 | D11: 7 | E11: 170101 | F11: 0 | G11: 0 | H11: 0 | I11: 0 | J11: 0 | K11: 4 | L11: 5 | M11: 5 | N11: 3 | O11: 0 | P11: 0 | Q11: 0 | R11: 1 | S11: 2 | T11: 4 | U11: 3 | V11: 1 | W11: 6 | X11: 1 | Y11: 0 | Z11: 8 | AA11: 0 | AB11: 1 | AC11: 0 | AD11: 2 | AE11: 1 | AF11: 0 | AG11: 2 | AH11: 0 | AI11: 2 | AJ11: 7 | AK11: 1 | AL11: 5 | AM11: 0 | AN11: 0 | AO11: 11 | AP11: 1 | AQ11: 3 | AR11: 9 | AS11: 4 | AT11: 3 | AU11: 2 | AV11: 1 | AW11: 5 | AX11: 6 | AY11: 0 | AZ11: 12 | BA11: 3 | BB11: 10 | BC11: =IF((MOD(ROW()-1,10)=0),SUM('ZST 019'!F2:BA11),"") -> 8236 | BD11: =IF(COUNTIF(BC$1:BC10,BC11)>0,"",MAX(BD$1:BD10)+1) -> 1
A12: 17 | B12: 19 | C12: 2 | D12: 1 | E12: 170102 | F12: 0 | G12: 0 | H12: 0 | I12: 0 | J12: 0 | K12: 1 | L12: 0 | M12: 0 | N12: 0 | O12: 0 | P12: 0 | Q12: 1 | R12: 1 | S12: 1 | T12: 2 | U12: 1 | V12: 0 | W12: 1 | X12: 0 | Y12: 0 | Z12: 0 | AA12: 0 | AB12: 0 | AC12: 2 | AD12: 0 | AE12: 0 | AF12: 0 | AG12: 0 | AH12: 0 | AI12: 0 | AJ12: 0 | AK12: 1 | AL12: 1 | AM12: 1 | AN12: 1 | AO12: 2 | AP12: 0 | AQ12: 1 | AR12: 2 | AS12: 1 | AT12: 1 | AU12: 2 | AV12: 1 | AW12: 1 | AX12: 1 | AY12: 0 | AZ12: 0 | BA12: 0 | BB12: 1 | BC12: =IF((MOD(ROW()-1,10)=0),SUM('ZST 019'!F3:BA12),"") | BD12: =IF(COUNTIF(BC$1:BC11,BC12)>0,"",MAX(BD$1:BD11)+1)
A13: 17 | B13: 19 | C13: 2 | D13: 1 | E13: 170102 | F13: 0 | G13: 0 | H13: 0 | I13: 0 | J13: 0 | K13: 17 | L13: 7 | M13: 5 | N13: 11 | O13: 4 | P13: 5 | Q13: 10 | R13: 3 | S13: 5 | T13: 8 | U13: 4 | V13: 3 | W13: 7 | X13: 1 | Y13: 14 | Z13: 4 | AA13: 2 | AB13: 8 | AC13: 1 | AD13: 13 | AE13: 0 | AF13: 0 | AG13: 0 | AH13: 0 | AI13: 59 | AJ13: 21 | AK13: 2 | AL13: 12 | AM13: 1 | AN13: 6 | AO13: 20 | AP13: 8 | AQ13: 11 | AR13: 21 | AS13: 21 | AT13: 11 | AU13: 17 | AV13: 6 | AW13: 14 | AX13: 21 | AY13: 4 | AZ13: 17 | BA13: 39 | BB13: 2 | BC13: =IF((MOD(ROW()-1,10)=0),SUM('ZST 019'!F4:BA13),"") | BD13: =IF(COUNTIF(BC$1:BC12,BC13)>0,"",MAX(BD$1:BD12)+1)
A14: 17 | B14: 19 | C14: 2 | D14: 1 | E14: 170102 | F14: 47 | G14: 36 | H14: 30 | I14: 13 | J14: 15 | K14: 27 | L14: 42 | M14: 56 | N14: 70 | O14: 103 | P14: 167 | Q14: 250 | R14: 226 | S14: 292 | T14: 319 | U14: 352 | V14: 318 | W14: 261 | X14: 145 | Y14: 119 | Z14: 107 | AA14: 121 | AB14: 103 | AC14: 77 | AD14: 41 | AE14: 15 | AF14: 9 | AG14: 5 | AH14: 6 | AI14: 23 | AJ14: 61 | AK14: 77 | AL14: 75 | AM14: 100 | AN14: 172 | AO14: 258 | AP14: 268 | AQ14: 340 | AR14: 443 | AS14: 405 | AT14: 452 | AU14: 368 | AV14: 299 | AW14: 186 | AX14: 133 | AY14: 112 | AZ14: 92 | BA14: 57 | BB14: 3 | BC14: =IF((MOD(ROW()-1,10)=0),SUM('ZST 019'!F5:BA14),"") | BD14: =IF(COUNTIF(BC$1:BC13,BC14)>0,"",MAX(BD$1:BD13)+1)
A15: 17 | B15: 19 | C15: 2 | D15: 1 | E15: 170102 | F15: 0 | G15: 0 | H15: 1 | I15: 0 | J15: 0 | K15: 0 | L15: 0 | M15: 0 | N15: 0 | O15: 0 | P15: 0 | Q15: 1 | R15: 0 | S15: 1 | T15: 0 | U15: 0 | V15: 0 | W15: 0 | X15: 0 | Y15: 0 | Z15: 0 | AA15: 0 | AB15: 0 | AC15: 0 | AD15: 0 | AE15: 0 | AF15: 0 | AG15: 0 | AH15: 0 | AI15: 0 | AJ15: 0 | AK15: 0 | AL15: 0 | AM15: 0 | AN15: 0 | AO15: 0 | AP15: 0 | AQ15: 0 | AR15: 0 | AS15: 0 | AT15: 0 | AU15: 1 | AV15: 2 | AW15: 1 | AX15: 0 | AY15: 0 | AZ15: 0 | BA15: 0 | BB15: 4 | BC15: =IF((MOD(ROW()-1,10)=0),SUM('ZST 019'!F6:BA15),"") | BD15: =IF(COUNTIF(BC$1:BC14,BC15)>0,"",MAX(BD$1:BD14)+1)
A16: 17 | B16: 19 | C16: 2 | D16: 1 | E16: 170102 | F16: 2 | G16: 1 | H16: 0 | I16: 0 | J16: 1 | K16: 7 | L16: 3 | M16: 5 | N16: 8 | O16: 7 | P16: 13 | Q16: 11 | R16: 4 | S16: 17 | T16: 22 | U16: 15 | V16: 13 | W16: 9 | X16: 4 | Y16: 7 | Z16: 6 | AA16: 4 | AB16: 2 | AC16: 3 | AD16: 1 | AE16: 1 | AF16: 0 | AG16: 0 | AH16: 1 | AI16: 5 | AJ16: 1 | AK16: 7 | AL16: 8 | AM16: 4 | AN16: 3 | AO16: 13 | AP16: 15 | AQ16: 14 | AR16: 20 | AS16: 13 | AT16: 15 | AU16: 8 | AV16: 9 | AW16: 10 | AX16: 11 | AY16: 3 | AZ16: 7 | BA16: 3 | BB16: 5 | BC16: =IF((MOD(ROW()-1,10)=0),SUM('ZST 019'!F7:BA16),"") | BD16: =IF(COUNTIF(BC$1:BC15,BC16)>0,"",MAX(BD$1:BD15)+1)
A17: 17 | B17: 19 | C17: 2 | D17: 1 | E17: 170102 | F17: 0 | G17: 0 | H17: 0 | I17: 0 | J17: 0 | K17: 0 | L17: 0 | M17: 0 | N17: 0 | O17: 0 | P17: 0 | Q17: 0 | R17: 0 | S17: 0 | T17: 0 | U17: 0 | V17: 0 | W17: 0 | X17: 0 | Y17: 0 | Z17: 0 | AA17: 0 | AB17: 0 | AC17: 0 | AD17: 1 | AE17: 0 | AF17: 0 | AG17: 0 | AH17: 0 | AI17: 0 | AJ17: 1 | AK17: 0 | AL17: 0 | AM17: 0 | AN17: 0 | AO17: 0 | AP17: 0 | AQ17: 0 | AR17: 0 | AS17: 0 | AT17: 0 | AU17: 1 | AV17: 0 | AW17: 0 | AX17: 0 | AY17: 0 | AZ17: 0 | BA17: 0 | BB17: 6 | BC17: =IF((MOD(ROW()-1,10)=0),SUM('ZST 019'!F8:BA17),"") | BD17: =IF(COUNTIF(BC$1:BC16,BC17)>0,"",MAX(BD$1:BD16)+1)
A18: 17 | B18: 19 | C18: 2 | D18: 1 | E18: 170102 | F18: 0 | G18: 0 | H18: 0 | I18: 0 | J18: 0 | K18: 0 | L18: 0 | M18: 0 | N18: 1 | O18: 0 | P18: 0 | Q18: 0 | R18: 0 | S18: 0 | T18: 0 | U18: 0 | V18: 0 | W18: 0 | X18: 0 | Y18: 1 | Z18: 0 | AA18: 0 | AB18: 1 | AC18: 0 | AD18: 0 | AE18: 0 | AF18: 0 | AG18: 0 | AH18: 0 | AI18: 0 | AJ18: 0 | AK18: 0 | AL18: 0 | AM18: 0 | AN18: 0 | AO18: 0 | AP18: 1 | AQ18: 0 | AR18: 0 | AS18: 0 | AT18: 0 | AU18: 0 | AV18: 0 | AW18: 1 | AX18: 0 | AY18: 0 | AZ18: 0 | BA18: 0 | BB18: 7 | BC18: =IF((MOD(ROW()-1,10)=0),SUM('ZST 019'!F9:BA18),"") | BD18: =IF(COUNTIF(BC$1:BC17,BC18)>0,"",MAX(BD$1:BD17)+1)
A19: 17 | B19: 19 | C19: 2 | D19: 1 | E19: 170102 | F19: 0 | G19: 0 | H19: 0 | I19: 0 | J19: 0 | K19: 5 | L19: 1 | M19: 1 | N19: 3 | O19: 2 | P19: 1 | Q19: 2 | R19: 1 | S19: 0 | T19: 0 | U19: 1 | V19: 0 | W19: 0 | X19: 0 | Y19: 1 | Z19: 1 | AA19: 0 | AB19: 0 | AC19: 1 | AD19: 0 | AE19: 0 | AF19: 0 | AG19: 0 | AH19: 0 | AI19: 1 | AJ19: 3 | AK19: 0 | AL19: 4 | AM19: 2 | AN19: 1 | AO19: 3 | AP19: 1 | AQ19: 0 | AR19: 3 | AS19: 1 | AT19: 2 | AU19: 2 | AV19: 0 | AW19: 3 | AX19: 4 | AY19: 0 | AZ19: 5 | BA19: 1 | BB19: 8 | BC19: =IF((MOD(ROW()-1,10)=0),SUM('ZST 019'!F10:BA19),"") | BD19: =IF(COUNTIF(BC$1:BC18,BC19)>0,"",MAX(BD$1:BD18)+1)
A20: 17 | B20: 19 | C20: 2 | D20: 1 | E20: 170102 | F20: 1 | G20: 0 | H20: 0 | I20: 0 | J20: 0 | K20: 0 | L20: 2 | M20: 3 | N20: 4 | O20: 3 | P20: 5 | Q20: 5 | R20: 4 | S20: 6 | T20: 8 | U20: 7 | V20: 7 | W20: 5 | X20: 6 | Y20: 4 | Z20: 3 | AA20: 2 | AB20: 3 | AC20: 4 | AD20: 1 | AE20: 0 | AF20: 0 | AG20: 0 | AH20: 0 | AI20: 0 | AJ20: 2 | AK20: 5 | AL20: 4 | AM20: 2 | AN20: 3 | AO20: 3 | AP20: 4 | AQ20: 5 | AR20: 5 | AS20: 4 | AT20: 3 | AU20: 5 | AV20: 2 | AW20: 2 | AX20: 1 | AY20: 3 | AZ20: 3 | BA20: 2 | BB20: 9 | BC20: =IF((MOD(ROW()-1,10)=0),SUM('ZST 019'!F11:BA20),"") | BD20: =IF(COUNTIF(BC$1:BC19,BC20)>0,"",MAX(BD$1:BD19)+1)
A21: 17 | B21: 19 | C21: 2 | D21: 1 | E21: 170102 | F21: 0 | G21: 0 | H21: 1 | I21: 0 | J21: 0 | K21: 8 | L21: 2 | M21: 1 | N21: 4 | O21: 1 | P21: 0 | Q21: 6 | R21: 2 | S21: 0 | T21: 0 | U21: 2 | V21: 0 | W21: 2 | X21: 3 | Y21: 3 | Z21: 2 | AA21: 1 | AB21: 2 | AC21: 0 | AD21: 0 | AE21: 0 | AF21: 0 | AG21: 0 | AH21: 0 | AI21: 3 | AJ21: 9 | AK21: 1 | AL21: 7 | AM21: 0 | AN21: 0 | AO21: 5 | AP21: 1 | AQ21: 0 | AR21: 5 | AS21: 5 | AT21: 2 | AU21: 0 | AV21: 4 | AW21: 3 | AX21: 8 | AY21: 0 | AZ21: 5 | BA21: 3 | BB21: 10 | BC21: =IF((MOD(ROW()-1,10)=0),SUM('ZST 019'!F12:BA21),"") -> 8411 | BD21: =IF(COUNTIF(BC$1:BC20,BC21)>0,"",MAX(BD$1:BD20)+1) -> 2
A22: 17 | B22: 19 | C22: 3 | D22: 2 | E22: 170103 | F22: 0 | G22: 0 | H22: 0 | I22: 0 | J22: 0 | K22: 0 | L22: 1 | M22: 1 | N22: 3 | O22: 0 | P22: 0 | Q22: 0 | R22: 1 | S22: 1 | T22: 2 | U22: 1 | V22: 0 | W22: 0 | X22: 0 | Y22: 0 | Z22: 0 | AA22: 0 | AB22: 1 | AC22: 0 | AD22: 0 | AE22: 0 | AF22: 0 | AG22: 0 | AH22: 0 | AI22: 1 | AJ22: 0 | AK22: 1 | AL22: 1 | AM22: 2 | AN22: 2 | AO22: 1 | AP22: 2 | AQ22: 0 | AR22: 0 | AS22: 0 | AT22: 1 | AU22: 0 | AV22: 2 | AW22: 0 | AX22: 2 | AY22: 1 | AZ22: 1 | BA22: 0 | BB22: 1 | BC22: =IF((MOD(ROW()-1,10)=0),SUM('ZST 019'!F13:BA22),"") | BD22: =IF(COUNTIF(BC$1:BC21,BC22)>0,"",MAX(BD$1:BD21)+1)
... A841: 17 | B841: 19 | C841: 84 | D841: 6 | E841: 170325 | F841: 0 | G841: 0 | H841: 0 | I841: 0 | J841: 1 | K841: 2 | L841: 8 | M841: 1 | N841: 8 | O841: 5 | P841: 1 | Q841: 4 | R841: 2 | S841: 1 | T841: 2 | U841: 6 | V841: 2 | W841: 1 | X841: 1 | Y841: 5 | Z841: 4 | AA841: 3 | AB841: 4 | AC841: 1 | AD841: 2 | AE841: 0 | AF841: 0 | AG841: 0 | AH841: 0 | AI841: 4 | AJ841: 7 | AK841: 3 | AL841: 7 | AM841: 2 | AN841: 3 | AO841: 8 | AP841: 4 | AQ841: 3 | AR841: 5 | AS841: 7 | AT841: 2 | AU841: 2 | AV841: 2 | AW841: 2 | AX841: 8 | AY841: 1 | AZ841: 3 | BA841: 1 | BB841: 10 | BC841: =IF((MOD(ROW()-1,10)=0),SUM('ZST 019'!F832:BA841),"") -> 15586 | BD841: =IF(COUNTIF(BC$1:BC840,BC841)>0,"",MAX(BD$1:BD840)+1) -> 84
A842: 17 | B842: 19 | C842: 85 | D842: 7 | E842: 170326 | F842: 0 | G842: 1 | I842: 0 | J842: 0 | K842: 0 | L842: 1 | M842: 0 | N842: 1 | O842: 1 | P842: 0 | Q842: 0 | R842: 1 | S842: 0 | T842: 2 | U842: 0 | V842: 2 | W842: 0 | X842: 1 | Y842: 1 | Z842: 0 | AA842: 0 | AB842: 0 | AC842: 0 | AD842: 1 | AE842: 1 | AG842: 1 | AH842: 0 | AI842: 0 | AJ842: 0 | AK842: 0 | AL842: 0 | AM842: 0 | AN842: 0 | AO842: 1 | AP842: 0 | AQ842: 2 | AR842: 3 | AS842: 1 | AT842: 2 | AU842: 0 | AV842: 2 | AW842: 1 | AX842: 1 | AY842: 1 | AZ842: 0 | BA842: 0 | BB842: 1 | BC842: =IF((MOD(ROW()-1,10)=0),SUM('ZST 019'!F833:BA842),"") | BD842: =IF(COUNTIF(BC$1:BC841,BC842)>0,"",MAX(BD$1:BD841)+1)
A843: 17 | B843: 19 | C843: 85 | D843: 7 | E843: 170326 | F843: 1 | G843: 2 | I843: 1 | J843: 0 | K843: 11 | L843: 3 | M843: 2 | N843: 14 | O843: 4 | P843: 1 | Q843: 13 | R843: 16 | S843: 14 | T843: 24 | U843: 19 | V843: 14 | W843: 16 | X843: 14 | Y843: 8 | Z843: 22 | AA843: 1 | AB843: 3 | AC843: 1 | AD843: 13 | AE843: 3 | AG843: 0 | AH843: 0 | AI843: 32 | AJ843: 8 | AK843: 4 | AL843: 5 | AM843: 12 | AN843: 13 | AO843: 19 | AP843: 12 | AQ843: 14 | AR843: 36 | AS843: 43 | AT843: 21 | AU843: 16 | AV843: 18 | AW843: 19 | AX843: 18 | AY843: 6 | AZ843: 19 | BA843: 13 | BB843: 2 | BC843: =IF((MOD(ROW()-1,10)=0),SUM('ZST 019'!F834:BA843),"") | BD843: =IF(COUNTIF(BC$1:BC842,BC843)>0,"",MAX(BD$1:BD842)+1)
A844: 17 | B844: 19 | C844: 85 | D844: 7 | E844: 170326 | F844: 152 | G844: 126 | I844: 71 | J844: 50 | K844: 53 | L844: 41 | M844: 52 | N844: 64 | O844: 99 | P844: 158 | Q844: 271 | R844: 307 | S844: 233 | T844: 302 | U844: 400 | V844: 420 | W844: 407 | X844: 342 | Y844: 218 | Z844: 210 | AA844: 164 | AB844: 95 | AC844: 77 | AD844: 94 | AE844: 41 | AG844: 35 | AH844: 17 | AI844: 22 | AJ844: 54 | AK844: 52 | AL844: 66 | AM844: 141 | AN844: 223 | AO844: 332 | AP844: 352 | AQ844: 326 | AR844: 432 | AS844: 439 | AT844: 449 | AU844: 364 | AV844: 340 | AW844: 237 | AX844: 158 | AY844: 137 | AZ844: 83 | BA844: 44 | BB844: 3 | BC844: =IF((MOD(ROW()-1,10)=0),SUM('ZST 019'!F835:BA844),"") | BD844: =IF(COUNTIF(BC$1:BC843,BC844)>0,"",MAX(BD$1:BD843)+1)
A845: 17 | B845: 19 | C845: 85 | D845: 7 | E845: 170326 | F845: 0 | G845: 0 | I845: 0 | J845: 0 | K845: 0 | L845: 0 | M845: 1 | N845: 0 | O845: 0 | P845: 0 | Q845: 0 | R845: 0 | S845: 1 | T845: 1 | U845: 0 | V845: 0 | W845: 0 | X845: 1 | Y845: 0 | Z845: 0 | AA845: 0 | AB845: 0 | AC845: 0 | AD845: 2 | AE845: 0 | AG845: 0 | AH845: 0 | AI845: 0 | AJ845: 0 | AK845: 1 | AL845: 0 | AM845: 0 | AN845: 1 | AO845: 2 | AP845: 0 | AQ845: 0 | AR845: 1 | AS845: 0 | AT845: 0 | AU845: 0 | AV845: 1 | AW845: 1 | AX845: 0 | AY845: 0 | AZ845: 0 | BA845: 0 | BB845: 4 | BC845: =IF((MOD(ROW()-1,10)=0),SUM('ZST 019'!F836:BA845),"") | BD845: =IF(COUNTIF(BC$1:BC844,BC845)>0,"",MAX(BD$1:BD844)+1)
A846: 17 | B846: 19 | C846: 85 | D846: 7 | E846: 170326 | F846: 3 | G846: 4 | I846: 2 | J846: 4 | K846: 5 | L846: 2 | M846: 2 | N846: 4 | O846: 6 | P846: 11 | Q846: 8 | R846: 11 | S846: 8 | T846: 24 | U846: 21 | V846: 26 | W846: 16 | X846: 14 | Y846: 13 | Z846: 6 | AA846: 6 | AB846: 6 | AC846: 2 | AD846: 1 | AE846: 2 | AG846: 0 | AH846: 0 | AI846: 4 | AJ846: 7 | AK846: 2 | AL846: 2 | AM846: 3 | AN846: 8 | AO846: 9 | AP846: 13 | AQ846: 7 | AR846: 14 | AS846: 13 | AT846: 7 | AU846: 19 | AV846: 5 | AW846: 12 | AX846: 6 | AY846: 3 | AZ846: 6 | BA846: 1 | BB846: 5 | BC846: =IF((MOD(ROW()-1,10)=0),SUM('ZST 019'!F837:BA846),"") | BD846: =IF(COUNTIF(BC$1:BC845,BC846)>0,"",MAX(BD$1:BD845)+1)
A847: 17 | B847: 19 | C847: 85 | D847: 7 | E847: 170326 | F847: 0 | G847: 0 | I847: 0 | J847: 0 | K847: 0 | L847: 0 | M847: 0 | N847: 0 | O847: 0 | P847: 0 | Q847: 0 | R847: 0 | S847: 0 | T847: 0 | U847: 0 | V847: 0 | W847: 0 | X847: 0 | Y847: 1 | Z847: 0 | AA847: 0 | AB847: 0 | AC847: 1 | AD847: 0 | AE847: 0 | AG847: 0 | AH847: 0 | AI847: 0 | AJ847: 0 | AK847: 0 | AL847: 0 | AM847: 0 | AN847: 0 | AO847: 0 | AP847: 1 | AQ847: 1 | AR847: 0 | AS847: 0 | AT847: 1 | AU847: 0 | AV847: 0 | AW847: 0 | AX847: 1 | AY847: 1 | AZ847: 0 | BA847: 0 | BB847: 6 | BC847: =IF((MOD(ROW()-1,10)=0),SUM('ZST 019'!F838:BA847),"") | BD847: =IF(COUNTIF(BC$1:BC846,BC847)>0,"",MAX(BD$1:BD846)+1)
A848: 17 | B848: 19 | C848: 85 | D848: 7 | E848: 170326 | F848: 0 | G848: 0 | I848: 0 | J848: 0 | K848: 0 | L848: 1 | M848: 0 | N848: 0 | O848: 0 | P848: 0 | Q848: 0 | R848: 0 | S848: 0 | T848: 0 | U848: 0 | V848: 0 | W848: 0 | X848: 0 | Y848: 0 | Z848: 0 | AA848: 0 | AB848: 0 | AC848: 0 | AD848: 0 | AE848: 0 | AG848: 0 | AH848: 0 | AI848: 0 | AJ848: 0 | AK848: 0 | AL848: 0 | AM848: 0 | AN848: 0 | AO848: 1 | AP848: 0 | AQ848: 0 | AR848: 1 | AS848: 0 | AT848: 0 | AU848: 0 | AV848: 0 | AW848: 0 | AX848: 0 | AY848: 0 | AZ848: 0 | BA848: 0 | BB848: 7 | BC848: =IF((MOD(ROW()-1,10)=0),SUM('ZST 019'!F839:BA848),"") | BD848: =IF(COUNTIF(BC$1:BC847,BC848)>0,"",MAX(BD$1:BD847)+1)
A849: 17 | B849: 19 | C849: 85 | D849: 7 | E849: 170326 | F849: 0 | G849: 0 | I849: 0 | J849: 0 | K849: 1 | L849: 1 | M849: 0 | N849: 3 | O849: 0 | P849: 2 | Q849: 1 | R849: 1 | S849: 1 | T849: 4 | U849: 1 | V849: 1 | W849: 1 | X849: 0 | Y849: 1 | Z849: 2 | AA849: 0 | AB849: 1 | AC849: 0 | AD849: 2 | AE849: 0 | AG849: 0 | AH849: 0 | AI849: 3 | AJ849: 3 | AK849: 0 | AL849: 0 | AM849: 1 | AN849: 0 | AO849: 4 | AP849: 0 | AQ849: 0 | AR849: 2 | AS849: 3 | AT849: 0 | AU849: 0 | AV849: 1 | AW849: 3 | AX849: 2 | AY849: 1 | AZ849: 4 | BA849: 0 | BB849: 8 | BC849: =IF((MOD(ROW()-1,10)=0),SUM('ZST 019'!F840:BA849),"") | BD849: =IF(COUNTIF(BC$1:BC848,BC849)>0,"",MAX(BD$1:BD848)+1)
A850: 17 | B850: 19 | C850: 85 | D850: 7 | E850: 170326 | F850: 1 | G850: 0 | I850: 0 | J850: 0 | K850: 0 | L850: 1 | M850: 4 | N850: 2 | O850: 3 | P850: 4 | Q850: 5 | R850: 5 | S850: 6 | T850: 6 | U850: 6 | V850: 7 | W850: 6 | X850: 6 | Y850: 3 | Z850: 3 | AA850: 3 | AB850: 2 | AC850: 4 | AD850: 1 | AE850: 0 | AG850: 0 | AH850: 0 | AI850: 0 | AJ850: 2 | AK850: 2 | AL850: 2 | AM850: 2 | AN850: 3 | AO850: 2 | AP850: 5 | AQ850: 5 | AR850: 10 | AS850: 5 | AT850: 4 | AU850: 4 | AV850: 4 | AW850: 3 | AX850: 2 | AY850: 1 | AZ850: 4 | BA850: 1 | BB850: 9 | BC850: =IF((MOD(ROW()-1,10)=0),SUM('ZST 019'!F841:BA850),"") | BD850: =IF(COUNTIF(BC$1:BC849,BC850)>0,"",MAX(BD$1:BD849)+1)
A851: 17 | B851: 19 | C851: 85 | D851: 7 | E851: 170326 | F851: 0 | G851: 0 | I851: 0 | J851: 1 | K851: 0 | L851: 4 | M851: 0 | N851: 5 | O851: 0 | P851: 3 | Q851: 3 | R851: 4 | S851: 0 | T851: 5 | U851: 2 | V851: 0 | W851: 0 | X851: 2 | Y851: 1 | Z851: 3 | AA851: 0 | AB851: 3 | AC851: 0 | AD851: 3 | AE851: 0 | AG851: 0 | AH851: 0 | AI851: 4 | AJ851: 4 | AK851: 2 | AL851: 2 | AM851: 3 | AN851: 1 | AO851: 7 | AP851: 2 | AQ851: 2 | AR851: 6 | AS851: 5 | AT851: 2 | AU851: 3 | AV851: 1 | AW851: 4 | AX851: 6 | AY851: 2 | AZ851: 4 | BA851: 3 | BB851: 10 | BC851: =IF((MOD(ROW()-1,10)=0),SUM('ZST 019'!F842:BA851),"") -> 9988 | BD851: =IF(COUNTIF(BC$1:BC850,BC851)>0,"",MAX(BD$1:BD850)+1) -> 85
A852: 17 | B852: 19 | C852: 86 | D852: 1 | E852: 170327 | F852: 0 | G852: 0 | H852: 0 | I852: 0 | J852: 0 | K852: 0 | L852: 1 | M852: 0 | N852: 0 | O852: 1 | P852: 1 | Q852: 2 | R852: 2 | S852: 1 | T852: 3 | U852: 2 | V852: 3 | W852: 3 | X852: 0 | Y852: 1 | Z852: 2 | AA852: 2 | AB852: 2 | AC852: 1 | AD852: 1 | AE852: 0 | AF852: 0 | AG852: 0 | AH852: 0 | AI852: 1 | AJ852: 0 | AK852: 1 | AL852: 3 | AM852: 2 | AN852: 3 | AO852: 1 | AP852: 1 | AQ852: 3 | AR852: 2 | AS852: 0 | AT852: 0 | AU852: 0 | AV852: 0 | AW852: 3 | AX852: 2 | AY852: 7 | AZ852: 3 | BA852: 1 | BB852: 1 | BC852: =IF((MOD(ROW()-1,10)=0),SUM('ZST 019'!F843:BA852),"") | BD852: =IF(COUNTIF(BC$1:BC851,BC852)>0,"",MAX(BD$1:BD851)+1)
A853: 17 | B853: 19 | C853: 86 | D853: 1 | E853: 170327 | F853: 0 | G853: 0 | H853: 0 | I853: 0 | J853: 0 | K853: 9 | L853: 12 | M853: 3 | N853: 10 | O853: 7 | P853: 9 | Q853: 16 | R853: 14 | S853: 11 | T853: 31 | U853: 39 | V853: 24 | W853: 32 | X853: 28 | Y853: 22 | Z853: 21 | AA853: 5 | AB853: 9 | AC853: 0 | AD853: 9 | AE853: 1 | AF853: 1 | AG853: 1 | AH853: 1 | AI853: 37 | AJ853: 78 | AK853: 31 | AL853: 30 | AM853: 10 | AN853: 11 | AO853: 28 | AP853: 27 | AQ853: 44 | AR853: 37 | AS853: 29 | AT853: 25 | AU853: 27 | AV853: 29 | AW853: 36 | AX853: 23 | AY853: 5 | AZ853: 19 | BA853: 10 | BB853: 2 | BC853: =IF((MOD(ROW()-1,10)=0),SUM('ZST 019'!F844:BA853),"") | BD853: =IF(COUNTIF(BC$1:BC852,BC853)>0,"",MAX(BD$1:BD852)+1)
A854: 17 | B854: 19 | C854: 86 | D854: 1 | E854: 170327 | F854: 32 | G854: 25 | H854: 25 | I854: 22 | J854: 13 | K854: 28 | L854: 123 | M854: 212 | N854: 226 | O854: 280 | P854: 327 | Q854: 350 | R854: 343 | S854: 367 | T854: 391 | U854: 426 | V854: 540 | W854: 612 | X854: 389 | Y854: 317 | Z854: 228 | AA854: 160 | AB854: 120 | AC854: 71 | AD854: 19 | AE854: 8 | AF854: 9 | AG854: 6 | AH854: 15 | AI854: 50 | AJ854: 238 | AK854: 481 | AL854: 408 | AM854: 287 | AN854: 297 | AO854: 373 | AP854: 306 | AQ854: 408 | AR854: 422 | AS854: 427 | AT854: 515 | AU854: 500 | AV854: 407 | AW854: 302 | AX854: 172 | AY854: 113 | AZ854: 86 | BA854: 41 | BB854: 3 | BC854: =IF((MOD(ROW()-1,10)=0),SUM('ZST 019'!F845:BA854),"") | BD854: =IF(COUNTIF(BC$1:BC853,BC854)>0,"",MAX(BD$1:BD853)+1)
A855: 17 | B855: 19 | C855: 86 | D855: 1 | E855: 170327 | F855: 0 | G855: 0 | H855: 0 | I855: 0 | J855: 0 | K855: 0 | L855: 0 | M855: 0 | N855: 2 | O855: 0 | P855: 1 | Q855: 0 | R855: 0 | S855: 0 | T855: 1 | U855: 0 | V855: 0 | W855: 1 | X855: 0 | Y855: 1 | Z855: 1 | AA855: 0 | AB855: 0 | AC855: 0 | AD855: 0 | AE855: 0 | AF855: 0 | AG855: 0 | AH855: 0 | AI855: 0 | AJ855: 0 | AK855: 0 | AL855: 1 | AM855: 1 | AN855: 0 | AO855: 1 | AP855: 0 | AQ855: 0 | AR855: 1 | AS855: 2 | AT855: 1 | AU855: 1 | AV855: 1 | AW855: 1 | AX855: 0 | AY855: 0 | AZ855: 0 | BA855: 0 | BB855: 4 | BC855: =IF((MOD(ROW()-1,10)=0),SUM('ZST 019'!F846:BA855),"") | BD855: =IF(COUNTIF(BC$1:BC854,BC855)>0,"",MAX(BD$1:BD854)+1)
A856: 17 | B856: 19 | C856: 86 | D856: 1 | E856: 170327 | F856: 2 | G856: 0 | H856: 1 | I856: 4 | J856: 3 | K856: 3 | L856: 7 | M856: 19 | N856: 33 | O856: 22 | P856: 30 | Q856: 34 | R856: 29 | S856: 43 | T856: 37 | U856: 36 | V856: 45 | W856: 46 | X856: 11 | Y856: 18 | Z856: 12 | AA856: 6 | AB856: 9 | AC856: 4 | AD856: 2 | AE856: 0 | AF856: 0 | AG856: 0 | AH856: 0 | AI856: 8 | AJ856: 31 | AK856: 44 | AL856: 36 | AM856: 26 | AN856: 24 | AO856: 26 | AP856: 24 | AQ856: 31 | AR856: 28 | AS856: 32 | AT856: 18 | AU856: 22 | AV856: 11 | AW856: 11 | AX856: 3 | AY856: 5 | AZ856: 5 | BA856: 2 | BB856: 5 | BC856: =IF((MOD(ROW()-1,10)=0),SUM('ZST 019'!F847:BA856),"") | BD856: =IF(COUNTIF(BC$1:BC855,BC856)>0,"",MAX(BD$1:BD855)+1)
A857: 17 | B857: 19 | C857: 86 | D857: 1 | E857: 170327 | F857: 0 | G857: 0 | H857: 0 | I857: 0 | J857: 0 | K857: 0 | L857: 0 | M857: 0 | N857: 1 | O857: 0 | P857: 0 | Q857: 0 | R857: 0 | S857: 0 | T857: 2 | U857: 0 | V857: 0 | W857: 0 | X857: 0 | Y857: 1 | Z857: 1 | AA857: 0 | AB857: 0 | AC857: 0 | AD857: 0 | AE857: 0 | AF857: 0 | AG857: 0 | AH857: 0 | AI857: 0 | AJ857: 1 | AK857: 0 | AL857: 1 | AM857: 0 | AN857: 0 | AO857: 1 | AP857: 0 | AQ857: 0 | AR857: 1 | AS857: 0 | AT857: 1 | AU857: 0 | AV857: 1 | AW857: 0 | AX857: 0 | AY857: 0 | AZ857: 0 | BA857: 0 | BB857: 6 | BC857: =IF((MOD(ROW()-1,10)=0),SUM('ZST 019'!F848:BA857),"") | BD857: =IF(COUNTIF(BC$1:BC856,BC857)>0,"",MAX(BD$1:BD856)+1)
A858: 17 | B858: 19 | C858: 86 | D858: 1 | E858: 170327 | F858: 0 | G858: 0 | H858: 0 | I858: 0 | J858: 0 | K858: 0 | L858: 1 | M858: 0 | N858: 0 | O858: 0 | P858: 0 | Q858: 0 | R858: 0 | S858: 0 | T858: 0 | U858: 0 | V858: 1 | W858: 1 | X858: 0 | Y858: 0 | Z858: 0 | AA858: 0 | AB858: 0 | AC858: 0 | AD858: 0 | AE858: 0 | AF858: 0 | AG858: 0 | AH858: 0 | AI858: 0 | AJ858: 0 | AK858: 1 | AL858: 0 | AM858: 0 | AN858: 1 | AO858: 0 | AP858: 0 | AQ858: 0 | AR858: 0 | AS858: 0 | AT858: 0 | AU858: 0 | AV858: 0 | AW858: 0 | AX858: 0 | AY858: 0 | AZ858: 0 | BA858: 0 | BB858: 7 | BC858: =IF((MOD(ROW()-1,10)=0),SUM('ZST 019'!F849:BA858),"") | BD858: =IF(COUNTIF(BC$1:BC857,BC858)>0,"",MAX(BD$1:BD857)+1)
...

Sheet Feuil1
A1: Jour | B1: Nb.Voiture
A2: 1 | B2: =IFERROR(INDEX('ZST 019'!BC:BC,MATCH(ROW()-1,'ZST 019'!BD:BD,0)),"") -> 8236
A3: 2 | B3: =IFERROR(INDEX('ZST 019'!BC:BC,MATCH(ROW()-1,'ZST 019'!BD:BD,0)),"") -> 8411
A4: 3 | B4: =IFERROR(INDEX('ZST 019'!BC:BC,MATCH(ROW()-1,'ZST 019'!BD:BD,0)),"") -> 10898
A5: 4 | B5: =IFERROR(INDEX('ZST 019'!BC:BC,MATCH(ROW()-1,'ZST 019'!BD:BD,0)),"") -> 10741
A6: 5 | B6: =IFERROR(INDEX('ZST 019'!BC:BC,MATCH(ROW()-1,'ZST 019'!BD:BD,0)),"") -> 10535
A7: 6 | B7: =IFERROR(INDEX('ZST 019'!BC:BC,MATCH(ROW()-1,'ZST 019'!BD:BD,0)),"") -> 12339
A8: 7 | B8: =IFERROR(INDEX('ZST 019'!BC:BC,MATCH(ROW()-1,'ZST 019'!BD:BD,0)),"") -> 11062
A9: 8 | B9: =IFERROR(INDEX('ZST 019'!BC:BC,MATCH(ROW()-1,'ZST 019'!BD:BD,0)),"") -> 6761
A10: 9 | B10: =IFERROR(INDEX('ZST 019'!BC:BC,MATCH(ROW()-1,'ZST 019'!BD:BD,0)),"") -> 11042
A11: 10 | B11: =IFERROR(INDEX('ZST 019'!BC:BC,MATCH(ROW()-1,'ZST 019'!BD:BD,0)),"") -> 11522
A12: 11 | B12: =IFERROR(INDEX('ZST 019'!BC:BC,MATCH(ROW()-1,'ZST 019'!BD:BD,0)),"") -> 11650
A13: 12 | B13: =IFERROR(INDEX('ZST 019'!BC:BC,MATCH(ROW()-1,'ZST 019'!BD:BD,0)),"") -> 11899
... A366: 365 | B366: =IFERROR(INDEX('ZST 019'!BC:BC,MATCH(ROW()-1,'ZST 019'!BD:BD,0)),"")
