Workbook
Name cases: Jury!$C$3:$V$15
Name cases: Passages!$C$3:$L$15

Sheet Passages EPI oral
A1: NOM | B1: PRENOM | C1: SEXE | D1: DIVISON | E1: Jury | F1: Heure | G1: Salle | H1: Modalité 1
A2: ELEVEA | B2: premonA | C2: G | D2: 3E 2 | E2: {=IF(A2="","",INDEX(Passages!$B$1:$N$16,1,SMALL(IF(Passages!$C$3:$N$16=A2,COLUMN(Passages!$C$2:$N$2)-1),1)))} -> Jury 6 | F2: {=IF(A2="","",INDEX(Passages!$B$1:$N$16,SMALL(IF(Passages!$C$2:$N$16=A2,ROW(Passages!$B$2:$B$16)),1),1))} -> 10h10 | G2: {=IF(A2="","",INDEX(Passages!$B$1:$N$16,2,SMALL(IF(Passages!$C$3:$N$16=A2,COLUMN(Passages!$C$2:$N$2)-1),1)))} -> 115 | H2: Individuel
A3: ELEVEB | B3: prénomB | C3: F | D3: 3E 4 | E3: {=IF(A3="","",INDEX(Passages!$B$1:$N$16,1,SMALL(IF(Passages!$C$3:$N$16=A3,COLUMN(Passages!$C$2:$N$2)-1),1)))} -> Jury 2 | F3: {=IF(A3="","",INDEX(Passages!$B$1:$N$16,SMALL(IF(Passages!$C$2:$N$16=A3,ROW(Passages!$B$2:$B$16)),1),1))} -> 10h30 | G3: {=IF(A3="","",INDEX(Passages!$B$1:$N$16,2,SMALL(IF(Passages!$C$3:$N$16=A3,COLUMN(Passages!$C$2:$N$2)-1),1)))} -> 111 | H3: Individuel
E4: {=IF(A4="","",INDEX(Passages!$B$1:$N$16,1,SMALL(IF(Passages!$C$3:$N$16=A4,COLUMN(Passages!$C$2:$N$2)-1),1)))} | F4: {=IF(A4="","",INDEX(Passages!$B$1:$N$16,SMALL(IF(Passages!$C$2:$N$16=A4,ROW(Passages!$B$2:$B$16)),1),1))} | G4: {=IF(A4="","",INDEX(Passages!$B$1:$N$16,2,SMALL(IF(Passages!$C$3:$N$16=A4,COLUMN(Passages!$C$2:$N$2)-1),1)))} | H4: Individuel
E5: {=IF(A5="","",INDEX(Passages!$B$1:$N$16,1,SMALL(IF(Passages!$C$3:$N$16=A5,COLUMN(Passages!$C$2:$N$2)-1),1)))} | F5: {=IF(A5="","",INDEX(Passages!$B$1:$N$16,SMALL(IF(Passages!$C$2:$N$16=A5,ROW(Passages!$B$2:$B$16)),1),1))} | G5: {=IF(A5="","",INDEX(Passages!$B$1:$N$16,2,SMALL(IF(Passages!$C$3:$N$16=A5,COLUMN(Passages!$C$2:$N$2)-1),1)))} | H5: Individuel
E6: {=IF(A6="","",INDEX(Passages!$B$1:$N$16,1,SMALL(IF(Passages!$C$3:$N$16=A6,COLUMN(Passages!$C$2:$N$2)-1),1)))} | F6: {=IF(A6="","",INDEX(Passages!$B$1:$N$16,SMALL(IF(Passages!$C$2:$N$16=A6,ROW(Passages!$B$2:$B$16)),1),1))} | G6: {=IF(A6="","",INDEX(Passages!$B$1:$N$16,2,SMALL(IF(Passages!$C$3:$N$16=A6,COLUMN(Passages!$C$2:$N$2)-1),1)))} | H6: Individuel
E7: {=IF(A7="","",INDEX(Passages!$B$1:$N$16,1,SMALL(IF(Passages!$C$3:$N$16=A7,COLUMN(Passages!$C$2:$N$2)-1),1)))} | F7: {=IF(A7="","",INDEX(Passages!$B$1:$N$16,SMALL(IF(Passages!$C$2:$N$16=A7,ROW(Passages!$B$2:$B$16)),1),1))} | G7: {=IF(A7="","",INDEX(Passages!$B$1:$N$16,2,SMALL(IF(Passages!$C$3:$N$16=A7,COLUMN(Passages!$C$2:$N$2)-1),1)))} | H7: Individuel | J7: {=IF(A4="","",INDEX(Passages!$B$1:$N$16,2,SMALL(IF(Passages!$C$3:$N$16=A4,COLUMN(Passages!$C$2:$N$2)-1),1)))}
E8: {=IF(A8="","",INDEX(Passages!$B$1:$N$16,1,SMALL(IF(Passages!$C$3:$N$16=A8,COLUMN(Passages!$C$2:$N$2)-1),1)))} | F8: {=IF(A8="","",INDEX(Passages!$B$1:$N$16,SMALL(IF(Passages!$C$2:$N$16=A8,ROW(Passages!$B$2:$B$16)),1),1))} | G8: {=IF(A8="","",INDEX(Passages!$B$1:$N$16,2,SMALL(IF(Passages!$C$3:$N$16=A8,COLUMN(Passages!$C$2:$N$2)-1),1)))} | H8: Individuel | J8: {=IF(A5="","",INDEX(Passages!$B$1:$N$16,2,SMALL(IF(Passages!$C$3:$N$16=A5,COLUMN(Passages!$C$2:$N$2)-1),1)))}
E9: {=IF(A9="","",INDEX(Passages!$B$1:$N$16,1,SMALL(IF(Passages!$C$3:$N$16=A9,COLUMN(Passages!$C$2:$N$2)-1),1)))} | F9: {=IF(A9="","",INDEX(Passages!$B$1:$N$16,SMALL(IF(Passages!$C$2:$N$16=A9,ROW(Passages!$B$2:$B$16)),1),1))} | G9: {=IF(A9="","",INDEX(Passages!$B$1:$N$16,2,SMALL(IF(Passages!$C$3:$N$16=A9,COLUMN(Passages!$C$2:$N$2)-1),1)))} | H9: Individuel | J9: {=IF(A6="","",INDEX(Passages!$B$1:$N$16,2,SMALL(IF(Passages!$C$3:$N$16=A6,COLUMN(Passages!$C$2:$N$2)-1),1)))}
E10: {=IF(A10="","",INDEX(Passages!$B$1:$N$16,1,SMALL(IF(Passages!$C$3:$N$16=A10,COLUMN(Passages!$C$2:$N$2)-1),1)))} | F10: {=IF(A10="","",INDEX(Passages!$B$1:$N$16,SMALL(IF(Passages!$C$2:$N$16=A10,ROW(Passages!$B$2:$B$16)),1),1))} | G10: {=IF(A10="","",INDEX(Passages!$B$1:$N$16,2,SMALL(IF(Passages!$C$3:$N$16=A10,COLUMN(Passages!$C$2:$N$2)-1),1)))} | H10: Individuel | J10: {=IF(A7="","",INDEX(Passages!$B$1:$N$16,2,SMALL(IF(Passages!$C$3:$N$16=A7,COLUMN(Passages!$C$2:$N$2)-1),1)))}
E11: {=IF(A11="","",INDEX(Passages!$B$1:$N$16,1,SMALL(IF(Passages!$C$3:$N$16=A11,COLUMN(Passages!$C$2:$N$2)-1),1)))} | F11: {=IF(A11="","",INDEX(Passages!$B$1:$N$16,SMALL(IF(Passages!$C$2:$N$16=A11,ROW(Passages!$B$2:$B$16)),1),1))} | G11: {=IF(A11="","",INDEX(Passages!$B$1:$N$16,2,SMALL(IF(Passages!$C$3:$N$16=A11,COLUMN(Passages!$C$2:$N$2)-1),1)))} | H11: Individuel | J11: {=IF(A8="","",INDEX(Passages!$B$1:$N$16,2,SMALL(IF(Passages!$C$3:$N$16=A8,COLUMN(Passages!$C$2:$N$2)-1),1)))}
E12: {=IF(A12="","",INDEX(Passages!$B$1:$N$16,1,SMALL(IF(Passages!$C$3:$N$16=A12,COLUMN(Passages!$C$2:$N$2)-1),1)))} | F12: {=IF(A12="","",INDEX(Passages!$B$1:$N$16,SMALL(IF(Passages!$C$2:$N$16=A12,ROW(Passages!$B$2:$B$16)),1),1))} | G12: {=IF(A12="","",INDEX(Passages!$B$1:$N$16,2,SMALL(IF(Passages!$C$3:$N$16=A12,COLUMN(Passages!$C$2:$N$2)-1),1)))} | H12: Individuel
E13: {=IF(A13="","",INDEX(Passages!$B$1:$N$16,1,SMALL(IF(Passages!$C$3:$N$16=A13,COLUMN(Passages!$C$2:$N$2)-1),1)))} | F13: {=IF(A13="","",INDEX(Passages!$B$1:$N$16,SMALL(IF(Passages!$C$2:$N$16=A13,ROW(Passages!$B$2:$B$16)),1),1))} | G13: {=IF(A13="","",INDEX(Passages!$B$1:$N$16,2,SMALL(IF(Passages!$C$3:$N$16=A13,COLUMN(Passages!$C$2:$N$2)-1),1)))} | H13: Individuel
E14: {=IF(A14="","",INDEX(Passages!$B$1:$N$16,1,SMALL(IF(Passages!$C$3:$N$16=A14,COLUMN(Passages!$C$2:$N$2)-1),1)))} | F14: {=IF(A14="","",INDEX(Passages!$B$1:$N$16,SMALL(IF(Passages!$C$2:$N$16=A14,ROW(Passages!$B$2:$B$16)),1),1))} | G14: {=IF(A14="","",INDEX(Passages!$B$1:$N$16,2,SMALL(IF(Passages!$C$3:$N$16=A14,COLUMN(Passages!$C$2:$N$2)-1),1)))} | H14: Individuel
E15: {=IF(A15="","",INDEX(Passages!$B$1:$N$16,1,SMALL(IF(Passages!$C$3:$N$16=A15,COLUMN(Passages!$C$2:$N$2)-1),1)))} | F15: {=IF(A15="","",INDEX(Passages!$B$1:$N$16,SMALL(IF(Passages!$C$2:$N$16=A15,ROW(Passages!$B$2:$B$16)),1),1))} | G15: {=IF(A15="","",INDEX(Passages!$B$1:$N$16,2,SMALL(IF(Passages!$C$3:$N$16=A15,COLUMN(Passages!$C$2:$N$2)-1),1)))} | H15: Individuel
E16: {=IF(A16="","",INDEX(Passages!$B$1:$N$16,1,SMALL(IF(Passages!$C$3:$N$16=A16,COLUMN(Passages!$C$2:$N$2)-1),1)))} | F16: {=IF(A16="","",INDEX(Passages!$B$1:$N$16,SMALL(IF(Passages!$C$2:$N$16=A16,ROW(Passages!$B$2:$B$16)),1),1))} | G16: {=IF(A16="","",INDEX(Passages!$B$1:$N$16,2,SMALL(IF(Passages!$C$3:$N$16=A16,COLUMN(Passages!$C$2:$N$2)-1),1)))} | H16: Individuel
E17: {=IF(A17="","",INDEX(Passages!$B$1:$N$16,1,SMALL(IF(Passages!$C$3:$N$16=A17,COLUMN(Passages!$C$2:$N$2)-1),1)))} | F17: {=IF(A17="","",INDEX(Passages!$B$1:$N$16,SMALL(IF(Passages!$C$2:$N$16=A17,ROW(Passages!$B$2:$B$16)),1),1))} | G17: {=IF(A17="","",INDEX(Passages!$B$1:$N$16,2,SMALL(IF(Passages!$C$3:$N$16=A17,COLUMN(Passages!$C$2:$N$2)-1),1)))} | H17: Individuel
E18: {=IF(A18="","",INDEX(Passages!$B$1:$N$16,1,SMALL(IF(Passages!$C$3:$N$16=A18,COLUMN(Passages!$C$2:$N$2)-1),1)))} | F18: {=IF(A18="","",INDEX(Passages!$B$1:$N$16,SMALL(IF(Passages!$C$2:$N$16=A18,ROW(Passages!$B$2:$B$16)),1),1))} | G18: {=IF(A18="","",INDEX(Passages!$B$1:$N$16,2,SMALL(IF(Passages!$C$3:$N$16=A18,COLUMN(Passages!$C$2:$N$2)-1),1)))} | H18: Individuel
E19: {=IF(A19="","",INDEX(Passages!$B$1:$N$16,1,SMALL(IF(Passages!$C$3:$N$16=A19,COLUMN(Passages!$C$2:$N$2)-1),1)))} | F19: {=IF(A19="","",INDEX(Passages!$B$1:$N$16,SMALL(IF(Passages!$C$2:$N$16=A19,ROW(Passages!$B$2:$B$16)),1),1))} | G19: {=IF(A19="","",INDEX(Passages!$B$1:$N$16,2,SMALL(IF(Passages!$C$3:$N$16=A19,COLUMN(Passages!$C$2:$N$2)-1),1)))} | H19: Individuel
E20: {=IF(A20="","",INDEX(Passages!$B$1:$N$16,1,SMALL(IF(Passages!$C$3:$N$16=A20,COLUMN(Passages!$C$2:$N$2)-1),1)))} | F20: {=IF(A20="","",INDEX(Passages!$B$1:$N$16,SMALL(IF(Passages!$C$2:$N$16=A20,ROW(Passages!$B$2:$B$16)),1),1))} | G20: {=IF(A20="","",INDEX(Passages!$B$1:$N$16,2,SMALL(IF(Passages!$C$3:$N$16=A20,COLUMN(Passages!$C$2:$N$2)-1),1)))} | H20: Individuel
E21: {=IF(A21="","",INDEX(Passages!$B$1:$N$16,1,SMALL(IF(Passages!$C$3:$N$16=A21,COLUMN(Passages!$C$2:$N$2)-1),1)))} | F21: {=IF(A21="","",INDEX(Passages!$B$1:$N$16,SMALL(IF(Passages!$C$2:$N$16=A21,ROW(Passages!$B$2:$B$16)),1),1))} | G21: {=IF(A21="","",INDEX(Passages!$B$1:$N$16,2,SMALL(IF(Passages!$C$3:$N$16=A21,COLUMN(Passages!$C$2:$N$2)-1),1)))} | H21: Individuel
E22: {=IF(A22="","",INDEX(Passages!$B$1:$N$16,1,SMALL(IF(Passages!$C$3:$N$16=A22,COLUMN(Passages!$C$2:$N$2)-1),1)))} | F22: {=IF(A22="","",INDEX(Passages!$B$1:$N$16,SMALL(IF(Passages!$C$2:$N$16=A22,ROW(Passages!$B$2:$B$16)),1),1))} | G22: {=IF(A22="","",INDEX(Passages!$B$1:$N$16,2,SMALL(IF(Passages!$C$3:$N$16=A22,COLUMN(Passages!$C$2:$N$2)-1),1)))} | H22: Individuel
E23: {=IF(A23="","",INDEX(Passages!$B$1:$N$16,1,SMALL(IF(Passages!$C$3:$N$16=A23,COLUMN(Passages!$C$2:$N$2)-1),1)))} | F23: {=IF(A23="","",INDEX(Passages!$B$1:$N$16,SMALL(IF(Passages!$C$2:$N$16=A23,ROW(Passages!$B$2:$B$16)),1),1))} | G23: {=IF(A23="","",INDEX(Passages!$B$1:$N$16,2,SMALL(IF(Passages!$C$3:$N$16=A23,COLUMN(Passages!$C$2:$N$2)-1),1)))} | H23: Individuel
... E136: {=IF(A136="","",INDEX(Passages!$B$1:$N$16,1,SMALL(IF(Passages!$C$3:$N$16=A136,COLUMN(Passages!$C$2:$N$2)-1),1)))} | F136: {=IF(A136="","",INDEX(Passages!$B$1:$N$16,SMALL(IF(Passages!$C$2:$N$16=A136,ROW(Passages!$B$2:$B$16)),1),1))} | G136: {=IF(A136="","",INDEX(Passages!$B$1:$N$16,2,SMALL(IF(Passages!$C$3:$N$16=A136,COLUMN(Passages!$C$2:$N$2)-1),1)))} | H136: Individuel

Sheet Passages
C1: Jury 1 | D1: Jury 2 | E1: Jury 3 | F1: Jury 4 | G1: Jury 5 | H1: Jury 6 | I1: Jury 7 | J1: Jury 8 | K1: Jury 9 | L1: Jury 10 | M1: Jury 11 | N1: Jury 12
C2: 110 | D2: 111 | E2: 112 | F2: 113 | G2: 114 | H2: 115 | I2: 119 | J2: 120 | K2: 121 | L2: 122 | M2: 123 | N2: 124
A3: M1 | B3: 8h00
B4: 8h20
B5: 8h40
A6: M2 | B6: 9h00
B7: 9h20
B8: 9h30
B9: 9h50
A10: M3 | B10: 10h10 | H10: ELEVEA
B11: 10h30 | D11: ELEVEB
B12: 10h50
A13: M4 | B13: 11h00
B14: 11h20
B15: 11h40
B16: 12h00

Sheet Jury
C1: Jury 1 | E1: Jury 2 | G1: Jury 3 | I1: Jury 4 | K1: Jury 5 | M1: Jury 6 | O1: Jury 7 | Q1: Jury 8 | S1: Jury 9 | U1: Jury 10 | W1: Jury 11 | Y1: Jury 12
C2: 110 | E2: 111 | G2: 112 | I2: 113 | K2: 114 | M2: 115 | O2: 119 | Q2: 120 | S2: 121 | U2: 122 | W2: 123 | Y2: 124
A3: M1 | B3: 8h00
B4: 8h20
B5: 8h40
A6: M2 | B6: 9h00
B7: 9h20
B8: 9h30
B9: 9h50
A10: M3 | B10: 10h10
B11: 10h30
B12: 10h50
A13: M4 | B13: 11h00
B14: 11h20
B15: 11h40
B16: 12h00
