Workbook

Sheet Qte
A3: BETON
B5: P.U. | E5: 678.09 | F5: 678.09 | G5: 678.09 | H5: 678.09 | J5: =+H5 -> 678.09 | L5: =+L6/L11 -> 1783.6108 | M5: =+J5-L5 -> -1105.5208 | O5: =+H5 -> 678.09 | Q5: =+Q6/Q11 -> 11857.353 | R5: =+R6/R11 -> 11857.353 | T5: 678 | V5: =+V6/V11 -> #REF! | W5: =+H5-V5 -> #REF! | AC5: 678.09 | AE5: 635.63479 | AF5: 42.455206
B6: MONTANT | E6: =+E5*E11 -> 931261.68 | F6: =+F5*F11 -> 0 | G6: =+G5*G11 -> 0 | H6: =+H5*H11 -> 931261.68 | J6: =+J11*J5 -> 930407.29 | L6: 2283200.2 | M6: =+J6-L6 -> -1352792.9 | O6: =+O11*O5 -> 0 | Q6: 60472.5 | R6: =+O6-Q6 -> -60472.5 | T6: =+T11*T5 -> 63230.28 | V6: =+L6+T6 -> 2346430.5 | W6: =+H6-V6 -> -1415168.8 | AC6: 2575208.4 | AE6: 2283200.2 | AF6: 292008.24
E7: 44114.26 | J7: xxxxxxx | AC7: xxxxxxx
C8: X | E8: BUDG. Réf. | F8: Trsf. +/- | G8: TS | H8: Total | I8: X | J8: CUMUL A FIN | M8: Nov | N8: X | O8: MOIS DE | R8: Nov | S8: X | T8: RAD | U8: X | V8: CUMUL FDC | AC8: CUMUL A FIN MOIS -1
A9: Code OTP | B9: Description OTP | C9: . | D9: Unité | E9: Qté | F9: Qté | G9: Qté | H9: Qté | I9: . | J9: Budget Avancé | L9: Dépenses | M9: Ecart | N9: . | O9: Budget Avancé | Q9: Dépenses | R9: Ecart | S9: . | T9: Qtés | U9: . | V9: Dépenses | W9: Ecarts | AC9: Budget Avancé | AE9: Dépenses | AF9: Ecart
D10: Res. | J10: Qté | K10: % | L10: Qté | M10: Qté | O10: Qté | P10: % | Q10: Qté | R10: Qté | V10: Qté | W10: Qté | AC10: Qté | AD10: % | AE10: Qté | AF10: Qté
B11: PART PROPRE | D11: M3 | E11: =E12+E18 -> 1373.36 | F11: =F12+F18 -> 0 | G11: =G12+G18 -> 0 | H11: =H12+H18 -> 1373.36 | J11: =J12+J18 -> 1372.1 | K11: =K12+K18 -> 1.9989711 | L11: =L12+L18 -> 1280.1 | M11: =M12+M18 -> 92 | O11: =O12+O18 -> 0 | P11: =P12+P18 -> 0 | Q11: =Q12+Q18 -> 5.1 | R11: =R12+R18 -> -5.1 | T11: =T12+T18 -> 93.26 | V11: =+V12+V18+#REF!+#REF!+#REF!+#REF! -> #REF! | W11: =W12+W18 -> 0 | AC11: 3797.7384 | AD11: 0.99012944 | AE11: 3592 | AF11: 205.73838
B12: FONDATION SSOL | D12: M3 | E12: =SUM(E13:E17) -> 148.76 | F12: =SUM(F13:F17) -> 0 | G12: =SUM(G13:G17) -> 0 | H12: =SUM(H13:H17) -> 148.76 | J12: =SUM(J13:J17) -> 148.76 | K12: =+J12/H12 -> 1 | L12: =SUM(L13:L17) -> 144.1 | M12: =SUM(M13:M17) -> 4.66 | O12: =SUM(O13:O17) -> 0 | P12: =+O12/M12 -> 0 | Q12: =SUM(Q13:Q17) -> 3.1 | R12: =SUM(R13:R17) -> -3.1 | T12: =SUM(T13:T17) -> 4.66 | V12: =SUM(V13:V17) -> 148.76 | W12: =SUM(W13:W17) -> 0 | AC12: 148.76 | AD12: 1 | AE12: 141 | AF12: 7.76
B13: BETON PROPRETE | D13: M3 | E13: 13.65 | H13: =SUM(E13:G13) -> 13.65 | J13: =+H13*K13/100 -> 13.65 | K13: 100 | L13: =+AE13+Q13 -> 12 | M13: =+J13-L13 -> 1.65 | O13: =+J13-AC13 -> 0 | P13: =+O13/H13 -> 0 | R13: =+O13-Q13 -> 0 | T13: =H13-L13 -> 1.65 | V13: =+L13+T13 -> 13.65 | W13: =+H13-V13 -> 0 | AC13: 13.65 | AD13: 100 | AE13: 12 | AF13: 1.65
B14: SEMELLES ISOLEES | D14: M3 | E14: 54.6 | H14: =SUM(E14:G14) -> 54.6 | J14: =+H14*K14/100 -> 54.6 | K14: 100 | L14: =+AE14+Q14 -> 50 | M14: =+J14-L14 -> 4.6 | O14: =+J14-AC14 -> 0 | P14: =+O14/H14 -> 0 | R14: =+O14-Q14 -> 0 | T14: =H14-L14 -> 4.6 | V14: =+L14+T14 -> 54.6 | W14: =+H14-V14 -> 0 | AC14: 54.6 | AD14: 100 | AE14: 50 | AF14: 4.6
B15: SEMELLES FILANTES | D15: M3 | E15: 16.8 | H15: =SUM(E15:G15) -> 16.8 | J15: =+H15*K15/100 -> 16.8 | K15: 100 | L15: =+AE15+Q15 -> 18.1 | M15: =+J15-L15 -> -1.3 | O15: =+J15-AC15 -> 0 | P15: =+O15/H15 -> 0 | Q15: 3.1 | R15: =+O15-Q15 -> -3.1 | T15: =H15-L15 -> -1.3 | V15: =+L15+T15 -> 16.8 | W15: =+H15-V15 -> 0 | AC15: 16.8 | AD15: 100 | AE15: 15 | AF15: 1.8
B16: RADIERS | D16: M3 | E16: 63.5 | H16: =SUM(E16:G16) -> 63.5 | J16: =+H16*K16/100 -> 63.5 | K16: 100 | L16: =+AE16+Q16 -> 64 | M16: =+J16-L16 -> -0.5 | O16: =+J16-AC16 -> 0 | P16: =+O16/H16 -> 0 | R16: =+O16-Q16 -> 0 | T16: =H16-L16 -> -0.5 | V16: =+L16+T16 -> 63.5 | W16: =+H16-V16 -> 0 | AC16: 63.5 | AD16: 100 | AE16: 64 | AF16: -0.5
B17: AMORCES | D17: M3 | E17: 0.21 | H17: =SUM(E17:G17) -> 0.21 | J17: =+H17*K17/100 -> 0.21 | K17: 100 | L17: =+AE17+Q17 -> 0 | M17: =+J17-L17 -> 0.21 | O17: =+J17-AC17 -> 0 | P17: =+O17/H17 -> 0 | R17: =+O17-Q17 -> 0 | T17: =H17-L17 -> 0.21 | V17: =+L17+T17 -> 0.21 | W17: =+H17-V17 -> 0 | AC17: 0.21 | AD17: 100 | AE17: 0 | AF17: 0.21
B18: FONDATION RDJ | D18: M3 | E18: =SUM(E19:E27) -> 1224.6 | F18: =SUM(F19:F27) -> 0 | G18: =SUM(G19:G27) -> 0 | H18: =SUM(H19:H27) -> 1224.6 | J18: =SUM(J19:J27) -> 1223.34 | K18: =+J18/H18 -> 0.99897109 | L18: =SUM(L19:L27) -> 1136 | M18: =SUM(M19:M27) -> 87.34 | O18: =SUM(O19:O27) -> 0 | P18: =+O18/M18 -> 0 | Q18: =SUM(Q19:Q27) -> 2 | R18: =SUM(R19:R27) -> -2 | T18: =SUM(T19:T27) -> 88.6 | V18: =SUM(V19:V27) -> 1224.6 | W18: =SUM(W19:W27) -> 0 | AC18: 1223.34 | AD18: 0.99897109 | AE18: 1134 | AF18: 89.34
B19: BETON PROPRETE | D19: M3 | E19: 85.05 | H19: =SUM(E19:G19) -> 85.05 | J19: =+H19*K19/100 -> 85.05 | K19: 100 | L19: =+AE19+Q19 -> 82 | M19: =+J19-L19 -> 3.05 | O19: =+J19-AC19 -> 0 | P19: =+O19/H19 -> 0 | R19: =+O19-Q19 -> 0 | T19: =H19-L19 -> 3.05 | V19: =+L19+T19 -> 85.05 | W19: =+H19-V19 -> 0 | AC19: 85.05 | AD19: 100 | AE19: 82 | AF19: 3.05
B20: GROS BETON | D20: M3 | E20: 199.5 | H20: =SUM(E20:G20) -> 199.5 | J20: =+H20*K20/100 -> 199.5 | K20: 100 | L20: =+AE20+Q20 -> 190 | M20: =+J20-L20 -> 9.5 | O20: =+J20-AC20 -> 0 | P20: =+O20/H20 -> 0 | R20: =+O20-Q20 -> 0 | T20: =H20-L20 -> 9.5 | V20: =+L20+T20 -> 199.5 | W20: =+H20-V20 -> 0 | AC20: 199.5 | AD20: 100 | AE20: 190 | AF20: 9.5
B21: SEMELLES ISOLEES | D21: M3 | E21: 360.15 | H21: =SUM(E21:G21) -> 360.15 | J21: =+H21*K21/100 -> 360.15 | K21: 100 | L21: =+AE21+Q21 -> 346 | M21: =+J21-L21 -> 14.15 | O21: =+J21-AC21 -> 0 | P21: =+O21/H21 -> 0 | R21: =+O21-Q21 -> 0 | T21: =H21-L21 -> 14.15 | V21: =+L21+T21 -> 360.15 | W21: =+H21-V21 -> 0 | AC21: 360.15 | AD21: 100 | AE21: 346 | AF21: 14.15
B22: SEMELLES FILANTES | D22: M3 | E22: 45.15 | H22: =SUM(E22:G22) -> 45.15 | J22: =+H22*K22/100 -> 45.15 | K22: 100 | L22: =+AE22+Q22 -> 44 | M22: =+J22-L22 -> 1.15 | O22: =+J22-AC22 -> 0 | P22: =+O22/H22 -> 0 | R22: =+O22-Q22 -> 0 | T22: =H22-L22 -> 1.15 | V22: =+L22+T22 -> 45.15 | W22: =+H22-V22 -> 0 | AC22: 45.15 | AD22: 100 | AE22: 44 | AF22: 1.15
B23: RADIERS | D23: M3 | E23: 57 | H23: =SUM(E23:G23) -> 57 | J23: =+H23*K23/100 -> 57 | K23: 100 | L23: =+AE23+Q23 -> 48 | M23: =+J23-L23 -> 9 | O23: =+J23-AC23 -> 0 | P23: =+O23/H23 -> 0 | R23: =+O23-Q23 -> 0 | T23: =H23-L23 -> 9 | V23: =+L23+T23 -> 57 | W23: =+H23-V23 -> 0 | AC23: 57 | AD23: 100 | AE23: 48 | AF23: 9
B24: AMORCES | D24: M3 | E24: 2.1 | H24: =SUM(E24:G24) -> 2.1 | J24: =+H24*K24/100 -> 2.1 | K24: 100 | L24: =+AE24+Q24 -> 1.5 | M24: =+J24-L24 -> 0.6 | O24: =+J24-AC24 -> 0 | P24: =+O24/H24 -> 0 | R24: =+O24-Q24 -> 0 | T24: =H24-L24 -> 0.6 | V24: =+L24+T24 -> 2.1 | W24: =+H24-V24 -> 0 | AC24: 2.1 | AD24: 100 | AE24: 1.5 | AF24: 0.6
B25: LONGRINES | D25: M3 | E25: 15.75 | H25: =SUM(E25:G25) -> 15.75 | J25: =+H25*K25/100 -> 15.75 | K25: 100 | L25: =+AE25+Q25 -> 11.5 | M25: =+J25-L25 -> 4.25 | O25: =+J25-AC25 -> 0 | P25: =+O25/H25 -> 0 | R25: =+O25-Q25 -> 0 | T25: =H25-L25 -> 4.25 | V25: =+L25+T25 -> 15.75 | W25: =+H25-V25 -> 0 | AC25: 15.75 | AD25: 100 | AE25: 11.5 | AF25: 4.25
B26: DALLAGE | D26: M3 | E26: 453.6 | H26: =SUM(E26:G26) -> 453.6 | J26: =+H26*K26/100 -> 453.6 | K26: 100 | L26: =+AE26+Q26 -> 395.5 | M26: =+J26-L26 -> 58.1 | O26: =+J26-AC26 -> 0 | P26: =+O26/H26 -> 0 | Q26: 2 | R26: =+O26-Q26 -> -2 | T26: =H26-L26 -> 58.1 | V26: =+L26+T26 -> 453.6 | W26: =+H26-V26 -> 0 | AC26: 453.6 | AD26: 100 | AE26: 393.5 | AF26: 60.1
B27: BASSINS | D27: M3 | E27: 6.3 | H27: =SUM(E27:G27) -> 6.3 | J27: =+H27*K27/100 -> 5.04 | K27: 80 | L27: =+AE27+Q27 -> 17.5 | M27: =+J27-L27 -> -12.46 | O27: =+J27-AC27 -> 0 | P27: =+O27/H27 -> 0 | R27: =+O27-Q27 -> 0 | T27: =H27-L27 -> -11.2 | V27: =+L27+T27 -> 6.3 | W27: =+H27-V27 -> 0 | AC27: 5.04 | AD27: 80 | AE27: 17.5 | AF27: -12.46

Sheet Ref
G1: DISPATCHING
B4: Centre de cout d'origine | D4: Element OTP d'origine | G4: Nature comptable | H4: Montant Total | I4: Devise | J4: Centre de Côut Destination | L4: OTP de destination | O4: qté totale | P4: Unité | R4: Texte (facultatif)
B5: Sender cost center | G5: Cost element | H5: Total Amount | I5: Currency | L5: Receiver WBS element | O5: Total qty | P5: Unit | R5: Text (Not compulsory)
A6: 10 | B6: =IF(O6="","",Qte!B12) -> FONDATION SSOL | D6: MATX.400210.99.BT | G6: 920124 | I6: MAD | O6: =IF(AND(Qte!Q12<>"",Qte!Q12<>0),Qte!Q12,"") -> 3.1 | P6: M3
A7: 20 | B7: =IF(O7="","",Qte!B13) | D7: MATX.400210.99.BT | G7: 920124 | I7: MAD | O7: =IF(AND(Qte!Q13<>"",Qte!Q13<>0),Qte!Q13,"") | P7: M3
A8: 30 | B8: =IF(O8="","",Qte!B14) | D8: MATX.400210.99.BT | G8: 920124 | I8: MAD | O8: =IF(AND(Qte!Q14<>"",Qte!Q14<>0),Qte!Q14,"") | P8: M3
A9: 40 | B9: =IF(O9="","",Qte!B15) -> SEMELLES FILANTES | D9: MATX.400210.99.BT | G9: 920124 | I9: MAD | O9: =IF(AND(Qte!Q15<>"",Qte!Q15<>0),Qte!Q15,"") -> 3.1 | P9: M3
A10: 50 | B10: =IF(O10="","",Qte!B16) | D10: MATX.400210.99.BT | G10: 920124 | I10: MAD | O10: =IF(AND(Qte!Q16<>"",Qte!Q16<>0),Qte!Q16,"") | P10: M3
A11: 60 | B11: =IF(O11="","",Qte!B17) | D11: MATX.400210.99.BT | G11: 920124 | I11: MAD | O11: =IF(AND(Qte!Q17<>"",Qte!Q17<>0),Qte!Q17,"") | P11: M3
A12: 70 | B12: =IF(O12="","",Qte!B18) -> FONDATION RDJ | D12: MATX.400210.99.BT | G12: 920124 | I12: MAD | O12: =IF(AND(Qte!Q18<>"",Qte!Q18<>0),Qte!Q18,"") -> 2 | P12: M3
A13: 80 | B13: =IF(O13="","",Qte!B19) | D13: MATX.400210.99.BT | G13: 920124 | I13: MAD | O13: =IF(AND(Qte!Q19<>"",Qte!Q19<>0),Qte!Q19,"") | P13: M3
A14: 90 | B14: =IF(O14="","",Qte!B20) | D14: MATX.400210.99.BT | G14: 920124 | I14: MAD | O14: =IF(AND(Qte!Q20<>"",Qte!Q20<>0),Qte!Q20,"") | P14: M3
A15: 100 | B15: =IF(O15="","",Qte!B21) | D15: MATX.400210.99.BT | G15: 920124 | I15: MAD | O15: =IF(AND(Qte!Q21<>"",Qte!Q21<>0),Qte!Q21,"") | P15: M3
A16: 110 | B16: =IF(O16="","",Qte!B22) | D16: MATX.400210.99.BT | G16: 920124 | I16: MAD | O16: =IF(AND(Qte!Q22<>"",Qte!Q22<>0),Qte!Q22,"") | P16: M3
A17: 120 | B17: =IF(O17="","",Qte!B23) | D17: MATX.400210.99.BT | G17: 920124 | I17: MAD | O17: =IF(AND(Qte!Q23<>"",Qte!Q23<>0),Qte!Q23,"") | P17: M3
... A25: 200 | B25: =IF(O25="","",Qte!B31) | D25: MATX.400210.99.BT | G25: 920124 | I25: MAD | O25: =IF(AND(Qte!Q31<>"",Qte!Q31<>0),Qte!Q31,"") | P25: M3
