Workbook

Sheet Maxi
A1: TWA\TWS | B1: 0 | C1: 1 | D1: 2 | E1: 3 | F1: 4 | G1: 5 | H1: 6 | I1: 7 | J1: 8 | K1: 9 | L1: 10 | M1: 11 | N1: 12 | O1: 13 | P1: 14 | Q1: 15 | R1: 16 | S1: 17 | T1: 18 | U1: 19 | V1: 20 | W1: 21 | X1: 22 | Y1: 23 | Z1: 24 | AA1: 25 | AB1: 26 | AC1: 27 | AD1: 28 | AE1: 29 | AF1: 30 | AG1: 31 | AH1: 32 | AI1: 33 | AJ1: 34 | AK1: 35 | AL1: 36 | AM1: 37 | AN1: 38 | AO1: 39 | AP1: 40 | AQ1: 41 | AR1: 42 | AS1: 43 | AT1: 44 | AU1: 45 | AV1: 46 | AW1: 47 | AX1: 48 | AY1: 49 | AZ1: 50 | BA1: 51 | BB1: 52 | BC1: 53 | BD1: 54 | BE1: 55 | BF1: 56 | BG1: 57 | BH1: 58 | BI1: 59 | BJ1: 60 | BK1: 61 | BL1: 62 | BM1: 63 | BN1: 64 | BO1: 65 | BP1: 66 | BQ1: 67 | BR1: 68 | BS1: 69 | BT1: 70
A2: 0 | B2: 0 | C2: 0 | D2: 0 | E2: 0 | F2: 0 | G2: 0 | H2: 0 | I2: 0 | J2: 0 | K2: 0 | L2: 0 | M2: 0 | N2: 0 | O2: 0 | P2: 0 | Q2: 0 | R2: 0 | S2: 0 | T2: 0 | U2: 0 | V2: 0 | W2: 0 | X2: 0 | Y2: 0 | Z2: 0 | AA2: 0 | AB2: 0 | AC2: 0 | AD2: 0 | AE2: 0 | AF2: 0 | AG2: 0 | AH2: 0 | AI2: 0 | AJ2: 0 | AK2: 0 | AL2: 0 | AM2: 0 | AN2: 0 | AO2: 0 | AP2: 0 | AQ2: 0 | AR2: 0 | AS2: 0 | AT2: 0 | AU2: 0 | AV2: 0 | AW2: 0 | AX2: 0 | AY2: 0 | AZ2: 0 | BA2: 0 | BB2: 0 | BC2: 0 | BD2: 0 | BE2: 0 | BF2: 0 | BG2: 0 | BH2: 0 | BI2: 0 | BJ2: 0 | BK2: 0 | BL2: 0 | BM2: 0 | BN2: 0 | BO2: 0 | BP2: 0 | BQ2: 0 | BR2: 0 | BS2: 0 | BT2: 0
A3: 1 | B3: 0 | C3: 0.046 | D3: 0.091 | E3: 0.134 | F3: 0.178 | G3: 0.213 | H3: 0.249 | I3: 0.273 | J3: 0.298 | K3: 0.3 | L3: 0.302 | M3: 0.319 | N3: 0.336 | O3: 0.343 | P3: 0.35 | Q3: 0.353 | R3: 0.355 | S3: 0.358 | T3: 0.36 | U3: 0.359 | V3: 0.364 | W3: 0.366 | X3: 0.369 | Y3: 0.371 | Z3: 0.373 | AA3: 0.376 | AB3: 0.378 | AC3: 0.378 | AD3: 0.378 | AE3: 0.38 | AF3: 0.383 | AG3: 0.383 | AH3: 0.383 | AI3: 0.383 | AJ3: 0.383 | AK3: 0.383 | AL3: 0.381 | AM3: 0.38 | AN3: 0.378 | AO3: 0.377 | AP3: 0.375 | AQ3: 0.374 | AR3: 0.373 | AS3: 0.371 | AT3: 0.37 | AU3: 0.369 | AV3: 0.367 | AW3: 0.366 | AX3: 0.364 | AY3: 0.363 | AZ3: 0.362 | BA3: 0.357 | BB3: 0.353 | BC3: 0.348 | BD3: 0.343 | BE3: 0.339 | BF3: 0.334 | BG3: 0.329 | BH3: 0.325 | BI3: 0.32 | BJ3: 0.316 | BK3: 0.312 | BL3: 0.308 | BM3: 0.304 | BN3: 0.3 | BO3: 0.297 | BP3: 0.293 | BQ3: 0.289 | BR3: 0.285 | BS3: 0.282 | BT3: 0.278
A4: 2 | B4: 0 | C4: 0.091 | D4: 0.183 | E4: 0.269 | F4: 0.355 | G4: 0.427 | H4: 0.499 | I4: 0.547 | J4: 0.595 | K4: 0.6 | L4: 0.604 | M4: 0.638 | N4: 0.671 | O4: 0.686 | P4: 0.7 | Q4: 0.705 | R4: 0.711 | S4: 0.715 | T4: 0.72 | U4: 0.719 | V4: 0.728 | W4: 0.733 | X4: 0.738 | Y4: 0.742 | Z4: 0.747 | AA4: 0.752 | AB4: 0.756 | AC4: 0.756 | AD4: 0.756 | AE4: 0.761 | AF4: 0.766 | AG4: 0.766 | AH4: 0.766 | AI4: 0.766 | AJ4: 0.766 | AK4: 0.766 | AL4: 0.763 | AM4: 0.76 | AN4: 0.757 | AO4: 0.754 | AP4: 0.751 | AQ4: 0.748 | AR4: 0.745 | AS4: 0.743 | AT4: 0.74 | AU4: 0.737 | AV4: 0.734 | AW4: 0.732 | AX4: 0.729 | AY4: 0.726 | AZ4: 0.723 | BA4: 0.714 | BB4: 0.705 | BC4: 0.696 | BD4: 0.687 | BE4: 0.677 | BF4: 0.668 | BG4: 0.659 | BH4: 0.65 | BI4: 0.64 | BJ4: 0.631 | BK4: 0.624 | BL4: 0.616 | BM4: 0.609 | BN4: 0.601 | BO4: 0.593 | BP4: 0.586 | BQ4: 0.578 | BR4: 0.571 | BS4: 0.563 | BT4: 0.556
A5: 3 | B5: 0 | C5: 0.137 | D5: 0.274 | E5: 0.403 | F5: 0.533 | G5: 0.64 | H5: 0.748 | I5: 0.82 | J5: 0.893 | K5: 0.9 | L5: 0.907 | M5: 0.957 | N5: 1.007 | O5: 1.029 | P5: 1.05 | Q5: 1.058 | R5: 1.066 | S5: 1.073 | T5: 1.08 | U5: 1.078 | V5: 1.092 | W5: 1.099 | X5: 1.106 | Y5: 1.113 | Z5: 1.12 | AA5: 1.127 | AB5: 1.134 | AC5: 1.134 | AD5: 1.134 | AE5: 1.141 | AF5: 1.148 | AG5: 1.148 | AH5: 1.148 | AI5: 1.148 | AJ5: 1.148 | AK5: 1.148 | AL5: 1.144 | AM5: 1.14 | AN5: 1.135 | AO5: 1.131 | AP5: 1.126 | AQ5: 1.122 | AR5: 1.118 | AS5: 1.114 | AT5: 1.11 | AU5: 1.106 | AV5: 1.102 | AW5: 1.098 | AX5: 1.093 | AY5: 1.089 | AZ5: 1.085 | BA5: 1.071 | BB5: 1.058 | BC5: 1.044 | BD5: 1.03 | BE5: 1.016 | BF5: 1.002 | BG5: 0.988 | BH5: 0.975 | BI5: 0.961 | BJ5: 0.947 | BK5: 0.935 | BL5: 0.924 | BM5: 0.913 | BN5: 0.901 | BO5: 0.89 | BP5: 0.879 | BQ5: 0.867 | BR5: 0.856 | BS5: 0.845 | BT5: 0.833
A6: 4 | B6: 0 | C6: 0.183 | D6: 0.365 | E6: 0.538 | F6: 0.71 | G6: 0.854 | H6: 0.998 | I6: 1.094 | J6: 1.19 | K6: 1.2 | L6: 1.209 | M6: 1.276 | N6: 1.343 | O6: 1.371 | P6: 1.4 | Q6: 1.411 | R6: 1.422 | S6: 1.431 | T6: 1.44 | U6: 1.438 | V6: 1.456 | W6: 1.466 | X6: 1.475 | Y6: 1.484 | Z6: 1.494 | AA6: 1.503 | AB6: 1.513 | AC6: 1.513 | AD6: 1.513 | AE6: 1.522 | AF6: 1.531 | AG6: 1.531 | AH6: 1.531 | AI6: 1.531 | AJ6: 1.531 | AK6: 1.531 | AL6: 1.525 | AM6: 1.519 | AN6: 1.514 | AO6: 1.508 | AP6: 1.502 | AQ6: 1.496 | AR6: 1.491 | AS6: 1.485 | AT6: 1.48 | AU6: 1.474 | AV6: 1.469 | AW6: 1.463 | AX6: 1.458 | AY6: 1.452 | AZ6: 1.447 | BA6: 1.429 | BB6: 1.41 | BC6: 1.392 | BD6: 1.373 | BE6: 1.355 | BF6: 1.336 | BG6: 1.318 | BH6: 1.299 | BI6: 1.281 | BJ6: 1.262 | BK6: 1.247 | BL6: 1.232 | BM6: 1.217 | BN6: 1.202 | BO6: 1.187 | BP6: 1.172 | BQ6: 1.157 | BR6: 1.142 | BS6: 1.126 | BT6: 1.111
A7: 5 | B7: 0 | C7: 0.228 | D7: 0.456 | E7: 0.672 | F7: 0.888 | G7: 1.067 | H7: 1.247 | I7: 1.367 | J7: 1.488 | K7: 1.499 | L7: 1.511 | M7: 1.595 | N7: 1.678 | O7: 1.714 | P7: 1.75 | Q7: 1.764 | R7: 1.777 | S7: 1.789 | T7: 1.8 | U7: 1.797 | V7: 1.82 | W7: 1.832 | X7: 1.844 | Y7: 1.856 | Z7: 1.867 | AA7: 1.879 | AB7: 1.891 | AC7: 1.891 | AD7: 1.891 | AE7: 1.902 | AF7: 1.914 | AG7: 1.914 | AH7: 1.914 | AI7: 1.914 | AJ7: 1.914 | AK7: 1.914 | AL7: 1.907 | AM7: 1.899 | AN7: 1.892 | AO7: 1.885 | AP7: 1.877 | AQ7: 1.87 | AR7: 1.864 | AS7: 1.857 | AT7: 1.85 | AU7: 1.843 | AV7: 1.836 | AW7: 1.829 | AX7: 1.822 | AY7: 1.816 | AZ7: 1.809 | BA7: 1.786 | BB7: 1.763 | BC7: 1.74 | BD7: 1.716 | BE7: 1.693 | BF7: 1.67 | BG7: 1.647 | BH7: 1.624 | BI7: 1.601 | BJ7: 1.578 | BK7: 1.559 | BL7: 1.54 | BM7: 1.521 | BN7: 1.502 | BO7: 1.484 | BP7: 1.465 | BQ7: 1.446 | BR7: 1.427 | BS7: 1.408 | BT7: 1.389
A8: 6 | B8: 0 | C8: 0.274 | D8: 0.548 | E8: 0.806 | F8: 1.065 | G8: 1.281 | H8: 1.496 | I8: 1.641 | J8: 1.785 | K8: 1.799 | L8: 1.813 | M8: 1.914 | N8: 2.014 | O8: 2.057 | P8: 2.1 | Q8: 2.116 | R8: 2.132 | S8: 2.146 | T8: 2.16 | U8: 2.156 | V8: 2.185 | W8: 2.199 | X8: 2.213 | Y8: 2.227 | Z8: 2.241 | AA8: 2.255 | AB8: 2.269 | AC8: 2.269 | AD8: 2.269 | AE8: 2.283 | AF8: 2.297 | AG8: 2.297 | AH8: 2.297 | AI8: 2.297 | AJ8: 2.297 | AK8: 2.297 | AL8: 2.288 | AM8: 2.279 | AN8: 2.27 | AO8: 2.262 | AP8: 2.253 | AQ8: 2.245 | AR8: 2.236 | AS8: 2.228 | AT8: 2.22 | AU8: 2.212 | AV8: 2.203 | AW8: 2.195 | AX8: 2.187 | AY8: 2.179 | AZ8: 2.17 | BA8: 2.143 | BB8: 2.115 | BC8: 2.087 | BD8: 2.06 | BE8: 2.032 | BF8: 2.004 | BG8: 1.977 | BH8: 1.949 | BI8: 1.921 | BJ8: 1.894 | BK8: 1.871 | BL8: 1.848 | BM8: 1.826 | BN8: 1.803 | BO8: 1.78 | BP8: 1.758 | BQ8: 1.735 | BR8: 1.712 | BS8: 1.69 | BT8: 1.667
A9: 7 | B9: 0 | C9: 0.319 | D9: 0.639 | E9: 0.941 | F9: 1.243 | G9: 1.494 | H9: 1.746 | I9: 1.914 | J9: 2.083 | K9: 2.099 | L9: 2.116 | M9: 2.233 | N9: 2.35 | O9: 2.4 | P9: 2.45 | Q9: 2.469 | R9: 2.488 | S9: 2.504 | T9: 2.521 | U9: 2.516 | V9: 2.549 | W9: 2.565 | X9: 2.581 | Y9: 2.598 | Z9: 2.614 | AA9: 2.631 | AB9: 2.647 | AC9: 2.647 | AD9: 2.647 | AE9: 2.663 | AF9: 2.68 | AG9: 2.68 | AH9: 2.68 | AI9: 2.68 | AJ9: 2.68 | AK9: 2.68 | AL9: 2.669 | AM9: 2.659 | AN9: 2.649 | AO9: 2.638 | AP9: 2.628 | AQ9: 2.619 | AR9: 2.609 | AS9: 2.599 | AT9: 2.59 | AU9: 2.58 | AV9: 2.571 | AW9: 2.561 | AX9: 2.551 | AY9: 2.542 | AZ9: 2.532 | BA9: 2.5 | BB9: 2.468 | BC9: 2.435 | BD9: 2.403 | BE9: 2.371 | BF9: 2.338 | BG9: 2.306 | BH9: 2.274 | BI9: 2.242 | BJ9: 2.209 | BK9: 2.183 | BL9: 2.156 | BM9: 2.13 | BN9: 2.103 | BO9: 2.077 | BP9: 2.051 | BQ9: 2.024 | BR9: 1.998 | BS9: 1.971 | BT9: 1.945
A10: 8 | B10: 0 | C10: 0.365 | D10: 0.73 | E10: 1.075 | F10: 1.42 | G10: 1.708 | H10: 1.995 | I10: 2.188 | J10: 2.38 | K10: 2.399 | L10: 2.418 | M10: 2.552 | N10: 2.685 | O10: 2.743 | P10: 2.8 | Q10: 2.822 | R10: 2.843 | S10: 2.862 | T10: 2.881 | U10: 2.875 | V10: 2.913 | W10: 2.931 | X10: 2.95 | Y10: 2.969 | Z10: 2.988 | AA10: 3.006 | AB10: 3.025 | AC10: 3.025 | AD10: 3.025 | AE10: 3.044 | AF10: 3.062 | AG10: 3.062 | AH10: 3.062 | AI10: 3.062 | AJ10: 3.062 | AK10: 3.062 | AL10: 3.051 | AM10: 3.039 | AN10: 3.027 | AO10: 3.015 | AP10: 3.004 | AQ10: 2.993 | AR10: 2.982 | AS10: 2.971 | AT10: 2.96 | AU10: 2.949 | AV10: 2.938 | AW10: 2.927 | AX10: 2.916 | AY10: 2.905 | AZ10: 2.894 | BA10: 2.857 | BB10: 2.82 | BC10: 2.783 | BD10: 2.746 | BE10: 2.709 | BF10: 2.673 | BG10: 2.636 | BH10: 2.599 | BI10: 2.562 | BJ10: 2.525 | BK10: 2.495 | BL10: 2.464 | BM10: 2.434 | BN10: 2.404 | BO10: 2.374 | BP10: 2.344 | BQ10: 2.313 | BR10: 2.283 | BS10: 2.253 | BT10: 2.223
A11: 9 | B11: 0 | C11: 0.411 | D11: 0.821 | E11: 1.21 | F11: 1.598 | G11: 1.921 | H11: 2.245 | I11: 2.461 | J11: 2.678 | K11: 2.699 | L11: 2.72 | M11: 2.871 | N11: 3.021 | O11: 3.086 | P11: 3.15 | Q11: 3.174 | R11: 3.199 | S11: 3.22 | T11: 3.241 | U11: 3.235 | V11: 3.277 | W11: 3.298 | X11: 3.319 | Y11: 3.34 | Z11: 3.361 | AA11: 3.382 | AB11: 3.403 | AC11: 3.403 | AD11: 3.403 | AE11: 3.424 | AF11: 3.445 | AG11: 3.445 | AH11: 3.445 | AI11: 3.445 | AJ11: 3.445 | AK11: 3.445 | AL11: 3.432 | AM11: 3.419 | AN11: 3.406 | AO11: 3.392 | AP11: 3.379 | AQ11: 3.367 | AR11: 3.354 | AS11: 3.342 | AT11: 3.33 | AU11: 3.317 | AV11: 3.305 | AW11: 3.293 | AX11: 3.28 | AY11: 3.268 | AZ11: 3.256 | BA11: 3.214 | BB11: 3.173 | BC11: 3.131 | BD11: 3.09 | BE11: 3.048 | BF11: 3.007 | BG11: 2.965 | BH11: 2.924 | BI11: 2.882 | BJ11: 2.84 | BK11: 2.806 | BL11: 2.772 | BM11: 2.738 | BN11: 2.704 | BO11: 2.67 | BP11: 2.636 | BQ11: 2.602 | BR11: 2.568 | BS11: 2.534 | BT11: 2.5
A12: 10 | B12: 0 | C12: 0.456 | D12: 0.913 | E12: 1.344 | F12: 1.775 | G12: 2.135 | H12: 2.494 | I12: 2.735 | J12: 2.976 | K12: 2.999 | L12: 3.022 | M12: 3.19 | N12: 3.357 | O12: 3.429 | P12: 3.5 | Q12: 3.527 | R12: 3.554 | S12: 3.577 | T12: 3.601 | U12: 3.594 | V12: 3.641 | W12: 3.664 | X12: 3.688 | Y12: 3.711 | Z12: 3.735 | AA12: 3.758 | AB12: 3.781 | AC12: 3.781 | AD12: 3.781 | AE12: 3.805 | AF12: 3.828 | AG12: 3.828 | AH12: 3.828 | AI12: 3.828 | AJ12: 3.828 | AK12: 3.828 | AL12: 3.813 | AM12: 3.799 | AN12: 3.784 | AO12: 3.769 | AP12: 3.755 | AQ12: 3.741 | AR12: 3.727 | AS12: 3.713 | AT12: 3.7 | AU12: 3.686 | AV12: 3.672 | AW12: 3.659 | AX12: 3.645 | AY12: 3.631 | AZ12: 3.617 | BA12: 3.571 | BB12: 3.525 | BC12: 3.479 | BD12: 3.433 | BE12: 3.387 | BF12: 3.341 | BG12: 3.295 | BH12: 3.248 | BI12: 3.202 | BJ12: 3.156 | BK12: 3.118 | BL12: 3.081 | BM12: 3.043 | BN12: 3.005 | BO12: 2.967 | BP12: 2.929 | BQ12: 2.892 | BR12: 2.854 | BS12: 2.816 | BT12: 2.778
A13: 11 | B13: 0 | C13: 0.502 | D13: 1.004 | E13: 1.478 | F13: 1.953 | G13: 2.348 | H13: 2.744 | I13: 3.008 | J13: 3.273 | K13: 3.299 | L13: 3.325 | M13: 3.508 | N13: 3.692 | O13: 3.771 | P13: 3.851 | Q13: 3.88 | R13: 3.909 | S13: 3.935 | T13: 3.961 | U13: 3.953 | V13: 4.005 | W13: 4.031 | X13: 4.056 | Y13: 4.082 | Z13: 4.108 | AA13: 4.134 | AB13: 4.159 | AC13: 4.159 | AD13: 4.159 | AE13: 4.185 | AF13: 4.211 | AG13: 4.211 | AH13: 4.211 | AI13: 4.211 | AJ13: 4.211 | AK13: 4.211 | AL13: 4.195 | AM13: 4.179 | AN13: 4.162 | AO13: 4.146 | AP13: 4.13 | AQ13: 4.115 | AR13: 4.1 | AS13: 4.085 | AT13: 4.07 | AU13: 4.055 | AV13: 4.04 | AW13: 4.024 | AX13: 4.009 | AY13: 3.994 | AZ13: 3.979 | BA13: 3.928 | BB13: 3.878 | BC13: 3.827 | BD13: 3.776 | BE13: 3.725 | BF13: 3.675 | BG13: 3.624 | BH13: 3.573 | BI13: 3.522 | BJ13: 3.472 | BK13: 3.43 | BL13: 3.389 | BM13: 3.347 | BN13: 3.305 | BO13: 3.264 | BP13: 3.222 | BQ13: 3.181 | BR13: 3.139 | BS13: 3.098 | BT13: 3.056
A14: 12 | B14: 0 | C14: 0.548 | D14: 1.095 | E14: 1.613 | F14: 2.13 | G14: 2.562 | H14: 2.993 | I14: 3.282 | J14: 3.571 | K14: 3.599 | L14: 3.627 | M14: 3.827 | N14: 4.028 | O14: 4.114 | P14: 4.201 | Q14: 4.233 | R14: 4.265 | S14: 4.293 | T14: 4.321 | U14: 4.313 | V14: 4.369 | W14: 4.397 | X14: 4.425 | Y14: 4.453 | Z14: 4.481 | AA14: 4.509 | AB14: 4.538 | AC14: 4.538 | AD14: 4.538 | AE14: 4.566 | AF14: 4.594 | AG14: 4.594 | AH14: 4.594 | AI14: 4.594 | AJ14: 4.594 | AK14: 4.594 | AL14: 4.576 | AM14: 4.558 | AN14: 4.541 | AO14: 4.523 | AP14: 4.505 | AQ14: 4.489 | AR14: 4.473 | AS14: 4.456 | AT14: 4.44 | AU14: 4.423 | AV14: 4.407 | AW14: 4.39 | AX14: 4.374 | AY14: 4.357 | AZ14: 4.341 | BA14: 4.286 | BB14: 4.23 | BC14: 4.175 | BD14: 4.12 | BE14: 4.064 | BF14: 4.009 | BG14: 3.953 | BH14: 3.898 | BI14: 3.843 | BJ14: 3.787 | BK14: 3.742 | BL14: 3.697 | BM14: 3.651 | BN14: 3.606 | BO14: 3.561 | BP14: 3.515 | BQ14: 3.47 | BR14: 3.425 | BS14: 3.379 | BT14: 3.334
A15: 13 | B15: 0 | C15: 0.593 | D15: 1.187 | E15: 1.747 | F15: 2.308 | G15: 2.775 | H15: 3.242 | I15: 3.555 | J15: 3.868 | K15: 3.899 | L15: 3.929 | M15: 4.146 | N15: 4.364 | O15: 4.457 | P15: 4.551 | Q15: 4.585 | R15: 4.62 | S15: 4.651 | T15: 4.681 | U15: 4.672 | V15: 4.733 | W15: 4.764 | X15: 4.794 | Y15: 4.824 | Z15: 4.855 | AA15: 4.885 | AB15: 4.916 | AC15: 4.916 | AD15: 4.916 | AE15: 4.946 | AF15: 4.977 | AG15: 4.977 | AH15: 4.977 | AI15: 4.977 | AJ15: 4.977 | AK15: 4.977 | AL15: 4.957 | AM15: 4.938 | AN15: 4.919 | AO15: 4.9 | AP15: 4.881 | AQ15: 4.863 | AR15: 4.845 | AS15: 4.827 | AT15: 4.81 | AU15: 4.792 | AV15: 4.774 | AW15: 4.756 | AX15: 4.738 | AY15: 4.721 | AZ15: 4.703 | BA15: 4.643 | BB15: 4.583 | BC15: 4.523 | BD15: 4.463 | BE15: 4.403 | BF15: 4.343 | BG15: 4.283 | BH15: 4.223 | BI15: 4.163 | BJ15: 4.103 | BK15: 4.054 | BL15: 4.005 | BM15: 3.956 | BN15: 3.906 | BO15: 3.857 | BP15: 3.808 | BQ15: 3.759 | BR15: 3.71 | BS15: 3.661 | BT15: 3.612
A16: 14 | B16: 0 | C16: 0.639 | D16: 1.278 | E16: 1.882 | F16: 2.485 | G16: 2.989 | H16: 3.492 | I16: 3.829 | J16: 4.166 | K16: 4.199 | L16: 4.231 | M16: 4.465 | N16: 4.699 | O16: 4.8 | P16: 4.901 | Q16: 4.938 | R16: 4.976 | S16: 5.008 | T16: 5.041 | U16: 5.032 | V16: 5.097 | W16: 5.13 | X16: 5.163 | Y16: 5.196 | Z16: 5.228 | AA16: 5.261 | AB16: 5.294 | AC16: 5.294 | AD16: 5.294 | AE16: 5.327 | AF16: 5.359 | AG16: 5.359 | AH16: 5.359 | AI16: 5.359 | AJ16: 5.359 | AK16: 5.359 | AL16: 5.339 | AM16: 5.318 | AN16: 5.298 | AO16: 5.277 | AP16: 5.256 | AQ16: 5.237 | AR16: 5.218 | AS16: 5.199 | AT16: 5.18 | AU16: 5.16 | AV16: 5.141 | AW16: 5.122 | AX16: 5.103 | AY16: 5.084 | AZ16: 5.064 | BA16: 5 | BB16: 4.935 | BC16: 4.871 | BD16: 4.806 | BE16: 4.742 | BF16: 4.677 | BG16: 4.612 | BH16: 4.548 | BI16: 4.483 | BJ16: 4.419 | BK16: 4.366 | BL16: 4.313 | BM16: 4.26 | BN16: 4.207 | BO16: 4.154 | BP16: 4.101 | BQ16: 4.048 | BR16: 3.995 | BS16: 3.943 | BT16: 3.89
A17: 15 | B17: 0 | C17: 0.685 | D17: 1.369 | E17: 2.016 | F17: 2.663 | G17: 3.202 | H17: 3.741 | I17: 4.102 | J17: 4.463 | K17: 4.498 | L17: 4.534 | M17: 4.784 | N17: 5.035 | O17: 5.143 | P17: 5.251 | Q17: 5.291 | R17: 5.331 | S17: 5.366 | T17: 5.401 | U17: 5.391 | V17: 5.461 | W17: 5.496 | X17: 5.532 | Y17: 5.567 | Z17: 5.602 | AA17: 5.637 | AB17: 5.672 | AC17: 5.672 | AD17: 5.672 | AE17: 5.707 | AF17: 5.742 | AG17: 5.742 | AH17: 5.742 | AI17: 5.742 | AJ17: 5.742 | AK17: 5.742 | AL17: 5.72 | AM17: 5.698 | AN17: 5.676 | AO17: 5.654 | AP17: 5.632 | AQ17: 5.611 | AR17: 5.591 | AS17: 5.57 | AT17: 5.55 | AU17: 5.529 | AV17: 5.508 | AW17: 5.488 | AX17: 5.467 | AY17: 5.447 | AZ17: 5.426 | BA17: 5.357 | BB17: 5.288 | BC17: 5.219 | BD17: 5.149 | BE17: 5.08 | BF17: 5.011 | BG17: 4.942 | BH17: 4.873 | BI17: 4.803 | BJ17: 4.734 | BK17: 4.677 | BL17: 4.621 | BM17: 4.564 | BN17: 4.507 | BO17: 4.451 | BP17: 4.394 | BQ17: 4.337 | BR17: 4.281 | BS17: 4.224 | BT17: 4.167
A18: 16 | B18: 0 | C18: 0.73 | D18: 1.46 | E18: 2.15 | F18: 2.84 | G18: 3.416 | H18: 3.991 | I18: 4.376 | J18: 4.761 | K18: 4.798 | L18: 4.836 | M18: 5.103 | N18: 5.371 | O18: 5.486 | P18: 5.601 | Q18: 5.644 | R18: 5.686 | S18: 5.724 | T18: 5.761 | U18: 5.751 | V18: 5.825 | W18: 5.863 | X18: 5.9 | Y18: 5.938 | Z18: 5.975 | AA18: 6.013 | AB18: 6.05 | AC18: 6.05 | AD18: 6.05 | AE18: 6.088 | AF18: 6.125 | AG18: 6.125 | AH18: 6.125 | AI18: 6.125 | AJ18: 6.125 | AK18: 6.125 | AL18: 6.101 | AM18: 6.078 | AN18: 6.054 | AO18: 6.031 | AP18: 6.007 | AQ18: 5.985 | AR18: 5.963 | AS18: 5.942 | AT18: 5.92 | AU18: 5.898 | AV18: 5.876 | AW18: 5.854 | AX18: 5.832 | AY18: 5.81 | AZ18: 5.788 | BA18: 5.714 | BB18: 5.64 | BC18: 5.567 | BD18: 5.493 | BE18: 5.419 | BF18: 5.345 | BG18: 5.271 | BH18: 5.197 | BI18: 5.124 | BJ18: 5.05 | BK18: 4.989 | BL18: 4.929 | BM18: 4.868 | BN18: 4.808 | BO18: 4.748 | BP18: 4.687 | BQ18: 4.627 | BR18: 4.566 | BS18: 4.506 | BT18: 4.445
A19: 17 | B19: 0 | C19: 0.776 | D19: 1.552 | E19: 2.285 | F19: 3.018 | G19: 3.629 | H19: 4.24 | I19: 4.649 | J19: 5.058 | K19: 5.098 | L19: 5.138 | M19: 5.422 | N19: 5.706 | O19: 5.829 | P19: 5.951 | Q19: 5.996 | R19: 6.042 | S19: 6.082 | T19: 6.121 | U19: 6.11 | V19: 6.19 | W19: 6.229 | X19: 6.269 | Y19: 6.309 | Z19: 6.349 | AA19: 6.388 | AB19: 6.428 | AC19: 6.428 | AD19: 6.428 | AE19: 6.468 | AF19: 6.508 | AG19: 6.508 | AH19: 6.508 | AI19: 6.508 | AJ19: 6.508 | AK19: 6.508 | AL19: 6.483 | AM19: 6.458 | AN19: 6.433 | AO19: 6.408 | AP19: 6.383 | AQ19: 6.359 | AR19: 6.336 | AS19: 6.313 | AT19: 6.29 | AU19: 6.266 | AV19: 6.243 | AW19: 6.22 | AX19: 6.196 | AY19: 6.173 | AZ19: 6.15 | BA19: 6.071 | BB19: 5.993 | BC19: 5.914 | BD19: 5.836 | BE19: 5.758 | BF19: 5.679 | BG19: 5.601 | BH19: 5.522 | BI19: 5.444 | BJ19: 5.365 | BK19: 5.301 | BL19: 5.237 | BM19: 5.173 | BN19: 5.108 | BO19: 5.044 | BP19: 4.98 | BQ19: 4.916 | BR19: 4.852 | BS19: 4.787 | BT19: 4.723
A20: 18 | B20: 0 | C20: 0.821 | D20: 1.643 | E20: 2.419 | F20: 3.196 | G20: 3.842 | H20: 4.489 | I20: 4.923 | J20: 5.356 | K20: 5.398 | L20: 5.44 | M20: 5.741 | N20: 6.042 | O20: 6.171 | P20: 6.301 | Q20: 6.349 | R20: 6.397 | S20: 6.439 | T20: 6.481 | U20: 6.469 | V20: 6.554 | W20: 6.596 | X20: 6.638 | Y20: 6.68 | Z20: 6.722 | AA20: 6.764 | AB20: 6.806 | AC20: 6.806 | AD20: 6.806 | AE20: 6.848 | AF20: 6.891 | AG20: 6.891 | AH20: 6.891 | AI20: 6.891 | AJ20: 6.891 | AK20: 6.891 | AL20: 6.864 | AM20: 6.838 | AN20: 6.811 | AO20: 6.785 | AP20: 6.758 | AQ20: 6.734 | AR20: 6.709 | AS20: 6.684 | AT20: 6.66 | AU20: 6.635 | AV20: 6.61 | AW20: 6.585 | AX20: 6.561 | AY20: 6.536 | AZ20: 6.511 | BA20: 6.428 | BB20: 6.345 | BC20: 6.262 | BD20: 6.179 | BE20: 6.096 | BF20: 6.013 | BG20: 5.93 | BH20: 5.847 | BI20: 5.764 | BJ20: 5.681 | BK20: 5.613 | BL20: 5.545 | BM20: 5.477 | BN20: 5.409 | BO20: 5.341 | BP20: 5.273 | BQ20: 5.205 | BR20: 5.137 | BS20: 5.069 | BT20: 5.001
A21: 19 | B21: 0 | C21: 0.867 | D21: 1.734 | E21: 2.554 | F21: 3.373 | G21: 4.056 | H21: 4.739 | I21: 5.196 | J21: 5.654 | K21: 5.698 | L21: 5.743 | M21: 6.06 | N21: 6.378 | O21: 6.514 | P21: 6.651 | Q21: 6.702 | R21: 6.753 | S21: 6.797 | T21: 6.841 | U21: 6.829 | V21: 6.918 | W21: 6.962 | X21: 7.007 | Y21: 7.051 | Z21: 7.096 | AA21: 7.14 | AB21: 7.184 | AC21: 7.184 | AD21: 7.184 | AE21: 7.229 | AF21: 7.273 | AG21: 7.273 | AH21: 7.273 | AI21: 7.273 | AJ21: 7.273 | AK21: 7.273 | AL21: 7.245 | AM21: 7.218 | AN21: 7.19 | AO21: 7.162 | AP21: 7.134 | AQ21: 7.108 | AR21: 7.082 | AS21: 7.056 | AT21: 7.029 | AU21: 7.003 | AV21: 6.977 | AW21: 6.951 | AX21: 6.925 | AY21: 6.899 | AZ21: 6.873 | BA21: 6.786 | BB21: 6.698 | BC21: 6.61 | BD21: 6.523 | BE21: 6.435 | BF21: 6.347 | BG21: 6.26 | BH21: 6.172 | BI21: 6.084 | BJ21: 5.997 | BK21: 5.925 | BL21: 5.853 | BM21: 5.781 | BN21: 5.709 | BO21: 5.638 | BP21: 5.566 | BQ21: 5.494 | BR21: 5.422 | BS21: 5.351 | BT21: 5.279
A22: 20 | B22: 0 | C22: 0.913 | D22: 1.825 | E22: 2.688 | F22: 3.551 | G22: 4.269 | H22: 4.988 | I22: 5.47 | J22: 5.951 | K22: 5.998 | L22: 6.045 | M22: 6.379 | N22: 6.713 | O22: 6.857 | P22: 7.001 | Q22: 7.054 | R22: 7.108 | S22: 7.155 | T22: 7.202 | U22: 7.188 | V22: 7.282 | W22: 7.329 | X22: 7.375 | Y22: 7.422 | Z22: 7.469 | AA22: 7.516 | AB22: 7.563 | AC22: 7.563 | AD22: 7.563 | AE22: 7.609 | AF22: 7.656 | AG22: 7.656 | AH22: 7.656 | AI22: 7.656 | AJ22: 7.656 | AK22: 7.656 | AL22: 7.627 | AM22: 7.597 | AN22: 7.568 | AO22: 7.539 | AP22: 7.509 | AQ22: 7.482 | AR22: 7.454 | AS22: 7.427 | AT22: 7.399 | AU22: 7.372 | AV22: 7.345 | AW22: 7.317 | AX22: 7.29 | AY22: 7.262 | AZ22: 7.235 | BA22: 7.143 | BB22: 7.05 | BC22: 6.958 | BD22: 6.866 | BE22: 6.774 | BF22: 6.681 | BG22: 6.589 | BH22: 6.497 | BI22: 6.404 | BJ22: 6.312 | BK22: 6.237 | BL22: 6.161 | BM22: 6.086 | BN22: 6.01 | BO22: 5.934 | BP22: 5.859 | BQ22: 5.783 | BR22: 5.708 | BS22: 5.632 | BT22: 5.557
A23: 21 | B23: 0 | C23: 0.958 | D23: 1.917 | E23: 2.822 | F23: 3.728 | G23: 4.483 | H23: 5.238 | I23: 5.743 | J23: 6.249 | K23: 6.298 | L23: 6.347 | M23: 6.698 | N23: 7.049 | O23: 7.2 | P23: 7.351 | Q23: 7.407 | R23: 7.463 | S23: 7.512 | T23: 7.562 | U23: 7.548 | V23: 7.646 | W23: 7.695 | X23: 7.744 | Y23: 7.793 | Z23: 7.842 | AA23: 7.892 | AB23: 7.941 | AC23: 7.941 | AD23: 7.941 | AE23: 7.99 | AF23: 8.039 | AG23: 8.039 | AH23: 8.039 | AI23: 8.039 | AJ23: 8.039 | AK23: 8.039 | AL23: 8.008 | AM23: 7.977 | AN23: 7.946 | AO23: 7.915 | AP23: 7.885 | AQ23: 7.856 | AR23: 7.827 | AS23: 7.798 | AT23: 7.769 | AU23: 7.741 | AV23: 7.712 | AW23: 7.683 | AX23: 7.654 | AY23: 7.626 | AZ23: 7.597 | BA23: 7.5 | BB23: 7.403 | BC23: 7.306 | BD23: 7.209 | BE23: 7.112 | BF23: 7.015 | BG23: 6.918 | BH23: 6.822 | BI23: 6.725 | BJ23: 6.628 | BK23: 6.548 | BL23: 6.469 | BM23: 6.39 | BN23: 6.31 | BO23: 6.231 | BP23: 6.152 | BQ23: 6.072 | BR23: 5.993 | BS23: 5.914 | BT23: 5.834
A24: 22 | B24: 0 | C24: 1.004 | D24: 2.008 | E24: 2.957 | F24: 3.906 | G24: 4.696 | H24: 5.487 | I24: 6.017 | J24: 6.546 | K24: 6.598 | L24: 6.649 | M24: 7.017 | N24: 7.385 | O24: 7.543 | P24: 7.701 | Q24: 7.76 | R24: 7.819 | S24: 7.87 | T24: 7.922 | U24: 7.907 | V24: 8.01 | W24: 8.061 | X24: 8.113 | Y24: 8.164 | Z24: 8.216 | AA24: 8.267 | AB24: 8.319 | AC24: 8.319 | AD24: 8.319 | AE24: 8.37 | AF24: 8.422 | AG24: 8.422 | AH24: 8.422 | AI24: 8.422 | AJ24: 8.422 | AK24: 8.422 | AL24: 8.389 | AM24: 8.357 | AN24: 8.325 | AO24: 8.292 | AP24: 8.26 | AQ24: 8.23 | AR24: 8.2 | AS24: 8.17 | AT24: 8.139 | AU24: 8.109 | AV24: 8.079 | AW24: 8.049 | AX24: 8.019 | AY24: 7.989 | AZ24: 7.958 | BA24: 7.857 | BB24: 7.755 | BC24: 7.654 | BD24: 7.552 | BE24: 7.451 | BF24: 7.349 | BG24: 7.248 | BH24: 7.146 | BI24: 7.045 | BJ24: 6.943 | BK24: 6.86 | BL24: 6.777 | BM24: 6.694 | BN24: 6.611 | BO24: 6.528 | BP24: 6.445 | BQ24: 6.362 | BR24: 6.279 | BS24: 6.195 | BT24: 6.112
A25: 23 | B25: 0 | C25: 1.05 | D25: 2.099 | E25: 3.091 | F25: 4.083 | G25: 4.91 | H25: 5.736 | I25: 6.29 | J25: 6.844 | K25: 6.898 | L25: 6.951 | M25: 7.336 | N25: 7.72 | O25: 7.886 | P25: 8.051 | Q25: 8.113 | R25: 8.174 | S25: 8.228 | T25: 8.282 | U25: 8.266 | V25: 8.374 | W25: 8.428 | X25: 8.482 | Y25: 8.536 | Z25: 8.589 | AA25: 8.643 | AB25: 8.697 | AC25: 8.697 | AD25: 8.697 | AE25: 8.751 | AF25: 8.805 | AG25: 8.805 | AH25: 8.805 | AI25: 8.805 | AJ25: 8.805 | AK25: 8.805 | AL25: 8.771 | AM25: 8.737 | AN25: 8.703 | AO25: 8.669 | AP25: 8.635 | AQ25: 8.604 | AR25: 8.572 | AS25: 8.541 | AT25: 8.509 | AU25: 8.478 | AV25: 8.446 | AW25: 8.415 | AX25: 8.383 | AY25: 8.352 | AZ25: 8.32 | BA25: 8.214 | BB25: 8.108 | BC25: 8.002 | BD25: 7.896 | BE25: 7.79 | BF25: 7.684 | BG25: 7.577 | BH25: 7.471 | BI25: 7.365 | BJ25: 7.259 | BK25: 7.172 | BL25: 7.085 | BM25: 6.998 | BN25: 6.911 | BO25: 6.825 | BP25: 6.738 | BQ25: 6.651 | BR25: 6.564 | BS25: 6.477 | BT25: 6.39
A26: 24 | B26: 0 | C26: 1.095 | D26: 2.191 | E26: 3.226 | F26: 4.261 | G26: 5.123 | H26: 5.986 | I26: 6.564 | J26: 7.141 | K26: 7.198 | L26: 7.254 | M26: 7.655 | N26: 8.056 | O26: 8.229 | P26: 8.401 | Q26: 8.465 | R26: 8.53 | S26: 8.586 | T26: 8.642 | U26: 8.626 | V26: 8.738 | W26: 8.794 | X26: 8.85 | Y26: 8.907 | Z26: 8.963 | AA26: 9.019 | AB26: 9.075 | AC26: 9.075 | AD26: 9.075 | AE26: 9.131 | AF26: 9.187 | AG26: 9.187 | AH26: 9.187 | AI26: 9.187 | AJ26: 9.187 | AK26: 9.187 | AL26: 9.152 | AM26: 9.117 | AN26: 9.082 | AO26: 9.046 | AP26: 9.011 | AQ26: 8.978 | AR26: 8.945 | AS26: 8.912 | AT26: 8.879 | AU26: 8.846 | AV26: 8.814 | AW26: 8.781 | AX26: 8.748 | AY26: 8.715 | AZ26: 8.682 | BA26: 8.571 | BB26: 8.461 | BC26: 8.35 | BD26: 8.239 | BE26: 8.128 | BF26: 8.018 | BG26: 7.907 | BH26: 7.796 | BI26: 7.685 | BJ26: 7.575 | BK26: 7.484 | BL26: 7.393 | BM26: 7.303 | BN26: 7.212 | BO26: 7.121 | BP26: 7.031 | BQ26: 6.94 | BR26: 6.849 | BS26: 6.759 | BT26: 6.668
A27: 25 | B27: 0 | C27: 1.141 | D27: 2.282 | E27: 3.36 | F27: 4.438 | G27: 5.337 | H27: 6.235 | I27: 6.837 | J27: 7.439 | K27: 7.497 | L27: 7.556 | M27: 7.974 | N27: 8.392 | O27: 8.571 | P27: 8.751 | Q27: 8.818 | R27: 8.885 | S27: 8.943 | T27: 9.002 | U27: 8.985 | V27: 9.102 | W27: 9.161 | X27: 9.219 | Y27: 9.278 | Z27: 9.336 | AA27: 9.395 | AB27: 9.453 | AC27: 9.453 | AD27: 9.453 | AE27: 9.512 | AF27: 9.57 | AG27: 9.57 | AH27: 9.57 | AI27: 9.57 | AJ27: 9.57 | AK27: 9.57 | AL27: 9.534 | AM27: 9.497 | AN27: 9.46 | AO27: 9.423 | AP27: 9.386 | AQ27: 9.352 | AR27: 9.318 | AS27: 9.284 | AT27: 9.249 | AU27: 9.215 | AV27: 9.181 | AW27: 9.147 | AX27: 9.112 | AY27: 9.078 | AZ27: 9.044 | BA27: 8.928 | BB27: 8.813 | BC27: 8.698 | BD27: 8.582 | BE27: 8.467 | BF27: 8.352 | BG27: 8.236 | BH27: 8.121 | BI27: 8.006 | BJ27: 7.89 | BK27: 7.796 | BL27: 7.701 | BM27: 7.607 | BN27: 7.512 | BO27: 7.418 | BP27: 7.324 | BQ27: 7.229 | BR27: 7.135 | BS27: 7.04 | BT27: 6.946
A28: 26 | B28: 0 | C28: 1.187 | D28: 2.373 | E28: 3.494 | F28: 4.616 | G28: 5.55 | H28: 6.485 | I28: 7.111 | J28: 7.736 | K28: 7.797 | L28: 7.858 | M28: 8.293 | N28: 8.727 | O28: 8.914 | P28: 9.101 | Q28: 9.171 | R28: 9.24 | S28: 9.301 | T28: 9.362 | U28: 9.345 | V28: 9.466 | W28: 9.527 | X28: 9.588 | Y28: 9.649 | Z28: 9.71 | AA28: 9.771 | AB28: 9.831 | AC28: 9.831 | AD28: 9.831 | AE28: 9.892 | AF28: 9.953 | AG28: 9.953 | AH28: 9.953 | AI28: 9.953 | AJ28: 9.953 | AK28: 9.953 | AL28: 9.915 | AM28: 9.877 | AN28: 9.838 | AO28: 9.8 | AP28: 9.762 | AQ28: 9.726 | AR28: 9.691 | AS28: 9.655 | AT28: 9.619 | AU28: 9.584 | AV28: 9.548 | AW28: 9.512 | AX28: 9.477 | AY28: 9.441 | AZ28: 9.405 | BA28: 9.286 | BB28: 9.166 | BC28: 9.046 | BD28: 8.926 | BE28: 8.806 | BF28: 8.686 | BG28: 8.566 | BH28: 8.446 | BI28: 8.326 | BJ28: 8.206 | BK28: 8.108 | BL28: 8.009 | BM28: 7.911 | BN28: 7.813 | BO28: 7.715 | BP28: 7.617 | BQ28: 7.518 | BR28: 7.42 | BS28: 7.322 | BT28: 7.224
A29: 27 | B29: 0 | C29: 1.232 | D29: 2.464 | E29: 3.629 | F29: 4.793 | G29: 5.764 | H29: 6.734 | I29: 7.384 | J29: 8.034 | K29: 8.097 | L29: 8.16 | M29: 8.612 | N29: 9.063 | O29: 9.257 | P29: 9.451 | Q29: 9.523 | R29: 9.596 | S29: 9.659 | T29: 9.722 | U29: 9.704 | V29: 9.83 | W29: 9.894 | X29: 9.957 | Y29: 10.02 | Z29: 10.083 | AA29: 10.146 | AB29: 10.21 | AC29: 10.21 | AD29: 10.21 | AE29: 10.273 | AF29: 10.336 | AG29: 10.336 | AH29: 10.336 | AI29: 10.336 | AJ29: 10.336 | AK29: 10.336 | AL29: 10.296 | AM29: 10.256 | AN29: 10.217 | AO29: 10.177 | AP29: 10.137 | AQ29: 10.1 | AR29: 10.063 | AS29: 10.026 | AT29: 9.989 | AU29: 9.952 | AV29: 9.915 | AW29: 9.878 | AX29: 9.841 | AY29: 9.804 | AZ29: 9.767 | BA29: 9.643 | BB29: 9.518 | BC29: 9.393 | BD29: 9.269 | BE29: 9.144 | BF29: 9.02 | BG29: 8.895 | BH29: 8.771 | BI29: 8.646 | BJ29: 8.521 | BK29: 8.419 | BL29: 8.317 | BM29: 8.215 | BN29: 8.113 | BO29: 8.011 | BP29: 7.909 | BQ29: 7.807 | BR29: 7.705 | BS29: 7.603 | BT29: 7.501
A30: 28 | B30: 0 | C30: 1.278 | D30: 2.556 | E30: 3.763 | F30: 4.971 | G30: 5.977 | H30: 6.984 | I30: 7.658 | J30: 8.332 | K30: 8.397 | L30: 8.463 | M30: 8.931 | N30: 9.399 | O30: 9.6 | P30: 9.801 | Q30: 9.876 | R30: 9.951 | S30: 10.017 | T30: 10.082 | U30: 10.063 | V30: 10.194 | W30: 10.26 | X30: 10.326 | Y30: 10.391 | Z30: 10.457 | AA30: 10.522 | AB30: 10.588 | AC30: 10.588 | AD30: 10.588 | AE30: 10.653 | AF30: 10.719 | AG30: 10.719 | AH30: 10.719 | AI30: 10.719 | AJ30: 10.719 | AK30: 10.719 | AL30: 10.678 | AM30: 10.636 | AN30: 10.595 | AO30: 10.554 | AP30: 10.513 | AQ30: 10.474 | AR30: 10.436 | AS30: 10.398 | AT30: 10.359 | AU30: 10.321 | AV30: 10.282 | AW30: 10.244 | AX30: 10.206 | AY30: 10.167 | AZ30: 10.129 | BA30: 10 | BB30: 9.871 | BC30: 9.741 | BD30: 9.612 | BE30: 9.483 | BF30: 9.354 | BG30: 9.225 | BH30: 9.095 | BI30: 8.966 | BJ30: 8.837 | BK30: 8.731 | BL30: 8.626 | BM30: 8.52 | BN30: 8.414 | BO30: 8.308 | BP30: 8.202 | BQ30: 8.097 | BR30: 7.991 | BS30: 7.885 | BT30: 7.779
A31: 29 | B31: 0 | C31: 1.323 | D31: 2.647 | E31: 3.898 | F31: 5.148 | G31: 6.191 | H31: 7.233 | I31: 7.931 | J31: 8.629 | K31: 8.697 | L31: 8.765 | M31: 9.25 | N31: 9.734 | O31: 9.943 | P31: 10.151 | Q31: 10.229 | R31: 10.306 | S31: 10.374 | T31: 10.442 | U31: 10.423 | V31: 10.559 | W31: 10.626 | X31: 10.694 | Y31: 10.762 | Z31: 10.83 | AA31: 10.898 | AB31: 10.966 | AC31: 10.966 | AD31: 10.966 | AE31: 11.034 | AF31: 11.102 | AG31: 11.102 | AH31: 11.102 | AI31: 11.102 | AJ31: 11.102 | AK31: 11.102 | AL31: 11.059 | AM31: 11.016 | AN31: 10.974 | AO31: 10.931 | AP31: 10.888 | AQ31: 10.848 | AR31: 10.809 | AS31: 10.769 | AT31: 10.729 | AU31: 10.689 | AV31: 10.65 | AW31: 10.61 | AX31: 10.57 | AY31: 10.53 | AZ31: 10.491 | BA31: 10.357 | BB31: 10.223 | BC31: 10.089 | BD31: 9.956 | BE31: 9.822 | BF31: 9.688 | BG31: 9.554 | BH31: 9.42 | BI31: 9.287 | BJ31: 9.153 | BK31: 9.043 | BL31: 8.934 | BM31: 8.824 | BN31: 8.714 | BO31: 8.605 | BP31: 8.495 | BQ31: 8.386 | BR31: 8.276 | BS31: 8.167 | BT31: 8.057
A32: 30 | B32: 0 | C32: 1.369 | D32: 2.738 | E32: 4.032 | F32: 5.326 | G32: 6.404 | H32: 7.482 | I32: 8.205 | J32: 8.927 | K32: 8.997 | L32: 9.067 | M32: 9.569 | N32: 10.07 | O32: 10.286 | P32: 10.501 | Q32: 10.582 | R32: 10.662 | S32: 10.732 | T32: 10.802 | U32: 10.782 | V32: 10.923 | W32: 10.993 | X32: 11.063 | Y32: 11.133 | Z32: 11.204 | AA32: 11.274 | AB32: 11.344 | AC32: 11.344 | AD32: 11.344 | AE32: 11.414 | AF32: 11.484 | AG32: 11.484 | AH32: 11.484 | AI32: 11.484 | AJ32: 11.484 | AK32: 11.484 | AL32: 11.44 | AM32: 11.396 | AN32: 11.352 | AO32: 11.308 | AP32: 11.264 | AQ32: 11.223 | AR32: 11.181 | AS32: 11.14 | AT32: 11.099 | AU32: 11.058 | AV32: 11.017 | AW32: 10.976 | AX32: 10.935 | AY32: 10.894 | AZ32: 10.852 | BA32: 10.714 | BB32: 10.576 | BC32: 10.437 | BD32: 10.299 | BE32: 10.16 | BF32: 10.022 | BG32: 9.884 | BH32: 9.745 | BI32: 9.607 | BJ32: 9.468 | BK32: 9.355 | BL32: 9.242 | BM32: 9.128 | BN32: 9.015 | BO32: 8.902 | BP32: 8.788 | BQ32: 8.675 | BR32: 8.562 | BS32: 8.448 | BT32: 8.335
A33: 31 | B33: 0 | C33: 1.412 | D33: 2.824 | E33: 4.205 | F33: 5.585 | G33: 6.707 | H33: 7.829 | I33: 8.58 | J33: 9.33 | K33: 9.401 | L33: 9.472 | M33: 10.017 | N33: 10.562 | O33: 10.762 | P33: 10.963 | Q33: 11.056 | R33: 11.149 | S33: 11.22 | T33: 11.29 | U33: 11.278 | V33: 11.434 | W33: 11.504 | X33: 11.575 | Y33: 11.659 | Z33: 11.743 | AA33: 11.813 | AB33: 11.884 | AC33: 11.884 | AD33: 11.884 | AE33: 11.954 | AF33: 12.024 | AG33: 12.03 | AH33: 12.035 | AI33: 12.041 | AJ33: 12.046 | AK33: 12.052 | AL33: 12.006 | AM33: 11.959 | AN33: 11.912 | AO33: 11.866 | AP33: 11.819 | AQ33: 11.776 | AR33: 11.733 | AS33: 11.69 | AT33: 11.647 | AU33: 11.604 | AV33: 11.561 | AW33: 11.517 | AX33: 11.474 | AY33: 11.431 | AZ33: 11.388 | BA33: 11.242 | BB33: 11.096 | BC33: 10.95 | BD33: 10.804 | BE33: 10.658 | BF33: 10.512 | BG33: 10.366 | BH33: 10.22 | BI33: 10.074 | BJ33: 9.928 | BK33: 9.808 | BL33: 9.689 | BM33: 9.569 | BN33: 9.449 | BO33: 9.33 | BP33: 9.21 | BQ33: 9.091 | BR33: 8.971 | BS33: 8.852 | BT33: 8.732
A34: 32 | B34: 0 | C34: 1.455 | D34: 2.911 | E34: 4.377 | F34: 5.843 | G34: 7.01 | H34: 8.176 | I34: 8.955 | J34: 9.733 | K34: 9.805 | L34: 9.878 | M34: 10.465 | N34: 11.053 | O34: 11.239 | P34: 11.424 | Q34: 11.53 | R34: 11.637 | S34: 11.707 | T34: 11.777 | U34: 11.773 | V34: 11.946 | W34: 12.016 | X34: 12.086 | Y34: 12.184 | Z34: 12.283 | AA34: 12.353 | AB34: 12.423 | AC34: 12.423 | AD34: 12.423 | AE34: 12.493 | AF34: 12.564 | AG34: 12.575 | AH34: 12.586 | AI34: 12.597 | AJ34: 12.609 | AK34: 12.62 | AL34: 12.571 | AM34: 12.522 | AN34: 12.473 | AO34: 12.424 | AP34: 12.375 | AQ34: 12.33 | AR34: 12.285 | AS34: 12.24 | AT34: 12.194 | AU34: 12.149 | AV34: 12.104 | AW34: 12.059 | AX34: 12.014 | AY34: 11.969 | AZ34: 11.924 | BA34: 11.77 | BB34: 11.616 | BC34: 11.463 | BD34: 11.309 | BE34: 11.155 | BF34: 11.002 | BG34: 10.848 | BH34: 10.694 | BI34: 10.541 | BJ34: 10.387 | BK34: 10.261 | BL34: 10.136 | BM34: 10.01 | BN34: 9.884 | BO34: 9.758 | BP34: 9.632 | BQ34: 9.507 | BR34: 9.381 | BS34: 9.255 | BT34: 9.129
A35: 33 | B35: 0 | C35: 1.498 | D35: 2.997 | E35: 4.55 | F35: 6.102 | G35: 7.313 | H35: 8.523 | I35: 9.33 | J35: 10.136 | K35: 10.21 | L35: 10.283 | M35: 10.914 | N35: 11.545 | O35: 11.715 | P35: 11.886 | Q35: 12.005 | R35: 12.124 | S35: 12.194 | T35: 12.265 | U35: 12.269 | V35: 12.457 | W35: 12.527 | X35: 12.598 | Y35: 12.71 | Z35: 12.822 | AA35: 12.893 | AB35: 12.963 | AC35: 12.963 | AD35: 12.963 | AE35: 13.033 | AF35: 13.103 | AG35: 13.12 | AH35: 13.137 | AI35: 13.154 | AJ35: 13.171 | AK35: 13.187 | AL35: 13.136 | AM35: 13.085 | AN35: 13.033 | AO35: 12.982 | AP35: 12.931 | AQ35: 12.884 | AR35: 12.836 | AS35: 12.789 | AT35: 12.742 | AU35: 12.695 | AV35: 12.648 | AW35: 12.601 | AX35: 12.554 | AY35: 12.506 | AZ35: 12.459 | BA35: 12.298 | BB35: 12.137 | BC35: 11.975 | BD35: 11.814 | BE35: 11.653 | BF35: 11.492 | BG35: 11.33 | BH35: 11.169 | BI35: 11.008 | BJ35: 10.846 | BK35: 10.714 | BL35: 10.582 | BM35: 10.45 | BN35: 10.318 | BO35: 10.186 | BP35: 10.054 | BQ35: 9.922 | BR35: 9.79 | BS35: 9.658 | BT35: 9.526
A36: 34 | B36: 0 | C36: 1.542 | D36: 3.083 | E36: 4.722 | F36: 6.361 | G36: 7.616 | H36: 8.871 | I36: 9.705 | J36: 10.54 | K36: 10.614 | L36: 10.688 | M36: 11.362 | N36: 12.036 | O36: 12.191 | P36: 12.347 | Q36: 12.479 | R36: 12.612 | S36: 12.682 | T36: 12.752 | U36: 12.764 | V36: 12.969 | W36: 13.039 | X36: 13.109 | Y36: 13.236 | Z36: 13.362 | AA36: 13.432 | AB36: 13.502 | AC36: 13.502 | AD36: 13.502 | AE36: 13.573 | AF36: 13.643 | AG36: 13.665 | AH36: 13.688 | AI36: 13.71 | AJ36: 13.733 | AK36: 13.755 | AL36: 13.701 | AM36: 13.648 | AN36: 13.594 | AO36: 13.54 | AP36: 13.486 | AQ36: 13.437 | AR36: 13.388 | AS36: 13.339 | AT36: 13.29 | AU36: 13.241 | AV36: 13.191 | AW36: 13.142 | AX36: 13.093 | AY36: 13.044 | AZ36: 12.995 | BA36: 12.826 | BB36: 12.657 | BC36: 12.488 | BD36: 12.319 | BE36: 12.15 | BF36: 11.981 | BG36: 11.813 | BH36: 11.644 | BI36: 11.475 | BJ36: 11.306 | BK36: 11.168 | BL36: 11.029 | BM36: 10.891 | BN36: 10.753 | BO36: 10.615 | BP36: 10.477 | BQ36: 10.338 | BR36: 10.2 | BS36: 10.062 | BT36: 9.924
A37: 35 | B37: 0 | C37: 1.585 | D37: 3.169 | E37: 4.895 | F37: 6.62 | G37: 7.919 | H37: 9.218 | I37: 10.08 | J37: 10.943 | K37: 11.018 | L37: 11.093 | M37: 11.81 | N37: 12.527 | O37: 12.668 | P37: 12.808 | Q37: 12.954 | R37: 13.099 | S37: 13.169 | T37: 13.24 | U37: 13.26 | V37: 13.48 | W37: 13.551 | X37: 13.621 | Y37: 13.761 | Z37: 13.902 | AA37: 13.972 | AB37: 14.042 | AC37: 14.042 | AD37: 14.042 | AE37: 14.112 | AF37: 14.182 | AG37: 14.211 | AH37: 14.239 | AI37: 14.267 | AJ37: 14.295 | AK37: 14.323 | AL37: 14.267 | AM37: 14.211 | AN37: 14.154 | AO37: 14.098 | AP37: 14.042 | AQ37: 13.991 | AR37: 13.94 | AS37: 13.889 | AT37: 13.837 | AU37: 13.786 | AV37: 13.735 | AW37: 13.684 | AX37: 13.633 | AY37: 13.582 | AZ37: 13.53 | BA37: 13.354 | BB37: 13.177 | BC37: 13.001 | BD37: 12.824 | BE37: 12.648 | BF37: 12.471 | BG37: 12.295 | BH37: 12.118 | BI37: 11.942 | BJ37: 11.765 | BK37: 11.621 | BL37: 11.476 | BM37: 11.332 | BN37: 11.187 | BO37: 11.043 | BP37: 10.899 | BQ37: 10.754 | BR37: 10.61 | BS37: 10.465 | BT37: 10.321
A38: 36 | B38: 0 | C38: 1.67 | D38: 3.34 | E38: 5.124 | F38: 6.909 | G38: 8.265 | H38: 9.621 | I38: 10.511 | J38: 11.402 | K38: 11.506 | L38: 11.611 | M38: 12.342 | N38: 13.073 | O38: 13.229 | P38: 13.384 | Q38: 13.529 | R38: 13.675 | S38: 13.759 | T38: 13.843 | U38: 13.854 | V38: 14.074 | W38: 14.159 | X38: 14.245 | Y38: 14.371 | Z38: 14.497 | AA38: 14.568 | AB38: 14.638 | AC38: 14.652 | AD38: 14.666 | AE38: 14.736 | AF38: 14.806 | AG38: 14.834 | AH38: 14.862 | AI38: 14.891 | AJ38: 14.919 | AK38: 14.947 | AL38: 14.888 | AM38: 14.829 | AN38: 14.77 | AO38: 14.711 | AP38: 14.652 | AQ38: 14.599 | AR38: 14.546 | AS38: 14.492 | AT38: 14.439 | AU38: 14.386 | AV38: 14.333 | AW38: 14.28 | AX38: 14.227 | AY38: 14.173 | AZ38: 14.12 | BA38: 13.936 | BB38: 13.752 | BC38: 13.567 | BD38: 13.383 | BE38: 13.198 | BF38: 13.014 | BG38: 12.83 | BH38: 12.645 | BI38: 12.461 | BJ38: 12.277 | BK38: 12.128 | BL38: 11.98 | BM38: 11.832 | BN38: 11.684 | BO38: 11.536 | BP38: 11.387 | BQ38: 11.239 | BR38: 11.091 | BS38: 10.943 | BT38: 10.794
A39: 37 | B39: 0 | C39: 1.755 | D39: 3.51 | E39: 5.354 | F39: 7.198 | G39: 8.611 | H39: 10.024 | I39: 10.943 | J39: 11.861 | K39: 11.995 | L39: 12.128 | M39: 12.874 | N39: 13.619 | O39: 13.789 | P39: 13.96 | Q39: 14.105 | R39: 14.251 | S39: 14.349 | T39: 14.447 | U39: 14.449 | V39: 14.668 | W39: 14.768 | X39: 14.868 | Y39: 14.981 | Z39: 15.093 | AA39: 15.163 | AB39: 15.234 | AC39: 15.262 | AD39: 15.29 | AE39: 15.36 | AF39: 15.43 | AG39: 15.458 | AH39: 15.486 | AI39: 15.514 | AJ39: 15.542 | AK39: 15.571 | AL39: 15.509 | AM39: 15.447 | AN39: 15.385 | AO39: 15.323 | AP39: 15.262 | AQ39: 15.206 | AR39: 15.151 | AS39: 15.096 | AT39: 15.041 | AU39: 14.986 | AV39: 14.931 | AW39: 14.875 | AX39: 14.82 | AY39: 14.765 | AZ39: 14.71 | BA39: 14.518 | BB39: 14.326 | BC39: 14.133 | BD39: 13.941 | BE39: 13.749 | BF39: 13.557 | BG39: 13.365 | BH39: 13.173 | BI39: 12.98 | BJ39: 12.788 | BK39: 12.636 | BL39: 12.484 | BM39: 12.332 | BN39: 12.18 | BO39: 12.028 | BP39: 11.876 | BQ39: 11.724 | BR39: 11.572 | BS39: 11.42 | BT39: 11.268
A40: 38 | B40: 0 | C40: 1.841 | D40: 3.681 | E40: 5.584 | F40: 7.486 | G40: 8.957 | H40: 10.427 | I40: 11.374 | J40: 12.321 | K40: 12.483 | L40: 12.646 | M40: 13.405 | N40: 14.164 | O40: 14.35 | P40: 14.535 | Q40: 14.681 | R40: 14.826 | S40: 14.939 | T40: 15.051 | U40: 15.044 | V40: 15.262 | W40: 15.377 | X40: 15.492 | Y40: 15.591 | Z40: 15.689 | AA40: 15.759 | AB40: 15.829 | AC40: 15.871 | AD40: 15.914 | AE40: 15.984 | AF40: 16.054 | AG40: 16.082 | AH40: 16.11 | AI40: 16.138 | AJ40: 16.166 | AK40: 16.194 | AL40: 16.13 | AM40: 16.065 | AN40: 16.001 | AO40: 15.936 | AP40: 15.871 | AQ40: 15.814 | AR40: 15.757 | AS40: 15.7 | AT40: 15.643 | AU40: 15.586 | AV40: 15.528 | AW40: 15.471 | AX40: 15.414 | AY40: 15.357 | AZ40: 15.3 | BA40: 15.1 | BB40: 14.9 | BC40: 14.7 | BD40: 14.5 | BE40: 14.3 | BF40: 14.1 | BG40: 13.9 | BH40: 13.7 | BI40: 13.5 | BJ40: 13.3 | BK40: 13.144 | BL40: 12.988 | BM40: 12.832 | BN40: 12.676 | BO40: 12.52 | BP40: 12.365 | BQ40: 12.209 | BR40: 12.053 | BS40: 11.897 | BT40: 11.741
A41: 39 | B41: 0 | C41: 1.926 | D41: 3.852 | E41: 5.813 | F41: 7.775 | G41: 9.303 | H41: 10.83 | I41: 11.805 | J41: 12.78 | K41: 12.972 | L41: 13.163 | M41: 13.937 | N41: 14.71 | O41: 14.911 | P41: 15.111 | Q41: 15.257 | R41: 15.402 | S41: 15.528 | T41: 15.655 | U41: 15.639 | V41: 15.855 | W41: 15.986 | X41: 16.116 | Y41: 16.2 | Z41: 16.285 | AA41: 16.355 | AB41: 16.425 | AC41: 16.481 | AD41: 16.537 | AE41: 16.608 | AF41: 16.678 | AG41: 16.706 | AH41: 16.734 | AI41: 16.762 | AJ41: 16.79 | AK41: 16.818 | AL41: 16.751 | AM41: 16.684 | AN41: 16.616 | AO41: 16.549 | AP41: 16.481 | AQ41: 16.422 | AR41: 16.363 | AS41: 16.304 | AT41: 16.245 | AU41: 16.185 | AV41: 16.126 | AW41: 16.067 | AX41: 16.008 | AY41: 15.949 | AZ41: 15.89 | BA41: 15.682 | BB41: 15.474 | BC41: 15.266 | BD41: 15.058 | BE41: 14.85 | BF41: 14.643 | BG41: 14.435 | BH41: 14.227 | BI41: 14.019 | BJ41: 13.811 | BK41: 13.652 | BL41: 13.492 | BM41: 13.332 | BN41: 13.173 | BO41: 13.013 | BP41: 12.853 | BQ41: 12.694 | BR41: 12.534 | BS41: 12.374 | BT41: 12.215
A42: 40 | B42: 0 | C42: 2.011 | D42: 4.022 | E42: 6.043 | F42: 8.064 | G42: 9.649 | H42: 11.234 | I42: 12.237 | J42: 13.24 | K42: 13.46 | L42: 13.681 | M42: 14.468 | N42: 15.256 | O42: 15.471 | P42: 15.687 | Q42: 15.832 | R42: 15.978 | S42: 16.118 | T42: 16.259 | U42: 16.234 | V42: 16.449 | W42: 16.595 | X42: 16.74 | Y42: 16.81 | Z42: 16.88 | AA42: 16.951 | AB42: 17.021 | AC42: 17.091 | AD42: 17.161 | AE42: 17.232 | AF42: 17.302 | AG42: 17.33 | AH42: 17.358 | AI42: 17.386 | AJ42: 17.414 | AK42: 17.442 | AL42: 17.372 | AM42: 17.302 | AN42: 17.232 | AO42: 17.161 | AP42: 17.091 | AQ42: 17.03 | AR42: 16.969 | AS42: 16.908 | AT42: 16.846 | AU42: 16.785 | AV42: 16.724 | AW42: 16.663 | AX42: 16.602 | AY42: 16.54 | AZ42: 16.479 | BA42: 16.264 | BB42: 16.048 | BC42: 15.832 | BD42: 15.617 | BE42: 15.401 | BF42: 15.185 | BG42: 14.97 | BH42: 14.754 | BI42: 14.538 | BJ42: 14.323 | BK42: 14.159 | BL42: 13.996 | BM42: 13.832 | BN42: 13.669 | BO42: 13.505 | BP42: 13.342 | BQ42: 13.178 | BR42: 13.015 | BS42: 12.851 | BT42: 12.688
... A51: 49 | B51: 0 | C51: 2.347 | D51: 4.694 | E51: 7.095 | F51: 9.496 | G51: 11.151 | H51: 12.806 | I51: 13.459 | J51: 14.112 | K51: 14.486 | L51: 14.86 | M51: 15.578 | N51: 16.295 | O51: 16.641 | P51: 16.987 | Q51: 17.203 | R51: 17.42 | S51: 17.636 | T51: 17.851 | U51: 17.779 | V51: 17.976 | W51: 18.12 | X51: 18.265 | Y51: 18.391 | Z51: 18.517 | AA51: 18.658 | AB51: 18.798 | AC51: 18.868 | AD51: 18.939 | AE51: 19.126 | AF51: 19.314 | AG51: 19.394 | AH51: 19.474 | AI51: 19.554 | AJ51: 19.635 | AK51: 19.715 | AL51: 19.636 | AM51: 19.558 | AN51: 19.479 | AO51: 19.4 | AP51: 19.322 | AQ51: 19.253 | AR51: 19.183 | AS51: 19.114 | AT51: 19.045 | AU51: 18.976 | AV51: 18.907 | AW51: 18.837 | AX51: 18.768 | AY51: 18.699 | AZ51: 18.63 | BA51: 18.381 | BB51: 18.131 | BC51: 17.882 | BD51: 17.633 | BE51: 17.384 | BF51: 17.135 | BG51: 16.886 | BH51: 16.637 | BI51: 16.387 | BJ51: 16.138 | BK51: 15.957 | BL51: 15.776 | BM51: 15.595 | BN51: 15.415 | BO51: 15.234 | BP51: 15.053 | BQ51: 14.872 | BR51: 14.691 | BS51: 14.51 | BT51: 14.329
A52: 50 | B52: 0 | C52: 2.377 | D52: 4.754 | E52: 7.197 | F52: 9.639 | G52: 11.294 | H52: 12.949 | I52: 13.53 | J52: 14.112 | K52: 14.543 | L52: 14.975 | M52: 15.692 | N52: 16.409 | O52: 16.77 | P52: 17.131 | Q52: 17.347 | R52: 17.563 | S52: 17.778 | T52: 17.994 | U52: 17.934 | V52: 18.144 | W52: 18.29 | X52: 18.435 | Y52: 18.576 | Z52: 18.716 | AA52: 18.856 | AB52: 18.997 | AC52: 19.067 | AD52: 19.137 | AE52: 19.353 | AF52: 19.569 | AG52: 19.655 | AH52: 19.741 | AI52: 19.827 | AJ52: 19.914 | AK52: 20 | AL52: 19.92 | AM52: 19.839 | AN52: 19.759 | AO52: 19.679 | AP52: 19.599 | AQ52: 19.528 | AR52: 19.458 | AS52: 19.388 | AT52: 19.318 | AU52: 19.248 | AV52: 19.177 | AW52: 19.107 | AX52: 19.037 | AY52: 18.967 | AZ52: 18.897 | BA52: 18.644 | BB52: 18.391 | BC52: 18.138 | BD52: 17.885 | BE52: 17.633 | BF52: 17.38 | BG52: 17.127 | BH52: 16.874 | BI52: 16.622 | BJ52: 16.369 | BK52: 16.187 | BL52: 16.006 | BM52: 15.824 | BN52: 15.643 | BO52: 15.461 | BP52: 15.28 | BQ52: 15.098 | BR52: 14.917 | BS52: 14.735 | BT52: 14.554
A53: 51 | B53: 0 | C53: 2.406 | D53: 4.812 | E53: 7.298 | F53: 9.783 | G53: 11.439 | H53: 13.095 | I53: 13.633 | J53: 14.17 | K53: 14.63 | L53: 15.089 | M53: 15.821 | N53: 16.554 | O53: 16.886 | P53: 17.217 | Q53: 17.462 | R53: 17.707 | S53: 17.923 | T53: 18.138 | U53: 18.076 | V53: 18.287 | W53: 18.431 | X53: 18.576 | Y53: 18.745 | Z53: 18.915 | AA53: 19.056 | AB53: 19.197 | AC53: 19.282 | AD53: 19.366 | AE53: 19.581 | AF53: 19.795 | AG53: 19.892 | AH53: 19.989 | AI53: 20.086 | AJ53: 20.184 | AK53: 20.281 | AL53: 20.2 | AM53: 20.119 | AN53: 20.038 | AO53: 19.956 | AP53: 19.875 | AQ53: 19.804 | AR53: 19.733 | AS53: 19.662 | AT53: 19.591 | AU53: 19.519 | AV53: 19.448 | AW53: 19.377 | AX53: 19.306 | AY53: 19.235 | AZ53: 19.163 | BA53: 18.907 | BB53: 18.65 | BC53: 18.394 | BD53: 18.137 | BE53: 17.88 | BF53: 17.624 | BG53: 17.367 | BH53: 17.111 | BI53: 16.854 | BJ53: 16.598 | BK53: 16.413 | BL53: 16.229 | BM53: 16.044 | BN53: 15.859 | BO53: 15.675 | BP53: 15.49 | BQ53: 15.306 | BR53: 15.121 | BS53: 14.937 | BT53: 14.752
A54: 52 | B54: 0 | C54: 2.435 | D54: 4.871 | E54: 7.399 | F54: 9.928 | G54: 11.585 | H54: 13.242 | I54: 13.735 | J54: 14.229 | K54: 14.716 | L54: 15.203 | M54: 15.951 | N54: 16.698 | O54: 17.001 | P54: 17.304 | Q54: 17.578 | R54: 17.851 | S54: 18.067 | T54: 18.283 | U54: 18.218 | V54: 18.429 | W54: 18.573 | X54: 18.716 | Y54: 18.915 | Z54: 19.113 | AA54: 19.256 | AB54: 19.398 | AC54: 19.496 | AD54: 19.595 | AE54: 19.808 | AF54: 20.022 | AG54: 20.13 | AH54: 20.238 | AI54: 20.346 | AJ54: 20.454 | AK54: 20.562 | AL54: 20.48 | AM54: 20.398 | AN54: 20.316 | AO54: 20.234 | AP54: 20.152 | AQ54: 20.08 | AR54: 20.008 | AS54: 19.936 | AT54: 19.863 | AU54: 19.791 | AV54: 19.719 | AW54: 19.647 | AX54: 19.575 | AY54: 19.502 | AZ54: 19.43 | BA54: 19.17 | BB54: 18.909 | BC54: 18.649 | BD54: 18.389 | BE54: 18.128 | BF54: 17.868 | BG54: 17.607 | BH54: 17.347 | BI54: 17.087 | BJ54: 16.826 | BK54: 16.639 | BL54: 16.451 | BM54: 16.264 | BN54: 16.076 | BO54: 15.889 | BP54: 15.701 | BQ54: 15.513 | BR54: 15.326 | BS54: 15.138 | BT54: 14.951
A55: 53 | B55: 0 | C55: 2.464 | D55: 4.929 | E55: 7.5 | F55: 10.072 | G55: 11.73 | H55: 13.388 | I55: 13.837 | J55: 14.287 | K55: 14.802 | L55: 15.318 | M55: 16.08 | N55: 16.842 | O55: 17.116 | P55: 17.39 | Q55: 17.693 | R55: 17.996 | S55: 18.211 | T55: 18.427 | U55: 18.361 | V55: 18.572 | W55: 18.714 | X55: 18.856 | Y55: 19.084 | Z55: 19.312 | AA55: 19.455 | AB55: 19.599 | AC55: 19.711 | AD55: 19.823 | AE55: 20.036 | AF55: 20.249 | AG55: 20.367 | AH55: 20.486 | AI55: 20.605 | AJ55: 20.724 | AK55: 20.842 | AL55: 20.76 | AM55: 20.677 | AN55: 20.594 | AO55: 20.512 | AP55: 20.429 | AQ55: 20.356 | AR55: 20.283 | AS55: 20.209 | AT55: 20.136 | AU55: 20.063 | AV55: 19.99 | AW55: 19.917 | AX55: 19.843 | AY55: 19.77 | AZ55: 19.697 | BA55: 19.433 | BB55: 19.169 | BC55: 18.904 | BD55: 18.64 | BE55: 18.376 | BF55: 18.112 | BG55: 17.848 | BH55: 17.583 | BI55: 17.319 | BJ55: 17.055 | BK55: 16.864 | BL55: 16.674 | BM55: 16.483 | BN55: 16.293 | BO55: 16.102 | BP55: 15.912 | BQ55: 15.721 | BR55: 15.53 | BS55: 15.34 | BT55: 15.149
A56: 54 | B56: 0 | C56: 2.493 | D56: 4.987 | E56: 7.602 | F56: 10.217 | G56: 11.876 | H56: 13.534 | I56: 13.94 | J56: 14.345 | K56: 14.889 | L56: 15.432 | M56: 16.209 | N56: 16.987 | O56: 17.232 | P56: 17.476 | Q56: 17.808 | R56: 18.14 | S56: 18.356 | T56: 18.572 | U56: 18.503 | V56: 18.714 | W56: 18.855 | X56: 18.997 | Y56: 19.254 | Z56: 19.51 | AA56: 19.655 | AB56: 19.799 | AC56: 19.926 | AD56: 20.052 | AE56: 20.264 | AF56: 20.475 | AG56: 20.605 | AH56: 20.734 | AI56: 20.864 | AJ56: 20.994 | AK56: 21.123 | AL56: 21.04 | AM56: 20.956 | AN56: 20.873 | AO56: 20.789 | AP56: 20.706 | AQ56: 20.632 | AR56: 20.557 | AS56: 20.483 | AT56: 20.409 | AU56: 20.335 | AV56: 20.261 | AW56: 20.186 | AX56: 20.112 | AY56: 20.038 | AZ56: 19.964 | BA56: 19.696 | BB56: 19.428 | BC56: 19.16 | BD56: 18.892 | BE56: 18.624 | BF56: 18.356 | BG56: 18.088 | BH56: 17.82 | BI56: 17.552 | BJ56: 17.284 | BK56: 17.09 | BL56: 16.897 | BM56: 16.703 | BN56: 16.509 | BO56: 16.316 | BP56: 16.122 | BQ56: 15.929 | BR56: 15.735 | BS56: 15.541 | BT56: 15.348
A57: 55 | B57: 0 | C57: 2.523 | D57: 5.045 | E57: 7.703 | F57: 10.361 | G57: 12.021 | H57: 13.681 | I57: 14.042 | J57: 14.403 | K57: 14.975 | L57: 15.546 | M57: 16.339 | N57: 17.131 | O57: 17.347 | P57: 17.563 | Q57: 17.924 | R57: 18.285 | S57: 18.5 | T57: 18.716 | U57: 18.646 | V57: 18.856 | W57: 18.997 | X57: 19.137 | Y57: 19.423 | Z57: 19.709 | AA57: 19.854 | AB57: 20 | AC57: 20.14 | AD57: 20.281 | AE57: 20.491 | AF57: 20.702 | AG57: 20.842 | AH57: 20.983 | AI57: 21.123 | AJ57: 21.264 | AK57: 21.404 | AL57: 21.32 | AM57: 21.236 | AN57: 21.151 | AO57: 21.067 | AP57: 20.983 | AQ57: 20.908 | AR57: 20.832 | AS57: 20.757 | AT57: 20.682 | AU57: 20.607 | AV57: 20.531 | AW57: 20.456 | AX57: 20.381 | AY57: 20.306 | AZ57: 20.231 | BA57: 19.959 | BB57: 19.687 | BC57: 19.415 | BD57: 19.143 | BE57: 18.871 | BF57: 18.6 | BG57: 18.328 | BH57: 18.056 | BI57: 17.784 | BJ57: 17.512 | BK57: 17.316 | BL57: 17.119 | BM57: 16.923 | BN57: 16.726 | BO57: 16.529 | BP57: 16.333 | BQ57: 16.136 | BR57: 15.94 | BS57: 15.743 | BT57: 15.546
A58: 56 | B58: 0 | C58: 2.551 | D58: 5.101 | E58: 7.775 | F58: 10.449 | G58: 12.122 | H58: 13.795 | I58: 14.156 | J58: 14.517 | K58: 15.075 | L58: 15.633 | M58: 16.425 | N58: 17.217 | O58: 17.462 | P58: 17.707 | Q58: 18.053 | R58: 18.399 | S58: 18.615 | T58: 18.83 | U58: 18.773 | V58: 18.999 | W58: 19.154 | X58: 19.31 | Y58: 19.581 | Z58: 19.851 | AA58: 20.01 | AB58: 20.168 | AC58: 20.337 | AD58: 20.505 | AE58: 20.717 | AF58: 20.929 | AG58: 21.081 | AH58: 21.233 | AI58: 21.385 | AJ58: 21.537 | AK58: 21.689 | AL58: 21.603 | AM58: 21.518 | AN58: 21.433 | AO58: 21.347 | AP58: 21.262 | AQ58: 21.185 | AR58: 21.109 | AS58: 21.033 | AT58: 20.957 | AU58: 20.88 | AV58: 20.804 | AW58: 20.728 | AX58: 20.652 | AY58: 20.576 | AZ58: 20.499 | BA58: 20.224 | BB58: 19.948 | BC58: 19.672 | BD58: 19.397 | BE58: 19.121 | BF58: 18.846 | BG58: 18.57 | BH58: 18.294 | BI58: 18.019 | BJ58: 17.743 | BK58: 17.543 | BL58: 17.344 | BM58: 17.144 | BN58: 16.945 | BO58: 16.745 | BP58: 16.545 | BQ58: 16.346 | BR58: 16.146 | BS58: 15.947 | BT58: 15.747
A59: 57 | B59: 0 | C59: 2.579 | D59: 5.157 | E59: 7.847 | F59: 10.538 | G59: 12.224 | H59: 13.91 | I59: 14.271 | J59: 14.632 | K59: 15.175 | L59: 15.719 | M59: 16.511 | N59: 17.304 | O59: 17.578 | P59: 17.851 | Q59: 18.182 | R59: 18.513 | S59: 18.729 | T59: 18.945 | U59: 18.901 | V59: 19.141 | W59: 19.312 | X59: 19.482 | Y59: 19.738 | Z59: 19.994 | AA59: 20.165 | AB59: 20.337 | AC59: 20.533 | AD59: 20.73 | AE59: 20.943 | AF59: 21.155 | AG59: 21.319 | AH59: 21.483 | AI59: 21.646 | AJ59: 21.81 | AK59: 21.974 | AL59: 21.887 | AM59: 21.8 | AN59: 21.714 | AO59: 21.627 | AP59: 21.54 | AQ59: 21.463 | AR59: 21.386 | AS59: 21.309 | AT59: 21.232 | AU59: 21.154 | AV59: 21.077 | AW59: 21 | AX59: 20.923 | AY59: 20.845 | AZ59: 20.768 | BA59: 20.489 | BB59: 20.209 | BC59: 19.93 | BD59: 19.65 | BE59: 19.371 | BF59: 19.092 | BG59: 18.812 | BH59: 18.533 | BI59: 18.253 | BJ59: 17.974 | BK59: 17.771 | BL59: 17.569 | BM59: 17.366 | BN59: 17.163 | BO59: 16.961 | BP59: 16.758 | BQ59: 16.556 | BR59: 16.353 | BS59: 16.15 | BT59: 15.948
A60: 58 | B60: 0 | C60: 2.607 | D60: 5.214 | E60: 7.92 | F60: 10.626 | G60: 12.325 | H60: 14.024 | I60: 14.385 | J60: 14.746 | K60: 15.276 | L60: 15.805 | M60: 16.598 | N60: 17.39 | O60: 17.693 | P60: 17.996 | Q60: 18.312 | R60: 18.628 | S60: 18.843 | T60: 19.059 | U60: 19.028 | V60: 19.284 | W60: 19.469 | X60: 19.655 | Y60: 19.896 | Z60: 20.136 | AA60: 20.321 | AB60: 20.505 | AC60: 20.73 | AD60: 20.955 | AE60: 21.168 | AF60: 21.382 | AG60: 21.557 | AH60: 21.733 | AI60: 21.908 | AJ60: 22.083 | AK60: 22.259 | AL60: 22.171 | AM60: 22.083 | AN60: 21.995 | AO60: 21.907 | AP60: 21.819 | AQ60: 21.741 | AR60: 21.663 | AS60: 21.585 | AT60: 21.506 | AU60: 21.428 | AV60: 21.35 | AW60: 21.272 | AX60: 21.193 | AY60: 21.115 | AZ60: 21.037 | BA60: 20.754 | BB60: 20.47 | BC60: 20.187 | BD60: 19.904 | BE60: 19.621 | BF60: 19.337 | BG60: 19.054 | BH60: 18.771 | BI60: 18.488 | BJ60: 18.204 | BK60: 17.999 | BL60: 17.793 | BM60: 17.588 | BN60: 17.382 | BO60: 17.176 | BP60: 16.971 | BQ60: 16.765 | BR60: 16.56 | BS60: 16.354 | BT60: 16.148
A61: 59 | B61: 0 | C61: 2.635 | D61: 5.27 | E61: 7.992 | F61: 10.714 | G61: 12.426 | H61: 14.138 | I61: 14.499 | J61: 14.86 | K61: 15.376 | L61: 15.892 | M61: 16.684 | N61: 17.476 | O61: 17.808 | P61: 18.14 | Q61: 18.441 | R61: 18.742 | S61: 18.958 | T61: 19.173 | U61: 19.155 | V61: 19.426 | W61: 19.627 | X61: 19.827 | Y61: 20.053 | Z61: 20.279 | AA61: 20.476 | AB61: 20.674 | AC61: 20.927 | AD61: 21.179 | AE61: 21.394 | AF61: 21.609 | AG61: 21.796 | AH61: 21.983 | AI61: 22.17 | AJ61: 22.356 | AK61: 22.543 | AL61: 22.454 | AM61: 22.365 | AN61: 22.276 | AO61: 22.187 | AP61: 22.098 | AQ61: 22.019 | AR61: 21.94 | AS61: 21.86 | AT61: 21.781 | AU61: 21.702 | AV61: 21.623 | AW61: 21.543 | AX61: 21.464 | AY61: 21.385 | AZ61: 21.306 | BA61: 21.019 | BB61: 20.732 | BC61: 20.445 | BD61: 20.157 | BE61: 19.87 | BF61: 19.583 | BG61: 19.296 | BH61: 19.009 | BI61: 18.722 | BJ61: 18.435 | BK61: 18.227 | BL61: 18.018 | BM61: 17.809 | BN61: 17.601 | BO61: 17.392 | BP61: 17.183 | BQ61: 16.975 | BR61: 16.766 | BS61: 16.558 | BT61: 16.349
A62: 60 | B62: 0 | C62: 2.663 | D62: 5.326 | E62: 8.064 | F62: 10.802 | G62: 12.527 | H62: 14.253 | I62: 14.614 | J62: 14.975 | K62: 15.476 | L62: 15.978 | M62: 16.77 | N62: 17.563 | O62: 17.924 | P62: 18.285 | Q62: 18.571 | R62: 18.856 | S62: 19.072 | T62: 19.288 | U62: 19.283 | V62: 19.569 | W62: 19.784 | X62: 20 | Y62: 20.21 | Z62: 20.421 | AA62: 20.632 | AB62: 20.842 | AC62: 21.123 | AD62: 21.404 | AE62: 21.62 | AF62: 21.835 | AG62: 22.034 | AH62: 22.232 | AI62: 22.431 | AJ62: 22.63 | AK62: 22.828 | AL62: 22.738 | AM62: 22.648 | AN62: 22.557 | AO62: 22.467 | AP62: 22.377 | AQ62: 22.297 | AR62: 22.216 | AS62: 22.136 | AT62: 22.056 | AU62: 21.976 | AV62: 21.895 | AW62: 21.815 | AX62: 21.735 | AY62: 21.655 | AZ62: 21.575 | BA62: 21.284 | BB62: 20.993 | BC62: 20.702 | BD62: 20.411 | BE62: 20.12 | BF62: 19.829 | BG62: 19.538 | BH62: 19.248 | BI62: 18.957 | BJ62: 18.666 | BK62: 18.454 | BL62: 18.243 | BM62: 18.031 | BN62: 17.819 | BO62: 17.608 | BP62: 17.396 | BQ62: 17.184 | BR62: 16.973 | BS62: 16.761 | BT62: 16.55
A63: 61 | B63: 0 | C63: 2.688 | D63: 5.376 | E63: 8.111 | F63: 10.846 | G63: 12.584 | H63: 14.321 | I63: 14.695 | J63: 15.069 | K63: 15.557 | L63: 16.044 | M63: 16.835 | N63: 17.627 | O63: 18.001 | P63: 18.375 | Q63: 18.661 | R63: 18.947 | S63: 19.191 | T63: 19.436 | U63: 19.442 | V63: 19.739 | W63: 19.982 | X63: 20.224 | Y63: 20.45 | Z63: 20.676 | AA63: 20.901 | AB63: 21.125 | AC63: 21.407 | AD63: 21.689 | AE63: 21.919 | AF63: 22.148 | AG63: 22.364 | AH63: 22.579 | AI63: 22.795 | AJ63: 23.01 | AK63: 23.225 | AL63: 23.134 | AM63: 23.042 | AN63: 22.95 | AO63: 22.858 | AP63: 22.766 | AQ63: 22.684 | AR63: 22.603 | AS63: 22.521 | AT63: 22.44 | AU63: 22.358 | AV63: 22.276 | AW63: 22.195 | AX63: 22.113 | AY63: 22.031 | AZ63: 21.95 | BA63: 21.655 | BB63: 21.359 | BC63: 21.064 | BD63: 20.769 | BE63: 20.474 | BF63: 20.179 | BG63: 19.884 | BH63: 19.589 | BI63: 19.294 | BJ63: 18.999 | BK63: 18.784 | BL63: 18.568 | BM63: 18.353 | BN63: 18.138 | BO63: 17.923 | BP63: 17.707 | BQ63: 17.492 | BR63: 17.277 | BS63: 17.062 | BT63: 16.846
A64: 62 | B64: 0 | C64: 2.713 | D64: 5.426 | E64: 8.158 | F64: 10.891 | G64: 12.64 | H64: 14.389 | I64: 14.776 | J64: 15.163 | K64: 15.637 | L64: 16.11 | M64: 16.901 | N64: 17.691 | O64: 18.078 | P64: 18.465 | Q64: 18.751 | R64: 19.037 | S64: 19.311 | T64: 19.585 | U64: 19.602 | V64: 19.91 | W64: 20.179 | X64: 20.449 | Y64: 20.69 | Z64: 20.931 | AA64: 21.169 | AB64: 21.408 | AC64: 21.691 | AD64: 21.974 | AE64: 22.217 | AF64: 22.461 | AG64: 22.693 | AH64: 22.926 | AI64: 23.158 | AJ64: 23.39 | AK64: 23.623 | AL64: 23.529 | AM64: 23.436 | AN64: 23.342 | AO64: 23.249 | AP64: 23.155 | AQ64: 23.072 | AR64: 22.989 | AS64: 22.906 | AT64: 22.823 | AU64: 22.74 | AV64: 22.657 | AW64: 22.574 | AX64: 22.491 | AY64: 22.408 | AZ64: 22.325 | BA64: 22.025 | BB64: 21.726 | BC64: 21.427 | BD64: 21.128 | BE64: 20.828 | BF64: 20.529 | BG64: 20.23 | BH64: 19.93 | BI64: 19.631 | BJ64: 19.332 | BK64: 19.113 | BL64: 18.894 | BM64: 18.675 | BN64: 18.456 | BO64: 18.238 | BP64: 18.019 | BQ64: 17.8 | BR64: 17.581 | BS64: 17.362 | BT64: 17.143
A65: 63 | B65: 0 | C65: 2.738 | D65: 5.476 | E65: 8.206 | F65: 10.935 | G65: 12.696 | H65: 14.457 | I65: 14.857 | J65: 15.258 | K65: 15.717 | L65: 16.176 | M65: 16.966 | N65: 17.755 | O65: 18.155 | P65: 18.556 | Q65: 18.841 | R65: 19.127 | S65: 19.43 | T65: 19.733 | U65: 19.761 | V65: 20.08 | W65: 20.377 | X65: 20.674 | Y65: 20.93 | Z65: 21.185 | AA65: 21.438 | AB65: 21.691 | AC65: 21.975 | AD65: 22.259 | AE65: 22.516 | AF65: 22.774 | AG65: 23.023 | AH65: 23.272 | AI65: 23.522 | AJ65: 23.771 | AK65: 24.02 | AL65: 23.925 | AM65: 23.83 | AN65: 23.735 | AO65: 23.64 | AP65: 23.544 | AQ65: 23.46 | AR65: 23.376 | AS65: 23.291 | AT65: 23.207 | AU65: 23.122 | AV65: 23.038 | AW65: 22.953 | AX65: 22.869 | AY65: 22.784 | AZ65: 22.7 | BA65: 22.396 | BB65: 22.093 | BC65: 21.789 | BD65: 21.486 | BE65: 21.182 | BF65: 20.879 | BG65: 20.575 | BH65: 20.272 | BI65: 19.968 | BJ65: 19.665 | BK65: 19.442 | BL65: 19.22 | BM65: 18.997 | BN65: 18.775 | BO65: 18.552 | BP65: 18.33 | BQ65: 18.108 | BR65: 17.885 | BS65: 17.663 | BT65: 17.44
A66: 64 | B66: 0 | C66: 2.763 | D66: 5.527 | E66: 8.253 | F66: 10.979 | G66: 12.752 | H66: 14.525 | I66: 14.939 | J66: 15.352 | K66: 15.797 | L66: 16.243 | M66: 17.031 | N66: 17.819 | O66: 18.233 | P66: 18.646 | Q66: 18.932 | R66: 19.217 | S66: 19.549 | T66: 19.881 | U66: 19.988 | V66: 20.251 | W66: 20.575 | X66: 20.899 | Y66: 21.169 | Z66: 21.44 | AA66: 21.707 | AB66: 21.974 | AC66: 22.259 | AD66: 22.543 | AE66: 22.815 | AF66: 23.087 | AG66: 23.353 | AH66: 23.619 | AI66: 23.885 | AJ66: 24.151 | AK66: 24.417 | AL66: 24.32 | AM66: 24.224 | AN66: 24.127 | AO66: 24.03 | AP66: 23.934 | AQ66: 23.848 | AR66: 23.762 | AS66: 23.676 | AT66: 23.59 | AU66: 23.504 | AV66: 23.418 | AW66: 23.333 | AX66: 23.247 | AY66: 23.161 | AZ66: 23.075 | BA66: 22.767 | BB66: 22.46 | BC66: 22.152 | BD66: 21.844 | BE66: 21.536 | BF66: 21.229 | BG66: 20.921 | BH66: 20.613 | BI66: 20.306 | BJ66: 19.998 | BK66: 19.772 | BL66: 19.546 | BM66: 19.32 | BN66: 19.094 | BO66: 18.867 | BP66: 18.641 | BQ66: 18.415 | BR66: 18.189 | BS66: 17.963 | BT66: 17.737
A67: 65 | B67: 0 | C67: 2.788 | D67: 5.577 | E67: 8.3 | F67: 11.023 | G67: 12.808 | H67: 14.594 | I67: 15.02 | J67: 15.446 | K67: 15.877 | L67: 16.309 | M67: 17.096 | N67: 17.883 | O67: 18.31 | P67: 18.736 | Q67: 19.022 | R67: 19.308 | S67: 19.669 | T67: 20.03 | U67: 20.215 | V67: 20.471 | W67: 20.772 | X67: 21.123 | Y67: 21.409 | Z67: 21.695 | AA67: 21.976 | AB67: 22.257 | AC67: 22.542 | AD67: 22.828 | AE67: 23.114 | AF67: 23.4 | AG67: 23.683 | AH67: 23.966 | AI67: 24.249 | AJ67: 24.531 | AK67: 24.814 | AL67: 24.716 | AM67: 24.618 | AN67: 24.519 | AO67: 24.421 | AP67: 24.323 | AQ67: 24.235 | AR67: 24.148 | AS67: 24.061 | AT67: 23.974 | AU67: 23.886 | AV67: 23.799 | AW67: 23.712 | AX67: 23.625 | AY67: 23.537 | AZ67: 23.45 | BA67: 23.138 | BB67: 22.826 | BC67: 22.514 | BD67: 22.202 | BE67: 21.89 | BF67: 21.579 | BG67: 21.267 | BH67: 20.955 | BI67: 20.643 | BJ67: 20.331 | BK67: 20.101 | BL67: 19.871 | BM67: 19.642 | BN67: 19.412 | BO67: 19.182 | BP67: 18.953 | BQ67: 18.723 | BR67: 18.493 | BS67: 18.264 | BT67: 18.034
A68: 66 | B68: 0 | C68: 2.807 | D68: 5.615 | E68: 8.34 | F68: 11.067 | G68: 12.832 | H68: 14.598 | I68: 15.022 | J68: 15.446 | K68: 15.891 | L68: 16.335 | M68: 17.147 | N68: 17.96 | O68: 18.356 | P68: 18.752 | Q68: 19.067 | R68: 19.382 | S68: 19.741 | T68: 20.1 | U68: 20.388 | V68: 20.676 | W68: 20.969 | X68: 21.322 | Y68: 21.637 | Z68: 21.952 | AA68: 22.232 | AB68: 22.513 | AC68: 22.826 | AD68: 23.139 | AE68: 23.425 | AF68: 23.711 | AG68: 24.017 | AH68: 24.322 | AI68: 24.628 | AJ68: 24.934 | AK68: 25.239 | AL68: 25.14 | AM68: 25.04 | AN68: 24.94 | AO68: 24.84 | AP68: 24.74 | AQ68: 24.651 | AR68: 24.562 | AS68: 24.473 | AT68: 24.385 | AU68: 24.296 | AV68: 24.207 | AW68: 24.118 | AX68: 24.029 | AY68: 23.94 | AZ68: 23.851 | BA68: 23.535 | BB68: 23.219 | BC68: 22.902 | BD68: 22.586 | BE68: 22.27 | BF68: 21.953 | BG68: 21.637 | BH68: 21.321 | BI68: 21.004 | BJ68: 20.688 | BK68: 20.452 | BL68: 20.217 | BM68: 19.981 | BN68: 19.746 | BO68: 19.51 | BP68: 19.275 | BQ68: 19.039 | BR68: 18.804 | BS68: 18.568 | BT68: 18.333
A69: 67 | B69: 0 | C69: 2.836 | D69: 5.673 | E69: 8.409 | F69: 11.145 | G69: 12.898 | H69: 14.65 | I69: 15.076 | J69: 15.502 | K69: 15.959 | L69: 16.415 | M69: 17.257 | N69: 18.098 | O69: 18.468 | P69: 18.838 | Q69: 19.182 | R69: 19.526 | S69: 19.883 | T69: 20.241 | U69: 20.56 | V69: 20.88 | W69: 21.165 | X69: 21.52 | Y69: 21.864 | Z69: 22.208 | AA69: 22.489 | AB69: 22.77 | AC69: 23.11 | AD69: 23.45 | AE69: 23.736 | AF69: 24.022 | AG69: 24.35 | AH69: 24.679 | AI69: 25.008 | AJ69: 25.336 | AK69: 25.665 | AL69: 25.563 | AM69: 25.462 | AN69: 25.36 | AO69: 25.259 | AP69: 25.157 | AQ69: 25.067 | AR69: 24.976 | AS69: 24.886 | AT69: 24.795 | AU69: 24.705 | AV69: 24.614 | AW69: 24.524 | AX69: 24.433 | AY69: 24.343 | AZ69: 24.253 | BA69: 23.932 | BB69: 23.611 | BC69: 23.29 | BD69: 22.97 | BE69: 22.649 | BF69: 22.328 | BG69: 22.007 | BH69: 21.686 | BI69: 21.366 | BJ69: 21.045 | BK69: 20.804 | BL69: 20.562 | BM69: 20.321 | BN69: 20.08 | BO69: 19.838 | BP69: 19.597 | BQ69: 19.356 | BR69: 19.114 | BS69: 18.873 | BT69: 18.632
A70: 68 | B70: 0 | C70: 2.866 | D70: 5.731 | E70: 8.481 | F70: 11.232 | G70: 12.97 | H70: 14.708 | I70: 15.134 | J70: 15.561 | K70: 16.032 | L70: 16.503 | M70: 17.372 | N70: 18.241 | O70: 18.583 | P70: 18.925 | Q70: 19.298 | R70: 19.671 | S70: 20.026 | T70: 20.381 | U70: 20.733 | V70: 21.085 | W70: 21.362 | X70: 21.719 | Y70: 22.092 | Z70: 22.465 | AA70: 22.746 | AB70: 23.027 | AC70: 23.394 | AD70: 23.761 | AE70: 24.047 | AF70: 24.333 | AG70: 24.684 | AH70: 25.036 | AI70: 25.387 | AJ70: 25.739 | AK70: 26.09 | AL70: 25.987 | AM70: 25.884 | AN70: 25.781 | AO70: 25.678 | AP70: 25.574 | AQ70: 25.482 | AR70: 25.39 | AS70: 25.298 | AT70: 25.206 | AU70: 25.114 | AV70: 25.022 | AW70: 24.93 | AX70: 24.838 | AY70: 24.746 | AZ70: 24.654 | BA70: 24.329 | BB70: 24.003 | BC70: 23.678 | BD70: 23.353 | BE70: 23.028 | BF70: 22.703 | BG70: 22.378 | BH70: 22.052 | BI70: 21.727 | BJ70: 21.402 | BK70: 21.155 | BL70: 20.908 | BM70: 20.661 | BN70: 20.413 | BO70: 20.166 | BP70: 19.919 | BQ70: 19.672 | BR70: 19.425 | BS70: 19.178 | BT70: 18.931
A71: 69 | B71: 0 | C71: 2.895 | D71: 5.789 | E71: 8.554 | F71: 11.318 | G71: 13.042 | H71: 14.766 | I71: 15.192 | J71: 15.619 | K71: 16.105 | L71: 16.592 | M71: 17.487 | N71: 18.383 | O71: 18.697 | P71: 19.011 | Q71: 19.413 | R71: 19.815 | S71: 20.168 | T71: 20.521 | U71: 20.906 | V71: 21.29 | W71: 21.558 | X71: 21.918 | Y71: 22.32 | Z71: 22.722 | AA71: 23.003 | AB71: 23.284 | AC71: 23.678 | AD71: 24.072 | AE71: 24.358 | AF71: 24.644 | AG71: 25.018 | AH71: 25.392 | AI71: 25.767 | AJ71: 26.141 | AK71: 26.515 | AL71: 26.411 | AM71: 26.306 | AN71: 26.201 | AO71: 26.096 | AP71: 25.992 | AQ71: 25.898 | AR71: 25.804 | AS71: 25.711 | AT71: 25.617 | AU71: 25.523 | AV71: 25.43 | AW71: 25.336 | AX71: 25.242 | AY71: 25.149 | AZ71: 25.055 | BA71: 24.725 | BB71: 24.396 | BC71: 24.066 | BD71: 23.737 | BE71: 23.407 | BF71: 23.077 | BG71: 22.748 | BH71: 22.418 | BI71: 22.089 | BJ71: 21.759 | BK71: 21.506 | BL71: 21.253 | BM71: 21 | BN71: 20.747 | BO71: 20.494 | BP71: 20.241 | BQ71: 19.988 | BR71: 19.735 | BS71: 19.482 | BT71: 19.23
A72: 70 | B72: 0 | C72: 2.924 | D72: 5.847 | E72: 8.626 | F72: 11.404 | G72: 13.114 | H72: 14.824 | I72: 15.251 | J72: 15.677 | K72: 16.178 | L72: 16.68 | M72: 17.603 | N72: 18.525 | O72: 18.811 | P72: 19.097 | Q72: 19.528 | R72: 19.96 | S72: 20.311 | T72: 20.662 | U72: 21.078 | V72: 21.494 | W72: 21.78 | X72: 22.116 | Y72: 22.547 | Z72: 22.979 | AA72: 23.26 | AB72: 23.54 | AC72: 23.962 | AD72: 24.383 | AE72: 24.669 | AF72: 24.955 | AG72: 25.352 | AH72: 25.749 | AI72: 26.146 | AJ72: 26.543 | AK72: 26.941 | AL72: 26.834 | AM72: 26.728 | AN72: 26.622 | AO72: 26.515 | AP72: 26.409 | AQ72: 26.314 | AR72: 26.218 | AS72: 26.123 | AT72: 26.028 | AU72: 25.933 | AV72: 25.837 | AW72: 25.742 | AX72: 25.647 | AY72: 25.551 | AZ72: 25.456 | BA72: 25.122 | BB72: 24.788 | BC72: 24.454 | BD72: 24.12 | BE72: 23.786 | BF72: 23.452 | BG72: 23.118 | BH72: 22.784 | BI72: 22.45 | BJ72: 22.116 | BK72: 21.857 | BL72: 21.599 | BM72: 21.34 | BN72: 21.081 | BO72: 20.822 | BP72: 20.564 | BQ72: 20.305 | BR72: 20.046 | BS72: 19.787 | BT72: 19.528
A73: 71 | B73: 0 | C73: 2.938 | D73: 5.876 | E73: 8.654 | F73: 11.432 | G73: 13.156 | H73: 14.881 | I73: 15.335 | J73: 15.789 | K73: 16.277 | L73: 16.764 | M73: 17.673 | N73: 18.596 | O73: 18.941 | P73: 19.286 | Q73: 19.719 | R73: 20.152 | S73: 20.534 | T73: 20.916 | U73: 21.334 | V73: 21.751 | W73: 22.066 | X73: 22.406 | Y73: 22.823 | Z73: 23.24 | AA73: 23.551 | AB73: 23.862 | AC73: 24.272 | AD73: 24.682 | AE73: 24.997 | AF73: 25.312 | AG73: 25.717 | AH73: 26.121 | AI73: 26.526 | AJ73: 26.93 | AK73: 27.334 | AL73: 27.205 | AM73: 27.075 | AN73: 26.946 | AO73: 26.817 | AP73: 26.688 | AQ73: 26.592 | AR73: 26.495 | AS73: 26.399 | AT73: 26.303 | AU73: 26.206 | AV73: 26.11 | AW73: 26.014 | AX73: 25.918 | AY73: 25.821 | AZ73: 25.725 | BA73: 25.387 | BB73: 25.049 | BC73: 24.712 | BD73: 24.374 | BE73: 24.036 | BF73: 23.698 | BG73: 23.36 | BH73: 23.022 | BI73: 22.685 | BJ73: 22.347 | BK73: 22.085 | BL73: 21.823 | BM73: 21.561 | BN73: 21.299 | BO73: 21.037 | BP73: 20.775 | BQ73: 20.513 | BR73: 20.251 | BS73: 19.989 | BT73: 19.727
A74: 72 | B74: 0 | C74: 2.952 | D74: 5.904 | E74: 8.682 | F74: 11.46 | G74: 13.198 | H74: 14.937 | I74: 15.419 | J74: 15.902 | K74: 16.375 | L74: 16.848 | M74: 17.743 | N74: 18.668 | O74: 19.071 | P74: 19.475 | Q74: 19.91 | R74: 20.346 | S74: 20.758 | T74: 21.171 | U74: 21.59 | V74: 22.01 | W74: 22.353 | X74: 22.697 | Y74: 23.1 | Z74: 23.502 | AA74: 23.844 | AB74: 24.186 | AC74: 24.584 | AD74: 24.982 | AE74: 25.327 | AF74: 25.672 | AG74: 26.084 | AH74: 26.495 | AI74: 26.907 | AJ74: 27.319 | AK74: 27.73 | AL74: 27.577 | AM74: 27.424 | AN74: 27.271 | AO74: 27.119 | AP74: 26.967 | AQ74: 26.869 | AR74: 26.772 | AS74: 26.675 | AT74: 26.577 | AU74: 26.48 | AV74: 26.383 | AW74: 26.286 | AX74: 26.188 | AY74: 26.091 | AZ74: 25.994 | BA74: 25.652 | BB74: 25.311 | BC74: 24.969 | BD74: 24.627 | BE74: 24.286 | BF74: 23.944 | BG74: 23.602 | BH74: 23.261 | BI74: 22.919 | BJ74: 22.578 | BK74: 22.312 | BL74: 22.047 | BM74: 21.782 | BN74: 21.517 | BO74: 21.252 | BP74: 20.986 | BQ74: 20.721 | BR74: 20.456 | BS74: 20.191 | BT74: 19.926
A75: 73 | B75: 0 | C75: 2.966 | D75: 5.932 | E75: 8.71 | F75: 11.488 | G75: 13.241 | H75: 14.993 | I75: 15.503 | J75: 16.014 | K75: 16.473 | L75: 16.933 | M75: 17.813 | N75: 18.739 | O75: 19.201 | P75: 19.665 | Q75: 20.102 | R75: 20.54 | S75: 20.984 | T75: 21.427 | U75: 21.849 | V75: 22.27 | W75: 22.641 | X75: 23.013 | Y75: 23.378 | Z75: 23.766 | AA75: 24.139 | AB75: 24.511 | AC75: 24.898 | AD75: 25.285 | AE75: 25.659 | AF75: 26.034 | AG75: 26.453 | AH75: 26.872 | AI75: 27.291 | AJ75: 27.71 | AK75: 28.129 | AL75: 27.951 | AM75: 27.774 | AN75: 27.597 | AO75: 27.421 | AP75: 27.245 | AQ75: 27.147 | AR75: 27.049 | AS75: 26.951 | AT75: 26.852 | AU75: 26.754 | AV75: 26.656 | AW75: 26.557 | AX75: 26.459 | AY75: 26.361 | AZ75: 26.263 | BA75: 25.917 | BB75: 25.572 | BC75: 25.226 | BD75: 24.881 | BE75: 24.535 | BF75: 24.19 | BG75: 23.845 | BH75: 23.499 | BI75: 23.154 | BJ75: 22.808 | BK75: 22.54 | BL75: 22.271 | BM75: 22.003 | BN75: 21.735 | BO75: 21.466 | BP75: 21.198 | BQ75: 20.929 | BR75: 20.661 | BS75: 20.393 | BT75: 20.124
A76: 74 | B76: 0 | C76: 2.98 | D76: 5.96 | E76: 8.738 | F76: 11.516 | G76: 13.283 | H76: 15.049 | I76: 15.588 | J76: 16.126 | K76: 16.572 | L76: 17.017 | M76: 17.883 | N76: 18.81 | O76: 19.331 | P76: 19.856 | Q76: 20.294 | R76: 20.736 | S76: 21.21 | T76: 21.685 | U76: 22.108 | V76: 22.531 | W76: 22.932 | X76: 23.332 | Y76: 23.658 | Z76: 24.031 | AA76: 24.435 | AB76: 24.838 | AC76: 25.213 | AD76: 25.588 | AE76: 25.993 | AF76: 26.397 | AG76: 26.824 | AH76: 27.25 | AI76: 27.677 | AJ76: 28.103 | AK76: 28.529 | AL76: 28.327 | AM76: 28.125 | AN76: 27.924 | AO76: 27.724 | AP76: 27.524 | AQ76: 27.425 | AR76: 27.326 | AS76: 27.226 | AT76: 27.127 | AU76: 27.028 | AV76: 26.929 | AW76: 26.829 | AX76: 26.73 | AY76: 26.631 | AZ76: 26.531 | BA76: 26.182 | BB76: 25.833 | BC76: 25.484 | BD76: 25.134 | BE76: 24.785 | BF76: 24.436 | BG76: 24.087 | BH76: 23.737 | BI76: 23.388 | BJ76: 23.039 | BK76: 22.767 | BL76: 22.496 | BM76: 22.224 | BN76: 21.952 | BO76: 21.681 | BP76: 21.409 | BQ76: 21.138 | BR76: 20.866 | BS76: 20.594 | BT76: 20.323
A77: 75 | B77: 0 | C77: 2.994 | D77: 5.988 | E77: 8.766 | F77: 11.545 | G77: 13.325 | H77: 15.105 | I77: 15.672 | J77: 16.239 | K77: 16.67 | L77: 17.101 | M77: 17.954 | N77: 18.881 | O77: 19.462 | P77: 20.047 | Q77: 20.488 | R77: 20.932 | S77: 21.438 | T77: 21.945 | U77: 22.369 | V77: 22.794 | W77: 23.223 | X77: 23.653 | Y77: 23.94 | Z77: 24.298 | AA77: 24.732 | AB77: 25.167 | AC77: 25.53 | AD77: 25.894 | AE77: 26.328 | AF77: 26.763 | AG77: 27.197 | AH77: 27.631 | AI77: 28.065 | AJ77: 28.498 | AK77: 28.932 | AL77: 28.705 | AM77: 28.478 | AN77: 28.252 | AO77: 28.027 | AP77: 27.803 | AQ77: 27.703 | AR77: 27.603 | AS77: 27.502 | AT77: 27.402 | AU77: 27.302 | AV77: 27.201 | AW77: 27.101 | AX77: 27.001 | AY77: 26.9 | AZ77: 26.8 | BA77: 26.447 | BB77: 26.094 | BC77: 25.741 | BD77: 25.388 | BE77: 25.035 | BF77: 24.682 | BG77: 24.329 | BH77: 23.976 | BI77: 23.623 | BJ77: 23.27 | BK77: 22.995 | BL77: 22.72 | BM77: 22.445 | BN77: 22.17 | BO77: 21.895 | BP77: 21.621 | BQ77: 21.346 | BR77: 21.071 | BS77: 20.796 | BT77: 20.521
A78: 76 | B78: 0 | C78: 3.008 | D78: 6.016 | E78: 8.808 | F78: 11.601 | G78: 13.367 | H78: 15.133 | I78: 15.772 | J78: 16.411 | K78: 16.785 | L78: 17.159 | M78: 18.012 | N78: 18.955 | O78: 19.566 | P78: 20.182 | Q78: 20.669 | R78: 21.16 | S78: 21.668 | T78: 22.177 | U78: 22.618 | V78: 23.06 | W78: 23.49 | X78: 23.921 | Y78: 24.213 | Z78: 24.596 | AA78: 25.033 | AB78: 25.469 | AC78: 25.848 | AD78: 26.227 | AE78: 26.677 | AF78: 27.127 | AG78: 27.569 | AH78: 28.01 | AI78: 28.452 | AJ78: 28.894 | AK78: 29.335 | AL78: 29.082 | AM78: 28.83 | AN78: 28.579 | AO78: 28.329 | AP78: 28.08 | AQ78: 27.979 | AR78: 27.877 | AS78: 27.776 | AT78: 27.675 | AU78: 27.573 | AV78: 27.472 | AW78: 27.371 | AX78: 27.27 | AY78: 27.168 | AZ78: 27.067 | BA78: 26.71 | BB78: 26.353 | BC78: 25.996 | BD78: 25.639 | BE78: 25.283 | BF78: 24.926 | BG78: 24.569 | BH78: 24.212 | BI78: 23.855 | BJ78: 23.498 | BK78: 23.223 | BL78: 22.948 | BM78: 22.673 | BN78: 22.397 | BO78: 22.122 | BP78: 21.847 | BQ78: 21.572 | BR78: 21.296 | BS78: 21.021 | BT78: 20.746
A79: 77 | B79: 0 | C79: 3.022 | D79: 6.044 | E79: 8.85 | F79: 11.657 | G79: 13.409 | H79: 15.161 | I79: 15.872 | J79: 16.584 | K79: 16.901 | L79: 17.217 | M79: 18.07 | N79: 19.029 | O79: 19.67 | P79: 20.317 | Q79: 20.851 | R79: 21.389 | S79: 21.899 | T79: 22.41 | U79: 22.868 | V79: 23.327 | W79: 23.758 | X79: 24.189 | Y79: 24.488 | Z79: 24.897 | AA79: 25.335 | AB79: 25.773 | AC79: 26.168 | AD79: 26.563 | AE79: 27.028 | AF79: 27.493 | AG79: 27.942 | AH79: 28.392 | AI79: 28.841 | AJ79: 29.291 | AK79: 29.741 | AL79: 29.461 | AM79: 29.183 | AN79: 28.906 | AO79: 28.631 | AP79: 28.357 | AQ79: 28.255 | AR79: 28.152 | AS79: 28.05 | AT79: 27.948 | AU79: 27.845 | AV79: 27.743 | AW79: 27.641 | AX79: 27.538 | AY79: 27.436 | AZ79: 27.334 | BA79: 26.973 | BB79: 26.612 | BC79: 26.252 | BD79: 25.891 | BE79: 25.53 | BF79: 25.17 | BG79: 24.809 | BH79: 24.448 | BI79: 24.088 | BJ79: 23.727 | BK79: 23.451 | BL79: 23.176 | BM79: 22.9 | BN79: 22.624 | BO79: 22.349 | BP79: 22.073 | BQ79: 21.798 | BR79: 21.522 | BS79: 21.246 | BT79: 20.971
A80: 78 | B80: 0 | C80: 3.036 | D80: 6.072 | E80: 8.893 | F80: 11.713 | G80: 13.451 | H80: 15.189 | I80: 15.973 | J80: 16.756 | K80: 17.016 | L80: 17.276 | M80: 18.128 | N80: 19.102 | O80: 19.774 | P80: 20.453 | Q80: 21.033 | R80: 21.619 | S80: 22.131 | T80: 22.644 | U80: 23.12 | V80: 23.596 | W80: 24.028 | X80: 24.459 | Y80: 24.793 | Z80: 25.198 | AA80: 25.638 | AB80: 26.078 | AC80: 26.489 | AD80: 26.9 | AE80: 27.38 | AF80: 27.861 | AG80: 28.318 | AH80: 28.776 | AI80: 29.233 | AJ80: 29.691 | AK80: 30.148 | AL80: 29.842 | AM80: 29.538 | AN80: 29.235 | AO80: 28.934 | AP80: 28.634 | AQ80: 28.53 | AR80: 28.427 | AS80: 28.324 | AT80: 28.22 | AU80: 28.117 | AV80: 28.014 | AW80: 27.91 | AX80: 27.807 | AY80: 27.704 | AZ80: 27.601 | BA80: 27.236 | BB80: 26.872 | BC80: 26.507 | BD80: 26.143 | BE80: 25.778 | BF80: 25.414 | BG80: 25.049 | BH80: 24.685 | BI80: 24.32 | BJ80: 23.956 | BK80: 23.68 | BL80: 23.404 | BM80: 23.128 | BN80: 22.852 | BO80: 22.576 | BP80: 22.299 | BQ80: 22.023 | BR80: 21.747 | BS80: 21.471 | BT80: 21.195
A81: 79 | B81: 0 | C81: 3.05 | D81: 6.1 | E81: 8.935 | F81: 11.769 | G81: 13.493 | H81: 15.218 | I81: 16.073 | J81: 16.929 | K81: 17.131 | L81: 17.334 | M81: 18.186 | N81: 19.176 | O81: 19.879 | P81: 20.59 | Q81: 21.217 | R81: 21.85 | S81: 22.365 | T81: 22.879 | U81: 23.373 | V81: 23.866 | W81: 24.299 | X81: 24.731 | Y81: 25.111 | Z81: 25.502 | AA81: 25.943 | AB81: 26.385 | AC81: 26.812 | AD81: 27.239 | AE81: 27.735 | AF81: 28.23 | AG81: 28.696 | AH81: 29.162 | AI81: 29.627 | AJ81: 30.093 | AK81: 30.558 | AL81: 30.225 | AM81: 29.894 | AN81: 29.564 | AO81: 29.237 | AP81: 28.91 | AQ81: 28.806 | AR81: 28.702 | AS81: 28.598 | AT81: 28.493 | AU81: 28.389 | AV81: 28.285 | AW81: 28.18 | AX81: 28.076 | AY81: 27.972 | AZ81: 27.867 | BA81: 27.499 | BB81: 27.131 | BC81: 26.762 | BD81: 26.394 | BE81: 26.026 | BF81: 25.658 | BG81: 25.289 | BH81: 24.921 | BI81: 24.553 | BJ81: 24.184 | BK81: 23.908 | BL81: 23.631 | BM81: 23.355 | BN81: 23.079 | BO81: 22.802 | BP81: 22.526 | BQ81: 22.249 | BR81: 21.973 | BS81: 21.696 | BT81: 21.42
A82: 80 | B82: 0 | C82: 3.064 | D82: 6.128 | E82: 8.977 | F82: 11.825 | G82: 13.535 | H82: 15.246 | I82: 16.173 | J82: 17.101 | K82: 17.247 | L82: 17.392 | M82: 18.245 | N82: 19.25 | O82: 19.984 | P82: 20.726 | Q82: 21.401 | R82: 22.083 | S82: 22.599 | T82: 23.116 | U82: 23.627 | V82: 24.138 | W82: 24.571 | X82: 25.004 | Y82: 25.431 | Z82: 25.859 | AA82: 26.25 | AB82: 26.693 | AC82: 27.137 | AD82: 27.58 | AE82: 28.091 | AF82: 28.602 | AG82: 29.076 | AH82: 29.55 | AI82: 30.023 | AJ82: 30.497 | AK82: 30.97 | AL82: 30.61 | AM82: 30.251 | AN82: 29.895 | AO82: 29.54 | AP82: 29.187 | AQ82: 29.082 | AR82: 28.977 | AS82: 28.871 | AT82: 28.766 | AU82: 28.661 | AV82: 28.555 | AW82: 28.45 | AX82: 28.345 | AY82: 28.239 | AZ82: 28.134 | BA82: 27.762 | BB82: 27.39 | BC82: 27.018 | BD82: 26.646 | BE82: 26.274 | BF82: 25.901 | BG82: 25.529 | BH82: 25.157 | BI82: 24.785 | BJ82: 24.413 | BK82: 24.136 | BL82: 23.859 | BM82: 23.583 | BN82: 23.306 | BO82: 23.029 | BP82: 22.752 | BQ82: 22.475 | BR82: 22.198 | BS82: 21.922 | BT82: 21.645
A83: 81 | B83: 0 | C83: 3.064 | D83: 6.128 | E83: 8.977 | F83: 11.825 | G83: 13.55 | H83: 15.274 | I83: 16.217 | J83: 17.159 | K83: 17.346 | L83: 17.532 | M83: 18.343 | N83: 19.307 | O83: 20.055 | P83: 20.813 | Q83: 21.503 | R83: 22.202 | S83: 22.748 | T83: 23.295 | U83: 23.834 | V83: 24.374 | W83: 24.821 | X83: 25.269 | Y83: 25.728 | Z83: 26.186 | AA83: 26.589 | AB83: 27.046 | AC83: 27.475 | AD83: 27.903 | AE83: 28.401 | AF83: 28.899 | AG83: 29.36 | AH83: 29.821 | AI83: 30.282 | AJ83: 30.743 | AK83: 31.204 | AL83: 30.841 | AM83: 30.481 | AN83: 30.122 | AO83: 29.765 | AP83: 29.41 | AQ83: 29.304 | AR83: 29.198 | AS83: 29.092 | AT83: 28.985 | AU83: 28.879 | AV83: 28.773 | AW83: 28.667 | AX83: 28.561 | AY83: 28.455 | AZ83: 28.349 | BA83: 27.973 | BB83: 27.598 | BC83: 27.222 | BD83: 26.847 | BE83: 26.471 | BF83: 26.096 | BG83: 25.72 | BH83: 25.345 | BI83: 24.969 | BJ83: 24.594 | BK83: 24.314 | BL83: 24.034 | BM83: 23.754 | BN83: 23.474 | BO83: 23.194 | BP83: 22.915 | BQ83: 22.635 | BR83: 22.355 | BS83: 22.075 | BT83: 21.795
... A103: 101 | B103: 0 | C103: 2.895 | D103: 5.789 | E103: 8.554 | F103: 11.318 | G103: 13.057 | H103: 14.796 | I103: 15.964 | J103: 17.131 | K103: 18.099 | L103: 19.067 | M103: 19.738 | N103: 20.572 | O103: 21.53 | P103: 22.501 | Q103: 23.649 | R103: 24.812 | S103: 25.704 | T103: 26.595 | U103: 27.482 | V103: 28.369 | W103: 28.923 | X103: 29.476 | Y103: 30.036 | Z103: 30.595 | AA103: 30.891 | AB103: 31.187 | AC103: 31.425 | AD103: 31.663 | AE103: 31.883 | AF103: 32.113 | AG103: 32.545 | AH103: 32.977 | AI103: 33.409 | AJ103: 33.841 | AK103: 34.273 | AL103: 33.679 | AM103: 33.091 | AN103: 32.507 | AO103: 31.929 | AP103: 31.356 | AQ103: 31.243 | AR103: 31.131 | AS103: 31.019 | AT103: 30.906 | AU103: 30.794 | AV103: 30.682 | AW103: 30.569 | AX103: 30.457 | AY103: 30.345 | AZ103: 30.232 | BA103: 29.836 | BB103: 29.439 | BC103: 29.043 | BD103: 28.646 | BE103: 28.249 | BF103: 27.853 | BG103: 27.456 | BH103: 27.06 | BI103: 26.663 | BJ103: 26.267 | BK103: 25.958 | BL103: 25.65 | BM103: 25.342 | BN103: 25.033 | BO103: 24.725 | BP103: 24.417 | BQ103: 24.108 | BR103: 23.8 | BS103: 23.492 | BT103: 23.183
A104: 102 | B104: 0 | C104: 2.866 | D104: 5.731 | E104: 8.481 | F104: 11.232 | G104: 13 | H104: 14.768 | I104: 15.965 | J104: 17.161 | K104: 18.099 | L104: 19.037 | M104: 19.737 | N104: 20.601 | O104: 21.559 | P104: 22.53 | Q104: 23.692 | R104: 24.87 | S104: 25.762 | T104: 26.654 | U104: 27.556 | V104: 28.458 | W104: 28.982 | X104: 29.506 | Y104: 30.05 | Z104: 30.595 | AA104: 30.906 | AB104: 31.216 | AC104: 31.483 | AD104: 31.75 | AE104: 31.987 | AF104: 32.234 | AG104: 32.654 | AH104: 33.073 | AI104: 33.492 | AJ104: 33.912 | AK104: 34.331 | AL104: 33.771 | AM104: 33.216 | AN104: 32.666 | AO104: 32.12 | AP104: 31.578 | AQ104: 31.465 | AR104: 31.352 | AS104: 31.238 | AT104: 31.125 | AU104: 31.012 | AV104: 30.898 | AW104: 30.785 | AX104: 30.672 | AY104: 30.558 | AZ104: 30.445 | BA104: 30.045 | BB104: 29.645 | BC104: 29.245 | BD104: 28.845 | BE104: 28.445 | BF104: 28.045 | BG104: 27.645 | BH104: 27.245 | BI104: 26.845 | BJ104: 26.445 | BK104: 26.136 | BL104: 25.828 | BM104: 25.519 | BN104: 25.21 | BO104: 24.901 | BP104: 24.593 | BQ104: 24.284 | BR104: 23.975 | BS104: 23.667 | BT104: 23.358
A105: 103 | B105: 0 | C105: 2.836 | D105: 5.673 | E105: 8.409 | F105: 11.145 | G105: 12.943 | H105: 14.74 | I105: 15.966 | J105: 17.191 | K105: 18.099 | L105: 19.007 | M105: 19.736 | N105: 20.629 | O105: 21.588 | P105: 22.559 | Q105: 23.736 | R105: 24.928 | S105: 25.82 | T105: 26.712 | U105: 27.63 | V105: 28.548 | W105: 29.042 | X105: 29.535 | Y105: 30.065 | Z105: 30.595 | AA105: 30.92 | AB105: 31.246 | AC105: 31.542 | AD105: 31.838 | AE105: 32.092 | AF105: 32.355 | AG105: 32.762 | AH105: 33.169 | AI105: 33.576 | AJ105: 33.983 | AK105: 34.39 | AL105: 33.864 | AM105: 33.342 | AN105: 32.824 | AO105: 32.311 | AP105: 31.801 | AQ105: 31.687 | AR105: 31.572 | AS105: 31.458 | AT105: 31.344 | AU105: 31.229 | AV105: 31.115 | AW105: 31.001 | AX105: 30.886 | AY105: 30.772 | AZ105: 30.658 | BA105: 30.254 | BB105: 29.851 | BC105: 29.447 | BD105: 29.044 | BE105: 28.641 | BF105: 28.237 | BG105: 27.834 | BH105: 27.43 | BI105: 27.027 | BJ105: 26.624 | BK105: 26.315 | BL105: 26.005 | BM105: 25.696 | BN105: 25.387 | BO105: 25.078 | BP105: 24.769 | BQ105: 24.46 | BR105: 24.151 | BS105: 23.842 | BT105: 23.532
A106: 104 | B106: 0 | C106: 2.807 | D106: 5.615 | E106: 8.337 | F106: 11.059 | G106: 12.886 | H106: 14.712 | I106: 15.967 | J106: 17.222 | K106: 18.099 | L106: 18.977 | M106: 19.735 | N106: 20.657 | O106: 21.616 | P106: 22.587 | Q106: 23.779 | R106: 24.987 | S106: 25.879 | T106: 26.771 | U106: 27.704 | V106: 28.638 | W106: 29.101 | X106: 29.564 | Y106: 30.079 | Z106: 30.595 | AA106: 30.935 | AB106: 31.275 | AC106: 31.6 | AD106: 31.926 | AE106: 32.196 | AF106: 32.476 | AG106: 32.871 | AH106: 33.265 | AI106: 33.659 | AJ106: 34.054 | AK106: 34.448 | AL106: 33.956 | AM106: 33.468 | AN106: 32.983 | AO106: 32.502 | AP106: 32.024 | AQ106: 31.908 | AR106: 31.793 | AS106: 31.678 | AT106: 31.562 | AU106: 31.447 | AV106: 31.332 | AW106: 31.216 | AX106: 31.101 | AY106: 30.986 | AZ106: 30.87 | BA106: 30.464 | BB106: 30.057 | BC106: 29.65 | BD106: 29.243 | BE106: 28.836 | BF106: 28.429 | BG106: 28.023 | BH106: 27.616 | BI106: 27.209 | BJ106: 26.802 | BK106: 26.493 | BL106: 26.183 | BM106: 25.874 | BN106: 25.564 | BO106: 25.255 | BP106: 24.945 | BQ106: 24.635 | BR106: 24.326 | BS106: 24.016 | BT106: 23.707
A107: 105 | B107: 0 | C107: 2.778 | D107: 5.557 | E107: 8.265 | F107: 10.973 | G107: 12.828 | H107: 14.684 | I107: 15.968 | J107: 17.252 | K107: 18.099 | L107: 18.947 | M107: 19.734 | N107: 20.686 | O107: 21.645 | P107: 22.616 | Q107: 23.823 | R107: 25.045 | S107: 25.937 | T107: 26.829 | U107: 27.778 | V107: 28.728 | W107: 29.16 | X107: 29.593 | Y107: 30.094 | Z107: 30.595 | AA107: 30.949 | AB107: 31.304 | AC107: 31.659 | AD107: 32.013 | AE107: 32.3 | AF107: 32.597 | AG107: 32.979 | AH107: 33.361 | AI107: 33.743 | AJ107: 34.125 | AK107: 34.506 | AL107: 34.048 | AM107: 33.593 | AN107: 33.141 | AO107: 32.692 | AP107: 32.246 | AQ107: 32.13 | AR107: 32.014 | AS107: 31.897 | AT107: 31.781 | AU107: 31.665 | AV107: 31.548 | AW107: 31.432 | AX107: 31.316 | AY107: 31.199 | AZ107: 31.083 | BA107: 30.673 | BB107: 30.263 | BC107: 29.852 | BD107: 29.442 | BE107: 29.032 | BF107: 28.622 | BG107: 28.211 | BH107: 27.801 | BI107: 27.391 | BJ107: 26.981 | BK107: 26.671 | BL107: 26.361 | BM107: 26.051 | BN107: 25.741 | BO107: 25.431 | BP107: 25.121 | BQ107: 24.811 | BR107: 24.501 | BS107: 24.191 | BT107: 23.881
A108: 106 | B108: 0 | C108: 2.75 | D108: 5.5 | E108: 8.209 | F108: 10.917 | G108: 12.8 | H108: 14.684 | I108: 15.982 | J108: 17.28 | K108: 18.085 | L108: 18.891 | M108: 19.706 | N108: 20.686 | O108: 21.659 | P108: 22.645 | Q108: 23.882 | R108: 25.135 | S108: 26.041 | T108: 26.948 | U108: 27.882 | V108: 28.815 | W108: 29.219 | X108: 29.623 | Y108: 30.109 | Z108: 30.595 | AA108: 30.949 | AB108: 31.304 | AC108: 31.688 | AD108: 32.072 | AE108: 32.402 | AF108: 32.744 | AG108: 33.138 | AH108: 33.532 | AI108: 33.926 | AJ108: 34.321 | AK108: 34.715 | AL108: 34.266 | AM108: 33.819 | AN108: 33.376 | AO108: 32.935 | AP108: 32.497 | AQ108: 32.38 | AR108: 32.263 | AS108: 32.146 | AT108: 32.029 | AU108: 31.911 | AV108: 31.794 | AW108: 31.677 | AX108: 31.56 | AY108: 31.443 | AZ108: 31.326 | BA108: 30.911 | BB108: 30.497 | BC108: 30.083 | BD108: 29.669 | BE108: 29.255 | BF108: 28.84 | BG108: 28.426 | BH108: 28.012 | BI108: 27.598 | BJ108: 27.183 | BK108: 26.871 | BL108: 26.558 | BM108: 26.245 | BN108: 25.932 | BO108: 25.62 | BP108: 25.307 | BQ108: 24.994 | BR108: 24.681 | BS108: 24.369 | BT108: 24.056
A109: 107 | B109: 0 | C109: 2.722 | D109: 5.444 | E109: 8.152 | F109: 10.86 | G109: 12.772 | H109: 14.684 | I109: 15.996 | J109: 17.308 | K109: 18.071 | L109: 18.834 | M109: 19.678 | N109: 20.686 | O109: 21.673 | P109: 22.674 | Q109: 23.941 | R109: 25.225 | S109: 26.146 | T109: 27.067 | U109: 27.985 | V109: 28.903 | W109: 29.277 | X109: 29.652 | Y109: 30.123 | Z109: 30.595 | AA109: 30.949 | AB109: 31.304 | AC109: 31.717 | AD109: 32.13 | AE109: 32.505 | AF109: 32.89 | AG109: 33.296 | AH109: 33.703 | AI109: 34.11 | AJ109: 34.517 | AK109: 34.924 | AL109: 34.483 | AM109: 34.045 | AN109: 33.61 | AO109: 33.178 | AP109: 32.748 | AQ109: 32.63 | AR109: 32.512 | AS109: 32.394 | AT109: 32.276 | AU109: 32.158 | AV109: 32.04 | AW109: 31.922 | AX109: 31.804 | AY109: 31.686 | AZ109: 31.568 | BA109: 31.15 | BB109: 30.732 | BC109: 30.314 | BD109: 29.895 | BE109: 29.477 | BF109: 29.059 | BG109: 28.641 | BH109: 28.222 | BI109: 27.804 | BJ109: 27.386 | BK109: 27.07 | BL109: 26.755 | BM109: 26.439 | BN109: 26.124 | BO109: 25.808 | BP109: 25.493 | BQ109: 25.177 | BR109: 24.862 | BS109: 24.546 | BT109: 24.23
A110: 108 | B110: 0 | C110: 2.694 | D110: 5.388 | E110: 8.096 | F110: 10.804 | G110: 12.744 | H110: 14.684 | I110: 16.01 | J110: 17.336 | K110: 18.057 | L110: 18.778 | M110: 19.65 | N110: 20.686 | O110: 21.687 | P110: 22.702 | Q110: 24 | R110: 25.314 | S110: 26.25 | T110: 27.186 | U110: 28.088 | V110: 28.99 | W110: 29.336 | X110: 29.681 | Y110: 30.138 | Z110: 30.595 | AA110: 30.949 | AB110: 31.304 | AC110: 31.746 | AD110: 32.189 | AE110: 32.607 | AF110: 33.036 | AG110: 33.455 | AH110: 33.874 | AI110: 34.294 | AJ110: 34.713 | AK110: 35.132 | AL110: 34.701 | AM110: 34.271 | AN110: 33.845 | AO110: 33.42 | AP110: 32.999 | AQ110: 32.88 | AR110: 32.761 | AS110: 32.642 | AT110: 32.524 | AU110: 32.405 | AV110: 32.286 | AW110: 32.167 | AX110: 32.049 | AY110: 31.93 | AZ110: 31.811 | BA110: 31.389 | BB110: 30.967 | BC110: 30.544 | BD110: 30.122 | BE110: 29.7 | BF110: 29.278 | BG110: 28.855 | BH110: 28.433 | BI110: 28.011 | BJ110: 27.589 | BK110: 27.27 | BL110: 26.952 | BM110: 26.633 | BN110: 26.315 | BO110: 25.997 | BP110: 25.678 | BQ110: 25.36 | BR110: 25.042 | BS110: 24.723 | BT110: 24.405
A111: 109 | B111: 0 | C111: 2.666 | D111: 5.332 | E111: 8.04 | F111: 10.748 | G111: 12.716 | H111: 14.684 | I111: 16.024 | J111: 17.364 | K111: 18.043 | L111: 18.722 | M111: 19.622 | N111: 20.686 | O111: 21.702 | P111: 22.731 | Q111: 24.059 | R111: 25.404 | S111: 26.354 | T111: 27.305 | U111: 28.191 | V111: 29.078 | W111: 29.394 | X111: 29.71 | Y111: 30.152 | Z111: 30.595 | AA111: 30.949 | AB111: 31.304 | AC111: 31.776 | AD111: 32.247 | AE111: 32.709 | AF111: 33.182 | AG111: 33.613 | AH111: 34.045 | AI111: 34.477 | AJ111: 34.909 | AK111: 35.341 | AL111: 34.918 | AM111: 34.497 | AN111: 34.079 | AO111: 33.663 | AP111: 33.249 | AQ111: 33.13 | AR111: 33.01 | AS111: 32.891 | AT111: 32.771 | AU111: 32.652 | AV111: 32.532 | AW111: 32.413 | AX111: 32.293 | AY111: 32.173 | AZ111: 32.054 | BA111: 31.628 | BB111: 31.201 | BC111: 30.775 | BD111: 30.349 | BE111: 29.922 | BF111: 29.496 | BG111: 29.07 | BH111: 28.644 | BI111: 28.217 | BJ111: 27.791 | BK111: 27.47 | BL111: 27.149 | BM111: 26.828 | BN111: 26.506 | BO111: 26.185 | BP111: 25.864 | BQ111: 25.543 | BR111: 25.222 | BS111: 24.901 | BT111: 24.58
A112: 110 | B112: 0 | C112: 2.643 | D112: 5.286 | E112: 7.984 | F112: 10.692 | G112: 12.688 | H112: 14.684 | I112: 16.038 | J112: 17.392 | K112: 18.029 | L112: 18.666 | M112: 19.594 | N112: 20.686 | O112: 21.716 | P112: 22.76 | Q112: 24.118 | R112: 25.494 | S112: 26.459 | T112: 27.424 | U112: 28.295 | V112: 29.166 | W112: 29.452 | X112: 29.739 | Y112: 30.167 | Z112: 30.595 | AA112: 30.949 | AB112: 31.304 | AC112: 31.805 | AD112: 32.305 | AE112: 32.811 | AF112: 33.328 | AG112: 33.772 | AH112: 34.216 | AI112: 34.661 | AJ112: 35.105 | AK112: 35.55 | AL112: 35.135 | AM112: 34.723 | AN112: 34.313 | AO112: 33.906 | AP112: 33.5 | AQ112: 33.38 | AR112: 33.259 | AS112: 33.139 | AT112: 33.019 | AU112: 32.898 | AV112: 32.778 | AW112: 32.658 | AX112: 32.537 | AY112: 32.417 | AZ112: 32.297 | BA112: 31.866 | BB112: 31.436 | BC112: 31.006 | BD112: 30.575 | BE112: 30.145 | BF112: 29.715 | BG112: 29.285 | BH112: 28.854 | BI112: 28.424 | BJ112: 27.994 | BK112: 27.67 | BL112: 27.346 | BM112: 27.022 | BN112: 26.698 | BO112: 26.374 | BP112: 26.05 | BQ112: 25.726 | BR112: 25.402 | BS112: 25.078 | BT112: 24.754
A113: 111 | B113: 0 | C113: 2.633 | D113: 5.266 | E113: 7.955 | F113: 10.664 | G113: 12.659 | H113: 14.654 | I113: 15.994 | J113: 17.334 | K113: 18 | L113: 18.666 | M113: 19.58 | N113: 20.657 | O113: 21.716 | P113: 22.789 | Q113: 24.132 | R113: 25.494 | S113: 26.444 | T113: 27.394 | U113: 28.265 | V113: 29.136 | W113: 29.452 | X113: 29.769 | Y113: 30.226 | Z113: 30.684 | AA113: 31.068 | AB113: 31.452 | AC113: 31.954 | AD113: 32.456 | AE113: 32.974 | AF113: 33.492 | AG113: 33.914 | AH113: 34.381 | AI113: 34.849 | AJ113: 35.316 | AK113: 35.783 | AL113: 35.367 | AM113: 34.952 | AN113: 34.54 | AO113: 34.131 | AP113: 33.723 | AQ113: 33.602 | AR113: 33.48 | AS113: 33.359 | AT113: 33.237 | AU113: 33.116 | AV113: 32.995 | AW113: 32.873 | AX113: 32.752 | AY113: 32.631 | AZ113: 32.509 | BA113: 32.076 | BB113: 31.642 | BC113: 31.208 | BD113: 30.774 | BE113: 30.341 | BF113: 29.907 | BG113: 29.473 | BH113: 29.04 | BI113: 28.606 | BJ113: 28.172 | BK113: 27.848 | BL113: 27.524 | BM113: 27.199 | BN113: 26.875 | BO113: 26.55 | BP113: 26.226 | BQ113: 25.902 | BR113: 25.577 | BS113: 25.253 | BT113: 24.929
A114: 112 | B114: 0 | C114: 2.623 | D114: 5.246 | E114: 7.926 | F114: 10.636 | G114: 12.63 | H114: 14.624 | I114: 15.95 | J114: 17.276 | K114: 17.971 | L114: 18.666 | M114: 19.566 | N114: 20.629 | O114: 21.716 | P114: 22.817 | Q114: 24.147 | R114: 25.494 | S114: 26.43 | T114: 27.365 | U114: 28.236 | V114: 29.107 | W114: 29.452 | X114: 29.798 | Y114: 30.286 | Z114: 30.774 | AA114: 31.187 | AB114: 31.6 | AC114: 32.103 | AD114: 32.606 | AE114: 33.137 | AF114: 33.668 | AG114: 34.064 | AH114: 34.546 | AI114: 35.036 | AJ114: 35.527 | AK114: 36.017 | AL114: 35.598 | AM114: 35.182 | AN114: 34.767 | AO114: 34.355 | AP114: 33.946 | AQ114: 33.823 | AR114: 33.701 | AS114: 33.578 | AT114: 33.456 | AU114: 33.334 | AV114: 33.211 | AW114: 33.089 | AX114: 32.967 | AY114: 32.844 | AZ114: 32.722 | BA114: 32.285 | BB114: 31.848 | BC114: 31.411 | BD114: 30.973 | BE114: 30.536 | BF114: 30.099 | BG114: 29.662 | BH114: 29.225 | BI114: 28.788 | BJ114: 28.351 | BK114: 28.026 | BL114: 27.701 | BM114: 27.376 | BN114: 27.052 | BO114: 26.727 | BP114: 26.402 | BQ114: 26.077 | BR114: 25.753 | BS114: 25.428 | BT114: 25.103
A115: 113 | B115: 0 | C115: 2.613 | D115: 5.226 | E115: 7.908 | F115: 10.608 | G115: 12.601 | H115: 14.594 | I115: 15.906 | J115: 17.217 | K115: 17.942 | L115: 18.666 | M115: 19.551 | N115: 20.601 | O115: 21.716 | P115: 22.846 | Q115: 24.161 | R115: 25.494 | S115: 26.415 | T115: 27.336 | U115: 28.207 | V115: 29.078 | W115: 29.452 | X115: 29.827 | Y115: 30.345 | Z115: 30.864 | AA115: 31.306 | AB115: 31.748 | AC115: 32.252 | AD115: 32.756 | AE115: 33.3 | AF115: 33.843 | AG115: 34.269 | AH115: 34.711 | AI115: 35.224 | AJ115: 35.737 | AK115: 36.251 | AL115: 35.83 | AM115: 35.411 | AN115: 34.995 | AO115: 34.58 | AP115: 34.168 | AQ115: 34.045 | AR115: 33.921 | AS115: 33.798 | AT115: 33.675 | AU115: 33.551 | AV115: 33.428 | AW115: 33.305 | AX115: 33.181 | AY115: 33.058 | AZ115: 32.935 | BA115: 32.494 | BB115: 32.053 | BC115: 31.613 | BD115: 31.172 | BE115: 30.732 | BF115: 30.291 | BG115: 29.851 | BH115: 29.41 | BI115: 28.97 | BJ115: 28.529 | BK115: 28.204 | BL115: 27.879 | BM115: 27.554 | BN115: 27.229 | BO115: 26.903 | BP115: 26.578 | BQ115: 26.253 | BR115: 25.928 | BS115: 25.603 | BT115: 25.278
A116: 114 | B116: 0 | C116: 2.603 | D116: 5.206 | E116: 7.916 | F116: 10.626 | G116: 12.572 | H116: 14.564 | I116: 15.861 | J116: 17.159 | K116: 17.913 | L116: 18.666 | M116: 19.537 | N116: 20.572 | O116: 21.716 | P116: 22.875 | Q116: 24.176 | R116: 25.494 | S116: 26.4 | T116: 27.307 | U116: 28.178 | V116: 29.049 | W116: 29.452 | X116: 29.856 | Y116: 30.405 | Z116: 30.954 | AA116: 31.425 | AB116: 31.897 | AC116: 32.401 | AD116: 32.906 | AE116: 33.462 | AF116: 34.018 | AG116: 34.474 | AH116: 34.93 | AI116: 35.412 | AJ116: 35.948 | AK116: 36.484 | AL116: 36.061 | AM116: 35.64 | AN116: 35.222 | AO116: 34.805 | AP116: 34.391 | AQ116: 34.266 | AR116: 34.142 | AS116: 34.018 | AT116: 33.893 | AU116: 33.769 | AV116: 33.645 | AW116: 33.52 | AX116: 33.396 | AY116: 33.272 | AZ116: 33.147 | BA116: 32.703 | BB116: 32.259 | BC116: 31.815 | BD116: 31.371 | BE116: 30.928 | BF116: 30.484 | BG116: 30.04 | BH116: 29.596 | BI116: 29.152 | BJ116: 28.708 | BK116: 28.382 | BL116: 28.057 | BM116: 27.731 | BN116: 27.406 | BO116: 27.08 | BP116: 26.754 | BQ116: 26.429 | BR116: 26.103 | BS116: 25.778 | BT116: 25.452
A117: 115 | B117: 0 | C117: 2.593 | D117: 5.186 | E117: 7.924 | F117: 10.662 | G117: 12.643 | H117: 14.624 | I117: 15.817 | J117: 17.101 | K117: 17.883 | L117: 18.666 | M117: 19.523 | N117: 20.544 | O117: 21.716 | P117: 22.904 | Q117: 24.19 | R117: 25.494 | S117: 26.386 | T117: 27.278 | U117: 28.149 | V117: 29.02 | W117: 29.452 | X117: 29.885 | Y117: 30.464 | Z117: 31.043 | AA117: 31.544 | AB117: 32.045 | AC117: 32.551 | AD117: 33.056 | AE117: 33.625 | AF117: 34.193 | AG117: 34.68 | AH117: 35.166 | AI117: 35.652 | AJ117: 36.159 | AK117: 36.718 | AL117: 36.293 | AM117: 35.869 | AN117: 35.449 | AO117: 35.03 | AP117: 34.614 | AQ117: 34.488 | AR117: 34.363 | AS117: 34.237 | AT117: 34.112 | AU117: 33.987 | AV117: 33.861 | AW117: 33.736 | AX117: 33.611 | AY117: 33.485 | AZ117: 33.36 | BA117: 32.912 | BB117: 32.465 | BC117: 32.018 | BD117: 31.57 | BE117: 31.123 | BF117: 30.676 | BG117: 30.228 | BH117: 29.781 | BI117: 29.334 | BJ117: 28.886 | BK117: 28.56 | BL117: 28.234 | BM117: 27.908 | BN117: 27.582 | BO117: 27.257 | BP117: 26.931 | BQ117: 26.605 | BR117: 26.279 | BS117: 25.953 | BT117: 25.627
A118: 116 | B118: 0 | C118: 2.593 | D118: 5.186 | E118: 7.894 | F118: 10.602 | G118: 12.591 | H118: 14.58 | I118: 15.77 | J118: 17.073 | K118: 17.883 | L118: 18.694 | M118: 19.523 | N118: 20.516 | O118: 21.702 | P118: 22.904 | Q118: 24.19 | R118: 25.494 | S118: 26.371 | T118: 27.248 | U118: 28.119 | V118: 28.99 | W118: 29.468 | X118: 29.946 | Y118: 30.538 | Z118: 31.131 | AA118: 31.662 | AB118: 32.193 | AC118: 32.712 | AD118: 33.232 | AE118: 33.801 | AF118: 34.371 | AG118: 34.862 | AH118: 35.354 | AI118: 35.845 | AJ118: 36.337 | AK118: 36.924 | AL118: 36.496 | AM118: 36.07 | AN118: 35.647 | AO118: 35.225 | AP118: 34.806 | AQ118: 34.68 | AR118: 34.555 | AS118: 34.429 | AT118: 34.303 | AU118: 34.177 | AV118: 34.051 | AW118: 33.926 | AX118: 33.8 | AY118: 33.674 | AZ118: 33.548 | BA118: 33.1 | BB118: 32.652 | BC118: 32.204 | BD118: 31.756 | BE118: 31.308 | BF118: 30.86 | BG118: 30.411 | BH118: 29.963 | BI118: 29.515 | BJ118: 29.067 | BK118: 28.738 | BL118: 28.409 | BM118: 28.079 | BN118: 27.75 | BO118: 27.421 | BP118: 27.092 | BQ118: 26.763 | BR118: 26.433 | BS118: 26.104 | BT118: 25.775
A119: 117 | B119: 0 | C119: 2.593 | D119: 5.186 | E119: 7.864 | F119: 10.542 | G119: 12.539 | H119: 14.535 | I119: 15.758 | J119: 17.045 | K119: 17.883 | L119: 18.722 | M119: 19.523 | N119: 20.487 | O119: 21.687 | P119: 22.904 | Q119: 24.19 | R119: 25.494 | S119: 26.357 | T119: 27.219 | U119: 28.09 | V119: 28.961 | W119: 29.484 | X119: 30.006 | Y119: 30.612 | Z119: 31.218 | AA119: 31.78 | AB119: 32.341 | AC119: 32.874 | AD119: 33.407 | AE119: 33.978 | AF119: 34.548 | AG119: 35.045 | AH119: 35.542 | AI119: 36.039 | AJ119: 36.536 | AK119: 37.131 | AL119: 36.7 | AM119: 36.271 | AN119: 35.845 | AO119: 35.421 | AP119: 34.999 | AQ119: 34.873 | AR119: 34.746 | AS119: 34.62 | AT119: 34.494 | AU119: 34.368 | AV119: 34.242 | AW119: 34.115 | AX119: 33.989 | AY119: 33.863 | AZ119: 33.737 | BA119: 33.288 | BB119: 32.839 | BC119: 32.39 | BD119: 31.941 | BE119: 31.492 | BF119: 31.043 | BG119: 30.594 | BH119: 30.145 | BI119: 29.696 | BJ119: 29.247 | BK119: 28.915 | BL119: 28.583 | BM119: 28.25 | BN119: 27.918 | BO119: 27.586 | BP119: 27.253 | BQ119: 26.921 | BR119: 26.588 | BS119: 26.256 | BT119: 25.924
A120: 118 | B120: 0 | C120: 2.593 | D120: 5.186 | E120: 7.833 | F120: 10.481 | G120: 12.486 | H120: 14.491 | I120: 15.761 | J120: 17.031 | K120: 17.883 | L120: 18.75 | M120: 19.523 | N120: 20.459 | O120: 21.673 | P120: 22.904 | Q120: 24.19 | R120: 25.494 | S120: 26.342 | T120: 27.19 | U120: 28.061 | V120: 28.932 | W120: 29.499 | X120: 30.067 | Y120: 30.687 | Z120: 31.306 | AA120: 31.898 | AB120: 32.489 | AC120: 33.036 | AD120: 33.582 | AE120: 34.154 | AF120: 34.725 | AG120: 35.228 | AH120: 35.73 | AI120: 36.233 | AJ120: 36.735 | AK120: 37.337 | AL120: 36.904 | AM120: 36.472 | AN120: 36.043 | AO120: 35.616 | AP120: 35.191 | AQ120: 35.065 | AR120: 34.938 | AS120: 34.812 | AT120: 34.685 | AU120: 34.558 | AV120: 34.432 | AW120: 34.305 | AX120: 34.179 | AY120: 34.052 | AZ120: 33.925 | BA120: 33.476 | BB120: 33.026 | BC120: 32.576 | BD120: 32.126 | BE120: 31.677 | BF120: 31.227 | BG120: 30.777 | BH120: 30.328 | BI120: 29.878 | BJ120: 29.428 | BK120: 29.092 | BL120: 28.757 | BM120: 28.421 | BN120: 28.086 | BO120: 27.75 | BP120: 27.414 | BQ120: 27.079 | BR120: 26.743 | BS120: 26.408 | BT120: 26.072
A121: 119 | B121: 0 | C121: 2.593 | D121: 5.186 | E121: 7.803 | F121: 10.421 | G121: 12.434 | H121: 14.447 | I121: 15.764 | J121: 17.081 | K121: 17.909 | L121: 18.778 | M121: 19.523 | N121: 20.431 | O121: 21.659 | P121: 22.904 | Q121: 24.19 | R121: 25.494 | S121: 26.327 | T121: 27.161 | U121: 28.032 | V121: 28.903 | W121: 29.515 | X121: 30.127 | Y121: 30.761 | Z121: 31.394 | AA121: 32.015 | AB121: 32.637 | AC121: 33.197 | AD121: 33.757 | AE121: 34.33 | AF121: 34.903 | AG121: 35.411 | AH121: 35.918 | AI121: 36.426 | AJ121: 36.934 | AK121: 37.544 | AL121: 37.107 | AM121: 36.673 | AN121: 36.241 | AO121: 35.811 | AP121: 35.384 | AQ121: 35.257 | AR121: 35.13 | AS121: 35.003 | AT121: 34.876 | AU121: 34.749 | AV121: 34.622 | AW121: 34.495 | AX121: 34.368 | AY121: 34.241 | AZ121: 34.114 | BA121: 33.663 | BB121: 33.213 | BC121: 32.762 | BD121: 32.312 | BE121: 31.861 | BF121: 31.411 | BG121: 30.96 | BH121: 30.51 | BI121: 30.059 | BJ121: 29.609 | BK121: 29.27 | BL121: 28.931 | BM121: 28.592 | BN121: 28.253 | BO121: 27.914 | BP121: 27.576 | BQ121: 27.237 | BR121: 26.898 | BS121: 26.559 | BT121: 26.22
A122: 120 | B122: 0 | C122: 2.593 | D122: 5.186 | E122: 7.773 | F122: 10.361 | G122: 12.382 | H122: 14.403 | I122: 15.767 | J122: 17.131 | K122: 18.049 | L122: 18.967 | M122: 19.533 | N122: 20.402 | O122: 21.645 | P122: 22.904 | Q122: 24.19 | R122: 25.494 | S122: 26.313 | T122: 27.132 | U122: 28.003 | V122: 28.874 | W122: 29.531 | X122: 30.188 | Y122: 30.835 | Z122: 31.481 | AA122: 32.133 | AB122: 32.785 | AC122: 33.359 | AD122: 33.933 | AE122: 34.506 | AF122: 35.08 | AG122: 35.593 | AH122: 36.107 | AI122: 36.62 | AJ122: 37.133 | AK122: 37.751 | AL122: 37.311 | AM122: 36.874 | AN122: 36.439 | AO122: 36.007 | AP122: 35.576 | AQ122: 35.449 | AR122: 35.322 | AS122: 35.194 | AT122: 35.067 | AU122: 34.94 | AV122: 34.812 | AW122: 34.685 | AX122: 34.557 | AY122: 34.43 | AZ122: 34.303 | BA122: 33.851 | BB122: 33.4 | BC122: 32.949 | BD122: 32.497 | BE122: 32.046 | BF122: 31.594 | BG122: 31.143 | BH122: 30.692 | BI122: 30.24 | BJ122: 29.789 | BK122: 29.447 | BL122: 29.105 | BM122: 28.763 | BN122: 28.421 | BO122: 28.079 | BP122: 27.737 | BQ122: 27.395 | BR122: 27.053 | BS122: 26.711 | BT122: 26.369
A123: 121 | B123: 0 | C123: 2.564 | D123: 5.127 | E123: 7.687 | F123: 10.247 | G123: 12.282 | H123: 14.317 | I123: 15.681 | J123: 17.045 | K123: 17.981 | L123: 18.917 | M123: 19.542 | N123: 20.398 | O123: 21.659 | P123: 22.937 | Q123: 24.207 | R123: 25.494 | S123: 26.313 | T123: 27.132 | U123: 28.003 | V123: 28.874 | W123: 29.545 | X123: 30.217 | Y123: 30.864 | Z123: 31.511 | AA123: 32.178 | AB123: 32.846 | AC123: 33.434 | AD123: 34.022 | AE123: 34.611 | AF123: 35.199 | AG123: 35.73 | AH123: 36.261 | AI123: 36.793 | AJ123: 37.324 | AK123: 37.959 | AL123: 37.517 | AM123: 37.078 | AN123: 36.64 | AO123: 36.206 | AP123: 35.773 | AQ123: 35.645 | AR123: 35.517 | AS123: 35.388 | AT123: 35.26 | AU123: 35.132 | AV123: 35.004 | AW123: 34.876 | AX123: 34.748 | AY123: 34.619 | AZ123: 34.491 | BA123: 34.036 | BB123: 33.582 | BC123: 33.127 | BD123: 32.672 | BE123: 32.217 | BF123: 31.763 | BG123: 31.308 | BH123: 30.853 | BI123: 30.398 | BJ123: 29.944 | BK123: 29.599 | BL123: 29.254 | BM123: 28.909 | BN123: 28.564 | BO123: 28.219 | BP123: 27.875 | BQ123: 27.53 | BR123: 27.185 | BS123: 26.84 | BT123: 26.495
A124: 122 | B124: 0 | C124: 2.535 | D124: 5.069 | E124: 7.601 | F124: 10.132 | G124: 12.181 | H124: 14.231 | I124: 15.595 | J124: 16.959 | K124: 17.913 | L124: 18.866 | M124: 19.551 | N124: 20.398 | O124: 21.673 | P124: 22.969 | Q124: 24.223 | R124: 25.494 | S124: 26.313 | T124: 27.132 | U124: 28.003 | V124: 28.874 | W124: 29.56 | X124: 30.246 | Y124: 30.893 | Z124: 31.54 | AA124: 32.223 | AB124: 32.906 | AC124: 33.509 | AD124: 34.112 | AE124: 34.715 | AF124: 35.318 | AG124: 35.867 | AH124: 36.416 | AI124: 36.965 | AJ124: 37.514 | AK124: 38.168 | AL124: 37.723 | AM124: 37.281 | AN124: 36.842 | AO124: 36.405 | AP124: 35.97 | AQ124: 35.841 | AR124: 35.712 | AS124: 35.583 | AT124: 35.454 | AU124: 35.325 | AV124: 35.196 | AW124: 35.067 | AX124: 34.938 | AY124: 34.809 | AZ124: 34.68 | BA124: 34.222 | BB124: 33.763 | BC124: 33.305 | BD124: 32.847 | BE124: 32.389 | BF124: 31.931 | BG124: 31.473 | BH124: 31.014 | BI124: 30.556 | BJ124: 30.098 | BK124: 29.75 | BL124: 29.403 | BM124: 29.055 | BN124: 28.707 | BO124: 28.36 | BP124: 28.012 | BQ124: 27.665 | BR124: 27.317 | BS124: 26.969 | BT124: 26.622
A125: 123 | B125: 0 | C125: 2.505 | D125: 5.011 | E125: 7.514 | F125: 10.018 | G125: 12.081 | H125: 14.144 | I125: 15.508 | J125: 16.872 | K125: 17.844 | L125: 18.816 | M125: 19.561 | N125: 20.467 | O125: 21.687 | P125: 23.002 | Q125: 24.24 | R125: 25.494 | S125: 26.313 | T125: 27.132 | U125: 28.003 | V125: 28.874 | W125: 29.575 | X125: 30.276 | Y125: 30.922 | Z125: 31.569 | AA125: 32.268 | AB125: 32.967 | AC125: 33.584 | AD125: 34.202 | AE125: 34.819 | AF125: 35.437 | AG125: 36.004 | AH125: 36.571 | AI125: 37.138 | AJ125: 37.705 | AK125: 38.376 | AL125: 37.93 | AM125: 37.485 | AN125: 37.043 | AO125: 36.604 | AP125: 36.166 | AQ125: 36.036 | AR125: 35.907 | AS125: 35.777 | AT125: 35.647 | AU125: 35.517 | AV125: 35.387 | AW125: 35.258 | AX125: 35.128 | AY125: 34.998 | AZ125: 34.868 | BA125: 34.407 | BB125: 33.945 | BC125: 33.484 | BD125: 33.022 | BE125: 32.56 | BF125: 32.099 | BG125: 31.637 | BH125: 31.176 | BI125: 30.714 | BJ125: 30.252 | BK125: 29.902 | BL125: 29.552 | BM125: 29.201 | BN125: 28.851 | BO125: 28.5 | BP125: 28.15 | BQ125: 27.799 | BR125: 27.449 | BS125: 27.098 | BT125: 26.748
... A154: 152 | B154: 0 | C154: 1.527 | D154: 3.053 | E154: 4.577 | F154: 6.1 | G154: 7.529 | H154: 8.957 | I154: 10.368 | J154: 11.779 | K154: 12.901 | L154: 14.022 | M154: 15.015 | N154: 16.136 | O154: 17.186 | P154: 18.251 | Q154: 19.33 | R154: 20.424 | S154: 21.56 | T154: 22.696 | U154: 23.711 | V154: 25.068 | W154: 26.486 | X154: 27.903 | Y154: 29.389 | Z154: 30.874 | AA154: 32.158 | AB154: 33.442 | AC154: 34.55 | AD154: 35.658 | AE154: 36.825 | AF154: 37.993 | AG154: 38.782 | AH154: 39.572 | AI154: 40.362 | AJ154: 41.152 | AK154: 41.942 | AL154: 41.454 | AM154: 40.969 | AN154: 40.486 | AO154: 40.006 | AP154: 39.528 | AQ154: 39.3 | AR154: 39.167 | AS154: 39.035 | AT154: 38.902 | AU154: 38.77 | AV154: 38.638 | AW154: 38.505 | AX154: 38.373 | AY154: 38.24 | AZ154: 38.108 | BA154: 37.601 | BB154: 37.093 | BC154: 36.586 | BD154: 36.079 | BE154: 35.571 | BF154: 35.064 | BG154: 34.557 | BH154: 34.049 | BI154: 33.542 | BJ154: 33.035 | BK154: 32.652 | BL154: 32.27 | BM154: 31.887 | BN154: 31.505 | BO154: 31.122 | BP154: 30.74 | BQ154: 30.357 | BR154: 29.974 | BS154: 29.592 | BT154: 29.209
A155: 153 | B155: 0 | C155: 1.497 | D155: 2.995 | E155: 4.49 | F155: 5.986 | G155: 7.371 | H155: 8.756 | I155: 10.153 | J155: 11.551 | K155: 12.656 | L155: 13.761 | M155: 14.784 | N155: 15.934 | O155: 16.967 | P155: 18.015 | Q155: 19.077 | R155: 20.153 | S155: 21.26 | T155: 22.367 | U155: 23.328 | V155: 24.626 | W155: 26.014 | X155: 27.403 | Y155: 28.859 | Z155: 30.315 | AA155: 31.613 | AB155: 32.91 | AC155: 34.019 | AD155: 35.128 | AE155: 36.324 | AF155: 37.519 | AG155: 38.379 | AH155: 39.24 | AI155: 40.1 | AJ155: 40.96 | AK155: 41.821 | AL155: 41.335 | AM155: 40.852 | AN155: 40.371 | AO155: 39.893 | AP155: 39.418 | AQ155: 39.146 | AR155: 39.019 | AS155: 38.891 | AT155: 38.764 | AU155: 38.637 | AV155: 38.509 | AW155: 38.382 | AX155: 38.254 | AY155: 38.127 | AZ155: 38 | BA155: 37.493 | BB155: 36.986 | BC155: 36.48 | BD155: 35.973 | BE155: 35.466 | BF155: 34.959 | BG155: 34.453 | BH155: 33.946 | BI155: 33.439 | BJ155: 32.933 | BK155: 32.553 | BL155: 32.173 | BM155: 31.793 | BN155: 31.414 | BO155: 31.034 | BP155: 30.654 | BQ155: 30.274 | BR155: 29.895 | BS155: 29.515 | BT155: 29.135
...

Sheet Ultimate
A1: TWA\TWS | B1: 0 | C1: 1 | D1: 2 | E1: 3 | F1: 4 | G1: 5 | H1: 6 | I1: 7 | J1: 8 | K1: 9 | L1: 10 | M1: 11 | N1: 12 | O1: 13 | P1: 14 | Q1: 15 | R1: 16 | S1: 17 | T1: 18 | U1: 19 | V1: 20 | W1: 21 | X1: 22 | Y1: 23 | Z1: 24 | AA1: 25 | AB1: 26 | AC1: 27 | AD1: 28 | AE1: 29 | AF1: 30 | AG1: 31 | AH1: 32 | AI1: 33 | AJ1: 34 | AK1: 35 | AL1: 36 | AM1: 37 | AN1: 38 | AO1: 39 | AP1: 40 | AQ1: 41 | AR1: 42 | AS1: 43 | AT1: 44 | AU1: 45 | AV1: 46 | AW1: 47 | AX1: 48 | AY1: 49 | AZ1: 50 | BA1: 51 | BB1: 52 | BC1: 53 | BD1: 54 | BE1: 55 | BF1: 56 | BG1: 57 | BH1: 58 | BI1: 59 | BJ1: 60 | BK1: 61 | BL1: 62 | BM1: 63 | BN1: 64 | BO1: 65 | BP1: 66 | BQ1: 67 | BR1: 68 | BS1: 69 | BT1: 70
A2: 0 | B2: 0 | C2: 0 | D2: 0 | E2: 0 | F2: 0 | G2: 0 | H2: 0 | I2: 0 | J2: 0 | K2: 0 | L2: 0 | M2: 0 | N2: 0 | O2: 0 | P2: 0 | Q2: 0 | R2: 0 | S2: 0 | T2: 0 | U2: 0 | V2: 0 | W2: 0 | X2: 0 | Y2: 0 | Z2: 0 | AA2: 0 | AB2: 0 | AC2: 0 | AD2: 0 | AE2: 0 | AF2: 0 | AG2: 0 | AH2: 0 | AI2: 0 | AJ2: 0 | AK2: 0 | AL2: 0 | AM2: 0 | AN2: 0 | AO2: 0 | AP2: 0 | AQ2: 0 | AR2: 0 | AS2: 0 | AT2: 0 | AU2: 0 | AV2: 0 | AW2: 0 | AX2: 0 | AY2: 0 | AZ2: 0 | BA2: 0 | BB2: 0 | BC2: 0 | BD2: 0 | BE2: 0 | BF2: 0 | BG2: 0 | BH2: 0 | BI2: 0 | BJ2: 0 | BK2: 0 | BL2: 0 | BM2: 0 | BN2: 0 | BO2: 0 | BP2: 0 | BQ2: 0 | BR2: 0 | BS2: 0 | BT2: 0
A3: 1 | B3: 0 | C3: 0.005 | D3: 0.009 | E3: 0.022 | F3: 0.035 | G3: 0.061 | H3: 0.087 | I3: 0.105 | J3: 0.124 | K3: 0.152 | L3: 0.18 | M3: 0.197 | N3: 0.214 | O3: 0.234 | P3: 0.253 | Q3: 0.272 | R3: 0.29 | S3: 0.31 | T3: 0.33 | U3: 0.338 | V3: 0.345 | W3: 0.349 | X3: 0.352 | Y3: 0.357 | Z3: 0.362 | AA3: 0.361 | AB3: 0.361 | AC3: 0.35 | AD3: 0.339 | AE3: 0.323 | AF3: 0.306 | AG3: 0.297 | AH3: 0.288 | AI3: 0.279 | AJ3: 0.271 | AK3: 0.262 | AL3: 0.255 | AM3: 0.249 | AN3: 0.242 | AO3: 0.235 | AP3: 0.229 | AQ3: 0.228 | AR3: 0.228 | AS3: 0.228 | AT3: 0.227 | AU3: 0.227 | AV3: 0.227 | AW3: 0.226 | AX3: 0.226 | AY3: 0.226 | AZ3: 0.225 | BA3: 0.208 | BB3: 0.19 | BC3: 0.172 | BD3: 0.154 | BE3: 0.136 | BF3: 0.119 | BG3: 0.101 | BH3: 0.083 | BI3: 0.065 | BJ3: 0.047 | BK3: 0.044 | BL3: 0.041 | BM3: 0.038 | BN3: 0.035 | BO3: 0.031 | BP3: 0.028 | BQ3: 0.025 | BR3: 0.022 | BS3: 0.019 | BT3: 0.015
A4: 2 | B4: 0 | C4: 0.009 | D4: 0.018 | E4: 0.044 | F4: 0.07 | G4: 0.121 | H4: 0.173 | I4: 0.211 | J4: 0.249 | K4: 0.304 | L4: 0.36 | M4: 0.394 | N4: 0.428 | O4: 0.467 | P4: 0.507 | Q4: 0.543 | R4: 0.58 | S4: 0.62 | T4: 0.661 | U4: 0.675 | V4: 0.689 | W4: 0.697 | X4: 0.705 | Y4: 0.714 | Z4: 0.724 | AA4: 0.723 | AB4: 0.721 | AC4: 0.7 | AD4: 0.679 | AE4: 0.645 | AF4: 0.612 | AG4: 0.594 | AH4: 0.577 | AI4: 0.559 | AJ4: 0.541 | AK4: 0.524 | AL4: 0.51 | AM4: 0.497 | AN4: 0.484 | AO4: 0.471 | AP4: 0.457 | AQ4: 0.457 | AR4: 0.456 | AS4: 0.455 | AT4: 0.455 | AU4: 0.454 | AV4: 0.453 | AW4: 0.453 | AX4: 0.452 | AY4: 0.451 | AZ4: 0.451 | BA4: 0.415 | BB4: 0.38 | BC4: 0.344 | BD4: 0.308 | BE4: 0.273 | BF4: 0.237 | BG4: 0.202 | BH4: 0.166 | BI4: 0.131 | BJ4: 0.095 | BK4: 0.089 | BL4: 0.082 | BM4: 0.076 | BN4: 0.069 | BO4: 0.063 | BP4: 0.056 | BQ4: 0.05 | BR4: 0.044 | BS4: 0.037 | BT4: 0.031
A5: 3 | B5: 0 | C5: 0.014 | D5: 0.027 | E5: 0.066 | F5: 0.104 | G5: 0.182 | H5: 0.26 | I5: 0.316 | J5: 0.373 | K5: 0.456 | L5: 0.54 | M5: 0.591 | N5: 0.642 | O5: 0.701 | P5: 0.76 | Q5: 0.815 | R5: 0.87 | S5: 0.93 | T5: 0.991 | U5: 1.013 | V5: 1.034 | W5: 1.046 | X5: 1.057 | Y5: 1.072 | Z5: 1.086 | AA5: 1.084 | AB5: 1.082 | AC5: 1.05 | AD5: 1.018 | AE5: 0.968 | AF5: 0.918 | AG5: 0.891 | AH5: 0.865 | AI5: 0.838 | AJ5: 0.812 | AK5: 0.785 | AL5: 0.765 | AM5: 0.746 | AN5: 0.726 | AO5: 0.706 | AP5: 0.686 | AQ5: 0.685 | AR5: 0.684 | AS5: 0.683 | AT5: 0.682 | AU5: 0.681 | AV5: 0.68 | AW5: 0.679 | AX5: 0.678 | AY5: 0.677 | AZ5: 0.676 | BA5: 0.623 | BB5: 0.569 | BC5: 0.516 | BD5: 0.463 | BE5: 0.409 | BF5: 0.356 | BG5: 0.303 | BH5: 0.249 | BI5: 0.196 | BJ5: 0.142 | BK5: 0.133 | BL5: 0.123 | BM5: 0.114 | BN5: 0.104 | BO5: 0.094 | BP5: 0.085 | BQ5: 0.075 | BR5: 0.065 | BS5: 0.056 | BT5: 0.046
A6: 4 | B6: 0 | C6: 0.018 | D6: 0.036 | E6: 0.088 | F6: 0.139 | G6: 0.243 | H6: 0.346 | I6: 0.422 | J6: 0.497 | K6: 0.608 | L6: 0.719 | M6: 0.788 | N6: 0.856 | O6: 0.935 | P6: 1.014 | Q6: 1.087 | R6: 1.159 | S6: 1.24 | T6: 1.321 | U6: 1.35 | V6: 1.379 | W6: 1.394 | X6: 1.41 | Y6: 1.429 | Z6: 1.448 | AA6: 1.446 | AB6: 1.443 | AC6: 1.4 | AD6: 1.357 | AE6: 1.291 | AF6: 1.224 | AG6: 1.188 | AH6: 1.153 | AI6: 1.118 | AJ6: 1.082 | AK6: 1.047 | AL6: 1.021 | AM6: 0.994 | AN6: 0.968 | AO6: 0.941 | AP6: 0.915 | AQ6: 0.913 | AR6: 0.912 | AS6: 0.911 | AT6: 0.909 | AU6: 0.908 | AV6: 0.907 | AW6: 0.905 | AX6: 0.904 | AY6: 0.903 | AZ6: 0.901 | BA6: 0.83 | BB6: 0.759 | BC6: 0.688 | BD6: 0.617 | BE6: 0.546 | BF6: 0.474 | BG6: 0.403 | BH6: 0.332 | BI6: 0.261 | BJ6: 0.19 | BK6: 0.177 | BL6: 0.164 | BM6: 0.151 | BN6: 0.139 | BO6: 0.126 | BP6: 0.113 | BQ6: 0.1 | BR6: 0.087 | BS6: 0.074 | BT6: 0.062
A7: 5 | B7: 0 | C7: 0.023 | D7: 0.045 | E7: 0.109 | F7: 0.174 | G7: 0.303 | H7: 0.433 | I7: 0.527 | J7: 0.622 | K7: 0.761 | L7: 0.899 | M7: 0.985 | N7: 1.07 | O7: 1.168 | P7: 1.267 | Q7: 1.358 | R7: 1.449 | S7: 1.55 | T7: 1.652 | U7: 1.688 | V7: 1.723 | W7: 1.743 | X7: 1.762 | Y7: 1.786 | Z7: 1.81 | AA7: 1.807 | AB7: 1.804 | AC7: 1.75 | AD7: 1.697 | AE7: 1.613 | AF7: 1.53 | AG7: 1.485 | AH7: 1.441 | AI7: 1.397 | AJ7: 1.353 | AK7: 1.309 | AL7: 1.276 | AM7: 1.243 | AN7: 1.21 | AO7: 1.177 | AP7: 1.143 | AQ7: 1.142 | AR7: 1.14 | AS7: 1.138 | AT7: 1.137 | AU7: 1.135 | AV7: 1.133 | AW7: 1.132 | AX7: 1.13 | AY7: 1.128 | AZ7: 1.127 | BA7: 1.038 | BB7: 0.949 | BC7: 0.86 | BD7: 0.771 | BE7: 0.682 | BF7: 0.593 | BG7: 0.504 | BH7: 0.415 | BI7: 0.326 | BJ7: 0.237 | BK7: 0.221 | BL7: 0.205 | BM7: 0.189 | BN7: 0.173 | BO7: 0.157 | BP7: 0.141 | BQ7: 0.125 | BR7: 0.109 | BS7: 0.093 | BT7: 0.077
A8: 6 | B8: 0 | C8: 0.027 | D8: 0.054 | E8: 0.131 | F8: 0.209 | G8: 0.364 | H8: 0.52 | I8: 0.633 | J8: 0.746 | K8: 0.913 | L8: 1.079 | M8: 1.182 | N8: 1.284 | O8: 1.402 | P8: 1.521 | Q8: 1.63 | R8: 1.739 | S8: 1.861 | T8: 1.982 | U8: 2.025 | V8: 2.068 | W8: 2.091 | X8: 2.114 | Y8: 2.143 | Z8: 2.172 | AA8: 2.168 | AB8: 2.164 | AC8: 2.1 | AD8: 2.036 | AE8: 1.936 | AF8: 1.835 | AG8: 1.783 | AH8: 1.73 | AI8: 1.677 | AJ8: 1.624 | AK8: 1.571 | AL8: 1.531 | AM8: 1.491 | AN8: 1.452 | AO8: 1.412 | AP8: 1.372 | AQ8: 1.37 | AR8: 1.368 | AS8: 1.366 | AT8: 1.364 | AU8: 1.362 | AV8: 1.36 | AW8: 1.358 | AX8: 1.356 | AY8: 1.354 | AZ8: 1.352 | BA8: 1.245 | BB8: 1.139 | BC8: 1.032 | BD8: 0.925 | BE8: 0.818 | BF8: 0.712 | BG8: 0.605 | BH8: 0.498 | BI8: 0.392 | BJ8: 0.285 | BK8: 0.266 | BL8: 0.246 | BM8: 0.227 | BN8: 0.208 | BO8: 0.189 | BP8: 0.169 | BQ8: 0.15 | BR8: 0.131 | BS8: 0.112 | BT8: 0.092
A9: 7 | B9: 0 | C9: 0.032 | D9: 0.063 | E9: 0.153 | F9: 0.243 | G9: 0.425 | H9: 0.606 | I9: 0.738 | J9: 0.871 | K9: 1.065 | L9: 1.259 | M9: 1.378 | N9: 1.498 | O9: 1.636 | P9: 1.774 | Q9: 1.902 | R9: 2.029 | S9: 2.171 | T9: 2.312 | U9: 2.363 | V9: 2.413 | W9: 2.44 | X9: 2.467 | Y9: 2.501 | Z9: 2.535 | AA9: 2.53 | AB9: 2.525 | AC9: 2.45 | AD9: 2.375 | AE9: 2.258 | AF9: 2.141 | AG9: 2.08 | AH9: 2.018 | AI9: 1.956 | AJ9: 1.894 | AK9: 1.832 | AL9: 1.786 | AM9: 1.74 | AN9: 1.693 | AO9: 1.647 | AP9: 1.601 | AQ9: 1.598 | AR9: 1.596 | AS9: 1.594 | AT9: 1.591 | AU9: 1.589 | AV9: 1.587 | AW9: 1.584 | AX9: 1.582 | AY9: 1.58 | AZ9: 1.577 | BA9: 1.453 | BB9: 1.328 | BC9: 1.204 | BD9: 1.079 | BE9: 0.955 | BF9: 0.83 | BG9: 0.706 | BH9: 0.581 | BI9: 0.457 | BJ9: 0.332 | BK9: 0.31 | BL9: 0.287 | BM9: 0.265 | BN9: 0.242 | BO9: 0.22 | BP9: 0.198 | BQ9: 0.175 | BR9: 0.153 | BS9: 0.13 | BT9: 0.108
A10: 8 | B10: 0 | C10: 0.036 | D10: 0.072 | E10: 0.175 | F10: 0.278 | G10: 0.485 | H10: 0.693 | I10: 0.844 | J10: 0.995 | K10: 1.217 | L10: 1.439 | M10: 1.575 | N10: 1.712 | O10: 1.87 | P10: 2.027 | Q10: 2.173 | R10: 2.319 | S10: 2.481 | T10: 2.643 | U10: 2.7 | V10: 2.758 | W10: 2.788 | X10: 2.819 | Y10: 2.858 | Z10: 2.897 | AA10: 2.891 | AB10: 2.886 | AC10: 2.8 | AD10: 2.715 | AE10: 2.581 | AF10: 2.447 | AG10: 2.377 | AH10: 2.306 | AI10: 2.235 | AJ10: 2.165 | AK10: 2.094 | AL10: 2.041 | AM10: 1.988 | AN10: 1.935 | AO10: 1.882 | AP10: 1.829 | AQ10: 1.827 | AR10: 1.824 | AS10: 1.821 | AT10: 1.819 | AU10: 1.816 | AV10: 1.813 | AW10: 1.811 | AX10: 1.808 | AY10: 1.805 | AZ10: 1.803 | BA10: 1.66 | BB10: 1.518 | BC10: 1.376 | BD10: 1.234 | BE10: 1.091 | BF10: 0.949 | BG10: 0.807 | BH10: 0.664 | BI10: 0.522 | BJ10: 0.38 | BK10: 0.354 | BL10: 0.328 | BM10: 0.303 | BN10: 0.277 | BO10: 0.251 | BP10: 0.226 | BQ10: 0.2 | BR10: 0.174 | BS10: 0.149 | BT10: 0.123
A11: 9 | B11: 0 | C11: 0.041 | D11: 0.081 | E11: 0.197 | F11: 0.313 | G11: 0.546 | H11: 0.779 | I11: 0.949 | J11: 1.119 | K11: 1.369 | L11: 1.619 | M11: 1.772 | N11: 1.926 | O11: 2.103 | P11: 2.281 | Q11: 2.445 | R11: 2.609 | S11: 2.791 | T11: 2.973 | U11: 3.038 | V11: 3.102 | W11: 3.137 | X11: 3.171 | Y11: 3.215 | Z11: 3.259 | AA11: 3.253 | AB11: 3.247 | AC11: 3.15 | AD11: 3.054 | AE11: 2.904 | AF11: 2.753 | AG11: 2.674 | AH11: 2.594 | AI11: 2.515 | AJ11: 2.435 | AK11: 2.356 | AL11: 2.296 | AM11: 2.237 | AN11: 2.177 | AO11: 2.118 | AP11: 2.058 | AQ11: 2.055 | AR11: 2.052 | AS11: 2.049 | AT11: 2.046 | AU11: 2.043 | AV11: 2.04 | AW11: 2.037 | AX11: 2.034 | AY11: 2.031 | AZ11: 2.028 | BA11: 1.868 | BB11: 1.708 | BC11: 1.548 | BD11: 1.388 | BE11: 1.228 | BF11: 1.068 | BG11: 0.908 | BH11: 0.747 | BI11: 0.587 | BJ11: 0.427 | BK11: 0.398 | BL11: 0.37 | BM11: 0.341 | BN11: 0.312 | BO11: 0.283 | BP11: 0.254 | BQ11: 0.225 | BR11: 0.196 | BS11: 0.167 | BT11: 0.138
A12: 10 | B12: 0 | C12: 0.045 | D12: 0.09 | E12: 0.219 | F12: 0.348 | G12: 0.607 | H12: 0.866 | I12: 1.055 | J12: 1.244 | K12: 1.521 | L12: 1.799 | M12: 1.969 | N12: 2.14 | O12: 2.337 | P12: 2.534 | Q12: 2.716 | R12: 2.899 | S12: 3.101 | T12: 3.303 | U12: 3.375 | V12: 3.447 | W12: 3.485 | X12: 3.524 | Y12: 3.572 | Z12: 3.621 | AA12: 3.614 | AB12: 3.607 | AC12: 3.5 | AD12: 3.393 | AE12: 3.226 | AF12: 3.059 | AG12: 2.971 | AH12: 2.883 | AI12: 2.794 | AJ12: 2.706 | AK12: 2.618 | AL12: 2.552 | AM12: 2.485 | AN12: 2.419 | AO12: 2.353 | AP12: 2.287 | AQ12: 2.283 | AR12: 2.28 | AS12: 2.277 | AT12: 2.273 | AU12: 2.27 | AV12: 2.267 | AW12: 2.263 | AX12: 2.26 | AY12: 2.257 | AZ12: 2.253 | BA12: 2.076 | BB12: 1.898 | BC12: 1.72 | BD12: 1.542 | BE12: 1.364 | BF12: 1.186 | BG12: 1.008 | BH12: 0.83 | BI12: 0.653 | BJ12: 0.475 | BK12: 0.443 | BL12: 0.411 | BM12: 0.378 | BN12: 0.346 | BO12: 0.314 | BP12: 0.282 | BQ12: 0.25 | BR12: 0.218 | BS12: 0.186 | BT12: 0.154
A13: 11 | B13: 0 | C13: 0.05 | D13: 0.099 | E13: 0.241 | F13: 0.382 | G13: 0.667 | H13: 0.953 | I13: 1.16 | J13: 1.368 | K13: 1.673 | L13: 1.979 | M13: 2.166 | N13: 2.354 | O13: 2.571 | P13: 2.788 | Q13: 2.988 | R13: 3.189 | S13: 3.411 | T13: 3.634 | U13: 3.713 | V13: 3.792 | W13: 3.834 | X13: 3.876 | Y13: 3.93 | Z13: 3.983 | AA13: 3.976 | AB13: 3.968 | AC13: 3.851 | AD13: 3.733 | AE13: 3.549 | AF13: 3.365 | AG13: 3.268 | AH13: 3.171 | AI13: 3.074 | AJ13: 2.977 | AK13: 2.88 | AL13: 2.807 | AM13: 2.734 | AN13: 2.661 | AO13: 2.588 | AP13: 2.516 | AQ13: 2.512 | AR13: 2.508 | AS13: 2.504 | AT13: 2.501 | AU13: 2.497 | AV13: 2.493 | AW13: 2.49 | AX13: 2.486 | AY13: 2.482 | AZ13: 2.479 | BA13: 2.283 | BB13: 2.087 | BC13: 1.892 | BD13: 1.696 | BE13: 1.5 | BF13: 1.305 | BG13: 1.109 | BH13: 0.914 | BI13: 0.718 | BJ13: 0.522 | BK13: 0.487 | BL13: 0.452 | BM13: 0.416 | BN13: 0.381 | BO13: 0.346 | BP13: 0.31 | BQ13: 0.275 | BR13: 0.24 | BS13: 0.204 | BT13: 0.169
A14: 12 | B14: 0 | C14: 0.054 | D14: 0.108 | E14: 0.263 | F14: 0.417 | G14: 0.728 | H14: 1.039 | I14: 1.266 | J14: 1.492 | K14: 1.825 | L14: 2.158 | M14: 2.363 | N14: 2.568 | O14: 2.804 | P14: 3.041 | Q14: 3.26 | R14: 3.478 | S14: 3.721 | T14: 3.964 | U14: 4.05 | V14: 4.136 | W14: 4.183 | X14: 4.229 | Y14: 4.287 | Z14: 4.345 | AA14: 4.337 | AB14: 4.329 | AC14: 4.201 | AD14: 4.072 | AE14: 3.872 | AF14: 3.671 | AG14: 3.565 | AH14: 3.459 | AI14: 3.353 | AJ14: 3.247 | AK14: 3.141 | AL14: 3.062 | AM14: 2.983 | AN14: 2.903 | AO14: 2.824 | AP14: 2.744 | AQ14: 2.74 | AR14: 2.736 | AS14: 2.732 | AT14: 2.728 | AU14: 2.724 | AV14: 2.72 | AW14: 2.716 | AX14: 2.712 | AY14: 2.708 | AZ14: 2.704 | BA14: 2.491 | BB14: 2.277 | BC14: 2.064 | BD14: 1.85 | BE14: 1.637 | BF14: 1.423 | BG14: 1.21 | BH14: 0.997 | BI14: 0.783 | BJ14: 0.57 | BK14: 0.531 | BL14: 0.493 | BM14: 0.454 | BN14: 0.416 | BO14: 0.377 | BP14: 0.339 | BQ14: 0.3 | BR14: 0.262 | BS14: 0.223 | BT14: 0.185
... A18: 16 | B18: 0 | C18: 0.072 | D18: 0.144 | E18: 0.35 | F18: 0.556 | G18: 0.971 | H18: 1.385 | I18: 1.688 | J18: 1.99 | K18: 2.434 | L18: 2.878 | M18: 3.151 | N18: 3.424 | O18: 3.739 | P18: 4.055 | Q18: 4.346 | R18: 4.638 | S18: 4.962 | T18: 5.285 | U18: 5.4 | V18: 5.515 | W18: 5.577 | X18: 5.638 | Y18: 5.716 | Z18: 5.793 | AA18: 5.783 | AB18: 5.772 | AC18: 5.601 | AD18: 5.43 | AE18: 5.162 | AF18: 4.895 | AG18: 4.753 | AH18: 4.612 | AI18: 4.471 | AJ18: 4.33 | AK18: 4.189 | AL18: 4.083 | AM18: 3.977 | AN18: 3.871 | AO18: 3.765 | AP18: 3.659 | AQ18: 3.654 | AR18: 3.648 | AS18: 3.643 | AT18: 3.638 | AU18: 3.632 | AV18: 3.627 | AW18: 3.621 | AX18: 3.616 | AY18: 3.611 | AZ18: 3.605 | BA18: 3.321 | BB18: 3.036 | BC18: 2.752 | BD18: 2.467 | BE18: 2.183 | BF18: 1.898 | BG18: 1.613 | BH18: 1.329 | BI18: 1.044 | BJ18: 0.76 | BK18: 0.708 | BL18: 0.657 | BM18: 0.606 | BN18: 0.554 | BO18: 0.503 | BP18: 0.451 | BQ18: 0.4 | BR18: 0.349 | BS18: 0.297 | BT18: 0.246
A19: 17 | B19: 0 | C19: 0.077 | D19: 0.153 | E19: 0.372 | F19: 0.591 | G19: 1.032 | H19: 1.472 | I19: 1.793 | J19: 2.114 | K19: 2.586 | L19: 3.058 | M19: 3.348 | N19: 3.638 | O19: 3.973 | P19: 4.308 | Q19: 4.618 | R19: 4.928 | S19: 5.272 | T19: 5.615 | U19: 5.738 | V19: 5.86 | W19: 5.925 | X19: 5.991 | Y19: 6.073 | Z19: 6.155 | AA19: 6.144 | AB19: 6.133 | AC19: 5.951 | AD19: 5.769 | AE19: 5.485 | AF19: 5.201 | AG19: 5.051 | AH19: 4.9 | AI19: 4.75 | AJ19: 4.6 | AK19: 4.45 | AL19: 4.338 | AM19: 4.225 | AN19: 4.113 | AO19: 4 | AP19: 3.888 | AQ19: 3.882 | AR19: 3.876 | AS19: 3.871 | AT19: 3.865 | AU19: 3.859 | AV19: 3.854 | AW19: 3.848 | AX19: 3.842 | AY19: 3.836 | AZ19: 3.831 | BA19: 3.528 | BB19: 3.226 | BC19: 2.924 | BD19: 2.621 | BE19: 2.319 | BF19: 2.017 | BG19: 1.714 | BH19: 1.412 | BI19: 1.109 | BJ19: 0.807 | BK19: 0.753 | BL19: 0.698 | BM19: 0.643 | BN19: 0.589 | BO19: 0.534 | BP19: 0.48 | BQ19: 0.425 | BR19: 0.371 | BS19: 0.316 | BT19: 0.261
A20: 18 | B20: 0 | C20: 0.081 | D20: 0.162 | E20: 0.394 | F20: 0.626 | G20: 1.092 | H20: 1.559 | I20: 1.899 | J20: 2.239 | K20: 2.738 | L20: 3.238 | M20: 3.545 | N20: 3.852 | O20: 4.207 | P20: 4.562 | Q20: 4.89 | R20: 5.218 | S20: 5.582 | T20: 5.946 | U20: 6.075 | V20: 6.205 | W20: 6.274 | X20: 6.343 | Y20: 6.43 | Z20: 6.517 | AA20: 6.505 | AB20: 6.493 | AC20: 6.301 | AD20: 6.108 | AE20: 5.807 | AF20: 5.506 | AG20: 5.348 | AH20: 5.189 | AI20: 5.03 | AJ20: 4.871 | AK20: 4.712 | AL20: 4.593 | AM20: 4.474 | AN20: 4.355 | AO20: 4.235 | AP20: 4.116 | AQ20: 4.11 | AR20: 4.104 | AS20: 4.098 | AT20: 4.092 | AU20: 4.086 | AV20: 4.08 | AW20: 4.074 | AX20: 4.068 | AY20: 4.062 | AZ20: 4.056 | BA20: 3.736 | BB20: 3.416 | BC20: 3.096 | BD20: 2.776 | BE20: 2.455 | BF20: 2.135 | BG20: 1.815 | BH20: 1.495 | BI20: 1.175 | BJ20: 0.855 | BK20: 0.797 | BL20: 0.739 | BM20: 0.681 | BN20: 0.623 | BO20: 0.566 | BP20: 0.508 | BQ20: 0.45 | BR20: 0.392 | BS20: 0.335 | BT20: 0.277
A21: 19 | B21: 0 | C21: 0.086 | D21: 0.172 | E21: 0.416 | F21: 0.661 | G21: 1.153 | H21: 1.645 | I21: 2.004 | J21: 2.363 | K21: 2.89 | L21: 3.418 | M21: 3.742 | N21: 4.065 | O21: 4.44 | P21: 4.815 | Q21: 5.161 | R21: 5.507 | S21: 5.892 | T21: 6.276 | U21: 6.413 | V21: 6.549 | W21: 6.622 | X21: 6.695 | Y21: 6.787 | Z21: 6.88 | AA21: 6.867 | AB21: 6.854 | AC21: 6.651 | AD21: 6.448 | AE21: 6.13 | AF21: 5.812 | AG21: 5.645 | AH21: 5.477 | AI21: 5.309 | AJ21: 5.142 | AK21: 4.974 | AL21: 4.848 | AM21: 4.722 | AN21: 4.597 | AO21: 4.471 | AP21: 4.345 | AQ21: 4.339 | AR21: 4.332 | AS21: 4.326 | AT21: 4.32 | AU21: 4.313 | AV21: 4.307 | AW21: 4.301 | AX21: 4.294 | AY21: 4.288 | AZ21: 4.281 | BA21: 3.944 | BB21: 3.606 | BC21: 3.268 | BD21: 2.93 | BE21: 2.592 | BF21: 2.254 | BG21: 1.916 | BH21: 1.578 | BI21: 1.24 | BJ21: 0.902 | BK21: 0.841 | BL21: 0.78 | BM21: 0.719 | BN21: 0.658 | BO21: 0.597 | BP21: 0.536 | BQ21: 0.475 | BR21: 0.414 | BS21: 0.353 | BT21: 0.292
A22: 20 | B22: 0 | C22: 0.09 | D22: 0.181 | E22: 0.438 | F22: 0.695 | G22: 1.214 | H22: 1.732 | I22: 2.11 | J22: 2.487 | K22: 3.042 | L22: 3.597 | M22: 3.938 | N22: 4.279 | O22: 4.674 | P22: 5.068 | Q22: 5.433 | R22: 5.797 | S22: 6.202 | T22: 6.606 | U22: 6.75 | V22: 6.894 | W22: 6.971 | X22: 7.048 | Y22: 7.145 | Z22: 7.242 | AA22: 7.228 | AB22: 7.215 | AC22: 7.001 | AD22: 6.787 | AE22: 6.453 | AF22: 6.118 | AG22: 5.942 | AH22: 5.765 | AI22: 5.589 | AJ22: 5.412 | AK22: 5.236 | AL22: 5.103 | AM22: 4.971 | AN22: 4.838 | AO22: 4.706 | AP22: 4.574 | AQ22: 4.567 | AR22: 4.56 | AS22: 4.554 | AT22: 4.547 | AU22: 4.54 | AV22: 4.534 | AW22: 4.527 | AX22: 4.52 | AY22: 4.513 | AZ22: 4.507 | BA22: 4.151 | BB22: 3.795 | BC22: 3.44 | BD22: 3.084 | BE22: 2.728 | BF22: 2.372 | BG22: 2.017 | BH22: 1.661 | BI22: 1.305 | BJ22: 0.95 | BK22: 0.885 | BL22: 0.821 | BM22: 0.757 | BN22: 0.693 | BO22: 0.629 | BP22: 0.564 | BQ22: 0.5 | BR22: 0.436 | BS22: 0.372 | BT22: 0.308
A23: 21 | B23: 0 | C23: 0.095 | D23: 0.19 | E23: 0.46 | F23: 0.73 | G23: 1.274 | H23: 1.818 | I23: 2.215 | J23: 2.612 | K23: 3.195 | L23: 3.777 | M23: 4.135 | N23: 4.493 | O23: 4.908 | P23: 5.322 | Q23: 5.705 | R23: 6.087 | S23: 6.512 | T23: 6.937 | U23: 7.088 | V23: 7.239 | W23: 7.319 | X23: 7.4 | Y23: 7.502 | Z23: 7.604 | AA23: 7.59 | AB23: 7.576 | AC23: 7.351 | AD23: 7.126 | AE23: 6.775 | AF23: 6.424 | AG23: 6.239 | AH23: 6.054 | AI23: 5.868 | AJ23: 5.683 | AK23: 5.497 | AL23: 5.358 | AM23: 5.219 | AN23: 5.08 | AO23: 4.941 | AP23: 4.802 | AQ23: 4.795 | AR23: 4.788 | AS23: 4.781 | AT23: 4.774 | AU23: 4.767 | AV23: 4.76 | AW23: 4.753 | AX23: 4.746 | AY23: 4.739 | AZ23: 4.732 | BA23: 4.359 | BB23: 3.985 | BC23: 3.612 | BD23: 3.238 | BE23: 2.865 | BF23: 2.491 | BG23: 2.118 | BH23: 1.744 | BI23: 1.37 | BJ23: 0.997 | BK23: 0.93 | BL23: 0.862 | BM23: 0.795 | BN23: 0.727 | BO23: 0.66 | BP23: 0.593 | BQ23: 0.525 | BR23: 0.458 | BS23: 0.39 | BT23: 0.323
A24: 22 | B24: 0 | C24: 0.099 | D24: 0.199 | E24: 0.482 | F24: 0.765 | G24: 1.335 | H24: 1.905 | I24: 2.321 | J24: 2.736 | K24: 3.347 | L24: 3.957 | M24: 4.332 | N24: 4.707 | O24: 5.141 | P24: 5.575 | Q24: 5.976 | R24: 6.377 | S24: 6.822 | T24: 7.267 | U24: 7.425 | V24: 7.583 | W24: 7.668 | X24: 7.753 | Y24: 7.859 | Z24: 7.966 | AA24: 7.951 | AB24: 7.936 | AC24: 7.701 | AD24: 7.466 | AE24: 7.098 | AF24: 6.73 | AG24: 6.536 | AH24: 6.342 | AI24: 6.148 | AJ24: 5.953 | AK24: 5.759 | AL24: 5.614 | AM24: 5.468 | AN24: 5.322 | AO24: 5.177 | AP24: 5.031 | AQ24: 5.024 | AR24: 5.016 | AS24: 5.009 | AT24: 5.002 | AU24: 4.994 | AV24: 4.987 | AW24: 4.98 | AX24: 4.972 | AY24: 4.965 | AZ24: 4.957 | BA24: 4.566 | BB24: 4.175 | BC24: 3.784 | BD24: 3.392 | BE24: 3.001 | BF24: 2.61 | BG24: 2.218 | BH24: 1.827 | BI24: 1.436 | BJ24: 1.044 | BK24: 0.974 | BL24: 0.903 | BM24: 0.833 | BN24: 0.762 | BO24: 0.691 | BP24: 0.621 | BQ24: 0.55 | BR24: 0.48 | BS24: 0.409 | BT24: 0.338
A25: 23 | B25: 0 | C25: 0.104 | D25: 0.208 | E25: 0.504 | F25: 0.8 | G25: 1.396 | H25: 1.992 | I25: 2.426 | J25: 2.861 | K25: 3.499 | L25: 4.137 | M25: 4.529 | N25: 4.921 | O25: 5.375 | P25: 5.829 | Q25: 6.248 | R25: 6.667 | S25: 7.132 | T25: 7.597 | U25: 7.763 | V25: 7.928 | W25: 8.016 | X25: 8.105 | Y25: 8.216 | Z25: 8.328 | AA25: 8.313 | AB25: 8.297 | AC25: 8.051 | AD25: 7.805 | AE25: 7.421 | AF25: 7.036 | AG25: 6.833 | AH25: 6.63 | AI25: 6.427 | AJ25: 6.224 | AK25: 6.021 | AL25: 5.869 | AM25: 5.716 | AN25: 5.564 | AO25: 5.412 | AP25: 5.26 | AQ25: 5.252 | AR25: 5.244 | AS25: 5.237 | AT25: 5.229 | AU25: 5.221 | AV25: 5.214 | AW25: 5.206 | AX25: 5.198 | AY25: 5.191 | AZ25: 5.183 | BA25: 4.774 | BB25: 4.365 | BC25: 3.956 | BD25: 3.546 | BE25: 3.137 | BF25: 2.728 | BG25: 2.319 | BH25: 1.91 | BI25: 1.501 | BJ25: 1.092 | BK25: 1.018 | BL25: 0.944 | BM25: 0.87 | BN25: 0.797 | BO25: 0.723 | BP25: 0.649 | BQ25: 0.575 | BR25: 0.501 | BS25: 0.428 | BT25: 0.354
A26: 24 | B26: 0 | C26: 0.108 | D26: 0.217 | E26: 0.526 | F26: 0.834 | G26: 1.456 | H26: 2.078 | I26: 2.532 | J26: 2.985 | K26: 3.651 | L26: 4.317 | M26: 4.726 | N26: 5.135 | O26: 5.609 | P26: 6.082 | Q26: 6.519 | R26: 6.957 | S26: 7.442 | T26: 7.928 | U26: 8.1 | V26: 8.273 | W26: 8.365 | X26: 8.457 | Y26: 8.574 | Z26: 8.69 | AA26: 8.674 | AB26: 8.658 | AC26: 8.401 | AD26: 8.144 | AE26: 7.743 | AF26: 7.342 | AG26: 7.13 | AH26: 6.918 | AI26: 6.706 | AJ26: 6.495 | AK26: 6.283 | AL26: 6.124 | AM26: 5.965 | AN26: 5.806 | AO26: 5.647 | AP26: 5.488 | AQ26: 5.48 | AR26: 5.472 | AS26: 5.464 | AT26: 5.456 | AU26: 5.448 | AV26: 5.44 | AW26: 5.432 | AX26: 5.424 | AY26: 5.416 | AZ26: 5.408 | BA26: 4.981 | BB26: 4.554 | BC26: 4.128 | BD26: 3.701 | BE26: 3.274 | BF26: 2.847 | BG26: 2.42 | BH26: 1.993 | BI26: 1.566 | BJ26: 1.139 | BK26: 1.062 | BL26: 0.985 | BM26: 0.908 | BN26: 0.831 | BO26: 0.754 | BP26: 0.677 | BQ26: 0.6 | BR26: 0.523 | BS26: 0.446 | BT26: 0.369
A27: 25 | B27: 0 | C27: 0.113 | D27: 0.226 | E27: 0.547 | F27: 0.869 | G27: 1.517 | H27: 2.165 | I27: 2.637 | J27: 3.109 | K27: 3.803 | L27: 4.497 | M27: 4.923 | N27: 5.349 | O27: 5.842 | P27: 6.336 | Q27: 6.791 | R27: 7.247 | S27: 7.752 | T27: 8.258 | U27: 8.438 | V27: 8.617 | W27: 8.714 | X27: 8.81 | Y27: 8.931 | Z27: 9.052 | AA27: 9.035 | AB27: 9.019 | AC27: 8.751 | AD27: 8.484 | AE27: 8.066 | AF27: 7.648 | AG27: 7.427 | AH27: 7.207 | AI27: 6.986 | AJ27: 6.765 | AK27: 6.545 | AL27: 6.379 | AM27: 6.214 | AN27: 6.048 | AO27: 5.883 | AP27: 5.717 | AQ27: 5.709 | AR27: 5.7 | AS27: 5.692 | AT27: 5.684 | AU27: 5.675 | AV27: 5.667 | AW27: 5.659 | AX27: 5.65 | AY27: 5.642 | AZ27: 5.634 | BA27: 5.189 | BB27: 4.744 | BC27: 4.3 | BD27: 3.855 | BE27: 3.41 | BF27: 2.966 | BG27: 2.521 | BH27: 2.076 | BI27: 1.632 | BJ27: 1.187 | BK27: 1.107 | BL27: 1.026 | BM27: 0.946 | BN27: 0.866 | BO27: 0.786 | BP27: 0.705 | BQ27: 0.625 | BR27: 0.545 | BS27: 0.465 | BT27: 0.384
A28: 26 | B28: 0 | C28: 0.117 | D28: 0.235 | E28: 0.569 | F28: 0.904 | G28: 1.578 | H28: 2.251 | I28: 2.743 | J28: 3.234 | K28: 3.955 | L28: 4.677 | M28: 5.12 | N28: 5.563 | O28: 6.076 | P28: 6.589 | Q28: 7.063 | R28: 7.537 | S28: 8.062 | T28: 8.588 | U28: 8.775 | V28: 8.962 | W28: 9.062 | X28: 9.162 | Y28: 9.288 | Z28: 9.414 | AA28: 9.397 | AB28: 9.379 | AC28: 9.101 | AD28: 8.823 | AE28: 8.388 | AF28: 7.954 | AG28: 7.724 | AH28: 7.495 | AI28: 7.265 | AJ28: 7.036 | AK28: 6.806 | AL28: 6.634 | AM28: 6.462 | AN28: 6.29 | AO28: 6.118 | AP28: 5.946 | AQ28: 5.937 | AR28: 5.928 | AS28: 5.92 | AT28: 5.911 | AU28: 5.902 | AV28: 5.894 | AW28: 5.885 | AX28: 5.876 | AY28: 5.868 | AZ28: 5.859 | BA28: 5.396 | BB28: 4.934 | BC28: 4.472 | BD28: 4.009 | BE28: 3.547 | BF28: 3.084 | BG28: 2.622 | BH28: 2.159 | BI28: 1.697 | BJ28: 1.234 | BK28: 1.151 | BL28: 1.067 | BM28: 0.984 | BN28: 0.901 | BO28: 0.817 | BP28: 0.734 | BQ28: 0.65 | BR28: 0.567 | BS28: 0.483 | BT28: 0.4
A29: 27 | B29: 0 | C29: 0.122 | D29: 0.244 | E29: 0.591 | F29: 0.939 | G29: 1.638 | H29: 2.338 | I29: 2.848 | J29: 3.358 | K29: 4.107 | L29: 4.857 | M29: 5.317 | N29: 5.777 | O29: 6.31 | P29: 6.842 | Q29: 7.334 | R29: 7.826 | S29: 8.373 | T29: 8.919 | U29: 9.113 | V29: 9.307 | W29: 9.411 | X29: 9.514 | Y29: 9.645 | Z29: 9.776 | AA29: 9.758 | AB29: 9.74 | AC29: 9.451 | AD29: 9.162 | AE29: 8.711 | AF29: 8.26 | AG29: 8.021 | AH29: 7.783 | AI29: 7.545 | AJ29: 7.306 | AK29: 7.068 | AL29: 6.889 | AM29: 6.711 | AN29: 6.532 | AO29: 6.353 | AP29: 6.174 | AQ29: 6.165 | AR29: 6.156 | AS29: 6.147 | AT29: 6.138 | AU29: 6.129 | AV29: 6.12 | AW29: 6.111 | AX29: 6.102 | AY29: 6.093 | AZ29: 6.084 | BA29: 5.604 | BB29: 5.124 | BC29: 4.643 | BD29: 4.163 | BE29: 3.683 | BF29: 3.203 | BG29: 2.723 | BH29: 2.242 | BI29: 1.762 | BJ29: 1.282 | BK29: 1.195 | BL29: 1.109 | BM29: 1.022 | BN29: 0.935 | BO29: 0.849 | BP29: 0.762 | BQ29: 0.675 | BR29: 0.589 | BS29: 0.502 | BT29: 0.415
A30: 28 | B30: 0 | C30: 0.126 | D30: 0.253 | E30: 0.613 | F30: 0.974 | G30: 1.699 | H30: 2.425 | I30: 2.954 | J30: 3.482 | K30: 4.259 | L30: 5.036 | M30: 5.514 | N30: 5.991 | O30: 6.544 | P30: 7.096 | Q30: 7.606 | R30: 8.116 | S30: 8.683 | T30: 9.249 | U30: 9.45 | V30: 9.652 | W30: 9.759 | X30: 9.867 | Y30: 10.003 | Z30: 10.138 | AA30: 10.12 | AB30: 10.101 | AC30: 9.801 | AD30: 9.502 | AE30: 9.034 | AF30: 8.566 | AG30: 8.318 | AH30: 8.071 | AI30: 7.824 | AJ30: 7.577 | AK30: 7.33 | AL30: 7.145 | AM30: 6.959 | AN30: 6.774 | AO30: 6.589 | AP30: 6.403 | AQ30: 6.394 | AR30: 6.384 | AS30: 6.375 | AT30: 6.366 | AU30: 6.356 | AV30: 6.347 | AW30: 6.338 | AX30: 6.328 | AY30: 6.319 | AZ30: 6.31 | BA30: 5.812 | BB30: 5.313 | BC30: 4.815 | BD30: 4.317 | BE30: 3.819 | BF30: 3.321 | BG30: 2.823 | BH30: 2.325 | BI30: 1.827 | BJ30: 1.329 | BK30: 1.239 | BL30: 1.15 | BM30: 1.06 | BN30: 0.97 | BO30: 0.88 | BP30: 0.79 | BQ30: 0.7 | BR30: 0.61 | BS30: 0.52 | BT30: 0.431
A31: 29 | B31: 0 | C31: 0.131 | D31: 0.262 | E31: 0.635 | F31: 1.008 | G31: 1.76 | H31: 2.511 | I31: 3.059 | J31: 3.607 | K31: 4.412 | L31: 5.216 | M31: 5.711 | N31: 6.205 | O31: 6.777 | P31: 7.349 | Q31: 7.878 | R31: 8.406 | S31: 8.993 | T31: 9.579 | U31: 9.788 | V31: 9.996 | W31: 10.108 | X31: 10.219 | Y31: 10.36 | Z31: 10.5 | AA31: 10.481 | AB31: 10.462 | AC31: 10.151 | AD31: 9.841 | AE31: 9.356 | AF31: 8.872 | AG31: 8.616 | AH31: 8.36 | AI31: 8.104 | AJ31: 7.848 | AK31: 7.592 | AL31: 7.4 | AM31: 7.208 | AN31: 7.016 | AO31: 6.824 | AP31: 6.632 | AQ31: 6.622 | AR31: 6.612 | AS31: 6.603 | AT31: 6.593 | AU31: 6.583 | AV31: 6.574 | AW31: 6.564 | AX31: 6.554 | AY31: 6.545 | AZ31: 6.535 | BA31: 6.019 | BB31: 5.503 | BC31: 4.987 | BD31: 4.472 | BE31: 3.956 | BF31: 3.44 | BG31: 2.924 | BH31: 2.408 | BI31: 1.893 | BJ31: 1.377 | BK31: 1.284 | BL31: 1.191 | BM31: 1.098 | BN31: 1.004 | BO31: 0.911 | BP31: 0.818 | BQ31: 0.725 | BR31: 0.632 | BS31: 0.539 | BT31: 0.446
... A37: 35 | B37: 0 | C37: 0.155 | D37: 0.311 | E37: 0.762 | F37: 1.214 | G37: 2.101 | H37: 2.989 | I37: 3.721 | J37: 4.453 | K37: 5.421 | L37: 6.389 | M37: 6.996 | N37: 7.603 | O37: 8.3 | P37: 8.997 | Q37: 9.634 | R37: 10.271 | S37: 10.963 | T37: 11.655 | U37: 11.906 | V37: 12.156 | W37: 12.297 | X37: 12.437 | Y37: 12.613 | Z37: 12.788 | AA37: 12.758 | AB37: 12.728 | AC37: 12.352 | AD37: 11.976 | AE37: 11.414 | AF37: 10.852 | AG37: 10.548 | AH37: 10.243 | AI37: 9.938 | AJ37: 9.633 | AK37: 9.328 | AL37: 9.226 | AM37: 9.123 | AN37: 9.021 | AO37: 8.919 | AP37: 8.816 | AQ37: 8.74 | AR37: 8.664 | AS37: 8.588 | AT37: 8.511 | AU37: 8.435 | AV37: 8.359 | AW37: 8.283 | AX37: 8.207 | AY37: 8.13 | AZ37: 8.054 | BA37: 7.562 | BB37: 7.069 | BC37: 6.577 | BD37: 6.084 | BE37: 5.592 | BF37: 5.099 | BG37: 4.607 | BH37: 4.114 | BI37: 3.622 | BJ37: 3.129 | BK37: 2.902 | BL37: 2.674 | BM37: 2.446 | BN37: 2.219 | BO37: 1.991 | BP37: 1.763 | BQ37: 1.536 | BR37: 1.308 | BS37: 1.08 | BT37: 0.853
A38: 36 | B38: 0 | C38: 0.163 | D38: 0.327 | E38: 0.787 | F38: 1.248 | G38: 2.172 | H38: 3.097 | I38: 3.851 | J38: 4.604 | K38: 5.595 | L38: 6.586 | M38: 7.218 | N38: 7.849 | O38: 8.57 | P38: 9.29 | Q38: 9.946 | R38: 10.602 | S38: 11.308 | T38: 12.014 | U38: 12.27 | V38: 12.525 | W38: 12.672 | X38: 12.818 | Y38: 13 | Z38: 13.181 | AA38: 13.151 | AB38: 13.121 | AC38: 12.735 | AD38: 12.349 | AE38: 11.774 | AF38: 11.199 | AG38: 10.888 | AH38: 10.576 | AI38: 10.264 | AJ38: 9.953 | AK38: 9.641 | AL38: 9.542 | AM38: 9.443 | AN38: 9.344 | AO38: 9.244 | AP38: 9.145 | AQ38: 9.064 | AR38: 8.983 | AS38: 8.902 | AT38: 8.821 | AU38: 8.74 | AV38: 8.659 | AW38: 8.578 | AX38: 8.497 | AY38: 8.416 | AZ38: 8.335 | BA38: 7.855 | BB38: 7.374 | BC38: 6.894 | BD38: 6.414 | BE38: 5.934 | BF38: 5.454 | BG38: 4.973 | BH38: 4.493 | BI38: 4.013 | BJ38: 3.533 | BK38: 3.275 | BL38: 3.017 | BM38: 2.76 | BN38: 2.502 | BO38: 2.245 | BP38: 1.987 | BQ38: 1.73 | BR38: 1.472 | BS38: 1.214 | BT38: 0.957
A39: 37 | B39: 0 | C39: 0.172 | D39: 0.343 | E39: 0.812 | F39: 1.282 | G39: 2.244 | H39: 3.206 | I39: 3.98 | J39: 4.754 | K39: 5.768 | L39: 6.782 | M39: 7.439 | N39: 8.096 | O39: 8.839 | P39: 9.583 | Q39: 10.258 | R39: 10.933 | S39: 11.653 | T39: 12.373 | U39: 12.634 | V39: 12.895 | W39: 13.047 | X39: 13.199 | Y39: 13.387 | Z39: 13.575 | AA39: 13.545 | AB39: 13.514 | AC39: 13.118 | AD39: 12.722 | AE39: 12.134 | AF39: 11.547 | AG39: 11.228 | AH39: 10.909 | AI39: 10.591 | AJ39: 10.272 | AK39: 9.954 | AL39: 9.858 | AM39: 9.762 | AN39: 9.666 | AO39: 9.57 | AP39: 9.474 | AQ39: 9.388 | AR39: 9.303 | AS39: 9.217 | AT39: 9.131 | AU39: 9.045 | AV39: 8.959 | AW39: 8.873 | AX39: 8.787 | AY39: 8.702 | AZ39: 8.616 | BA39: 8.148 | BB39: 7.68 | BC39: 7.212 | BD39: 6.744 | BE39: 6.276 | BF39: 5.808 | BG39: 5.34 | BH39: 4.872 | BI39: 4.404 | BJ39: 3.936 | BK39: 3.648 | BL39: 3.361 | BM39: 3.073 | BN39: 2.786 | BO39: 2.498 | BP39: 2.211 | BQ39: 1.924 | BR39: 1.636 | BS39: 1.349 | BT39: 1.061
A40: 38 | B40: 0 | C40: 0.18 | D40: 0.359 | E40: 0.838 | F40: 1.316 | G40: 2.315 | H40: 3.314 | I40: 4.109 | J40: 4.905 | K40: 5.942 | L40: 6.979 | M40: 7.661 | N40: 8.343 | O40: 9.109 | P40: 9.876 | Q40: 10.57 | R40: 11.264 | S40: 11.998 | T40: 12.732 | U40: 12.998 | V40: 13.264 | W40: 13.422 | X40: 13.581 | Y40: 13.774 | Z40: 13.968 | AA40: 13.938 | AB40: 13.908 | AC40: 13.501 | AD40: 13.095 | AE40: 12.494 | AF40: 11.894 | AG40: 11.568 | AH40: 11.243 | AI40: 10.917 | AJ40: 10.592 | AK40: 10.267 | AL40: 10.174 | AM40: 10.081 | AN40: 9.989 | AO40: 9.896 | AP40: 9.803 | AQ40: 9.713 | AR40: 9.622 | AS40: 9.531 | AT40: 9.441 | AU40: 9.35 | AV40: 9.259 | AW40: 9.169 | AX40: 9.078 | AY40: 8.987 | AZ40: 8.897 | BA40: 8.441 | BB40: 7.985 | BC40: 7.529 | BD40: 7.074 | BE40: 6.618 | BF40: 6.162 | BG40: 5.706 | BH40: 5.251 | BI40: 4.795 | BJ40: 4.339 | BK40: 4.022 | BL40: 3.704 | BM40: 3.387 | BN40: 3.07 | BO40: 2.752 | BP40: 2.435 | BQ40: 2.118 | BR40: 1.8 | BS40: 1.483 | BT40: 1.165
A41: 39 | B41: 0 | C41: 0.188 | D41: 0.375 | E41: 0.863 | F41: 1.35 | G41: 2.386 | H41: 3.422 | I41: 4.239 | J41: 5.055 | K41: 6.115 | L41: 7.175 | M41: 7.883 | N41: 8.59 | O41: 9.379 | P41: 10.168 | Q41: 10.882 | R41: 11.595 | S41: 12.343 | T41: 13.091 | U41: 13.362 | V41: 13.633 | W41: 13.797 | X41: 13.962 | Y41: 14.161 | Z41: 14.361 | AA41: 14.331 | AB41: 14.301 | AC41: 13.885 | AD41: 13.468 | AE41: 12.854 | AF41: 12.241 | AG41: 11.908 | AH41: 11.576 | AI41: 11.244 | AJ41: 10.912 | AK41: 10.58 | AL41: 10.49 | AM41: 10.401 | AN41: 10.311 | AO41: 10.222 | AP41: 10.132 | AQ41: 10.037 | AR41: 9.941 | AS41: 9.846 | AT41: 9.75 | AU41: 9.655 | AV41: 9.559 | AW41: 9.464 | AX41: 9.368 | AY41: 9.273 | AZ41: 9.177 | BA41: 8.734 | BB41: 8.29 | BC41: 7.847 | BD41: 7.403 | BE41: 6.96 | BF41: 6.516 | BG41: 6.073 | BH41: 5.629 | BI41: 5.186 | BJ41: 4.742 | BK41: 4.395 | BL41: 4.048 | BM41: 3.7 | BN41: 3.353 | BO41: 3.006 | BP41: 2.659 | BQ41: 2.312 | BR41: 1.964 | BS41: 1.617 | BT41: 1.27
A42: 40 | B42: 0 | C42: 0.196 | D42: 0.391 | E42: 0.888 | F42: 1.384 | G42: 2.457 | H42: 3.531 | I42: 4.368 | J42: 5.206 | K42: 6.289 | L42: 7.372 | M42: 8.104 | N42: 8.836 | O42: 9.649 | P42: 10.461 | Q42: 11.193 | R42: 11.926 | S42: 12.688 | T42: 13.45 | U42: 13.726 | V42: 14.002 | W42: 14.172 | X42: 14.343 | Y42: 14.549 | Z42: 14.754 | AA42: 14.724 | AB42: 14.694 | AC42: 14.268 | AD42: 13.841 | AE42: 13.215 | AF42: 12.588 | AG42: 12.249 | AH42: 11.91 | AI42: 11.571 | AJ42: 11.232 | AK42: 10.893 | AL42: 10.806 | AM42: 10.72 | AN42: 10.634 | AO42: 10.548 | AP42: 10.461 | AQ42: 10.361 | AR42: 10.261 | AS42: 10.16 | AT42: 10.06 | AU42: 9.96 | AV42: 9.859 | AW42: 9.759 | AX42: 9.659 | AY42: 9.559 | AZ42: 9.458 | BA42: 9.027 | BB42: 8.596 | BC42: 8.164 | BD42: 7.733 | BE42: 7.302 | BF42: 6.871 | BG42: 6.439 | BH42: 6.008 | BI42: 5.577 | BJ42: 5.145 | BK42: 4.768 | BL42: 4.391 | BM42: 4.014 | BN42: 3.637 | BO42: 3.26 | BP42: 2.883 | BQ42: 2.505 | BR42: 2.128 | BS42: 1.751 | BT42: 1.374
A43: 41 | B43: 0 | C43: 0.207 | D43: 0.413 | E43: 0.919 | F43: 1.424 | G43: 2.531 | H43: 3.637 | I43: 4.503 | J43: 5.37 | K43: 6.476 | L43: 7.583 | M43: 8.34 | N43: 9.097 | O43: 9.932 | P43: 10.766 | Q43: 11.518 | R43: 12.271 | S43: 13.044 | T43: 13.817 | U43: 14.098 | V43: 14.379 | W43: 14.559 | X43: 14.738 | Y43: 14.95 | Z43: 15.161 | AA43: 15.13 | AB43: 15.099 | AC43: 14.664 | AD43: 14.229 | AE43: 13.592 | AF43: 12.955 | AG43: 12.61 | AH43: 12.265 | AI43: 11.921 | AJ43: 11.576 | AK43: 11.232 | AL43: 11.138 | AM43: 11.045 | AN43: 10.951 | AO43: 10.858 | AP43: 10.764 | AQ43: 10.664 | AR43: 10.564 | AS43: 10.464 | AT43: 10.364 | AU43: 10.264 | AV43: 10.164 | AW43: 10.064 | AX43: 9.963 | AY43: 9.863 | AZ43: 9.763 | BA43: 9.329 | BB43: 8.894 | BC43: 8.46 | BD43: 8.025 | BE43: 7.591 | BF43: 7.156 | BG43: 6.722 | BH43: 6.287 | BI43: 5.853 | BJ43: 5.418 | BK43: 5.024 | BL43: 4.631 | BM43: 4.237 | BN43: 3.843 | BO43: 3.449 | BP43: 3.056 | BQ43: 2.662 | BR43: 2.268 | BS43: 1.874 | BT43: 1.48
A44: 42 | B44: 0 | C44: 0.218 | D44: 0.435 | E44: 0.95 | F44: 1.464 | G44: 2.604 | H44: 3.743 | I44: 4.639 | J44: 5.535 | K44: 6.664 | L44: 7.793 | M44: 8.576 | N44: 9.358 | O44: 10.215 | P44: 11.071 | Q44: 11.843 | R44: 12.616 | S44: 13.4 | T44: 14.184 | U44: 14.47 | V44: 14.756 | W44: 14.945 | X44: 15.133 | Y44: 15.351 | Z44: 15.569 | AA44: 15.536 | AB44: 15.504 | AC44: 15.06 | AD44: 14.616 | AE44: 13.969 | AF44: 13.322 | AG44: 12.972 | AH44: 12.621 | AI44: 12.271 | AJ44: 11.921 | AK44: 11.571 | AL44: 11.47 | AM44: 11.369 | AN44: 11.269 | AO44: 11.168 | AP44: 11.067 | AQ44: 10.967 | AR44: 10.867 | AS44: 10.767 | AT44: 10.668 | AU44: 10.568 | AV44: 10.468 | AW44: 10.368 | AX44: 10.268 | AY44: 10.168 | AZ44: 10.068 | BA44: 9.63 | BB44: 9.193 | BC44: 8.755 | BD44: 8.317 | BE44: 7.88 | BF44: 7.442 | BG44: 7.004 | BH44: 6.566 | BI44: 6.129 | BJ44: 5.691 | BK44: 5.281 | BL44: 4.87 | BM44: 4.46 | BN44: 4.049 | BO44: 3.639 | BP44: 3.228 | BQ44: 2.818 | BR44: 2.408 | BS44: 1.997 | BT44: 1.587
A45: 43 | B45: 0 | C45: 0.229 | D45: 0.457 | E45: 0.981 | F45: 1.504 | G45: 2.677 | H45: 3.85 | I45: 4.774 | J45: 5.699 | K45: 6.851 | L45: 8.004 | M45: 8.811 | N45: 9.619 | O45: 10.497 | P45: 11.376 | Q45: 12.168 | R45: 12.961 | S45: 13.756 | T45: 14.552 | U45: 14.842 | V45: 15.133 | W45: 15.331 | X45: 15.528 | Y45: 15.752 | Z45: 15.976 | AA45: 15.943 | AB45: 15.91 | AC45: 15.456 | AD45: 15.003 | AE45: 14.346 | AF45: 13.689 | AG45: 13.333 | AH45: 12.977 | AI45: 12.621 | AJ45: 12.265 | AK45: 11.91 | AL45: 11.802 | AM45: 11.694 | AN45: 11.586 | AO45: 11.478 | AP45: 11.37 | AQ45: 11.27 | AR45: 11.171 | AS45: 11.071 | AT45: 10.971 | AU45: 10.872 | AV45: 10.772 | AW45: 10.672 | AX45: 10.572 | AY45: 10.473 | AZ45: 10.373 | BA45: 9.932 | BB45: 9.491 | BC45: 9.05 | BD45: 8.609 | BE45: 8.168 | BF45: 7.728 | BG45: 7.287 | BH45: 6.846 | BI45: 6.405 | BJ45: 5.964 | BK45: 5.537 | BL45: 5.11 | BM45: 4.683 | BN45: 4.256 | BO45: 3.828 | BP45: 3.401 | BQ45: 2.974 | BR45: 2.547 | BS45: 2.12 | BT45: 1.693
A46: 44 | B46: 0 | C46: 0.24 | D46: 0.479 | E46: 1.012 | F46: 1.545 | G46: 2.75 | H46: 3.956 | I46: 4.91 | J46: 5.864 | K46: 7.039 | L46: 8.215 | M46: 9.047 | N46: 9.88 | O46: 10.78 | P46: 11.681 | Q46: 12.493 | R46: 13.306 | S46: 14.112 | T46: 14.919 | U46: 15.215 | V46: 15.51 | W46: 15.717 | X46: 15.924 | Y46: 16.153 | Z46: 16.383 | AA46: 16.349 | AB46: 16.315 | AC46: 15.852 | AD46: 15.39 | AE46: 14.723 | AF46: 14.056 | AG46: 13.695 | AH46: 13.333 | AI46: 12.972 | AJ46: 12.61 | AK46: 12.249 | AL46: 12.133 | AM46: 12.018 | AN46: 11.903 | AO46: 11.788 | AP46: 11.673 | AQ46: 11.573 | AR46: 11.474 | AS46: 11.374 | AT46: 11.275 | AU46: 11.175 | AV46: 11.076 | AW46: 10.976 | AX46: 10.877 | AY46: 10.777 | AZ46: 10.678 | BA46: 10.234 | BB46: 9.79 | BC46: 9.346 | BD46: 8.901 | BE46: 8.457 | BF46: 8.013 | BG46: 7.569 | BH46: 7.125 | BI46: 6.681 | BJ46: 6.237 | BK46: 5.793 | BL46: 5.349 | BM46: 4.905 | BN46: 4.462 | BO46: 4.018 | BP46: 3.574 | BQ46: 3.131 | BR46: 2.687 | BS46: 2.243 | BT46: 1.799
A47: 45 | B47: 0 | C47: 0.251 | D47: 0.501 | E47: 1.043 | F47: 1.585 | G47: 2.823 | H47: 4.062 | I47: 5.045 | J47: 6.028 | K47: 7.227 | L47: 8.425 | M47: 9.283 | N47: 10.14 | O47: 11.063 | P47: 11.986 | Q47: 12.818 | R47: 13.651 | S47: 14.468 | T47: 15.286 | U47: 15.587 | V47: 15.888 | W47: 16.103 | X47: 16.319 | Y47: 16.555 | Z47: 16.79 | AA47: 16.755 | AB47: 16.72 | AC47: 16.249 | AD47: 15.777 | AE47: 15.1 | AF47: 14.423 | AG47: 14.056 | AH47: 13.689 | AI47: 13.322 | AJ47: 12.955 | AK47: 12.588 | AL47: 12.465 | AM47: 12.343 | AN47: 12.221 | AO47: 12.098 | AP47: 11.976 | AQ47: 11.877 | AR47: 11.777 | AS47: 11.678 | AT47: 11.579 | AU47: 11.479 | AV47: 11.38 | AW47: 11.281 | AX47: 11.181 | AY47: 11.082 | AZ47: 10.983 | BA47: 10.536 | BB47: 10.088 | BC47: 9.641 | BD47: 9.193 | BE47: 8.746 | BF47: 8.299 | BG47: 7.851 | BH47: 7.404 | BI47: 6.957 | BJ47: 6.509 | BK47: 6.049 | BL47: 5.589 | BM47: 5.128 | BN47: 4.668 | BO47: 4.208 | BP47: 3.747 | BQ47: 3.287 | BR47: 2.826 | BS47: 2.366 | BT47: 1.906
A48: 46 | B48: 0 | C48: 0.267 | D48: 0.534 | E48: 1.084 | F48: 1.635 | G48: 2.905 | H48: 4.174 | I48: 5.193 | J48: 6.211 | K48: 7.436 | L48: 8.662 | M48: 9.542 | N48: 10.421 | O48: 11.369 | P48: 12.317 | Q48: 13.168 | R48: 14.02 | S48: 14.842 | T48: 15.665 | U48: 15.977 | V48: 16.289 | W48: 16.516 | X48: 16.744 | Y48: 16.976 | Z48: 17.207 | AA48: 17.17 | AB48: 17.133 | AC48: 16.655 | AD48: 16.176 | AE48: 15.494 | AF48: 14.812 | AG48: 14.441 | AH48: 14.07 | AI48: 13.699 | AJ48: 13.328 | AK48: 12.957 | AL48: 12.84 | AM48: 12.722 | AN48: 12.605 | AO48: 12.488 | AP48: 12.371 | AQ48: 12.266 | AR48: 12.162 | AS48: 12.057 | AT48: 11.952 | AU48: 11.847 | AV48: 11.743 | AW48: 11.638 | AX48: 11.533 | AY48: 11.429 | AZ48: 11.324 | BA48: 10.873 | BB48: 10.422 | BC48: 9.971 | BD48: 9.52 | BE48: 9.069 | BF48: 8.618 | BG48: 8.167 | BH48: 7.716 | BI48: 7.265 | BJ48: 6.814 | BK48: 6.33 | BL48: 5.845 | BM48: 5.36 | BN48: 4.875 | BO48: 4.39 | BP48: 3.905 | BQ48: 3.42 | BR48: 2.936 | BS48: 2.451 | BT48: 1.966
A49: 47 | B49: 0 | C49: 0.283 | D49: 0.566 | E49: 1.125 | F49: 1.685 | G49: 2.986 | H49: 4.287 | I49: 5.34 | J49: 6.393 | K49: 7.646 | L49: 8.899 | M49: 9.8 | N49: 10.702 | O49: 11.675 | P49: 12.648 | Q49: 13.518 | R49: 14.389 | S49: 15.217 | T49: 16.044 | U49: 16.367 | V49: 16.69 | W49: 16.93 | X49: 17.169 | Y49: 17.397 | Z49: 17.625 | AA49: 17.586 | AB49: 17.546 | AC49: 17.061 | AD49: 16.576 | AE49: 15.889 | AF49: 15.201 | AG49: 14.826 | AH49: 14.451 | AI49: 14.076 | AJ49: 13.701 | AK49: 13.326 | AL49: 13.214 | AM49: 13.102 | AN49: 12.99 | AO49: 12.878 | AP49: 12.766 | AQ49: 12.656 | AR49: 12.546 | AS49: 12.436 | AT49: 12.326 | AU49: 12.216 | AV49: 12.105 | AW49: 11.995 | AX49: 11.885 | AY49: 11.775 | AZ49: 11.665 | BA49: 11.21 | BB49: 10.756 | BC49: 10.301 | BD49: 9.847 | BE49: 9.392 | BF49: 8.938 | BG49: 8.483 | BH49: 8.028 | BI49: 7.574 | BJ49: 7.119 | BK49: 6.61 | BL49: 6.101 | BM49: 5.591 | BN49: 5.082 | BO49: 4.573 | BP49: 4.063 | BQ49: 3.554 | BR49: 3.045 | BS49: 2.535 | BT49: 2.026
A50: 48 | B50: 0 | C50: 0.299 | D50: 0.598 | E50: 1.166 | F50: 1.735 | G50: 3.067 | H50: 4.399 | I50: 5.487 | J50: 6.576 | K50: 7.855 | L50: 9.135 | M50: 10.059 | N50: 10.983 | O50: 11.981 | P50: 12.979 | Q50: 13.868 | R50: 14.758 | S50: 15.591 | T50: 16.423 | U50: 16.757 | V50: 17.091 | W50: 17.343 | X50: 17.595 | Y50: 17.818 | Z50: 18.042 | AA50: 18.001 | AB50: 17.96 | AC50: 17.467 | AD50: 16.975 | AE50: 16.283 | AF50: 15.591 | AG50: 15.211 | AH50: 14.832 | AI50: 14.453 | AJ50: 14.074 | AK50: 13.695 | AL50: 13.588 | AM50: 13.482 | AN50: 13.375 | AO50: 13.268 | AP50: 13.161 | AQ50: 13.046 | AR50: 12.93 | AS50: 12.815 | AT50: 12.699 | AU50: 12.584 | AV50: 12.468 | AW50: 12.353 | AX50: 12.237 | AY50: 12.121 | AZ50: 12.006 | BA50: 11.548 | BB50: 11.09 | BC50: 10.631 | BD50: 10.173 | BE50: 9.715 | BF50: 9.257 | BG50: 8.799 | BH50: 8.341 | BI50: 7.882 | BJ50: 7.424 | BK50: 6.89 | BL50: 6.357 | BM50: 5.823 | BN50: 5.289 | BO50: 4.755 | BP50: 4.221 | BQ50: 3.688 | BR50: 3.154 | BS50: 2.62 | BT50: 2.086
... A62: 60 | B62: 0 | C62: 0.592 | D62: 1.184 | E62: 1.891 | F62: 2.598 | G62: 4.408 | H62: 6.219 | I62: 7.462 | J62: 8.706 | K62: 10.266 | L62: 11.825 | M62: 13.335 | N62: 14.844 | O62: 16.048 | P62: 17.252 | Q62: 18.285 | R62: 19.318 | S62: 20.246 | T62: 21.173 | U62: 21.755 | V62: 22.337 | W62: 22.643 | X62: 22.949 | Y62: 23.109 | Z62: 23.27 | AA62: 23.054 | AB62: 22.838 | AC62: 22.317 | AD62: 21.795 | AE62: 21.033 | AF62: 20.271 | AG62: 19.976 | AH62: 19.681 | AI62: 19.386 | AJ62: 19.091 | AK62: 18.796 | AL62: 18.686 | AM62: 18.576 | AN62: 18.465 | AO62: 18.355 | AP62: 18.245 | AQ62: 18.112 | AR62: 17.98 | AS62: 17.847 | AT62: 17.715 | AU62: 17.583 | AV62: 17.45 | AW62: 17.318 | AX62: 17.185 | AY62: 17.053 | AZ62: 16.921 | BA62: 16.356 | BB62: 15.791 | BC62: 15.227 | BD62: 14.662 | BE62: 14.097 | BF62: 13.532 | BG62: 12.968 | BH62: 12.403 | BI62: 11.838 | BJ62: 11.274 | BK62: 10.48 | BL62: 9.687 | BM62: 8.894 | BN62: 8.1 | BO62: 7.307 | BP62: 6.513 | BQ62: 5.72 | BR62: 4.927 | BS62: 4.133 | BT62: 3.34
A63: 61 | B63: 0 | C63: 0.628 | D63: 1.256 | E63: 2.013 | F63: 2.77 | G63: 4.565 | H63: 6.359 | I63: 7.588 | J63: 8.816 | K63: 10.408 | L63: 12 | M63: 13.569 | N63: 15.137 | O63: 16.365 | P63: 17.593 | Q63: 18.598 | R63: 19.603 | S63: 20.54 | T63: 21.478 | U63: 22.044 | V63: 22.638 | W63: 22.959 | X63: 23.28 | Y63: 23.424 | Z63: 23.568 | AA63: 23.365 | AB63: 23.161 | AC63: 22.648 | AD63: 22.134 | AE63: 21.372 | AF63: 20.61 | AG63: 20.322 | AH63: 20.034 | AI63: 19.747 | AJ63: 19.459 | AK63: 19.171 | AL63: 19.066 | AM63: 18.96 | AN63: 18.855 | AO63: 18.749 | AP63: 18.644 | AQ63: 18.515 | AR63: 18.386 | AS63: 18.257 | AT63: 18.129 | AU63: 18 | AV63: 17.871 | AW63: 17.742 | AX63: 17.613 | AY63: 17.485 | AZ63: 17.356 | BA63: 16.794 | BB63: 16.233 | BC63: 15.671 | BD63: 15.109 | BE63: 14.548 | BF63: 13.986 | BG63: 13.424 | BH63: 12.862 | BI63: 12.301 | BJ63: 11.739 | BK63: 10.921 | BL63: 10.102 | BM63: 9.284 | BN63: 8.465 | BO63: 7.647 | BP63: 6.828 | BQ63: 6.01 | BR63: 5.192 | BS63: 4.373 | BT63: 3.555
A64: 62 | B64: 0 | C64: 0.664 | D64: 1.328 | E64: 2.135 | F64: 2.943 | G64: 4.721 | H64: 6.499 | I64: 7.713 | J64: 8.927 | K64: 10.551 | L64: 12.174 | M64: 13.802 | N64: 15.43 | O64: 16.682 | P64: 17.934 | Q64: 18.911 | R64: 19.887 | S64: 20.835 | T64: 21.783 | U64: 22.333 | V64: 22.939 | W64: 23.275 | X64: 23.611 | Y64: 23.739 | Z64: 23.867 | AA64: 23.676 | AB64: 23.484 | AC64: 22.979 | AD64: 22.473 | AE64: 21.711 | AF64: 20.949 | AG64: 20.668 | AH64: 20.388 | AI64: 20.107 | AJ64: 19.827 | AK64: 19.546 | AL64: 19.446 | AM64: 19.345 | AN64: 19.244 | AO64: 19.144 | AP64: 19.043 | AQ64: 18.918 | AR64: 18.793 | AS64: 18.667 | AT64: 18.542 | AU64: 18.417 | AV64: 18.292 | AW64: 18.167 | AX64: 18.042 | AY64: 17.916 | AZ64: 17.791 | BA64: 17.233 | BB64: 16.674 | BC64: 16.115 | BD64: 15.557 | BE64: 14.998 | BF64: 14.439 | BG64: 13.881 | BH64: 13.322 | BI64: 12.763 | BJ64: 12.205 | BK64: 11.361 | BL64: 10.517 | BM64: 9.674 | BN64: 8.83 | BO64: 7.987 | BP64: 7.143 | BQ64: 6.3 | BR64: 5.456 | BS64: 4.613 | BT64: 3.769
A65: 63 | B65: 0 | C65: 0.7 | D65: 1.4 | E65: 2.258 | F65: 3.115 | G65: 4.878 | H65: 6.64 | I65: 7.838 | J65: 9.037 | K65: 10.693 | L65: 12.349 | M65: 14.036 | N65: 15.723 | O65: 16.999 | P65: 18.275 | Q65: 19.223 | R65: 20.172 | S65: 21.13 | T65: 22.088 | U65: 22.622 | V65: 23.24 | W65: 23.591 | X65: 23.942 | Y65: 24.054 | Z65: 24.166 | AA65: 23.987 | AB65: 23.807 | AC65: 23.31 | AD65: 22.812 | AE65: 22.05 | AF65: 21.288 | AG65: 21.014 | AH65: 20.741 | AI65: 20.468 | AJ65: 20.195 | AK65: 19.922 | AL65: 19.826 | AM65: 19.73 | AN65: 19.634 | AO65: 19.538 | AP65: 19.442 | AQ65: 19.321 | AR65: 19.199 | AS65: 19.077 | AT65: 18.956 | AU65: 18.834 | AV65: 18.713 | AW65: 18.591 | AX65: 18.47 | AY65: 18.348 | AZ65: 18.227 | BA65: 17.671 | BB65: 17.115 | BC65: 16.56 | BD65: 16.004 | BE65: 15.448 | BF65: 14.893 | BG65: 14.337 | BH65: 13.781 | BI65: 13.226 | BJ65: 12.67 | BK65: 11.801 | BL65: 10.933 | BM65: 10.064 | BN65: 9.196 | BO65: 8.327 | BP65: 7.458 | BQ65: 6.59 | BR65: 5.721 | BS65: 4.853 | BT65: 3.984
A66: 64 | B66: 0 | C66: 0.736 | D66: 1.472 | E66: 2.38 | F66: 3.288 | G66: 5.034 | H66: 6.78 | I66: 7.964 | J66: 9.147 | K66: 10.835 | L66: 12.523 | M66: 14.27 | N66: 16.016 | O66: 17.316 | P66: 18.616 | Q66: 19.536 | R66: 20.457 | S66: 21.425 | T66: 22.393 | U66: 22.911 | V66: 23.54 | W66: 23.907 | X66: 24.273 | Y66: 24.369 | Z66: 24.465 | AA66: 24.298 | AB66: 24.13 | AC66: 23.641 | AD66: 23.151 | AE66: 22.389 | AF66: 21.627 | AG66: 21.361 | AH66: 21.095 | AI66: 20.829 | AJ66: 20.563 | AK66: 20.297 | AL66: 20.206 | AM66: 20.115 | AN66: 20.023 | AO66: 19.932 | AP66: 19.841 | AQ66: 19.723 | AR66: 19.605 | AS66: 19.487 | AT66: 19.37 | AU66: 19.252 | AV66: 19.134 | AW66: 19.016 | AX66: 18.898 | AY66: 18.78 | AZ66: 18.662 | BA66: 18.109 | BB66: 17.557 | BC66: 17.004 | BD66: 16.451 | BE66: 15.899 | BF66: 15.346 | BG66: 14.793 | BH66: 14.241 | BI66: 13.688 | BJ66: 13.135 | BK66: 12.242 | BL66: 11.348 | BM66: 10.454 | BN66: 9.561 | BO66: 8.667 | BP66: 7.773 | BQ66: 6.88 | BR66: 5.986 | BS66: 5.092 | BT66: 4.199
A67: 65 | B67: 0 | C67: 0.772 | D67: 1.545 | E67: 2.502 | F67: 3.46 | G67: 5.191 | H67: 6.921 | I67: 8.089 | J67: 9.258 | K67: 10.978 | L67: 12.698 | M67: 14.503 | N67: 16.309 | O67: 17.633 | P67: 18.957 | Q67: 19.849 | R67: 20.742 | S67: 21.72 | T67: 22.698 | U67: 23.24 | V67: 23.841 | W67: 24.222 | X67: 24.604 | Y67: 24.684 | Z67: 24.764 | AA67: 24.609 | AB67: 24.453 | AC67: 23.972 | AD67: 23.49 | AE67: 22.728 | AF67: 21.966 | AG67: 21.707 | AH67: 21.448 | AI67: 21.189 | AJ67: 20.931 | AK67: 20.672 | AL67: 20.586 | AM67: 20.499 | AN67: 20.413 | AO67: 20.327 | AP67: 20.241 | AQ67: 20.126 | AR67: 20.012 | AS67: 19.898 | AT67: 19.783 | AU67: 19.669 | AV67: 19.554 | AW67: 19.44 | AX67: 19.326 | AY67: 19.211 | AZ67: 19.097 | BA67: 18.547 | BB67: 17.998 | BC67: 17.448 | BD67: 16.899 | BE67: 16.349 | BF67: 15.799 | BG67: 15.25 | BH67: 14.7 | BI67: 14.15 | BJ67: 13.601 | BK67: 12.682 | BL67: 11.763 | BM67: 10.844 | BN67: 9.926 | BO67: 9.007 | BP67: 8.088 | BQ67: 7.169 | BR67: 6.251 | BS67: 5.332 | BT67: 4.413
A68: 66 | B68: 0 | C68: 0.823 | D68: 1.647 | E68: 2.651 | F68: 3.655 | G68: 5.326 | H68: 6.997 | I68: 8.179 | J68: 9.362 | K68: 11.086 | L68: 12.81 | M68: 14.676 | N68: 16.541 | O68: 17.866 | P68: 19.191 | Q68: 20.077 | R68: 20.963 | S68: 21.922 | T68: 22.88 | U68: 23.45 | V68: 24.068 | W68: 24.454 | X68: 24.84 | Y68: 24.918 | Z68: 24.995 | AA68: 24.833 | AB68: 24.672 | AC68: 24.201 | AD68: 23.731 | AE68: 22.991 | AF68: 22.251 | AG68: 22 | AH68: 21.75 | AI68: 21.5 | AJ68: 21.249 | AK68: 20.999 | AL68: 20.919 | AM68: 20.838 | AN68: 20.758 | AO68: 20.678 | AP68: 20.598 | AQ68: 20.484 | AR68: 20.371 | AS68: 20.257 | AT68: 20.143 | AU68: 20.03 | AV68: 19.916 | AW68: 19.803 | AX68: 19.689 | AY68: 19.576 | AZ68: 19.462 | BA68: 18.919 | BB68: 18.376 | BC68: 17.833 | BD68: 17.29 | BE68: 16.747 | BF68: 16.204 | BG68: 15.661 | BH68: 15.118 | BI68: 14.575 | BJ68: 14.032 | BK68: 13.11 | BL68: 12.188 | BM68: 11.265 | BN68: 10.343 | BO68: 9.421 | BP68: 8.499 | BQ68: 7.577 | BR68: 6.655 | BS68: 5.733 | BT68: 4.81
A69: 67 | B69: 0 | C69: 0.875 | D69: 1.749 | E69: 2.799 | F69: 3.85 | G69: 5.461 | H69: 7.073 | I69: 8.27 | J69: 9.466 | K69: 11.194 | L69: 12.923 | M69: 14.848 | N69: 16.774 | O69: 18.1 | P69: 19.426 | Q69: 20.305 | R69: 21.183 | S69: 22.123 | T69: 23.063 | U69: 23.661 | V69: 24.295 | W69: 24.686 | X69: 25.077 | Y69: 25.151 | Z69: 25.225 | AA69: 25.058 | AB69: 24.89 | AC69: 24.431 | AD69: 23.972 | AE69: 23.254 | AF69: 22.535 | AG69: 22.293 | AH69: 22.052 | AI69: 21.81 | AJ69: 21.568 | AK69: 21.326 | AL69: 21.252 | AM69: 21.177 | AN69: 21.103 | AO69: 21.029 | AP69: 20.955 | AQ69: 20.842 | AR69: 20.729 | AS69: 20.616 | AT69: 20.504 | AU69: 20.391 | AV69: 20.278 | AW69: 20.166 | AX69: 20.053 | AY69: 19.94 | AZ69: 19.827 | BA69: 19.291 | BB69: 18.754 | BC69: 18.218 | BD69: 17.682 | BE69: 17.145 | BF69: 16.609 | BG69: 16.072 | BH69: 15.536 | BI69: 15 | BJ69: 14.463 | BK69: 13.538 | BL69: 12.612 | BM69: 11.687 | BN69: 10.761 | BO69: 9.835 | BP69: 8.91 | BQ69: 7.984 | BR69: 7.059 | BS69: 6.133 | BT69: 5.208
A70: 68 | B70: 0 | C70: 0.926 | D70: 1.852 | E70: 2.948 | F70: 4.044 | G70: 5.597 | H70: 7.149 | I70: 8.36 | J70: 9.571 | K70: 11.303 | L70: 13.035 | M70: 15.021 | N70: 17.007 | O70: 18.334 | P70: 19.661 | Q70: 20.532 | R70: 21.404 | S70: 22.325 | T70: 23.246 | U70: 23.871 | V70: 24.521 | W70: 24.918 | X70: 25.314 | Y70: 25.385 | Z70: 25.456 | AA70: 25.283 | AB70: 25.109 | AC70: 24.661 | AD70: 24.212 | AE70: 23.516 | AF70: 22.82 | AG70: 22.587 | AH70: 22.353 | AI70: 22.12 | AJ70: 21.886 | AK70: 21.653 | AL70: 21.585 | AM70: 21.516 | AN70: 21.448 | AO70: 21.38 | AP70: 21.312 | AQ70: 21.2 | AR70: 21.088 | AS70: 20.976 | AT70: 20.864 | AU70: 20.752 | AV70: 20.64 | AW70: 20.528 | AX70: 20.416 | AY70: 20.304 | AZ70: 20.192 | BA70: 19.663 | BB70: 19.133 | BC70: 18.603 | BD70: 18.073 | BE70: 17.543 | BF70: 17.014 | BG70: 16.484 | BH70: 15.954 | BI70: 15.424 | BJ70: 14.895 | BK70: 13.966 | BL70: 13.037 | BM70: 12.108 | BN70: 11.179 | BO70: 10.25 | BP70: 9.321 | BQ70: 8.392 | BR70: 7.463 | BS70: 6.534 | BT70: 5.605
A71: 69 | B71: 0 | C71: 0.977 | D71: 1.954 | E71: 3.096 | F71: 4.239 | G71: 5.732 | H71: 7.226 | I71: 8.45 | J71: 9.675 | K71: 11.411 | L71: 13.147 | M71: 15.193 | N71: 17.24 | O71: 18.568 | P71: 19.896 | Q71: 20.76 | R71: 21.625 | S71: 22.526 | T71: 23.428 | U71: 24.082 | V71: 24.748 | W71: 25.149 | X71: 25.55 | Y71: 25.619 | Z71: 25.687 | AA71: 25.507 | AB71: 25.328 | AC71: 24.89 | AD71: 24.453 | AE71: 23.779 | AF71: 23.105 | AG71: 22.88 | AH71: 22.655 | AI71: 22.43 | AJ71: 22.205 | AK71: 21.98 | AL71: 21.918 | AM71: 21.855 | AN71: 21.793 | AO71: 21.731 | AP71: 21.669 | AQ71: 21.558 | AR71: 21.447 | AS71: 21.335 | AT71: 21.224 | AU71: 21.113 | AV71: 21.002 | AW71: 20.891 | AX71: 20.78 | AY71: 20.669 | AZ71: 20.557 | BA71: 20.034 | BB71: 19.511 | BC71: 18.988 | BD71: 18.465 | BE71: 17.942 | BF71: 17.418 | BG71: 16.895 | BH71: 16.372 | BI71: 15.849 | BJ71: 15.326 | BK71: 14.393 | BL71: 13.461 | BM71: 12.529 | BN71: 11.596 | BO71: 10.664 | BP71: 9.732 | BQ71: 8.799 | BR71: 7.867 | BS71: 6.934 | BT71: 6.002
A72: 70 | B72: 0 | C72: 1.028 | D72: 2.056 | E72: 3.245 | F72: 4.433 | G72: 5.868 | H72: 7.302 | I72: 8.541 | J72: 9.779 | K72: 11.519 | L72: 13.26 | M72: 15.366 | N72: 17.472 | O72: 18.801 | P72: 20.13 | Q72: 20.988 | R72: 21.845 | S72: 22.728 | T72: 23.611 | U72: 24.293 | V72: 24.975 | W72: 25.381 | X72: 25.787 | Y72: 25.852 | Z72: 25.918 | AA72: 25.732 | AB72: 25.546 | AC72: 25.12 | AD72: 24.694 | AE72: 24.042 | AF72: 23.39 | AG72: 23.173 | AH72: 22.957 | AI72: 22.74 | AJ72: 22.523 | AK72: 22.307 | AL72: 22.251 | AM72: 22.194 | AN72: 22.138 | AO72: 22.082 | AP72: 22.026 | AQ72: 21.916 | AR72: 21.805 | AS72: 21.695 | AT72: 21.585 | AU72: 21.474 | AV72: 21.364 | AW72: 21.254 | AX72: 21.143 | AY72: 21.033 | AZ72: 20.923 | BA72: 20.406 | BB72: 19.889 | BC72: 19.373 | BD72: 18.856 | BE72: 18.34 | BF72: 17.823 | BG72: 17.307 | BH72: 16.79 | BI72: 16.274 | BJ72: 15.757 | BK72: 14.821 | BL72: 13.886 | BM72: 12.95 | BN72: 12.014 | BO72: 11.078 | BP72: 10.142 | BQ72: 9.207 | BR72: 8.271 | BS72: 7.335 | BT72: 6.399
A73: 71 | B73: 0 | C73: 1.04 | D73: 2.08 | E73: 3.316 | F73: 4.552 | G73: 5.968 | H73: 7.384 | I73: 8.634 | J73: 9.884 | K73: 11.636 | L73: 13.388 | M73: 15.51 | N73: 17.647 | O73: 18.999 | P73: 20.353 | Q73: 21.224 | R73: 22.096 | S73: 22.977 | T73: 23.858 | U73: 24.569 | V73: 25.28 | W73: 25.672 | X73: 26.118 | Y73: 26.184 | Z73: 26.251 | AA73: 26.039 | AB73: 25.828 | AC73: 25.399 | AD73: 24.97 | AE73: 24.35 | AF73: 23.729 | AG73: 23.525 | AH73: 23.322 | AI73: 23.118 | AJ73: 22.914 | AK73: 22.71 | AL73: 22.639 | AM73: 22.567 | AN73: 22.496 | AO73: 22.424 | AP73: 22.353 | AQ73: 22.242 | AR73: 22.132 | AS73: 22.021 | AT73: 21.911 | AU73: 21.8 | AV73: 21.69 | AW73: 21.579 | AX73: 21.469 | AY73: 21.358 | AZ73: 21.248 | BA73: 20.744 | BB73: 20.241 | BC73: 19.738 | BD73: 19.234 | BE73: 18.731 | BF73: 18.228 | BG73: 17.724 | BH73: 17.221 | BI73: 16.718 | BJ73: 16.214 | BK73: 15.276 | BL73: 14.338 | BM73: 13.4 | BN73: 12.462 | BO73: 11.523 | BP73: 10.585 | BQ73: 9.647 | BR73: 8.709 | BS73: 7.771 | BT73: 6.832
A74: 72 | B74: 0 | C74: 1.052 | D74: 2.104 | E74: 3.387 | F74: 4.67 | G74: 6.068 | H74: 7.466 | I74: 8.727 | J74: 9.988 | K74: 11.752 | L74: 13.516 | M74: 15.655 | N74: 17.822 | O74: 19.197 | P74: 20.578 | Q74: 21.461 | R74: 22.348 | S74: 23.227 | T74: 24.107 | U74: 24.847 | V74: 25.587 | W74: 25.964 | X74: 26.45 | Y74: 26.518 | Z74: 26.586 | AA74: 26.348 | AB74: 26.111 | AC74: 25.679 | AD74: 25.247 | AE74: 24.659 | AF74: 24.07 | AG74: 23.88 | AH74: 23.689 | AI74: 23.498 | AJ74: 23.307 | AK74: 23.116 | AL74: 23.028 | AM74: 22.941 | AN74: 22.854 | AO74: 22.767 | AP74: 22.68 | AQ74: 22.569 | AR74: 22.458 | AS74: 22.348 | AT74: 22.237 | AU74: 22.126 | AV74: 22.015 | AW74: 21.905 | AX74: 21.794 | AY74: 21.683 | AZ74: 21.573 | BA74: 21.082 | BB74: 20.592 | BC74: 20.102 | BD74: 19.612 | BE74: 19.122 | BF74: 18.632 | BG74: 18.142 | BH74: 17.652 | BI74: 17.162 | BJ74: 16.672 | BK74: 15.731 | BL74: 14.791 | BM74: 13.85 | BN74: 12.909 | BO74: 11.969 | BP74: 11.028 | BQ74: 10.088 | BR74: 9.147 | BS74: 8.206 | BT74: 7.266
A75: 73 | B75: 0 | C75: 1.064 | D75: 2.128 | E75: 3.458 | F75: 4.788 | G75: 6.168 | H75: 7.549 | I75: 8.82 | J75: 10.092 | K75: 11.868 | L75: 13.645 | M75: 15.799 | N75: 17.997 | O75: 19.396 | P75: 20.802 | Q75: 21.7 | R75: 22.601 | S75: 23.479 | T75: 24.357 | U75: 25.126 | V75: 25.896 | W75: 26.286 | X75: 26.785 | Y75: 26.854 | Z75: 26.923 | AA75: 26.659 | AB75: 26.395 | AC75: 25.961 | AD75: 25.526 | AE75: 24.97 | AF75: 24.414 | AG75: 24.236 | AH75: 24.058 | AI75: 23.88 | AJ75: 23.702 | AK75: 23.524 | AL75: 23.42 | AM75: 23.317 | AN75: 23.213 | AO75: 23.11 | AP75: 23.007 | AQ75: 22.896 | AR75: 22.785 | AS75: 22.674 | AT75: 22.563 | AU75: 22.452 | AV75: 22.341 | AW75: 22.23 | AX75: 22.119 | AY75: 22.008 | AZ75: 21.897 | BA75: 21.421 | BB75: 20.944 | BC75: 20.467 | BD75: 19.99 | BE75: 19.513 | BF75: 19.037 | BG75: 18.56 | BH75: 18.083 | BI75: 17.606 | BJ75: 17.129 | BK75: 16.186 | BL75: 15.243 | BM75: 14.3 | BN75: 13.357 | BO75: 12.414 | BP75: 11.471 | BQ75: 10.528 | BR75: 9.585 | BS75: 8.642 | BT75: 7.699
A76: 74 | B76: 0 | C76: 1.076 | D76: 2.152 | E76: 3.53 | F76: 4.907 | G76: 6.269 | H76: 7.631 | I76: 8.914 | J76: 10.196 | K76: 11.985 | L76: 13.773 | M76: 15.944 | N76: 18.172 | O76: 19.596 | P76: 21.028 | Q76: 21.939 | R76: 22.855 | S76: 23.732 | T76: 24.608 | U76: 25.407 | V76: 26.206 | W76: 26.624 | X76: 27.121 | Y76: 27.191 | Z76: 27.262 | AA76: 26.971 | AB76: 26.681 | AC76: 26.244 | AD76: 25.806 | AE76: 25.283 | AF76: 24.759 | AG76: 24.594 | AH76: 24.429 | AI76: 24.265 | AJ76: 24.1 | AK76: 23.935 | AL76: 23.815 | AM76: 23.694 | AN76: 23.574 | AO76: 23.454 | AP76: 23.334 | AQ76: 23.223 | AR76: 23.112 | AS76: 23 | AT76: 22.889 | AU76: 22.778 | AV76: 22.667 | AW76: 22.556 | AX76: 22.445 | AY76: 22.334 | AZ76: 22.222 | BA76: 21.759 | BB76: 21.295 | BC76: 20.832 | BD76: 20.368 | BE76: 19.905 | BF76: 19.441 | BG76: 18.977 | BH76: 18.514 | BI76: 18.05 | BJ76: 17.587 | BK76: 16.641 | BL76: 15.696 | BM76: 14.75 | BN76: 13.805 | BO76: 12.859 | BP76: 11.914 | BQ76: 10.969 | BR76: 10.023 | BS76: 9.078 | BT76: 8.132
A77: 75 | B77: 0 | C77: 1.088 | D77: 2.177 | E77: 3.601 | F77: 5.025 | G77: 6.369 | H77: 7.713 | I77: 9.007 | J77: 10.301 | K77: 12.101 | L77: 13.902 | M77: 16.088 | N77: 18.348 | O77: 19.796 | P77: 21.255 | Q77: 22.18 | R77: 23.111 | S77: 23.986 | T77: 24.86 | U77: 25.689 | V77: 26.518 | W77: 26.963 | X77: 27.459 | Y77: 27.531 | Z77: 27.602 | AA77: 27.285 | AB77: 26.968 | AC77: 26.528 | AD77: 26.088 | AE77: 25.597 | AF77: 25.106 | AG77: 24.954 | AH77: 24.803 | AI77: 24.652 | AJ77: 24.5 | AK77: 24.349 | AL77: 24.211 | AM77: 24.073 | AN77: 23.935 | AO77: 23.798 | AP77: 23.661 | AQ77: 23.549 | AR77: 23.438 | AS77: 23.327 | AT77: 23.215 | AU77: 23.104 | AV77: 22.993 | AW77: 22.881 | AX77: 22.77 | AY77: 22.659 | AZ77: 22.547 | BA77: 22.097 | BB77: 21.647 | BC77: 21.196 | BD77: 20.746 | BE77: 20.296 | BF77: 19.845 | BG77: 19.395 | BH77: 18.945 | BI77: 18.494 | BJ77: 18.044 | BK77: 17.096 | BL77: 16.148 | BM77: 15.2 | BN77: 14.253 | BO77: 13.305 | BP77: 12.357 | BQ77: 11.409 | BR77: 10.461 | BS77: 9.513 | BT77: 8.566
A78: 76 | B78: 0 | C78: 1.098 | D78: 2.197 | E78: 3.645 | F78: 5.093 | G78: 6.447 | H78: 7.801 | I78: 9.105 | J78: 10.409 | K78: 12.198 | L78: 13.988 | M78: 16.206 | N78: 18.514 | O78: 19.953 | P78: 21.405 | Q78: 22.374 | R78: 23.352 | S78: 24.244 | T78: 25.137 | U78: 25.973 | V78: 26.809 | W78: 27.282 | X78: 27.788 | Y78: 27.852 | Z78: 27.916 | AA78: 27.595 | AB78: 27.275 | AC78: 26.836 | AD78: 26.398 | AE78: 25.908 | AF78: 25.418 | AG78: 25.265 | AH78: 25.112 | AI78: 24.959 | AJ78: 24.807 | AK78: 24.654 | AL78: 24.491 | AM78: 24.328 | AN78: 24.166 | AO78: 24.005 | AP78: 23.843 | AQ78: 23.735 | AR78: 23.626 | AS78: 23.518 | AT78: 23.409 | AU78: 23.301 | AV78: 23.192 | AW78: 23.084 | AX78: 22.975 | AY78: 22.867 | AZ78: 22.758 | BA78: 22.316 | BB78: 21.874 | BC78: 21.432 | BD78: 20.99 | BE78: 20.547 | BF78: 20.105 | BG78: 19.663 | BH78: 19.221 | BI78: 18.779 | BJ78: 18.337 | BK78: 17.39 | BL78: 16.444 | BM78: 15.498 | BN78: 14.551 | BO78: 13.605 | BP78: 12.658 | BQ78: 11.712 | BR78: 10.765 | BS78: 9.819 | BT78: 8.873
A79: 77 | B79: 0 | C79: 1.108 | D79: 2.217 | E79: 3.689 | F79: 5.161 | G79: 6.526 | H79: 7.89 | I79: 9.204 | J79: 10.517 | K79: 12.296 | L79: 14.074 | M79: 16.325 | N79: 18.68 | O79: 20.11 | P79: 21.556 | Q79: 22.57 | R79: 23.593 | S79: 24.504 | T79: 25.414 | U79: 26.258 | V79: 27.101 | W79: 27.603 | X79: 28.12 | Y79: 28.175 | Z79: 28.231 | AA79: 27.907 | AB79: 27.584 | AC79: 27.146 | AD79: 26.709 | AE79: 26.22 | AF79: 25.732 | AG79: 25.577 | AH79: 25.423 | AI79: 25.269 | AJ79: 25.115 | AK79: 24.96 | AL79: 24.772 | AM79: 24.585 | AN79: 24.398 | AO79: 24.212 | AP79: 24.026 | AQ79: 23.92 | AR79: 23.814 | AS79: 23.709 | AT79: 23.603 | AU79: 23.497 | AV79: 23.392 | AW79: 23.286 | AX79: 23.18 | AY79: 23.074 | AZ79: 22.969 | BA79: 22.535 | BB79: 22.101 | BC79: 21.667 | BD79: 21.233 | BE79: 20.799 | BF79: 20.365 | BG79: 19.931 | BH79: 19.498 | BI79: 19.064 | BJ79: 18.63 | BK79: 17.685 | BL79: 16.74 | BM79: 15.795 | BN79: 14.85 | BO79: 13.905 | BP79: 12.96 | BQ79: 12.015 | BR79: 11.07 | BS79: 10.124 | BT79: 9.179
A80: 78 | B80: 0 | C80: 1.118 | D80: 2.237 | E80: 3.733 | F80: 5.23 | G80: 6.604 | H80: 7.978 | I80: 9.302 | J80: 10.626 | K80: 12.393 | L80: 14.16 | M80: 16.443 | N80: 18.846 | O80: 20.268 | P80: 21.707 | Q80: 22.766 | R80: 23.836 | S80: 24.765 | T80: 25.693 | U80: 26.544 | V80: 27.395 | W80: 27.926 | X80: 28.457 | Y80: 28.5 | Z80: 28.548 | AA80: 28.221 | AB80: 27.894 | AC80: 27.458 | AD80: 27.022 | AE80: 26.535 | AF80: 26.047 | AG80: 25.891 | AH80: 25.736 | AI80: 25.58 | AJ80: 25.424 | AK80: 25.269 | AL80: 25.055 | AM80: 24.842 | AN80: 24.63 | AO80: 24.419 | AP80: 24.208 | AQ80: 24.106 | AR80: 24.003 | AS80: 23.9 | AT80: 23.797 | AU80: 23.694 | AV80: 23.591 | AW80: 23.488 | AX80: 23.385 | AY80: 23.282 | AZ80: 23.179 | BA80: 22.754 | BB80: 22.328 | BC80: 21.902 | BD80: 21.477 | BE80: 21.051 | BF80: 20.625 | BG80: 20.2 | BH80: 19.774 | BI80: 19.348 | BJ80: 18.923 | BK80: 17.979 | BL80: 17.035 | BM80: 16.092 | BN80: 15.148 | BO80: 14.204 | BP80: 13.261 | BQ80: 12.317 | BR80: 11.374 | BS80: 10.43 | BT80: 9.486
A81: 79 | B81: 0 | C81: 1.128 | D81: 2.257 | E81: 3.777 | F81: 5.298 | G81: 6.682 | H81: 8.066 | I81: 9.4 | J81: 10.734 | K81: 12.49 | L81: 14.247 | M81: 16.562 | N81: 19.012 | O81: 20.426 | P81: 21.858 | Q81: 22.963 | R81: 24.08 | S81: 25.027 | T81: 25.974 | U81: 26.832 | V81: 27.69 | W81: 28.25 | X81: 28.81 | Y81: 28.827 | Z81: 28.866 | AA81: 28.536 | AB81: 28.206 | AC81: 27.771 | AD81: 27.337 | AE81: 26.851 | AF81: 26.364 | AG81: 26.207 | AH81: 26.05 | AI81: 25.893 | AJ81: 25.736 | AK81: 25.579 | AL81: 25.339 | AM81: 25.101 | AN81: 24.863 | AO81: 24.627 | AP81: 24.391 | AQ81: 24.291 | AR81: 24.191 | AS81: 24.091 | AT81: 23.991 | AU81: 23.89 | AV81: 23.79 | AW81: 23.69 | AX81: 23.59 | AY81: 23.49 | AZ81: 23.39 | BA81: 22.973 | BB81: 22.555 | BC81: 22.138 | BD81: 21.72 | BE81: 21.303 | BF81: 20.885 | BG81: 20.468 | BH81: 20.05 | BI81: 19.633 | BJ81: 19.215 | BK81: 18.273 | BL81: 17.331 | BM81: 16.389 | BN81: 15.447 | BO81: 14.504 | BP81: 13.562 | BQ81: 12.62 | BR81: 11.678 | BS81: 10.736 | BT81: 9.793
A82: 80 | B82: 0 | C82: 1.138 | D82: 2.277 | E82: 3.821 | F82: 5.366 | G82: 6.76 | H82: 8.154 | I82: 9.498 | J82: 10.842 | K82: 12.588 | L82: 14.333 | M82: 16.68 | N82: 19.179 | O82: 20.585 | P82: 22.01 | Q82: 23.16 | R82: 24.326 | S82: 25.29 | T82: 26.255 | U82: 27.121 | V82: 27.987 | W82: 28.576 | X82: 29.166 | Y82: 29.155 | Z82: 29.186 | AA82: 28.853 | AB82: 28.519 | AC82: 28.086 | AD82: 27.653 | AE82: 27.168 | AF82: 26.683 | AG82: 26.524 | AH82: 26.366 | AI82: 26.207 | AJ82: 26.049 | AK82: 25.89 | AL82: 25.625 | AM82: 25.36 | AN82: 25.097 | AO82: 24.835 | AP82: 24.573 | AQ82: 24.476 | AR82: 24.379 | AS82: 24.282 | AT82: 24.184 | AU82: 24.087 | AV82: 23.99 | AW82: 23.892 | AX82: 23.795 | AY82: 23.698 | AZ82: 23.601 | BA82: 23.191 | BB82: 22.782 | BC82: 22.373 | BD82: 21.964 | BE82: 21.554 | BF82: 21.145 | BG82: 20.736 | BH82: 20.327 | BI82: 19.918 | BJ82: 19.508 | BK82: 18.568 | BL82: 17.627 | BM82: 16.686 | BN82: 15.745 | BO82: 14.804 | BP82: 13.863 | BQ82: 12.923 | BR82: 11.982 | BS82: 11.041 | BT82: 10.1
A83: 81 | B83: 0 | C83: 1.148 | D83: 2.297 | E83: 3.851 | F83: 5.404 | G83: 6.82 | H83: 8.237 | I83: 9.577 | J83: 10.917 | K83: 12.632 | L83: 14.347 | M83: 16.737 | N83: 19.28 | O83: 20.663 | P83: 22.066 | Q83: 23.249 | R83: 24.449 | S83: 25.42 | T83: 26.391 | U83: 27.274 | V83: 28.158 | W83: 28.739 | X83: 29.32 | Y83: 29.294 | Z83: 29.351 | AA83: 29.051 | AB83: 28.75 | AC83: 28.302 | AD83: 27.853 | AE83: 27.369 | AF83: 26.885 | AG83: 26.726 | AH83: 26.567 | AI83: 26.407 | AJ83: 26.248 | AK83: 26.088 | AL83: 25.814 | AM83: 25.54 | AN83: 25.267 | AO83: 24.996 | AP83: 24.726 | AQ83: 24.625 | AR83: 24.523 | AS83: 24.422 | AT83: 24.321 | AU83: 24.219 | AV83: 24.118 | AW83: 24.017 | AX83: 23.916 | AY83: 23.814 | AZ83: 23.713 | BA83: 23.318 | BB83: 22.923 | BC83: 22.527 | BD83: 22.132 | BE83: 21.737 | BF83: 21.342 | BG83: 20.947 | BH83: 20.551 | BI83: 20.156 | BJ83: 19.761 | BK83: 18.82 | BL83: 17.878 | BM83: 16.937 | BN83: 15.995 | BO83: 15.054 | BP83: 14.113 | BQ83: 13.171 | BR83: 12.23 | BS83: 11.288 | BT83: 10.347
A84: 82 | B84: 0 | C84: 1.158 | D84: 2.317 | E84: 3.88 | F84: 5.442 | G84: 6.881 | H84: 8.319 | I84: 9.655 | J84: 10.991 | K84: 12.676 | L84: 14.361 | M84: 16.794 | N84: 19.381 | O84: 20.742 | P84: 22.121 | Q84: 23.338 | R84: 24.572 | S84: 25.549 | T84: 26.527 | U84: 27.428 | V84: 28.329 | W84: 28.902 | X84: 29.474 | Y84: 29.454 | Z84: 29.516 | AA84: 29.249 | AB84: 28.982 | AC84: 28.518 | AD84: 28.054 | AE84: 27.571 | AF84: 27.088 | AG84: 26.928 | AH84: 26.767 | AI84: 26.607 | AJ84: 26.447 | AK84: 26.287 | AL84: 26.002 | AM84: 25.72 | AN84: 25.438 | AO84: 25.158 | AP84: 24.878 | AQ84: 24.773 | AR84: 24.668 | AS84: 24.562 | AT84: 24.457 | AU84: 24.352 | AV84: 24.247 | AW84: 24.141 | AX84: 24.036 | AY84: 23.931 | AZ84: 23.825 | BA84: 23.444 | BB84: 23.063 | BC84: 22.682 | BD84: 22.301 | BE84: 21.92 | BF84: 21.538 | BG84: 21.157 | BH84: 20.776 | BI84: 20.395 | BJ84: 20.014 | BK84: 19.072 | BL84: 18.13 | BM84: 17.188 | BN84: 16.246 | BO84: 15.304 | BP84: 14.362 | BQ84: 13.42 | BR84: 12.478 | BS84: 11.536 | BT84: 10.594
A85: 83 | B85: 0 | C85: 1.168 | D85: 2.337 | E85: 3.909 | F85: 5.48 | G85: 6.941 | H85: 8.401 | I85: 9.733 | J85: 11.065 | K85: 12.72 | L85: 14.375 | M85: 16.851 | N85: 19.482 | O85: 20.82 | P85: 22.177 | Q85: 23.427 | R85: 24.695 | S85: 25.678 | T85: 26.662 | U85: 27.581 | V85: 28.5 | W85: 29.064 | X85: 29.629 | Y85: 29.613 | Z85: 29.681 | AA85: 29.447 | AB85: 29.214 | AC85: 28.734 | AD85: 28.254 | AE85: 27.772 | AF85: 27.29 | AG85: 27.129 | AH85: 26.968 | AI85: 26.807 | AJ85: 26.646 | AK85: 26.485 | AL85: 26.191 | AM85: 25.899 | AN85: 25.608 | AO85: 25.319 | AP85: 25.031 | AQ85: 24.922 | AR85: 24.812 | AS85: 24.703 | AT85: 24.594 | AU85: 24.484 | AV85: 24.375 | AW85: 24.266 | AX85: 24.156 | AY85: 24.047 | AZ85: 23.938 | BA85: 23.57 | BB85: 23.203 | BC85: 22.836 | BD85: 22.469 | BE85: 22.102 | BF85: 21.735 | BG85: 21.368 | BH85: 21.001 | BI85: 20.634 | BJ85: 20.267 | BK85: 19.324 | BL85: 18.381 | BM85: 17.439 | BN85: 16.496 | BO85: 15.554 | BP85: 14.611 | BQ85: 13.668 | BR85: 12.726 | BS85: 11.783 | BT85: 10.84
A86: 84 | B86: 0 | C86: 1.179 | D86: 2.357 | E86: 3.938 | F86: 5.519 | G86: 7.001 | H86: 8.483 | I86: 9.811 | J86: 11.139 | K86: 12.764 | L86: 14.389 | M86: 16.909 | N86: 19.584 | O86: 20.899 | P86: 22.232 | Q86: 23.516 | R86: 24.818 | S86: 25.808 | T86: 26.798 | U86: 27.734 | V86: 28.671 | W86: 29.227 | X86: 29.783 | Y86: 29.773 | Z86: 29.846 | AA86: 29.645 | AB86: 29.445 | AC86: 28.95 | AD86: 28.454 | AE86: 27.973 | AF86: 27.492 | AG86: 27.331 | AH86: 27.169 | AI86: 27.007 | AJ86: 26.845 | AK86: 26.683 | AL86: 26.38 | AM86: 26.079 | AN86: 25.779 | AO86: 25.48 | AP86: 25.183 | AQ86: 25.07 | AR86: 24.957 | AS86: 24.843 | AT86: 24.73 | AU86: 24.617 | AV86: 24.503 | AW86: 24.39 | AX86: 24.277 | AY86: 24.163 | AZ86: 24.05 | BA86: 23.697 | BB86: 23.344 | BC86: 22.991 | BD86: 22.638 | BE86: 22.285 | BF86: 21.932 | BG86: 21.579 | BH86: 21.225 | BI86: 20.872 | BJ86: 20.519 | BK86: 19.576 | BL86: 18.633 | BM86: 17.69 | BN86: 16.746 | BO86: 15.803 | BP86: 14.86 | BQ86: 13.917 | BR86: 12.974 | BS86: 12.03 | BT86: 11.087
A87: 85 | B87: 0 | C87: 1.189 | D87: 2.377 | E87: 3.967 | F87: 5.557 | G87: 7.061 | H87: 8.566 | I87: 9.89 | J87: 11.214 | K87: 12.808 | L87: 14.403 | M87: 16.966 | N87: 19.685 | O87: 20.977 | P87: 22.287 | Q87: 23.605 | R87: 24.941 | S87: 25.937 | T87: 26.933 | U87: 27.888 | V87: 28.842 | W87: 29.39 | X87: 29.938 | Y87: 29.932 | Z87: 30.011 | AA87: 29.844 | AB87: 29.677 | AC87: 29.166 | AD87: 28.655 | AE87: 28.175 | AF87: 27.695 | AG87: 27.532 | AH87: 27.369 | AI87: 27.207 | AJ87: 27.044 | AK87: 26.881 | AL87: 26.569 | AM87: 26.258 | AN87: 25.949 | AO87: 25.642 | AP87: 25.336 | AQ87: 25.218 | AR87: 25.101 | AS87: 24.984 | AT87: 24.866 | AU87: 24.749 | AV87: 24.632 | AW87: 24.514 | AX87: 24.397 | AY87: 24.28 | AZ87: 24.162 | BA87: 23.823 | BB87: 23.484 | BC87: 23.145 | BD87: 22.806 | BE87: 22.467 | BF87: 22.128 | BG87: 21.789 | BH87: 21.45 | BI87: 21.111 | BJ87: 20.772 | BK87: 19.828 | BL87: 18.884 | BM87: 17.941 | BN87: 16.997 | BO87: 16.053 | BP87: 15.109 | BQ87: 14.165 | BR87: 13.222 | BS87: 12.278 | BT87: 11.334
A88: 86 | B88: 0 | C88: 1.195 | D88: 2.389 | E88: 3.992 | F88: 5.595 | G88: 7.11 | H88: 8.626 | I88: 9.929 | J88: 11.232 | K88: 12.822 | L88: 14.413 | M88: 17.01 | N88: 19.763 | O88: 21.05 | P88: 22.355 | Q88: 23.688 | R88: 25.039 | S88: 26.044 | T88: 27.048 | U88: 28.018 | V88: 28.988 | W88: 29.537 | X88: 30.086 | Y88: 30.084 | Z88: 30.121 | AA88: 29.988 | AB88: 29.854 | AC88: 29.331 | AD88: 28.809 | AE88: 28.324 | AF88: 27.839 | AG88: 27.672 | AH88: 27.506 | AI88: 27.339 | AJ88: 27.173 | AK88: 27.006 | AL88: 26.69 | AM88: 26.376 | AN88: 26.063 | AO88: 25.752 | AP88: 25.442 | AQ88: 25.327 | AR88: 25.213 | AS88: 25.098 | AT88: 24.983 | AU88: 24.868 | AV88: 24.754 | AW88: 24.639 | AX88: 24.524 | AY88: 24.409 | AZ88: 24.295 | BA88: 23.964 | BB88: 23.634 | BC88: 23.304 | BD88: 22.974 | BE88: 22.644 | BF88: 22.314 | BG88: 21.983 | BH88: 21.653 | BI88: 21.323 | BJ88: 20.993 | BK88: 20.045 | BL88: 19.098 | BM88: 18.15 | BN88: 17.203 | BO88: 16.256 | BP88: 15.308 | BQ88: 14.361 | BR88: 13.413 | BS88: 12.466 | BT88: 11.518
... A90: 88 | B90: 0 | C90: 1.207 | D90: 2.413 | E90: 4.042 | F90: 5.671 | G90: 7.209 | H90: 8.746 | I90: 10.007 | J90: 11.268 | K90: 12.85 | L90: 14.433 | M90: 17.098 | N90: 19.921 | O90: 21.197 | P90: 22.491 | Q90: 23.854 | R90: 25.235 | S90: 26.256 | T90: 27.278 | U90: 28.279 | V90: 29.28 | W90: 29.831 | X90: 30.382 | Y90: 30.386 | Z90: 30.39 | AA90: 30.276 | AB90: 30.209 | AC90: 29.663 | AD90: 29.118 | AE90: 28.622 | AF90: 28.127 | AG90: 27.953 | AH90: 27.779 | AI90: 27.605 | AJ90: 27.431 | AK90: 27.257 | AL90: 26.933 | AM90: 26.611 | AN90: 26.29 | AO90: 25.972 | AP90: 25.655 | AQ90: 25.545 | AR90: 25.436 | AS90: 25.326 | AT90: 25.217 | AU90: 25.107 | AV90: 24.998 | AW90: 24.888 | AX90: 24.779 | AY90: 24.669 | AZ90: 24.559 | BA90: 24.247 | BB90: 23.934 | BC90: 23.622 | BD90: 23.309 | BE90: 22.997 | BF90: 22.684 | BG90: 22.372 | BH90: 22.059 | BI90: 21.747 | BJ90: 21.434 | BK90: 20.479 | BL90: 19.525 | BM90: 18.57 | BN90: 17.615 | BO90: 16.661 | BP90: 15.706 | BQ90: 14.752 | BR90: 13.797 | BS90: 12.842 | BT90: 11.888
A91: 89 | B91: 0 | C91: 1.213 | D91: 2.425 | E91: 4.067 | F91: 5.709 | G91: 7.258 | H91: 8.806 | I91: 10.046 | J91: 11.286 | K91: 12.864 | L91: 14.443 | M91: 17.142 | N91: 20 | O91: 21.271 | P91: 22.559 | Q91: 23.937 | R91: 25.333 | S91: 26.363 | T91: 27.392 | U91: 28.409 | V91: 29.426 | W91: 29.978 | X91: 30.53 | Y91: 30.537 | Z91: 30.545 | AA91: 30.419 | AB91: 30.386 | AC91: 29.829 | AD91: 29.272 | AE91: 28.771 | AF91: 28.271 | AG91: 28.093 | AH91: 27.915 | AI91: 27.737 | AJ91: 27.56 | AK91: 27.382 | AL91: 27.054 | AM91: 26.728 | AN91: 26.404 | AO91: 26.082 | AP91: 25.761 | AQ91: 25.654 | AR91: 25.547 | AS91: 25.44 | AT91: 25.333 | AU91: 25.226 | AV91: 25.12 | AW91: 25.013 | AX91: 24.906 | AY91: 24.799 | AZ91: 24.692 | BA91: 24.388 | BB91: 24.084 | BC91: 23.781 | BD91: 23.477 | BE91: 23.173 | BF91: 22.87 | BG91: 22.566 | BH91: 22.262 | BI91: 21.958 | BJ91: 21.655 | BK91: 20.697 | BL91: 19.738 | BM91: 18.78 | BN91: 17.822 | BO91: 16.863 | BP91: 15.905 | BQ91: 14.947 | BR91: 13.989 | BS91: 13.03 | BT91: 12.072
A92: 90 | B92: 0 | C92: 1.219 | D92: 2.437 | E92: 4.092 | F92: 5.747 | G92: 7.307 | H92: 8.867 | I92: 10.085 | J92: 11.304 | K92: 12.879 | L92: 14.453 | M92: 17.186 | N92: 20.079 | O92: 21.344 | P92: 22.626 | Q92: 24.019 | R92: 25.431 | S92: 26.469 | T92: 27.507 | U92: 28.54 | V92: 29.572 | W92: 30.125 | X92: 30.678 | Y92: 30.689 | Z92: 30.699 | AA92: 30.574 | AB92: 30.563 | AC92: 29.995 | AD92: 29.426 | AE92: 28.921 | AF92: 28.415 | AG92: 28.233 | AH92: 28.052 | AI92: 27.87 | AJ92: 27.689 | AK92: 27.507 | AL92: 27.175 | AM92: 26.846 | AN92: 26.518 | AO92: 26.192 | AP92: 25.867 | AQ92: 25.763 | AR92: 25.659 | AS92: 25.554 | AT92: 25.45 | AU92: 25.346 | AV92: 25.241 | AW92: 25.137 | AX92: 25.033 | AY92: 24.929 | AZ92: 24.824 | BA92: 24.529 | BB92: 24.234 | BC92: 23.94 | BD92: 23.645 | BE92: 23.35 | BF92: 23.055 | BG92: 22.76 | BH92: 22.465 | BI92: 22.17 | BJ92: 21.875 | BK92: 20.914 | BL92: 19.952 | BM92: 18.99 | BN92: 18.028 | BO92: 17.066 | BP92: 16.104 | BQ92: 15.142 | BR92: 14.18 | BS92: 13.219 | BT92: 12.257
A93: 91 | B93: 0 | C93: 1.22 | D93: 2.439 | E93: 4.112 | F93: 5.785 | G93: 7.333 | H93: 8.881 | I93: 10.105 | J93: 11.33 | K93: 12.878 | L93: 14.425 | M93: 17.213 | N93: 20.162 | O93: 21.425 | P93: 22.707 | Q93: 24.119 | R93: 25.55 | S93: 26.554 | T93: 27.557 | U93: 28.6 | V93: 29.643 | W93: 30.22 | X93: 30.797 | Y93: 30.835 | Z93: 30.872 | AA93: 30.771 | AB93: 30.776 | AC93: 30.2 | AD93: 29.625 | AE93: 29.118 | AF93: 28.611 | AG93: 28.43 | AH93: 28.25 | AI93: 28.07 | AJ93: 27.89 | AK93: 27.709 | AL93: 27.369 | AM93: 27.031 | AN93: 26.695 | AO93: 26.36 | AP93: 26.028 | AQ93: 25.924 | AR93: 25.82 | AS93: 25.717 | AT93: 25.613 | AU93: 25.509 | AV93: 25.406 | AW93: 25.302 | AX93: 25.198 | AY93: 25.094 | AZ93: 24.991 | BA93: 24.705 | BB93: 24.42 | BC93: 24.135 | BD93: 23.85 | BE93: 23.564 | BF93: 23.279 | BG93: 22.994 | BH93: 22.709 | BI93: 22.423 | BJ93: 22.138 | BK93: 21.166 | BL93: 20.194 | BM93: 19.222 | BN93: 18.25 | BO93: 17.278 | BP93: 16.306 | BQ93: 15.333 | BR93: 14.361 | BS93: 13.389 | BT93: 12.417
A94: 92 | B94: 0 | C94: 1.221 | D94: 2.441 | E94: 4.132 | F94: 5.823 | G94: 7.359 | H94: 8.895 | I94: 10.125 | J94: 11.356 | K94: 12.877 | L94: 14.397 | M94: 17.241 | N94: 20.245 | O94: 21.507 | P94: 22.787 | Q94: 24.218 | R94: 25.669 | S94: 26.638 | T94: 27.607 | U94: 28.661 | V94: 29.714 | W94: 30.315 | X94: 30.916 | Y94: 30.981 | Z94: 31.045 | AA94: 30.968 | AB94: 30.989 | AC94: 30.406 | AD94: 29.823 | AE94: 29.315 | AF94: 28.807 | AG94: 28.628 | AH94: 28.449 | AI94: 28.27 | AJ94: 28.091 | AK94: 27.912 | AL94: 27.563 | AM94: 27.216 | AN94: 26.871 | AO94: 26.529 | AP94: 26.188 | AQ94: 26.085 | AR94: 25.982 | AS94: 25.879 | AT94: 25.776 | AU94: 25.673 | AV94: 25.57 | AW94: 25.467 | AX94: 25.363 | AY94: 25.26 | AZ94: 25.157 | BA94: 24.882 | BB94: 24.606 | BC94: 24.33 | BD94: 24.055 | BE94: 23.779 | BF94: 23.503 | BG94: 23.228 | BH94: 22.952 | BI94: 22.677 | BJ94: 22.401 | BK94: 21.419 | BL94: 20.436 | BM94: 19.454 | BN94: 18.472 | BO94: 17.489 | BP94: 16.507 | BQ94: 15.525 | BR94: 14.542 | BS94: 13.56 | BT94: 12.578
A95: 93 | B95: 0 | C95: 1.222 | D95: 2.443 | E95: 4.152 | F95: 5.862 | G95: 7.385 | H95: 8.909 | I95: 10.145 | J95: 11.382 | K95: 12.876 | L95: 14.369 | M95: 17.268 | N95: 20.328 | O95: 21.589 | P95: 22.867 | Q95: 24.318 | R95: 25.788 | S95: 26.723 | T95: 27.657 | U95: 28.721 | V95: 29.785 | W95: 30.41 | X95: 31.035 | Y95: 31.127 | Z95: 31.218 | AA95: 31.165 | AB95: 31.202 | AC95: 30.611 | AD95: 30.021 | AE95: 29.512 | AF95: 29.003 | AG95: 28.825 | AH95: 28.647 | AI95: 28.47 | AJ95: 28.292 | AK95: 28.114 | AL95: 27.757 | AM95: 27.401 | AN95: 27.048 | AO95: 26.698 | AP95: 26.349 | AQ95: 26.246 | AR95: 26.144 | AS95: 26.041 | AT95: 25.939 | AU95: 25.836 | AV95: 25.734 | AW95: 25.631 | AX95: 25.529 | AY95: 25.426 | AZ95: 25.324 | BA95: 25.058 | BB95: 24.792 | BC95: 24.526 | BD95: 24.26 | BE95: 23.994 | BF95: 23.728 | BG95: 23.462 | BH95: 23.196 | BI95: 22.93 | BJ95: 22.664 | BK95: 21.671 | BL95: 20.679 | BM95: 19.686 | BN95: 18.694 | BO95: 17.701 | BP95: 16.708 | BQ95: 15.716 | BR95: 14.723 | BS95: 13.731 | BT95: 12.738
A96: 94 | B96: 0 | C96: 1.223 | D96: 2.445 | E96: 4.172 | F96: 5.9 | G96: 7.411 | H96: 8.923 | I96: 10.165 | J96: 11.408 | K96: 12.875 | L96: 14.341 | M96: 17.295 | N96: 20.411 | O96: 21.67 | P96: 22.947 | Q96: 24.417 | R96: 25.907 | S96: 26.807 | T96: 27.707 | U96: 28.782 | V96: 29.856 | W96: 30.505 | X96: 31.154 | Y96: 31.273 | Z96: 31.392 | AA96: 31.362 | AB96: 31.415 | AC96: 30.817 | AD96: 30.219 | AE96: 29.709 | AF96: 29.199 | AG96: 29.023 | AH96: 28.846 | AI96: 28.67 | AJ96: 28.493 | AK96: 28.317 | AL96: 27.95 | AM96: 27.587 | AN96: 27.225 | AO96: 26.866 | AP96: 26.509 | AQ96: 26.407 | AR96: 26.305 | AS96: 26.204 | AT96: 26.102 | AU96: 26 | AV96: 25.898 | AW96: 25.796 | AX96: 25.694 | AY96: 25.592 | AZ96: 25.49 | BA96: 25.234 | BB96: 24.978 | BC96: 24.721 | BD96: 24.465 | BE96: 24.208 | BF96: 23.952 | BG96: 23.696 | BH96: 23.439 | BI96: 23.183 | BJ96: 22.927 | BK96: 21.924 | BL96: 20.921 | BM96: 19.918 | BN96: 18.915 | BO96: 17.913 | BP96: 16.91 | BQ96: 15.907 | BR96: 14.904 | BS96: 13.901 | BT96: 12.899
A97: 95 | B97: 0 | C97: 1.224 | D97: 2.447 | E97: 4.193 | F97: 5.938 | G97: 7.437 | H97: 8.937 | I97: 10.185 | J97: 11.434 | K97: 12.874 | L97: 14.313 | M97: 17.322 | N97: 20.493 | O97: 21.752 | P97: 23.027 | Q97: 24.516 | R97: 26.026 | S97: 26.892 | T97: 27.757 | U97: 28.842 | V97: 29.927 | W97: 30.6 | X97: 31.273 | Y97: 31.419 | Z97: 31.565 | AA97: 31.56 | AB97: 31.627 | AC97: 31.022 | AD97: 30.417 | AE97: 29.906 | AF97: 29.395 | AG97: 29.22 | AH97: 29.045 | AI97: 28.869 | AJ97: 28.694 | AK97: 28.519 | AL97: 28.144 | AM97: 27.772 | AN97: 27.402 | AO97: 27.035 | AP97: 26.67 | AQ97: 26.568 | AR97: 26.467 | AS97: 26.366 | AT97: 26.265 | AU97: 26.163 | AV97: 26.062 | AW97: 25.961 | AX97: 25.859 | AY97: 25.758 | AZ97: 25.657 | BA97: 25.41 | BB97: 25.163 | BC97: 24.917 | BD97: 24.67 | BE97: 24.423 | BF97: 24.176 | BG97: 23.93 | BH97: 23.683 | BI97: 23.436 | BJ97: 23.189 | BK97: 22.176 | BL97: 21.163 | BM97: 20.15 | BN97: 19.137 | BO97: 18.124 | BP97: 17.111 | BQ97: 16.098 | BR97: 15.085 | BS97: 14.072 | BT97: 13.059
A98: 96 | B98: 0 | C98: 1.222 | D98: 2.443 | E98: 4.2 | F98: 5.956 | G98: 7.453 | H98: 8.951 | I98: 10.198 | J98: 11.444 | K98: 12.873 | L98: 14.301 | M98: 17.347 | N98: 20.556 | O98: 21.812 | P98: 23.084 | Q98: 24.599 | R98: 26.134 | S98: 26.979 | T98: 27.824 | U98: 28.918 | V98: 30.013 | W98: 30.682 | X98: 31.352 | Y98: 31.516 | Z98: 31.68 | AA98: 31.764 | AB98: 31.849 | AC98: 31.275 | AD98: 30.703 | AE98: 30.163 | AF98: 29.623 | AG98: 29.454 | AH98: 29.285 | AI98: 29.116 | AJ98: 28.947 | AK98: 28.778 | AL98: 28.395 | AM98: 28.014 | AN98: 27.637 | AO98: 27.261 | AP98: 26.888 | AQ98: 26.782 | AR98: 26.676 | AS98: 26.57 | AT98: 26.464 | AU98: 26.358 | AV98: 26.252 | AW98: 26.146 | AX98: 26.039 | AY98: 25.933 | AZ98: 25.827 | BA98: 25.586 | BB98: 25.344 | BC98: 25.102 | BD98: 24.86 | BE98: 24.619 | BF98: 24.377 | BG98: 24.135 | BH98: 23.893 | BI98: 23.652 | BJ98: 23.41 | BK98: 22.397 | BL98: 21.385 | BM98: 20.372 | BN98: 19.36 | BO98: 18.347 | BP98: 17.334 | BQ98: 16.322 | BR98: 15.309 | BS98: 14.296 | BT98: 13.284
A99: 97 | B99: 0 | C99: 1.22 | D99: 2.439 | E99: 4.207 | F99: 5.974 | G99: 7.469 | H99: 8.965 | I99: 10.21 | J99: 11.454 | K99: 12.871 | L99: 14.289 | M99: 17.372 | N99: 20.619 | O99: 21.872 | P99: 23.142 | Q99: 24.682 | R99: 26.243 | S99: 27.067 | T99: 27.891 | U99: 28.995 | V99: 30.098 | W99: 30.765 | X99: 31.431 | Y99: 31.613 | Z99: 31.794 | AA99: 31.968 | AB99: 32.143 | AC99: 31.527 | AD99: 30.989 | AE99: 30.419 | AF99: 29.85 | AG99: 29.687 | AH99: 29.524 | AI99: 29.362 | AJ99: 29.199 | AK99: 29.036 | AL99: 28.645 | AM99: 28.257 | AN99: 27.871 | AO99: 27.488 | AP99: 27.107 | AQ99: 26.996 | AR99: 26.885 | AS99: 26.774 | AT99: 26.663 | AU99: 26.552 | AV99: 26.441 | AW99: 26.331 | AX99: 26.22 | AY99: 26.109 | AZ99: 25.998 | BA99: 25.761 | BB99: 25.524 | BC99: 25.288 | BD99: 25.051 | BE99: 24.814 | BF99: 24.578 | BG99: 24.341 | BH99: 24.104 | BI99: 23.867 | BJ99: 23.631 | BK99: 22.618 | BL99: 21.606 | BM99: 20.594 | BN99: 19.582 | BO99: 18.57 | BP99: 17.557 | BQ99: 16.545 | BR99: 15.533 | BS99: 14.521 | BT99: 13.508
A100: 98 | B100: 0 | C100: 1.218 | D100: 2.435 | E100: 4.214 | F100: 5.992 | G100: 7.485 | H100: 8.979 | I100: 10.222 | J100: 11.464 | K100: 12.87 | L100: 14.277 | M100: 17.397 | N100: 20.682 | O100: 21.932 | P100: 23.2 | Q100: 24.765 | R100: 26.351 | S100: 27.154 | T100: 27.958 | U100: 29.071 | V100: 30.184 | W100: 30.847 | X100: 31.511 | Y100: 31.71 | Z100: 31.909 | AA100: 32.173 | AB100: 32.437 | AC100: 31.785 | AD100: 31.275 | AE100: 30.676 | AF100: 30.077 | AG100: 29.921 | AH100: 29.764 | AI100: 29.608 | AJ100: 29.451 | AK100: 29.295 | AL100: 28.896 | AM100: 28.499 | AN100: 28.105 | AO100: 27.714 | AP100: 27.326 | AQ100: 27.21 | AR100: 27.094 | AS100: 26.978 | AT100: 26.863 | AU100: 26.747 | AV100: 26.631 | AW100: 26.516 | AX100: 26.4 | AY100: 26.284 | AZ100: 26.168 | BA100: 25.937 | BB100: 25.705 | BC100: 25.473 | BD100: 25.241 | BE100: 25.01 | BF100: 24.778 | BG100: 24.546 | BH100: 24.315 | BI100: 24.083 | BJ100: 23.851 | BK100: 22.84 | BL100: 21.828 | BM100: 20.816 | BN100: 19.804 | BO100: 18.792 | BP100: 17.78 | BQ100: 16.769 | BR100: 15.757 | BS100: 14.745 | BT100: 13.733
A101: 99 | B101: 0 | C101: 1.216 | D101: 2.431 | E101: 4.221 | F101: 6.01 | G101: 7.501 | H101: 8.993 | I101: 10.234 | J101: 11.474 | K101: 12.869 | L101: 14.265 | M101: 17.422 | N101: 20.744 | O101: 21.992 | P101: 23.257 | Q101: 24.847 | R101: 26.46 | S101: 27.242 | T101: 28.024 | U101: 29.147 | V101: 30.269 | W101: 30.93 | X101: 31.59 | Y101: 31.807 | Z101: 32.024 | AA101: 32.377 | AB101: 32.731 | AC101: 32.074 | AD101: 31.561 | AE101: 30.933 | AF101: 30.305 | AG101: 30.155 | AH101: 30.004 | AI101: 29.854 | AJ101: 29.704 | AK101: 29.554 | AL101: 29.146 | AM101: 28.742 | AN101: 28.34 | AO101: 27.941 | AP101: 27.544 | AQ101: 27.424 | AR101: 27.303 | AS101: 27.183 | AT101: 27.062 | AU101: 26.942 | AV101: 26.821 | AW101: 26.7 | AX101: 26.58 | AY101: 26.459 | AZ101: 26.339 | BA101: 26.112 | BB101: 25.885 | BC101: 25.659 | BD101: 25.432 | BE101: 25.205 | BF101: 24.979 | BG101: 24.752 | BH101: 24.525 | BI101: 24.299 | BJ101: 24.072 | BK101: 23.061 | BL101: 22.049 | BM101: 21.038 | BN101: 20.026 | BO101: 19.015 | BP101: 18.003 | BQ101: 16.992 | BR101: 15.981 | BS101: 14.969 | BT101: 13.958
A102: 100 | B102: 0 | C102: 1.214 | D102: 2.427 | E102: 4.228 | F102: 6.028 | G102: 7.517 | H102: 9.007 | I102: 10.246 | J102: 11.484 | K102: 12.868 | L102: 14.253 | M102: 17.447 | N102: 20.807 | O102: 22.052 | P102: 23.315 | Q102: 24.93 | R102: 26.568 | S102: 27.33 | T102: 28.091 | U102: 29.223 | V102: 30.355 | W102: 31.012 | X102: 31.669 | Y102: 31.904 | Z102: 32.139 | AA102: 32.582 | AB102: 33.025 | AC102: 32.363 | AD102: 31.846 | AE102: 31.189 | AF102: 30.532 | AG102: 30.388 | AH102: 30.244 | AI102: 30.1 | AJ102: 29.956 | AK102: 29.812 | AL102: 29.397 | AM102: 28.984 | AN102: 28.574 | AO102: 28.167 | AP102: 27.763 | AQ102: 27.638 | AR102: 27.512 | AS102: 27.387 | AT102: 27.262 | AU102: 27.136 | AV102: 27.011 | AW102: 26.885 | AX102: 26.76 | AY102: 26.635 | AZ102: 26.509 | BA102: 26.288 | BB102: 26.066 | BC102: 25.844 | BD102: 25.623 | BE102: 25.401 | BF102: 25.179 | BG102: 24.958 | BH102: 24.736 | BI102: 24.514 | BJ102: 24.293 | BK102: 23.282 | BL102: 22.271 | BM102: 21.26 | BN102: 20.249 | BO102: 19.238 | BP102: 18.227 | BQ102: 17.215 | BR102: 16.204 | BS102: 15.193 | BT102: 14.182
A103: 101 | B103: 0 | C103: 1.212 | D103: 2.423 | E103: 4.229 | F103: 6.034 | G103: 7.519 | H103: 9.005 | I103: 10.227 | J103: 11.448 | K103: 12.841 | L103: 14.235 | M103: 17.455 | N103: 20.841 | O103: 22.094 | P103: 23.364 | Q103: 25 | R103: 26.658 | S103: 27.412 | T103: 28.166 | U103: 29.28 | V103: 30.394 | W103: 31.065 | X103: 31.736 | Y103: 31.991 | Z103: 32.247 | AA103: 32.722 | AB103: 33.196 | AC103: 32.579 | AD103: 32.08 | AE103: 31.428 | AF103: 30.776 | AG103: 30.641 | AH103: 30.506 | AI103: 30.371 | AJ103: 30.235 | AK103: 30.1 | AL103: 29.68 | AM103: 29.262 | AN103: 28.847 | AO103: 28.435 | AP103: 28.026 | AQ103: 27.897 | AR103: 27.768 | AS103: 27.639 | AT103: 27.511 | AU103: 27.382 | AV103: 27.253 | AW103: 27.124 | AX103: 26.996 | AY103: 26.867 | AZ103: 26.738 | BA103: 26.51 | BB103: 26.282 | BC103: 26.054 | BD103: 25.826 | BE103: 25.598 | BF103: 25.369 | BG103: 25.141 | BH103: 24.913 | BI103: 24.685 | BJ103: 24.457 | BK103: 23.45 | BL103: 22.443 | BM103: 21.436 | BN103: 20.428 | BO103: 19.421 | BP103: 18.414 | BQ103: 17.407 | BR103: 16.399 | BS103: 15.392 | BT103: 14.385
A104: 102 | B104: 0 | C104: 1.21 | D104: 2.419 | E104: 4.23 | F104: 6.04 | G104: 7.521 | H104: 9.003 | I104: 10.208 | J104: 11.412 | K104: 12.814 | L104: 14.217 | M104: 17.463 | N104: 20.876 | O104: 22.136 | P104: 23.413 | Q104: 25.069 | R104: 26.748 | S104: 27.495 | T104: 28.241 | U104: 29.338 | V104: 30.434 | W104: 31.118 | X104: 31.803 | Y104: 32.079 | Z104: 32.355 | AA104: 32.861 | AB104: 33.367 | AC104: 32.795 | AD104: 32.314 | AE104: 31.667 | AF104: 31.02 | AG104: 30.894 | AH104: 30.767 | AI104: 30.641 | AJ104: 30.515 | AK104: 30.388 | AL104: 29.962 | AM104: 29.539 | AN104: 29.12 | AO104: 28.703 | AP104: 28.289 | AQ104: 28.156 | AR104: 28.024 | AS104: 27.892 | AT104: 27.76 | AU104: 27.628 | AV104: 27.495 | AW104: 27.363 | AX104: 27.231 | AY104: 27.099 | AZ104: 26.967 | BA104: 26.732 | BB104: 26.498 | BC104: 26.263 | BD104: 26.029 | BE104: 25.794 | BF104: 25.56 | BG104: 25.325 | BH104: 25.091 | BI104: 24.856 | BJ104: 24.622 | BK104: 23.618 | BL104: 22.615 | BM104: 21.611 | BN104: 20.608 | BO104: 19.605 | BP104: 18.601 | BQ104: 17.598 | BR104: 16.594 | BS104: 15.591 | BT104: 14.588
A105: 103 | B105: 0 | C105: 1.208 | D105: 2.415 | E105: 4.231 | F105: 6.046 | G105: 7.524 | H105: 9.001 | I105: 10.188 | J105: 11.376 | K105: 12.787 | L105: 14.198 | M105: 17.471 | N105: 20.91 | O105: 22.178 | P105: 23.462 | Q105: 25.138 | R105: 26.837 | S105: 27.577 | T105: 28.317 | U105: 29.395 | V105: 30.474 | W105: 31.172 | X105: 31.869 | Y105: 32.167 | Z105: 32.464 | AA105: 33.001 | AB105: 33.538 | AC105: 33.011 | AD105: 32.547 | AE105: 31.906 | AF105: 31.264 | AG105: 31.147 | AH105: 31.029 | AI105: 30.911 | AJ105: 30.794 | AK105: 30.676 | AL105: 30.245 | AM105: 29.817 | AN105: 29.392 | AO105: 28.97 | AP105: 28.551 | AQ105: 28.416 | AR105: 28.28 | AS105: 28.145 | AT105: 28.009 | AU105: 27.873 | AV105: 27.738 | AW105: 27.602 | AX105: 27.467 | AY105: 27.331 | AZ105: 27.195 | BA105: 26.954 | BB105: 26.714 | BC105: 26.473 | BD105: 26.232 | BE105: 25.991 | BF105: 25.75 | BG105: 25.509 | BH105: 25.268 | BI105: 25.027 | BJ105: 24.786 | BK105: 23.787 | BL105: 22.787 | BM105: 21.787 | BN105: 20.788 | BO105: 19.788 | BP105: 18.789 | BQ105: 17.789 | BR105: 16.789 | BS105: 15.79 | BT105: 14.79
A106: 104 | B106: 0 | C106: 1.206 | D106: 2.411 | E106: 4.232 | F106: 6.052 | G106: 7.526 | H106: 8.999 | I106: 10.169 | J106: 11.34 | K106: 12.76 | L106: 14.18 | M106: 17.479 | N106: 20.944 | O106: 22.219 | P106: 23.512 | Q106: 25.208 | R106: 26.927 | S106: 27.659 | T106: 28.392 | U106: 29.452 | V106: 30.513 | W106: 31.225 | X106: 31.936 | Y106: 32.254 | Z106: 32.572 | AA106: 33.141 | AB106: 33.709 | AC106: 33.227 | AD106: 32.781 | AE106: 32.145 | AF106: 31.508 | AG106: 31.4 | AH106: 31.291 | AI106: 31.182 | AJ106: 31.073 | AK106: 30.964 | AL106: 30.528 | AM106: 30.095 | AN106: 29.665 | AO106: 29.238 | AP106: 28.814 | AQ106: 28.675 | AR106: 28.536 | AS106: 28.397 | AT106: 28.258 | AU106: 28.119 | AV106: 27.98 | AW106: 27.841 | AX106: 27.702 | AY106: 27.563 | AZ106: 27.424 | BA106: 27.177 | BB106: 26.929 | BC106: 26.682 | BD106: 26.435 | BE106: 26.187 | BF106: 25.94 | BG106: 25.693 | BH106: 25.445 | BI106: 25.198 | BJ106: 24.951 | BK106: 23.955 | BL106: 22.959 | BM106: 21.963 | BN106: 20.968 | BO106: 19.972 | BP106: 18.976 | BQ106: 17.98 | BR106: 16.984 | BS106: 15.989 | BT106: 14.993
A107: 105 | B107: 0 | C107: 1.204 | D107: 2.407 | E107: 4.233 | F107: 6.058 | G107: 7.528 | H107: 8.997 | I107: 10.15 | J107: 11.304 | K107: 12.733 | L107: 14.162 | M107: 17.487 | N107: 20.979 | O107: 22.261 | P107: 23.561 | Q107: 25.277 | R107: 27.017 | S107: 27.742 | T107: 28.467 | U107: 29.51 | V107: 30.553 | W107: 31.278 | X107: 32.003 | Y107: 32.342 | Z107: 32.681 | AA107: 33.281 | AB107: 33.881 | AC107: 33.442 | AD107: 33.015 | AE107: 32.384 | AF107: 31.753 | AG107: 31.652 | AH107: 31.552 | AI107: 31.452 | AJ107: 31.352 | AK107: 31.252 | AL107: 30.811 | AM107: 30.373 | AN107: 29.938 | AO107: 29.506 | AP107: 29.077 | AQ107: 28.935 | AR107: 28.792 | AS107: 28.65 | AT107: 28.507 | AU107: 28.365 | AV107: 28.222 | AW107: 28.08 | AX107: 27.938 | AY107: 27.795 | AZ107: 27.653 | BA107: 27.399 | BB107: 27.145 | BC107: 26.891 | BD107: 26.638 | BE107: 26.384 | BF107: 26.13 | BG107: 25.876 | BH107: 25.623 | BI107: 25.369 | BJ107: 25.115 | BK107: 24.123 | BL107: 23.131 | BM107: 22.139 | BN107: 21.147 | BO107: 20.155 | BP107: 19.163 | BQ107: 18.171 | BR107: 17.179 | BS107: 16.187 | BT107: 15.195
A108: 106 | B108: 0 | C108: 1.202 | D108: 2.403 | E108: 4.232 | F108: 6.06 | G108: 7.526 | H108: 8.991 | I108: 10.126 | J108: 11.262 | K108: 12.69 | L108: 14.118 | M108: 17.425 | N108: 20.898 | O108: 22.21 | P108: 23.54 | Q108: 25.287 | R108: 27.059 | S108: 27.796 | T108: 28.534 | U108: 29.545 | V108: 30.557 | W108: 31.329 | X108: 32.101 | Y108: 32.445 | Z108: 32.789 | AA108: 33.413 | AB108: 34.037 | AC108: 33.651 | AD108: 33.265 | AE108: 32.631 | AF108: 32.095 | AG108: 31.992 | AH108: 31.889 | AI108: 31.786 | AJ108: 31.682 | AK108: 31.579 | AL108: 31.141 | AM108: 30.705 | AN108: 30.272 | AO108: 29.843 | AP108: 29.416 | AQ108: 29.263 | AR108: 29.111 | AS108: 28.958 | AT108: 28.805 | AU108: 28.653 | AV108: 28.5 | AW108: 28.347 | AX108: 28.195 | AY108: 28.042 | AZ108: 27.889 | BA108: 27.631 | BB108: 27.372 | BC108: 27.113 | BD108: 26.854 | BE108: 26.596 | BF108: 26.337 | BG108: 26.078 | BH108: 25.819 | BI108: 25.56 | BJ108: 25.302 | BK108: 24.323 | BL108: 23.344 | BM108: 22.365 | BN108: 21.386 | BO108: 20.407 | BP108: 19.428 | BQ108: 18.449 | BR108: 17.47 | BS108: 16.491 | BT108: 15.512
A109: 107 | B109: 0 | C109: 1.2 | D109: 2.399 | E109: 4.231 | F109: 6.062 | G109: 7.524 | H109: 8.985 | I109: 10.102 | J109: 11.22 | K109: 12.647 | L109: 14.074 | M109: 17.363 | N109: 20.817 | O109: 22.159 | P109: 23.52 | Q109: 25.298 | R109: 27.1 | S109: 27.85 | T109: 28.6 | U109: 29.581 | V109: 30.561 | W109: 31.38 | X109: 32.199 | Y109: 32.548 | Z109: 32.898 | AA109: 33.546 | AB109: 34.193 | AC109: 33.86 | AD109: 33.526 | AE109: 32.893 | AF109: 32.437 | AG109: 32.331 | AH109: 32.225 | AI109: 32.119 | AJ109: 32.013 | AK109: 31.907 | AL109: 31.471 | AM109: 31.037 | AN109: 30.607 | AO109: 30.179 | AP109: 29.755 | AQ109: 29.592 | AR109: 29.429 | AS109: 29.266 | AT109: 29.103 | AU109: 28.941 | AV109: 28.778 | AW109: 28.615 | AX109: 28.452 | AY109: 28.289 | AZ109: 28.126 | BA109: 27.862 | BB109: 27.599 | BC109: 27.335 | BD109: 27.071 | BE109: 26.807 | BF109: 26.543 | BG109: 26.28 | BH109: 26.016 | BI109: 25.752 | BJ109: 25.488 | BK109: 24.522 | BL109: 23.556 | BM109: 22.591 | BN109: 21.625 | BO109: 20.659 | BP109: 19.693 | BQ109: 18.727 | BR109: 17.761 | BS109: 16.795 | BT109: 15.829
A110: 108 | B110: 0 | C110: 1.198 | D110: 2.395 | E110: 4.23 | F110: 6.064 | G110: 7.521 | H110: 8.979 | I110: 10.078 | J110: 11.177 | K110: 12.604 | L110: 14.03 | M110: 17.301 | N110: 20.736 | O110: 22.108 | P110: 23.499 | Q110: 25.308 | R110: 27.142 | S110: 27.905 | T110: 28.667 | U110: 29.616 | V110: 30.566 | W110: 31.431 | X110: 32.297 | Y110: 32.652 | Z110: 33.006 | AA110: 33.678 | AB110: 34.35 | AC110: 34.068 | AD110: 33.787 | AE110: 33.194 | AF110: 32.779 | AG110: 32.67 | AH110: 32.561 | AI110: 32.452 | AJ110: 32.343 | AK110: 32.234 | AL110: 31.801 | AM110: 31.37 | AN110: 30.942 | AO110: 30.516 | AP110: 30.094 | AQ110: 29.921 | AR110: 29.748 | AS110: 29.575 | AT110: 29.402 | AU110: 29.228 | AV110: 29.055 | AW110: 28.882 | AX110: 28.709 | AY110: 28.536 | AZ110: 28.363 | BA110: 28.094 | BB110: 27.825 | BC110: 27.556 | BD110: 27.288 | BE110: 27.019 | BF110: 26.75 | BG110: 26.481 | BH110: 26.212 | BI110: 25.944 | BJ110: 25.675 | BK110: 24.722 | BL110: 23.769 | BM110: 22.816 | BN110: 21.863 | BO110: 20.911 | BP110: 19.958 | BQ110: 19.005 | BR110: 18.052 | BS110: 17.099 | BT110: 16.146
A111: 109 | B111: 0 | C111: 1.196 | D111: 2.391 | E111: 4.229 | F111: 6.066 | G111: 7.519 | H111: 8.973 | I111: 10.054 | J111: 11.135 | K111: 12.561 | L111: 13.986 | M111: 17.239 | N111: 20.655 | O111: 22.057 | P111: 23.479 | Q111: 25.318 | R111: 27.184 | S111: 27.959 | T111: 28.734 | U111: 29.652 | V111: 30.57 | W111: 31.482 | X111: 32.395 | Y111: 32.755 | Z111: 33.115 | AA111: 33.811 | AB111: 34.506 | AC111: 34.277 | AD111: 34.047 | AE111: 33.496 | AF111: 33.121 | AG111: 33.009 | AH111: 32.898 | AI111: 32.786 | AJ111: 32.674 | AK111: 32.562 | AL111: 32.131 | AM111: 31.702 | AN111: 31.276 | AO111: 30.853 | AP111: 30.433 | AQ111: 30.25 | AR111: 30.066 | AS111: 29.883 | AT111: 29.7 | AU111: 29.516 | AV111: 29.333 | AW111: 29.15 | AX111: 28.966 | AY111: 28.783 | AZ111: 28.6 | BA111: 28.326 | BB111: 28.052 | BC111: 27.778 | BD111: 27.504 | BE111: 27.23 | BF111: 26.957 | BG111: 26.683 | BH111: 26.409 | BI111: 26.135 | BJ111: 25.861 | BK111: 24.922 | BL111: 23.982 | BM111: 23.042 | BN111: 22.102 | BO111: 21.162 | BP111: 20.222 | BQ111: 19.283 | BR111: 18.343 | BS111: 17.403 | BT111: 16.463
A112: 110 | B112: 0 | C112: 1.194 | D112: 2.387 | E112: 4.228 | F112: 6.068 | G112: 7.517 | H112: 8.967 | I112: 10.03 | J112: 11.093 | K112: 12.517 | L112: 13.942 | M112: 17.176 | N112: 20.574 | O112: 22.006 | P112: 23.458 | Q112: 25.329 | R112: 27.225 | S112: 28.013 | T112: 28.801 | U112: 29.687 | V112: 30.574 | W112: 31.534 | X112: 32.493 | Y112: 32.858 | Z112: 33.223 | AA112: 33.943 | AB112: 34.663 | AC112: 34.486 | AD112: 34.308 | AE112: 33.797 | AF112: 33.463 | AG112: 33.349 | AH112: 33.234 | AI112: 33.119 | AJ112: 33.004 | AK112: 32.89 | AL112: 32.461 | AM112: 32.034 | AN112: 31.611 | AO112: 31.19 | AP112: 30.772 | AQ112: 30.578 | AR112: 30.385 | AS112: 30.191 | AT112: 29.998 | AU112: 29.804 | AV112: 29.611 | AW112: 29.417 | AX112: 29.223 | AY112: 29.03 | AZ112: 28.836 | BA112: 28.557 | BB112: 28.279 | BC112: 28 | BD112: 27.721 | BE112: 27.442 | BF112: 27.163 | BG112: 26.884 | BH112: 26.606 | BI112: 26.327 | BJ112: 26.048 | BK112: 25.121 | BL112: 24.194 | BM112: 23.268 | BN112: 22.341 | BO112: 21.414 | BP112: 20.487 | BQ112: 19.561 | BR112: 18.634 | BS112: 17.707 | BT112: 16.78
A113: 111 | B113: 0 | C113: 1.186 | D113: 2.371 | E113: 4.217 | F113: 6.062 | G113: 7.492 | H113: 8.923 | I113: 9.959 | J113: 10.995 | K113: 12.437 | L113: 13.88 | M113: 17.075 | N113: 20.433 | O113: 21.909 | P113: 23.405 | Q113: 25.321 | R113: 27.263 | S113: 28.064 | T113: 28.865 | U113: 29.708 | V113: 30.551 | W113: 31.55 | X113: 32.55 | Y113: 32.895 | Z113: 33.24 | AA113: 33.997 | AB113: 34.755 | AC113: 34.664 | AD113: 34.573 | AE113: 34.041 | AF113: 33.63 | AG113: 33.533 | AH113: 33.435 | AI113: 33.337 | AJ113: 33.24 | AK113: 33.142 | AL113: 32.719 | AM113: 32.298 | AN113: 31.879 | AO113: 31.464 | AP113: 31.051 | AQ113: 30.849 | AR113: 30.648 | AS113: 30.446 | AT113: 30.244 | AU113: 30.043 | AV113: 29.841 | AW113: 29.64 | AX113: 29.438 | AY113: 29.236 | AZ113: 29.035 | BA113: 28.759 | BB113: 28.484 | BC113: 28.208 | BD113: 27.932 | BE113: 27.657 | BF113: 27.381 | BG113: 27.105 | BH113: 26.83 | BI113: 26.554 | BJ113: 26.279 | BK113: 25.353 | BL113: 24.428 | BM113: 23.502 | BN113: 22.577 | BO113: 21.652 | BP113: 20.726 | BQ113: 19.801 | BR113: 18.876 | BS113: 17.95 | BT113: 17.025
A114: 112 | B114: 0 | C114: 1.178 | D114: 2.355 | E114: 4.206 | F114: 6.056 | G114: 7.467 | H114: 8.879 | I114: 9.888 | J114: 10.897 | K114: 12.357 | L114: 13.817 | M114: 16.974 | N114: 20.291 | O114: 21.811 | P114: 23.352 | Q114: 25.312 | R114: 27.301 | S114: 28.115 | T114: 28.93 | U114: 29.729 | V114: 30.528 | W114: 31.567 | X114: 32.606 | Y114: 32.931 | Z114: 33.257 | AA114: 34.052 | AB114: 34.846 | AC114: 34.842 | AD114: 34.838 | AE114: 34.285 | AF114: 33.797 | AG114: 33.717 | AH114: 33.636 | AI114: 33.556 | AJ114: 33.475 | AK114: 33.394 | AL114: 32.977 | AM114: 32.561 | AN114: 32.148 | AO114: 31.738 | AP114: 31.33 | AQ114: 31.12 | AR114: 30.91 | AS114: 30.701 | AT114: 30.491 | AU114: 30.282 | AV114: 30.072 | AW114: 29.862 | AX114: 29.653 | AY114: 29.443 | AZ114: 29.233 | BA114: 28.961 | BB114: 28.689 | BC114: 28.416 | BD114: 28.144 | BE114: 27.871 | BF114: 27.599 | BG114: 27.327 | BH114: 27.054 | BI114: 26.782 | BJ114: 26.509 | BK114: 25.585 | BL114: 24.661 | BM114: 23.737 | BN114: 22.813 | BO114: 21.889 | BP114: 20.966 | BQ114: 20.042 | BR114: 19.118 | BS114: 18.194 | BT114: 17.27
A115: 113 | B115: 0 | C115: 1.169 | D115: 2.339 | E115: 4.195 | F115: 6.05 | G115: 7.442 | H115: 8.834 | I115: 9.816 | J115: 10.798 | K115: 12.277 | L115: 13.755 | M115: 16.872 | N115: 20.15 | O115: 21.713 | P115: 23.298 | Q115: 25.304 | R115: 27.338 | S115: 28.166 | T115: 28.995 | U115: 29.75 | V115: 30.505 | W115: 31.584 | X115: 32.662 | Y115: 32.968 | Z115: 33.273 | AA115: 34.106 | AB115: 34.938 | AC115: 35.021 | AD115: 35.103 | AE115: 34.529 | AF115: 33.964 | AG115: 33.901 | AH115: 33.837 | AI115: 33.774 | AJ115: 33.71 | AK115: 33.647 | AL115: 33.234 | AM115: 32.824 | AN115: 32.417 | AO115: 32.011 | AP115: 31.609 | AQ115: 31.391 | AR115: 31.173 | AS115: 30.956 | AT115: 30.738 | AU115: 30.52 | AV115: 30.303 | AW115: 30.085 | AX115: 29.867 | AY115: 29.65 | AZ115: 29.432 | BA115: 29.163 | BB115: 28.894 | BC115: 28.624 | BD115: 28.355 | BE115: 28.086 | BF115: 27.817 | BG115: 27.548 | BH115: 27.278 | BI115: 27.009 | BJ115: 26.74 | BK115: 25.817 | BL115: 24.895 | BM115: 23.972 | BN115: 23.05 | BO115: 22.127 | BP115: 21.205 | BQ115: 20.282 | BR115: 19.36 | BS115: 18.437 | BT115: 17.514
A116: 114 | B116: 0 | C116: 1.163 | D116: 2.327 | E116: 4.184 | F116: 6.044 | G116: 7.417 | H116: 8.79 | I116: 9.745 | J116: 10.7 | K116: 12.196 | L116: 13.693 | M116: 16.771 | N116: 20.008 | O116: 21.615 | P116: 23.245 | Q116: 25.296 | R116: 27.376 | S116: 28.217 | T116: 29.059 | U116: 29.771 | V116: 30.482 | W116: 31.6 | X116: 32.719 | Y116: 33.004 | Z116: 33.29 | AA116: 34.16 | AB116: 35.03 | AC116: 35.199 | AD116: 35.368 | AE116: 34.773 | AF116: 34.179 | AG116: 34.085 | AH116: 34.038 | AI116: 33.992 | AJ116: 33.946 | AK116: 33.899 | AL116: 33.492 | AM116: 33.088 | AN116: 32.685 | AO116: 32.285 | AP116: 31.887 | AQ116: 31.662 | AR116: 31.436 | AS116: 31.21 | AT116: 30.985 | AU116: 30.759 | AV116: 30.533 | AW116: 30.308 | AX116: 30.082 | AY116: 29.856 | AZ116: 29.631 | BA116: 29.365 | BB116: 29.099 | BC116: 28.833 | BD116: 28.567 | BE116: 28.301 | BF116: 28.035 | BG116: 27.769 | BH116: 27.503 | BI116: 27.237 | BJ116: 26.971 | BK116: 26.05 | BL116: 25.128 | BM116: 24.207 | BN116: 23.286 | BO116: 22.365 | BP116: 21.444 | BQ116: 20.523 | BR116: 19.601 | BS116: 18.68 | BT116: 17.759
A117: 115 | B117: 0 | C117: 1.158 | D117: 2.317 | E117: 4.177 | F117: 6.038 | G117: 7.392 | H117: 8.746 | I117: 9.674 | J117: 10.602 | K117: 12.116 | L117: 13.631 | M117: 16.67 | N117: 19.867 | O117: 21.517 | P117: 23.191 | Q117: 25.287 | R117: 27.413 | S117: 28.269 | T117: 29.124 | U117: 29.792 | V117: 30.459 | W117: 31.617 | X117: 32.775 | Y117: 33.041 | Z117: 33.307 | AA117: 34.214 | AB117: 35.122 | AC117: 35.377 | AD117: 35.633 | AE117: 35.018 | AF117: 34.402 | AG117: 34.3 | AH117: 34.239 | AI117: 34.21 | AJ117: 34.181 | AK117: 34.152 | AL117: 33.75 | AM117: 33.351 | AN117: 32.954 | AO117: 32.559 | AP117: 32.166 | AQ117: 31.933 | AR117: 31.699 | AS117: 31.465 | AT117: 31.231 | AU117: 30.998 | AV117: 30.764 | AW117: 30.53 | AX117: 30.297 | AY117: 30.063 | AZ117: 29.829 | BA117: 29.566 | BB117: 29.304 | BC117: 29.041 | BD117: 28.778 | BE117: 28.515 | BF117: 28.253 | BG117: 27.99 | BH117: 27.727 | BI117: 27.464 | BJ117: 27.201 | BK117: 26.282 | BL117: 25.362 | BM117: 24.442 | BN117: 23.522 | BO117: 22.603 | BP117: 21.683 | BQ117: 20.763 | BR117: 19.843 | BS117: 18.924 | BT117: 18.004
