Workbook

Sheet Maxi
A1: TWA\TWS | B1: 0 | C1: 1 | D1: 2 | E1: 3 | F1: 4 | G1: 5 | H1: 6 | I1: 7 | J1: 8 | K1: 9 | L1: 10 | M1: 11 | N1: 12 | O1: 13 | P1: 14 | Q1: 15 | R1: 16 | S1: 17 | T1: 18 | U1: 19 | V1: 20 | W1: 21 | X1: 22 | Y1: 23 | Z1: 24 | AA1: 25 | AB1: 26 | AC1: 27 | AD1: 28 | AE1: 29 | AF1: 30 | AG1: 31 | AH1: 32 | AI1: 33 | AJ1: 34 | AK1: 35 | AL1: 36 | AM1: 37 | AN1: 38 | AO1: 39 | AP1: 40 | AQ1: 41 | AR1: 42 | AS1: 43 | AT1: 44 | AU1: 45 | AV1: 46 | AW1: 47 | AX1: 48 | AY1: 49 | AZ1: 50 | BA1: 51 | BB1: 52 | BC1: 53 | BD1: 54 | BE1: 55 | BF1: 56 | BG1: 57 | BH1: 58 | BI1: 59 | BJ1: 60 | BK1: 61 | BL1: 62 | BM1: 63 | BN1: 64 | BO1: 65 | BP1: 66 | BQ1: 67 | BR1: 68 | BS1: 69 | BT1: 70
A2: 0 | B2: 0 | C2: 0 | D2: 0 | E2: 0 | F2: 0 | G2: 0 | H2: 0 | I2: 0 | J2: 0 | K2: 0 | L2: 0 | M2: 0 | N2: 0 | O2: 0 | P2: 0 | Q2: 0 | R2: 0 | S2: 0 | T2: 0 | U2: 0 | V2: 0 | W2: 0 | X2: 0 | Y2: 0 | Z2: 0 | AA2: 0 | AB2: 0 | AC2: 0 | AD2: 0 | AE2: 0 | AF2: 0 | AG2: 0 | AH2: 0 | AI2: 0 | AJ2: 0 | AK2: 0 | AL2: 0 | AM2: 0 | AN2: 0 | AO2: 0 | AP2: 0 | AQ2: 0 | AR2: 0 | AS2: 0 | AT2: 0 | AU2: 0 | AV2: 0 | AW2: 0 | AX2: 0 | AY2: 0 | AZ2: 0 | BA2: 0 | BB2: 0 | BC2: 0 | BD2: 0 | BE2: 0 | BF2: 0 | BG2: 0 | BH2: 0 | BI2: 0 | BJ2: 0 | BK2: 0 | BL2: 0 | BM2: 0 | BN2: 0 | BO2: 0 | BP2: 0 | BQ2: 0 | BR2: 0 | BS2: 0 | BT2: 0
A3: 1 | B3: 0 | C3: 0.046 | D3: 0.091 | E3: 0.134 | F3: 0.178 | G3: 0.213 | H3: 0.249 | I3: 0.273 | J3: 0.298 | K3: 0.3 | L3: 0.302 | M3: 0.319 | N3: 0.336 | O3: 0.343 | P3: 0.35 | Q3: 0.353 | R3: 0.355 | S3: 0.358 | T3: 0.36 | U3: 0.359 | V3: 0.364 | W3: 0.366 | X3: 0.369 | Y3: 0.371 | Z3: 0.373 | AA3: 0.376 | AB3: 0.378 | AC3: 0.378 | AD3: 0.378 | AE3: 0.38 | AF3: 0.383 | AG3: 0.383 | AH3: 0.383 | AI3: 0.383 | AJ3: 0.383 | AK3: 0.383 | AL3: 0.381 | AM3: 0.38 | AN3: 0.378 | AO3: 0.377 | AP3: 0.375 | AQ3: 0.374 | AR3: 0.373 | AS3: 0.371 | AT3: 0.37 | AU3: 0.369 | AV3: 0.367 | AW3: 0.366 | AX3: 0.364 | AY3: 0.363 | AZ3: 0.362 | BA3: 0.357 | BB3: 0.353 | BC3: 0.348 | BD3: 0.343 | BE3: 0.339 | BF3: 0.334 | BG3: 0.329 | BH3: 0.325 | BI3: 0.32 | BJ3: 0.316 | BK3: 0.312 | BL3: 0.308 | BM3: 0.304 | BN3: 0.3 | BO3: 0.297 | BP3: 0.293 | BQ3: 0.289 | BR3: 0.285 | BS3: 0.282 | BT3: 0.278
A4: 2 | B4: 0 | C4: 0.091 | D4: 0.183 | E4: 0.269 | F4: 0.355 | G4: 0.427 | H4: 0.499 | I4: 0.547 | J4: 0.595 | K4: 0.6 | L4: 0.604 | M4: 0.638 | N4: 0.671 | O4: 0.686 | P4: 0.7 | Q4: 0.705 | R4: 0.711 | S4: 0.715 | T4: 0.72 | U4: 0.719 | V4: 0.728 | W4: 0.733 | X4: 0.738 | Y4: 0.742 | Z4: 0.747 | AA4: 0.752 | AB4: 0.756 | AC4: 0.756 | AD4: 0.756 | AE4: 0.761 | AF4: 0.766 | AG4: 0.766 | AH4: 0.766 | AI4: 0.766 | AJ4: 0.766 | AK4: 0.766 | AL4: 0.763 | AM4: 0.76 | AN4: 0.757 | AO4: 0.754 | AP4: 0.751 | AQ4: 0.748 | AR4: 0.745 | AS4: 0.743 | AT4: 0.74 | AU4: 0.737 | AV4: 0.734 | AW4: 0.732 | AX4: 0.729 | AY4: 0.726 | AZ4: 0.723 | BA4: 0.714 | BB4: 0.705 | BC4: 0.696 | BD4: 0.687 | BE4: 0.677 | BF4: 0.668 | BG4: 0.659 | BH4: 0.65 | BI4: 0.64 | BJ4: 0.631 | BK4: 0.624 | BL4: 0.616 | BM4: 0.609 | BN4: 0.601 | BO4: 0.593 | BP4: 0.586 | BQ4: 0.578 | BR4: 0.571 | BS4: 0.563 | BT4: 0.556
A5: 3 | B5: 0 | C5: 0.137 | D5: 0.274 | E5: 0.403 | F5: 0.533 | G5: 0.64 | H5: 0.748 | I5: 0.82 | J5: 0.893 | K5: 0.9 | L5: 0.907 | M5: 0.957 | N5: 1.007 | O5: 1.029 | P5: 1.05 | Q5: 1.058 | R5: 1.066 | S5: 1.073 | T5: 1.08 | U5: 1.078 | V5: 1.092 | W5: 1.099 | X5: 1.106 | Y5: 1.113 | Z5: 1.12 | AA5: 1.127 | AB5: 1.134 | AC5: 1.134 | AD5: 1.134 | AE5: 1.141 | AF5: 1.148 | AG5: 1.148 | AH5: 1.148 | AI5: 1.148 | AJ5: 1.148 | AK5: 1.148 | AL5: 1.144 | AM5: 1.14 | AN5: 1.135 | AO5: 1.131 | AP5: 1.126 | AQ5: 1.122 | AR5: 1.118 | AS5: 1.114 | AT5: 1.11 | AU5: 1.106 | AV5: 1.102 | AW5: 1.098 | AX5: 1.093 | AY5: 1.089 | AZ5: 1.085 | BA5: 1.071 | BB5: 1.058 | BC5: 1.044 | BD5: 1.03 | BE5: 1.016 | BF5: 1.002 | BG5: 0.988 | BH5: 0.975 | BI5: 0.961 | BJ5: 0.947 | BK5: 0.935 | BL5: 0.924 | BM5: 0.913 | BN5: 0.901 | BO5: 0.89 | BP5: 0.879 | BQ5: 0.867 | BR5: 0.856 | BS5: 0.845 | BT5: 0.833
A6: 4 | B6: 0 | C6: 0.183 | D6: 0.365 | E6: 0.538 | F6: 0.71 | G6: 0.854 | H6: 0.998 | I6: 1.094 | J6: 1.19 | K6: 1.2 | L6: 1.209 | M6: 1.276 | N6: 1.343 | O6: 1.371 | P6: 1.4 | Q6: 1.411 | R6: 1.422 | S6: 1.431 | T6: 1.44 | U6: 1.438 | V6: 1.456 | W6: 1.466 | X6: 1.475 | Y6: 1.484 | Z6: 1.494 | AA6: 1.503 | AB6: 1.513 | AC6: 1.513 | AD6: 1.513 | AE6: 1.522 | AF6: 1.531 | AG6: 1.531 | AH6: 1.531 | AI6: 1.531 | AJ6: 1.531 | AK6: 1.531 | AL6: 1.525 | AM6: 1.519 | AN6: 1.514 | AO6: 1.508 | AP6: 1.502 | AQ6: 1.496 | AR6: 1.491 | AS6: 1.485 | AT6: 1.48 | AU6: 1.474 | AV6: 1.469 | AW6: 1.463 | AX6: 1.458 | AY6: 1.452 | AZ6: 1.447 | BA6: 1.429 | BB6: 1.41 | BC6: 1.392 | BD6: 1.373 | BE6: 1.355 | BF6: 1.336 | BG6: 1.318 | BH6: 1.299 | BI6: 1.281 | BJ6: 1.262 | BK6: 1.247 | BL6: 1.232 | BM6: 1.217 | BN6: 1.202 | BO6: 1.187 | BP6: 1.172 | BQ6: 1.157 | BR6: 1.142 | BS6: 1.126 | BT6: 1.111
A7: 5 | B7: 0 | C7: 0.228 | D7: 0.456 | E7: 0.672 | F7: 0.888 | G7: 1.067 | H7: 1.247 | I7: 1.367 | J7: 1.488 | K7: 1.499 | L7: 1.511 | M7: 1.595 | N7: 1.678 | O7: 1.714 | P7: 1.75 | Q7: 1.764 | R7: 1.777 | S7: 1.789 | T7: 1.8 | U7: 1.797 | V7: 1.82 | W7: 1.832 | X7: 1.844 | Y7: 1.856 | Z7: 1.867 | AA7: 1.879 | AB7: 1.891 | AC7: 1.891 | AD7: 1.891 | AE7: 1.902 | AF7: 1.914 | AG7: 1.914 | AH7: 1.914 | AI7: 1.914 | AJ7: 1.914 | AK7: 1.914 | AL7: 1.907 | AM7: 1.899 | AN7: 1.892 | AO7: 1.885 | AP7: 1.877 | AQ7: 1.87 | AR7: 1.864 | AS7: 1.857 | AT7: 1.85 | AU7: 1.843 | AV7: 1.836 | AW7: 1.829 | AX7: 1.822 | AY7: 1.816 | AZ7: 1.809 | BA7: 1.786 | BB7: 1.763 | BC7: 1.74 | BD7: 1.716 | BE7: 1.693 | BF7: 1.67 | BG7: 1.647 | BH7: 1.624 | BI7: 1.601 | BJ7: 1.578 | BK7: 1.559 | BL7: 1.54 | BM7: 1.521 | BN7: 1.502 | BO7: 1.484 | BP7: 1.465 | BQ7: 1.446 | BR7: 1.427 | BS7: 1.408 | BT7: 1.389
A8: 6 | B8: 0 | C8: 0.274 | D8: 0.548 | E8: 0.806 | F8: 1.065 | G8: 1.281 | H8: 1.496 | I8: 1.641 | J8: 1.785 | K8: 1.799 | L8: 1.813 | M8: 1.914 | N8: 2.014 | O8: 2.057 | P8: 2.1 | Q8: 2.116 | R8: 2.132 | S8: 2.146 | T8: 2.16 | U8: 2.156 | V8: 2.185 | W8: 2.199 | X8: 2.213 | Y8: 2.227 | Z8: 2.241 | AA8: 2.255 | AB8: 2.269 | AC8: 2.269 | AD8: 2.269 | AE8: 2.283 | AF8: 2.297 | AG8: 2.297 | AH8: 2.297 | AI8: 2.297 | AJ8: 2.297 | AK8: 2.297 | AL8: 2.288 | AM8: 2.279 | AN8: 2.27 | AO8: 2.262 | AP8: 2.253 | AQ8: 2.245 | AR8: 2.236 | AS8: 2.228 | AT8: 2.22 | AU8: 2.212 | AV8: 2.203 | AW8: 2.195 | AX8: 2.187 | AY8: 2.179 | AZ8: 2.17 | BA8: 2.143 | BB8: 2.115 | BC8: 2.087 | BD8: 2.06 | BE8: 2.032 | BF8: 2.004 | BG8: 1.977 | BH8: 1.949 | BI8: 1.921 | BJ8: 1.894 | BK8: 1.871 | BL8: 1.848 | BM8: 1.826 | BN8: 1.803 | BO8: 1.78 | BP8: 1.758 | BQ8: 1.735 | BR8: 1.712 | BS8: 1.69 | BT8: 1.667
A9: 7 | B9: 0 | C9: 0.319 | D9: 0.639 | E9: 0.941 | F9: 1.243 | G9: 1.494 | H9: 1.746 | I9: 1.914 | J9: 2.083 | K9: 2.099 | L9: 2.116 | M9: 2.233 | N9: 2.35 | O9: 2.4 | P9: 2.45 | Q9: 2.469 | R9: 2.488 | S9: 2.504 | T9: 2.521 | U9: 2.516 | V9: 2.549 | W9: 2.565 | X9: 2.581 | Y9: 2.598 | Z9: 2.614 | AA9: 2.631 | AB9: 2.647 | AC9: 2.647 | AD9: 2.647 | AE9: 2.663 | AF9: 2.68 | AG9: 2.68 | AH9: 2.68 | AI9: 2.68 | AJ9: 2.68 | AK9: 2.68 | AL9: 2.669 | AM9: 2.659 | AN9: 2.649 | AO9: 2.638 | AP9: 2.628 | AQ9: 2.619 | AR9: 2.609 | AS9: 2.599 | AT9: 2.59 | AU9: 2.58 | AV9: 2.571 | AW9: 2.561 | AX9: 2.551 | AY9: 2.542 | AZ9: 2.532 | BA9: 2.5 | BB9: 2.468 | BC9: 2.435 | BD9: 2.403 | BE9: 2.371 | BF9: 2.338 | BG9: 2.306 | BH9: 2.274 | BI9: 2.242 | BJ9: 2.209 | BK9: 2.183 | BL9: 2.156 | BM9: 2.13 | BN9: 2.103 | BO9: 2.077 | BP9: 2.051 | BQ9: 2.024 | BR9: 1.998 | BS9: 1.971 | BT9: 1.945
A10: 8 | B10: 0 | C10: 0.365 | D10: 0.73 | E10: 1.075 | F10: 1.42 | G10: 1.708 | H10: 1.995 | I10: 2.188 | J10: 2.38 | K10: 2.399 | L10: 2.418 | M10: 2.552 | N10: 2.685 | O10: 2.743 | P10: 2.8 | Q10: 2.822 | R10: 2.843 | S10: 2.862 | T10: 2.881 | U10: 2.875 | V10: 2.913 | W10: 2.931 | X10: 2.95 | Y10: 2.969 | Z10: 2.988 | AA10: 3.006 | AB10: 3.025 | AC10: 3.025 | AD10: 3.025 | AE10: 3.044 | AF10: 3.062 | AG10: 3.062 | AH10: 3.062 | AI10: 3.062 | AJ10: 3.062 | AK10: 3.062 | AL10: 3.051 | AM10: 3.039 | AN10: 3.027 | AO10: 3.015 | AP10: 3.004 | AQ10: 2.993 | AR10: 2.982 | AS10: 2.971 | AT10: 2.96 | AU10: 2.949 | AV10: 2.938 | AW10: 2.927 | AX10: 2.916 | AY10: 2.905 | AZ10: 2.894 | BA10: 2.857 | BB10: 2.82 | BC10: 2.783 | BD10: 2.746 | BE10: 2.709 | BF10: 2.673 | BG10: 2.636 | BH10: 2.599 | BI10: 2.562 | BJ10: 2.525 | BK10: 2.495 | BL10: 2.464 | BM10: 2.434 | BN10: 2.404 | BO10: 2.374 | BP10: 2.344 | BQ10: 2.313 | BR10: 2.283 | BS10: 2.253 | BT10: 2.223
A11: 9 | B11: 0 | C11: 0.411 | D11: 0.821 | E11: 1.21 | F11: 1.598 | G11: 1.921 | H11: 2.245 | I11: 2.461 | J11: 2.678 | K11: 2.699 | L11: 2.72 | M11: 2.871 | N11: 3.021 | O11: 3.086 | P11: 3.15 | Q11: 3.174 | R11: 3.199 | S11: 3.22 | T11: 3.241 | U11: 3.235 | V11: 3.277 | W11: 3.298 | X11: 3.319 | Y11: 3.34 | Z11: 3.361 | AA11: 3.382 | AB11: 3.403 | AC11: 3.403 | AD11: 3.403 | AE11: 3.424 | AF11: 3.445 | AG11: 3.445 | AH11: 3.445 | AI11: 3.445 | AJ11: 3.445 | AK11: 3.445 | AL11: 3.432 | AM11: 3.419 | AN11: 3.406 | AO11: 3.392 | AP11: 3.379 | AQ11: 3.367 | AR11: 3.354 | AS11: 3.342 | AT11: 3.33 | AU11: 3.317 | AV11: 3.305 | AW11: 3.293 | AX11: 3.28 | AY11: 3.268 | AZ11: 3.256 | BA11: 3.214 | BB11: 3.173 | BC11: 3.131 | BD11: 3.09 | BE11: 3.048 | BF11: 3.007 | BG11: 2.965 | BH11: 2.924 | BI11: 2.882 | BJ11: 2.84 | BK11: 2.806 | BL11: 2.772 | BM11: 2.738 | BN11: 2.704 | BO11: 2.67 | BP11: 2.636 | BQ11: 2.602 | BR11: 2.568 | BS11: 2.534 | BT11: 2.5
A12: 10 | B12: 0 | C12: 0.456 | D12: 0.913 | E12: 1.344 | F12: 1.775 | G12: 2.135 | H12: 2.494 | I12: 2.735 | J12: 2.976 | K12: 2.999 | L12: 3.022 | M12: 3.19 | N12: 3.357 | O12: 3.429 | P12: 3.5 | Q12: 3.527 | R12: 3.554 | S12: 3.577 | T12: 3.601 | U12: 3.594 | V12: 3.641 | W12: 3.664 | X12: 3.688 | Y12: 3.711 | Z12: 3.735 | AA12: 3.758 | AB12: 3.781 | AC12: 3.781 | AD12: 3.781 | AE12: 3.805 | AF12: 3.828 | AG12: 3.828 | AH12: 3.828 | AI12: 3.828 | AJ12: 3.828 | AK12: 3.828 | AL12: 3.813 | AM12: 3.799 | AN12: 3.784 | AO12: 3.769 | AP12: 3.755 | AQ12: 3.741 | AR12: 3.727 | AS12: 3.713 | AT12: 3.7 | AU12: 3.686 | AV12: 3.672 | AW12: 3.659 | AX12: 3.645 | AY12: 3.631 | AZ12: 3.617 | BA12: 3.571 | BB12: 3.525 | BC12: 3.479 | BD12: 3.433 | BE12: 3.387 | BF12: 3.341 | BG12: 3.295 | BH12: 3.248 | BI12: 3.202 | BJ12: 3.156 | BK12: 3.118 | BL12: 3.081 | BM12: 3.043 | BN12: 3.005 | BO12: 2.967 | BP12: 2.929 | BQ12: 2.892 | BR12: 2.854 | BS12: 2.816 | BT12: 2.778
A13: 11 | B13: 0 | C13: 0.502 | D13: 1.004 | E13: 1.478 | F13: 1.953 | G13: 2.348 | H13: 2.744 | I13: 3.008 | J13: 3.273 | K13: 3.299 | L13: 3.325 | M13: 3.508 | N13: 3.692 | O13: 3.771 | P13: 3.851 | Q13: 3.88 | R13: 3.909 | S13: 3.935 | T13: 3.961 | U13: 3.953 | V13: 4.005 | W13: 4.031 | X13: 4.056 | Y13: 4.082 | Z13: 4.108 | AA13: 4.134 | AB13: 4.159 | AC13: 4.159 | AD13: 4.159 | AE13: 4.185 | AF13: 4.211 | AG13: 4.211 | AH13: 4.211 | AI13: 4.211 | AJ13: 4.211 | AK13: 4.211 | AL13: 4.195 | AM13: 4.179 | AN13: 4.162 | AO13: 4.146 | AP13: 4.13 | AQ13: 4.115 | AR13: 4.1 | AS13: 4.085 | AT13: 4.07 | AU13: 4.055 | AV13: 4.04 | AW13: 4.024 | AX13: 4.009 | AY13: 3.994 | AZ13: 3.979 | BA13: 3.928 | BB13: 3.878 | BC13: 3.827 | BD13: 3.776 | BE13: 3.725 | BF13: 3.675 | BG13: 3.624 | BH13: 3.573 | BI13: 3.522 | BJ13: 3.472 | BK13: 3.43 | BL13: 3.389 | BM13: 3.347 | BN13: 3.305 | BO13: 3.264 | BP13: 3.222 | BQ13: 3.181 | BR13: 3.139 | BS13: 3.098 | BT13: 3.056
A14: 12 | B14: 0 | C14: 0.548 | D14: 1.095 | E14: 1.613 | F14: 2.13 | G14: 2.562 | H14: 2.993 | I14: 3.282 | J14: 3.571 | K14: 3.599 | L14: 3.627 | M14: 3.827 | N14: 4.028 | O14: 4.114 | P14: 4.201 | Q14: 4.233 | R14: 4.265 | S14: 4.293 | T14: 4.321 | U14: 4.313 | V14: 4.369 | W14: 4.397 | X14: 4.425 | Y14: 4.453 | Z14: 4.481 | AA14: 4.509 | AB14: 4.538 | AC14: 4.538 | AD14: 4.538 | AE14: 4.566 | AF14: 4.594 | AG14: 4.594 | AH14: 4.594 | AI14: 4.594 | AJ14: 4.594 | AK14: 4.594 | AL14: 4.576 | AM14: 4.558 | AN14: 4.541 | AO14: 4.523 | AP14: 4.505 | AQ14: 4.489 | AR14: 4.473 | AS14: 4.456 | AT14: 4.44 | AU14: 4.423 | AV14: 4.407 | AW14: 4.39 | AX14: 4.374 | AY14: 4.357 | AZ14: 4.341 | BA14: 4.286 | BB14: 4.23 | BC14: 4.175 | BD14: 4.12 | BE14: 4.064 | BF14: 4.009 | BG14: 3.953 | BH14: 3.898 | BI14: 3.843 | BJ14: 3.787 | BK14: 3.742 | BL14: 3.697 | BM14: 3.651 | BN14: 3.606 | BO14: 3.561 | BP14: 3.515 | BQ14: 3.47 | BR14: 3.425 | BS14: 3.379 | BT14: 3.334
A15: 13 | B15: 0 | C15: 0.593 | D15: 1.187 | E15: 1.747 | F15: 2.308 | G15: 2.775 | H15: 3.242 | I15: 3.555 | J15: 3.868 | K15: 3.899 | L15: 3.929 | M15: 4.146 | N15: 4.364 | O15: 4.457 | P15: 4.551 | Q15: 4.585 | R15: 4.62 | S15: 4.651 | T15: 4.681 | U15: 4.672 | V15: 4.733 | W15: 4.764 | X15: 4.794 | Y15: 4.824 | Z15: 4.855 | AA15: 4.885 | AB15: 4.916 | AC15: 4.916 | AD15: 4.916 | AE15: 4.946 | AF15: 4.977 | AG15: 4.977 | AH15: 4.977 | AI15: 4.977 | AJ15: 4.977 | AK15: 4.977 | AL15: 4.957 | AM15: 4.938 | AN15: 4.919 | AO15: 4.9 | AP15: 4.881 | AQ15: 4.863 | AR15: 4.845 | AS15: 4.827 | AT15: 4.81 | AU15: 4.792 | AV15: 4.774 | AW15: 4.756 | AX15: 4.738 | AY15: 4.721 | AZ15: 4.703 | BA15: 4.643 | BB15: 4.583 | BC15: 4.523 | BD15: 4.463 | BE15: 4.403 | BF15: 4.343 | BG15: 4.283 | BH15: 4.223 | BI15: 4.163 | BJ15: 4.103 | BK15: 4.054 | BL15: 4.005 | BM15: 3.956 | BN15: 3.906 | BO15: 3.857 | BP15: 3.808 | BQ15: 3.759 | BR15: 3.71 | BS15: 3.661 | BT15: 3.612
A16: 14 | B16: 0 | C16: 0.639 | D16: 1.278 | E16: 1.882 | F16: 2.485 | G16: 2.989 | H16: 3.492 | I16: 3.829 | J16: 4.166 | K16: 4.199 | L16: 4.231 | M16: 4.465 | N16: 4.699 | O16: 4.8 | P16: 4.901 | Q16: 4.938 | R16: 4.976 | S16: 5.008 | T16: 5.041 | U16: 5.032 | V16: 5.097 | W16: 5.13 | X16: 5.163 | Y16: 5.196 | Z16: 5.228 | AA16: 5.261 | AB16: 5.294 | AC16: 5.294 | AD16: 5.294 | AE16: 5.327 | AF16: 5.359 | AG16: 5.359 | AH16: 5.359 | AI16: 5.359 | AJ16: 5.359 | AK16: 5.359 | AL16: 5.339 | AM16: 5.318 | AN16: 5.298 | AO16: 5.277 | AP16: 5.256 | AQ16: 5.237 | AR16: 5.218 | AS16: 5.199 | AT16: 5.18 | AU16: 5.16 | AV16: 5.141 | AW16: 5.122 | AX16: 5.103 | AY16: 5.084 | AZ16: 5.064 | BA16: 5 | BB16: 4.935 | BC16: 4.871 | BD16: 4.806 | BE16: 4.742 | BF16: 4.677 | BG16: 4.612 | BH16: 4.548 | BI16: 4.483 | BJ16: 4.419 | BK16: 4.366 | BL16: 4.313 | BM16: 4.26 | BN16: 4.207 | BO16: 4.154 | BP16: 4.101 | BQ16: 4.048 | BR16: 3.995 | BS16: 3.943 | BT16: 3.89
A17: 15 | B17: 0 | C17: 0.685 | D17: 1.369 | E17: 2.016 | F17: 2.663 | G17: 3.202 | H17: 3.741 | I17: 4.102 | J17: 4.463 | K17: 4.498 | L17: 4.534 | M17: 4.784 | N17: 5.035 | O17: 5.143 | P17: 5.251 | Q17: 5.291 | R17: 5.331 | S17: 5.366 | T17: 5.401 | U17: 5.391 | V17: 5.461 | W17: 5.496 | X17: 5.532 | Y17: 5.567 | Z17: 5.602 | AA17: 5.637 | AB17: 5.672 | AC17: 5.672 | AD17: 5.672 | AE17: 5.707 | AF17: 5.742 | AG17: 5.742 | AH17: 5.742 | AI17: 5.742 | AJ17: 5.742 | AK17: 5.742 | AL17: 5.72 | AM17: 5.698 | AN17: 5.676 | AO17: 5.654 | AP17: 5.632 | AQ17: 5.611 | AR17: 5.591 | AS17: 5.57 | AT17: 5.55 | AU17: 5.529 | AV17: 5.508 | AW17: 5.488 | AX17: 5.467 | AY17: 5.447 | AZ17: 5.426 | BA17: 5.357 | BB17: 5.288 | BC17: 5.219 | BD17: 5.149 | BE17: 5.08 | BF17: 5.011 | BG17: 4.942 | BH17: 4.873 | BI17: 4.803 | BJ17: 4.734 | BK17: 4.677 | BL17: 4.621 | BM17: 4.564 | BN17: 4.507 | BO17: 4.451 | BP17: 4.394 | BQ17: 4.337 | BR17: 4.281 | BS17: 4.224 | BT17: 4.167
A18: 16 | B18: 0 | C18: 0.73 | D18: 1.46 | E18: 2.15 | F18: 2.84 | G18: 3.416 | H18: 3.991 | I18: 4.376 | J18: 4.761 | K18: 4.798 | L18: 4.836 | M18: 5.103 | N18: 5.371 | O18: 5.486 | P18: 5.601 | Q18: 5.644 | R18: 5.686 | S18: 5.724 | T18: 5.761 | U18: 5.751 | V18: 5.825 | W18: 5.863 | X18: 5.9 | Y18: 5.938 | Z18: 5.975 | AA18: 6.013 | AB18: 6.05 | AC18: 6.05 | AD18: 6.05 | AE18: 6.088 | AF18: 6.125 | AG18: 6.125 | AH18: 6.125 | AI18: 6.125 | AJ18: 6.125 | AK18: 6.125 | AL18: 6.101 | AM18: 6.078 | AN18: 6.054 | AO18: 6.031 | AP18: 6.007 | AQ18: 5.985 | AR18: 5.963 | AS18: 5.942 | AT18: 5.92 | AU18: 5.898 | AV18: 5.876 | AW18: 5.854 | AX18: 5.832 | AY18: 5.81 | AZ18: 5.788 | BA18: 5.714 | BB18: 5.64 | BC18: 5.567 | BD18: 5.493 | BE18: 5.419 | BF18: 5.345 | BG18: 5.271 | BH18: 5.197 | BI18: 5.124 | BJ18: 5.05 | BK18: 4.989 | BL18: 4.929 | BM18: 4.868 | BN18: 4.808 | BO18: 4.748 | BP18: 4.687 | BQ18: 4.627 | BR18: 4.566 | BS18: 4.506 | BT18: 4.445
A19: 17 | B19: 0 | C19: 0.776 | D19: 1.552 | E19: 2.285 | F19: 3.018 | G19: 3.629 | H19: 4.24 | I19: 4.649 | J19: 5.058 | K19: 5.098 | L19: 5.138 | M19: 5.422 | N19: 5.706 | O19: 5.829 | P19: 5.951 | Q19: 5.996 | R19: 6.042 | S19: 6.082 | T19: 6.121 | U19: 6.11 | V19: 6.19 | W19: 6.229 | X19: 6.269 | Y19: 6.309 | Z19: 6.349 | AA19: 6.388 | AB19: 6.428 | AC19: 6.428 | AD19: 6.428 | AE19: 6.468 | AF19: 6.508 | AG19: 6.508 | AH19: 6.508 | AI19: 6.508 | AJ19: 6.508 | AK19: 6.508 | AL19: 6.483 | AM19: 6.458 | AN19: 6.433 | AO19: 6.408 | AP19: 6.383 | AQ19: 6.359 | AR19: 6.336 | AS19: 6.313 | AT19: 6.29 | AU19: 6.266 | AV19: 6.243 | AW19: 6.22 | AX19: 6.196 | AY19: 6.173 | AZ19: 6.15 | BA19: 6.071 | BB19: 5.993 | BC19: 5.914 | BD19: 5.836 | BE19: 5.758 | BF19: 5.679 | BG19: 5.601 | BH19: 5.522 | BI19: 5.444 | BJ19: 5.365 | BK19: 5.301 | BL19: 5.237 | BM19: 5.173 | BN19: 5.108 | BO19: 5.044 | BP19: 4.98 | BQ19: 4.916 | BR19: 4.852 | BS19: 4.787 | BT19: 4.723
A20: 18 | B20: 0 | C20: 0.821 | D20: 1.643 | E20: 2.419 | F20: 3.196 | G20: 3.842 | H20: 4.489 | I20: 4.923 | J20: 5.356 | K20: 5.398 | L20: 5.44 | M20: 5.741 | N20: 6.042 | O20: 6.171 | P20: 6.301 | Q20: 6.349 | R20: 6.397 | S20: 6.439 | T20: 6.481 | U20: 6.469 | V20: 6.554 | W20: 6.596 | X20: 6.638 | Y20: 6.68 | Z20: 6.722 | AA20: 6.764 | AB20: 6.806 | AC20: 6.806 | AD20: 6.806 | AE20: 6.848 | AF20: 6.891 | AG20: 6.891 | AH20: 6.891 | AI20: 6.891 | AJ20: 6.891 | AK20: 6.891 | AL20: 6.864 | AM20: 6.838 | AN20: 6.811 | AO20: 6.785 | AP20: 6.758 | AQ20: 6.734 | AR20: 6.709 | AS20: 6.684 | AT20: 6.66 | AU20: 6.635 | AV20: 6.61 | AW20: 6.585 | AX20: 6.561 | AY20: 6.536 | AZ20: 6.511 | BA20: 6.428 | BB20: 6.345 | BC20: 6.262 | BD20: 6.179 | BE20: 6.096 | BF20: 6.013 | BG20: 5.93 | BH20: 5.847 | BI20: 5.764 | BJ20: 5.681 | BK20: 5.613 | BL20: 5.545 | BM20: 5.477 | BN20: 5.409 | BO20: 5.341 | BP20: 5.273 | BQ20: 5.205 | BR20: 5.137 | BS20: 5.069 | BT20: 5.001
A21: 19 | B21: 0 | C21: 0.867 | D21: 1.734 | E21: 2.554 | F21: 3.373 | G21: 4.056 | H21: 4.739 | I21: 5.196 | J21: 5.654 | K21: 5.698 | L21: 5.743 | M21: 6.06 | N21: 6.378 | O21: 6.514 | P21: 6.651 | Q21: 6.702 | R21: 6.753 | S21: 6.797 | T21: 6.841 | U21: 6.829 | V21: 6.918 | W21: 6.962 | X21: 7.007 | Y21: 7.051 | Z21: 7.096 | AA21: 7.14 | AB21: 7.184 | AC21: 7.184 | AD21: 7.184 | AE21: 7.229 | AF21: 7.273 | AG21: 7.273 | AH21: 7.273 | AI21: 7.273 | AJ21: 7.273 | AK21: 7.273 | AL21: 7.245 | AM21: 7.218 | AN21: 7.19 | AO21: 7.162 | AP21: 7.134 | AQ21: 7.108 | AR21: 7.082 | AS21: 7.056 | AT21: 7.029 | AU21: 7.003 | AV21: 6.977 | AW21: 6.951 | AX21: 6.925 | AY21: 6.899 | AZ21: 6.873 | BA21: 6.786 | BB21: 6.698 | BC21: 6.61 | BD21: 6.523 | BE21: 6.435 | BF21: 6.347 | BG21: 6.26 | BH21: 6.172 | BI21: 6.084 | BJ21: 5.997 | BK21: 5.925 | BL21: 5.853 | BM21: 5.781 | BN21: 5.709 | BO21: 5.638 | BP21: 5.566 | BQ21: 5.494 | BR21: 5.422 | BS21: 5.351 | BT21: 5.279
A22: 20 | B22: 0 | C22: 0.913 | D22: 1.825 | E22: 2.688 | F22: 3.551 | G22: 4.269 | H22: 4.988 | I22: 5.47 | J22: 5.951 | K22: 5.998 | L22: 6.045 | M22: 6.379 | N22: 6.713 | O22: 6.857 | P22: 7.001 | Q22: 7.054 | R22: 7.108 | S22: 7.155 | T22: 7.202 | U22: 7.188 | V22: 7.282 | W22: 7.329 | X22: 7.375 | Y22: 7.422 | Z22: 7.469 | AA22: 7.516 | AB22: 7.563 | AC22: 7.563 | AD22: 7.563 | AE22: 7.609 | AF22: 7.656 | AG22: 7.656 | AH22: 7.656 | AI22: 7.656 | AJ22: 7.656 | AK22: 7.656 | AL22: 7.627 | AM22: 7.597 | AN22: 7.568 | AO22: 7.539 | AP22: 7.509 | AQ22: 7.482 | AR22: 7.454 | AS22: 7.427 | AT22: 7.399 | AU22: 7.372 | AV22: 7.345 | AW22: 7.317 | AX22: 7.29 | AY22: 7.262 | AZ22: 7.235 | BA22: 7.143 | BB22: 7.05 | BC22: 6.958 | BD22: 6.866 | BE22: 6.774 | BF22: 6.681 | BG22: 6.589 | BH22: 6.497 | BI22: 6.404 | BJ22: 6.312 | BK22: 6.237 | BL22: 6.161 | BM22: 6.086 | BN22: 6.01 | BO22: 5.934 | BP22: 5.859 | BQ22: 5.783 | BR22: 5.708 | BS22: 5.632 | BT22: 5.557
A23: 21 | B23: 0 | C23: 0.958 | D23: 1.917 | E23: 2.822 | F23: 3.728 | G23: 4.483 | H23: 5.238 | I23: 5.743 | J23: 6.249 | K23: 6.298 | L23: 6.347 | M23: 6.698 | N23: 7.049 | O23: 7.2 | P23: 7.351 | Q23: 7.407 | R23: 7.463 | S23: 7.512 | T23: 7.562 | U23: 7.548 | V23: 7.646 | W23: 7.695 | X23: 7.744 | Y23: 7.793 | Z23: 7.842 | AA23: 7.892 | AB23: 7.941 | AC23: 7.941 | AD23: 7.941 | AE23: 7.99 | AF23: 8.039 | AG23: 8.039 | AH23: 8.039 | AI23: 8.039 | AJ23: 8.039 | AK23: 8.039 | AL23: 8.008 | AM23: 7.977 | AN23: 7.946 | AO23: 7.915 | AP23: 7.885 | AQ23: 7.856 | AR23: 7.827 | AS23: 7.798 | AT23: 7.769 | AU23: 7.741 | AV23: 7.712 | AW23: 7.683 | AX23: 7.654 | AY23: 7.626 | AZ23: 7.597 | BA23: 7.5 | BB23: 7.403 | BC23: 7.306 | BD23: 7.209 | BE23: 7.112 | BF23: 7.015 | BG23: 6.918 | BH23: 6.822 | BI23: 6.725 | BJ23: 6.628 | BK23: 6.548 | BL23: 6.469 | BM23: 6.39 | BN23: 6.31 | BO23: 6.231 | BP23: 6.152 | BQ23: 6.072 | BR23: 5.993 | BS23: 5.914 | BT23: 5.834
A24: 22 | B24: 0 | C24: 1.004 | D24: 2.008 | E24: 2.957 | F24: 3.906 | G24: 4.696 | H24: 5.487 | I24: 6.017 | J24: 6.546 | K24: 6.598 | L24: 6.649 | M24: 7.017 | N24: 7.385 | O24: 7.543 | P24: 7.701 | Q24: 7.76 | R24: 7.819 | S24: 7.87 | T24: 7.922 | U24: 7.907 | V24: 8.01 | W24: 8.061 | X24: 8.113 | Y24: 8.164 | Z24: 8.216 | AA24: 8.267 | AB24: 8.319 | AC24: 8.319 | AD24: 8.319 | AE24: 8.37 | AF24: 8.422 | AG24: 8.422 | AH24: 8.422 | AI24: 8.422 | AJ24: 8.422 | AK24: 8.422 | AL24: 8.389 | AM24: 8.357 | AN24: 8.325 | AO24: 8.292 | AP24: 8.26 | AQ24: 8.23 | AR24: 8.2 | AS24: 8.17 | AT24: 8.139 | AU24: 8.109 | AV24: 8.079 | AW24: 8.049 | AX24: 8.019 | AY24: 7.989 | AZ24: 7.958 | BA24: 7.857 | BB24: 7.755 | BC24: 7.654 | BD24: 7.552 | BE24: 7.451 | BF24: 7.349 | BG24: 7.248 | BH24: 7.146 | BI24: 7.045 | BJ24: 6.943 | BK24: 6.86 | BL24: 6.777 | BM24: 6.694 | BN24: 6.611 | BO24: 6.528 | BP24: 6.445 | BQ24: 6.362 | BR24: 6.279 | BS24: 6.195 | BT24: 6.112
A25: 23 | B25: 0 | C25: 1.05 | D25: 2.099 | E25: 3.091 | F25: 4.083 | G25: 4.91 | H25: 5.736 | I25: 6.29 | J25: 6.844 | K25: 6.898 | L25: 6.951 | M25: 7.336 | N25: 7.72 | O25: 7.886 | P25: 8.051 | Q25: 8.113 | R25: 8.174 | S25: 8.228 | T25: 8.282 | U25: 8.266 | V25: 8.374 | W25: 8.428 | X25: 8.482 | Y25: 8.536 | Z25: 8.589 | AA25: 8.643 | AB25: 8.697 | AC25: 8.697 | AD25: 8.697 | AE25: 8.751 | AF25: 8.805 | AG25: 8.805 | AH25: 8.805 | AI25: 8.805 | AJ25: 8.805 | AK25: 8.805 | AL25: 8.771 | AM25: 8.737 | AN25: 8.703 | AO25: 8.669 | AP25: 8.635 | AQ25: 8.604 | AR25: 8.572 | AS25: 8.541 | AT25: 8.509 | AU25: 8.478 | AV25: 8.446 | AW25: 8.415 | AX25: 8.383 | AY25: 8.352 | AZ25: 8.32 | BA25: 8.214 | BB25: 8.108 | BC25: 8.002 | BD25: 7.896 | BE25: 7.79 | BF25: 7.684 | BG25: 7.577 | BH25: 7.471 | BI25: 7.365 | BJ25: 7.259 | BK25: 7.172 | BL25: 7.085 | BM25: 6.998 | BN25: 6.911 | BO25: 6.825 | BP25: 6.738 | BQ25: 6.651 | BR25: 6.564 | BS25: 6.477 | BT25: 6.39
A26: 24 | B26: 0 | C26: 1.095 | D26: 2.191 | E26: 3.226 | F26: 4.261 | G26: 5.123 | H26: 5.986 | I26: 6.564 | J26: 7.141 | K26: 7.198 | L26: 7.254 | M26: 7.655 | N26: 8.056 | O26: 8.229 | P26: 8.401 | Q26: 8.465 | R26: 8.53 | S26: 8.586 | T26: 8.642 | U26: 8.626 | V26: 8.738 | W26: 8.794 | X26: 8.85 | Y26: 8.907 | Z26: 8.963 | AA26: 9.019 | AB26: 9.075 | AC26: 9.075 | AD26: 9.075 | AE26: 9.131 | AF26: 9.187 | AG26: 9.187 | AH26: 9.187 | AI26: 9.187 | AJ26: 9.187 | AK26: 9.187 | AL26: 9.152 | AM26: 9.117 | AN26: 9.082 | AO26: 9.046 | AP26: 9.011 | AQ26: 8.978 | AR26: 8.945 | AS26: 8.912 | AT26: 8.879 | AU26: 8.846 | AV26: 8.814 | AW26: 8.781 | AX26: 8.748 | AY26: 8.715 | AZ26: 8.682 | BA26: 8.571 | BB26: 8.461 | BC26: 8.35 | BD26: 8.239 | BE26: 8.128 | BF26: 8.018 | BG26: 7.907 | BH26: 7.796 | BI26: 7.685 | BJ26: 7.575 | BK26: 7.484 | BL26: 7.393 | BM26: 7.303 | BN26: 7.212 | BO26: 7.121 | BP26: 7.031 | BQ26: 6.94 | BR26: 6.849 | BS26: 6.759 | BT26: 6.668
A27: 25 | B27: 0 | C27: 1.141 | D27: 2.282 | E27: 3.36 | F27: 4.438 | G27: 5.337 | H27: 6.235 | I27: 6.837 | J27: 7.439 | K27: 7.497 | L27: 7.556 | M27: 7.974 | N27: 8.392 | O27: 8.571 | P27: 8.751 | Q27: 8.818 | R27: 8.885 | S27: 8.943 | T27: 9.002 | U27: 8.985 | V27: 9.102 | W27: 9.161 | X27: 9.219 | Y27: 9.278 | Z27: 9.336 | AA27: 9.395 | AB27: 9.453 | AC27: 9.453 | AD27: 9.453 | AE27: 9.512 | AF27: 9.57 | AG27: 9.57 | AH27: 9.57 | AI27: 9.57 | AJ27: 9.57 | AK27: 9.57 | AL27: 9.534 | AM27: 9.497 | AN27: 9.46 | AO27: 9.423 | AP27: 9.386 | AQ27: 9.352 | AR27: 9.318 | AS27: 9.284 | AT27: 9.249 | AU27: 9.215 | AV27: 9.181 | AW27: 9.147 | AX27: 9.112 | AY27: 9.078 | AZ27: 9.044 | BA27: 8.928 | BB27: 8.813 | BC27: 8.698 | BD27: 8.582 | BE27: 8.467 | BF27: 8.352 | BG27: 8.236 | BH27: 8.121 | BI27: 8.006 | BJ27: 7.89 | BK27: 7.796 | BL27: 7.701 | BM27: 7.607 | BN27: 7.512 | BO27: 7.418 | BP27: 7.324 | BQ27: 7.229 | BR27: 7.135 | BS27: 7.04 | BT27: 6.946
A28: 26 | B28: 0 | C28: 1.187 | D28: 2.373 | E28: 3.494 | F28: 4.616 | G28: 5.55 | H28: 6.485 | I28: 7.111 | J28: 7.736 | K28: 7.797 | L28: 7.858 | M28: 8.293 | N28: 8.727 | O28: 8.914 | P28: 9.101 | Q28: 9.171 | R28: 9.24 | S28: 9.301 | T28: 9.362 | U28: 9.345 | V28: 9.466 | W28: 9.527 | X28: 9.588 | Y28: 9.649 | Z28: 9.71 | AA28: 9.771 | AB28: 9.831 | AC28: 9.831 | AD28: 9.831 | AE28: 9.892 | AF28: 9.953 | AG28: 9.953 | AH28: 9.953 | AI28: 9.953 | AJ28: 9.953 | AK28: 9.953 | AL28: 9.915 | AM28: 9.877 | AN28: 9.838 | AO28: 9.8 | AP28: 9.762 | AQ28: 9.726 | AR28: 9.691 | AS28: 9.655 | AT28: 9.619 | AU28: 9.584 | AV28: 9.548 | AW28: 9.512 | AX28: 9.477 | AY28: 9.441 | AZ28: 9.405 | BA28: 9.286 | BB28: 9.166 | BC28: 9.046 | BD28: 8.926 | BE28: 8.806 | BF28: 8.686 | BG28: 8.566 | BH28: 8.446 | BI28: 8.326 | BJ28: 8.206 | BK28: 8.108 | BL28: 8.009 | BM28: 7.911 | BN28: 7.813 | BO28: 7.715 | BP28: 7.617 | BQ28: 7.518 | BR28: 7.42 | BS28: 7.322 | BT28: 7.224
A29: 27 | B29: 0 | C29: 1.232 | D29: 2.464 | E29: 3.629 | F29: 4.793 | G29: 5.764 | H29: 6.734 | I29: 7.384 | J29: 8.034 | K29: 8.097 | L29: 8.16 | M29: 8.612 | N29: 9.063 | O29: 9.257 | P29: 9.451 | Q29: 9.523 | R29: 9.596 | S29: 9.659 | T29: 9.722 | U29: 9.704 | V29: 9.83 | W29: 9.894 | X29: 9.957 | Y29: 10.02 | Z29: 10.083 | AA29: 10.146 | AB29: 10.21 | AC29: 10.21 | AD29: 10.21 | AE29: 10.273 | AF29: 10.336 | AG29: 10.336 | AH29: 10.336 | AI29: 10.336 | AJ29: 10.336 | AK29: 10.336 | AL29: 10.296 | AM29: 10.256 | AN29: 10.217 | AO29: 10.177 | AP29: 10.137 | AQ29: 10.1 | AR29: 10.063 | AS29: 10.026 | AT29: 9.989 | AU29: 9.952 | AV29: 9.915 | AW29: 9.878 | AX29: 9.841 | AY29: 9.804 | AZ29: 9.767 | BA29: 9.643 | BB29: 9.518 | BC29: 9.393 | BD29: 9.269 | BE29: 9.144 | BF29: 9.02 | BG29: 8.895 | BH29: 8.771 | BI29: 8.646 | BJ29: 8.521 | BK29: 8.419 | BL29: 8.317 | BM29: 8.215 | BN29: 8.113 | BO29: 8.011 | BP29: 7.909 | BQ29: 7.807 | BR29: 7.705 | BS29: 7.603 | BT29: 7.501
A30: 28 | B30: 0 | C30: 1.278 | D30: 2.556 | E30: 3.763 | F30: 4.971 | G30: 5.977 | H30: 6.984 | I30: 7.658 | J30: 8.332 | K30: 8.397 | L30: 8.463 | M30: 8.931 | N30: 9.399 | O30: 9.6 | P30: 9.801 | Q30: 9.876 | R30: 9.951 | S30: 10.017 | T30: 10.082 | U30: 10.063 | V30: 10.194 | W30: 10.26 | X30: 10.326 | Y30: 10.391 | Z30: 10.457 | AA30: 10.522 | AB30: 10.588 | AC30: 10.588 | AD30: 10.588 | AE30: 10.653 | AF30: 10.719 | AG30: 10.719 | AH30: 10.719 | AI30: 10.719 | AJ30: 10.719 | AK30: 10.719 | AL30: 10.678 | AM30: 10.636 | AN30: 10.595 | AO30: 10.554 | AP30: 10.513 | AQ30: 10.474 | AR30: 10.436 | AS30: 10.398 | AT30: 10.359 | AU30: 10.321 | AV30: 10.282 | AW30: 10.244 | AX30: 10.206 | AY30: 10.167 | AZ30: 10.129 | BA30: 10 | BB30: 9.871 | BC30: 9.741 | BD30: 9.612 | BE30: 9.483 | BF30: 9.354 | BG30: 9.225 | BH30: 9.095 | BI30: 8.966 | BJ30: 8.837 | BK30: 8.731 | BL30: 8.626 | BM30: 8.52 | BN30: 8.414 | BO30: 8.308 | BP30: 8.202 | BQ30: 8.097 | BR30: 7.991 | BS30: 7.885 | BT30: 7.779
A31: 29 | B31: 0 | C31: 1.323 | D31: 2.647 | E31: 3.898 | F31: 5.148 | G31: 6.191 | H31: 7.233 | I31: 7.931 | J31: 8.629 | K31: 8.697 | L31: 8.765 | M31: 9.25 | N31: 9.734 | O31: 9.943 | P31: 10.151 | Q31: 10.229 | R31: 10.306 | S31: 10.374 | T31: 10.442 | U31: 10.423 | V31: 10.559 | W31: 10.626 | X31: 10.694 | Y31: 10.762 | Z31: 10.83 | AA31: 10.898 | AB31: 10.966 | AC31: 10.966 | AD31: 10.966 | AE31: 11.034 | AF31: 11.102 | AG31: 11.102 | AH31: 11.102 | AI31: 11.102 | AJ31: 11.102 | AK31: 11.102 | AL31: 11.059 | AM31: 11.016 | AN31: 10.974 | AO31: 10.931 | AP31: 10.888 | AQ31: 10.848 | AR31: 10.809 | AS31: 10.769 | AT31: 10.729 | AU31: 10.689 | AV31: 10.65 | AW31: 10.61 | AX31: 10.57 | AY31: 10.53 | AZ31: 10.491 | BA31: 10.357 | BB31: 10.223 | BC31: 10.089 | BD31: 9.956 | BE31: 9.822 | BF31: 9.688 | BG31: 9.554 | BH31: 9.42 | BI31: 9.287 | BJ31: 9.153 | BK31: 9.043 | BL31: 8.934 | BM31: 8.824 | BN31: 8.714 | BO31: 8.605 | BP31: 8.495 | BQ31: 8.386 | BR31: 8.276 | BS31: 8.167 | BT31: 8.057
A32: 30 | B32: 0 | C32: 1.369 | D32: 2.738 | E32: 4.032 | F32: 5.326 | G32: 6.404 | H32: 7.482 | I32: 8.205 | J32: 8.927 | K32: 8.997 | L32: 9.067 | M32: 9.569 | N32: 10.07 | O32: 10.286 | P32: 10.501 | Q32: 10.582 | R32: 10.662 | S32: 10.732 | T32: 10.802 | U32: 10.782 | V32: 10.923 | W32: 10.993 | X32: 11.063 | Y32: 11.133 | Z32: 11.204 | AA32: 11.274 | AB32: 11.344 | AC32: 11.344 | AD32: 11.344 | AE32: 11.414 | AF32: 11.484 | AG32: 11.484 | AH32: 11.484 | AI32: 11.484 | AJ32: 11.484 | AK32: 11.484 | AL32: 11.44 | AM32: 11.396 | AN32: 11.352 | AO32: 11.308 | AP32: 11.264 | AQ32: 11.223 | AR32: 11.181 | AS32: 11.14 | AT32: 11.099 | AU32: 11.058 | AV32: 11.017 | AW32: 10.976 | AX32: 10.935 | AY32: 10.894 | AZ32: 10.852 | BA32: 10.714 | BB32: 10.576 | BC32: 10.437 | BD32: 10.299 | BE32: 10.16 | BF32: 10.022 | BG32: 9.884 | BH32: 9.745 | BI32: 9.607 | BJ32: 9.468 | BK32: 9.355 | BL32: 9.242 | BM32: 9.128 | BN32: 9.015 | BO32: 8.902 | BP32: 8.788 | BQ32: 8.675 | BR32: 8.562 | BS32: 8.448 | BT32: 8.335
A33: 31 | B33: 0 | C33: 1.412 | D33: 2.824 | E33: 4.205 | F33: 5.585 | G33: 6.707 | H33: 7.829 | I33: 8.58 | J33: 9.33 | K33: 9.401 | L33: 9.472 | M33: 10.017 | N33: 10.562 | O33: 10.762 | P33: 10.963 | Q33: 11.056 | R33: 11.149 | S33: 11.22 | T33: 11.29 | U33: 11.278 | V33: 11.434 | W33: 11.504 | X33: 11.575 | Y33: 11.659 | Z33: 11.743 | AA33: 11.813 | AB33: 11.884 | AC33: 11.884 | AD33: 11.884 | AE33: 11.954 | AF33: 12.024 | AG33: 12.03 | AH33: 12.035 | AI33: 12.041 | AJ33: 12.046 | AK33: 12.052 | AL33: 12.006 | AM33: 11.959 | AN33: 11.912 | AO33: 11.866 | AP33: 11.819 | AQ33: 11.776 | AR33: 11.733 | AS33: 11.69 | AT33: 11.647 | AU33: 11.604 | AV33: 11.561 | AW33: 11.517 | AX33: 11.474 | AY33: 11.431 | AZ33: 11.388 | BA33: 11.242 | BB33: 11.096 | BC33: 10.95 | BD33: 10.804 | BE33: 10.658 | BF33: 10.512 | BG33: 10.366 | BH33: 10.22 | BI33: 10.074 | BJ33: 9.928 | BK33: 9.808 | BL33: 9.689 | BM33: 9.569 | BN33: 9.449 | BO33: 9.33 | BP33: 9.21 | BQ33: 9.091 | BR33: 8.971 | BS33: 8.852 | BT33: 8.732
A34: 32 | B34: 0 | C34: 1.455 | D34: 2.911 | E34: 4.377 | F34: 5.843 | G34: 7.01 | H34: 8.176 | I34: 8.955 | J34: 9.733 | K34: 9.805 | L34: 9.878 | M34: 10.465 | N34: 11.053 | O34: 11.239 | P34: 11.424 | Q34: 11.53 | R34: 11.637 | S34: 11.707 | T34: 11.777 | U34: 11.773 | V34: 11.946 | W34: 12.016 | X34: 12.086 | Y34: 12.184 | Z34: 12.283 | AA34: 12.353 | AB34: 12.423 | AC34: 12.423 | AD34: 12.423 | AE34: 12.493 | AF34: 12.564 | AG34: 12.575 | AH34: 12.586 | AI34: 12.597 | AJ34: 12.609 | AK34: 12.62 | AL34: 12.571 | AM34: 12.522 | AN34: 12.473 | AO34: 12.424 | AP34: 12.375 | AQ34: 12.33 | AR34: 12.285 | AS34: 12.24 | AT34: 12.194 | AU34: 12.149 | AV34: 12.104 | AW34: 12.059 | AX34: 12.014 | AY34: 11.969 | AZ34: 11.924 | BA34: 11.77 | BB34: 11.616 | BC34: 11.463 | BD34: 11.309 | BE34: 11.155 | BF34: 11.002 | BG34: 10.848 | BH34: 10.694 | BI34: 10.541 | BJ34: 10.387 | BK34: 10.261 | BL34: 10.136 | BM34: 10.01 | BN34: 9.884 | BO34: 9.758 | BP34: 9.632 | BQ34: 9.507 | BR34: 9.381 | BS34: 9.255 | BT34: 9.129
A35: 33 | B35: 0 | C35: 1.498 | D35: 2.997 | E35: 4.55 | F35: 6.102 | G35: 7.313 | H35: 8.523 | I35: 9.33 | J35: 10.136 | K35: 10.21 | L35: 10.283 | M35: 10.914 | N35: 11.545 | O35: 11.715 | P35: 11.886 | Q35: 12.005 | R35: 12.124 | S35: 12.194 | T35: 12.265 | U35: 12.269 | V35: 12.457 | W35: 12.527 | X35: 12.598 | Y35: 12.71 | Z35: 12.822 | AA35: 12.893 | AB35: 12.963 | AC35: 12.963 | AD35: 12.963 | AE35: 13.033 | AF35: 13.103 | AG35: 13.12 | AH35: 13.137 | AI35: 13.154 | AJ35: 13.171 | AK35: 13.187 | AL35: 13.136 | AM35: 13.085 | AN35: 13.033 | AO35: 12.982 | AP35: 12.931 | AQ35: 12.884 | AR35: 12.836 | AS35: 12.789 | AT35: 12.742 | AU35: 12.695 | AV35: 12.648 | AW35: 12.601 | AX35: 12.554 | AY35: 12.506 | AZ35: 12.459 | BA35: 12.298 | BB35: 12.137 | BC35: 11.975 | BD35: 11.814 | BE35: 11.653 | BF35: 11.492 | BG35: 11.33 | BH35: 11.169 | BI35: 11.008 | BJ35: 10.846 | BK35: 10.714 | BL35: 10.582 | BM35: 10.45 | BN35: 10.318 | BO35: 10.186 | BP35: 10.054 | BQ35: 9.922 | BR35: 9.79 | BS35: 9.658 | BT35: 9.526
A36: 34 | B36: 0 | C36: 1.542 | D36: 3.083 | E36: 4.722 | F36: 6.361 | G36: 7.616 | H36: 8.871 | I36: 9.705 | J36: 10.54 | K36: 10.614 | L36: 10.688 | M36: 11.362 | N36: 12.036 | O36: 12.191 | P36: 12.347 | Q36: 12.479 | R36: 12.612 | S36: 12.682 | T36: 12.752 | U36: 12.764 | V36: 12.969 | W36: 13.039 | X36: 13.109 | Y36: 13.236 | Z36: 13.362 | AA36: 13.432 | AB36: 13.502 | AC36: 13.502 | AD36: 13.502 | AE36: 13.573 | AF36: 13.643 | AG36: 13.665 | AH36: 13.688 | AI36: 13.71 | AJ36: 13.733 | AK36: 13.755 | AL36: 13.701 | AM36: 13.648 | AN36: 13.594 | AO36: 13.54 | AP36: 13.486 | AQ36: 13.437 | AR36: 13.388 | AS36: 13.339 | AT36: 13.29 | AU36: 13.241 | AV36: 13.191 | AW36: 13.142 | AX36: 13.093 | AY36: 13.044 | AZ36: 12.995 | BA36: 12.826 | BB36: 12.657 | BC36: 12.488 | BD36: 12.319 | BE36: 12.15 | BF36: 11.981 | BG36: 11.813 | BH36: 11.644 | BI36: 11.475 | BJ36: 11.306 | BK36: 11.168 | BL36: 11.029 | BM36: 10.891 | BN36: 10.753 | BO36: 10.615 | BP36: 10.477 | BQ36: 10.338 | BR36: 10.2 | BS36: 10.062 | BT36: 9.924
A37: 35 | B37: 0 | C37: 1.585 | D37: 3.169 | E37: 4.895 | F37: 6.62 | G37: 7.919 | H37: 9.218 | I37: 10.08 | J37: 10.943 | K37: 11.018 | L37: 11.093 | M37: 11.81 | N37: 12.527 | O37: 12.668 | P37: 12.808 | Q37: 12.954 | R37: 13.099 | S37: 13.169 | T37: 13.24 | U37: 13.26 | V37: 13.48 | W37: 13.551 | X37: 13.621 | Y37: 13.761 | Z37: 13.902 | AA37: 13.972 | AB37: 14.042 | AC37: 14.042 | AD37: 14.042 | AE37: 14.112 | AF37: 14.182 | AG37: 14.211 | AH37: 14.239 | AI37: 14.267 | AJ37: 14.295 | AK37: 14.323 | AL37: 14.267 | AM37: 14.211 | AN37: 14.154 | AO37: 14.098 | AP37: 14.042 | AQ37: 13.991 | AR37: 13.94 | AS37: 13.889 | AT37: 13.837 | AU37: 13.786 | AV37: 13.735 | AW37: 13.684 | AX37: 13.633 | AY37: 13.582 | AZ37: 13.53 | BA37: 13.354 | BB37: 13.177 | BC37: 13.001 | BD37: 12.824 | BE37: 12.648 | BF37: 12.471 | BG37: 12.295 | BH37: 12.118 | BI37: 11.942 | BJ37: 11.765 | BK37: 11.621 | BL37: 11.476 | BM37: 11.332 | BN37: 11.187 | BO37: 11.043 | BP37: 10.899 | BQ37: 10.754 | BR37: 10.61 | BS37: 10.465 | BT37: 10.321
A38: 36 | B38: 0 | C38: 1.67 | D38: 3.34 | E38: 5.124 | F38: 6.909 | G38: 8.265 | H38: 9.621 | I38: 10.511 | J38: 11.402 | K38: 11.506 | L38: 11.611 | M38: 12.342 | N38: 13.073 | O38: 13.229 | P38: 13.384 | Q38: 13.529 | R38: 13.675 | S38: 13.759 | T38: 13.843 | U38: 13.854 | V38: 14.074 | W38: 14.159 | X38: 14.245 | Y38: 14.371 | Z38: 14.497 | AA38: 14.568 | AB38: 14.638 | AC38: 14.652 | AD38: 14.666 | AE38: 14.736 | AF38: 14.806 | AG38: 14.834 | AH38: 14.862 | AI38: 14.891 | AJ38: 14.919 | AK38: 14.947 | AL38: 14.888 | AM38: 14.829 | AN38: 14.77 | AO38: 14.711 | AP38: 14.652 | AQ38: 14.599 | AR38: 14.546 | AS38: 14.492 | AT38: 14.439 | AU38: 14.386 | AV38: 14.333 | AW38: 14.28 | AX38: 14.227 | AY38: 14.173 | AZ38: 14.12 | BA38: 13.936 | BB38: 13.752 | BC38: 13.567 | BD38: 13.383 | BE38: 13.198 | BF38: 13.014 | BG38: 12.83 | BH38: 12.645 | BI38: 12.461 | BJ38: 12.277 | BK38: 12.128 | BL38: 11.98 | BM38: 11.832 | BN38: 11.684 | BO38: 11.536 | BP38: 11.387 | BQ38: 11.239 | BR38: 11.091 | BS38: 10.943 | BT38: 10.794
A39: 37 | B39: 0 | C39: 1.755 | D39: 3.51 | E39: 5.354 | F39: 7.198 | G39: 8.611 | H39: 10.024 | I39: 10.943 | J39: 11.861 | K39: 11.995 | L39: 12.128 | M39: 12.874 | N39: 13.619 | O39: 13.789 | P39: 13.96 | Q39: 14.105 | R39: 14.251 | S39: 14.349 | T39: 14.447 | U39: 14.449 | V39: 14.668 | W39: 14.768 | X39: 14.868 | Y39: 14.981 | Z39: 15.093 | AA39: 15.163 | AB39: 15.234 | AC39: 15.262 | AD39: 15.29 | AE39: 15.36 | AF39: 15.43 | AG39: 15.458 | AH39: 15.486 | AI39: 15.514 | AJ39: 15.542 | AK39: 15.571 | AL39: 15.509 | AM39: 15.447 | AN39: 15.385 | AO39: 15.323 | AP39: 15.262 | AQ39: 15.206 | AR39: 15.151 | AS39: 15.096 | AT39: 15.041 | AU39: 14.986 | AV39: 14.931 | AW39: 14.875 | AX39: 14.82 | AY39: 14.765 | AZ39: 14.71 | BA39: 14.518 | BB39: 14.326 | BC39: 14.133 | BD39: 13.941 | BE39: 13.749 | BF39: 13.557 | BG39: 13.365 | BH39: 13.173 | BI39: 12.98 | BJ39: 12.788 | BK39: 12.636 | BL39: 12.484 | BM39: 12.332 | BN39: 12.18 | BO39: 12.028 | BP39: 11.876 | BQ39: 11.724 | BR39: 11.572 | BS39: 11.42 | BT39: 11.268
A40: 38 | B40: 0 | C40: 1.841 | D40: 3.681 | E40: 5.584 | F40: 7.486 | G40: 8.957 | H40: 10.427 | I40: 11.374 | J40: 12.321 | K40: 12.483 | L40: 12.646 | M40: 13.405 | N40: 14.164 | O40: 14.35 | P40: 14.535 | Q40: 14.681 | R40: 14.826 | S40: 14.939 | T40: 15.051 | U40: 15.044 | V40: 15.262 | W40: 15.377 | X40: 15.492 | Y40: 15.591 | Z40: 15.689 | AA40: 15.759 | AB40: 15.829 | AC40: 15.871 | AD40: 15.914 | AE40: 15.984 | AF40: 16.054 | AG40: 16.082 | AH40: 16.11 | AI40: 16.138 | AJ40: 16.166 | AK40: 16.194 | AL40: 16.13 | AM40: 16.065 | AN40: 16.001 | AO40: 15.936 | AP40: 15.871 | AQ40: 15.814 | AR40: 15.757 | AS40: 15.7 | AT40: 15.643 | AU40: 15.586 | AV40: 15.528 | AW40: 15.471 | AX40: 15.414 | AY40: 15.357 | AZ40: 15.3 | BA40: 15.1 | BB40: 14.9 | BC40: 14.7 | BD40: 14.5 | BE40: 14.3 | BF40: 14.1 | BG40: 13.9 | BH40: 13.7 | BI40: 13.5 | BJ40: 13.3 | BK40: 13.144 | BL40: 12.988 | BM40: 12.832 | BN40: 12.676 | BO40: 12.52 | BP40: 12.365 | BQ40: 12.209 | BR40: 12.053 | BS40: 11.897 | BT40: 11.741
...

Sheet Ultimate
A1: TWA\TWS | B1: 0 | C1: 1 | D1: 2 | E1: 3 | F1: 4 | G1: 5 | H1: 6 | I1: 7 | J1: 8 | K1: 9 | L1: 10 | M1: 11 | N1: 12 | O1: 13 | P1: 14 | Q1: 15 | R1: 16 | S1: 17 | T1: 18 | U1: 19 | V1: 20 | W1: 21 | X1: 22 | Y1: 23 | Z1: 24 | AA1: 25 | AB1: 26 | AC1: 27 | AD1: 28 | AE1: 29 | AF1: 30 | AG1: 31 | AH1: 32 | AI1: 33 | AJ1: 34 | AK1: 35 | AL1: 36 | AM1: 37 | AN1: 38 | AO1: 39 | AP1: 40 | AQ1: 41 | AR1: 42 | AS1: 43 | AT1: 44 | AU1: 45 | AV1: 46 | AW1: 47 | AX1: 48 | AY1: 49 | AZ1: 50 | BA1: 51 | BB1: 52 | BC1: 53 | BD1: 54 | BE1: 55 | BF1: 56 | BG1: 57 | BH1: 58 | BI1: 59 | BJ1: 60 | BK1: 61 | BL1: 62 | BM1: 63 | BN1: 64 | BO1: 65 | BP1: 66 | BQ1: 67 | BR1: 68 | BS1: 69 | BT1: 70
A2: 0 | B2: 0 | C2: 0 | D2: 0 | E2: 0 | F2: 0 | G2: 0 | H2: 0 | I2: 0 | J2: 0 | K2: 0 | L2: 0 | M2: 0 | N2: 0 | O2: 0 | P2: 0 | Q2: 0 | R2: 0 | S2: 0 | T2: 0 | U2: 0 | V2: 0 | W2: 0 | X2: 0 | Y2: 0 | Z2: 0 | AA2: 0 | AB2: 0 | AC2: 0 | AD2: 0 | AE2: 0 | AF2: 0 | AG2: 0 | AH2: 0 | AI2: 0 | AJ2: 0 | AK2: 0 | AL2: 0 | AM2: 0 | AN2: 0 | AO2: 0 | AP2: 0 | AQ2: 0 | AR2: 0 | AS2: 0 | AT2: 0 | AU2: 0 | AV2: 0 | AW2: 0 | AX2: 0 | AY2: 0 | AZ2: 0 | BA2: 0 | BB2: 0 | BC2: 0 | BD2: 0 | BE2: 0 | BF2: 0 | BG2: 0 | BH2: 0 | BI2: 0 | BJ2: 0 | BK2: 0 | BL2: 0 | BM2: 0 | BN2: 0 | BO2: 0 | BP2: 0 | BQ2: 0 | BR2: 0 | BS2: 0 | BT2: 0
A3: 1 | B3: 0 | C3: 0.005 | D3: 0.009 | E3: 0.022 | F3: 0.035 | G3: 0.061 | H3: 0.087 | I3: 0.105 | J3: 0.124 | K3: 0.152 | L3: 0.18 | M3: 0.197 | N3: 0.214 | O3: 0.234 | P3: 0.253 | Q3: 0.272 | R3: 0.29 | S3: 0.31 | T3: 0.33 | U3: 0.338 | V3: 0.345 | W3: 0.349 | X3: 0.352 | Y3: 0.357 | Z3: 0.362 | AA3: 0.361 | AB3: 0.361 | AC3: 0.35 | AD3: 0.339 | AE3: 0.323 | AF3: 0.306 | AG3: 0.297 | AH3: 0.288 | AI3: 0.279 | AJ3: 0.271 | AK3: 0.262 | AL3: 0.255 | AM3: 0.249 | AN3: 0.242 | AO3: 0.235 | AP3: 0.229 | AQ3: 0.228 | AR3: 0.228 | AS3: 0.228 | AT3: 0.227 | AU3: 0.227 | AV3: 0.227 | AW3: 0.226 | AX3: 0.226 | AY3: 0.226 | AZ3: 0.225 | BA3: 0.208 | BB3: 0.19 | BC3: 0.172 | BD3: 0.154 | BE3: 0.136 | BF3: 0.119 | BG3: 0.101 | BH3: 0.083 | BI3: 0.065 | BJ3: 0.047 | BK3: 0.044 | BL3: 0.041 | BM3: 0.038 | BN3: 0.035 | BO3: 0.031 | BP3: 0.028 | BQ3: 0.025 | BR3: 0.022 | BS3: 0.019 | BT3: 0.015
A4: 2 | B4: 0 | C4: 0.009 | D4: 0.018 | E4: 0.044 | F4: 0.07 | G4: 0.121 | H4: 0.173 | I4: 0.211 | J4: 0.249 | K4: 0.304 | L4: 0.36 | M4: 0.394 | N4: 0.428 | O4: 0.467 | P4: 0.507 | Q4: 0.543 | R4: 0.58 | S4: 0.62 | T4: 0.661 | U4: 0.675 | V4: 0.689 | W4: 0.697 | X4: 0.705 | Y4: 0.714 | Z4: 0.724 | AA4: 0.723 | AB4: 0.721 | AC4: 0.7 | AD4: 0.679 | AE4: 0.645 | AF4: 0.612 | AG4: 0.594 | AH4: 0.577 | AI4: 0.559 | AJ4: 0.541 | AK4: 0.524 | AL4: 0.51 | AM4: 0.497 | AN4: 0.484 | AO4: 0.471 | AP4: 0.457 | AQ4: 0.457 | AR4: 0.456 | AS4: 0.455 | AT4: 0.455 | AU4: 0.454 | AV4: 0.453 | AW4: 0.453 | AX4: 0.452 | AY4: 0.451 | AZ4: 0.451 | BA4: 0.415 | BB4: 0.38 | BC4: 0.344 | BD4: 0.308 | BE4: 0.273 | BF4: 0.237 | BG4: 0.202 | BH4: 0.166 | BI4: 0.131 | BJ4: 0.095 | BK4: 0.089 | BL4: 0.082 | BM4: 0.076 | BN4: 0.069 | BO4: 0.063 | BP4: 0.056 | BQ4: 0.05 | BR4: 0.044 | BS4: 0.037 | BT4: 0.031
A5: 3 | B5: 0 | C5: 0.014 | D5: 0.027 | E5: 0.066 | F5: 0.104 | G5: 0.182 | H5: 0.26 | I5: 0.316 | J5: 0.373 | K5: 0.456 | L5: 0.54 | M5: 0.591 | N5: 0.642 | O5: 0.701 | P5: 0.76 | Q5: 0.815 | R5: 0.87 | S5: 0.93 | T5: 0.991 | U5: 1.013 | V5: 1.034 | W5: 1.046 | X5: 1.057 | Y5: 1.072 | Z5: 1.086 | AA5: 1.084 | AB5: 1.082 | AC5: 1.05 | AD5: 1.018 | AE5: 0.968 | AF5: 0.918 | AG5: 0.891 | AH5: 0.865 | AI5: 0.838 | AJ5: 0.812 | AK5: 0.785 | AL5: 0.765 | AM5: 0.746 | AN5: 0.726 | AO5: 0.706 | AP5: 0.686 | AQ5: 0.685 | AR5: 0.684 | AS5: 0.683 | AT5: 0.682 | AU5: 0.681 | AV5: 0.68 | AW5: 0.679 | AX5: 0.678 | AY5: 0.677 | AZ5: 0.676 | BA5: 0.623 | BB5: 0.569 | BC5: 0.516 | BD5: 0.463 | BE5: 0.409 | BF5: 0.356 | BG5: 0.303 | BH5: 0.249 | BI5: 0.196 | BJ5: 0.142 | BK5: 0.133 | BL5: 0.123 | BM5: 0.114 | BN5: 0.104 | BO5: 0.094 | BP5: 0.085 | BQ5: 0.075 | BR5: 0.065 | BS5: 0.056 | BT5: 0.046
A6: 4 | B6: 0 | C6: 0.018 | D6: 0.036 | E6: 0.088 | F6: 0.139 | G6: 0.243 | H6: 0.346 | I6: 0.422 | J6: 0.497 | K6: 0.608 | L6: 0.719 | M6: 0.788 | N6: 0.856 | O6: 0.935 | P6: 1.014 | Q6: 1.087 | R6: 1.159 | S6: 1.24 | T6: 1.321 | U6: 1.35 | V6: 1.379 | W6: 1.394 | X6: 1.41 | Y6: 1.429 | Z6: 1.448 | AA6: 1.446 | AB6: 1.443 | AC6: 1.4 | AD6: 1.357 | AE6: 1.291 | AF6: 1.224 | AG6: 1.188 | AH6: 1.153 | AI6: 1.118 | AJ6: 1.082 | AK6: 1.047 | AL6: 1.021 | AM6: 0.994 | AN6: 0.968 | AO6: 0.941 | AP6: 0.915 | AQ6: 0.913 | AR6: 0.912 | AS6: 0.911 | AT6: 0.909 | AU6: 0.908 | AV6: 0.907 | AW6: 0.905 | AX6: 0.904 | AY6: 0.903 | AZ6: 0.901 | BA6: 0.83 | BB6: 0.759 | BC6: 0.688 | BD6: 0.617 | BE6: 0.546 | BF6: 0.474 | BG6: 0.403 | BH6: 0.332 | BI6: 0.261 | BJ6: 0.19 | BK6: 0.177 | BL6: 0.164 | BM6: 0.151 | BN6: 0.139 | BO6: 0.126 | BP6: 0.113 | BQ6: 0.1 | BR6: 0.087 | BS6: 0.074 | BT6: 0.062
A7: 5 | B7: 0 | C7: 0.023 | D7: 0.045 | E7: 0.109 | F7: 0.174 | G7: 0.303 | H7: 0.433 | I7: 0.527 | J7: 0.622 | K7: 0.761 | L7: 0.899 | M7: 0.985 | N7: 1.07 | O7: 1.168 | P7: 1.267 | Q7: 1.358 | R7: 1.449 | S7: 1.55 | T7: 1.652 | U7: 1.688 | V7: 1.723 | W7: 1.743 | X7: 1.762 | Y7: 1.786 | Z7: 1.81 | AA7: 1.807 | AB7: 1.804 | AC7: 1.75 | AD7: 1.697 | AE7: 1.613 | AF7: 1.53 | AG7: 1.485 | AH7: 1.441 | AI7: 1.397 | AJ7: 1.353 | AK7: 1.309 | AL7: 1.276 | AM7: 1.243 | AN7: 1.21 | AO7: 1.177 | AP7: 1.143 | AQ7: 1.142 | AR7: 1.14 | AS7: 1.138 | AT7: 1.137 | AU7: 1.135 | AV7: 1.133 | AW7: 1.132 | AX7: 1.13 | AY7: 1.128 | AZ7: 1.127 | BA7: 1.038 | BB7: 0.949 | BC7: 0.86 | BD7: 0.771 | BE7: 0.682 | BF7: 0.593 | BG7: 0.504 | BH7: 0.415 | BI7: 0.326 | BJ7: 0.237 | BK7: 0.221 | BL7: 0.205 | BM7: 0.189 | BN7: 0.173 | BO7: 0.157 | BP7: 0.141 | BQ7: 0.125 | BR7: 0.109 | BS7: 0.093 | BT7: 0.077
A8: 6 | B8: 0 | C8: 0.027 | D8: 0.054 | E8: 0.131 | F8: 0.209 | G8: 0.364 | H8: 0.52 | I8: 0.633 | J8: 0.746 | K8: 0.913 | L8: 1.079 | M8: 1.182 | N8: 1.284 | O8: 1.402 | P8: 1.521 | Q8: 1.63 | R8: 1.739 | S8: 1.861 | T8: 1.982 | U8: 2.025 | V8: 2.068 | W8: 2.091 | X8: 2.114 | Y8: 2.143 | Z8: 2.172 | AA8: 2.168 | AB8: 2.164 | AC8: 2.1 | AD8: 2.036 | AE8: 1.936 | AF8: 1.835 | AG8: 1.783 | AH8: 1.73 | AI8: 1.677 | AJ8: 1.624 | AK8: 1.571 | AL8: 1.531 | AM8: 1.491 | AN8: 1.452 | AO8: 1.412 | AP8: 1.372 | AQ8: 1.37 | AR8: 1.368 | AS8: 1.366 | AT8: 1.364 | AU8: 1.362 | AV8: 1.36 | AW8: 1.358 | AX8: 1.356 | AY8: 1.354 | AZ8: 1.352 | BA8: 1.245 | BB8: 1.139 | BC8: 1.032 | BD8: 0.925 | BE8: 0.818 | BF8: 0.712 | BG8: 0.605 | BH8: 0.498 | BI8: 0.392 | BJ8: 0.285 | BK8: 0.266 | BL8: 0.246 | BM8: 0.227 | BN8: 0.208 | BO8: 0.189 | BP8: 0.169 | BQ8: 0.15 | BR8: 0.131 | BS8: 0.112 | BT8: 0.092
A9: 7 | B9: 0 | C9: 0.032 | D9: 0.063 | E9: 0.153 | F9: 0.243 | G9: 0.425 | H9: 0.606 | I9: 0.738 | J9: 0.871 | K9: 1.065 | L9: 1.259 | M9: 1.378 | N9: 1.498 | O9: 1.636 | P9: 1.774 | Q9: 1.902 | R9: 2.029 | S9: 2.171 | T9: 2.312 | U9: 2.363 | V9: 2.413 | W9: 2.44 | X9: 2.467 | Y9: 2.501 | Z9: 2.535 | AA9: 2.53 | AB9: 2.525 | AC9: 2.45 | AD9: 2.375 | AE9: 2.258 | AF9: 2.141 | AG9: 2.08 | AH9: 2.018 | AI9: 1.956 | AJ9: 1.894 | AK9: 1.832 | AL9: 1.786 | AM9: 1.74 | AN9: 1.693 | AO9: 1.647 | AP9: 1.601 | AQ9: 1.598 | AR9: 1.596 | AS9: 1.594 | AT9: 1.591 | AU9: 1.589 | AV9: 1.587 | AW9: 1.584 | AX9: 1.582 | AY9: 1.58 | AZ9: 1.577 | BA9: 1.453 | BB9: 1.328 | BC9: 1.204 | BD9: 1.079 | BE9: 0.955 | BF9: 0.83 | BG9: 0.706 | BH9: 0.581 | BI9: 0.457 | BJ9: 0.332 | BK9: 0.31 | BL9: 0.287 | BM9: 0.265 | BN9: 0.242 | BO9: 0.22 | BP9: 0.198 | BQ9: 0.175 | BR9: 0.153 | BS9: 0.13 | BT9: 0.108
A10: 8 | B10: 0 | C10: 0.036 | D10: 0.072 | E10: 0.175 | F10: 0.278 | G10: 0.485 | H10: 0.693 | I10: 0.844 | J10: 0.995 | K10: 1.217 | L10: 1.439 | M10: 1.575 | N10: 1.712 | O10: 1.87 | P10: 2.027 | Q10: 2.173 | R10: 2.319 | S10: 2.481 | T10: 2.643 | U10: 2.7 | V10: 2.758 | W10: 2.788 | X10: 2.819 | Y10: 2.858 | Z10: 2.897 | AA10: 2.891 | AB10: 2.886 | AC10: 2.8 | AD10: 2.715 | AE10: 2.581 | AF10: 2.447 | AG10: 2.377 | AH10: 2.306 | AI10: 2.235 | AJ10: 2.165 | AK10: 2.094 | AL10: 2.041 | AM10: 1.988 | AN10: 1.935 | AO10: 1.882 | AP10: 1.829 | AQ10: 1.827 | AR10: 1.824 | AS10: 1.821 | AT10: 1.819 | AU10: 1.816 | AV10: 1.813 | AW10: 1.811 | AX10: 1.808 | AY10: 1.805 | AZ10: 1.803 | BA10: 1.66 | BB10: 1.518 | BC10: 1.376 | BD10: 1.234 | BE10: 1.091 | BF10: 0.949 | BG10: 0.807 | BH10: 0.664 | BI10: 0.522 | BJ10: 0.38 | BK10: 0.354 | BL10: 0.328 | BM10: 0.303 | BN10: 0.277 | BO10: 0.251 | BP10: 0.226 | BQ10: 0.2 | BR10: 0.174 | BS10: 0.149 | BT10: 0.123
A11: 9 | B11: 0 | C11: 0.041 | D11: 0.081 | E11: 0.197 | F11: 0.313 | G11: 0.546 | H11: 0.779 | I11: 0.949 | J11: 1.119 | K11: 1.369 | L11: 1.619 | M11: 1.772 | N11: 1.926 | O11: 2.103 | P11: 2.281 | Q11: 2.445 | R11: 2.609 | S11: 2.791 | T11: 2.973 | U11: 3.038 | V11: 3.102 | W11: 3.137 | X11: 3.171 | Y11: 3.215 | Z11: 3.259 | AA11: 3.253 | AB11: 3.247 | AC11: 3.15 | AD11: 3.054 | AE11: 2.904 | AF11: 2.753 | AG11: 2.674 | AH11: 2.594 | AI11: 2.515 | AJ11: 2.435 | AK11: 2.356 | AL11: 2.296 | AM11: 2.237 | AN11: 2.177 | AO11: 2.118 | AP11: 2.058 | AQ11: 2.055 | AR11: 2.052 | AS11: 2.049 | AT11: 2.046 | AU11: 2.043 | AV11: 2.04 | AW11: 2.037 | AX11: 2.034 | AY11: 2.031 | AZ11: 2.028 | BA11: 1.868 | BB11: 1.708 | BC11: 1.548 | BD11: 1.388 | BE11: 1.228 | BF11: 1.068 | BG11: 0.908 | BH11: 0.747 | BI11: 0.587 | BJ11: 0.427 | BK11: 0.398 | BL11: 0.37 | BM11: 0.341 | BN11: 0.312 | BO11: 0.283 | BP11: 0.254 | BQ11: 0.225 | BR11: 0.196 | BS11: 0.167 | BT11: 0.138
A12: 10 | B12: 0 | C12: 0.045 | D12: 0.09 | E12: 0.219 | F12: 0.348 | G12: 0.607 | H12: 0.866 | I12: 1.055 | J12: 1.244 | K12: 1.521 | L12: 1.799 | M12: 1.969 | N12: 2.14 | O12: 2.337 | P12: 2.534 | Q12: 2.716 | R12: 2.899 | S12: 3.101 | T12: 3.303 | U12: 3.375 | V12: 3.447 | W12: 3.485 | X12: 3.524 | Y12: 3.572 | Z12: 3.621 | AA12: 3.614 | AB12: 3.607 | AC12: 3.5 | AD12: 3.393 | AE12: 3.226 | AF12: 3.059 | AG12: 2.971 | AH12: 2.883 | AI12: 2.794 | AJ12: 2.706 | AK12: 2.618 | AL12: 2.552 | AM12: 2.485 | AN12: 2.419 | AO12: 2.353 | AP12: 2.287 | AQ12: 2.283 | AR12: 2.28 | AS12: 2.277 | AT12: 2.273 | AU12: 2.27 | AV12: 2.267 | AW12: 2.263 | AX12: 2.26 | AY12: 2.257 | AZ12: 2.253 | BA12: 2.076 | BB12: 1.898 | BC12: 1.72 | BD12: 1.542 | BE12: 1.364 | BF12: 1.186 | BG12: 1.008 | BH12: 0.83 | BI12: 0.653 | BJ12: 0.475 | BK12: 0.443 | BL12: 0.411 | BM12: 0.378 | BN12: 0.346 | BO12: 0.314 | BP12: 0.282 | BQ12: 0.25 | BR12: 0.218 | BS12: 0.186 | BT12: 0.154
A13: 11 | B13: 0 | C13: 0.05 | D13: 0.099 | E13: 0.241 | F13: 0.382 | G13: 0.667 | H13: 0.953 | I13: 1.16 | J13: 1.368 | K13: 1.673 | L13: 1.979 | M13: 2.166 | N13: 2.354 | O13: 2.571 | P13: 2.788 | Q13: 2.988 | R13: 3.189 | S13: 3.411 | T13: 3.634 | U13: 3.713 | V13: 3.792 | W13: 3.834 | X13: 3.876 | Y13: 3.93 | Z13: 3.983 | AA13: 3.976 | AB13: 3.968 | AC13: 3.851 | AD13: 3.733 | AE13: 3.549 | AF13: 3.365 | AG13: 3.268 | AH13: 3.171 | AI13: 3.074 | AJ13: 2.977 | AK13: 2.88 | AL13: 2.807 | AM13: 2.734 | AN13: 2.661 | AO13: 2.588 | AP13: 2.516 | AQ13: 2.512 | AR13: 2.508 | AS13: 2.504 | AT13: 2.501 | AU13: 2.497 | AV13: 2.493 | AW13: 2.49 | AX13: 2.486 | AY13: 2.482 | AZ13: 2.479 | BA13: 2.283 | BB13: 2.087 | BC13: 1.892 | BD13: 1.696 | BE13: 1.5 | BF13: 1.305 | BG13: 1.109 | BH13: 0.914 | BI13: 0.718 | BJ13: 0.522 | BK13: 0.487 | BL13: 0.452 | BM13: 0.416 | BN13: 0.381 | BO13: 0.346 | BP13: 0.31 | BQ13: 0.275 | BR13: 0.24 | BS13: 0.204 | BT13: 0.169
A14: 12 | B14: 0 | C14: 0.054 | D14: 0.108 | E14: 0.263 | F14: 0.417 | G14: 0.728 | H14: 1.039 | I14: 1.266 | J14: 1.492 | K14: 1.825 | L14: 2.158 | M14: 2.363 | N14: 2.568 | O14: 2.804 | P14: 3.041 | Q14: 3.26 | R14: 3.478 | S14: 3.721 | T14: 3.964 | U14: 4.05 | V14: 4.136 | W14: 4.183 | X14: 4.229 | Y14: 4.287 | Z14: 4.345 | AA14: 4.337 | AB14: 4.329 | AC14: 4.201 | AD14: 4.072 | AE14: 3.872 | AF14: 3.671 | AG14: 3.565 | AH14: 3.459 | AI14: 3.353 | AJ14: 3.247 | AK14: 3.141 | AL14: 3.062 | AM14: 2.983 | AN14: 2.903 | AO14: 2.824 | AP14: 2.744 | AQ14: 2.74 | AR14: 2.736 | AS14: 2.732 | AT14: 2.728 | AU14: 2.724 | AV14: 2.72 | AW14: 2.716 | AX14: 2.712 | AY14: 2.708 | AZ14: 2.704 | BA14: 2.491 | BB14: 2.277 | BC14: 2.064 | BD14: 1.85 | BE14: 1.637 | BF14: 1.423 | BG14: 1.21 | BH14: 0.997 | BI14: 0.783 | BJ14: 0.57 | BK14: 0.531 | BL14: 0.493 | BM14: 0.454 | BN14: 0.416 | BO14: 0.377 | BP14: 0.339 | BQ14: 0.3 | BR14: 0.262 | BS14: 0.223 | BT14: 0.185
... A18: 16 | B18: 0 | C18: 0.072 | D18: 0.144 | E18: 0.35 | F18: 0.556 | G18: 0.971 | H18: 1.385 | I18: 1.688 | J18: 1.99 | K18: 2.434 | L18: 2.878 | M18: 3.151 | N18: 3.424 | O18: 3.739 | P18: 4.055 | Q18: 4.346 | R18: 4.638 | S18: 4.962 | T18: 5.285 | U18: 5.4 | V18: 5.515 | W18: 5.577 | X18: 5.638 | Y18: 5.716 | Z18: 5.793 | AA18: 5.783 | AB18: 5.772 | AC18: 5.601 | AD18: 5.43 | AE18: 5.162 | AF18: 4.895 | AG18: 4.753 | AH18: 4.612 | AI18: 4.471 | AJ18: 4.33 | AK18: 4.189 | AL18: 4.083 | AM18: 3.977 | AN18: 3.871 | AO18: 3.765 | AP18: 3.659 | AQ18: 3.654 | AR18: 3.648 | AS18: 3.643 | AT18: 3.638 | AU18: 3.632 | AV18: 3.627 | AW18: 3.621 | AX18: 3.616 | AY18: 3.611 | AZ18: 3.605 | BA18: 3.321 | BB18: 3.036 | BC18: 2.752 | BD18: 2.467 | BE18: 2.183 | BF18: 1.898 | BG18: 1.613 | BH18: 1.329 | BI18: 1.044 | BJ18: 0.76 | BK18: 0.708 | BL18: 0.657 | BM18: 0.606 | BN18: 0.554 | BO18: 0.503 | BP18: 0.451 | BQ18: 0.4 | BR18: 0.349 | BS18: 0.297 | BT18: 0.246
A19: 17 | B19: 0 | C19: 0.077 | D19: 0.153 | E19: 0.372 | F19: 0.591 | G19: 1.032 | H19: 1.472 | I19: 1.793 | J19: 2.114 | K19: 2.586 | L19: 3.058 | M19: 3.348 | N19: 3.638 | O19: 3.973 | P19: 4.308 | Q19: 4.618 | R19: 4.928 | S19: 5.272 | T19: 5.615 | U19: 5.738 | V19: 5.86 | W19: 5.925 | X19: 5.991 | Y19: 6.073 | Z19: 6.155 | AA19: 6.144 | AB19: 6.133 | AC19: 5.951 | AD19: 5.769 | AE19: 5.485 | AF19: 5.201 | AG19: 5.051 | AH19: 4.9 | AI19: 4.75 | AJ19: 4.6 | AK19: 4.45 | AL19: 4.338 | AM19: 4.225 | AN19: 4.113 | AO19: 4 | AP19: 3.888 | AQ19: 3.882 | AR19: 3.876 | AS19: 3.871 | AT19: 3.865 | AU19: 3.859 | AV19: 3.854 | AW19: 3.848 | AX19: 3.842 | AY19: 3.836 | AZ19: 3.831 | BA19: 3.528 | BB19: 3.226 | BC19: 2.924 | BD19: 2.621 | BE19: 2.319 | BF19: 2.017 | BG19: 1.714 | BH19: 1.412 | BI19: 1.109 | BJ19: 0.807 | BK19: 0.753 | BL19: 0.698 | BM19: 0.643 | BN19: 0.589 | BO19: 0.534 | BP19: 0.48 | BQ19: 0.425 | BR19: 0.371 | BS19: 0.316 | BT19: 0.261
A20: 18 | B20: 0 | C20: 0.081 | D20: 0.162 | E20: 0.394 | F20: 0.626 | G20: 1.092 | H20: 1.559 | I20: 1.899 | J20: 2.239 | K20: 2.738 | L20: 3.238 | M20: 3.545 | N20: 3.852 | O20: 4.207 | P20: 4.562 | Q20: 4.89 | R20: 5.218 | S20: 5.582 | T20: 5.946 | U20: 6.075 | V20: 6.205 | W20: 6.274 | X20: 6.343 | Y20: 6.43 | Z20: 6.517 | AA20: 6.505 | AB20: 6.493 | AC20: 6.301 | AD20: 6.108 | AE20: 5.807 | AF20: 5.506 | AG20: 5.348 | AH20: 5.189 | AI20: 5.03 | AJ20: 4.871 | AK20: 4.712 | AL20: 4.593 | AM20: 4.474 | AN20: 4.355 | AO20: 4.235 | AP20: 4.116 | AQ20: 4.11 | AR20: 4.104 | AS20: 4.098 | AT20: 4.092 | AU20: 4.086 | AV20: 4.08 | AW20: 4.074 | AX20: 4.068 | AY20: 4.062 | AZ20: 4.056 | BA20: 3.736 | BB20: 3.416 | BC20: 3.096 | BD20: 2.776 | BE20: 2.455 | BF20: 2.135 | BG20: 1.815 | BH20: 1.495 | BI20: 1.175 | BJ20: 0.855 | BK20: 0.797 | BL20: 0.739 | BM20: 0.681 | BN20: 0.623 | BO20: 0.566 | BP20: 0.508 | BQ20: 0.45 | BR20: 0.392 | BS20: 0.335 | BT20: 0.277
A21: 19 | B21: 0 | C21: 0.086 | D21: 0.172 | E21: 0.416 | F21: 0.661 | G21: 1.153 | H21: 1.645 | I21: 2.004 | J21: 2.363 | K21: 2.89 | L21: 3.418 | M21: 3.742 | N21: 4.065 | O21: 4.44 | P21: 4.815 | Q21: 5.161 | R21: 5.507 | S21: 5.892 | T21: 6.276 | U21: 6.413 | V21: 6.549 | W21: 6.622 | X21: 6.695 | Y21: 6.787 | Z21: 6.88 | AA21: 6.867 | AB21: 6.854 | AC21: 6.651 | AD21: 6.448 | AE21: 6.13 | AF21: 5.812 | AG21: 5.645 | AH21: 5.477 | AI21: 5.309 | AJ21: 5.142 | AK21: 4.974 | AL21: 4.848 | AM21: 4.722 | AN21: 4.597 | AO21: 4.471 | AP21: 4.345 | AQ21: 4.339 | AR21: 4.332 | AS21: 4.326 | AT21: 4.32 | AU21: 4.313 | AV21: 4.307 | AW21: 4.301 | AX21: 4.294 | AY21: 4.288 | AZ21: 4.281 | BA21: 3.944 | BB21: 3.606 | BC21: 3.268 | BD21: 2.93 | BE21: 2.592 | BF21: 2.254 | BG21: 1.916 | BH21: 1.578 | BI21: 1.24 | BJ21: 0.902 | BK21: 0.841 | BL21: 0.78 | BM21: 0.719 | BN21: 0.658 | BO21: 0.597 | BP21: 0.536 | BQ21: 0.475 | BR21: 0.414 | BS21: 0.353 | BT21: 0.292
A22: 20 | B22: 0 | C22: 0.09 | D22: 0.181 | E22: 0.438 | F22: 0.695 | G22: 1.214 | H22: 1.732 | I22: 2.11 | J22: 2.487 | K22: 3.042 | L22: 3.597 | M22: 3.938 | N22: 4.279 | O22: 4.674 | P22: 5.068 | Q22: 5.433 | R22: 5.797 | S22: 6.202 | T22: 6.606 | U22: 6.75 | V22: 6.894 | W22: 6.971 | X22: 7.048 | Y22: 7.145 | Z22: 7.242 | AA22: 7.228 | AB22: 7.215 | AC22: 7.001 | AD22: 6.787 | AE22: 6.453 | AF22: 6.118 | AG22: 5.942 | AH22: 5.765 | AI22: 5.589 | AJ22: 5.412 | AK22: 5.236 | AL22: 5.103 | AM22: 4.971 | AN22: 4.838 | AO22: 4.706 | AP22: 4.574 | AQ22: 4.567 | AR22: 4.56 | AS22: 4.554 | AT22: 4.547 | AU22: 4.54 | AV22: 4.534 | AW22: 4.527 | AX22: 4.52 | AY22: 4.513 | AZ22: 4.507 | BA22: 4.151 | BB22: 3.795 | BC22: 3.44 | BD22: 3.084 | BE22: 2.728 | BF22: 2.372 | BG22: 2.017 | BH22: 1.661 | BI22: 1.305 | BJ22: 0.95 | BK22: 0.885 | BL22: 0.821 | BM22: 0.757 | BN22: 0.693 | BO22: 0.629 | BP22: 0.564 | BQ22: 0.5 | BR22: 0.436 | BS22: 0.372 | BT22: 0.308
A23: 21 | B23: 0 | C23: 0.095 | D23: 0.19 | E23: 0.46 | F23: 0.73 | G23: 1.274 | H23: 1.818 | I23: 2.215 | J23: 2.612 | K23: 3.195 | L23: 3.777 | M23: 4.135 | N23: 4.493 | O23: 4.908 | P23: 5.322 | Q23: 5.705 | R23: 6.087 | S23: 6.512 | T23: 6.937 | U23: 7.088 | V23: 7.239 | W23: 7.319 | X23: 7.4 | Y23: 7.502 | Z23: 7.604 | AA23: 7.59 | AB23: 7.576 | AC23: 7.351 | AD23: 7.126 | AE23: 6.775 | AF23: 6.424 | AG23: 6.239 | AH23: 6.054 | AI23: 5.868 | AJ23: 5.683 | AK23: 5.497 | AL23: 5.358 | AM23: 5.219 | AN23: 5.08 | AO23: 4.941 | AP23: 4.802 | AQ23: 4.795 | AR23: 4.788 | AS23: 4.781 | AT23: 4.774 | AU23: 4.767 | AV23: 4.76 | AW23: 4.753 | AX23: 4.746 | AY23: 4.739 | AZ23: 4.732 | BA23: 4.359 | BB23: 3.985 | BC23: 3.612 | BD23: 3.238 | BE23: 2.865 | BF23: 2.491 | BG23: 2.118 | BH23: 1.744 | BI23: 1.37 | BJ23: 0.997 | BK23: 0.93 | BL23: 0.862 | BM23: 0.795 | BN23: 0.727 | BO23: 0.66 | BP23: 0.593 | BQ23: 0.525 | BR23: 0.458 | BS23: 0.39 | BT23: 0.323
A24: 22 | B24: 0 | C24: 0.099 | D24: 0.199 | E24: 0.482 | F24: 0.765 | G24: 1.335 | H24: 1.905 | I24: 2.321 | J24: 2.736 | K24: 3.347 | L24: 3.957 | M24: 4.332 | N24: 4.707 | O24: 5.141 | P24: 5.575 | Q24: 5.976 | R24: 6.377 | S24: 6.822 | T24: 7.267 | U24: 7.425 | V24: 7.583 | W24: 7.668 | X24: 7.753 | Y24: 7.859 | Z24: 7.966 | AA24: 7.951 | AB24: 7.936 | AC24: 7.701 | AD24: 7.466 | AE24: 7.098 | AF24: 6.73 | AG24: 6.536 | AH24: 6.342 | AI24: 6.148 | AJ24: 5.953 | AK24: 5.759 | AL24: 5.614 | AM24: 5.468 | AN24: 5.322 | AO24: 5.177 | AP24: 5.031 | AQ24: 5.024 | AR24: 5.016 | AS24: 5.009 | AT24: 5.002 | AU24: 4.994 | AV24: 4.987 | AW24: 4.98 | AX24: 4.972 | AY24: 4.965 | AZ24: 4.957 | BA24: 4.566 | BB24: 4.175 | BC24: 3.784 | BD24: 3.392 | BE24: 3.001 | BF24: 2.61 | BG24: 2.218 | BH24: 1.827 | BI24: 1.436 | BJ24: 1.044 | BK24: 0.974 | BL24: 0.903 | BM24: 0.833 | BN24: 0.762 | BO24: 0.691 | BP24: 0.621 | BQ24: 0.55 | BR24: 0.48 | BS24: 0.409 | BT24: 0.338
A25: 23 | B25: 0 | C25: 0.104 | D25: 0.208 | E25: 0.504 | F25: 0.8 | G25: 1.396 | H25: 1.992 | I25: 2.426 | J25: 2.861 | K25: 3.499 | L25: 4.137 | M25: 4.529 | N25: 4.921 | O25: 5.375 | P25: 5.829 | Q25: 6.248 | R25: 6.667 | S25: 7.132 | T25: 7.597 | U25: 7.763 | V25: 7.928 | W25: 8.016 | X25: 8.105 | Y25: 8.216 | Z25: 8.328 | AA25: 8.313 | AB25: 8.297 | AC25: 8.051 | AD25: 7.805 | AE25: 7.421 | AF25: 7.036 | AG25: 6.833 | AH25: 6.63 | AI25: 6.427 | AJ25: 6.224 | AK25: 6.021 | AL25: 5.869 | AM25: 5.716 | AN25: 5.564 | AO25: 5.412 | AP25: 5.26 | AQ25: 5.252 | AR25: 5.244 | AS25: 5.237 | AT25: 5.229 | AU25: 5.221 | AV25: 5.214 | AW25: 5.206 | AX25: 5.198 | AY25: 5.191 | AZ25: 5.183 | BA25: 4.774 | BB25: 4.365 | BC25: 3.956 | BD25: 3.546 | BE25: 3.137 | BF25: 2.728 | BG25: 2.319 | BH25: 1.91 | BI25: 1.501 | BJ25: 1.092 | BK25: 1.018 | BL25: 0.944 | BM25: 0.87 | BN25: 0.797 | BO25: 0.723 | BP25: 0.649 | BQ25: 0.575 | BR25: 0.501 | BS25: 0.428 | BT25: 0.354
A26: 24 | B26: 0 | C26: 0.108 | D26: 0.217 | E26: 0.526 | F26: 0.834 | G26: 1.456 | H26: 2.078 | I26: 2.532 | J26: 2.985 | K26: 3.651 | L26: 4.317 | M26: 4.726 | N26: 5.135 | O26: 5.609 | P26: 6.082 | Q26: 6.519 | R26: 6.957 | S26: 7.442 | T26: 7.928 | U26: 8.1 | V26: 8.273 | W26: 8.365 | X26: 8.457 | Y26: 8.574 | Z26: 8.69 | AA26: 8.674 | AB26: 8.658 | AC26: 8.401 | AD26: 8.144 | AE26: 7.743 | AF26: 7.342 | AG26: 7.13 | AH26: 6.918 | AI26: 6.706 | AJ26: 6.495 | AK26: 6.283 | AL26: 6.124 | AM26: 5.965 | AN26: 5.806 | AO26: 5.647 | AP26: 5.488 | AQ26: 5.48 | AR26: 5.472 | AS26: 5.464 | AT26: 5.456 | AU26: 5.448 | AV26: 5.44 | AW26: 5.432 | AX26: 5.424 | AY26: 5.416 | AZ26: 5.408 | BA26: 4.981 | BB26: 4.554 | BC26: 4.128 | BD26: 3.701 | BE26: 3.274 | BF26: 2.847 | BG26: 2.42 | BH26: 1.993 | BI26: 1.566 | BJ26: 1.139 | BK26: 1.062 | BL26: 0.985 | BM26: 0.908 | BN26: 0.831 | BO26: 0.754 | BP26: 0.677 | BQ26: 0.6 | BR26: 0.523 | BS26: 0.446 | BT26: 0.369
