Workbook

Sheet Garde journaliére
B2: 41334 | C2: Heure d'arrivée | D2: Heure de départ | E2: Total journée | G2: 41335 | H2: Heure d'arrivée | I2: Heure de départ | J2: Total journée | L2: 41336 | M2: Heure d'arrivée | N2: Heure de départ | O2: Total journée
C3: 0.33333333 | D3: 0.48958333 | E3: =IF(OR(C3="",D3=""),"",D3-C3) -> 0.15625 | H3: 0.33333333 | I3: 0.48958333 | J3: =IF(OR(H3="",I3=""),"",I3-H3) -> 0.15625 | M3: 0.33333333 | N3: 0.48958333 | O3: =IF(OR(M3="",N3=""),"",N3-M3) -> 0.15625
E4: =IF(OR(C4="",D4=""),"",D4-C4) | J4: =IF(OR(H4="",I4=""),"",I4-H4) | O4: =IF(OR(M4="",N4=""),"",N4-M4)
E5: =IF(OR(C5="",D5=""),"",D5-C5) | J5: =IF(OR(H5="",I5=""),"",I5-H5) | O5: =IF(OR(M5="",N5=""),"",N5-M5)
E6: =IF(OR(C6="",D6=""),"",D6-C6) | J6: =IF(OR(H6="",I6=""),"",I6-H6) | O6: =IF(OR(M6="",N6=""),"",N6-M6)
E7: =IF(OR(C7="",D7=""),"",D7-C7) | J7: =IF(OR(H7="",I7=""),"",I7-H7) | O7: =IF(OR(M7="",N7=""),"",N7-M7)
E8: =IF(OR(C8="",D8=""),"",D8-C8) | J8: =IF(OR(H8="",I8=""),"",I8-H8) | O8: =IF(OR(M8="",N8=""),"",N8-M8)
E9: =IF(OR(C9="",D9=""),"",D9-C9) | J9: =IF(OR(H9="",I9=""),"",I9-H9) | O9: =IF(OR(M9="",N9=""),"",N9-M9)
E10: =IF(OR(C10="",D10=""),"",D10-C10) | J10: =IF(OR(H10="",I10=""),"",I10-H10) | O10: =IF(OR(M10="",N10=""),"",N10-M10)
B12: 41337 | C12: Heure d'arrivée | D12: Heure de départ | E12: Total journée | G12: 41338 | H12: Heure d'arrivée | I12: Heure de départ | J12: Total journée | L12: 41339 | M12: Heure d'arrivée | N12: Heure de départ | O12: Total journée
C13: 0.33333333 | D13: 0.48958333 | E13: =IF(OR(C13="",D13=""),"",D13-C13) -> 0.15625 | H13: 0.33333333 | I13: 0.48958333 | J13: =IF(OR(H13="",I13=""),"",I13-H13) -> 0.15625 | M13: 0.33333333 | N13: 0.48958333 | O13: =IF(OR(M13="",N13=""),"",N13-M13) -> 0.15625
E14: =IF(OR(C14="",D14=""),"",D14-C14) | J14: =IF(OR(H14="",I14=""),"",I14-H14) | O14: =IF(OR(M14="",N14=""),"",N14-M14)
E15: =IF(OR(C15="",D15=""),"",D15-C15) | J15: =IF(OR(H15="",I15=""),"",I15-H15) | O15: =IF(OR(M15="",N15=""),"",N15-M15)
E16: =IF(OR(C16="",D16=""),"",D16-C16) | J16: =IF(OR(H16="",I16=""),"",I16-H16) | O16: =IF(OR(M16="",N16=""),"",N16-M16)
E17: =IF(OR(C17="",D17=""),"",D17-C17) | J17: =IF(OR(H17="",I17=""),"",I17-H17) | O17: =IF(OR(M17="",N17=""),"",N17-M17)
E18: =IF(OR(C18="",D18=""),"",D18-C18) | J18: =IF(OR(H18="",I18=""),"",I18-H18) | O18: =IF(OR(M18="",N18=""),"",N18-M18)
E19: =IF(OR(C19="",D19=""),"",D19-C19) | J19: =IF(OR(H19="",I19=""),"",I19-H19) | O19: =IF(OR(M19="",N19=""),"",N19-M19)
E20: =IF(OR(C20="",D20=""),"",D20-C20) | J20: =IF(OR(H20="",I20=""),"",I20-H20) | O20: =IF(OR(M20="",N20=""),"",N20-M20)
B22: 41340 | C22: Heure d'arrivée | D22: Heure de départ | E22: Total journée | G22: 41341 | H22: Heure d'arrivée | I22: Heure de départ | J22: Total journée | L22: 41342 | M22: Heure d'arrivée | N22: Heure de départ | O22: Total journée
C23: 0.33333333 | D23: 0.48958333 | E23: =IF(OR(C23="",D23=""),"",D23-C23) -> 0.15625 | H23: 0.33333333 | I23: 0.48958333 | J23: =IF(OR(H23="",I23=""),"",I23-H23) -> 0.15625 | M23: 0.33333333 | N23: 0.48958333 | O23: =IF(OR(M23="",N23=""),"",N23-M23) -> 0.15625
E24: =IF(OR(C24="",D24=""),"",D24-C24) | J24: =IF(OR(H24="",I24=""),"",I24-H24) | O24: =IF(OR(M24="",N24=""),"",N24-M24)
E25: =IF(OR(C25="",D25=""),"",D25-C25) | J25: =IF(OR(H25="",I25=""),"",I25-H25) | O25: =IF(OR(M25="",N25=""),"",N25-M25)
E26: =IF(OR(C26="",D26=""),"",D26-C26) | J26: =IF(OR(H26="",I26=""),"",I26-H26) | O26: =IF(OR(M26="",N26=""),"",N26-M26)
E27: =IF(OR(C27="",D27=""),"",D27-C27) | J27: =IF(OR(H27="",I27=""),"",I27-H27) | O27: =IF(OR(M27="",N27=""),"",N27-M27)
E28: =IF(OR(C28="",D28=""),"",D28-C28) | J28: =IF(OR(H28="",I28=""),"",I28-H28) | O28: =IF(OR(M28="",N28=""),"",N28-M28)
E29: =IF(OR(C29="",D29=""),"",D29-C29) | J29: =IF(OR(H29="",I29=""),"",I29-H29) | O29: =IF(OR(M29="",N29=""),"",N29-M29)
E30: =IF(OR(C30="",D30=""),"",D30-C30) | J30: =IF(OR(H30="",I30=""),"",I30-H30) | O30: =IF(OR(M30="",N30=""),"",N30-M30)
B32: 41343 | C32: Heure d'arrivée | D32: Heure de départ | E32: Total journée | G32: 41344 | H32: Heure d'arrivée | I32: Heure de départ | J32: Total journée | L32: 41345 | M32: Heure d'arrivée | N32: Heure de départ | O32: Total journée
C33: 0.33333333 | D33: 0.48958333 | E33: =IF(OR(C33="",D33=""),"",D33-C33) -> 0.15625 | H33: 0.33333333 | I33: 0.48958333 | J33: =IF(OR(H33="",I33=""),"",I33-H33) -> 0.15625 | M33: 0.33333333 | N33: 0.48958333 | O33: =IF(OR(M33="",N33=""),"",N33-M33) -> 0.15625
E34: =IF(OR(C34="",D34=""),"",D34-C34) | J34: =IF(OR(H34="",I34=""),"",I34-H34) | O34: =IF(OR(M34="",N34=""),"",N34-M34)
E35: =IF(OR(C35="",D35=""),"",D35-C35) | J35: =IF(OR(H35="",I35=""),"",I35-H35) | O35: =IF(OR(M35="",N35=""),"",N35-M35)
E36: =IF(OR(C36="",D36=""),"",D36-C36) | J36: =IF(OR(H36="",I36=""),"",I36-H36) | O36: =IF(OR(M36="",N36=""),"",N36-M36)
E37: =IF(OR(C37="",D37=""),"",D37-C37) | J37: =IF(OR(H37="",I37=""),"",I37-H37) | O37: =IF(OR(M37="",N37=""),"",N37-M37)
E38: =IF(OR(C38="",D38=""),"",D38-C38) | J38: =IF(OR(H38="",I38=""),"",I38-H38) | O38: =IF(OR(M38="",N38=""),"",N38-M38)
E39: =IF(OR(C39="",D39=""),"",D39-C39) | J39: =IF(OR(H39="",I39=""),"",I39-H39) | O39: =IF(OR(M39="",N39=""),"",N39-M39)
E40: =IF(OR(C40="",D40=""),"",D40-C40) | J40: =IF(OR(H40="",I40=""),"",I40-H40) | O40: =IF(OR(M40="",N40=""),"",N40-M40)
B42: 41346 | C42: Heure d'arrivée | D42: Heure de départ | E42: Total journée | G42: 41347 | H42: Heure d'arrivée | I42: Heure de départ | J42: Total journée | L42: 41348 | M42: Heure d'arrivée | N42: Heure de départ | O42: Total journée
C43: 0.33333333 | D43: 0.48958333 | E43: =IF(OR(C43="",D43=""),"",D43-C43) -> 0.15625 | H43: 0.33333333 | I43: 0.48958333 | J43: =IF(OR(H43="",I43=""),"",I43-H43) -> 0.15625 | M43: 0.33333333 | N43: 0.48958333 | O43: =IF(OR(M43="",N43=""),"",N43-M43) -> 0.15625
E44: =IF(OR(C44="",D44=""),"",D44-C44) | J44: =IF(OR(H44="",I44=""),"",I44-H44) | O44: =IF(OR(M44="",N44=""),"",N44-M44)
E45: =IF(OR(C45="",D45=""),"",D45-C45) | J45: =IF(OR(H45="",I45=""),"",I45-H45) | O45: =IF(OR(M45="",N45=""),"",N45-M45)
...

Sheet Cumul mensuel
C2: 1 | D2: 2 | E2: 3 | F2: 4 | G2: 5 | H2: 6 | I2: 7 | J2: 8 | K2: 9 | L2: 10 | M2: 11 | N2: 12 | O2: 13 | P2: 14 | Q2: 15 | R2: 16 | S2: 17 | T2: 18 | U2: 19 | V2: 20 | W2: 21 | X2: 22 | Y2: 23 | Z2: 24 | AA2: 25 | AB2: 26 | AC2: 27 | AD2: 28 | AE2: 29 | AF2: 30 | AG2: 31 | AH2: Total en heures
C4: ='Garde journaliére'!E3 -> 0.15625 | D4: ='Garde journaliére'!J3 -> 0.15625 | E4: ='Garde journaliére'!O3 -> 0.15625 | F4: ='Garde journaliére'!E13 -> 0.15625 | G4: ='Garde journaliére'!J13 -> 0.15625 | H4: ='Garde journaliére'!O13 -> 0.15625 | I4: ='Garde journaliére'!E23 -> 0.15625 | J4: ='Garde journaliére'!J23 -> 0.15625 | K4: ='Garde journaliére'!O23 -> 0.15625 | L4: ='Garde journaliére'!E33 -> 0.15625 | M4: ='Garde journaliére'!J33 -> 0.15625 | N4: ='Garde journaliére'!O33 -> 0.15625 | O4: ='Garde journaliére'!E43 -> 0.15625 | P4: ='Garde journaliére'!J43 -> 0.15625 | Q4: ='Garde journaliére'!O43 -> 0.15625 | R4: ='Garde journaliére'!E53 -> 0.15625 | S4: ='Garde journaliére'!J53 -> 0.15625 | T4: ='Garde journaliére'!O53 -> 0.15625 | U4: ='Garde journaliére'!E63 -> 0.15625 | V4: ='Garde journaliére'!J63 -> 0.15625 | W4: ='Garde journaliére'!O63 -> 0.15625 | X4: ='Garde journaliére'!E73 -> 0.15625 | Y4: ='Garde journaliére'!J73 -> 0.15625 | Z4: ='Garde journaliére'!O73 -> 0.15625 | AA4: ='Garde journaliére'!E83 -> 0.15625 | AB4: ='Garde journaliére'!J83 -> 0.15625 | AC4: ='Garde journaliére'!O83 -> 0.15625 | AD4: ='Garde journaliére'!E93 -> 0.15625 | AE4: ='Garde journaliére'!J93 -> 0.15625 | AF4: ='Garde journaliére'!O93 -> 0.15625 | AG4: ='Garde journaliére'!E103 -> 0.15625 | AH4: =SUM(C4:AG4) -> 4.84375
C5: ='Garde journaliére'!E4 | D5: ='Garde journaliére'!J4 | E5: ='Garde journaliére'!O4 | F5: ='Garde journaliére'!E14 | G5: ='Garde journaliére'!J14 | H5: ='Garde journaliére'!O14 | I5: ='Garde journaliére'!E24 | J5: ='Garde journaliére'!J24 | K5: ='Garde journaliére'!O24 | L5: ='Garde journaliére'!E34 | M5: ='Garde journaliére'!J34 | N5: ='Garde journaliére'!O34 | O5: ='Garde journaliére'!E44 | P5: ='Garde journaliére'!J44 | Q5: ='Garde journaliére'!O44 | R5: ='Garde journaliére'!E54 | S5: ='Garde journaliére'!J54 | T5: ='Garde journaliére'!O54 | U5: ='Garde journaliére'!E64 | V5: ='Garde journaliére'!J64 | W5: ='Garde journaliére'!O64 | X5: ='Garde journaliére'!E74 | Y5: ='Garde journaliére'!J74 | Z5: ='Garde journaliére'!O74 | AA5: ='Garde journaliére'!E84 | AB5: ='Garde journaliére'!J84 | AC5: ='Garde journaliére'!O84 | AD5: ='Garde journaliére'!E94 | AE5: ='Garde journaliére'!J94 | AF5: ='Garde journaliére'!O94 | AG5: ='Garde journaliére'!E104 | AH5: =SUM(C5:AG6) -> 0
C6: ='Garde journaliére'!E5 | D6: ='Garde journaliére'!J5 | E6: ='Garde journaliére'!O5 | F6: ='Garde journaliére'!E15 | G6: ='Garde journaliére'!J15 | H6: ='Garde journaliére'!O15 | I6: ='Garde journaliére'!E25 | J6: ='Garde journaliére'!J25 | K6: ='Garde journaliére'!O25 | L6: ='Garde journaliére'!E35 | M6: ='Garde journaliére'!J35 | N6: ='Garde journaliére'!O35 | O6: ='Garde journaliére'!E45 | P6: ='Garde journaliére'!J45 | Q6: ='Garde journaliére'!O45 | R6: ='Garde journaliére'!E55 | S6: ='Garde journaliére'!J55 | T6: ='Garde journaliére'!O55 | U6: ='Garde journaliére'!E65 | V6: ='Garde journaliére'!J65 | W6: ='Garde journaliére'!O65 | X6: ='Garde journaliére'!E75 | Y6: ='Garde journaliére'!J75 | Z6: ='Garde journaliére'!O75 | AA6: ='Garde journaliére'!E85 | AB6: ='Garde journaliére'!J85 | AC6: ='Garde journaliére'!O85 | AD6: ='Garde journaliére'!E95 | AE6: ='Garde journaliére'!J95 | AF6: ='Garde journaliére'!O95 | AG6: ='Garde journaliére'!E105
C7: ='Garde journaliére'!E6 | D7: ='Garde journaliére'!J6 | E7: ='Garde journaliére'!O6 | F7: ='Garde journaliére'!E16 | G7: ='Garde journaliére'!J16 | H7: ='Garde journaliére'!O16 | I7: ='Garde journaliére'!E26 | J7: ='Garde journaliére'!J26 | K7: ='Garde journaliére'!O26 | L7: ='Garde journaliére'!E36 | M7: ='Garde journaliére'!J36 | N7: ='Garde journaliére'!O36 | O7: ='Garde journaliére'!E46 | P7: ='Garde journaliére'!J46 | Q7: ='Garde journaliére'!O46 | R7: ='Garde journaliére'!E56 | S7: ='Garde journaliére'!J56 | T7: ='Garde journaliére'!O56 | U7: ='Garde journaliére'!E66 | V7: ='Garde journaliére'!J66 | W7: ='Garde journaliére'!O66 | X7: ='Garde journaliére'!E76 | Y7: ='Garde journaliére'!J76 | Z7: ='Garde journaliére'!O76 | AA7: ='Garde journaliére'!E86 | AB7: ='Garde journaliére'!J86 | AC7: ='Garde journaliére'!O86 | AD7: ='Garde journaliére'!E96 | AE7: ='Garde journaliére'!J96 | AF7: ='Garde journaliére'!O96 | AG7: ='Garde journaliére'!E106 | AH7: =SUM(C7:AG7) -> 0
C8: ='Garde journaliére'!E7 | D8: ='Garde journaliére'!J7 | E8: ='Garde journaliére'!O7 | F8: ='Garde journaliére'!E17 | G8: ='Garde journaliére'!J17 | H8: ='Garde journaliére'!O17 | I8: ='Garde journaliére'!E27 | J8: ='Garde journaliére'!J27 | K8: ='Garde journaliére'!O27 | L8: ='Garde journaliére'!E37 | M8: ='Garde journaliére'!J37 | N8: ='Garde journaliére'!O37 | O8: ='Garde journaliére'!E47 | P8: ='Garde journaliére'!J47 | Q8: ='Garde journaliére'!O47 | R8: ='Garde journaliére'!E57 | S8: ='Garde journaliére'!J57 | T8: ='Garde journaliére'!O57 | U8: ='Garde journaliére'!E67 | V8: ='Garde journaliére'!J67 | W8: ='Garde journaliére'!O67 | X8: ='Garde journaliére'!E77 | Y8: ='Garde journaliére'!J77 | Z8: ='Garde journaliére'!O77 | AA8: ='Garde journaliére'!E87 | AB8: ='Garde journaliére'!J87 | AC8: ='Garde journaliére'!O87 | AD8: ='Garde journaliére'!E97 | AE8: ='Garde journaliére'!J97 | AF8: ='Garde journaliére'!O97 | AG8: ='Garde journaliére'!E107 | AH8: =SUM(C8:AG9) -> 0
C9: ='Garde journaliére'!E8 | D9: ='Garde journaliére'!J8 | E9: ='Garde journaliére'!O8 | F9: ='Garde journaliére'!E18 | G9: ='Garde journaliére'!J18 | H9: ='Garde journaliére'!O18 | I9: ='Garde journaliére'!E28 | J9: ='Garde journaliére'!J28 | K9: ='Garde journaliére'!O28 | L9: ='Garde journaliére'!E38 | M9: ='Garde journaliére'!J38 | N9: ='Garde journaliére'!O38 | O9: ='Garde journaliére'!E48 | P9: ='Garde journaliére'!J48 | Q9: ='Garde journaliére'!O48 | R9: ='Garde journaliére'!E58 | S9: ='Garde journaliére'!J58 | T9: ='Garde journaliére'!O58 | U9: ='Garde journaliére'!E68 | V9: ='Garde journaliére'!J68 | W9: ='Garde journaliére'!O68 | X9: ='Garde journaliére'!E78 | Y9: ='Garde journaliére'!J78 | Z9: ='Garde journaliére'!O78 | AA9: ='Garde journaliére'!E88 | AB9: ='Garde journaliére'!J88 | AC9: ='Garde journaliére'!O88 | AD9: ='Garde journaliére'!E98 | AE9: ='Garde journaliére'!J98 | AF9: ='Garde journaliére'!O98 | AG9: ='Garde journaliére'!E108
C10: ='Garde journaliére'!E9 | D10: ='Garde journaliére'!J9 | E10: ='Garde journaliére'!O9 | F10: ='Garde journaliére'!E19 | G10: ='Garde journaliére'!J19 | H10: ='Garde journaliére'!O19 | I10: ='Garde journaliére'!E29 | J10: ='Garde journaliére'!J29 | K10: ='Garde journaliére'!O29 | L10: ='Garde journaliére'!E39 | M10: ='Garde journaliére'!J39 | N10: ='Garde journaliére'!O39 | O10: ='Garde journaliére'!E49 | P10: ='Garde journaliére'!J49 | Q10: ='Garde journaliére'!O49 | R10: ='Garde journaliére'!E59 | S10: ='Garde journaliére'!J59 | T10: ='Garde journaliére'!O59 | U10: ='Garde journaliére'!E69 | V10: ='Garde journaliére'!J69 | W10: ='Garde journaliére'!O69 | X10: ='Garde journaliére'!E79 | Y10: ='Garde journaliére'!J79 | Z10: ='Garde journaliére'!O79 | AA10: ='Garde journaliére'!E89 | AB10: ='Garde journaliére'!J89 | AC10: ='Garde journaliére'!O89 | AD10: ='Garde journaliére'!E99 | AE10: ='Garde journaliére'!J99 | AF10: ='Garde journaliére'!O99 | AG10: ='Garde journaliére'!E109 | AH10: =SUM(C10:AG11) -> 0
C11: ='Garde journaliére'!E10 | D11: ='Garde journaliére'!J10 | E11: ='Garde journaliére'!O10 | F11: ='Garde journaliére'!E20 | G11: ='Garde journaliére'!J20 | H11: ='Garde journaliére'!O20 | I11: ='Garde journaliére'!E30 | J11: ='Garde journaliére'!J30 | K11: ='Garde journaliére'!O30 | L11: ='Garde journaliére'!E40 | M11: ='Garde journaliére'!J40 | N11: ='Garde journaliére'!O40 | O11: ='Garde journaliére'!E50 | P11: ='Garde journaliére'!J50 | Q11: ='Garde journaliére'!O50 | R11: ='Garde journaliére'!E60 | S11: ='Garde journaliére'!J60 | T11: ='Garde journaliére'!O60 | U11: ='Garde journaliére'!E70 | V11: ='Garde journaliére'!J70 | W11: ='Garde journaliére'!O70 | X11: ='Garde journaliére'!E80 | Y11: ='Garde journaliére'!J80 | Z11: ='Garde journaliére'!O80 | AA11: ='Garde journaliére'!E90 | AB11: ='Garde journaliére'!J90 | AC11: ='Garde journaliére'!O90 | AD11: ='Garde journaliére'!E100 | AE11: ='Garde journaliére'!J100 | AF11: ='Garde journaliére'!O100 | AG11: ='Garde journaliére'!E110

Sheet Récapitulatif
C2: Nombre total d'heures de garde mensuelles | D2: Taux horaire net | E2: Montant de la garde | F2: Repas | I2: Gouters | L2: Indemnités d'entretien | M2: Total Général
F3: Nbr | G3: P.U | H3: Total | J3: P.U | K3: Total
C4: =SUM('Cumul mensuel'!C4:AG4) -> 4.84375 | D4: 2.35 | E4: =D4*C4 -> 11.382812 | G4: 3.07 | H4: =F4*G4 -> 0 | J4: 1.05 | K4: =J4*I4 -> 0 | L4: =0.33*C4 -> 1.5984375 | M4: =E4+H4+K4+L4 -> 12.98125
C5: =SUM('Cumul mensuel'!C5:AG5) -> 0 | D5: 2.35 | E5: =D5*C5 -> 0 | G5: =$G$4 -> 3.07 | H5: =F5*G5 -> 0 | J5: =$J$4 -> 1.05 | K5: =J5*I5 -> 0 | L5: =0.33*C5 -> 0 | M5: =E5+H5+K5+L5 -> 0
C6: =SUM('Cumul mensuel'!C6:AG6) -> 0 | D6: 2.35 | E6: =D6*C6 -> 0 | G6: 3.07 | H6: =F6*G6 -> 0 | J6: 1.05 | K6: =J6*I6 -> 0 | L6: =0.33*C6 -> 0 | M6: =E6+H6+K6+L6 -> 0
C7: =SUM('Cumul mensuel'!C7:AG7) -> 0 | D7: 2.5 | E7: =D7*C7 -> 0 | G7: =$G$4 -> 3.07 | H7: =F7*G7 -> 0 | J7: =$J$4 -> 1.05 | K7: =J7*I7 -> 0 | L7: =0.33*C7 -> 0 | M7: =E7+H7+K7+L7 -> 0
C8: =SUM('Cumul mensuel'!C8:AG8) -> 0 | D8: 2.35 | E8: =D8*C8 -> 0 | G8: =$G$4 -> 3.07 | H8: =F8*G8 -> 0 | J8: =$J$4 -> 1.05 | K8: =J8*I8 -> 0 | L8: =0.33*C8 -> 0 | M8: =E8+H8+K8+L8 -> 0
C9: =SUM('Cumul mensuel'!C9:AG9) -> 0 | D9: 2.35 | E9: =D9*C9 -> 0 | G9: =$G$4 -> 3.07 | H9: =F9*G9 -> 0 | J9: =$J$4 -> 1.05 | K9: =J9*I9 -> 0 | M9: =E9+H9+K9+L9 -> 0
C10: =SUM('Cumul mensuel'!C10:AG10) -> 0 | D10: 2.5 | E10: =D10*C10 -> 0 | G10: 3.07 | H10: =F10*G10 -> 0 | J10: =$J$4 -> 1.05 | K10: =J10*I10 -> 0 | L10: =0.33*C10 -> 0 | M10: =E10+H10+K10+L10 -> 0
C11: =SUM('Cumul mensuel'!C11:AG11) -> 0 | D11: 2.35 | E11: =D11*C11 -> 0 | G11: 3.07 | H11: =F11*G11 -> 0 | J11: 1.05 | K11: =J11*I11 -> 0 | L11: =0.33*C11 -> 0 | M11: =E11+H11+K11+L11 -> 0
M12: =SUM(M4:M11) -> 12.98125
D14: Salaires attendus | E14: Salaires Percus | F14: ECART
B15: Mathéo | D15: =M4 -> 12.98125 | F15: =E15-D15 -> -12.98125
B16: Robin & Nathan | D16: =M5+M6 -> 0 | F16: =E16-D16 -> 0
D17: =M7 -> 0 | F17: =E17-D17 -> 0
B18: Enzo & Mila | D18: =M8+M9 -> 0 | F18: =E18-D18 -> 0
B19: Ornella | D19: =M10 -> 0 | F19: =E19-D19 -> 0
D20: =M11 -> 0 | F20: =E20-D20 -> 0
B21: Total | D21: =SUM(D15:D20) -> 12.98125 | E21: =SUM(E15:E20) -> 0 | F21: =E21-D21 -> -12.98125 | J21: =IF(F21>0,"GENIAL !!","pas bien") -> pas bien
