Workbook

Sheet suivi
A1: CODE RESIDENCE | B1: RESIDENCE | C1: POLE | D1: CODE LOT | E1: BATIMENT | F1: MONTEE | G1: ADRESSE1 | H1: ADRESSE2 | I1: PTT | J1: COMMUNE | K1: TYPE | L1: USAGE | M1: NATURE | N1: ETAGE | O1: CODE 2 | P1: MISSION ALLODIAG | Q1: BON DE COMMANDE HH | R1: Daat | S1: dapp
A2: 001L | B2: DC ROUX - LA MONTAGNE | C2: POLE NANTES METROPOLE SUD | D2: 001L0001 | E2: 1 | F2: 13 | G2: 13 RUE DU DOCTEUR ROUX | I2: 44620 | J2: LA MONTAGNE | K2: Type 4 | L2: APH | M2: C | N2: 0 | O2: 001L_01_13_0001 | R2: =IFERROR(VLOOKUP($D2,extranet!$A$2:$C$9,2,FALSE),"") | S2: =IFERROR(VLOOKUP($D2,extranet!$A$2:$C$9,3,FALSE),"")
A3: 001L | B3: DC ROUX - LA MONTAGNE | C3: POLE NANTES METROPOLE SUD | D3: 001L0002 | E3: 1 | F3: 13 | G3: 13 RUE DU DOCTEUR ROUX | I3: 44620 | J3: LA MONTAGNE | K3: Type 3 | L3: APT | M3: C | N3: 0 | O3: 001L_01_13_0002 | R3: =IFERROR(VLOOKUP($D3,extranet!$A$2:$C$9,2,FALSE),"") -> OUI | S3: =IFERROR(VLOOKUP($D3,extranet!$A$2:$C$9,3,FALSE),"") -> OUI
A4: 001L | B4: DC ROUX - LA MONTAGNE | C4: POLE NANTES METROPOLE SUD | D4: 001L0003 | E4: 1 | F4: 13 | G4: 13 RUE DU DOCTEUR ROUX | I4: 44620 | J4: LA MONTAGNE | K4: Type 4 | L4: APT | M4: C | N4: 1 | O4: 001L_01_13_0003 | R4: =IFERROR(VLOOKUP($D4,extranet!$A$2:$C$9,2,FALSE),"") -> OUI | S4: =IFERROR(VLOOKUP($D4,extranet!$A$2:$C$9,3,FALSE),"") -> OUI
A5: 001L | B5: DC ROUX - LA MONTAGNE | C5: POLE NANTES METROPOLE SUD | D5: 001L0004 | E5: 1 | F5: 13 | G5: 13 RUE DU DOCTEUR ROUX | I5: 44620 | J5: LA MONTAGNE | K5: Type 3 | L5: APT | M5: C | N5: 1 | O5: 001L_01_13_0004 | R5: =IFERROR(VLOOKUP($D5,extranet!$A$2:$C$9,2,FALSE),"") -> OUI | S5: =IFERROR(VLOOKUP($D5,extranet!$A$2:$C$9,3,FALSE),"") -> OUI
A6: 001L | B6: DC ROUX - LA MONTAGNE | C6: POLE NANTES METROPOLE SUD | D6: 001L0005 | E6: 1 | F6: 13 | G6: 13 RUE DU DOCTEUR ROUX | I6: 44620 | J6: LA MONTAGNE | K6: Type 4 | L6: APT | M6: C | N6: 2 | O6: 001L_01_13_0005 | R6: =IFERROR(VLOOKUP($D6,extranet!$A$2:$C$9,2,FALSE),"") | S6: =IFERROR(VLOOKUP($D6,extranet!$A$2:$C$9,3,FALSE),"")
A7: 001L | B7: DC ROUX - LA MONTAGNE | C7: POLE NANTES METROPOLE SUD | D7: 001L0006 | E7: 1 | F7: 13 | G7: 13 RUE DU DOCTEUR ROUX | I7: 44620 | J7: LA MONTAGNE | K7: Type 3 | L7: APT | M7: C | N7: 2 | O7: 001L_01_13_0006 | R7: =IFERROR(VLOOKUP($D7,extranet!$A$2:$C$9,2,FALSE),"") -> OUI | S7: =IFERROR(VLOOKUP($D7,extranet!$A$2:$C$9,3,FALSE),"") -> OUI
A8: 001L | B8: DC ROUX - LA MONTAGNE | C8: POLE NANTES METROPOLE SUD | D8: 001L0007 | E8: 1 | F8: 13 | G8: 13 RUE DU DOCTEUR ROUX | I8: 44620 | J8: LA MONTAGNE | K8: Type 4 | L8: APT | M8: C | N8: 3 | O8: 001L_01_13_0007 | R8: =IFERROR(VLOOKUP($D8,extranet!$A$2:$C$9,2,FALSE),"") | S8: =IFERROR(VLOOKUP($D8,extranet!$A$2:$C$9,3,FALSE),"")
A9: 001L | B9: DC ROUX - LA MONTAGNE | C9: POLE NANTES METROPOLE SUD | D9: 001L0008 | E9: 1 | F9: 13 | G9: 13 RUE DU DOCTEUR ROUX | I9: 44620 | J9: LA MONTAGNE | K9: Type 3 | L9: APT | M9: C | N9: 3 | O9: 001L_01_13_0008 | R9: =IFERROR(VLOOKUP($D9,extranet!$A$2:$C$9,2,FALSE),"") -> OUI | S9: =IFERROR(VLOOKUP($D9,extranet!$A$2:$C$9,3,FALSE),"") -> OUI
A10: 001L | B10: DC ROUX - LA MONTAGNE | C10: POLE NANTES METROPOLE SUD | D10: 001L0009 | E10: 1 | F10: 15 | G10: 15 RUE DU DOCTEUR ROUX | I10: 44620 | J10: LA MONTAGNE | K10: Type 4 | L10: APT | M10: C | N10: 0 | O10: 001L_01_15_0009 | R10: =IFERROR(VLOOKUP($D10,extranet!$A$2:$C$9,2,FALSE),"") | S10: =IFERROR(VLOOKUP($D10,extranet!$A$2:$C$9,3,FALSE),"")
A11: 001L | B11: DC ROUX - LA MONTAGNE | C11: POLE NANTES METROPOLE SUD | D11: 001L0010 | E11: 1 | F11: 15 | G11: 15 RUE DU DOCTEUR ROUX | I11: 44620 | J11: LA MONTAGNE | K11: Type 3 | L11: APT | M11: C | N11: 0 | O11: 001L_01_15_0010 | R11: =IFERROR(VLOOKUP($D11,extranet!$A$2:$C$9,2,FALSE),"") | S11: =IFERROR(VLOOKUP($D11,extranet!$A$2:$C$9,3,FALSE),"")
A12: 001L | B12: DC ROUX - LA MONTAGNE | C12: POLE NANTES METROPOLE SUD | D12: 001L0011 | E12: 1 | F12: 15 | G12: 15 RUE DU DOCTEUR ROUX | I12: 44620 | J12: LA MONTAGNE | K12: Type 4 | L12: APT | M12: C | N12: 1 | O12: 001L_01_15_0011 | R12: =IFERROR(VLOOKUP($D12,extranet!$A$2:$C$9,2,FALSE),"") -> OUI | S12: =IFERROR(VLOOKUP($D12,extranet!$A$2:$C$9,3,FALSE),"") -> OUI

Sheet extranet
A1: N°DE LOGEMENT | B1: DAAT | C1: DAPP
A2: 001L0002 | B2: OUI | C2: OUI
A3: 001L0003 | B3: OUI | C3: OUI
A4: 001L0004 | B4: OUI | C4: OUI
A5: 001L0006 | B5: OUI | C5: OUI
A6: 001L0008 | B6: OUI | C6: OUI
A7: 001L0011 | B7: OUI | C7: OUI
A8: 001L0012 | B8: OUI | C8: OUI
A9: 001L0016 | B9: OUI | C9: OUI
