Workbook

Sheet pvi
A1: 43979.92 | B1: 221714
A2: 43980.03 | B2: 221714
A3: 43980.096 | B3: 221714
A4: 43979.942 | B4: 221188
A5: 43979.958 | B5: 221188
A6: 43980.007 | B6: 221188
A7: 43980.028 | B7: 221188
A8: 43980.096 | B8: 221188
A9: 43979.947 | B9: 730264
A10: 43979.984 | B10: 730264
A11: 43979.995 | B11: 730264
A12: 43979.998 | B12: 730264
... A14: 43980.094 | B14: 730264

Sheet quit
A1: 43979.922 | B1: 221714
A2: 43979.93 | B2: 221714
A3: 43979.939 | B3: 221714
A4: 43979.944 | B4: 221714
A5: 43979.954 | B5: 221714
A6: 43979.959 | B6: 221714
A7: 43979.997 | B7: 221714
A8: 43980.02 | B8: 221714
A9: 43979.953 | B9: 221188
A10: 43979.955 | B10: 221188
A11: 43979.968 | B11: 221188
A12: 43979.977 | B12: 221188
... A32: 43980.023 | B32: 730264

Sheet pass
A1: 43979.918 | B1: 730264
A2: 43979.919 | B2: 730264
A3: 43979.919 | B3: 730264
A4: 43979.92 | B4: 730264
A5: 43979.92 | B5: 221714
A6: 43979.928 | B6: 730264
A7: 43979.928 | B7: 221714
A8: 43979.931 | B8: 221714
A9: 43979.937 | B9: 730264
A10: 43979.939 | B10: 221714
A11: 43979.94 | B11: 730264
A12: 43979.94 | B12: 730264
... A123: 43980.18 | B123: 221714

Sheet SYNTHESE
B1: mle | C1: Agent | D1: Pass controlés | E1: 1ER | F1: DER | G1: Quittances | H1: PVI
B2: 233627 | C2: ADON | D2: =COUNTIF(pass!B:B,SYNTHESE!B2) -> 0 | E2: {=MIN(IF(B2=pass!B:B,pass!A:A,""))} -> 0 | F2: {=MAX(IF(B2=pass!B:B,pass!A:A,""))} -> 0 | G2: =COUNTIF(quit!B:B,B2) -> 0 | H2: =COUNTIF(pvi!B:B,B2) -> 0
B3: 221188 | C3: ALLAGUI | D3: =COUNTIF(pass!B:B,SYNTHESE!B3) -> 42 | E3: {=MIN(IF(B3=pass!B:B,pass!A:A,""))} -> 43979.952 | F3: {=MAX(IF(B3=pass!B:B,pass!A:A,""))} -> 43980.093 | G3: =COUNTIF(quit!B:B,B3) -> 11 | H3: =COUNTIF(pvi!B:B,B3) -> 5
B4: 238927 | C4: ARSTAND | D4: =COUNTIF(pass!B:B,SYNTHESE!B4) -> 0 | E4: {=MIN(IF(B4=pass!B:B,pass!A:A,""))} -> 0 | F4: {=MAX(IF(B4=pass!B:B,pass!A:A,""))} -> 0 | G4: =COUNTIF(quit!B:B,B4) -> 0 | H4: =COUNTIF(pvi!B:B,B4) -> 0 | M4: 1er contrôle de Pass | O4: =MIN(pass!A:A) -> 43979.918
B5: 200172 | C5: BERBEGAL | D5: =COUNTIF(pass!B:B,SYNTHESE!B5) -> 0 | E5: {=MIN(IF(B5=pass!B:B,pass!A:A,""))} -> 0 | F5: {=MAX(IF(B5=pass!B:B,pass!A:A,""))} -> 0 | G5: =COUNTIF(quit!B:B,B5) -> 0 | H5: =COUNTIF(pvi!B:B,B5) -> 0
B6: 227241 | C6: BERIBECHE | D6: =COUNTIF(pass!B:B,SYNTHESE!B6) -> 0 | E6: {=MIN(IF(B6=pass!B:B,pass!A:A,""))} -> 0 | F6: {=MAX(IF(B6=pass!B:B,pass!A:A,""))} -> 0 | G6: =COUNTIF(quit!B:B,B6) -> 0 | H6: =COUNTIF(pvi!B:B,B6) -> 0 | M6: Dernier contrôle Pass | O6: =MAX(pass!A:A) -> 43980.18
B7: 240002 | C7: BIERNAT | D7: =COUNTIF(pass!B:B,SYNTHESE!B7) -> 0 | E7: {=MIN(IF(B7=pass!B:B,pass!A:A,""))} -> 0 | F7: {=MAX(IF(B7=pass!B:B,pass!A:A,""))} -> 0 | G7: =COUNTIF(quit!B:B,B7) -> 0 | H7: =COUNTIF(pvi!B:B,B7) -> 0
B8: 222148 | C8: BOURDELAS | D8: =COUNTIF(pass!B:B,SYNTHESE!B8) -> 0 | E8: {=MIN(IF(B8=pass!B:B,pass!A:A,""))} -> 0 | F8: {=MAX(IF(B8=pass!B:B,pass!A:A,""))} -> 0 | G8: =COUNTIF(quit!B:B,B8) -> 0 | H8: =COUNTIF(pvi!B:B,B8) -> 0
B9: 234025 | C9: CHAILLOUX | D9: =COUNTIF(pass!B:B,SYNTHESE!B9) -> 0 | E9: {=MIN(IF(B9=pass!B:B,pass!A:A,""))} -> 0 | F9: {=MAX(IF(B9=pass!B:B,pass!A:A,""))} -> 0 | G9: =COUNTIF(quit!B:B,B9) -> 0 | H9: =COUNTIF(pvi!B:B,B9) -> 0
B10: 230023 | C10: EL AOUTMANI | D10: =COUNTIF(pass!B:B,SYNTHESE!B10) -> 0 | E10: {=MIN(IF(B10=pass!B:B,pass!A:A,""))} -> 0 | F10: {=MAX(IF(B10=pass!B:B,pass!A:A,""))} -> 0 | G10: =COUNTIF(quit!B:B,B10) -> 0 | H10: =COUNTIF(pvi!B:B,B10) -> 0
B11: 235759 | C11: FRANCIETTE | D11: =COUNTIF(pass!B:B,SYNTHESE!B11) -> 0 | E11: {=MIN(IF(B11=pass!B:B,pass!A:A,""))} -> 0 | F11: {=MAX(IF(B11=pass!B:B,pass!A:A,""))} -> 0 | G11: =COUNTIF(quit!B:B,B11) -> 0 | H11: =COUNTIF(pvi!B:B,B11) -> 0
B12: 232186 | C12: FRANCIUS | D12: =COUNTIF(pass!B:B,SYNTHESE!B12) -> 0 | E12: {=MIN(IF(B12=pass!B:B,pass!A:A,""))} -> 0 | F12: {=MAX(IF(B12=pass!B:B,pass!A:A,""))} -> 0 | G12: =COUNTIF(quit!B:B,B12) -> 0 | H12: =COUNTIF(pvi!B:B,B12) -> 0
B13: 714849 | C13: FRANCOIS | D13: =COUNTIF(pass!B:B,SYNTHESE!B13) -> 0 | E13: {=MIN(IF(B13=pass!B:B,pass!A:A,""))} -> 0 | F13: {=MAX(IF(B13=pass!B:B,pass!A:A,""))} -> 0 | G13: =COUNTIF(quit!B:B,B13) -> 0 | H13: =COUNTIF(pvi!B:B,B13) -> 0
B14: 221713 | C14: JENVRIN | D14: =COUNTIF(pass!B:B,SYNTHESE!B14) -> 0 | E14: {=MIN(IF(B14=pass!B:B,pass!A:A,""))} -> 0 | F14: {=MAX(IF(B14=pass!B:B,pass!A:A,""))} -> 0 | G14: =COUNTIF(quit!B:B,B14) -> 0 | H14: =COUNTIF(pvi!B:B,B14) -> 0
B15: 713697 | C15: LE FLOUR | D15: =COUNTIF(pass!B:B,SYNTHESE!B15) -> 0 | E15: {=MIN(IF(B15=pass!B:B,pass!A:A,""))} -> 0 | F15: {=MAX(IF(B15=pass!B:B,pass!A:A,""))} -> 0 | G15: =COUNTIF(quit!B:B,B15) -> 0 | H15: =COUNTIF(pvi!B:B,B15) -> 0
B16: 705799 | C16: LODIN | D16: =COUNTIF(pass!B:B,SYNTHESE!B16) -> 0 | E16: {=MIN(IF(B16=pass!B:B,pass!A:A,""))} -> 0 | F16: {=MAX(IF(B16=pass!B:B,pass!A:A,""))} -> 0 | G16: =COUNTIF(quit!B:B,B16) -> 0 | H16: =COUNTIF(pvi!B:B,B16) -> 0
B17: 730819 | C17: MARLIN | D17: =COUNTIF(pass!B:B,SYNTHESE!B17) -> 0 | E17: {=MIN(IF(B17=pass!B:B,pass!A:A,""))} -> 0 | F17: {=MAX(IF(B17=pass!B:B,pass!A:A,""))} -> 0 | G17: =COUNTIF(quit!B:B,B17) -> 0 | H17: =COUNTIF(pvi!B:B,B17) -> 0
B18: 236915 | C18: MAROLANY | D18: =COUNTIF(pass!B:B,SYNTHESE!B18) -> 0 | E18: {=MIN(IF(B18=pass!B:B,pass!A:A,""))} -> 0 | F18: {=MAX(IF(B18=pass!B:B,pass!A:A,""))} -> 0 | G18: =COUNTIF(quit!B:B,B18) -> 0 | H18: =COUNTIF(pvi!B:B,B18) -> 0
... B33: 221535 | C33: THILLIEN | D33: =COUNTIF(pass!B:B,SYNTHESE!B33) -> 0 | E33: {=MIN(IF(B33=pass!B:B,pass!A:A,""))} -> 0 | F33: {=MAX(IF(B33=pass!B:B,pass!A:A,""))} -> 0 | G33: =COUNTIF(quit!B:B,B33) -> 0 | H33: =COUNTIF(pvi!B:B,B33) -> 0
B34: TOTAUX | D34: =SUM(D2:D33) -> 122 | G34: =SUM(G2:G33) -> 32 | H34: =SUM(H2:H33) -> 14
