Workbook

Sheet PLANNING
B4: equipe | C4: 43466 | D4: 43467 | E4: 43468 | F4: 43469 | G4: 43470 | H4: 43471 | I4: 43472 | J4: 43473 | K4: 43474 | L4: 43475 | M4: 43476 | N4: 43477 | O4: 43478 | P4: 43479 | Q4: 43480 | R4: 43481 | S4: 43482 | T4: 43483 | U4: 43484 | V4: 43485 | W4: 43486 | X4: 43487 | Y4: 43488 | Z4: 43489 | AA4: 43490 | AB4: 43491 | AC4: 43492 | AD4: 43493 | AE4: 43494 | AF4: 43495
A5: A | B5: 1 | C5: =IFERROR(INDEX('PLANNING EQUIPE'!$A$4:$AG$10,MATCH(PLANNING!$B5,'PLANNING EQUIPE'!$B$4:$B$10,0),MATCH(PLANNING!C$4,'PLANNING EQUIPE'!$A$4:$AG$4,0)),"") -> j | D5: =IFERROR(INDEX('PLANNING EQUIPE'!$A$4:$AG$10,MATCH(PLANNING!$B5,'PLANNING EQUIPE'!$B$4:$B$10,0),MATCH(PLANNING!D$4,'PLANNING EQUIPE'!$A$4:$AG$4,0)),"") -> 0 | E5: =IFERROR(INDEX('PLANNING EQUIPE'!$A$4:$AG$10,MATCH(PLANNING!$B5,'PLANNING EQUIPE'!$B$4:$B$10,0),MATCH(PLANNING!E$4,'PLANNING EQUIPE'!$A$4:$AG$4,0)),"") -> 0 | F5: =IFERROR(INDEX('PLANNING EQUIPE'!$A$4:$AG$10,MATCH(PLANNING!$B5,'PLANNING EQUIPE'!$B$4:$B$10,0),MATCH(PLANNING!F$4,'PLANNING EQUIPE'!$A$4:$AG$4,0)),"") -> 0 | G5: =IFERROR(INDEX('PLANNING EQUIPE'!$A$4:$AG$10,MATCH(PLANNING!$B5,'PLANNING EQUIPE'!$B$4:$B$10,0),MATCH(PLANNING!G$4,'PLANNING EQUIPE'!$A$4:$AG$4,0)),"") -> 0 | H5: =IFERROR(INDEX('PLANNING EQUIPE'!$A$4:$AG$10,MATCH(PLANNING!$B5,'PLANNING EQUIPE'!$B$4:$B$10,0),MATCH(PLANNING!H$4,'PLANNING EQUIPE'!$A$4:$AG$4,0)),"") -> j | I5: =IFERROR(INDEX('PLANNING EQUIPE'!$A$4:$AG$10,MATCH(PLANNING!$B5,'PLANNING EQUIPE'!$B$4:$B$10,0),MATCH(PLANNING!I$4,'PLANNING EQUIPE'!$A$4:$AG$4,0)),"") -> 0 | J5: =IFERROR(INDEX('PLANNING EQUIPE'!$A$4:$AG$10,MATCH(PLANNING!$B5,'PLANNING EQUIPE'!$B$4:$B$10,0),MATCH(PLANNING!J$4,'PLANNING EQUIPE'!$A$4:$AG$4,0)),"") -> 0 | ... AG5: =IFERROR(INDEX('PLANNING EQUIPE'!$A$4:$AG$10,MATCH(PLANNING!$B5,'PLANNING EQUIPE'!$B$4:$B$10,0),MATCH(PLANNING!AG$4,'PLANNING EQUIPE'!$A$4:$AG$4,0)),"")
A6: B | B6: 2 | C6: =IFERROR(INDEX('PLANNING EQUIPE'!$A$4:$AG$10,MATCH(PLANNING!$B6,'PLANNING EQUIPE'!$B$4:$B$10,0),MATCH(PLANNING!C$4,'PLANNING EQUIPE'!$A$4:$AG$4,0)),"") -> n | D6: =IFERROR(INDEX('PLANNING EQUIPE'!$A$4:$AG$10,MATCH(PLANNING!$B6,'PLANNING EQUIPE'!$B$4:$B$10,0),MATCH(PLANNING!D$4,'PLANNING EQUIPE'!$A$4:$AG$4,0)),"") -> 0 | E6: =IFERROR(INDEX('PLANNING EQUIPE'!$A$4:$AG$10,MATCH(PLANNING!$B6,'PLANNING EQUIPE'!$B$4:$B$10,0),MATCH(PLANNING!E$4,'PLANNING EQUIPE'!$A$4:$AG$4,0)),"") -> 0 | F6: =IFERROR(INDEX('PLANNING EQUIPE'!$A$4:$AG$10,MATCH(PLANNING!$B6,'PLANNING EQUIPE'!$B$4:$B$10,0),MATCH(PLANNING!F$4,'PLANNING EQUIPE'!$A$4:$AG$4,0)),"") -> 0 | G6: =IFERROR(INDEX('PLANNING EQUIPE'!$A$4:$AG$10,MATCH(PLANNING!$B6,'PLANNING EQUIPE'!$B$4:$B$10,0),MATCH(PLANNING!G$4,'PLANNING EQUIPE'!$A$4:$AG$4,0)),"") -> 0 | H6: =IFERROR(INDEX('PLANNING EQUIPE'!$A$4:$AG$10,MATCH(PLANNING!$B6,'PLANNING EQUIPE'!$B$4:$B$10,0),MATCH(PLANNING!H$4,'PLANNING EQUIPE'!$A$4:$AG$4,0)),"") -> n | I6: =IFERROR(INDEX('PLANNING EQUIPE'!$A$4:$AG$10,MATCH(PLANNING!$B6,'PLANNING EQUIPE'!$B$4:$B$10,0),MATCH(PLANNING!I$4,'PLANNING EQUIPE'!$A$4:$AG$4,0)),"") -> 0 | J6: =IFERROR(INDEX('PLANNING EQUIPE'!$A$4:$AG$10,MATCH(PLANNING!$B6,'PLANNING EQUIPE'!$B$4:$B$10,0),MATCH(PLANNING!J$4,'PLANNING EQUIPE'!$A$4:$AG$4,0)),"") -> 0 | ... AG6: =IFERROR(INDEX('PLANNING EQUIPE'!$A$4:$AG$10,MATCH(PLANNING!$B6,'PLANNING EQUIPE'!$B$4:$B$10,0),MATCH(PLANNING!AG$4,'PLANNING EQUIPE'!$A$4:$AG$4,0)),"")
A7: C | B7: 3 | C7: =IFERROR(INDEX('PLANNING EQUIPE'!$A$4:$AG$10,MATCH(PLANNING!$B7,'PLANNING EQUIPE'!$B$4:$B$10,0),MATCH(PLANNING!C$4,'PLANNING EQUIPE'!$A$4:$AG$4,0)),"") -> 0 | D7: =IFERROR(INDEX('PLANNING EQUIPE'!$A$4:$AG$10,MATCH(PLANNING!$B7,'PLANNING EQUIPE'!$B$4:$B$10,0),MATCH(PLANNING!D$4,'PLANNING EQUIPE'!$A$4:$AG$4,0)),"") -> j | E7: =IFERROR(INDEX('PLANNING EQUIPE'!$A$4:$AG$10,MATCH(PLANNING!$B7,'PLANNING EQUIPE'!$B$4:$B$10,0),MATCH(PLANNING!E$4,'PLANNING EQUIPE'!$A$4:$AG$4,0)),"") -> j | F7: =IFERROR(INDEX('PLANNING EQUIPE'!$A$4:$AG$10,MATCH(PLANNING!$B7,'PLANNING EQUIPE'!$B$4:$B$10,0),MATCH(PLANNING!F$4,'PLANNING EQUIPE'!$A$4:$AG$4,0)),"") -> 0 | G7: =IFERROR(INDEX('PLANNING EQUIPE'!$A$4:$AG$10,MATCH(PLANNING!$B7,'PLANNING EQUIPE'!$B$4:$B$10,0),MATCH(PLANNING!G$4,'PLANNING EQUIPE'!$A$4:$AG$4,0)),"") -> 0 | H7: =IFERROR(INDEX('PLANNING EQUIPE'!$A$4:$AG$10,MATCH(PLANNING!$B7,'PLANNING EQUIPE'!$B$4:$B$10,0),MATCH(PLANNING!H$4,'PLANNING EQUIPE'!$A$4:$AG$4,0)),"") -> 0 | I7: =IFERROR(INDEX('PLANNING EQUIPE'!$A$4:$AG$10,MATCH(PLANNING!$B7,'PLANNING EQUIPE'!$B$4:$B$10,0),MATCH(PLANNING!I$4,'PLANNING EQUIPE'!$A$4:$AG$4,0)),"") -> j | J7: =IFERROR(INDEX('PLANNING EQUIPE'!$A$4:$AG$10,MATCH(PLANNING!$B7,'PLANNING EQUIPE'!$B$4:$B$10,0),MATCH(PLANNING!J$4,'PLANNING EQUIPE'!$A$4:$AG$4,0)),"") -> j | ... AG7: =IFERROR(INDEX('PLANNING EQUIPE'!$A$4:$AG$10,MATCH(PLANNING!$B7,'PLANNING EQUIPE'!$B$4:$B$10,0),MATCH(PLANNING!AG$4,'PLANNING EQUIPE'!$A$4:$AG$4,0)),"")
A8: D | B8: 4 | C8: =IFERROR(INDEX('PLANNING EQUIPE'!$A$4:$AG$10,MATCH(PLANNING!$B8,'PLANNING EQUIPE'!$B$4:$B$10,0),MATCH(PLANNING!C$4,'PLANNING EQUIPE'!$A$4:$AG$4,0)),"") -> 0 | D8: =IFERROR(INDEX('PLANNING EQUIPE'!$A$4:$AG$10,MATCH(PLANNING!$B8,'PLANNING EQUIPE'!$B$4:$B$10,0),MATCH(PLANNING!D$4,'PLANNING EQUIPE'!$A$4:$AG$4,0)),"") -> n | E8: =IFERROR(INDEX('PLANNING EQUIPE'!$A$4:$AG$10,MATCH(PLANNING!$B8,'PLANNING EQUIPE'!$B$4:$B$10,0),MATCH(PLANNING!E$4,'PLANNING EQUIPE'!$A$4:$AG$4,0)),"") -> n | F8: =IFERROR(INDEX('PLANNING EQUIPE'!$A$4:$AG$10,MATCH(PLANNING!$B8,'PLANNING EQUIPE'!$B$4:$B$10,0),MATCH(PLANNING!F$4,'PLANNING EQUIPE'!$A$4:$AG$4,0)),"") -> 0 | G8: =IFERROR(INDEX('PLANNING EQUIPE'!$A$4:$AG$10,MATCH(PLANNING!$B8,'PLANNING EQUIPE'!$B$4:$B$10,0),MATCH(PLANNING!G$4,'PLANNING EQUIPE'!$A$4:$AG$4,0)),"") -> 0 | H8: =IFERROR(INDEX('PLANNING EQUIPE'!$A$4:$AG$10,MATCH(PLANNING!$B8,'PLANNING EQUIPE'!$B$4:$B$10,0),MATCH(PLANNING!H$4,'PLANNING EQUIPE'!$A$4:$AG$4,0)),"") -> 0 | I8: =IFERROR(INDEX('PLANNING EQUIPE'!$A$4:$AG$10,MATCH(PLANNING!$B8,'PLANNING EQUIPE'!$B$4:$B$10,0),MATCH(PLANNING!I$4,'PLANNING EQUIPE'!$A$4:$AG$4,0)),"") -> n | J8: =IFERROR(INDEX('PLANNING EQUIPE'!$A$4:$AG$10,MATCH(PLANNING!$B8,'PLANNING EQUIPE'!$B$4:$B$10,0),MATCH(PLANNING!J$4,'PLANNING EQUIPE'!$A$4:$AG$4,0)),"") -> n | ... AG8: =IFERROR(INDEX('PLANNING EQUIPE'!$A$4:$AG$10,MATCH(PLANNING!$B8,'PLANNING EQUIPE'!$B$4:$B$10,0),MATCH(PLANNING!AG$4,'PLANNING EQUIPE'!$A$4:$AG$4,0)),"")
A9: E | B9: 5 | C9: =IFERROR(INDEX('PLANNING EQUIPE'!$A$4:$AG$10,MATCH(PLANNING!$B9,'PLANNING EQUIPE'!$B$4:$B$10,0),MATCH(PLANNING!C$4,'PLANNING EQUIPE'!$A$4:$AG$4,0)),"") -> 0 | D9: =IFERROR(INDEX('PLANNING EQUIPE'!$A$4:$AG$10,MATCH(PLANNING!$B9,'PLANNING EQUIPE'!$B$4:$B$10,0),MATCH(PLANNING!D$4,'PLANNING EQUIPE'!$A$4:$AG$4,0)),"") -> 0 | E9: =IFERROR(INDEX('PLANNING EQUIPE'!$A$4:$AG$10,MATCH(PLANNING!$B9,'PLANNING EQUIPE'!$B$4:$B$10,0),MATCH(PLANNING!E$4,'PLANNING EQUIPE'!$A$4:$AG$4,0)),"") -> 0 | F9: =IFERROR(INDEX('PLANNING EQUIPE'!$A$4:$AG$10,MATCH(PLANNING!$B9,'PLANNING EQUIPE'!$B$4:$B$10,0),MATCH(PLANNING!F$4,'PLANNING EQUIPE'!$A$4:$AG$4,0)),"") -> j | G9: =IFERROR(INDEX('PLANNING EQUIPE'!$A$4:$AG$10,MATCH(PLANNING!$B9,'PLANNING EQUIPE'!$B$4:$B$10,0),MATCH(PLANNING!G$4,'PLANNING EQUIPE'!$A$4:$AG$4,0)),"") -> j | H9: =IFERROR(INDEX('PLANNING EQUIPE'!$A$4:$AG$10,MATCH(PLANNING!$B9,'PLANNING EQUIPE'!$B$4:$B$10,0),MATCH(PLANNING!H$4,'PLANNING EQUIPE'!$A$4:$AG$4,0)),"") -> 0 | I9: =IFERROR(INDEX('PLANNING EQUIPE'!$A$4:$AG$10,MATCH(PLANNING!$B9,'PLANNING EQUIPE'!$B$4:$B$10,0),MATCH(PLANNING!I$4,'PLANNING EQUIPE'!$A$4:$AG$4,0)),"") -> 0 | J9: =IFERROR(INDEX('PLANNING EQUIPE'!$A$4:$AG$10,MATCH(PLANNING!$B9,'PLANNING EQUIPE'!$B$4:$B$10,0),MATCH(PLANNING!J$4,'PLANNING EQUIPE'!$A$4:$AG$4,0)),"") -> 0 | ... AG9: =IFERROR(INDEX('PLANNING EQUIPE'!$A$4:$AG$10,MATCH(PLANNING!$B9,'PLANNING EQUIPE'!$B$4:$B$10,0),MATCH(PLANNING!AG$4,'PLANNING EQUIPE'!$A$4:$AG$4,0)),"")
A10: F | B10: 6 | C10: =IFERROR(INDEX('PLANNING EQUIPE'!$A$4:$AG$10,MATCH(PLANNING!$B10,'PLANNING EQUIPE'!$B$4:$B$10,0),MATCH(PLANNING!C$4,'PLANNING EQUIPE'!$A$4:$AG$4,0)),"") -> 0 | D10: =IFERROR(INDEX('PLANNING EQUIPE'!$A$4:$AG$10,MATCH(PLANNING!$B10,'PLANNING EQUIPE'!$B$4:$B$10,0),MATCH(PLANNING!D$4,'PLANNING EQUIPE'!$A$4:$AG$4,0)),"") -> 0 | E10: =IFERROR(INDEX('PLANNING EQUIPE'!$A$4:$AG$10,MATCH(PLANNING!$B10,'PLANNING EQUIPE'!$B$4:$B$10,0),MATCH(PLANNING!E$4,'PLANNING EQUIPE'!$A$4:$AG$4,0)),"") -> 0 | F10: =IFERROR(INDEX('PLANNING EQUIPE'!$A$4:$AG$10,MATCH(PLANNING!$B10,'PLANNING EQUIPE'!$B$4:$B$10,0),MATCH(PLANNING!F$4,'PLANNING EQUIPE'!$A$4:$AG$4,0)),"") -> n | G10: =IFERROR(INDEX('PLANNING EQUIPE'!$A$4:$AG$10,MATCH(PLANNING!$B10,'PLANNING EQUIPE'!$B$4:$B$10,0),MATCH(PLANNING!G$4,'PLANNING EQUIPE'!$A$4:$AG$4,0)),"") -> n | H10: =IFERROR(INDEX('PLANNING EQUIPE'!$A$4:$AG$10,MATCH(PLANNING!$B10,'PLANNING EQUIPE'!$B$4:$B$10,0),MATCH(PLANNING!H$4,'PLANNING EQUIPE'!$A$4:$AG$4,0)),"") -> 0 | I10: =IFERROR(INDEX('PLANNING EQUIPE'!$A$4:$AG$10,MATCH(PLANNING!$B10,'PLANNING EQUIPE'!$B$4:$B$10,0),MATCH(PLANNING!I$4,'PLANNING EQUIPE'!$A$4:$AG$4,0)),"") -> 0 | J10: =IFERROR(INDEX('PLANNING EQUIPE'!$A$4:$AG$10,MATCH(PLANNING!$B10,'PLANNING EQUIPE'!$B$4:$B$10,0),MATCH(PLANNING!J$4,'PLANNING EQUIPE'!$A$4:$AG$4,0)),"") -> 0 | ... AG10: =IFERROR(INDEX('PLANNING EQUIPE'!$A$4:$AG$10,MATCH(PLANNING!$B10,'PLANNING EQUIPE'!$B$4:$B$10,0),MATCH(PLANNING!AG$4,'PLANNING EQUIPE'!$A$4:$AG$4,0)),"")
A11: J | B11: 1 | C11: =IFERROR(INDEX('PLANNING EQUIPE'!$A$4:$AG$10,MATCH(PLANNING!$B11,'PLANNING EQUIPE'!$B$4:$B$10,0),MATCH(PLANNING!C$4,'PLANNING EQUIPE'!$A$4:$AG$4,0)),"") -> j | D11: =IFERROR(INDEX('PLANNING EQUIPE'!$A$4:$AG$10,MATCH(PLANNING!$B11,'PLANNING EQUIPE'!$B$4:$B$10,0),MATCH(PLANNING!D$4,'PLANNING EQUIPE'!$A$4:$AG$4,0)),"") -> 0 | E11: =IFERROR(INDEX('PLANNING EQUIPE'!$A$4:$AG$10,MATCH(PLANNING!$B11,'PLANNING EQUIPE'!$B$4:$B$10,0),MATCH(PLANNING!E$4,'PLANNING EQUIPE'!$A$4:$AG$4,0)),"") -> 0 | F11: =IFERROR(INDEX('PLANNING EQUIPE'!$A$4:$AG$10,MATCH(PLANNING!$B11,'PLANNING EQUIPE'!$B$4:$B$10,0),MATCH(PLANNING!F$4,'PLANNING EQUIPE'!$A$4:$AG$4,0)),"") -> 0 | G11: =IFERROR(INDEX('PLANNING EQUIPE'!$A$4:$AG$10,MATCH(PLANNING!$B11,'PLANNING EQUIPE'!$B$4:$B$10,0),MATCH(PLANNING!G$4,'PLANNING EQUIPE'!$A$4:$AG$4,0)),"") -> 0 | H11: =IFERROR(INDEX('PLANNING EQUIPE'!$A$4:$AG$10,MATCH(PLANNING!$B11,'PLANNING EQUIPE'!$B$4:$B$10,0),MATCH(PLANNING!H$4,'PLANNING EQUIPE'!$A$4:$AG$4,0)),"") -> j | I11: =IFERROR(INDEX('PLANNING EQUIPE'!$A$4:$AG$10,MATCH(PLANNING!$B11,'PLANNING EQUIPE'!$B$4:$B$10,0),MATCH(PLANNING!I$4,'PLANNING EQUIPE'!$A$4:$AG$4,0)),"") -> 0 | J11: =IFERROR(INDEX('PLANNING EQUIPE'!$A$4:$AG$10,MATCH(PLANNING!$B11,'PLANNING EQUIPE'!$B$4:$B$10,0),MATCH(PLANNING!J$4,'PLANNING EQUIPE'!$A$4:$AG$4,0)),"") -> 0 | ... AG11: =IFERROR(INDEX('PLANNING EQUIPE'!$A$4:$AG$10,MATCH(PLANNING!$B11,'PLANNING EQUIPE'!$B$4:$B$10,0),MATCH(PLANNING!AG$4,'PLANNING EQUIPE'!$A$4:$AG$4,0)),"")
A12: K | B12: 2 | C12: =IFERROR(INDEX('PLANNING EQUIPE'!$A$4:$AG$10,MATCH(PLANNING!$B12,'PLANNING EQUIPE'!$B$4:$B$10,0),MATCH(PLANNING!C$4,'PLANNING EQUIPE'!$A$4:$AG$4,0)),"") -> n | D12: =IFERROR(INDEX('PLANNING EQUIPE'!$A$4:$AG$10,MATCH(PLANNING!$B12,'PLANNING EQUIPE'!$B$4:$B$10,0),MATCH(PLANNING!D$4,'PLANNING EQUIPE'!$A$4:$AG$4,0)),"") -> 0 | E12: =IFERROR(INDEX('PLANNING EQUIPE'!$A$4:$AG$10,MATCH(PLANNING!$B12,'PLANNING EQUIPE'!$B$4:$B$10,0),MATCH(PLANNING!E$4,'PLANNING EQUIPE'!$A$4:$AG$4,0)),"") -> 0 | F12: =IFERROR(INDEX('PLANNING EQUIPE'!$A$4:$AG$10,MATCH(PLANNING!$B12,'PLANNING EQUIPE'!$B$4:$B$10,0),MATCH(PLANNING!F$4,'PLANNING EQUIPE'!$A$4:$AG$4,0)),"") -> 0 | G12: =IFERROR(INDEX('PLANNING EQUIPE'!$A$4:$AG$10,MATCH(PLANNING!$B12,'PLANNING EQUIPE'!$B$4:$B$10,0),MATCH(PLANNING!G$4,'PLANNING EQUIPE'!$A$4:$AG$4,0)),"") -> 0 | H12: =IFERROR(INDEX('PLANNING EQUIPE'!$A$4:$AG$10,MATCH(PLANNING!$B12,'PLANNING EQUIPE'!$B$4:$B$10,0),MATCH(PLANNING!H$4,'PLANNING EQUIPE'!$A$4:$AG$4,0)),"") -> n | I12: =IFERROR(INDEX('PLANNING EQUIPE'!$A$4:$AG$10,MATCH(PLANNING!$B12,'PLANNING EQUIPE'!$B$4:$B$10,0),MATCH(PLANNING!I$4,'PLANNING EQUIPE'!$A$4:$AG$4,0)),"") -> 0 | J12: =IFERROR(INDEX('PLANNING EQUIPE'!$A$4:$AG$10,MATCH(PLANNING!$B12,'PLANNING EQUIPE'!$B$4:$B$10,0),MATCH(PLANNING!J$4,'PLANNING EQUIPE'!$A$4:$AG$4,0)),"") -> 0 | ... AG12: =IFERROR(INDEX('PLANNING EQUIPE'!$A$4:$AG$10,MATCH(PLANNING!$B12,'PLANNING EQUIPE'!$B$4:$B$10,0),MATCH(PLANNING!AG$4,'PLANNING EQUIPE'!$A$4:$AG$4,0)),"")
A13: L | B13: 3 | C13: =IFERROR(INDEX('PLANNING EQUIPE'!$A$4:$AG$10,MATCH(PLANNING!$B13,'PLANNING EQUIPE'!$B$4:$B$10,0),MATCH(PLANNING!C$4,'PLANNING EQUIPE'!$A$4:$AG$4,0)),"") -> 0 | D13: =IFERROR(INDEX('PLANNING EQUIPE'!$A$4:$AG$10,MATCH(PLANNING!$B13,'PLANNING EQUIPE'!$B$4:$B$10,0),MATCH(PLANNING!D$4,'PLANNING EQUIPE'!$A$4:$AG$4,0)),"") -> j | E13: =IFERROR(INDEX('PLANNING EQUIPE'!$A$4:$AG$10,MATCH(PLANNING!$B13,'PLANNING EQUIPE'!$B$4:$B$10,0),MATCH(PLANNING!E$4,'PLANNING EQUIPE'!$A$4:$AG$4,0)),"") -> j | F13: =IFERROR(INDEX('PLANNING EQUIPE'!$A$4:$AG$10,MATCH(PLANNING!$B13,'PLANNING EQUIPE'!$B$4:$B$10,0),MATCH(PLANNING!F$4,'PLANNING EQUIPE'!$A$4:$AG$4,0)),"") -> 0 | G13: =IFERROR(INDEX('PLANNING EQUIPE'!$A$4:$AG$10,MATCH(PLANNING!$B13,'PLANNING EQUIPE'!$B$4:$B$10,0),MATCH(PLANNING!G$4,'PLANNING EQUIPE'!$A$4:$AG$4,0)),"") -> 0 | H13: =IFERROR(INDEX('PLANNING EQUIPE'!$A$4:$AG$10,MATCH(PLANNING!$B13,'PLANNING EQUIPE'!$B$4:$B$10,0),MATCH(PLANNING!H$4,'PLANNING EQUIPE'!$A$4:$AG$4,0)),"") -> 0 | I13: =IFERROR(INDEX('PLANNING EQUIPE'!$A$4:$AG$10,MATCH(PLANNING!$B13,'PLANNING EQUIPE'!$B$4:$B$10,0),MATCH(PLANNING!I$4,'PLANNING EQUIPE'!$A$4:$AG$4,0)),"") -> j | J13: =IFERROR(INDEX('PLANNING EQUIPE'!$A$4:$AG$10,MATCH(PLANNING!$B13,'PLANNING EQUIPE'!$B$4:$B$10,0),MATCH(PLANNING!J$4,'PLANNING EQUIPE'!$A$4:$AG$4,0)),"") -> j | ... AG13: =IFERROR(INDEX('PLANNING EQUIPE'!$A$4:$AG$10,MATCH(PLANNING!$B13,'PLANNING EQUIPE'!$B$4:$B$10,0),MATCH(PLANNING!AG$4,'PLANNING EQUIPE'!$A$4:$AG$4,0)),"")
A14: M | B14: 4 | C14: =IFERROR(INDEX('PLANNING EQUIPE'!$A$4:$AG$10,MATCH(PLANNING!$B14,'PLANNING EQUIPE'!$B$4:$B$10,0),MATCH(PLANNING!C$4,'PLANNING EQUIPE'!$A$4:$AG$4,0)),"") -> 0 | D14: =IFERROR(INDEX('PLANNING EQUIPE'!$A$4:$AG$10,MATCH(PLANNING!$B14,'PLANNING EQUIPE'!$B$4:$B$10,0),MATCH(PLANNING!D$4,'PLANNING EQUIPE'!$A$4:$AG$4,0)),"") -> n | E14: =IFERROR(INDEX('PLANNING EQUIPE'!$A$4:$AG$10,MATCH(PLANNING!$B14,'PLANNING EQUIPE'!$B$4:$B$10,0),MATCH(PLANNING!E$4,'PLANNING EQUIPE'!$A$4:$AG$4,0)),"") -> n | F14: =IFERROR(INDEX('PLANNING EQUIPE'!$A$4:$AG$10,MATCH(PLANNING!$B14,'PLANNING EQUIPE'!$B$4:$B$10,0),MATCH(PLANNING!F$4,'PLANNING EQUIPE'!$A$4:$AG$4,0)),"") -> 0 | G14: =IFERROR(INDEX('PLANNING EQUIPE'!$A$4:$AG$10,MATCH(PLANNING!$B14,'PLANNING EQUIPE'!$B$4:$B$10,0),MATCH(PLANNING!G$4,'PLANNING EQUIPE'!$A$4:$AG$4,0)),"") -> 0 | H14: =IFERROR(INDEX('PLANNING EQUIPE'!$A$4:$AG$10,MATCH(PLANNING!$B14,'PLANNING EQUIPE'!$B$4:$B$10,0),MATCH(PLANNING!H$4,'PLANNING EQUIPE'!$A$4:$AG$4,0)),"") -> 0 | I14: =IFERROR(INDEX('PLANNING EQUIPE'!$A$4:$AG$10,MATCH(PLANNING!$B14,'PLANNING EQUIPE'!$B$4:$B$10,0),MATCH(PLANNING!I$4,'PLANNING EQUIPE'!$A$4:$AG$4,0)),"") -> n | J14: =IFERROR(INDEX('PLANNING EQUIPE'!$A$4:$AG$10,MATCH(PLANNING!$B14,'PLANNING EQUIPE'!$B$4:$B$10,0),MATCH(PLANNING!J$4,'PLANNING EQUIPE'!$A$4:$AG$4,0)),"") -> n | ... AG14: =IFERROR(INDEX('PLANNING EQUIPE'!$A$4:$AG$10,MATCH(PLANNING!$B14,'PLANNING EQUIPE'!$B$4:$B$10,0),MATCH(PLANNING!AG$4,'PLANNING EQUIPE'!$A$4:$AG$4,0)),"")
A15: N | B15: 5 | C15: =IFERROR(INDEX('PLANNING EQUIPE'!$A$4:$AG$10,MATCH(PLANNING!$B15,'PLANNING EQUIPE'!$B$4:$B$10,0),MATCH(PLANNING!C$4,'PLANNING EQUIPE'!$A$4:$AG$4,0)),"") -> 0 | D15: =IFERROR(INDEX('PLANNING EQUIPE'!$A$4:$AG$10,MATCH(PLANNING!$B15,'PLANNING EQUIPE'!$B$4:$B$10,0),MATCH(PLANNING!D$4,'PLANNING EQUIPE'!$A$4:$AG$4,0)),"") -> 0 | E15: =IFERROR(INDEX('PLANNING EQUIPE'!$A$4:$AG$10,MATCH(PLANNING!$B15,'PLANNING EQUIPE'!$B$4:$B$10,0),MATCH(PLANNING!E$4,'PLANNING EQUIPE'!$A$4:$AG$4,0)),"") -> 0 | F15: =IFERROR(INDEX('PLANNING EQUIPE'!$A$4:$AG$10,MATCH(PLANNING!$B15,'PLANNING EQUIPE'!$B$4:$B$10,0),MATCH(PLANNING!F$4,'PLANNING EQUIPE'!$A$4:$AG$4,0)),"") -> j | G15: =IFERROR(INDEX('PLANNING EQUIPE'!$A$4:$AG$10,MATCH(PLANNING!$B15,'PLANNING EQUIPE'!$B$4:$B$10,0),MATCH(PLANNING!G$4,'PLANNING EQUIPE'!$A$4:$AG$4,0)),"") -> j | H15: =IFERROR(INDEX('PLANNING EQUIPE'!$A$4:$AG$10,MATCH(PLANNING!$B15,'PLANNING EQUIPE'!$B$4:$B$10,0),MATCH(PLANNING!H$4,'PLANNING EQUIPE'!$A$4:$AG$4,0)),"") -> 0 | I15: =IFERROR(INDEX('PLANNING EQUIPE'!$A$4:$AG$10,MATCH(PLANNING!$B15,'PLANNING EQUIPE'!$B$4:$B$10,0),MATCH(PLANNING!I$4,'PLANNING EQUIPE'!$A$4:$AG$4,0)),"") -> 0 | J15: =IFERROR(INDEX('PLANNING EQUIPE'!$A$4:$AG$10,MATCH(PLANNING!$B15,'PLANNING EQUIPE'!$B$4:$B$10,0),MATCH(PLANNING!J$4,'PLANNING EQUIPE'!$A$4:$AG$4,0)),"") -> 0 | ... AG15: =IFERROR(INDEX('PLANNING EQUIPE'!$A$4:$AG$10,MATCH(PLANNING!$B15,'PLANNING EQUIPE'!$B$4:$B$10,0),MATCH(PLANNING!AG$4,'PLANNING EQUIPE'!$A$4:$AG$4,0)),"")
A16: O | B16: 6 | C16: =IFERROR(INDEX('PLANNING EQUIPE'!$A$4:$AG$10,MATCH(PLANNING!$B16,'PLANNING EQUIPE'!$B$4:$B$10,0),MATCH(PLANNING!C$4,'PLANNING EQUIPE'!$A$4:$AG$4,0)),"") -> 0 | D16: =IFERROR(INDEX('PLANNING EQUIPE'!$A$4:$AG$10,MATCH(PLANNING!$B16,'PLANNING EQUIPE'!$B$4:$B$10,0),MATCH(PLANNING!D$4,'PLANNING EQUIPE'!$A$4:$AG$4,0)),"") -> 0 | E16: =IFERROR(INDEX('PLANNING EQUIPE'!$A$4:$AG$10,MATCH(PLANNING!$B16,'PLANNING EQUIPE'!$B$4:$B$10,0),MATCH(PLANNING!E$4,'PLANNING EQUIPE'!$A$4:$AG$4,0)),"") -> 0 | F16: =IFERROR(INDEX('PLANNING EQUIPE'!$A$4:$AG$10,MATCH(PLANNING!$B16,'PLANNING EQUIPE'!$B$4:$B$10,0),MATCH(PLANNING!F$4,'PLANNING EQUIPE'!$A$4:$AG$4,0)),"") -> n | G16: =IFERROR(INDEX('PLANNING EQUIPE'!$A$4:$AG$10,MATCH(PLANNING!$B16,'PLANNING EQUIPE'!$B$4:$B$10,0),MATCH(PLANNING!G$4,'PLANNING EQUIPE'!$A$4:$AG$4,0)),"") -> n | H16: =IFERROR(INDEX('PLANNING EQUIPE'!$A$4:$AG$10,MATCH(PLANNING!$B16,'PLANNING EQUIPE'!$B$4:$B$10,0),MATCH(PLANNING!H$4,'PLANNING EQUIPE'!$A$4:$AG$4,0)),"") -> 0 | I16: =IFERROR(INDEX('PLANNING EQUIPE'!$A$4:$AG$10,MATCH(PLANNING!$B16,'PLANNING EQUIPE'!$B$4:$B$10,0),MATCH(PLANNING!I$4,'PLANNING EQUIPE'!$A$4:$AG$4,0)),"") -> 0 | J16: =IFERROR(INDEX('PLANNING EQUIPE'!$A$4:$AG$10,MATCH(PLANNING!$B16,'PLANNING EQUIPE'!$B$4:$B$10,0),MATCH(PLANNING!J$4,'PLANNING EQUIPE'!$A$4:$AG$4,0)),"") -> 0 | ... AG16: =IFERROR(INDEX('PLANNING EQUIPE'!$A$4:$AG$10,MATCH(PLANNING!$B16,'PLANNING EQUIPE'!$B$4:$B$10,0),MATCH(PLANNING!AG$4,'PLANNING EQUIPE'!$A$4:$AG$4,0)),"")
... A22: U | B22: 6 | C22: =IFERROR(INDEX('PLANNING EQUIPE'!$A$4:$AG$10,MATCH(PLANNING!$B22,'PLANNING EQUIPE'!$B$4:$B$10,0),MATCH(PLANNING!C$4,'PLANNING EQUIPE'!$A$4:$AG$4,0)),"") -> 0 | D22: =IFERROR(INDEX('PLANNING EQUIPE'!$A$4:$AG$10,MATCH(PLANNING!$B22,'PLANNING EQUIPE'!$B$4:$B$10,0),MATCH(PLANNING!D$4,'PLANNING EQUIPE'!$A$4:$AG$4,0)),"") -> 0 | E22: =IFERROR(INDEX('PLANNING EQUIPE'!$A$4:$AG$10,MATCH(PLANNING!$B22,'PLANNING EQUIPE'!$B$4:$B$10,0),MATCH(PLANNING!E$4,'PLANNING EQUIPE'!$A$4:$AG$4,0)),"") -> 0 | F22: =IFERROR(INDEX('PLANNING EQUIPE'!$A$4:$AG$10,MATCH(PLANNING!$B22,'PLANNING EQUIPE'!$B$4:$B$10,0),MATCH(PLANNING!F$4,'PLANNING EQUIPE'!$A$4:$AG$4,0)),"") -> n | G22: =IFERROR(INDEX('PLANNING EQUIPE'!$A$4:$AG$10,MATCH(PLANNING!$B22,'PLANNING EQUIPE'!$B$4:$B$10,0),MATCH(PLANNING!G$4,'PLANNING EQUIPE'!$A$4:$AG$4,0)),"") -> n | H22: =IFERROR(INDEX('PLANNING EQUIPE'!$A$4:$AG$10,MATCH(PLANNING!$B22,'PLANNING EQUIPE'!$B$4:$B$10,0),MATCH(PLANNING!H$4,'PLANNING EQUIPE'!$A$4:$AG$4,0)),"") -> 0 | I22: =IFERROR(INDEX('PLANNING EQUIPE'!$A$4:$AG$10,MATCH(PLANNING!$B22,'PLANNING EQUIPE'!$B$4:$B$10,0),MATCH(PLANNING!I$4,'PLANNING EQUIPE'!$A$4:$AG$4,0)),"") -> 0 | J22: =IFERROR(INDEX('PLANNING EQUIPE'!$A$4:$AG$10,MATCH(PLANNING!$B22,'PLANNING EQUIPE'!$B$4:$B$10,0),MATCH(PLANNING!J$4,'PLANNING EQUIPE'!$A$4:$AG$4,0)),"") -> 0 | ... AG22: =IFERROR(INDEX('PLANNING EQUIPE'!$A$4:$AG$10,MATCH(PLANNING!$B22,'PLANNING EQUIPE'!$B$4:$B$10,0),MATCH(PLANNING!AG$4,'PLANNING EQUIPE'!$A$4:$AG$4,0)),"")

Sheet PLANNING EQUIPE
A4: equipe | C4: 43466 | D4: 43467 | E4: 43468 | F4: 43469 | G4: 43470 | H4: 43471 | I4: 43472 | J4: 43473 | K4: 43474 | L4: 43475 | M4: 43476 | N4: 43477 | O4: 43478 | P4: 43479 | Q4: 43480 | R4: 43481 | S4: 43482 | T4: 43483 | U4: 43484 | V4: 43485 | W4: 43486 | X4: 43487 | Y4: 43488 | Z4: 43489 | AA4: 43490 | AB4: 43491 | AC4: 43492 | AD4: 43493 | AE4: 43494 | AF4: 43495
A5: EQUIPE | B5: 1 | C5: j | H5: j | M5: j | R5: j | W5: j | AB5: j
A6: EQUIPE | B6: 2 | C6: n | H6: n | M6: n | R6: n | W6: n | AB6: n
A7: EQUIPE | B7: 3 | D7: j | E7: j | I7: j | J7: j | N7: j | O7: j | S7: j | T7: j | X7: j | Y7: j | AC7: j | AD7: j
A8: EQUIPE | B8: 4 | D8: n | E8: n | I8: n | J8: n | N8: n | O8: n | S8: n | T8: n | X8: n | Y8: n | AC8: n | AD8: n
A9: EQUIPE | B9: 5 | F9: j | G9: j | K9: j | L9: j | P9: j | Q9: j | U9: j | V9: j | Z9: j | AA9: j | AE9: j | AF9: j
A10: EQUIPE | B10: 6 | F10: n | G10: n | K10: n | L10: n | P10: n | Q10: n | U10: n | V10: n | Z10: n | AA10: n | AE10: n | AF10: n
