Workbook

Sheet TABLEAU
D5: 43101 | E5: 43132 | F5: 43160 | G5: 43191 | H5: 43221 | I5: 43252 | J5: 43282 | K5: 43313 | L5: 43344 | M5: 43374 | N5: 43405 | O5: 43435
A6: FR | B6: ABC | D6: =IF($B6<>"",SUMPRODUCT((DATA!$A$2:$A$13=TABLEAU!D$5)*(DATA!$B$2:$B$13=TABLEAU!$A6)*(DATA!$C$2:$C$13=TABLEAU!$B6)*(DATA!$E$2:$E$13)),SUMPRODUCT((DATA!$A$2:$A$13=TABLEAU!D$5)*(DATA!$B$2:$B$13=TABLEAU!$A6)*(DATA!$D$2:$D$13=TABLEAU!$C6)*(DATA!$E$2:$E$13))) -> 0 | E6: =IF($B6<>"",SUMPRODUCT((DATA!$A$2:$A$13=TABLEAU!E$5)*(DATA!$B$2:$B$13=TABLEAU!$A6)*(DATA!$C$2:$C$13=TABLEAU!$B6)*(DATA!$E$2:$E$13)),SUMPRODUCT((DATA!$A$2:$A$13=TABLEAU!E$5)*(DATA!$B$2:$B$13=TABLEAU!$A6)*(DATA!$D$2:$D$13=TABLEAU!$C6)*(DATA!$E$2:$E$13))) -> 0 | F6: =IF($B6<>"",SUMPRODUCT((DATA!$A$2:$A$13=TABLEAU!F$5)*(DATA!$B$2:$B$13=TABLEAU!$A6)*(DATA!$C$2:$C$13=TABLEAU!$B6)*(DATA!$E$2:$E$13)),SUMPRODUCT((DATA!$A$2:$A$13=TABLEAU!F$5)*(DATA!$B$2:$B$13=TABLEAU!$A6)*(DATA!$D$2:$D$13=TABLEAU!$C6)*(DATA!$E$2:$E$13))) -> 0 | G6: =IF($B6<>"",SUMPRODUCT((DATA!$A$2:$A$13=TABLEAU!G$5)*(DATA!$B$2:$B$13=TABLEAU!$A6)*(DATA!$C$2:$C$13=TABLEAU!$B6)*(DATA!$E$2:$E$13)),SUMPRODUCT((DATA!$A$2:$A$13=TABLEAU!G$5)*(DATA!$B$2:$B$13=TABLEAU!$A6)*(DATA!$D$2:$D$13=TABLEAU!$C6)*(DATA!$E$2:$E$13))) -> 384 | H6: =IF($B6<>"",SUMPRODUCT((DATA!$A$2:$A$13=TABLEAU!H$5)*(DATA!$B$2:$B$13=TABLEAU!$A6)*(DATA!$C$2:$C$13=TABLEAU!$B6)*(DATA!$E$2:$E$13)),SUMPRODUCT((DATA!$A$2:$A$13=TABLEAU!H$5)*(DATA!$B$2:$B$13=TABLEAU!$A6)*(DATA!$D$2:$D$13=TABLEAU!$C6)*(DATA!$E$2:$E$13))) -> 0 | I6: =IF($B6<>"",SUMPRODUCT((DATA!$A$2:$A$13=TABLEAU!I$5)*(DATA!$B$2:$B$13=TABLEAU!$A6)*(DATA!$C$2:$C$13=TABLEAU!$B6)*(DATA!$E$2:$E$13)),SUMPRODUCT((DATA!$A$2:$A$13=TABLEAU!I$5)*(DATA!$B$2:$B$13=TABLEAU!$A6)*(DATA!$D$2:$D$13=TABLEAU!$C6)*(DATA!$E$2:$E$13))) -> 0 | J6: =IF($B6<>"",SUMPRODUCT((DATA!$A$2:$A$13=TABLEAU!J$5)*(DATA!$B$2:$B$13=TABLEAU!$A6)*(DATA!$C$2:$C$13=TABLEAU!$B6)*(DATA!$E$2:$E$13)),SUMPRODUCT((DATA!$A$2:$A$13=TABLEAU!J$5)*(DATA!$B$2:$B$13=TABLEAU!$A6)*(DATA!$D$2:$D$13=TABLEAU!$C6)*(DATA!$E$2:$E$13))) -> 0 | K6: =IF($B6<>"",SUMPRODUCT((DATA!$A$2:$A$13=TABLEAU!K$5)*(DATA!$B$2:$B$13=TABLEAU!$A6)*(DATA!$C$2:$C$13=TABLEAU!$B6)*(DATA!$E$2:$E$13)),SUMPRODUCT((DATA!$A$2:$A$13=TABLEAU!K$5)*(DATA!$B$2:$B$13=TABLEAU!$A6)*(DATA!$D$2:$D$13=TABLEAU!$C6)*(DATA!$E$2:$E$13))) -> 0 | ... O6: =IF($B6<>"",SUMPRODUCT((DATA!$A$2:$A$13=TABLEAU!O$5)*(DATA!$B$2:$B$13=TABLEAU!$A6)*(DATA!$C$2:$C$13=TABLEAU!$B6)*(DATA!$E$2:$E$13)),SUMPRODUCT((DATA!$A$2:$A$13=TABLEAU!O$5)*(DATA!$B$2:$B$13=TABLEAU!$A6)*(DATA!$D$2:$D$13=TABLEAU!$C6)*(DATA!$E$2:$E$13))) -> 0
A7: FR | B7: DEF | D7: =IF($B7<>"",SUMPRODUCT((DATA!$A$2:$A$13=TABLEAU!D$5)*(DATA!$B$2:$B$13=TABLEAU!$A7)*(DATA!$C$2:$C$13=TABLEAU!$B7)*(DATA!$E$2:$E$13)),SUMPRODUCT((DATA!$A$2:$A$13=TABLEAU!D$5)*(DATA!$B$2:$B$13=TABLEAU!$A7)*(DATA!$D$2:$D$13=TABLEAU!$C7)*(DATA!$E$2:$E$13))) -> 0 | E7: =IF($B7<>"",SUMPRODUCT((DATA!$A$2:$A$13=TABLEAU!E$5)*(DATA!$B$2:$B$13=TABLEAU!$A7)*(DATA!$C$2:$C$13=TABLEAU!$B7)*(DATA!$E$2:$E$13)),SUMPRODUCT((DATA!$A$2:$A$13=TABLEAU!E$5)*(DATA!$B$2:$B$13=TABLEAU!$A7)*(DATA!$D$2:$D$13=TABLEAU!$C7)*(DATA!$E$2:$E$13))) -> 0 | F7: =IF($B7<>"",SUMPRODUCT((DATA!$A$2:$A$13=TABLEAU!F$5)*(DATA!$B$2:$B$13=TABLEAU!$A7)*(DATA!$C$2:$C$13=TABLEAU!$B7)*(DATA!$E$2:$E$13)),SUMPRODUCT((DATA!$A$2:$A$13=TABLEAU!F$5)*(DATA!$B$2:$B$13=TABLEAU!$A7)*(DATA!$D$2:$D$13=TABLEAU!$C7)*(DATA!$E$2:$E$13))) -> 0 | G7: =IF($B7<>"",SUMPRODUCT((DATA!$A$2:$A$13=TABLEAU!G$5)*(DATA!$B$2:$B$13=TABLEAU!$A7)*(DATA!$C$2:$C$13=TABLEAU!$B7)*(DATA!$E$2:$E$13)),SUMPRODUCT((DATA!$A$2:$A$13=TABLEAU!G$5)*(DATA!$B$2:$B$13=TABLEAU!$A7)*(DATA!$D$2:$D$13=TABLEAU!$C7)*(DATA!$E$2:$E$13))) -> 0 | H7: =IF($B7<>"",SUMPRODUCT((DATA!$A$2:$A$13=TABLEAU!H$5)*(DATA!$B$2:$B$13=TABLEAU!$A7)*(DATA!$C$2:$C$13=TABLEAU!$B7)*(DATA!$E$2:$E$13)),SUMPRODUCT((DATA!$A$2:$A$13=TABLEAU!H$5)*(DATA!$B$2:$B$13=TABLEAU!$A7)*(DATA!$D$2:$D$13=TABLEAU!$C7)*(DATA!$E$2:$E$13))) -> 172.8 | I7: =IF($B7<>"",SUMPRODUCT((DATA!$A$2:$A$13=TABLEAU!I$5)*(DATA!$B$2:$B$13=TABLEAU!$A7)*(DATA!$C$2:$C$13=TABLEAU!$B7)*(DATA!$E$2:$E$13)),SUMPRODUCT((DATA!$A$2:$A$13=TABLEAU!I$5)*(DATA!$B$2:$B$13=TABLEAU!$A7)*(DATA!$D$2:$D$13=TABLEAU!$C7)*(DATA!$E$2:$E$13))) -> 0 | J7: =IF($B7<>"",SUMPRODUCT((DATA!$A$2:$A$13=TABLEAU!J$5)*(DATA!$B$2:$B$13=TABLEAU!$A7)*(DATA!$C$2:$C$13=TABLEAU!$B7)*(DATA!$E$2:$E$13)),SUMPRODUCT((DATA!$A$2:$A$13=TABLEAU!J$5)*(DATA!$B$2:$B$13=TABLEAU!$A7)*(DATA!$D$2:$D$13=TABLEAU!$C7)*(DATA!$E$2:$E$13))) -> 0 | K7: =IF($B7<>"",SUMPRODUCT((DATA!$A$2:$A$13=TABLEAU!K$5)*(DATA!$B$2:$B$13=TABLEAU!$A7)*(DATA!$C$2:$C$13=TABLEAU!$B7)*(DATA!$E$2:$E$13)),SUMPRODUCT((DATA!$A$2:$A$13=TABLEAU!K$5)*(DATA!$B$2:$B$13=TABLEAU!$A7)*(DATA!$D$2:$D$13=TABLEAU!$C7)*(DATA!$E$2:$E$13))) -> 0 | ... O7: =IF($B7<>"",SUMPRODUCT((DATA!$A$2:$A$13=TABLEAU!O$5)*(DATA!$B$2:$B$13=TABLEAU!$A7)*(DATA!$C$2:$C$13=TABLEAU!$B7)*(DATA!$E$2:$E$13)),SUMPRODUCT((DATA!$A$2:$A$13=TABLEAU!O$5)*(DATA!$B$2:$B$13=TABLEAU!$A7)*(DATA!$D$2:$D$13=TABLEAU!$C7)*(DATA!$E$2:$E$13))) -> 0
A8: FR | B8: GFK | D8: =IF($B8<>"",SUMPRODUCT((DATA!$A$2:$A$13=TABLEAU!D$5)*(DATA!$B$2:$B$13=TABLEAU!$A8)*(DATA!$C$2:$C$13=TABLEAU!$B8)*(DATA!$E$2:$E$13)),SUMPRODUCT((DATA!$A$2:$A$13=TABLEAU!D$5)*(DATA!$B$2:$B$13=TABLEAU!$A8)*(DATA!$D$2:$D$13=TABLEAU!$C8)*(DATA!$E$2:$E$13))) -> 0 | E8: =IF($B8<>"",SUMPRODUCT((DATA!$A$2:$A$13=TABLEAU!E$5)*(DATA!$B$2:$B$13=TABLEAU!$A8)*(DATA!$C$2:$C$13=TABLEAU!$B8)*(DATA!$E$2:$E$13)),SUMPRODUCT((DATA!$A$2:$A$13=TABLEAU!E$5)*(DATA!$B$2:$B$13=TABLEAU!$A8)*(DATA!$D$2:$D$13=TABLEAU!$C8)*(DATA!$E$2:$E$13))) -> 0 | F8: =IF($B8<>"",SUMPRODUCT((DATA!$A$2:$A$13=TABLEAU!F$5)*(DATA!$B$2:$B$13=TABLEAU!$A8)*(DATA!$C$2:$C$13=TABLEAU!$B8)*(DATA!$E$2:$E$13)),SUMPRODUCT((DATA!$A$2:$A$13=TABLEAU!F$5)*(DATA!$B$2:$B$13=TABLEAU!$A8)*(DATA!$D$2:$D$13=TABLEAU!$C8)*(DATA!$E$2:$E$13))) -> 0 | G8: =IF($B8<>"",SUMPRODUCT((DATA!$A$2:$A$13=TABLEAU!G$5)*(DATA!$B$2:$B$13=TABLEAU!$A8)*(DATA!$C$2:$C$13=TABLEAU!$B8)*(DATA!$E$2:$E$13)),SUMPRODUCT((DATA!$A$2:$A$13=TABLEAU!G$5)*(DATA!$B$2:$B$13=TABLEAU!$A8)*(DATA!$D$2:$D$13=TABLEAU!$C8)*(DATA!$E$2:$E$13))) -> 0 | H8: =IF($B8<>"",SUMPRODUCT((DATA!$A$2:$A$13=TABLEAU!H$5)*(DATA!$B$2:$B$13=TABLEAU!$A8)*(DATA!$C$2:$C$13=TABLEAU!$B8)*(DATA!$E$2:$E$13)),SUMPRODUCT((DATA!$A$2:$A$13=TABLEAU!H$5)*(DATA!$B$2:$B$13=TABLEAU!$A8)*(DATA!$D$2:$D$13=TABLEAU!$C8)*(DATA!$E$2:$E$13))) -> 0 | I8: =IF($B8<>"",SUMPRODUCT((DATA!$A$2:$A$13=TABLEAU!I$5)*(DATA!$B$2:$B$13=TABLEAU!$A8)*(DATA!$C$2:$C$13=TABLEAU!$B8)*(DATA!$E$2:$E$13)),SUMPRODUCT((DATA!$A$2:$A$13=TABLEAU!I$5)*(DATA!$B$2:$B$13=TABLEAU!$A8)*(DATA!$D$2:$D$13=TABLEAU!$C8)*(DATA!$E$2:$E$13))) -> 0 | J8: =IF($B8<>"",SUMPRODUCT((DATA!$A$2:$A$13=TABLEAU!J$5)*(DATA!$B$2:$B$13=TABLEAU!$A8)*(DATA!$C$2:$C$13=TABLEAU!$B8)*(DATA!$E$2:$E$13)),SUMPRODUCT((DATA!$A$2:$A$13=TABLEAU!J$5)*(DATA!$B$2:$B$13=TABLEAU!$A8)*(DATA!$D$2:$D$13=TABLEAU!$C8)*(DATA!$E$2:$E$13))) -> 0 | K8: =IF($B8<>"",SUMPRODUCT((DATA!$A$2:$A$13=TABLEAU!K$5)*(DATA!$B$2:$B$13=TABLEAU!$A8)*(DATA!$C$2:$C$13=TABLEAU!$B8)*(DATA!$E$2:$E$13)),SUMPRODUCT((DATA!$A$2:$A$13=TABLEAU!K$5)*(DATA!$B$2:$B$13=TABLEAU!$A8)*(DATA!$D$2:$D$13=TABLEAU!$C8)*(DATA!$E$2:$E$13))) -> 64.8 | ... O8: =IF($B8<>"",SUMPRODUCT((DATA!$A$2:$A$13=TABLEAU!O$5)*(DATA!$B$2:$B$13=TABLEAU!$A8)*(DATA!$C$2:$C$13=TABLEAU!$B8)*(DATA!$E$2:$E$13)),SUMPRODUCT((DATA!$A$2:$A$13=TABLEAU!O$5)*(DATA!$B$2:$B$13=TABLEAU!$A8)*(DATA!$D$2:$D$13=TABLEAU!$C8)*(DATA!$E$2:$E$13))) -> 0
A9: FR | C9: 120048 | D9: =IF($B9<>"",SUMPRODUCT((DATA!$A$2:$A$13=TABLEAU!D$5)*(DATA!$B$2:$B$13=TABLEAU!$A9)*(DATA!$C$2:$C$13=TABLEAU!$B9)*(DATA!$E$2:$E$13)),SUMPRODUCT((DATA!$A$2:$A$13=TABLEAU!D$5)*(DATA!$B$2:$B$13=TABLEAU!$A9)*(DATA!$D$2:$D$13=TABLEAU!$C9)*(DATA!$E$2:$E$13))) -> 0 | E9: =IF($B9<>"",SUMPRODUCT((DATA!$A$2:$A$13=TABLEAU!E$5)*(DATA!$B$2:$B$13=TABLEAU!$A9)*(DATA!$C$2:$C$13=TABLEAU!$B9)*(DATA!$E$2:$E$13)),SUMPRODUCT((DATA!$A$2:$A$13=TABLEAU!E$5)*(DATA!$B$2:$B$13=TABLEAU!$A9)*(DATA!$D$2:$D$13=TABLEAU!$C9)*(DATA!$E$2:$E$13))) -> 0 | F9: =IF($B9<>"",SUMPRODUCT((DATA!$A$2:$A$13=TABLEAU!F$5)*(DATA!$B$2:$B$13=TABLEAU!$A9)*(DATA!$C$2:$C$13=TABLEAU!$B9)*(DATA!$E$2:$E$13)),SUMPRODUCT((DATA!$A$2:$A$13=TABLEAU!F$5)*(DATA!$B$2:$B$13=TABLEAU!$A9)*(DATA!$D$2:$D$13=TABLEAU!$C9)*(DATA!$E$2:$E$13))) -> 0 | G9: =IF($B9<>"",SUMPRODUCT((DATA!$A$2:$A$13=TABLEAU!G$5)*(DATA!$B$2:$B$13=TABLEAU!$A9)*(DATA!$C$2:$C$13=TABLEAU!$B9)*(DATA!$E$2:$E$13)),SUMPRODUCT((DATA!$A$2:$A$13=TABLEAU!G$5)*(DATA!$B$2:$B$13=TABLEAU!$A9)*(DATA!$D$2:$D$13=TABLEAU!$C9)*(DATA!$E$2:$E$13))) -> 0 | H9: =IF($B9<>"",SUMPRODUCT((DATA!$A$2:$A$13=TABLEAU!H$5)*(DATA!$B$2:$B$13=TABLEAU!$A9)*(DATA!$C$2:$C$13=TABLEAU!$B9)*(DATA!$E$2:$E$13)),SUMPRODUCT((DATA!$A$2:$A$13=TABLEAU!H$5)*(DATA!$B$2:$B$13=TABLEAU!$A9)*(DATA!$D$2:$D$13=TABLEAU!$C9)*(DATA!$E$2:$E$13))) -> 0 | I9: =IF($B9<>"",SUMPRODUCT((DATA!$A$2:$A$13=TABLEAU!I$5)*(DATA!$B$2:$B$13=TABLEAU!$A9)*(DATA!$C$2:$C$13=TABLEAU!$B9)*(DATA!$E$2:$E$13)),SUMPRODUCT((DATA!$A$2:$A$13=TABLEAU!I$5)*(DATA!$B$2:$B$13=TABLEAU!$A9)*(DATA!$D$2:$D$13=TABLEAU!$C9)*(DATA!$E$2:$E$13))) -> 0 | J9: =IF($B9<>"",SUMPRODUCT((DATA!$A$2:$A$13=TABLEAU!J$5)*(DATA!$B$2:$B$13=TABLEAU!$A9)*(DATA!$C$2:$C$13=TABLEAU!$B9)*(DATA!$E$2:$E$13)),SUMPRODUCT((DATA!$A$2:$A$13=TABLEAU!J$5)*(DATA!$B$2:$B$13=TABLEAU!$A9)*(DATA!$D$2:$D$13=TABLEAU!$C9)*(DATA!$E$2:$E$13))) -> 0 | K9: =IF($B9<>"",SUMPRODUCT((DATA!$A$2:$A$13=TABLEAU!K$5)*(DATA!$B$2:$B$13=TABLEAU!$A9)*(DATA!$C$2:$C$13=TABLEAU!$B9)*(DATA!$E$2:$E$13)),SUMPRODUCT((DATA!$A$2:$A$13=TABLEAU!K$5)*(DATA!$B$2:$B$13=TABLEAU!$A9)*(DATA!$D$2:$D$13=TABLEAU!$C9)*(DATA!$E$2:$E$13))) -> 0 | ... O9: =IF($B9<>"",SUMPRODUCT((DATA!$A$2:$A$13=TABLEAU!O$5)*(DATA!$B$2:$B$13=TABLEAU!$A9)*(DATA!$C$2:$C$13=TABLEAU!$B9)*(DATA!$E$2:$E$13)),SUMPRODUCT((DATA!$A$2:$A$13=TABLEAU!O$5)*(DATA!$B$2:$B$13=TABLEAU!$A9)*(DATA!$D$2:$D$13=TABLEAU!$C9)*(DATA!$E$2:$E$13))) -> 0
A10: FR | C10: 120049 | D10: =IF($B10<>"",SUMPRODUCT((DATA!$A$2:$A$13=TABLEAU!D$5)*(DATA!$B$2:$B$13=TABLEAU!$A10)*(DATA!$C$2:$C$13=TABLEAU!$B10)*(DATA!$E$2:$E$13)),SUMPRODUCT((DATA!$A$2:$A$13=TABLEAU!D$5)*(DATA!$B$2:$B$13=TABLEAU!$A10)*(DATA!$D$2:$D$13=TABLEAU!$C10)*(DATA!$E$2:$E$13))) -> 0 | E10: =IF($B10<>"",SUMPRODUCT((DATA!$A$2:$A$13=TABLEAU!E$5)*(DATA!$B$2:$B$13=TABLEAU!$A10)*(DATA!$C$2:$C$13=TABLEAU!$B10)*(DATA!$E$2:$E$13)),SUMPRODUCT((DATA!$A$2:$A$13=TABLEAU!E$5)*(DATA!$B$2:$B$13=TABLEAU!$A10)*(DATA!$D$2:$D$13=TABLEAU!$C10)*(DATA!$E$2:$E$13))) -> 0 | F10: =IF($B10<>"",SUMPRODUCT((DATA!$A$2:$A$13=TABLEAU!F$5)*(DATA!$B$2:$B$13=TABLEAU!$A10)*(DATA!$C$2:$C$13=TABLEAU!$B10)*(DATA!$E$2:$E$13)),SUMPRODUCT((DATA!$A$2:$A$13=TABLEAU!F$5)*(DATA!$B$2:$B$13=TABLEAU!$A10)*(DATA!$D$2:$D$13=TABLEAU!$C10)*(DATA!$E$2:$E$13))) -> 0 | G10: =IF($B10<>"",SUMPRODUCT((DATA!$A$2:$A$13=TABLEAU!G$5)*(DATA!$B$2:$B$13=TABLEAU!$A10)*(DATA!$C$2:$C$13=TABLEAU!$B10)*(DATA!$E$2:$E$13)),SUMPRODUCT((DATA!$A$2:$A$13=TABLEAU!G$5)*(DATA!$B$2:$B$13=TABLEAU!$A10)*(DATA!$D$2:$D$13=TABLEAU!$C10)*(DATA!$E$2:$E$13))) -> 0 | H10: =IF($B10<>"",SUMPRODUCT((DATA!$A$2:$A$13=TABLEAU!H$5)*(DATA!$B$2:$B$13=TABLEAU!$A10)*(DATA!$C$2:$C$13=TABLEAU!$B10)*(DATA!$E$2:$E$13)),SUMPRODUCT((DATA!$A$2:$A$13=TABLEAU!H$5)*(DATA!$B$2:$B$13=TABLEAU!$A10)*(DATA!$D$2:$D$13=TABLEAU!$C10)*(DATA!$E$2:$E$13))) -> 0 | I10: =IF($B10<>"",SUMPRODUCT((DATA!$A$2:$A$13=TABLEAU!I$5)*(DATA!$B$2:$B$13=TABLEAU!$A10)*(DATA!$C$2:$C$13=TABLEAU!$B10)*(DATA!$E$2:$E$13)),SUMPRODUCT((DATA!$A$2:$A$13=TABLEAU!I$5)*(DATA!$B$2:$B$13=TABLEAU!$A10)*(DATA!$D$2:$D$13=TABLEAU!$C10)*(DATA!$E$2:$E$13))) -> 0 | J10: =IF($B10<>"",SUMPRODUCT((DATA!$A$2:$A$13=TABLEAU!J$5)*(DATA!$B$2:$B$13=TABLEAU!$A10)*(DATA!$C$2:$C$13=TABLEAU!$B10)*(DATA!$E$2:$E$13)),SUMPRODUCT((DATA!$A$2:$A$13=TABLEAU!J$5)*(DATA!$B$2:$B$13=TABLEAU!$A10)*(DATA!$D$2:$D$13=TABLEAU!$C10)*(DATA!$E$2:$E$13))) -> 0 | K10: =IF($B10<>"",SUMPRODUCT((DATA!$A$2:$A$13=TABLEAU!K$5)*(DATA!$B$2:$B$13=TABLEAU!$A10)*(DATA!$C$2:$C$13=TABLEAU!$B10)*(DATA!$E$2:$E$13)),SUMPRODUCT((DATA!$A$2:$A$13=TABLEAU!K$5)*(DATA!$B$2:$B$13=TABLEAU!$A10)*(DATA!$D$2:$D$13=TABLEAU!$C10)*(DATA!$E$2:$E$13))) -> 0 | ... O10: =IF($B10<>"",SUMPRODUCT((DATA!$A$2:$A$13=TABLEAU!O$5)*(DATA!$B$2:$B$13=TABLEAU!$A10)*(DATA!$C$2:$C$13=TABLEAU!$B10)*(DATA!$E$2:$E$13)),SUMPRODUCT((DATA!$A$2:$A$13=TABLEAU!O$5)*(DATA!$B$2:$B$13=TABLEAU!$A10)*(DATA!$D$2:$D$13=TABLEAU!$C10)*(DATA!$E$2:$E$13))) -> 0
A11: FR | C11: 120050 | D11: =IF($B11<>"",SUMPRODUCT((DATA!$A$2:$A$13=TABLEAU!D$5)*(DATA!$B$2:$B$13=TABLEAU!$A11)*(DATA!$C$2:$C$13=TABLEAU!$B11)*(DATA!$E$2:$E$13)),SUMPRODUCT((DATA!$A$2:$A$13=TABLEAU!D$5)*(DATA!$B$2:$B$13=TABLEAU!$A11)*(DATA!$D$2:$D$13=TABLEAU!$C11)*(DATA!$E$2:$E$13))) -> 0 | E11: =IF($B11<>"",SUMPRODUCT((DATA!$A$2:$A$13=TABLEAU!E$5)*(DATA!$B$2:$B$13=TABLEAU!$A11)*(DATA!$C$2:$C$13=TABLEAU!$B11)*(DATA!$E$2:$E$13)),SUMPRODUCT((DATA!$A$2:$A$13=TABLEAU!E$5)*(DATA!$B$2:$B$13=TABLEAU!$A11)*(DATA!$D$2:$D$13=TABLEAU!$C11)*(DATA!$E$2:$E$13))) -> 0 | F11: =IF($B11<>"",SUMPRODUCT((DATA!$A$2:$A$13=TABLEAU!F$5)*(DATA!$B$2:$B$13=TABLEAU!$A11)*(DATA!$C$2:$C$13=TABLEAU!$B11)*(DATA!$E$2:$E$13)),SUMPRODUCT((DATA!$A$2:$A$13=TABLEAU!F$5)*(DATA!$B$2:$B$13=TABLEAU!$A11)*(DATA!$D$2:$D$13=TABLEAU!$C11)*(DATA!$E$2:$E$13))) -> 0 | G11: =IF($B11<>"",SUMPRODUCT((DATA!$A$2:$A$13=TABLEAU!G$5)*(DATA!$B$2:$B$13=TABLEAU!$A11)*(DATA!$C$2:$C$13=TABLEAU!$B11)*(DATA!$E$2:$E$13)),SUMPRODUCT((DATA!$A$2:$A$13=TABLEAU!G$5)*(DATA!$B$2:$B$13=TABLEAU!$A11)*(DATA!$D$2:$D$13=TABLEAU!$C11)*(DATA!$E$2:$E$13))) -> 0 | H11: =IF($B11<>"",SUMPRODUCT((DATA!$A$2:$A$13=TABLEAU!H$5)*(DATA!$B$2:$B$13=TABLEAU!$A11)*(DATA!$C$2:$C$13=TABLEAU!$B11)*(DATA!$E$2:$E$13)),SUMPRODUCT((DATA!$A$2:$A$13=TABLEAU!H$5)*(DATA!$B$2:$B$13=TABLEAU!$A11)*(DATA!$D$2:$D$13=TABLEAU!$C11)*(DATA!$E$2:$E$13))) -> 0 | I11: =IF($B11<>"",SUMPRODUCT((DATA!$A$2:$A$13=TABLEAU!I$5)*(DATA!$B$2:$B$13=TABLEAU!$A11)*(DATA!$C$2:$C$13=TABLEAU!$B11)*(DATA!$E$2:$E$13)),SUMPRODUCT((DATA!$A$2:$A$13=TABLEAU!I$5)*(DATA!$B$2:$B$13=TABLEAU!$A11)*(DATA!$D$2:$D$13=TABLEAU!$C11)*(DATA!$E$2:$E$13))) -> 0 | J11: =IF($B11<>"",SUMPRODUCT((DATA!$A$2:$A$13=TABLEAU!J$5)*(DATA!$B$2:$B$13=TABLEAU!$A11)*(DATA!$C$2:$C$13=TABLEAU!$B11)*(DATA!$E$2:$E$13)),SUMPRODUCT((DATA!$A$2:$A$13=TABLEAU!J$5)*(DATA!$B$2:$B$13=TABLEAU!$A11)*(DATA!$D$2:$D$13=TABLEAU!$C11)*(DATA!$E$2:$E$13))) -> 0 | K11: =IF($B11<>"",SUMPRODUCT((DATA!$A$2:$A$13=TABLEAU!K$5)*(DATA!$B$2:$B$13=TABLEAU!$A11)*(DATA!$C$2:$C$13=TABLEAU!$B11)*(DATA!$E$2:$E$13)),SUMPRODUCT((DATA!$A$2:$A$13=TABLEAU!K$5)*(DATA!$B$2:$B$13=TABLEAU!$A11)*(DATA!$D$2:$D$13=TABLEAU!$C11)*(DATA!$E$2:$E$13))) -> 0 | ... O11: =IF($B11<>"",SUMPRODUCT((DATA!$A$2:$A$13=TABLEAU!O$5)*(DATA!$B$2:$B$13=TABLEAU!$A11)*(DATA!$C$2:$C$13=TABLEAU!$B11)*(DATA!$E$2:$E$13)),SUMPRODUCT((DATA!$A$2:$A$13=TABLEAU!O$5)*(DATA!$B$2:$B$13=TABLEAU!$A11)*(DATA!$D$2:$D$13=TABLEAU!$C11)*(DATA!$E$2:$E$13))) -> 0
A12: FR | C12: 120051 | D12: =IF($B12<>"",SUMPRODUCT((DATA!$A$2:$A$13=TABLEAU!D$5)*(DATA!$B$2:$B$13=TABLEAU!$A12)*(DATA!$C$2:$C$13=TABLEAU!$B12)*(DATA!$E$2:$E$13)),SUMPRODUCT((DATA!$A$2:$A$13=TABLEAU!D$5)*(DATA!$B$2:$B$13=TABLEAU!$A12)*(DATA!$D$2:$D$13=TABLEAU!$C12)*(DATA!$E$2:$E$13))) -> 0 | E12: =IF($B12<>"",SUMPRODUCT((DATA!$A$2:$A$13=TABLEAU!E$5)*(DATA!$B$2:$B$13=TABLEAU!$A12)*(DATA!$C$2:$C$13=TABLEAU!$B12)*(DATA!$E$2:$E$13)),SUMPRODUCT((DATA!$A$2:$A$13=TABLEAU!E$5)*(DATA!$B$2:$B$13=TABLEAU!$A12)*(DATA!$D$2:$D$13=TABLEAU!$C12)*(DATA!$E$2:$E$13))) -> 0 | F12: =IF($B12<>"",SUMPRODUCT((DATA!$A$2:$A$13=TABLEAU!F$5)*(DATA!$B$2:$B$13=TABLEAU!$A12)*(DATA!$C$2:$C$13=TABLEAU!$B12)*(DATA!$E$2:$E$13)),SUMPRODUCT((DATA!$A$2:$A$13=TABLEAU!F$5)*(DATA!$B$2:$B$13=TABLEAU!$A12)*(DATA!$D$2:$D$13=TABLEAU!$C12)*(DATA!$E$2:$E$13))) -> 0 | G12: =IF($B12<>"",SUMPRODUCT((DATA!$A$2:$A$13=TABLEAU!G$5)*(DATA!$B$2:$B$13=TABLEAU!$A12)*(DATA!$C$2:$C$13=TABLEAU!$B12)*(DATA!$E$2:$E$13)),SUMPRODUCT((DATA!$A$2:$A$13=TABLEAU!G$5)*(DATA!$B$2:$B$13=TABLEAU!$A12)*(DATA!$D$2:$D$13=TABLEAU!$C12)*(DATA!$E$2:$E$13))) -> 0 | H12: =IF($B12<>"",SUMPRODUCT((DATA!$A$2:$A$13=TABLEAU!H$5)*(DATA!$B$2:$B$13=TABLEAU!$A12)*(DATA!$C$2:$C$13=TABLEAU!$B12)*(DATA!$E$2:$E$13)),SUMPRODUCT((DATA!$A$2:$A$13=TABLEAU!H$5)*(DATA!$B$2:$B$13=TABLEAU!$A12)*(DATA!$D$2:$D$13=TABLEAU!$C12)*(DATA!$E$2:$E$13))) -> 0 | I12: =IF($B12<>"",SUMPRODUCT((DATA!$A$2:$A$13=TABLEAU!I$5)*(DATA!$B$2:$B$13=TABLEAU!$A12)*(DATA!$C$2:$C$13=TABLEAU!$B12)*(DATA!$E$2:$E$13)),SUMPRODUCT((DATA!$A$2:$A$13=TABLEAU!I$5)*(DATA!$B$2:$B$13=TABLEAU!$A12)*(DATA!$D$2:$D$13=TABLEAU!$C12)*(DATA!$E$2:$E$13))) -> 0 | J12: =IF($B12<>"",SUMPRODUCT((DATA!$A$2:$A$13=TABLEAU!J$5)*(DATA!$B$2:$B$13=TABLEAU!$A12)*(DATA!$C$2:$C$13=TABLEAU!$B12)*(DATA!$E$2:$E$13)),SUMPRODUCT((DATA!$A$2:$A$13=TABLEAU!J$5)*(DATA!$B$2:$B$13=TABLEAU!$A12)*(DATA!$D$2:$D$13=TABLEAU!$C12)*(DATA!$E$2:$E$13))) -> 0 | K12: =IF($B12<>"",SUMPRODUCT((DATA!$A$2:$A$13=TABLEAU!K$5)*(DATA!$B$2:$B$13=TABLEAU!$A12)*(DATA!$C$2:$C$13=TABLEAU!$B12)*(DATA!$E$2:$E$13)),SUMPRODUCT((DATA!$A$2:$A$13=TABLEAU!K$5)*(DATA!$B$2:$B$13=TABLEAU!$A12)*(DATA!$D$2:$D$13=TABLEAU!$C12)*(DATA!$E$2:$E$13))) -> 396 | ... O12: =IF($B12<>"",SUMPRODUCT((DATA!$A$2:$A$13=TABLEAU!O$5)*(DATA!$B$2:$B$13=TABLEAU!$A12)*(DATA!$C$2:$C$13=TABLEAU!$B12)*(DATA!$E$2:$E$13)),SUMPRODUCT((DATA!$A$2:$A$13=TABLEAU!O$5)*(DATA!$B$2:$B$13=TABLEAU!$A12)*(DATA!$D$2:$D$13=TABLEAU!$C12)*(DATA!$E$2:$E$13))) -> 0
A13: FR | C13: 120052 | D13: =IF($B13<>"",SUMPRODUCT((DATA!$A$2:$A$13=TABLEAU!D$5)*(DATA!$B$2:$B$13=TABLEAU!$A13)*(DATA!$C$2:$C$13=TABLEAU!$B13)*(DATA!$E$2:$E$13)),SUMPRODUCT((DATA!$A$2:$A$13=TABLEAU!D$5)*(DATA!$B$2:$B$13=TABLEAU!$A13)*(DATA!$D$2:$D$13=TABLEAU!$C13)*(DATA!$E$2:$E$13))) -> 0 | E13: =IF($B13<>"",SUMPRODUCT((DATA!$A$2:$A$13=TABLEAU!E$5)*(DATA!$B$2:$B$13=TABLEAU!$A13)*(DATA!$C$2:$C$13=TABLEAU!$B13)*(DATA!$E$2:$E$13)),SUMPRODUCT((DATA!$A$2:$A$13=TABLEAU!E$5)*(DATA!$B$2:$B$13=TABLEAU!$A13)*(DATA!$D$2:$D$13=TABLEAU!$C13)*(DATA!$E$2:$E$13))) -> 0 | F13: =IF($B13<>"",SUMPRODUCT((DATA!$A$2:$A$13=TABLEAU!F$5)*(DATA!$B$2:$B$13=TABLEAU!$A13)*(DATA!$C$2:$C$13=TABLEAU!$B13)*(DATA!$E$2:$E$13)),SUMPRODUCT((DATA!$A$2:$A$13=TABLEAU!F$5)*(DATA!$B$2:$B$13=TABLEAU!$A13)*(DATA!$D$2:$D$13=TABLEAU!$C13)*(DATA!$E$2:$E$13))) -> 0 | G13: =IF($B13<>"",SUMPRODUCT((DATA!$A$2:$A$13=TABLEAU!G$5)*(DATA!$B$2:$B$13=TABLEAU!$A13)*(DATA!$C$2:$C$13=TABLEAU!$B13)*(DATA!$E$2:$E$13)),SUMPRODUCT((DATA!$A$2:$A$13=TABLEAU!G$5)*(DATA!$B$2:$B$13=TABLEAU!$A13)*(DATA!$D$2:$D$13=TABLEAU!$C13)*(DATA!$E$2:$E$13))) -> 0 | H13: =IF($B13<>"",SUMPRODUCT((DATA!$A$2:$A$13=TABLEAU!H$5)*(DATA!$B$2:$B$13=TABLEAU!$A13)*(DATA!$C$2:$C$13=TABLEAU!$B13)*(DATA!$E$2:$E$13)),SUMPRODUCT((DATA!$A$2:$A$13=TABLEAU!H$5)*(DATA!$B$2:$B$13=TABLEAU!$A13)*(DATA!$D$2:$D$13=TABLEAU!$C13)*(DATA!$E$2:$E$13))) -> 0 | I13: =IF($B13<>"",SUMPRODUCT((DATA!$A$2:$A$13=TABLEAU!I$5)*(DATA!$B$2:$B$13=TABLEAU!$A13)*(DATA!$C$2:$C$13=TABLEAU!$B13)*(DATA!$E$2:$E$13)),SUMPRODUCT((DATA!$A$2:$A$13=TABLEAU!I$5)*(DATA!$B$2:$B$13=TABLEAU!$A13)*(DATA!$D$2:$D$13=TABLEAU!$C13)*(DATA!$E$2:$E$13))) -> 0 | J13: =IF($B13<>"",SUMPRODUCT((DATA!$A$2:$A$13=TABLEAU!J$5)*(DATA!$B$2:$B$13=TABLEAU!$A13)*(DATA!$C$2:$C$13=TABLEAU!$B13)*(DATA!$E$2:$E$13)),SUMPRODUCT((DATA!$A$2:$A$13=TABLEAU!J$5)*(DATA!$B$2:$B$13=TABLEAU!$A13)*(DATA!$D$2:$D$13=TABLEAU!$C13)*(DATA!$E$2:$E$13))) -> 0 | K13: =IF($B13<>"",SUMPRODUCT((DATA!$A$2:$A$13=TABLEAU!K$5)*(DATA!$B$2:$B$13=TABLEAU!$A13)*(DATA!$C$2:$C$13=TABLEAU!$B13)*(DATA!$E$2:$E$13)),SUMPRODUCT((DATA!$A$2:$A$13=TABLEAU!K$5)*(DATA!$B$2:$B$13=TABLEAU!$A13)*(DATA!$D$2:$D$13=TABLEAU!$C13)*(DATA!$E$2:$E$13))) -> 84 | ... O13: =IF($B13<>"",SUMPRODUCT((DATA!$A$2:$A$13=TABLEAU!O$5)*(DATA!$B$2:$B$13=TABLEAU!$A13)*(DATA!$C$2:$C$13=TABLEAU!$B13)*(DATA!$E$2:$E$13)),SUMPRODUCT((DATA!$A$2:$A$13=TABLEAU!O$5)*(DATA!$B$2:$B$13=TABLEAU!$A13)*(DATA!$D$2:$D$13=TABLEAU!$C13)*(DATA!$E$2:$E$13))) -> 0
A14: FR | C14: 120053 | D14: =IF($B14<>"",SUMPRODUCT((DATA!$A$2:$A$13=TABLEAU!D$5)*(DATA!$B$2:$B$13=TABLEAU!$A14)*(DATA!$C$2:$C$13=TABLEAU!$B14)*(DATA!$E$2:$E$13)),SUMPRODUCT((DATA!$A$2:$A$13=TABLEAU!D$5)*(DATA!$B$2:$B$13=TABLEAU!$A14)*(DATA!$D$2:$D$13=TABLEAU!$C14)*(DATA!$E$2:$E$13))) -> 0 | E14: =IF($B14<>"",SUMPRODUCT((DATA!$A$2:$A$13=TABLEAU!E$5)*(DATA!$B$2:$B$13=TABLEAU!$A14)*(DATA!$C$2:$C$13=TABLEAU!$B14)*(DATA!$E$2:$E$13)),SUMPRODUCT((DATA!$A$2:$A$13=TABLEAU!E$5)*(DATA!$B$2:$B$13=TABLEAU!$A14)*(DATA!$D$2:$D$13=TABLEAU!$C14)*(DATA!$E$2:$E$13))) -> 0 | F14: =IF($B14<>"",SUMPRODUCT((DATA!$A$2:$A$13=TABLEAU!F$5)*(DATA!$B$2:$B$13=TABLEAU!$A14)*(DATA!$C$2:$C$13=TABLEAU!$B14)*(DATA!$E$2:$E$13)),SUMPRODUCT((DATA!$A$2:$A$13=TABLEAU!F$5)*(DATA!$B$2:$B$13=TABLEAU!$A14)*(DATA!$D$2:$D$13=TABLEAU!$C14)*(DATA!$E$2:$E$13))) -> 0 | G14: =IF($B14<>"",SUMPRODUCT((DATA!$A$2:$A$13=TABLEAU!G$5)*(DATA!$B$2:$B$13=TABLEAU!$A14)*(DATA!$C$2:$C$13=TABLEAU!$B14)*(DATA!$E$2:$E$13)),SUMPRODUCT((DATA!$A$2:$A$13=TABLEAU!G$5)*(DATA!$B$2:$B$13=TABLEAU!$A14)*(DATA!$D$2:$D$13=TABLEAU!$C14)*(DATA!$E$2:$E$13))) -> 0 | H14: =IF($B14<>"",SUMPRODUCT((DATA!$A$2:$A$13=TABLEAU!H$5)*(DATA!$B$2:$B$13=TABLEAU!$A14)*(DATA!$C$2:$C$13=TABLEAU!$B14)*(DATA!$E$2:$E$13)),SUMPRODUCT((DATA!$A$2:$A$13=TABLEAU!H$5)*(DATA!$B$2:$B$13=TABLEAU!$A14)*(DATA!$D$2:$D$13=TABLEAU!$C14)*(DATA!$E$2:$E$13))) -> 0 | I14: =IF($B14<>"",SUMPRODUCT((DATA!$A$2:$A$13=TABLEAU!I$5)*(DATA!$B$2:$B$13=TABLEAU!$A14)*(DATA!$C$2:$C$13=TABLEAU!$B14)*(DATA!$E$2:$E$13)),SUMPRODUCT((DATA!$A$2:$A$13=TABLEAU!I$5)*(DATA!$B$2:$B$13=TABLEAU!$A14)*(DATA!$D$2:$D$13=TABLEAU!$C14)*(DATA!$E$2:$E$13))) -> 0 | J14: =IF($B14<>"",SUMPRODUCT((DATA!$A$2:$A$13=TABLEAU!J$5)*(DATA!$B$2:$B$13=TABLEAU!$A14)*(DATA!$C$2:$C$13=TABLEAU!$B14)*(DATA!$E$2:$E$13)),SUMPRODUCT((DATA!$A$2:$A$13=TABLEAU!J$5)*(DATA!$B$2:$B$13=TABLEAU!$A14)*(DATA!$D$2:$D$13=TABLEAU!$C14)*(DATA!$E$2:$E$13))) -> 0 | K14: =IF($B14<>"",SUMPRODUCT((DATA!$A$2:$A$13=TABLEAU!K$5)*(DATA!$B$2:$B$13=TABLEAU!$A14)*(DATA!$C$2:$C$13=TABLEAU!$B14)*(DATA!$E$2:$E$13)),SUMPRODUCT((DATA!$A$2:$A$13=TABLEAU!K$5)*(DATA!$B$2:$B$13=TABLEAU!$A14)*(DATA!$D$2:$D$13=TABLEAU!$C14)*(DATA!$E$2:$E$13))) -> 0 | ... O14: =IF($B14<>"",SUMPRODUCT((DATA!$A$2:$A$13=TABLEAU!O$5)*(DATA!$B$2:$B$13=TABLEAU!$A14)*(DATA!$C$2:$C$13=TABLEAU!$B14)*(DATA!$E$2:$E$13)),SUMPRODUCT((DATA!$A$2:$A$13=TABLEAU!O$5)*(DATA!$B$2:$B$13=TABLEAU!$A14)*(DATA!$D$2:$D$13=TABLEAU!$C14)*(DATA!$E$2:$E$13))) -> 0
A15: FR | C15: 120054 | D15: =IF($B15<>"",SUMPRODUCT((DATA!$A$2:$A$13=TABLEAU!D$5)*(DATA!$B$2:$B$13=TABLEAU!$A15)*(DATA!$C$2:$C$13=TABLEAU!$B15)*(DATA!$E$2:$E$13)),SUMPRODUCT((DATA!$A$2:$A$13=TABLEAU!D$5)*(DATA!$B$2:$B$13=TABLEAU!$A15)*(DATA!$D$2:$D$13=TABLEAU!$C15)*(DATA!$E$2:$E$13))) -> 0 | E15: =IF($B15<>"",SUMPRODUCT((DATA!$A$2:$A$13=TABLEAU!E$5)*(DATA!$B$2:$B$13=TABLEAU!$A15)*(DATA!$C$2:$C$13=TABLEAU!$B15)*(DATA!$E$2:$E$13)),SUMPRODUCT((DATA!$A$2:$A$13=TABLEAU!E$5)*(DATA!$B$2:$B$13=TABLEAU!$A15)*(DATA!$D$2:$D$13=TABLEAU!$C15)*(DATA!$E$2:$E$13))) -> 0 | F15: =IF($B15<>"",SUMPRODUCT((DATA!$A$2:$A$13=TABLEAU!F$5)*(DATA!$B$2:$B$13=TABLEAU!$A15)*(DATA!$C$2:$C$13=TABLEAU!$B15)*(DATA!$E$2:$E$13)),SUMPRODUCT((DATA!$A$2:$A$13=TABLEAU!F$5)*(DATA!$B$2:$B$13=TABLEAU!$A15)*(DATA!$D$2:$D$13=TABLEAU!$C15)*(DATA!$E$2:$E$13))) -> 0 | G15: =IF($B15<>"",SUMPRODUCT((DATA!$A$2:$A$13=TABLEAU!G$5)*(DATA!$B$2:$B$13=TABLEAU!$A15)*(DATA!$C$2:$C$13=TABLEAU!$B15)*(DATA!$E$2:$E$13)),SUMPRODUCT((DATA!$A$2:$A$13=TABLEAU!G$5)*(DATA!$B$2:$B$13=TABLEAU!$A15)*(DATA!$D$2:$D$13=TABLEAU!$C15)*(DATA!$E$2:$E$13))) -> 0 | H15: =IF($B15<>"",SUMPRODUCT((DATA!$A$2:$A$13=TABLEAU!H$5)*(DATA!$B$2:$B$13=TABLEAU!$A15)*(DATA!$C$2:$C$13=TABLEAU!$B15)*(DATA!$E$2:$E$13)),SUMPRODUCT((DATA!$A$2:$A$13=TABLEAU!H$5)*(DATA!$B$2:$B$13=TABLEAU!$A15)*(DATA!$D$2:$D$13=TABLEAU!$C15)*(DATA!$E$2:$E$13))) -> 0 | I15: =IF($B15<>"",SUMPRODUCT((DATA!$A$2:$A$13=TABLEAU!I$5)*(DATA!$B$2:$B$13=TABLEAU!$A15)*(DATA!$C$2:$C$13=TABLEAU!$B15)*(DATA!$E$2:$E$13)),SUMPRODUCT((DATA!$A$2:$A$13=TABLEAU!I$5)*(DATA!$B$2:$B$13=TABLEAU!$A15)*(DATA!$D$2:$D$13=TABLEAU!$C15)*(DATA!$E$2:$E$13))) -> 0 | J15: =IF($B15<>"",SUMPRODUCT((DATA!$A$2:$A$13=TABLEAU!J$5)*(DATA!$B$2:$B$13=TABLEAU!$A15)*(DATA!$C$2:$C$13=TABLEAU!$B15)*(DATA!$E$2:$E$13)),SUMPRODUCT((DATA!$A$2:$A$13=TABLEAU!J$5)*(DATA!$B$2:$B$13=TABLEAU!$A15)*(DATA!$D$2:$D$13=TABLEAU!$C15)*(DATA!$E$2:$E$13))) -> 0 | K15: =IF($B15<>"",SUMPRODUCT((DATA!$A$2:$A$13=TABLEAU!K$5)*(DATA!$B$2:$B$13=TABLEAU!$A15)*(DATA!$C$2:$C$13=TABLEAU!$B15)*(DATA!$E$2:$E$13)),SUMPRODUCT((DATA!$A$2:$A$13=TABLEAU!K$5)*(DATA!$B$2:$B$13=TABLEAU!$A15)*(DATA!$D$2:$D$13=TABLEAU!$C15)*(DATA!$E$2:$E$13))) -> 0 | ... O15: =IF($B15<>"",SUMPRODUCT((DATA!$A$2:$A$13=TABLEAU!O$5)*(DATA!$B$2:$B$13=TABLEAU!$A15)*(DATA!$C$2:$C$13=TABLEAU!$B15)*(DATA!$E$2:$E$13)),SUMPRODUCT((DATA!$A$2:$A$13=TABLEAU!O$5)*(DATA!$B$2:$B$13=TABLEAU!$A15)*(DATA!$D$2:$D$13=TABLEAU!$C15)*(DATA!$E$2:$E$13))) -> 0
A16: ES | B16: ABC | D16: =IF($B16<>"",SUMPRODUCT((DATA!$A$2:$A$13=TABLEAU!D$5)*(DATA!$B$2:$B$13=TABLEAU!$A16)*(DATA!$C$2:$C$13=TABLEAU!$B16)*(DATA!$E$2:$E$13)),SUMPRODUCT((DATA!$A$2:$A$13=TABLEAU!D$5)*(DATA!$B$2:$B$13=TABLEAU!$A16)*(DATA!$D$2:$D$13=TABLEAU!$C16)*(DATA!$E$2:$E$13))) -> 0 | E16: =IF($B16<>"",SUMPRODUCT((DATA!$A$2:$A$13=TABLEAU!E$5)*(DATA!$B$2:$B$13=TABLEAU!$A16)*(DATA!$C$2:$C$13=TABLEAU!$B16)*(DATA!$E$2:$E$13)),SUMPRODUCT((DATA!$A$2:$A$13=TABLEAU!E$5)*(DATA!$B$2:$B$13=TABLEAU!$A16)*(DATA!$D$2:$D$13=TABLEAU!$C16)*(DATA!$E$2:$E$13))) -> 0 | F16: =IF($B16<>"",SUMPRODUCT((DATA!$A$2:$A$13=TABLEAU!F$5)*(DATA!$B$2:$B$13=TABLEAU!$A16)*(DATA!$C$2:$C$13=TABLEAU!$B16)*(DATA!$E$2:$E$13)),SUMPRODUCT((DATA!$A$2:$A$13=TABLEAU!F$5)*(DATA!$B$2:$B$13=TABLEAU!$A16)*(DATA!$D$2:$D$13=TABLEAU!$C16)*(DATA!$E$2:$E$13))) -> 0 | G16: =IF($B16<>"",SUMPRODUCT((DATA!$A$2:$A$13=TABLEAU!G$5)*(DATA!$B$2:$B$13=TABLEAU!$A16)*(DATA!$C$2:$C$13=TABLEAU!$B16)*(DATA!$E$2:$E$13)),SUMPRODUCT((DATA!$A$2:$A$13=TABLEAU!G$5)*(DATA!$B$2:$B$13=TABLEAU!$A16)*(DATA!$D$2:$D$13=TABLEAU!$C16)*(DATA!$E$2:$E$13))) -> 0 | H16: =IF($B16<>"",SUMPRODUCT((DATA!$A$2:$A$13=TABLEAU!H$5)*(DATA!$B$2:$B$13=TABLEAU!$A16)*(DATA!$C$2:$C$13=TABLEAU!$B16)*(DATA!$E$2:$E$13)),SUMPRODUCT((DATA!$A$2:$A$13=TABLEAU!H$5)*(DATA!$B$2:$B$13=TABLEAU!$A16)*(DATA!$D$2:$D$13=TABLEAU!$C16)*(DATA!$E$2:$E$13))) -> 0 | I16: =IF($B16<>"",SUMPRODUCT((DATA!$A$2:$A$13=TABLEAU!I$5)*(DATA!$B$2:$B$13=TABLEAU!$A16)*(DATA!$C$2:$C$13=TABLEAU!$B16)*(DATA!$E$2:$E$13)),SUMPRODUCT((DATA!$A$2:$A$13=TABLEAU!I$5)*(DATA!$B$2:$B$13=TABLEAU!$A16)*(DATA!$D$2:$D$13=TABLEAU!$C16)*(DATA!$E$2:$E$13))) -> 0 | J16: =IF($B16<>"",SUMPRODUCT((DATA!$A$2:$A$13=TABLEAU!J$5)*(DATA!$B$2:$B$13=TABLEAU!$A16)*(DATA!$C$2:$C$13=TABLEAU!$B16)*(DATA!$E$2:$E$13)),SUMPRODUCT((DATA!$A$2:$A$13=TABLEAU!J$5)*(DATA!$B$2:$B$13=TABLEAU!$A16)*(DATA!$D$2:$D$13=TABLEAU!$C16)*(DATA!$E$2:$E$13))) -> 0 | K16: =IF($B16<>"",SUMPRODUCT((DATA!$A$2:$A$13=TABLEAU!K$5)*(DATA!$B$2:$B$13=TABLEAU!$A16)*(DATA!$C$2:$C$13=TABLEAU!$B16)*(DATA!$E$2:$E$13)),SUMPRODUCT((DATA!$A$2:$A$13=TABLEAU!K$5)*(DATA!$B$2:$B$13=TABLEAU!$A16)*(DATA!$D$2:$D$13=TABLEAU!$C16)*(DATA!$E$2:$E$13))) -> 0 | ... O16: =IF($B16<>"",SUMPRODUCT((DATA!$A$2:$A$13=TABLEAU!O$5)*(DATA!$B$2:$B$13=TABLEAU!$A16)*(DATA!$C$2:$C$13=TABLEAU!$B16)*(DATA!$E$2:$E$13)),SUMPRODUCT((DATA!$A$2:$A$13=TABLEAU!O$5)*(DATA!$B$2:$B$13=TABLEAU!$A16)*(DATA!$D$2:$D$13=TABLEAU!$C16)*(DATA!$E$2:$E$13))) -> 0
A17: ES | B17: DEF | D17: =IF($B17<>"",SUMPRODUCT((DATA!$A$2:$A$13=TABLEAU!D$5)*(DATA!$B$2:$B$13=TABLEAU!$A17)*(DATA!$C$2:$C$13=TABLEAU!$B17)*(DATA!$E$2:$E$13)),SUMPRODUCT((DATA!$A$2:$A$13=TABLEAU!D$5)*(DATA!$B$2:$B$13=TABLEAU!$A17)*(DATA!$D$2:$D$13=TABLEAU!$C17)*(DATA!$E$2:$E$13))) -> 0 | E17: =IF($B17<>"",SUMPRODUCT((DATA!$A$2:$A$13=TABLEAU!E$5)*(DATA!$B$2:$B$13=TABLEAU!$A17)*(DATA!$C$2:$C$13=TABLEAU!$B17)*(DATA!$E$2:$E$13)),SUMPRODUCT((DATA!$A$2:$A$13=TABLEAU!E$5)*(DATA!$B$2:$B$13=TABLEAU!$A17)*(DATA!$D$2:$D$13=TABLEAU!$C17)*(DATA!$E$2:$E$13))) -> 0 | F17: =IF($B17<>"",SUMPRODUCT((DATA!$A$2:$A$13=TABLEAU!F$5)*(DATA!$B$2:$B$13=TABLEAU!$A17)*(DATA!$C$2:$C$13=TABLEAU!$B17)*(DATA!$E$2:$E$13)),SUMPRODUCT((DATA!$A$2:$A$13=TABLEAU!F$5)*(DATA!$B$2:$B$13=TABLEAU!$A17)*(DATA!$D$2:$D$13=TABLEAU!$C17)*(DATA!$E$2:$E$13))) -> 0 | G17: =IF($B17<>"",SUMPRODUCT((DATA!$A$2:$A$13=TABLEAU!G$5)*(DATA!$B$2:$B$13=TABLEAU!$A17)*(DATA!$C$2:$C$13=TABLEAU!$B17)*(DATA!$E$2:$E$13)),SUMPRODUCT((DATA!$A$2:$A$13=TABLEAU!G$5)*(DATA!$B$2:$B$13=TABLEAU!$A17)*(DATA!$D$2:$D$13=TABLEAU!$C17)*(DATA!$E$2:$E$13))) -> 0 | H17: =IF($B17<>"",SUMPRODUCT((DATA!$A$2:$A$13=TABLEAU!H$5)*(DATA!$B$2:$B$13=TABLEAU!$A17)*(DATA!$C$2:$C$13=TABLEAU!$B17)*(DATA!$E$2:$E$13)),SUMPRODUCT((DATA!$A$2:$A$13=TABLEAU!H$5)*(DATA!$B$2:$B$13=TABLEAU!$A17)*(DATA!$D$2:$D$13=TABLEAU!$C17)*(DATA!$E$2:$E$13))) -> 0 | I17: =IF($B17<>"",SUMPRODUCT((DATA!$A$2:$A$13=TABLEAU!I$5)*(DATA!$B$2:$B$13=TABLEAU!$A17)*(DATA!$C$2:$C$13=TABLEAU!$B17)*(DATA!$E$2:$E$13)),SUMPRODUCT((DATA!$A$2:$A$13=TABLEAU!I$5)*(DATA!$B$2:$B$13=TABLEAU!$A17)*(DATA!$D$2:$D$13=TABLEAU!$C17)*(DATA!$E$2:$E$13))) -> 0 | J17: =IF($B17<>"",SUMPRODUCT((DATA!$A$2:$A$13=TABLEAU!J$5)*(DATA!$B$2:$B$13=TABLEAU!$A17)*(DATA!$C$2:$C$13=TABLEAU!$B17)*(DATA!$E$2:$E$13)),SUMPRODUCT((DATA!$A$2:$A$13=TABLEAU!J$5)*(DATA!$B$2:$B$13=TABLEAU!$A17)*(DATA!$D$2:$D$13=TABLEAU!$C17)*(DATA!$E$2:$E$13))) -> 0 | K17: =IF($B17<>"",SUMPRODUCT((DATA!$A$2:$A$13=TABLEAU!K$5)*(DATA!$B$2:$B$13=TABLEAU!$A17)*(DATA!$C$2:$C$13=TABLEAU!$B17)*(DATA!$E$2:$E$13)),SUMPRODUCT((DATA!$A$2:$A$13=TABLEAU!K$5)*(DATA!$B$2:$B$13=TABLEAU!$A17)*(DATA!$D$2:$D$13=TABLEAU!$C17)*(DATA!$E$2:$E$13))) -> 0 | ... O17: =IF($B17<>"",SUMPRODUCT((DATA!$A$2:$A$13=TABLEAU!O$5)*(DATA!$B$2:$B$13=TABLEAU!$A17)*(DATA!$C$2:$C$13=TABLEAU!$B17)*(DATA!$E$2:$E$13)),SUMPRODUCT((DATA!$A$2:$A$13=TABLEAU!O$5)*(DATA!$B$2:$B$13=TABLEAU!$A17)*(DATA!$D$2:$D$13=TABLEAU!$C17)*(DATA!$E$2:$E$13))) -> 0
A18: ES | B18: GFK | D18: =IF($B18<>"",SUMPRODUCT((DATA!$A$2:$A$13=TABLEAU!D$5)*(DATA!$B$2:$B$13=TABLEAU!$A18)*(DATA!$C$2:$C$13=TABLEAU!$B18)*(DATA!$E$2:$E$13)),SUMPRODUCT((DATA!$A$2:$A$13=TABLEAU!D$5)*(DATA!$B$2:$B$13=TABLEAU!$A18)*(DATA!$D$2:$D$13=TABLEAU!$C18)*(DATA!$E$2:$E$13))) -> 0 | E18: =IF($B18<>"",SUMPRODUCT((DATA!$A$2:$A$13=TABLEAU!E$5)*(DATA!$B$2:$B$13=TABLEAU!$A18)*(DATA!$C$2:$C$13=TABLEAU!$B18)*(DATA!$E$2:$E$13)),SUMPRODUCT((DATA!$A$2:$A$13=TABLEAU!E$5)*(DATA!$B$2:$B$13=TABLEAU!$A18)*(DATA!$D$2:$D$13=TABLEAU!$C18)*(DATA!$E$2:$E$13))) -> 0 | F18: =IF($B18<>"",SUMPRODUCT((DATA!$A$2:$A$13=TABLEAU!F$5)*(DATA!$B$2:$B$13=TABLEAU!$A18)*(DATA!$C$2:$C$13=TABLEAU!$B18)*(DATA!$E$2:$E$13)),SUMPRODUCT((DATA!$A$2:$A$13=TABLEAU!F$5)*(DATA!$B$2:$B$13=TABLEAU!$A18)*(DATA!$D$2:$D$13=TABLEAU!$C18)*(DATA!$E$2:$E$13))) -> 0 | G18: =IF($B18<>"",SUMPRODUCT((DATA!$A$2:$A$13=TABLEAU!G$5)*(DATA!$B$2:$B$13=TABLEAU!$A18)*(DATA!$C$2:$C$13=TABLEAU!$B18)*(DATA!$E$2:$E$13)),SUMPRODUCT((DATA!$A$2:$A$13=TABLEAU!G$5)*(DATA!$B$2:$B$13=TABLEAU!$A18)*(DATA!$D$2:$D$13=TABLEAU!$C18)*(DATA!$E$2:$E$13))) -> 0 | H18: =IF($B18<>"",SUMPRODUCT((DATA!$A$2:$A$13=TABLEAU!H$5)*(DATA!$B$2:$B$13=TABLEAU!$A18)*(DATA!$C$2:$C$13=TABLEAU!$B18)*(DATA!$E$2:$E$13)),SUMPRODUCT((DATA!$A$2:$A$13=TABLEAU!H$5)*(DATA!$B$2:$B$13=TABLEAU!$A18)*(DATA!$D$2:$D$13=TABLEAU!$C18)*(DATA!$E$2:$E$13))) -> 0 | I18: =IF($B18<>"",SUMPRODUCT((DATA!$A$2:$A$13=TABLEAU!I$5)*(DATA!$B$2:$B$13=TABLEAU!$A18)*(DATA!$C$2:$C$13=TABLEAU!$B18)*(DATA!$E$2:$E$13)),SUMPRODUCT((DATA!$A$2:$A$13=TABLEAU!I$5)*(DATA!$B$2:$B$13=TABLEAU!$A18)*(DATA!$D$2:$D$13=TABLEAU!$C18)*(DATA!$E$2:$E$13))) -> 0 | J18: =IF($B18<>"",SUMPRODUCT((DATA!$A$2:$A$13=TABLEAU!J$5)*(DATA!$B$2:$B$13=TABLEAU!$A18)*(DATA!$C$2:$C$13=TABLEAU!$B18)*(DATA!$E$2:$E$13)),SUMPRODUCT((DATA!$A$2:$A$13=TABLEAU!J$5)*(DATA!$B$2:$B$13=TABLEAU!$A18)*(DATA!$D$2:$D$13=TABLEAU!$C18)*(DATA!$E$2:$E$13))) -> 0 | K18: =IF($B18<>"",SUMPRODUCT((DATA!$A$2:$A$13=TABLEAU!K$5)*(DATA!$B$2:$B$13=TABLEAU!$A18)*(DATA!$C$2:$C$13=TABLEAU!$B18)*(DATA!$E$2:$E$13)),SUMPRODUCT((DATA!$A$2:$A$13=TABLEAU!K$5)*(DATA!$B$2:$B$13=TABLEAU!$A18)*(DATA!$D$2:$D$13=TABLEAU!$C18)*(DATA!$E$2:$E$13))) -> 0 | ... O18: =IF($B18<>"",SUMPRODUCT((DATA!$A$2:$A$13=TABLEAU!O$5)*(DATA!$B$2:$B$13=TABLEAU!$A18)*(DATA!$C$2:$C$13=TABLEAU!$B18)*(DATA!$E$2:$E$13)),SUMPRODUCT((DATA!$A$2:$A$13=TABLEAU!O$5)*(DATA!$B$2:$B$13=TABLEAU!$A18)*(DATA!$D$2:$D$13=TABLEAU!$C18)*(DATA!$E$2:$E$13))) -> 0
A19: ES | C19: 120048 | D19: =IF($B19<>"",SUMPRODUCT((DATA!$A$2:$A$13=TABLEAU!D$5)*(DATA!$B$2:$B$13=TABLEAU!$A19)*(DATA!$C$2:$C$13=TABLEAU!$B19)*(DATA!$E$2:$E$13)),SUMPRODUCT((DATA!$A$2:$A$13=TABLEAU!D$5)*(DATA!$B$2:$B$13=TABLEAU!$A19)*(DATA!$D$2:$D$13=TABLEAU!$C19)*(DATA!$E$2:$E$13))) -> 0 | E19: =IF($B19<>"",SUMPRODUCT((DATA!$A$2:$A$13=TABLEAU!E$5)*(DATA!$B$2:$B$13=TABLEAU!$A19)*(DATA!$C$2:$C$13=TABLEAU!$B19)*(DATA!$E$2:$E$13)),SUMPRODUCT((DATA!$A$2:$A$13=TABLEAU!E$5)*(DATA!$B$2:$B$13=TABLEAU!$A19)*(DATA!$D$2:$D$13=TABLEAU!$C19)*(DATA!$E$2:$E$13))) -> 0 | F19: =IF($B19<>"",SUMPRODUCT((DATA!$A$2:$A$13=TABLEAU!F$5)*(DATA!$B$2:$B$13=TABLEAU!$A19)*(DATA!$C$2:$C$13=TABLEAU!$B19)*(DATA!$E$2:$E$13)),SUMPRODUCT((DATA!$A$2:$A$13=TABLEAU!F$5)*(DATA!$B$2:$B$13=TABLEAU!$A19)*(DATA!$D$2:$D$13=TABLEAU!$C19)*(DATA!$E$2:$E$13))) -> 0 | G19: =IF($B19<>"",SUMPRODUCT((DATA!$A$2:$A$13=TABLEAU!G$5)*(DATA!$B$2:$B$13=TABLEAU!$A19)*(DATA!$C$2:$C$13=TABLEAU!$B19)*(DATA!$E$2:$E$13)),SUMPRODUCT((DATA!$A$2:$A$13=TABLEAU!G$5)*(DATA!$B$2:$B$13=TABLEAU!$A19)*(DATA!$D$2:$D$13=TABLEAU!$C19)*(DATA!$E$2:$E$13))) -> 0 | H19: =IF($B19<>"",SUMPRODUCT((DATA!$A$2:$A$13=TABLEAU!H$5)*(DATA!$B$2:$B$13=TABLEAU!$A19)*(DATA!$C$2:$C$13=TABLEAU!$B19)*(DATA!$E$2:$E$13)),SUMPRODUCT((DATA!$A$2:$A$13=TABLEAU!H$5)*(DATA!$B$2:$B$13=TABLEAU!$A19)*(DATA!$D$2:$D$13=TABLEAU!$C19)*(DATA!$E$2:$E$13))) -> 0 | I19: =IF($B19<>"",SUMPRODUCT((DATA!$A$2:$A$13=TABLEAU!I$5)*(DATA!$B$2:$B$13=TABLEAU!$A19)*(DATA!$C$2:$C$13=TABLEAU!$B19)*(DATA!$E$2:$E$13)),SUMPRODUCT((DATA!$A$2:$A$13=TABLEAU!I$5)*(DATA!$B$2:$B$13=TABLEAU!$A19)*(DATA!$D$2:$D$13=TABLEAU!$C19)*(DATA!$E$2:$E$13))) -> 0 | J19: =IF($B19<>"",SUMPRODUCT((DATA!$A$2:$A$13=TABLEAU!J$5)*(DATA!$B$2:$B$13=TABLEAU!$A19)*(DATA!$C$2:$C$13=TABLEAU!$B19)*(DATA!$E$2:$E$13)),SUMPRODUCT((DATA!$A$2:$A$13=TABLEAU!J$5)*(DATA!$B$2:$B$13=TABLEAU!$A19)*(DATA!$D$2:$D$13=TABLEAU!$C19)*(DATA!$E$2:$E$13))) -> 0 | K19: =IF($B19<>"",SUMPRODUCT((DATA!$A$2:$A$13=TABLEAU!K$5)*(DATA!$B$2:$B$13=TABLEAU!$A19)*(DATA!$C$2:$C$13=TABLEAU!$B19)*(DATA!$E$2:$E$13)),SUMPRODUCT((DATA!$A$2:$A$13=TABLEAU!K$5)*(DATA!$B$2:$B$13=TABLEAU!$A19)*(DATA!$D$2:$D$13=TABLEAU!$C19)*(DATA!$E$2:$E$13))) -> 256 | ... O19: =IF($B19<>"",SUMPRODUCT((DATA!$A$2:$A$13=TABLEAU!O$5)*(DATA!$B$2:$B$13=TABLEAU!$A19)*(DATA!$C$2:$C$13=TABLEAU!$B19)*(DATA!$E$2:$E$13)),SUMPRODUCT((DATA!$A$2:$A$13=TABLEAU!O$5)*(DATA!$B$2:$B$13=TABLEAU!$A19)*(DATA!$D$2:$D$13=TABLEAU!$C19)*(DATA!$E$2:$E$13))) -> 0
A20: ES | C20: 120049 | D20: =IF($B20<>"",SUMPRODUCT((DATA!$A$2:$A$13=TABLEAU!D$5)*(DATA!$B$2:$B$13=TABLEAU!$A20)*(DATA!$C$2:$C$13=TABLEAU!$B20)*(DATA!$E$2:$E$13)),SUMPRODUCT((DATA!$A$2:$A$13=TABLEAU!D$5)*(DATA!$B$2:$B$13=TABLEAU!$A20)*(DATA!$D$2:$D$13=TABLEAU!$C20)*(DATA!$E$2:$E$13))) -> 0 | E20: =IF($B20<>"",SUMPRODUCT((DATA!$A$2:$A$13=TABLEAU!E$5)*(DATA!$B$2:$B$13=TABLEAU!$A20)*(DATA!$C$2:$C$13=TABLEAU!$B20)*(DATA!$E$2:$E$13)),SUMPRODUCT((DATA!$A$2:$A$13=TABLEAU!E$5)*(DATA!$B$2:$B$13=TABLEAU!$A20)*(DATA!$D$2:$D$13=TABLEAU!$C20)*(DATA!$E$2:$E$13))) -> 0 | F20: =IF($B20<>"",SUMPRODUCT((DATA!$A$2:$A$13=TABLEAU!F$5)*(DATA!$B$2:$B$13=TABLEAU!$A20)*(DATA!$C$2:$C$13=TABLEAU!$B20)*(DATA!$E$2:$E$13)),SUMPRODUCT((DATA!$A$2:$A$13=TABLEAU!F$5)*(DATA!$B$2:$B$13=TABLEAU!$A20)*(DATA!$D$2:$D$13=TABLEAU!$C20)*(DATA!$E$2:$E$13))) -> 0 | G20: =IF($B20<>"",SUMPRODUCT((DATA!$A$2:$A$13=TABLEAU!G$5)*(DATA!$B$2:$B$13=TABLEAU!$A20)*(DATA!$C$2:$C$13=TABLEAU!$B20)*(DATA!$E$2:$E$13)),SUMPRODUCT((DATA!$A$2:$A$13=TABLEAU!G$5)*(DATA!$B$2:$B$13=TABLEAU!$A20)*(DATA!$D$2:$D$13=TABLEAU!$C20)*(DATA!$E$2:$E$13))) -> 0 | H20: =IF($B20<>"",SUMPRODUCT((DATA!$A$2:$A$13=TABLEAU!H$5)*(DATA!$B$2:$B$13=TABLEAU!$A20)*(DATA!$C$2:$C$13=TABLEAU!$B20)*(DATA!$E$2:$E$13)),SUMPRODUCT((DATA!$A$2:$A$13=TABLEAU!H$5)*(DATA!$B$2:$B$13=TABLEAU!$A20)*(DATA!$D$2:$D$13=TABLEAU!$C20)*(DATA!$E$2:$E$13))) -> 0 | I20: =IF($B20<>"",SUMPRODUCT((DATA!$A$2:$A$13=TABLEAU!I$5)*(DATA!$B$2:$B$13=TABLEAU!$A20)*(DATA!$C$2:$C$13=TABLEAU!$B20)*(DATA!$E$2:$E$13)),SUMPRODUCT((DATA!$A$2:$A$13=TABLEAU!I$5)*(DATA!$B$2:$B$13=TABLEAU!$A20)*(DATA!$D$2:$D$13=TABLEAU!$C20)*(DATA!$E$2:$E$13))) -> 0 | J20: =IF($B20<>"",SUMPRODUCT((DATA!$A$2:$A$13=TABLEAU!J$5)*(DATA!$B$2:$B$13=TABLEAU!$A20)*(DATA!$C$2:$C$13=TABLEAU!$B20)*(DATA!$E$2:$E$13)),SUMPRODUCT((DATA!$A$2:$A$13=TABLEAU!J$5)*(DATA!$B$2:$B$13=TABLEAU!$A20)*(DATA!$D$2:$D$13=TABLEAU!$C20)*(DATA!$E$2:$E$13))) -> 0 | K20: =IF($B20<>"",SUMPRODUCT((DATA!$A$2:$A$13=TABLEAU!K$5)*(DATA!$B$2:$B$13=TABLEAU!$A20)*(DATA!$C$2:$C$13=TABLEAU!$B20)*(DATA!$E$2:$E$13)),SUMPRODUCT((DATA!$A$2:$A$13=TABLEAU!K$5)*(DATA!$B$2:$B$13=TABLEAU!$A20)*(DATA!$D$2:$D$13=TABLEAU!$C20)*(DATA!$E$2:$E$13))) -> 0 | ... O20: =IF($B20<>"",SUMPRODUCT((DATA!$A$2:$A$13=TABLEAU!O$5)*(DATA!$B$2:$B$13=TABLEAU!$A20)*(DATA!$C$2:$C$13=TABLEAU!$B20)*(DATA!$E$2:$E$13)),SUMPRODUCT((DATA!$A$2:$A$13=TABLEAU!O$5)*(DATA!$B$2:$B$13=TABLEAU!$A20)*(DATA!$D$2:$D$13=TABLEAU!$C20)*(DATA!$E$2:$E$13))) -> 0
A21: ES | C21: 120050 | D21: =IF($B21<>"",SUMPRODUCT((DATA!$A$2:$A$13=TABLEAU!D$5)*(DATA!$B$2:$B$13=TABLEAU!$A21)*(DATA!$C$2:$C$13=TABLEAU!$B21)*(DATA!$E$2:$E$13)),SUMPRODUCT((DATA!$A$2:$A$13=TABLEAU!D$5)*(DATA!$B$2:$B$13=TABLEAU!$A21)*(DATA!$D$2:$D$13=TABLEAU!$C21)*(DATA!$E$2:$E$13))) -> 0 | E21: =IF($B21<>"",SUMPRODUCT((DATA!$A$2:$A$13=TABLEAU!E$5)*(DATA!$B$2:$B$13=TABLEAU!$A21)*(DATA!$C$2:$C$13=TABLEAU!$B21)*(DATA!$E$2:$E$13)),SUMPRODUCT((DATA!$A$2:$A$13=TABLEAU!E$5)*(DATA!$B$2:$B$13=TABLEAU!$A21)*(DATA!$D$2:$D$13=TABLEAU!$C21)*(DATA!$E$2:$E$13))) -> 0 | F21: =IF($B21<>"",SUMPRODUCT((DATA!$A$2:$A$13=TABLEAU!F$5)*(DATA!$B$2:$B$13=TABLEAU!$A21)*(DATA!$C$2:$C$13=TABLEAU!$B21)*(DATA!$E$2:$E$13)),SUMPRODUCT((DATA!$A$2:$A$13=TABLEAU!F$5)*(DATA!$B$2:$B$13=TABLEAU!$A21)*(DATA!$D$2:$D$13=TABLEAU!$C21)*(DATA!$E$2:$E$13))) -> 0 | G21: =IF($B21<>"",SUMPRODUCT((DATA!$A$2:$A$13=TABLEAU!G$5)*(DATA!$B$2:$B$13=TABLEAU!$A21)*(DATA!$C$2:$C$13=TABLEAU!$B21)*(DATA!$E$2:$E$13)),SUMPRODUCT((DATA!$A$2:$A$13=TABLEAU!G$5)*(DATA!$B$2:$B$13=TABLEAU!$A21)*(DATA!$D$2:$D$13=TABLEAU!$C21)*(DATA!$E$2:$E$13))) -> 0 | H21: =IF($B21<>"",SUMPRODUCT((DATA!$A$2:$A$13=TABLEAU!H$5)*(DATA!$B$2:$B$13=TABLEAU!$A21)*(DATA!$C$2:$C$13=TABLEAU!$B21)*(DATA!$E$2:$E$13)),SUMPRODUCT((DATA!$A$2:$A$13=TABLEAU!H$5)*(DATA!$B$2:$B$13=TABLEAU!$A21)*(DATA!$D$2:$D$13=TABLEAU!$C21)*(DATA!$E$2:$E$13))) -> 0 | I21: =IF($B21<>"",SUMPRODUCT((DATA!$A$2:$A$13=TABLEAU!I$5)*(DATA!$B$2:$B$13=TABLEAU!$A21)*(DATA!$C$2:$C$13=TABLEAU!$B21)*(DATA!$E$2:$E$13)),SUMPRODUCT((DATA!$A$2:$A$13=TABLEAU!I$5)*(DATA!$B$2:$B$13=TABLEAU!$A21)*(DATA!$D$2:$D$13=TABLEAU!$C21)*(DATA!$E$2:$E$13))) -> 0 | J21: =IF($B21<>"",SUMPRODUCT((DATA!$A$2:$A$13=TABLEAU!J$5)*(DATA!$B$2:$B$13=TABLEAU!$A21)*(DATA!$C$2:$C$13=TABLEAU!$B21)*(DATA!$E$2:$E$13)),SUMPRODUCT((DATA!$A$2:$A$13=TABLEAU!J$5)*(DATA!$B$2:$B$13=TABLEAU!$A21)*(DATA!$D$2:$D$13=TABLEAU!$C21)*(DATA!$E$2:$E$13))) -> 0 | K21: =IF($B21<>"",SUMPRODUCT((DATA!$A$2:$A$13=TABLEAU!K$5)*(DATA!$B$2:$B$13=TABLEAU!$A21)*(DATA!$C$2:$C$13=TABLEAU!$B21)*(DATA!$E$2:$E$13)),SUMPRODUCT((DATA!$A$2:$A$13=TABLEAU!K$5)*(DATA!$B$2:$B$13=TABLEAU!$A21)*(DATA!$D$2:$D$13=TABLEAU!$C21)*(DATA!$E$2:$E$13))) -> 0 | ... O21: =IF($B21<>"",SUMPRODUCT((DATA!$A$2:$A$13=TABLEAU!O$5)*(DATA!$B$2:$B$13=TABLEAU!$A21)*(DATA!$C$2:$C$13=TABLEAU!$B21)*(DATA!$E$2:$E$13)),SUMPRODUCT((DATA!$A$2:$A$13=TABLEAU!O$5)*(DATA!$B$2:$B$13=TABLEAU!$A21)*(DATA!$D$2:$D$13=TABLEAU!$C21)*(DATA!$E$2:$E$13))) -> 0

Sheet DATA
A1: Loading date | B1: CRTY | C1: NATURE | D1: NUMBER | E1: POIDS
A2: 43101 | B2: FR | D2: 120045 | E2: 520.8
A3: 43132 | B3: FR | D3: =D2+1 -> 120046 | E3: 168
A4: 43160 | B4: FR | D4: =D3+1 -> 120047 | E4: 168
A5: 43191 | B5: FR | C5: ABC | E5: 384
A6: 43221 | B6: FR | C6: DEF | E6: 172.8
A7: 43313 | B7: FR | C7: GFK | E7: 64.8
A8: 43313 | B8: FR | D8: 120051 | E8: 396
A9: 43313 | B9: FR | D9: 120052 | E9: 84
A10: 43313 | B10: ES | D10: 120045 | E10: 48
A11: 43313 | B11: ES | D11: =D10+1 -> 120046 | E11: 64.8
A12: 43313 | B12: ES | D12: =D11+1 -> 120047 | E12: 60
A13: 43313 | B13: ES | D13: =D12+1 -> 120048 | E13: 256
