Workbook

Sheet Feuil1
A1: TOURNEES | B1: Amplitude
A2: A | B2: 1
A3: B | B3: 2
A4: C | B4: 3
A5: D | B5: 4
A6: E | B6: 5
A7: F | B7: 6
A8: G | B8: 7
A9: H | B9: 8
A10: I | B10: 9
A11: J | B11: 10

Sheet Feuil2
B1: Lundi | C1: Mardi | D1: Mercredi | E1: Jeudi | F1: Vendredi | G1: Samedi | H1: Dimanche | J1: Lu | K1: Ma | L1: Me | M1: Je | N1: Ve | O1: Sa | P1: Di
A2: Conducteur1 | B2: A | C2: B | D2: C | J2: =IFERROR(INDEX(Feuil1!$B$2:$B$11,MATCH(Feuil2!B2,Feuil1!$A$2:$A$11,0)),"") -> 1 | K2: =IFERROR(INDEX(Feuil1!$B$2:$B$11,MATCH(Feuil2!C2,Feuil1!$A$2:$A$11,0)),"") -> 2 | L2: =IFERROR(INDEX(Feuil1!$B$2:$B$11,MATCH(Feuil2!D2,Feuil1!$A$2:$A$11,0)),"") -> 3 | M2: =IFERROR(INDEX(Feuil1!$B$2:$B$11,MATCH(Feuil2!E2,Feuil1!$A$2:$A$11,0)),"") | N2: =IFERROR(INDEX(Feuil1!$B$2:$B$11,MATCH(Feuil2!F2,Feuil1!$A$2:$A$11,0)),"") | O2: =IFERROR(INDEX(Feuil1!$B$2:$B$11,MATCH(Feuil2!G2,Feuil1!$A$2:$A$11,0)),"") | P2: =IFERROR(INDEX(Feuil1!$B$2:$B$11,MATCH(Feuil2!H2,Feuil1!$A$2:$A$11,0)),"")
A3: Conducteur2 | B3: B | C3: C | D3: D | J3: =IFERROR(INDEX(Feuil1!$B$2:$B$11,MATCH(Feuil2!B3,Feuil1!$A$2:$A$11,0)),"") -> 2 | K3: =IFERROR(INDEX(Feuil1!$B$2:$B$11,MATCH(Feuil2!C3,Feuil1!$A$2:$A$11,0)),"") -> 3 | L3: =IFERROR(INDEX(Feuil1!$B$2:$B$11,MATCH(Feuil2!D3,Feuil1!$A$2:$A$11,0)),"") -> 4 | M3: =IFERROR(INDEX(Feuil1!$B$2:$B$11,MATCH(Feuil2!E3,Feuil1!$A$2:$A$11,0)),"") | N3: =IFERROR(INDEX(Feuil1!$B$2:$B$11,MATCH(Feuil2!F3,Feuil1!$A$2:$A$11,0)),"") | O3: =IFERROR(INDEX(Feuil1!$B$2:$B$11,MATCH(Feuil2!G3,Feuil1!$A$2:$A$11,0)),"") | P3: =IFERROR(INDEX(Feuil1!$B$2:$B$11,MATCH(Feuil2!H3,Feuil1!$A$2:$A$11,0)),"")
A4: Conducteur3 | B4: C | C4: D | D4: E | J4: =IFERROR(INDEX(Feuil1!$B$2:$B$11,MATCH(Feuil2!B4,Feuil1!$A$2:$A$11,0)),"") -> 3 | K4: =IFERROR(INDEX(Feuil1!$B$2:$B$11,MATCH(Feuil2!C4,Feuil1!$A$2:$A$11,0)),"") -> 4 | L4: =IFERROR(INDEX(Feuil1!$B$2:$B$11,MATCH(Feuil2!D4,Feuil1!$A$2:$A$11,0)),"") -> 5 | M4: =IFERROR(INDEX(Feuil1!$B$2:$B$11,MATCH(Feuil2!E4,Feuil1!$A$2:$A$11,0)),"") | N4: =IFERROR(INDEX(Feuil1!$B$2:$B$11,MATCH(Feuil2!F4,Feuil1!$A$2:$A$11,0)),"") | O4: =IFERROR(INDEX(Feuil1!$B$2:$B$11,MATCH(Feuil2!G4,Feuil1!$A$2:$A$11,0)),"") | P4: =IFERROR(INDEX(Feuil1!$B$2:$B$11,MATCH(Feuil2!H4,Feuil1!$A$2:$A$11,0)),"")
A5: Conducteur4 | B5: D | C5: E | D5: F | J5: =IFERROR(INDEX(Feuil1!$B$2:$B$11,MATCH(Feuil2!B5,Feuil1!$A$2:$A$11,0)),"") -> 4 | K5: =IFERROR(INDEX(Feuil1!$B$2:$B$11,MATCH(Feuil2!C5,Feuil1!$A$2:$A$11,0)),"") -> 5 | L5: =IFERROR(INDEX(Feuil1!$B$2:$B$11,MATCH(Feuil2!D5,Feuil1!$A$2:$A$11,0)),"") -> 6 | M5: =IFERROR(INDEX(Feuil1!$B$2:$B$11,MATCH(Feuil2!E5,Feuil1!$A$2:$A$11,0)),"") | N5: =IFERROR(INDEX(Feuil1!$B$2:$B$11,MATCH(Feuil2!F5,Feuil1!$A$2:$A$11,0)),"") | O5: =IFERROR(INDEX(Feuil1!$B$2:$B$11,MATCH(Feuil2!G5,Feuil1!$A$2:$A$11,0)),"") | P5: =IFERROR(INDEX(Feuil1!$B$2:$B$11,MATCH(Feuil2!H5,Feuil1!$A$2:$A$11,0)),"")
A6: Conducteur5 | B6: E | C6: F | D6: G | J6: =IFERROR(INDEX(Feuil1!$B$2:$B$11,MATCH(Feuil2!B6,Feuil1!$A$2:$A$11,0)),"") -> 5 | K6: =IFERROR(INDEX(Feuil1!$B$2:$B$11,MATCH(Feuil2!C6,Feuil1!$A$2:$A$11,0)),"") -> 6 | L6: =IFERROR(INDEX(Feuil1!$B$2:$B$11,MATCH(Feuil2!D6,Feuil1!$A$2:$A$11,0)),"") -> 7 | M6: =IFERROR(INDEX(Feuil1!$B$2:$B$11,MATCH(Feuil2!E6,Feuil1!$A$2:$A$11,0)),"") | N6: =IFERROR(INDEX(Feuil1!$B$2:$B$11,MATCH(Feuil2!F6,Feuil1!$A$2:$A$11,0)),"") | O6: =IFERROR(INDEX(Feuil1!$B$2:$B$11,MATCH(Feuil2!G6,Feuil1!$A$2:$A$11,0)),"") | P6: =IFERROR(INDEX(Feuil1!$B$2:$B$11,MATCH(Feuil2!H6,Feuil1!$A$2:$A$11,0)),"")
A7: Conducteur6 | B7: F | C7: G | D7: H | J7: =IFERROR(INDEX(Feuil1!$B$2:$B$11,MATCH(Feuil2!B7,Feuil1!$A$2:$A$11,0)),"") -> 6 | K7: =IFERROR(INDEX(Feuil1!$B$2:$B$11,MATCH(Feuil2!C7,Feuil1!$A$2:$A$11,0)),"") -> 7 | L7: =IFERROR(INDEX(Feuil1!$B$2:$B$11,MATCH(Feuil2!D7,Feuil1!$A$2:$A$11,0)),"") -> 8 | M7: =IFERROR(INDEX(Feuil1!$B$2:$B$11,MATCH(Feuil2!E7,Feuil1!$A$2:$A$11,0)),"") | N7: =IFERROR(INDEX(Feuil1!$B$2:$B$11,MATCH(Feuil2!F7,Feuil1!$A$2:$A$11,0)),"") | O7: =IFERROR(INDEX(Feuil1!$B$2:$B$11,MATCH(Feuil2!G7,Feuil1!$A$2:$A$11,0)),"") | P7: =IFERROR(INDEX(Feuil1!$B$2:$B$11,MATCH(Feuil2!H7,Feuil1!$A$2:$A$11,0)),"")
A8: Conducteur7 | B8: G | C8: H | D8: I | J8: =IFERROR(INDEX(Feuil1!$B$2:$B$11,MATCH(Feuil2!B8,Feuil1!$A$2:$A$11,0)),"") -> 7 | K8: =IFERROR(INDEX(Feuil1!$B$2:$B$11,MATCH(Feuil2!C8,Feuil1!$A$2:$A$11,0)),"") -> 8 | L8: =IFERROR(INDEX(Feuil1!$B$2:$B$11,MATCH(Feuil2!D8,Feuil1!$A$2:$A$11,0)),"") -> 9 | M8: =IFERROR(INDEX(Feuil1!$B$2:$B$11,MATCH(Feuil2!E8,Feuil1!$A$2:$A$11,0)),"") | N8: =IFERROR(INDEX(Feuil1!$B$2:$B$11,MATCH(Feuil2!F8,Feuil1!$A$2:$A$11,0)),"") | O8: =IFERROR(INDEX(Feuil1!$B$2:$B$11,MATCH(Feuil2!G8,Feuil1!$A$2:$A$11,0)),"") | P8: =IFERROR(INDEX(Feuil1!$B$2:$B$11,MATCH(Feuil2!H8,Feuil1!$A$2:$A$11,0)),"")
A9: Conducteur8 | B9: H | C9: A | D9: J | J9: =IFERROR(INDEX(Feuil1!$B$2:$B$11,MATCH(Feuil2!B9,Feuil1!$A$2:$A$11,0)),"") -> 8 | K9: =IFERROR(INDEX(Feuil1!$B$2:$B$11,MATCH(Feuil2!C9,Feuil1!$A$2:$A$11,0)),"") -> 1 | L9: =IFERROR(INDEX(Feuil1!$B$2:$B$11,MATCH(Feuil2!D9,Feuil1!$A$2:$A$11,0)),"") -> 10 | M9: =IFERROR(INDEX(Feuil1!$B$2:$B$11,MATCH(Feuil2!E9,Feuil1!$A$2:$A$11,0)),"") | N9: =IFERROR(INDEX(Feuil1!$B$2:$B$11,MATCH(Feuil2!F9,Feuil1!$A$2:$A$11,0)),"") | O9: =IFERROR(INDEX(Feuil1!$B$2:$B$11,MATCH(Feuil2!G9,Feuil1!$A$2:$A$11,0)),"") | P9: =IFERROR(INDEX(Feuil1!$B$2:$B$11,MATCH(Feuil2!H9,Feuil1!$A$2:$A$11,0)),"")

Sheet Feuil3
