Workbook

Sheet tableau matrice
A1: purchase order | B1: item | C1: Tracking number
A2: 6404196 | B2: 30 | C2: 2.5004251e+15
A3: 6413296 | B3: 200
A4: 6430780 | B4: 10
A5: 6456417 | B5: 30 | C5: 3.1463215e+15
A6: 6456418 | B6: 10
A7: 6456418 | B7: 20 | C7: 425078504653
A8: 6481097 | B8: 10 | C8: 3.1463215e+15
A9: 6481097 | B9: 20 | C9: 3.1463215e+15
A10: 6481097 | B10: 30 | C10: 3.1463215e+15
A11: 6483342 | B11: 10
A12: 6483342 | B12: 20 | C12: 3.1463215e+15
A13: 6483342 | B13: 30 | C13: P2P0305160050
A14: 6483342 | B14: 40 | C14: 3.1463215e+15
A15: 6483342 | B15: 50 | C15: 3.1463215e+15
A16: 6483342 | B16: 60
A17: 6483342 | B17: 70
A18: 6483342 | B18: 80 | C18: 3.1463215e+15
A19: 6483342 | B19: 90 | C19: 3.1463215e+15
A20: 6483342 | B20: 100 | C20: P2P0405160025
A21: 6483345 | B21: 90 | C21: 2.5004251e+15
A22: 6483345 | B22: 100 | C22: 2.5004251e+15
A23: 6483345 | B23: 110 | C23: 2.5004251e+15
A24: 6483345 | B24: 120 | C24: 1000481
A25: 6483345 | B25: 130 | C25: 1000481
A26: 6483345 | B26: 140 | C26: 14000481
A27: 6483345 | B27: 150 | C27: 1000481
A28: 6483345 | B28: 160 | C28: 1000432
A29: 6483345 | B29: 170 | C29: 2.5004251e+15
A30: 6483345 | B30: 180 | C30: 2.5004251e+15
A31: 6483345 | B31: 190 | C31: 2.5004251e+15
A32: 6483345 | B32: 200 | C32: 2.5004251e+15
A33: 6483345 | B33: 210
A34: 6483345 | B34: 220 | C34: 2.5004251e+15
A35: 6483345 | B35: 230 | C35: 2.5004251e+15
A36: 6483345 | B36: 240 | C36: 2.5004251e+15
A37: 6483345 | B37: 250 | C37: 2.5004251e+15
A38: 6483345 | B38: 260
A39: 6483345 | B39: 270 | C39: 2.5004251e+15
A40: 6483345 | B40: 280 | C40: 2.5004251e+15
...

Sheet fichier principal
A1: Purchase Order | B1: item | C1: tracking
A2: 6430780 | B2: 10 | C2: {=IFERROR(INDEX('tableau matrice'!$C$2:$C$401,MATCH('fichier principal'!A2&'fichier principal'!B2,'tableau matrice'!$A$2:$A$401&'tableau matrice'!$B$2:$B$4011,0)),"")} -> 0
A3: 6456418 | B3: 10 | C3: {=IFERROR(INDEX('tableau matrice'!$C$2:$C$401,MATCH('fichier principal'!A3&'fichier principal'!B3,'tableau matrice'!$A$2:$A$401&'tableau matrice'!$B$2:$B$4011,0)),"")} -> 0
A4: 6456418 | B4: 20 | C4: {=IFERROR(INDEX('tableau matrice'!$C$2:$C$401,MATCH('fichier principal'!A4&'fichier principal'!B4,'tableau matrice'!$A$2:$A$401&'tableau matrice'!$B$2:$B$4011,0)),"")} -> 425078504653
A5: 6483342 | B5: 10 | C5: {=IFERROR(INDEX('tableau matrice'!$C$2:$C$401,MATCH('fichier principal'!A5&'fichier principal'!B5,'tableau matrice'!$A$2:$A$401&'tableau matrice'!$B$2:$B$4011,0)),"")} -> 0
A6: 6483342 | B6: 30 | C6: {=IFERROR(INDEX('tableau matrice'!$C$2:$C$401,MATCH('fichier principal'!A6&'fichier principal'!B6,'tableau matrice'!$A$2:$A$401&'tableau matrice'!$B$2:$B$4011,0)),"")} -> P2P0305160050
A7: 6483342 | B7: 50 | C7: {=IFERROR(INDEX('tableau matrice'!$C$2:$C$401,MATCH('fichier principal'!A7&'fichier principal'!B7,'tableau matrice'!$A$2:$A$401&'tableau matrice'!$B$2:$B$4011,0)),"")} -> 3.1463215e+15
A8: 6483342 | B8: 60 | C8: {=IFERROR(INDEX('tableau matrice'!$C$2:$C$401,MATCH('fichier principal'!A8&'fichier principal'!B8,'tableau matrice'!$A$2:$A$401&'tableau matrice'!$B$2:$B$4011,0)),"")} -> 0
A9: 6483342 | B9: 70 | C9: {=IFERROR(INDEX('tableau matrice'!$C$2:$C$401,MATCH('fichier principal'!A9&'fichier principal'!B9,'tableau matrice'!$A$2:$A$401&'tableau matrice'!$B$2:$B$4011,0)),"")} -> 0
A10: 6483342 | B10: 80 | C10: {=IFERROR(INDEX('tableau matrice'!$C$2:$C$401,MATCH('fichier principal'!A10&'fichier principal'!B10,'tableau matrice'!$A$2:$A$401&'tableau matrice'!$B$2:$B$4011,0)),"")} -> 3.1463215e+15
A11: 6483342 | B11: 90 | C11: {=IFERROR(INDEX('tableau matrice'!$C$2:$C$401,MATCH('fichier principal'!A11&'fichier principal'!B11,'tableau matrice'!$A$2:$A$401&'tableau matrice'!$B$2:$B$4011,0)),"")} -> 3.1463215e+15
A12: 6483342 | B12: 100 | C12: {=IFERROR(INDEX('tableau matrice'!$C$2:$C$401,MATCH('fichier principal'!A12&'fichier principal'!B12,'tableau matrice'!$A$2:$A$401&'tableau matrice'!$B$2:$B$4011,0)),"")} -> P2P0405160025
A13: 6483345 | B13: 210 | C13: {=IFERROR(INDEX('tableau matrice'!$C$2:$C$401,MATCH('fichier principal'!A13&'fichier principal'!B13,'tableau matrice'!$A$2:$A$401&'tableau matrice'!$B$2:$B$4011,0)),"")} -> 0
... A178: 6604335 | B178: 20 | C178: {=IFERROR(INDEX('tableau matrice'!$C$2:$C$401,MATCH('fichier principal'!A178&'fichier principal'!B178,'tableau matrice'!$A$2:$A$401&'tableau matrice'!$B$2:$B$4011,0)),"")}
