Workbook

Sheet tableau matrice
A1: purchase order | B1: item | C1: Tracking number
A2: 6404196 | B2: 30 | C2: 2.5004251e+15
A3: 6413296 | B3: 200
A4: 6430780 | B4: 10
A5: 6456417 | B5: 30 | C5: 3.1463215e+15
A6: 6456418 | B6: 10
A7: 6456418 | B7: 20 | C7: 425078504653
A8: 6481097 | B8: 10 | C8: 3.1463215e+15
A9: 6481097 | B9: 20 | C9: 3.1463215e+15
A10: 6481097 | B10: 30 | C10: 3.1463215e+15
A11: 6483342 | B11: 10
A12: 6483342 | B12: 20 | C12: 3.1463215e+15
A13: 6483342 | B13: 30 | C13: P2P0305160050
A14: 6483342 | B14: 40 | C14: 3.1463215e+15
A15: 6483342 | B15: 50 | C15: 3.1463215e+15
A16: 6483342 | B16: 60
A17: 6483342 | B17: 70
A18: 6483342 | B18: 80 | C18: 3.1463215e+15
A19: 6483342 | B19: 90 | C19: 3.1463215e+15
A20: 6483342 | B20: 100 | C20: P2P0405160025
A21: 6483345 | B21: 90 | C21: 2.5004251e+15
A22: 6483345 | B22: 100 | C22: 2.5004251e+15
A23: 6483345 | B23: 110 | C23: 2.5004251e+15
A24: 6483345 | B24: 120 | C24: 1000481
A25: 6483345 | B25: 130 | C25: 1000481
A26: 6483345 | B26: 140 | C26: 14000481
A27: 6483345 | B27: 150 | C27: 1000481
A28: 6483345 | B28: 160 | C28: 1000432
A29: 6483345 | B29: 170 | C29: 2.5004251e+15
A30: 6483345 | B30: 180 | C30: 2.5004251e+15
A31: 6483345 | B31: 190 | C31: 2.5004251e+15
A32: 6483345 | B32: 200 | C32: 2.5004251e+15
A33: 6483345 | B33: 210
A34: 6483345 | B34: 220 | C34: 2.5004251e+15
A35: 6483345 | B35: 230 | C35: 2.5004251e+15
A36: 6483345 | B36: 240 | C36: 2.5004251e+15
A37: 6483345 | B37: 250 | C37: 2.5004251e+15
A38: 6483345 | B38: 260
A39: 6483345 | B39: 270 | C39: 2.5004251e+15
A40: 6483345 | B40: 280 | C40: 2.5004251e+15
A41: 6483345 | B41: 290 | C41: 2.5004251e+15
A42: 6483362 | B42: 150 | C42: 3.1463215e+15
A43: 6483362 | B43: 160 | C43: 3.1463215e+15
A44: 6483362 | B44: 170 | C44: 3.1463215e+15
A45: 6483362 | B45: 210 | C45: 3.1463215e+15
A46: 6483362 | B46: 220 | C46: 3.1463215e+15
A47: 6483362 | B47: 230 | C47: 31463215475015
A48: 6483362 | B48: 270 | C48: XW451055052FR
A49: 6483362 | B49: 280 | C49: XW451045642FR
A50: 6483362 | B50: 300 | C50: XW451049352FR
A51: 6483362 | B51: 310 | C51: 3.1463215e+15
A52: 6485402 | B52: 10
A53: 6496716 | B53: 10 | C53: 3.1463215e+15
A54: 6496716 | B54: 20
A55: 6496716 | B55: 30 | C55: 3.1463215e+15
A56: 6507570 | B56: 10 | C56: 3.1463215e+15
A57: 6507570 | B57: 20 | C57: 3.1463215e+15
A58: 6507571 | B58: 10 | C58: 2.5004251e+15
A59: 6507571 | B59: 20
A60: 6518974 | B60: 10 | C60: 2.5004251e+15
A61: 6523270 | B61: 10 | C61: 3.1463215e+15
A62: 6527254 | B62: 10 | C62: 3.1463215e+15
A63: 6534067 | B63: 10 | C63: 3.1463215e+15
A64: 6534067 | B64: 20 | C64: 3.1463215e+15
A65: 6534067 | B65: 30
A66: 6534067 | B66: 40 | C66: 3.1463215e+15
A67: 6534067 | B67: 50 | C67: 3.1463215e+15
A68: 6534067 | B68: 60 | C68: 3.1463215e+15
A69: 6534067 | B69: 70 | C69: 3.1463215e+15
A70: 6534067 | B70: 80 | C70: 3.1463215e+15
A71: 6534067 | B71: 90 | C71: 3.1463215e+15
A72: 6534067 | B72: 100 | C72: 3.1463215e+15
A73: 6534067 | B73: 110 | C73: 3.1463215e+15
A74: 6534067 | B74: 120 | C74: 3.1463215e+15
A75: 6534067 | B75: 130 | C75: 3.1463215e+15
A76: 6534067 | B76: 140 | C76: 3.1463215e+15
A77: 6534067 | B77: 150 | C77: 3.1463215e+15
... A85: 6534071 | B85: 80 | C85: 2.5004251e+15
A86: 6534071 | B86: 90
A87: 6534071 | B87: 100
A88: 6534071 | B88: 110 | C88: 2.5004251e+15
A89: 6534071 | B89: 120 | C89: 2.5004251e+15
A90: 6534071 | B90: 130 | C90: 2.5004251e+15
A91: 6534071 | B91: 140 | C91: 2.5004251e+15
A92: 6534071 | B92: 150 | C92: 2.5004251e+15
A93: 6534071 | B93: 160
A94: 6534071 | B94: 170 | C94: 2.5004251e+15
A95: 6534071 | B95: 180 | C95: 2.5004251e+15
A96: 6534071 | B96: 190 | C96: 2.5004251e+15
A97: 6534071 | B97: 200 | C97: 2.5004251e+15
A98: 6534071 | B98: 210 | C98: 2.5004251e+15
A99: 6534071 | B99: 220 | C99: 2.5004251e+15
A100: 6534071 | B100: 230 | C100: 2.5004251e+15
A101: 6534071 | B101: 240 | C101: 2.5004251e+15
A102: 6534071 | B102: 250 | C102: 2.5004251e+15
A103: 6534071 | B103: 260 | C103: 2.5004251e+15
A104: 6534071 | B104: 270
A105: 6534071 | B105: 280
A106: 6534071 | B106: 290
A107: 6534071 | B107: 300
...

Sheet fichier principal
A1: Purchase Order | B1: item | C1: tracking
A2: 6430780 | B2: 10 | C2: {=IFERROR(INDEX('tableau matrice'!$C$2:$C$401,MATCH('fichier principal'!A2&'fichier principal'!B2,'tableau matrice'!$A$2:$A$401&'tableau matrice'!$B$2:$B$4011,0)),"")} -> 0
A3: 6456418 | B3: 10 | C3: {=IFERROR(INDEX('tableau matrice'!$C$2:$C$401,MATCH('fichier principal'!A3&'fichier principal'!B3,'tableau matrice'!$A$2:$A$401&'tableau matrice'!$B$2:$B$4011,0)),"")} -> 0
A4: 6456418 | B4: 20 | C4: {=IFERROR(INDEX('tableau matrice'!$C$2:$C$401,MATCH('fichier principal'!A4&'fichier principal'!B4,'tableau matrice'!$A$2:$A$401&'tableau matrice'!$B$2:$B$4011,0)),"")} -> 425078504653
A5: 6483342 | B5: 10 | C5: {=IFERROR(INDEX('tableau matrice'!$C$2:$C$401,MATCH('fichier principal'!A5&'fichier principal'!B5,'tableau matrice'!$A$2:$A$401&'tableau matrice'!$B$2:$B$4011,0)),"")} -> 0
A6: 6483342 | B6: 30 | C6: {=IFERROR(INDEX('tableau matrice'!$C$2:$C$401,MATCH('fichier principal'!A6&'fichier principal'!B6,'tableau matrice'!$A$2:$A$401&'tableau matrice'!$B$2:$B$4011,0)),"")} -> P2P0305160050
A7: 6483342 | B7: 50 | C7: {=IFERROR(INDEX('tableau matrice'!$C$2:$C$401,MATCH('fichier principal'!A7&'fichier principal'!B7,'tableau matrice'!$A$2:$A$401&'tableau matrice'!$B$2:$B$4011,0)),"")} -> 3.1463215e+15
A8: 6483342 | B8: 60 | C8: {=IFERROR(INDEX('tableau matrice'!$C$2:$C$401,MATCH('fichier principal'!A8&'fichier principal'!B8,'tableau matrice'!$A$2:$A$401&'tableau matrice'!$B$2:$B$4011,0)),"")} -> 0
A9: 6483342 | B9: 70 | C9: {=IFERROR(INDEX('tableau matrice'!$C$2:$C$401,MATCH('fichier principal'!A9&'fichier principal'!B9,'tableau matrice'!$A$2:$A$401&'tableau matrice'!$B$2:$B$4011,0)),"")} -> 0
A10: 6483342 | B10: 80 | C10: {=IFERROR(INDEX('tableau matrice'!$C$2:$C$401,MATCH('fichier principal'!A10&'fichier principal'!B10,'tableau matrice'!$A$2:$A$401&'tableau matrice'!$B$2:$B$4011,0)),"")} -> 3.1463215e+15
A11: 6483342 | B11: 90 | C11: {=IFERROR(INDEX('tableau matrice'!$C$2:$C$401,MATCH('fichier principal'!A11&'fichier principal'!B11,'tableau matrice'!$A$2:$A$401&'tableau matrice'!$B$2:$B$4011,0)),"")} -> 3.1463215e+15
A12: 6483342 | B12: 100 | C12: {=IFERROR(INDEX('tableau matrice'!$C$2:$C$401,MATCH('fichier principal'!A12&'fichier principal'!B12,'tableau matrice'!$A$2:$A$401&'tableau matrice'!$B$2:$B$4011,0)),"")} -> P2P0405160025
A13: 6483345 | B13: 210 | C13: {=IFERROR(INDEX('tableau matrice'!$C$2:$C$401,MATCH('fichier principal'!A13&'fichier principal'!B13,'tableau matrice'!$A$2:$A$401&'tableau matrice'!$B$2:$B$4011,0)),"")} -> 0
... A178: 6604335 | B178: 20 | C178: {=IFERROR(INDEX('tableau matrice'!$C$2:$C$401,MATCH('fichier principal'!A178&'fichier principal'!B178,'tableau matrice'!$A$2:$A$401&'tableau matrice'!$B$2:$B$4011,0)),"")}
