Workbook

Sheet Hors contrat 2020
A1: TYPE | B1: FOURNISSEUR | C1: site | D1: date validation devis | E1: ht | F1: ttc
A2: FACTURE | B2: DENOYELLE | C2: FOURMIES | D2: 43862 | E2: 337.4 | F2: =Tableau1[[#This Row],[ht]]*1.2 -> 404.88
A3: FACTURE | B3: STEELCASE | C3: AMIENS | D3: 43831 | E3: 970.75 | F3: =Tableau1[[#This Row],[ht]]*1.2 -> 1164.9
A4: FACTURE | B4: ELIS | C4: ABBEVILLE | D4: 43831 | E4: 326.04 | F4: =Tableau1[[#This Row],[ht]]*1.2 -> 391.248
A5: FACTURE | B5: JLS OFFICE | C5: LILLE SAINT MAURICE | D5: 43831 | E5: 2625.9 | F5: =Tableau1[[#This Row],[ht]]*1.2 -> 3151.08
A6: FACTURE | B6: LYOVEL | C6: BOULOGNE SUR MER | D6: 43831 | E6: 861.3 | F6: =Tableau1[[#This Row],[ht]]*1.2 -> 1033.56
A7: FACTURE | B7: LYOVEL | C7: LE PLESSIS BELLEVILLE | D7: 43831 | E7: 228.64 | F7: =Tableau1[[#This Row],[ht]]*1.2 -> 274.368
A8: FACTURE | B8: LYOVEL | C8: LE PORTEL | D8: 43831 | E8: 323.44 | F8: =Tableau1[[#This Row],[ht]]*1.2 -> 388.128
A9: FACTURE | B9: STEELCASE | C9: LANDRECIES | D9: 43831 | E9: 577.92 | F9: =Tableau1[[#This Row],[ht]]*1.2 -> 693.504
A10: FACTURE | B10: STEELCASE | C10: VALLEE DE L'OISE | D10: 43831 | E10: 763.87 | F10: =Tableau1[[#This Row],[ht]]*1.2 -> 916.644
A11: FACTURE | B11: STEELCASE | C11: CLERMONT | D11: 43831 | E11: 207.59 | F11: =Tableau1[[#This Row],[ht]]*1.2 -> 249.108
A12: FACTURE | B12: STEELCASE | C12: BEAUVAIS GREBER | D12: 43831 | E12: 384.4 | F12: =Tableau1[[#This Row],[ht]]*1.2 -> 461.28
A13: FACTURE | B13: STEELCASE | C13: SEDAN | D13: 43831 | E13: 510.49 | F13: =Tableau1[[#This Row],[ht]]*1.2 -> 612.588
... A30: FACTURE | B30: LYOVEL | C30: RONCHIN | D30: 43862 | E30: 66 | F30: =Tableau1[[#This Row],[ht]]*1.2 -> 79.2

Sheet Suivi Hors Contrat 2020
A1: DOMAINE | B1: Janvier | C1: Février | D1: Mars | E1: Avril | F1: Mai | G1: Juin | H1: Juillet | I1: Août | J1: Septembre | K1: Octobre | L1: Novembre | M1: Décembre | N1: Total Budget | O1: Total Dépense | P1: Nouveau budget | Q1: Budget restant
A3: DESIGN ET SOLUTIONS | B3: =IFERROR(SUMPRODUCT(('Hors contrat 2020'!$B$2:$B$30=$A3)*(MONTH('Hors contrat 2020'!$D$2:$D$30)=COLUMN()-1)*('Hors contrat 2020'!$E$2:$E$30)),"") -> 0 | C3: =IFERROR(SUMPRODUCT(('Hors contrat 2020'!$B$2:$B$30=$A3)*(MONTH('Hors contrat 2020'!$D$2:$D$30)=COLUMN()-1)*('Hors contrat 2020'!$E$2:$E$30)),"") -> 0 | D3: =IFERROR(SUMPRODUCT(('Hors contrat 2020'!$B$2:$B$30=$A3)*(MONTH('Hors contrat 2020'!$D$2:$D$30)=COLUMN()-1)*('Hors contrat 2020'!$E$2:$E$30)),"") -> 0 | E3: =IFERROR(SUMPRODUCT(('Hors contrat 2020'!$B$2:$B$30=$A3)*(MONTH('Hors contrat 2020'!$D$2:$D$30)=COLUMN()-1)*('Hors contrat 2020'!$E$2:$E$30)),"") -> 0 | F3: =IFERROR(SUMPRODUCT(('Hors contrat 2020'!$B$2:$B$30=$A3)*(MONTH('Hors contrat 2020'!$D$2:$D$30)=COLUMN()-1)*('Hors contrat 2020'!$E$2:$E$30)),"") -> 0 | G3: =IFERROR(SUMPRODUCT(('Hors contrat 2020'!$B$2:$B$30=$A3)*(MONTH('Hors contrat 2020'!$D$2:$D$30)=COLUMN()-1)*('Hors contrat 2020'!$E$2:$E$30)),"") -> 0 | H3: =IFERROR(SUMPRODUCT(('Hors contrat 2020'!$B$2:$B$30=$A3)*(MONTH('Hors contrat 2020'!$D$2:$D$30)=COLUMN()-1)*('Hors contrat 2020'!$E$2:$E$30)),"") -> 0 | I3: =IFERROR(SUMPRODUCT(('Hors contrat 2020'!$B$2:$B$30=$A3)*(MONTH('Hors contrat 2020'!$D$2:$D$30)=COLUMN()-1)*('Hors contrat 2020'!$E$2:$E$30)),"") -> 0 | ... M3: =IFERROR(SUMPRODUCT(('Hors contrat 2020'!$B$2:$B$30=$A3)*(MONTH('Hors contrat 2020'!$D$2:$D$30)=COLUMN()-1)*('Hors contrat 2020'!$E$2:$E$30)),"") -> 0
A4: JLS OFFICE | B4: =IFERROR(SUMPRODUCT(('Hors contrat 2020'!$B$2:$B$30=$A4)*(MONTH('Hors contrat 2020'!$D$2:$D$30)=COLUMN()-1)*('Hors contrat 2020'!$E$2:$E$30)),"") -> 2625.9 | C4: =IFERROR(SUMPRODUCT(('Hors contrat 2020'!$B$2:$B$30=$A4)*(MONTH('Hors contrat 2020'!$D$2:$D$30)=COLUMN()-1)*('Hors contrat 2020'!$E$2:$E$30)),"") -> 0 | D4: =IFERROR(SUMPRODUCT(('Hors contrat 2020'!$B$2:$B$30=$A4)*(MONTH('Hors contrat 2020'!$D$2:$D$30)=COLUMN()-1)*('Hors contrat 2020'!$E$2:$E$30)),"") -> 0 | E4: =IFERROR(SUMPRODUCT(('Hors contrat 2020'!$B$2:$B$30=$A4)*(MONTH('Hors contrat 2020'!$D$2:$D$30)=COLUMN()-1)*('Hors contrat 2020'!$E$2:$E$30)),"") -> 0 | F4: =IFERROR(SUMPRODUCT(('Hors contrat 2020'!$B$2:$B$30=$A4)*(MONTH('Hors contrat 2020'!$D$2:$D$30)=COLUMN()-1)*('Hors contrat 2020'!$E$2:$E$30)),"") -> 0 | G4: =IFERROR(SUMPRODUCT(('Hors contrat 2020'!$B$2:$B$30=$A4)*(MONTH('Hors contrat 2020'!$D$2:$D$30)=COLUMN()-1)*('Hors contrat 2020'!$E$2:$E$30)),"") -> 0 | H4: =IFERROR(SUMPRODUCT(('Hors contrat 2020'!$B$2:$B$30=$A4)*(MONTH('Hors contrat 2020'!$D$2:$D$30)=COLUMN()-1)*('Hors contrat 2020'!$E$2:$E$30)),"") -> 0 | I4: =IFERROR(SUMPRODUCT(('Hors contrat 2020'!$B$2:$B$30=$A4)*(MONTH('Hors contrat 2020'!$D$2:$D$30)=COLUMN()-1)*('Hors contrat 2020'!$E$2:$E$30)),"") -> 0 | ... M4: =IFERROR(SUMPRODUCT(('Hors contrat 2020'!$B$2:$B$30=$A4)*(MONTH('Hors contrat 2020'!$D$2:$D$30)=COLUMN()-1)*('Hors contrat 2020'!$E$2:$E$30)),"") -> 0
A5: ROGER | B5: =IFERROR(SUMPRODUCT(('Hors contrat 2020'!$B$2:$B$30=$A5)*(MONTH('Hors contrat 2020'!$D$2:$D$30)=COLUMN()-1)*('Hors contrat 2020'!$E$2:$E$30)),"") -> 0 | C5: =IFERROR(SUMPRODUCT(('Hors contrat 2020'!$B$2:$B$30=$A5)*(MONTH('Hors contrat 2020'!$D$2:$D$30)=COLUMN()-1)*('Hors contrat 2020'!$E$2:$E$30)),"") -> 0 | D5: =IFERROR(SUMPRODUCT(('Hors contrat 2020'!$B$2:$B$30=$A5)*(MONTH('Hors contrat 2020'!$D$2:$D$30)=COLUMN()-1)*('Hors contrat 2020'!$E$2:$E$30)),"") -> 0 | E5: =IFERROR(SUMPRODUCT(('Hors contrat 2020'!$B$2:$B$30=$A5)*(MONTH('Hors contrat 2020'!$D$2:$D$30)=COLUMN()-1)*('Hors contrat 2020'!$E$2:$E$30)),"") -> 0 | F5: =IFERROR(SUMPRODUCT(('Hors contrat 2020'!$B$2:$B$30=$A5)*(MONTH('Hors contrat 2020'!$D$2:$D$30)=COLUMN()-1)*('Hors contrat 2020'!$E$2:$E$30)),"") -> 0 | G5: =IFERROR(SUMPRODUCT(('Hors contrat 2020'!$B$2:$B$30=$A5)*(MONTH('Hors contrat 2020'!$D$2:$D$30)=COLUMN()-1)*('Hors contrat 2020'!$E$2:$E$30)),"") -> 0 | H5: =IFERROR(SUMPRODUCT(('Hors contrat 2020'!$B$2:$B$30=$A5)*(MONTH('Hors contrat 2020'!$D$2:$D$30)=COLUMN()-1)*('Hors contrat 2020'!$E$2:$E$30)),"") -> 0 | I5: =IFERROR(SUMPRODUCT(('Hors contrat 2020'!$B$2:$B$30=$A5)*(MONTH('Hors contrat 2020'!$D$2:$D$30)=COLUMN()-1)*('Hors contrat 2020'!$E$2:$E$30)),"") -> 0 | ... M5: =IFERROR(SUMPRODUCT(('Hors contrat 2020'!$B$2:$B$30=$A5)*(MONTH('Hors contrat 2020'!$D$2:$D$30)=COLUMN()-1)*('Hors contrat 2020'!$E$2:$E$30)),"") -> 0
A6: NC DEMENAGEMENT | B6: =IFERROR(SUMPRODUCT(('Hors contrat 2020'!$B$2:$B$30=$A6)*(MONTH('Hors contrat 2020'!$D$2:$D$30)=COLUMN()-1)*('Hors contrat 2020'!$E$2:$E$30)),"") -> 0 | C6: =IFERROR(SUMPRODUCT(('Hors contrat 2020'!$B$2:$B$30=$A6)*(MONTH('Hors contrat 2020'!$D$2:$D$30)=COLUMN()-1)*('Hors contrat 2020'!$E$2:$E$30)),"") -> 0 | D6: =IFERROR(SUMPRODUCT(('Hors contrat 2020'!$B$2:$B$30=$A6)*(MONTH('Hors contrat 2020'!$D$2:$D$30)=COLUMN()-1)*('Hors contrat 2020'!$E$2:$E$30)),"") -> 0 | E6: =IFERROR(SUMPRODUCT(('Hors contrat 2020'!$B$2:$B$30=$A6)*(MONTH('Hors contrat 2020'!$D$2:$D$30)=COLUMN()-1)*('Hors contrat 2020'!$E$2:$E$30)),"") -> 0 | F6: =IFERROR(SUMPRODUCT(('Hors contrat 2020'!$B$2:$B$30=$A6)*(MONTH('Hors contrat 2020'!$D$2:$D$30)=COLUMN()-1)*('Hors contrat 2020'!$E$2:$E$30)),"") -> 0 | G6: =IFERROR(SUMPRODUCT(('Hors contrat 2020'!$B$2:$B$30=$A6)*(MONTH('Hors contrat 2020'!$D$2:$D$30)=COLUMN()-1)*('Hors contrat 2020'!$E$2:$E$30)),"") -> 0 | H6: =IFERROR(SUMPRODUCT(('Hors contrat 2020'!$B$2:$B$30=$A6)*(MONTH('Hors contrat 2020'!$D$2:$D$30)=COLUMN()-1)*('Hors contrat 2020'!$E$2:$E$30)),"") -> 0 | I6: =IFERROR(SUMPRODUCT(('Hors contrat 2020'!$B$2:$B$30=$A6)*(MONTH('Hors contrat 2020'!$D$2:$D$30)=COLUMN()-1)*('Hors contrat 2020'!$E$2:$E$30)),"") -> 0 | ... M6: =IFERROR(SUMPRODUCT(('Hors contrat 2020'!$B$2:$B$30=$A6)*(MONTH('Hors contrat 2020'!$D$2:$D$30)=COLUMN()-1)*('Hors contrat 2020'!$E$2:$E$30)),"") -> 0
A7: STEELCASE | B7: =IFERROR(SUMPRODUCT(('Hors contrat 2020'!$B$2:$B$30=$A7)*(MONTH('Hors contrat 2020'!$D$2:$D$30)=COLUMN()-1)*('Hors contrat 2020'!$E$2:$E$30)),"") -> 3415.02 | C7: =IFERROR(SUMPRODUCT(('Hors contrat 2020'!$B$2:$B$30=$A7)*(MONTH('Hors contrat 2020'!$D$2:$D$30)=COLUMN()-1)*('Hors contrat 2020'!$E$2:$E$30)),"") -> 4417.58 | D7: =IFERROR(SUMPRODUCT(('Hors contrat 2020'!$B$2:$B$30=$A7)*(MONTH('Hors contrat 2020'!$D$2:$D$30)=COLUMN()-1)*('Hors contrat 2020'!$E$2:$E$30)),"") -> 0 | E7: =IFERROR(SUMPRODUCT(('Hors contrat 2020'!$B$2:$B$30=$A7)*(MONTH('Hors contrat 2020'!$D$2:$D$30)=COLUMN()-1)*('Hors contrat 2020'!$E$2:$E$30)),"") -> 0 | F7: =IFERROR(SUMPRODUCT(('Hors contrat 2020'!$B$2:$B$30=$A7)*(MONTH('Hors contrat 2020'!$D$2:$D$30)=COLUMN()-1)*('Hors contrat 2020'!$E$2:$E$30)),"") -> 0 | G7: =IFERROR(SUMPRODUCT(('Hors contrat 2020'!$B$2:$B$30=$A7)*(MONTH('Hors contrat 2020'!$D$2:$D$30)=COLUMN()-1)*('Hors contrat 2020'!$E$2:$E$30)),"") -> 0 | H7: =IFERROR(SUMPRODUCT(('Hors contrat 2020'!$B$2:$B$30=$A7)*(MONTH('Hors contrat 2020'!$D$2:$D$30)=COLUMN()-1)*('Hors contrat 2020'!$E$2:$E$30)),"") -> 0 | I7: =IFERROR(SUMPRODUCT(('Hors contrat 2020'!$B$2:$B$30=$A7)*(MONTH('Hors contrat 2020'!$D$2:$D$30)=COLUMN()-1)*('Hors contrat 2020'!$E$2:$E$30)),"") -> 0 | ... M7: =IFERROR(SUMPRODUCT(('Hors contrat 2020'!$B$2:$B$30=$A7)*(MONTH('Hors contrat 2020'!$D$2:$D$30)=COLUMN()-1)*('Hors contrat 2020'!$E$2:$E$30)),"") -> 0
A8: TOLTEC SECURE | B8: =IFERROR(SUMPRODUCT(('Hors contrat 2020'!$B$2:$B$30=$A8)*(MONTH('Hors contrat 2020'!$D$2:$D$30)=COLUMN()-1)*('Hors contrat 2020'!$E$2:$E$30)),"") -> 0 | C8: =IFERROR(SUMPRODUCT(('Hors contrat 2020'!$B$2:$B$30=$A8)*(MONTH('Hors contrat 2020'!$D$2:$D$30)=COLUMN()-1)*('Hors contrat 2020'!$E$2:$E$30)),"") -> 0 | D8: =IFERROR(SUMPRODUCT(('Hors contrat 2020'!$B$2:$B$30=$A8)*(MONTH('Hors contrat 2020'!$D$2:$D$30)=COLUMN()-1)*('Hors contrat 2020'!$E$2:$E$30)),"") -> 0 | E8: =IFERROR(SUMPRODUCT(('Hors contrat 2020'!$B$2:$B$30=$A8)*(MONTH('Hors contrat 2020'!$D$2:$D$30)=COLUMN()-1)*('Hors contrat 2020'!$E$2:$E$30)),"") -> 0 | F8: =IFERROR(SUMPRODUCT(('Hors contrat 2020'!$B$2:$B$30=$A8)*(MONTH('Hors contrat 2020'!$D$2:$D$30)=COLUMN()-1)*('Hors contrat 2020'!$E$2:$E$30)),"") -> 0 | G8: =IFERROR(SUMPRODUCT(('Hors contrat 2020'!$B$2:$B$30=$A8)*(MONTH('Hors contrat 2020'!$D$2:$D$30)=COLUMN()-1)*('Hors contrat 2020'!$E$2:$E$30)),"") -> 0 | H8: =IFERROR(SUMPRODUCT(('Hors contrat 2020'!$B$2:$B$30=$A8)*(MONTH('Hors contrat 2020'!$D$2:$D$30)=COLUMN()-1)*('Hors contrat 2020'!$E$2:$E$30)),"") -> 0 | I8: =IFERROR(SUMPRODUCT(('Hors contrat 2020'!$B$2:$B$30=$A8)*(MONTH('Hors contrat 2020'!$D$2:$D$30)=COLUMN()-1)*('Hors contrat 2020'!$E$2:$E$30)),"") -> 0 | ... M8: =IFERROR(SUMPRODUCT(('Hors contrat 2020'!$B$2:$B$30=$A8)*(MONTH('Hors contrat 2020'!$D$2:$D$30)=COLUMN()-1)*('Hors contrat 2020'!$E$2:$E$30)),"") -> 0
A9: A-TRAIT | B9: =IFERROR(SUMPRODUCT(('Hors contrat 2020'!$B$2:$B$30=$A9)*(MONTH('Hors contrat 2020'!$D$2:$D$30)=COLUMN()-1)*('Hors contrat 2020'!$E$2:$E$30)),"") -> 0 | C9: =IFERROR(SUMPRODUCT(('Hors contrat 2020'!$B$2:$B$30=$A9)*(MONTH('Hors contrat 2020'!$D$2:$D$30)=COLUMN()-1)*('Hors contrat 2020'!$E$2:$E$30)),"") -> 0 | D9: =IFERROR(SUMPRODUCT(('Hors contrat 2020'!$B$2:$B$30=$A9)*(MONTH('Hors contrat 2020'!$D$2:$D$30)=COLUMN()-1)*('Hors contrat 2020'!$E$2:$E$30)),"") -> 0 | E9: =IFERROR(SUMPRODUCT(('Hors contrat 2020'!$B$2:$B$30=$A9)*(MONTH('Hors contrat 2020'!$D$2:$D$30)=COLUMN()-1)*('Hors contrat 2020'!$E$2:$E$30)),"") -> 0 | F9: =IFERROR(SUMPRODUCT(('Hors contrat 2020'!$B$2:$B$30=$A9)*(MONTH('Hors contrat 2020'!$D$2:$D$30)=COLUMN()-1)*('Hors contrat 2020'!$E$2:$E$30)),"") -> 0 | G9: =IFERROR(SUMPRODUCT(('Hors contrat 2020'!$B$2:$B$30=$A9)*(MONTH('Hors contrat 2020'!$D$2:$D$30)=COLUMN()-1)*('Hors contrat 2020'!$E$2:$E$30)),"") -> 0 | H9: =IFERROR(SUMPRODUCT(('Hors contrat 2020'!$B$2:$B$30=$A9)*(MONTH('Hors contrat 2020'!$D$2:$D$30)=COLUMN()-1)*('Hors contrat 2020'!$E$2:$E$30)),"") -> 0 | I9: =IFERROR(SUMPRODUCT(('Hors contrat 2020'!$B$2:$B$30=$A9)*(MONTH('Hors contrat 2020'!$D$2:$D$30)=COLUMN()-1)*('Hors contrat 2020'!$E$2:$E$30)),"") -> 0 | ... M9: =IFERROR(SUMPRODUCT(('Hors contrat 2020'!$B$2:$B$30=$A9)*(MONTH('Hors contrat 2020'!$D$2:$D$30)=COLUMN()-1)*('Hors contrat 2020'!$E$2:$E$30)),"") -> 0
A10: ELIS | B10: =IFERROR(SUMPRODUCT(('Hors contrat 2020'!$B$2:$B$30=$A10)*(MONTH('Hors contrat 2020'!$D$2:$D$30)=COLUMN()-1)*('Hors contrat 2020'!$E$2:$E$30)),"") -> 326.04 | C10: =IFERROR(SUMPRODUCT(('Hors contrat 2020'!$B$2:$B$30=$A10)*(MONTH('Hors contrat 2020'!$D$2:$D$30)=COLUMN()-1)*('Hors contrat 2020'!$E$2:$E$30)),"") -> 4119.93 | D10: =IFERROR(SUMPRODUCT(('Hors contrat 2020'!$B$2:$B$30=$A10)*(MONTH('Hors contrat 2020'!$D$2:$D$30)=COLUMN()-1)*('Hors contrat 2020'!$E$2:$E$30)),"") -> 0 | E10: =IFERROR(SUMPRODUCT(('Hors contrat 2020'!$B$2:$B$30=$A10)*(MONTH('Hors contrat 2020'!$D$2:$D$30)=COLUMN()-1)*('Hors contrat 2020'!$E$2:$E$30)),"") -> 0 | F10: =IFERROR(SUMPRODUCT(('Hors contrat 2020'!$B$2:$B$30=$A10)*(MONTH('Hors contrat 2020'!$D$2:$D$30)=COLUMN()-1)*('Hors contrat 2020'!$E$2:$E$30)),"") -> 0 | G10: =IFERROR(SUMPRODUCT(('Hors contrat 2020'!$B$2:$B$30=$A10)*(MONTH('Hors contrat 2020'!$D$2:$D$30)=COLUMN()-1)*('Hors contrat 2020'!$E$2:$E$30)),"") -> 0 | H10: =IFERROR(SUMPRODUCT(('Hors contrat 2020'!$B$2:$B$30=$A10)*(MONTH('Hors contrat 2020'!$D$2:$D$30)=COLUMN()-1)*('Hors contrat 2020'!$E$2:$E$30)),"") -> 0 | I10: =IFERROR(SUMPRODUCT(('Hors contrat 2020'!$B$2:$B$30=$A10)*(MONTH('Hors contrat 2020'!$D$2:$D$30)=COLUMN()-1)*('Hors contrat 2020'!$E$2:$E$30)),"") -> 0 | ... M10: =IFERROR(SUMPRODUCT(('Hors contrat 2020'!$B$2:$B$30=$A10)*(MONTH('Hors contrat 2020'!$D$2:$D$30)=COLUMN()-1)*('Hors contrat 2020'!$E$2:$E$30)),"") -> 0
B11: =IFERROR(SUMPRODUCT(('Hors contrat 2020'!$B$2:$B$30=$A11)*(MONTH('Hors contrat 2020'!$D$2:$D$30)=COLUMN()-1)*('Hors contrat 2020'!$E$2:$E$30)),"") -> 0 | C11: =IFERROR(SUMPRODUCT(('Hors contrat 2020'!$B$2:$B$30=$A11)*(MONTH('Hors contrat 2020'!$D$2:$D$30)=COLUMN()-1)*('Hors contrat 2020'!$E$2:$E$30)),"") -> 0 | D11: =IFERROR(SUMPRODUCT(('Hors contrat 2020'!$B$2:$B$30=$A11)*(MONTH('Hors contrat 2020'!$D$2:$D$30)=COLUMN()-1)*('Hors contrat 2020'!$E$2:$E$30)),"") -> 0 | E11: =IFERROR(SUMPRODUCT(('Hors contrat 2020'!$B$2:$B$30=$A11)*(MONTH('Hors contrat 2020'!$D$2:$D$30)=COLUMN()-1)*('Hors contrat 2020'!$E$2:$E$30)),"") -> 0 | F11: =IFERROR(SUMPRODUCT(('Hors contrat 2020'!$B$2:$B$30=$A11)*(MONTH('Hors contrat 2020'!$D$2:$D$30)=COLUMN()-1)*('Hors contrat 2020'!$E$2:$E$30)),"") -> 0 | G11: =IFERROR(SUMPRODUCT(('Hors contrat 2020'!$B$2:$B$30=$A11)*(MONTH('Hors contrat 2020'!$D$2:$D$30)=COLUMN()-1)*('Hors contrat 2020'!$E$2:$E$30)),"") -> 0 | H11: =IFERROR(SUMPRODUCT(('Hors contrat 2020'!$B$2:$B$30=$A11)*(MONTH('Hors contrat 2020'!$D$2:$D$30)=COLUMN()-1)*('Hors contrat 2020'!$E$2:$E$30)),"") -> 0 | I11: =IFERROR(SUMPRODUCT(('Hors contrat 2020'!$B$2:$B$30=$A11)*(MONTH('Hors contrat 2020'!$D$2:$D$30)=COLUMN()-1)*('Hors contrat 2020'!$E$2:$E$30)),"") -> 0 | ... M11: =IFERROR(SUMPRODUCT(('Hors contrat 2020'!$B$2:$B$30=$A11)*(MONTH('Hors contrat 2020'!$D$2:$D$30)=COLUMN()-1)*('Hors contrat 2020'!$E$2:$E$30)),"") -> 0
A12: DENOYELLE | B12: =IFERROR(SUMPRODUCT(('Hors contrat 2020'!$B$2:$B$30=$A12)*(MONTH('Hors contrat 2020'!$D$2:$D$30)=COLUMN()-1)*('Hors contrat 2020'!$E$2:$E$30)),"") -> 0 | C12: =IFERROR(SUMPRODUCT(('Hors contrat 2020'!$B$2:$B$30=$A12)*(MONTH('Hors contrat 2020'!$D$2:$D$30)=COLUMN()-1)*('Hors contrat 2020'!$E$2:$E$30)),"") -> 337.4 | D12: =IFERROR(SUMPRODUCT(('Hors contrat 2020'!$B$2:$B$30=$A12)*(MONTH('Hors contrat 2020'!$D$2:$D$30)=COLUMN()-1)*('Hors contrat 2020'!$E$2:$E$30)),"") -> 0 | E12: =IFERROR(SUMPRODUCT(('Hors contrat 2020'!$B$2:$B$30=$A12)*(MONTH('Hors contrat 2020'!$D$2:$D$30)=COLUMN()-1)*('Hors contrat 2020'!$E$2:$E$30)),"") -> 0 | F12: =IFERROR(SUMPRODUCT(('Hors contrat 2020'!$B$2:$B$30=$A12)*(MONTH('Hors contrat 2020'!$D$2:$D$30)=COLUMN()-1)*('Hors contrat 2020'!$E$2:$E$30)),"") -> 0 | G12: =IFERROR(SUMPRODUCT(('Hors contrat 2020'!$B$2:$B$30=$A12)*(MONTH('Hors contrat 2020'!$D$2:$D$30)=COLUMN()-1)*('Hors contrat 2020'!$E$2:$E$30)),"") -> 0 | H12: =IFERROR(SUMPRODUCT(('Hors contrat 2020'!$B$2:$B$30=$A12)*(MONTH('Hors contrat 2020'!$D$2:$D$30)=COLUMN()-1)*('Hors contrat 2020'!$E$2:$E$30)),"") -> 0 | I12: =IFERROR(SUMPRODUCT(('Hors contrat 2020'!$B$2:$B$30=$A12)*(MONTH('Hors contrat 2020'!$D$2:$D$30)=COLUMN()-1)*('Hors contrat 2020'!$E$2:$E$30)),"") -> 0 | ... M12: =IFERROR(SUMPRODUCT(('Hors contrat 2020'!$B$2:$B$30=$A12)*(MONTH('Hors contrat 2020'!$D$2:$D$30)=COLUMN()-1)*('Hors contrat 2020'!$E$2:$E$30)),"") -> 0
B13: =IFERROR(SUMPRODUCT(('Hors contrat 2020'!$B$2:$B$30=$A13)*(MONTH('Hors contrat 2020'!$D$2:$D$30)=COLUMN()-1)*('Hors contrat 2020'!$E$2:$E$30)),"") -> 0 | C13: =IFERROR(SUMPRODUCT(('Hors contrat 2020'!$B$2:$B$30=$A13)*(MONTH('Hors contrat 2020'!$D$2:$D$30)=COLUMN()-1)*('Hors contrat 2020'!$E$2:$E$30)),"") -> 0 | D13: =IFERROR(SUMPRODUCT(('Hors contrat 2020'!$B$2:$B$30=$A13)*(MONTH('Hors contrat 2020'!$D$2:$D$30)=COLUMN()-1)*('Hors contrat 2020'!$E$2:$E$30)),"") -> 0 | E13: =IFERROR(SUMPRODUCT(('Hors contrat 2020'!$B$2:$B$30=$A13)*(MONTH('Hors contrat 2020'!$D$2:$D$30)=COLUMN()-1)*('Hors contrat 2020'!$E$2:$E$30)),"") -> 0 | F13: =IFERROR(SUMPRODUCT(('Hors contrat 2020'!$B$2:$B$30=$A13)*(MONTH('Hors contrat 2020'!$D$2:$D$30)=COLUMN()-1)*('Hors contrat 2020'!$E$2:$E$30)),"") -> 0 | G13: =IFERROR(SUMPRODUCT(('Hors contrat 2020'!$B$2:$B$30=$A13)*(MONTH('Hors contrat 2020'!$D$2:$D$30)=COLUMN()-1)*('Hors contrat 2020'!$E$2:$E$30)),"") -> 0 | H13: =IFERROR(SUMPRODUCT(('Hors contrat 2020'!$B$2:$B$30=$A13)*(MONTH('Hors contrat 2020'!$D$2:$D$30)=COLUMN()-1)*('Hors contrat 2020'!$E$2:$E$30)),"") -> 0 | I13: =IFERROR(SUMPRODUCT(('Hors contrat 2020'!$B$2:$B$30=$A13)*(MONTH('Hors contrat 2020'!$D$2:$D$30)=COLUMN()-1)*('Hors contrat 2020'!$E$2:$E$30)),"") -> 0 | ... M13: =IFERROR(SUMPRODUCT(('Hors contrat 2020'!$B$2:$B$30=$A13)*(MONTH('Hors contrat 2020'!$D$2:$D$30)=COLUMN()-1)*('Hors contrat 2020'!$E$2:$E$30)),"") -> 0
A14: LYOVEL | B14: =IFERROR(SUMPRODUCT(('Hors contrat 2020'!$B$2:$B$30=$A14)*(MONTH('Hors contrat 2020'!$D$2:$D$30)=COLUMN()-1)*('Hors contrat 2020'!$E$2:$E$30)),"") -> 1413.38 | C14: =IFERROR(SUMPRODUCT(('Hors contrat 2020'!$B$2:$B$30=$A14)*(MONTH('Hors contrat 2020'!$D$2:$D$30)=COLUMN()-1)*('Hors contrat 2020'!$E$2:$E$30)),"") -> 98 | D14: =IFERROR(SUMPRODUCT(('Hors contrat 2020'!$B$2:$B$30=$A14)*(MONTH('Hors contrat 2020'!$D$2:$D$30)=COLUMN()-1)*('Hors contrat 2020'!$E$2:$E$30)),"") -> 0 | E14: =IFERROR(SUMPRODUCT(('Hors contrat 2020'!$B$2:$B$30=$A14)*(MONTH('Hors contrat 2020'!$D$2:$D$30)=COLUMN()-1)*('Hors contrat 2020'!$E$2:$E$30)),"") -> 0 | F14: =IFERROR(SUMPRODUCT(('Hors contrat 2020'!$B$2:$B$30=$A14)*(MONTH('Hors contrat 2020'!$D$2:$D$30)=COLUMN()-1)*('Hors contrat 2020'!$E$2:$E$30)),"") -> 0 | G14: =IFERROR(SUMPRODUCT(('Hors contrat 2020'!$B$2:$B$30=$A14)*(MONTH('Hors contrat 2020'!$D$2:$D$30)=COLUMN()-1)*('Hors contrat 2020'!$E$2:$E$30)),"") -> 0 | H14: =IFERROR(SUMPRODUCT(('Hors contrat 2020'!$B$2:$B$30=$A14)*(MONTH('Hors contrat 2020'!$D$2:$D$30)=COLUMN()-1)*('Hors contrat 2020'!$E$2:$E$30)),"") -> 0 | I14: =IFERROR(SUMPRODUCT(('Hors contrat 2020'!$B$2:$B$30=$A14)*(MONTH('Hors contrat 2020'!$D$2:$D$30)=COLUMN()-1)*('Hors contrat 2020'!$E$2:$E$30)),"") -> 0 | ... M14: =IFERROR(SUMPRODUCT(('Hors contrat 2020'!$B$2:$B$30=$A14)*(MONTH('Hors contrat 2020'!$D$2:$D$30)=COLUMN()-1)*('Hors contrat 2020'!$E$2:$E$30)),"") -> 0
B15: =IFERROR(SUMPRODUCT(('Hors contrat 2020'!$B$2:$B$30=$A15)*(MONTH('Hors contrat 2020'!$D$2:$D$30)=COLUMN()-1)*('Hors contrat 2020'!$E$2:$E$30)),"") -> 0 | C15: =IFERROR(SUMPRODUCT(('Hors contrat 2020'!$B$2:$B$30=$A15)*(MONTH('Hors contrat 2020'!$D$2:$D$30)=COLUMN()-1)*('Hors contrat 2020'!$E$2:$E$30)),"") -> 0 | D15: =IFERROR(SUMPRODUCT(('Hors contrat 2020'!$B$2:$B$30=$A15)*(MONTH('Hors contrat 2020'!$D$2:$D$30)=COLUMN()-1)*('Hors contrat 2020'!$E$2:$E$30)),"") -> 0 | E15: =IFERROR(SUMPRODUCT(('Hors contrat 2020'!$B$2:$B$30=$A15)*(MONTH('Hors contrat 2020'!$D$2:$D$30)=COLUMN()-1)*('Hors contrat 2020'!$E$2:$E$30)),"") -> 0 | F15: =IFERROR(SUMPRODUCT(('Hors contrat 2020'!$B$2:$B$30=$A15)*(MONTH('Hors contrat 2020'!$D$2:$D$30)=COLUMN()-1)*('Hors contrat 2020'!$E$2:$E$30)),"") -> 0 | G15: =IFERROR(SUMPRODUCT(('Hors contrat 2020'!$B$2:$B$30=$A15)*(MONTH('Hors contrat 2020'!$D$2:$D$30)=COLUMN()-1)*('Hors contrat 2020'!$E$2:$E$30)),"") -> 0 | H15: =IFERROR(SUMPRODUCT(('Hors contrat 2020'!$B$2:$B$30=$A15)*(MONTH('Hors contrat 2020'!$D$2:$D$30)=COLUMN()-1)*('Hors contrat 2020'!$E$2:$E$30)),"") -> 0 | I15: =IFERROR(SUMPRODUCT(('Hors contrat 2020'!$B$2:$B$30=$A15)*(MONTH('Hors contrat 2020'!$D$2:$D$30)=COLUMN()-1)*('Hors contrat 2020'!$E$2:$E$30)),"") -> 0 | ... M15: =IFERROR(SUMPRODUCT(('Hors contrat 2020'!$B$2:$B$30=$A15)*(MONTH('Hors contrat 2020'!$D$2:$D$30)=COLUMN()-1)*('Hors contrat 2020'!$E$2:$E$30)),"") -> 0
A16: KINNARPS | B16: =IFERROR(SUMPRODUCT(('Hors contrat 2020'!$B$2:$B$30=$A16)*(MONTH('Hors contrat 2020'!$D$2:$D$30)=COLUMN()-1)*('Hors contrat 2020'!$E$2:$E$30)),"") -> 0 | C16: =IFERROR(SUMPRODUCT(('Hors contrat 2020'!$B$2:$B$30=$A16)*(MONTH('Hors contrat 2020'!$D$2:$D$30)=COLUMN()-1)*('Hors contrat 2020'!$E$2:$E$30)),"") -> 0 | D16: =IFERROR(SUMPRODUCT(('Hors contrat 2020'!$B$2:$B$30=$A16)*(MONTH('Hors contrat 2020'!$D$2:$D$30)=COLUMN()-1)*('Hors contrat 2020'!$E$2:$E$30)),"") -> 0 | E16: =IFERROR(SUMPRODUCT(('Hors contrat 2020'!$B$2:$B$30=$A16)*(MONTH('Hors contrat 2020'!$D$2:$D$30)=COLUMN()-1)*('Hors contrat 2020'!$E$2:$E$30)),"") -> 0 | F16: =IFERROR(SUMPRODUCT(('Hors contrat 2020'!$B$2:$B$30=$A16)*(MONTH('Hors contrat 2020'!$D$2:$D$30)=COLUMN()-1)*('Hors contrat 2020'!$E$2:$E$30)),"") -> 0 | G16: =IFERROR(SUMPRODUCT(('Hors contrat 2020'!$B$2:$B$30=$A16)*(MONTH('Hors contrat 2020'!$D$2:$D$30)=COLUMN()-1)*('Hors contrat 2020'!$E$2:$E$30)),"") -> 0 | H16: =IFERROR(SUMPRODUCT(('Hors contrat 2020'!$B$2:$B$30=$A16)*(MONTH('Hors contrat 2020'!$D$2:$D$30)=COLUMN()-1)*('Hors contrat 2020'!$E$2:$E$30)),"") -> 0 | I16: =IFERROR(SUMPRODUCT(('Hors contrat 2020'!$B$2:$B$30=$A16)*(MONTH('Hors contrat 2020'!$D$2:$D$30)=COLUMN()-1)*('Hors contrat 2020'!$E$2:$E$30)),"") -> 0 | ... M16: =IFERROR(SUMPRODUCT(('Hors contrat 2020'!$B$2:$B$30=$A16)*(MONTH('Hors contrat 2020'!$D$2:$D$30)=COLUMN()-1)*('Hors contrat 2020'!$E$2:$E$30)),"") -> 0
A17: CASTORAMA | B17: =IFERROR(SUMPRODUCT(('Hors contrat 2020'!$B$2:$B$30=$A17)*(MONTH('Hors contrat 2020'!$D$2:$D$30)=COLUMN()-1)*('Hors contrat 2020'!$E$2:$E$30)),"") -> 0 | C17: =IFERROR(SUMPRODUCT(('Hors contrat 2020'!$B$2:$B$30=$A17)*(MONTH('Hors contrat 2020'!$D$2:$D$30)=COLUMN()-1)*('Hors contrat 2020'!$E$2:$E$30)),"") -> 0 | D17: =IFERROR(SUMPRODUCT(('Hors contrat 2020'!$B$2:$B$30=$A17)*(MONTH('Hors contrat 2020'!$D$2:$D$30)=COLUMN()-1)*('Hors contrat 2020'!$E$2:$E$30)),"") -> 0 | E17: =IFERROR(SUMPRODUCT(('Hors contrat 2020'!$B$2:$B$30=$A17)*(MONTH('Hors contrat 2020'!$D$2:$D$30)=COLUMN()-1)*('Hors contrat 2020'!$E$2:$E$30)),"") -> 0 | F17: =IFERROR(SUMPRODUCT(('Hors contrat 2020'!$B$2:$B$30=$A17)*(MONTH('Hors contrat 2020'!$D$2:$D$30)=COLUMN()-1)*('Hors contrat 2020'!$E$2:$E$30)),"") -> 0 | G17: =IFERROR(SUMPRODUCT(('Hors contrat 2020'!$B$2:$B$30=$A17)*(MONTH('Hors contrat 2020'!$D$2:$D$30)=COLUMN()-1)*('Hors contrat 2020'!$E$2:$E$30)),"") -> 0 | H17: =IFERROR(SUMPRODUCT(('Hors contrat 2020'!$B$2:$B$30=$A17)*(MONTH('Hors contrat 2020'!$D$2:$D$30)=COLUMN()-1)*('Hors contrat 2020'!$E$2:$E$30)),"") -> 0 | I17: =IFERROR(SUMPRODUCT(('Hors contrat 2020'!$B$2:$B$30=$A17)*(MONTH('Hors contrat 2020'!$D$2:$D$30)=COLUMN()-1)*('Hors contrat 2020'!$E$2:$E$30)),"") -> 0 | ... M17: =IFERROR(SUMPRODUCT(('Hors contrat 2020'!$B$2:$B$30=$A17)*(MONTH('Hors contrat 2020'!$D$2:$D$30)=COLUMN()-1)*('Hors contrat 2020'!$E$2:$E$30)),"") -> 0
A18: NESPRESSO | B18: =IFERROR(SUMPRODUCT(('Hors contrat 2020'!$B$2:$B$30=$A18)*(MONTH('Hors contrat 2020'!$D$2:$D$30)=COLUMN()-1)*('Hors contrat 2020'!$E$2:$E$30)),"") -> 0 | C18: =IFERROR(SUMPRODUCT(('Hors contrat 2020'!$B$2:$B$30=$A18)*(MONTH('Hors contrat 2020'!$D$2:$D$30)=COLUMN()-1)*('Hors contrat 2020'!$E$2:$E$30)),"") -> 0 | D18: =IFERROR(SUMPRODUCT(('Hors contrat 2020'!$B$2:$B$30=$A18)*(MONTH('Hors contrat 2020'!$D$2:$D$30)=COLUMN()-1)*('Hors contrat 2020'!$E$2:$E$30)),"") -> 0 | E18: =IFERROR(SUMPRODUCT(('Hors contrat 2020'!$B$2:$B$30=$A18)*(MONTH('Hors contrat 2020'!$D$2:$D$30)=COLUMN()-1)*('Hors contrat 2020'!$E$2:$E$30)),"") -> 0 | F18: =IFERROR(SUMPRODUCT(('Hors contrat 2020'!$B$2:$B$30=$A18)*(MONTH('Hors contrat 2020'!$D$2:$D$30)=COLUMN()-1)*('Hors contrat 2020'!$E$2:$E$30)),"") -> 0 | G18: =IFERROR(SUMPRODUCT(('Hors contrat 2020'!$B$2:$B$30=$A18)*(MONTH('Hors contrat 2020'!$D$2:$D$30)=COLUMN()-1)*('Hors contrat 2020'!$E$2:$E$30)),"") -> 0 | H18: =IFERROR(SUMPRODUCT(('Hors contrat 2020'!$B$2:$B$30=$A18)*(MONTH('Hors contrat 2020'!$D$2:$D$30)=COLUMN()-1)*('Hors contrat 2020'!$E$2:$E$30)),"") -> 0 | I18: =IFERROR(SUMPRODUCT(('Hors contrat 2020'!$B$2:$B$30=$A18)*(MONTH('Hors contrat 2020'!$D$2:$D$30)=COLUMN()-1)*('Hors contrat 2020'!$E$2:$E$30)),"") -> 0 | ... M18: =IFERROR(SUMPRODUCT(('Hors contrat 2020'!$B$2:$B$30=$A18)*(MONTH('Hors contrat 2020'!$D$2:$D$30)=COLUMN()-1)*('Hors contrat 2020'!$E$2:$E$30)),"") -> 0
N19: =SUBTOTAL(109,Tableau11[Total Budget]) -> 0 | O19: =SUBTOTAL(109,Tableau11[[Total Dépense ]]) -> 0

Sheet Support
A1: Domaine | B1: FOURNISSEUR
A2: FONTAINE A EAU | B2: ELIS
A3: BOISSONS CHAUDES | B3: LYOVEL
A4: BOISSONS CHAUDES | B4: DENOYELLE
A5: MOBILIER | B5: STEELCASE
A6: MOBILIER | B6: JLS OFFICE
A7: DEMENAGEMENT | B7: NC DEMENAGEMENT
A8: AMENAGEMENT | B8: TOLTEC SECURE
A9: DIVERS MATERIELS | B9: MANUTAN
A10: BOISSONS CHUADES | B10: NESPRESSO
A11: AGENCEMENT | B11: ROGER
A12: ELECTROMENAGER | B12: DARTY
... A15: TEXTILE TRAVAIL | B15: GORISSEN
B16: INDUS ISOL
A17: MOBILIER | B17: KINNARPS
A18: AGENCEMENT | B18: A-TRAIT
