Workbook

Sheet Source
A1: Date | B1: Conso 10' - Wh
A2: 42807.007 | B2: 3246.984
A3: 42807.014 | B3: 3272.1452
A4: 42807.021 | B4: 3375.8388
A5: 42807.028 | B5: 3349.2244
A6: 42807.035 | B6: 3305.4833
A7: 42807.042 | B7: 3328.0958
A8: 42807.049 | B8: 3298.7899
A9: 42807.056 | B9: 3288.5791
A10: 42807.062 | B10: 3276.3151
A11: 42807.069 | B11: 3263.4447
A12: 42807.076 | B12: 3274.6446
A13: 42807.083 | B13: 3276.5271
... A1009: 42814 | B1009: 2803.9495

Sheet Feuil2
A1: Date | B1: Consommation réel - Wh | C1: Jour de la semaine | D1: heure | F1: inf | G1: sup | H1: res | I1: inf | J1: sup | K1: res | L1: final | M1: valeur
A2: =Source!A2 -> 42807.007 | B2: =Source!B2*(1-1/100*9) -> 2954.7554 | C2: =WEEKDAY(A2,2) -> 1 | D2: =MOD(A2,1) -> 0.0069444444 | E2: 0.0069444444 | F2: =IF(C2>=$Q$3,1,0) -> 1 | G2: =IF(C2<=$Q$4,1,0) -> 1 | H2: =F2*G2 -> 1 | I2: =IF(E2>=$R$3,1,0) -> 0 | J2: =IF(E2<=$R$4,1,0) -> 1 | K2: =I2*J2 -> 0 | L2: =K2*H2 -> 0 | M2: =L2*B2 -> 0 | Q2: jours 1 à 7 | R2: heure | S2: conso
A3: =Source!A3 -> 42807.014 | B3: =Source!B3*(1-1/100*9) -> 2977.6521 | C3: =WEEKDAY(A3,2) -> 1 | D3: =MOD(A3,1) -> 0.013888889 | E3: 0.013888889 | F3: =IF(C3>=$Q$3,1,0) -> 1 | G3: =IF(C3<=$Q$4,1,0) -> 1 | H3: =F3*G3 -> 1 | I3: =IF(E3>=$R$3,1,0) -> 1 | J3: =IF(E3<=$R$4,1,0) -> 1 | K3: =I3*J3 -> 1 | L3: =K3*H3 -> 1 | M3: =L3*B3 -> 2977.6521 | P3: début | Q3: 1 | R3: 0.013888889 | S3: {=SUM(OFFSET(M1,INDEX(ROW(1:10000),MATCH(Q3&R3,C:C&E:E,0))-1,,INDEX(ROW(1:10000),MATCH(Q4&R4,C:C&E:E,0))))} -> 25038.7
A4: =Source!A4 -> 42807.021 | B4: =Source!B4*(1-1/100*9) -> 3072.0133 | C4: =WEEKDAY(A4,2) -> 1 | D4: =MOD(A4,1) -> 0.020833333 | E4: 0.020833333 | F4: =IF(C4>=$Q$3,1,0) -> 1 | G4: =IF(C4<=$Q$4,1,0) -> 1 | H4: =F4*G4 -> 1 | I4: =IF(E4>=$R$3,1,0) -> 1 | J4: =IF(E4<=$R$4,1,0) -> 1 | K4: =I4*J4 -> 1 | L4: =K4*H4 -> 1 | M4: =L4*B4 -> 3072.0133 | P4: fin | Q4: 2 | R4: 0.034722222
A5: =Source!A5 -> 42807.028 | B5: =Source!B5*(1-1/100*9) -> 3047.7942 | C5: =WEEKDAY(A5,2) -> 1 | D5: =MOD(A5,1) -> 0.027777778 | E5: 0.027777778 | F5: =IF(C5>=$Q$3,1,0) -> 1 | G5: =IF(C5<=$Q$4,1,0) -> 1 | H5: =F5*G5 -> 1 | I5: =IF(E5>=$R$3,1,0) -> 1 | J5: =IF(E5<=$R$4,1,0) -> 1 | K5: =I5*J5 -> 1 | L5: =K5*H5 -> 1 | M5: =L5*B5 -> 3047.7942
A6: =Source!A6 -> 42807.035 | B6: =Source!B6*(1-1/100*9) -> 3007.9898 | C6: =WEEKDAY(A6,2) -> 1 | D6: =MOD(A6,1) -> 0.034722222 | E6: 0.034722222 | F6: =IF(C6>=$Q$3,1,0) -> 1 | G6: =IF(C6<=$Q$4,1,0) -> 1 | H6: =F6*G6 -> 1 | I6: =IF(E6>=$R$3,1,0) -> 1 | J6: =IF(E6<=$R$4,1,0) -> 1 | K6: =I6*J6 -> 1 | L6: =K6*H6 -> 1 | M6: =L6*B6 -> 3007.9898
A7: =Source!A7 -> 42807.042 | B7: =Source!B7*(1-1/100*9) -> 3028.5672 | C7: =WEEKDAY(A7,2) -> 1 | D7: =MOD(A7,1) -> 0.041666667 | E7: 0.041666667 | F7: =IF(C7>=$Q$3,1,0) -> 1 | G7: =IF(C7<=$Q$4,1,0) -> 1 | H7: =F7*G7 -> 1 | I7: =IF(E7>=$R$3,1,0) -> 1 | J7: =IF(E7<=$R$4,1,0) -> 0 | K7: =I7*J7 -> 0 | L7: =K7*H7 -> 0 | M7: =L7*B7 -> 0
A8: =Source!A8 -> 42807.049 | B8: =Source!B8*(1-1/100*9) -> 3001.8989 | C8: =WEEKDAY(A8,2) -> 1 | D8: =MOD(A8,1) -> 0.048611111 | E8: 0.048611111 | F8: =IF(C8>=$Q$3,1,0) -> 1 | G8: =IF(C8<=$Q$4,1,0) -> 1 | H8: =F8*G8 -> 1 | I8: =IF(E8>=$R$3,1,0) -> 1 | J8: =IF(E8<=$R$4,1,0) -> 0 | K8: =I8*J8 -> 0 | L8: =K8*H8 -> 0 | M8: =L8*B8 -> 0
A9: =Source!A9 -> 42807.056 | B9: =Source!B9*(1-1/100*9) -> 2992.607 | C9: =WEEKDAY(A9,2) -> 1 | D9: =MOD(A9,1) -> 0.055555556 | E9: 0.055555556 | F9: =IF(C9>=$Q$3,1,0) -> 1 | G9: =IF(C9<=$Q$4,1,0) -> 1 | H9: =F9*G9 -> 1 | I9: =IF(E9>=$R$3,1,0) -> 1 | J9: =IF(E9<=$R$4,1,0) -> 0 | K9: =I9*J9 -> 0 | L9: =K9*H9 -> 0 | M9: =L9*B9 -> 0
A10: =Source!A10 -> 42807.062 | B10: =Source!B10*(1-1/100*9) -> 2981.4468 | C10: =WEEKDAY(A10,2) -> 1 | D10: =MOD(A10,1) -> 0.0625 | E10: 0.0625 | F10: =IF(C10>=$Q$3,1,0) -> 1 | G10: =IF(C10<=$Q$4,1,0) -> 1 | H10: =F10*G10 -> 1 | I10: =IF(E10>=$R$3,1,0) -> 1 | J10: =IF(E10<=$R$4,1,0) -> 0 | K10: =I10*J10 -> 0 | L10: =K10*H10 -> 0 | M10: =L10*B10 -> 0
A11: =Source!A11 -> 42807.069 | B11: =Source!B11*(1-1/100*9) -> 2969.7347 | C11: =WEEKDAY(A11,2) -> 1 | D11: =MOD(A11,1) -> 0.069444444 | E11: 0.069444444 | F11: =IF(C11>=$Q$3,1,0) -> 1 | G11: =IF(C11<=$Q$4,1,0) -> 1 | H11: =F11*G11 -> 1 | I11: =IF(E11>=$R$3,1,0) -> 1 | J11: =IF(E11<=$R$4,1,0) -> 0 | K11: =I11*J11 -> 0 | L11: =K11*H11 -> 0 | M11: =L11*B11 -> 0
A12: =Source!A12 -> 42807.076 | B12: =Source!B12*(1-1/100*9) -> 2979.9265 | C12: =WEEKDAY(A12,2) -> 1 | D12: =MOD(A12,1) -> 0.076388889 | E12: 0.076388889 | F12: =IF(C12>=$Q$3,1,0) -> 1 | G12: =IF(C12<=$Q$4,1,0) -> 1 | H12: =F12*G12 -> 1 | I12: =IF(E12>=$R$3,1,0) -> 1 | J12: =IF(E12<=$R$4,1,0) -> 0 | K12: =I12*J12 -> 0 | L12: =K12*H12 -> 0 | M12: =L12*B12 -> 0
A13: =Source!A13 -> 42807.083 | B13: =Source!B13*(1-1/100*9) -> 2981.6397 | C13: =WEEKDAY(A13,2) -> 1 | D13: =MOD(A13,1) -> 0.083333333 | E13: 0.083333333 | F13: =IF(C13>=$Q$3,1,0) -> 1 | G13: =IF(C13<=$Q$4,1,0) -> 1 | H13: =F13*G13 -> 1 | I13: =IF(E13>=$R$3,1,0) -> 1 | J13: =IF(E13<=$R$4,1,0) -> 0 | K13: =I13*J13 -> 0 | L13: =K13*H13 -> 0 | M13: =L13*B13 -> 0
A14: =Source!A14 -> 42807.09 | B14: =Source!B14*(1-1/100*9) -> 3267.51 | C14: =WEEKDAY(A14,2) -> 1 | D14: =MOD(A14,1) -> 0.090277778 | E14: 0.090277778 | F14: =IF(C14>=$Q$3,1,0) -> 1 | G14: =IF(C14<=$Q$4,1,0) -> 1 | H14: =F14*G14 -> 1 | I14: =IF(E14>=$R$3,1,0) -> 1 | J14: =IF(E14<=$R$4,1,0) -> 0 | K14: =I14*J14 -> 0 | L14: =K14*H14 -> 0 | M14: =L14*B14 -> 0
A15: =Source!A15 -> 42807.097 | B15: =Source!B15*(1-1/100*9) -> 3381.216 | C15: =WEEKDAY(A15,2) -> 1 | D15: =MOD(A15,1) -> 0.097222222 | E15: 0.097222222 | F15: =IF(C15>=$Q$3,1,0) -> 1 | G15: =IF(C15<=$Q$4,1,0) -> 1 | H15: =F15*G15 -> 1 | I15: =IF(E15>=$R$3,1,0) -> 1 | J15: =IF(E15<=$R$4,1,0) -> 0 | K15: =I15*J15 -> 0 | L15: =K15*H15 -> 0 | M15: =L15*B15 -> 0
A16: =Source!A16 -> 42807.104 | B16: =Source!B16*(1-1/100*9) -> 3374.5927 | C16: =WEEKDAY(A16,2) -> 1 | D16: =MOD(A16,1) -> 0.10416667 | E16: 0.10416667 | F16: =IF(C16>=$Q$3,1,0) -> 1 | G16: =IF(C16<=$Q$4,1,0) -> 1 | H16: =F16*G16 -> 1 | I16: =IF(E16>=$R$3,1,0) -> 1 | J16: =IF(E16<=$R$4,1,0) -> 0 | K16: =I16*J16 -> 0 | L16: =K16*H16 -> 0 | M16: =L16*B16 -> 0
... A147: =Source!A147 -> 42808.014 | B147: =Source!B147*(1-1/100*9) -> 3227.7465 | C147: =WEEKDAY(A147,2) -> 2 | D147: =MOD(A147,1) -> 0.013888889 | E147: 0.013888889 | F147: =IF(C147>=$Q$3,1,0) -> 1 | G147: =IF(C147<=$Q$4,1,0) -> 1 | H147: =F147*G147 -> 1 | I147: =IF(E147>=$R$3,1,0) -> 1 | J147: =IF(E147<=$R$4,1,0) -> 1 | K147: =I147*J147 -> 1 | L147: =K147*H147 -> 1 | M147: =L147*B147 -> 3227.7465
A148: =Source!A148 -> 42808.021 | B148: =Source!B148*(1-1/100*9) -> 3189.0647 | C148: =WEEKDAY(A148,2) -> 2 | D148: =MOD(A148,1) -> 0.020833333 | E148: 0.020833333 | F148: =IF(C148>=$Q$3,1,0) -> 1 | G148: =IF(C148<=$Q$4,1,0) -> 1 | H148: =F148*G148 -> 1 | I148: =IF(E148>=$R$3,1,0) -> 1 | J148: =IF(E148<=R4,1,0) -> 1 | K148: =I148*J148 -> 1 | L148: =K148*H148 -> 1 | M148: =L148*B148 -> 3189.0647
A149: =Source!A149 -> 42808.028 | B149: =Source!B149*(1-1/100*9) -> 3236.8709 | C149: =WEEKDAY(A149,2) -> 2 | D149: =MOD(A149,1) -> 0.027777778 | E149: 0.027777778 | F149: =IF(C149>=$Q$3,1,0) -> 1 | G149: =IF(C149<=$Q$4,1,0) -> 1 | H149: =F149*G149 -> 1 | I149: =IF(E149>=$R$3,1,0) -> 1 | J149: =IF(E149<=$R$4,1,0) -> 1 | K149: =I149*J149 -> 1 | L149: =K149*H149 -> 1 | M149: =L149*B149 -> 3236.8709
A150: =Source!A150 -> 42808.035 | B150: =Source!B150*(1-1/100*9) -> 3279.5684 | C150: =WEEKDAY(A150,2) -> 2 | D150: =MOD(A150,1) -> 0.034722222 | E150: 0.034722222 | F150: =IF(C150>=$Q$3,1,0) -> 1 | G150: =IF(C150<=$Q$4,1,0) -> 1 | H150: =F150*G150 -> 1 | I150: =IF(E150>=$R$3,1,0) -> 1 | J150: =IF(E150<=$R$4,1,0) -> 1 | K150: =I150*J150 -> 1 | L150: =K150*H150 -> 1 | M150: =L150*B150 -> 3279.5684
A151: =Source!A151 -> 42808.042 | B151: =Source!B151*(1-1/100*9) -> 3614.1415 | C151: =WEEKDAY(A151,2) -> 2 | D151: =MOD(A151,1) -> 0.041666667 | E151: 0.041666667 | F151: =IF(C151>=$Q$3,1,0) -> 1 | G151: =IF(C151<=$Q$4,1,0) -> 1 | H151: =F151*G151 -> 1 | I151: =IF(E151>=$R$3,1,0) -> 1 | J151: =IF(E151<=$R$4,1,0) -> 0 | K151: =I151*J151 -> 0 | L151: =K151*H151 -> 0 | M151: =L151*B151 -> 0
A152: =Source!A152 -> 42808.049 | B152: =Source!B152*(1-1/100*9) -> 3322.6553 | C152: =WEEKDAY(A152,2) -> 2 | D152: =MOD(A152,1) -> 0.048611111 | E152: 0.048611111 | F152: =IF(C152>=$Q$3,1,0) -> 1 | G152: =IF(C152<=$Q$4,1,0) -> 1 | H152: =F152*G152 -> 1 | I152: =IF(E152>=$R$3,1,0) -> 1 | J152: =IF(E152<=$R$4,1,0) -> 0 | K152: =I152*J152 -> 0 | L152: =K152*H152 -> 0 | M152: =L152*B152 -> 0
A153: =Source!A153 -> 42808.056 | B153: =Source!B153*(1-1/100*9) -> 3270.9969 | C153: =WEEKDAY(A153,2) -> 2 | D153: =MOD(A153,1) -> 0.055555556 | E153: 0.055555556 | F153: =IF(C153>=$Q$3,1,0) -> 1 | G153: =IF(C153<=$Q$4,1,0) -> 1 | H153: =F153*G153 -> 1 | I153: =IF(E153>=$R$3,1,0) -> 1 | J153: =IF(E153<=$R$4,1,0) -> 0 | K153: =I153*J153 -> 0 | L153: =K153*H153 -> 0 | M153: =L153*B153 -> 0
A154: =Source!A154 -> 42808.062 | B154: =Source!B154*(1-1/100*9) -> 3182.6629 | C154: =WEEKDAY(A154,2) -> 2 | D154: =MOD(A154,1) -> 0.0625 | E154: 0.0625 | F154: =IF(C154>=$Q$3,1,0) -> 1 | G154: =IF(C154<=$Q$4,1,0) -> 1 | H154: =F154*G154 -> 1 | I154: =IF(E154>=$R$3,1,0) -> 1 | J154: =IF(E154<=$R$4,1,0) -> 0 | K154: =I154*J154 -> 0 | L154: =K154*H154 -> 0 | M154: =L154*B154 -> 0
A155: =Source!A155 -> 42808.069 | B155: =Source!B155*(1-1/100*9) -> 3181.9544 | C155: =WEEKDAY(A155,2) -> 2 | D155: =MOD(A155,1) -> 0.069444444 | E155: 0.069444444 | F155: =IF(C155>=$Q$3,1,0) -> 1 | G155: =IF(C155<=$Q$4,1,0) -> 1 | H155: =F155*G155 -> 1 | I155: =IF(E155>=$R$3,1,0) -> 1 | J155: =IF(E155<=$R$4,1,0) -> 0 | K155: =I155*J155 -> 0 | L155: =K155*H155 -> 0 | M155: =L155*B155 -> 0
A156: =Source!A156 -> 42808.076 | B156: =Source!B156*(1-1/100*9) -> 3173.7617 | C156: =WEEKDAY(A156,2) -> 2 | D156: =MOD(A156,1) -> 0.076388889 | E156: 0.076388889 | F156: =IF(C156>=$Q$3,1,0) -> 1 | G156: =IF(C156<=$Q$4,1,0) -> 1 | H156: =F156*G156 -> 1 | I156: =IF(E156>=$R$3,1,0) -> 1 | J156: =IF(E156<=$R$4,1,0) -> 0 | K156: =I156*J156 -> 0 | L156: =K156*H156 -> 0 | M156: =L156*B156 -> 0
A157: =Source!A157 -> 42808.083 | B157: =Source!B157*(1-1/100*9) -> 3160.2228 | C157: =WEEKDAY(A157,2) -> 2 | D157: =MOD(A157,1) -> 0.083333333 | E157: 0.083333333 | F157: =IF(C157>=$Q$3,1,0) -> 1 | G157: =IF(C157<=$Q$4,1,0) -> 1 | H157: =F157*G157 -> 1 | I157: =IF(E157>=$R$3,1,0) -> 1 | J157: =IF(E157<=$R$4,1,0) -> 0 | K157: =I157*J157 -> 0 | L157: =K157*H157 -> 0 | M157: =L157*B157 -> 0
A158: =Source!A158 -> 42808.09 | B158: =Source!B158*(1-1/100*9) -> 3387.3234 | C158: =WEEKDAY(A158,2) -> 2 | D158: =MOD(A158,1) -> 0.090277778 | E158: 0.090277778 | F158: =IF(C158>=$Q$3,1,0) -> 1 | G158: =IF(C158<=$Q$4,1,0) -> 1 | H158: =F158*G158 -> 1 | I158: =IF(E158>=$R$3,1,0) -> 1 | J158: =IF(E158<=$R$4,1,0) -> 0 | K158: =I158*J158 -> 0 | L158: =K158*H158 -> 0 | M158: =L158*B158 -> 0
A159: =Source!A159 -> 42808.097 | B159: =Source!B159*(1-1/100*9) -> 3199.5091 | C159: =WEEKDAY(A159,2) -> 2 | D159: =MOD(A159,1) -> 0.097222222 | E159: 0.097222222 | F159: =IF(C159>=$Q$3,1,0) -> 1 | G159: =IF(C159<=$Q$4,1,0) -> 1 | H159: =F159*G159 -> 1 | I159: =IF(E159>=$R$3,1,0) -> 1 | J159: =IF(E159<=$R$4,1,0) -> 0 | K159: =I159*J159 -> 0 | L159: =K159*H159 -> 0 | M159: =L159*B159 -> 0
A160: =Source!A160 -> 42808.104 | B160: =Source!B160*(1-1/100*9) -> 3042.9719 | C160: =WEEKDAY(A160,2) -> 2 | D160: =MOD(A160,1) -> 0.10416667 | E160: 0.10416667 | F160: =IF(C160>=$Q$3,1,0) -> 1 | G160: =IF(C160<=$Q$4,1,0) -> 1 | H160: =F160*G160 -> 1 | I160: =IF(E160>=$R$3,1,0) -> 1 | J160: =IF(E160<=$R$4,1,0) -> 0 | K160: =I160*J160 -> 0 | L160: =K160*H160 -> 0 | M160: =L160*B160 -> 0
... A1009: =Source!A1009 -> 42814 | B1009: =Source!B1009*(1-1/100*9) -> 2551.5941 | C1009: =WEEKDAY(A1009,2) -> 1 | D1009: =MOD(A1009,1) -> 0 | E1009: 1 | F1009: =IF(C1009>=$Q$3,1,0) -> 1 | G1009: =IF(C1009<=$Q$4,1,0) -> 1 | H1009: =F1009*G1009 -> 1 | I1009: =IF(E1009>=$R$3,1,0) -> 1 | J1009: =IF(E1009<=$R$4,1,0) -> 0 | K1009: =I1009*J1009 -> 0 | L1009: =K1009*H1009 -> 0 | M1009: =L1009*B1009 -> 0
