Workbook

Sheet Lignes des factures
A1: *InvoiceNo | B1: *Customer | C1: Ensemble | D1: Référence | E1: Libellé | F1: Quantité | G1: Prix unitaire | H1: Coef Mat. | I1: Total Mat. | J1: Coef M.O. | K1: Taux M.O. | L1: M.O. unit. | M1: M.O. total | N1: Total M.O. HT | O1: Temps de pose | P1: PV unit. | Q1: Total | R1: TVA | S1: Ventilation 1 | T1: Ventilation 2 | U1: Unité
A2: 190001 | B2: =IFERROR(INDEX(Export!B:B,MATCH('Lignes des factures'!A2,Export!A:A,0)),"") -> aaaa | D2: VYN 667025 | E2: EP30 DISJONCTEUR 3KA 2P C 16A | F2: 600000 | G2: 486500 | H2: 130000 | I2: 3792000 | J2: 180000 | K2: 20.00 | L2: 0.00000 | M2: 0.00000 | N2: 0.00000 | P2: 632000 | Q2: 3792000 | R2: 0.06 | U2: P
A3: 190001 | B3: =IFERROR(INDEX(Export!B:B,MATCH('Lignes des factures'!A3,Export!A:A,0)),"") -> aaaa | D3: VYN 667023 | E3: EP30 DISJONCTEUR 3KA 2P C 10A | F3: 200000 | G3: 641250 | H3: 123000 | I3: 1578000 | J3: 180000 | K3: 20.00 | L3: 0.00000 | M3: 0.00000 | N3: 0.00000 | P3: 789000 | Q3: 1578000 | R3: 0.06 | U3: P
A4: 190001 | B4: =IFERROR(INDEX(Export!B:B,MATCH('Lignes des factures'!A4,Export!A:A,0)),"") -> aaaa | D4: VYN 667028 | E4: EP30 DISJONCTEUR 3KA 2P C 32A | F4: 100000 | G4: 1285830 | H4: 123000 | I4: 1582000 | J4: 180000 | K4: 20.00 | L4: 0.00000 | M4: 0.00000 | N4: 0.00000 | P4: 1582000 | Q4: 1582000 | R4: 0.06 | U4: P
A5: 190001 | B5: =IFERROR(INDEX(Export!B:B,MATCH('Lignes des factures'!A5,Export!A:A,0)),"") -> aaaa | D5: VYN 604311 | E5: DIFF-O-JUMP INTERRUPTEUR DIFFERENTIEL TYPE A 4P 63A 300MA | F5: 100000 | G5: 6056160 | H5: 123000 | I5: 7449000 | J5: 180000 | K5: 20.00 | L5: 0.00000 | M5: 0.00000 | N5: 0.00000 | P5: 7449000 | Q5: 7449000 | R5: 0.06 | U5: P
A6: 190001 | B6: =IFERROR(INDEX(Export!B:B,MATCH('Lignes des factures'!A6,Export!A:A,0)),"") -> aaaa | D6: VYN 604310 | E6: DIFF-O-JUMP INTERRUPTEUR DIFFERENTIEL TYPE A 4P 63A 30MA | F6: 100000 | G6: 7196800 | H6: 123000 | I6: 8852000 | J6: 180000 | K6: 20.00 | L6: 0.00000 | M6: 0.00000 | N6: 0.00000 | P6: 8852000 | Q6: 8852000 | R6: 0.06 | U6: P
A7: 190001 | B7: =IFERROR(INDEX(Export!B:B,MATCH('Lignes des factures'!A7,Export!A:A,0)),"") -> aaaa | D7: FTG 715 | E7: PEIGNE ISOLE FOURCHE 2P 10M | F7: 200000 | G7: 1491110 | H7: 123000 | I7: 3668000 | J7: 180000 | K7: 20.00 | L7: 0.00000 | M7: 0.00000 | N7: 0.00000 | P7: 1834000 | Q7: 3668000 | R7: 0.06 | U7: P
A8: 190001 | B8: =IFERROR(INDEX(Export!B:B,MATCH('Lignes des factures'!A8,Export!A:A,0)),"") -> aaaa | D8: ENSEDIVERS | E8: DIVERS FOURNITURE | F8: 100000 | G8: 500000 | H8: 123000 | I8: 615000 | J8: 180000 | K8: 20.00 | L8: 0.00000 | M8: 0.00000 | N8: 0.00000 | P8: 615000 | Q8: 615000 | R8: 0.06 | U8: P
A9: 190001 | B9: =IFERROR(INDEX(Export!B:B,MATCH('Lignes des factures'!A9,Export!A:A,0)),"") -> aaaa | D9: ENSEMO | E9: MAIN D'OEUVRE | F9: 800000 | G9: 0.00000 | H9: 123000 | I9: 0.00000 | J9: 180000 | K9: 20.00 | L9: 100000 | M9: 800000 | N9: 28800000 | P9: 3600000 | Q9: 28800000 | R9: 0.06 | U9: P
A10: 190001 | B10: =IFERROR(INDEX(Export!B:B,MATCH('Lignes des factures'!A10,Export!A:A,0)),"") -> aaaa | E10: DÉPLACEMENT | F10: 100000 | G10: 0.00000 | H10: 133000 | I10: 0.00000 | J10: 180000 | K10: 20.00 | L10: 100000 | M10: 100000 | N10: 3600000 | P10: 3600000 | Q10: 3600000 | R10: 0.06 | U10: Eenh
A11: 190002 | B11: =IFERROR(INDEX(Export!B:B,MATCH('Lignes des factures'!A11,Export!A:A,0)),"") -> aba | D11: RZB 221175.002 | E11: PLAFONNIER ET APPLIQUE IP40 RZB HOME 501 D300 LED 18W 1650LM 830 | F11: 100000 | G11: 5961250 | H11: 100000 | I11: 5961000 | J11: 100000 | K11: 30.00 | L11: 0.00000 | M11: 0.00000 | N11: 0.00000 | P11: 5961000 | Q11: 5961000 | R11: 0.06 | U11: P
A12: 190002 | B12: =IFERROR(INDEX(Export!B:B,MATCH('Lignes des factures'!A12,Export!A:A,0)),"") -> aba | D12: ENSEMO | E12: MAIN D'OEUVRE | F12: 100000 | G12: 0.00000 | H12: 100000 | I12: 0.00000 | J12: 100000 | K12: 30.00 | L12: 100000 | M12: 100000 | N12: 3000000 | P12: 3000000 | Q12: 3000000 | R12: 0.06 | U12: P
A13: 190003 | B13: =IFERROR(INDEX(Export!B:B,MATCH('Lignes des factures'!A13,Export!A:A,0)),"") -> bcdez | D13: LEG 403116 | E13: DISJONCTEUR TX3 3000A 2P C16 230/400V - 2 MODULES | F13: 400000 | G13: 484210 | H13: 120000 | I13: 2324000 | J13: 180000 | K13: 20.00 | L13: 0.00000 | M13: 0.00000 | N13: 0.00000 | P13: 581000 | Q13: 2324000 | R13: 0.06 | U13: P
A14: 190003 | B14: =IFERROR(INDEX(Export!B:B,MATCH('Lignes des factures'!A14,Export!A:A,0)),"") -> bcdez | D14: VYN 610183 | E14: COFFRET FOR STANDARD PORTE PLEINE 2 RANGEES 28 MODULES | F14: 100000 | G14: 8045340 | H14: 120000 | I14: 9654000 | J14: 180000 | K14: 20.00 | L14: 0.00000 | M14: 0.00000 | N14: 0.00000 | P14: 9654000 | Q14: 9654000 | R14: 0.06 | U14: P
A15: 190003 | B15: =IFERROR(INDEX(Export!B:B,MATCH('Lignes des factures'!A15,Export!A:A,0)),"") -> bcdez | D15: LEG 403130 | E15: DISJONCTEUR TX3 3000A 3P C40 400V - 3 MODULES | F15: 200000 | G15: 2551250 | H15: 120000 | I15: 6124000 | J15: 180000 | K15: 20.00 | L15: 0.00000 | M15: 0.00000 | N15: 0.00000 | P15: 3062000 | Q15: 6124000 | R15: 0.06 | U15: P
A16: 190003 | B16: =IFERROR(INDEX(Export!B:B,MATCH('Lignes des factures'!A16,Export!A:A,0)),"") -> bcdez | D16: LEG 411932 | E16: INTERRUPTEUR DIFFERENTIEL TX3 4P 30MA 40A TYPE A - 4 MODULES - CONVIENT POUR DES INSTALLATIONS DOMESTIQUES | F16: 100000 | G16: 4318820 | H16: 120000 | I16: 5183000 | J16: 180000 | K16: 20.00 | L16: 0.00000 | M16: 0.00000 | N16: 0.00000 | P16: 5183000 | Q16: 5183000 | R16: 0.06 | U16: P
A17: 190003 | B17: =IFERROR(INDEX(Export!B:B,MATCH('Lignes des factures'!A17,Export!A:A,0)),"") -> bcdez | D17: HEL 34623 | E17: MANCHON PP 20MM GRIS CLAIR RAL 7035 | F17: 1000000 | G17: 0.10310 | H17: 120000 | I17: 120000 | J17: 180000 | K17: 20.00 | L17: 0.00000 | M17: 0.00000 | N17: 0.00000 | P17: 0.12000 | Q17: 120000 | R17: 0.06 | U17: P
A18: 190003 | B18: =IFERROR(INDEX(Export!B:B,MATCH('Lignes des factures'!A18,Export!A:A,0)),"") -> bcdez | D18: HEL 34513 | E18: CONNEXION, ENTREES D 16 MM - GRIS | F18: 2500000 | G18: 0.04350 | H18: 120000 | I18: 125000 | J18: 180000 | K18: 20.00 | L18: 0.00000 | M18: 0.00000 | N18: 0.00000 | P18: 0.05000 | Q18: 125000 | R18: 0.06 | U18: P
A19: 190003 | B19: =IFERROR(INDEX(Export!B:B,MATCH('Lignes des factures'!A19,Export!A:A,0)),"") -> bcdez | D19: OBO 2149010 | E19: ATTACHE QUICK M20 GRIS CLAIR | F19: 10000000 | G19: 0.16000 | H19: 120000 | I19: 1900000 | J19: 180000 | K19: 20.00 | L19: 0.00000 | M19: 0.00000 | N19: 0.00000 | P19: 0.19000 | Q19: 1900000 | R19: 0.06 | U19: P
A20: 190003 | B20: =IFERROR(INDEX(Export!B:B,MATCH('Lignes des factures'!A20,Export!A:A,0)),"") -> bcdez | D20: OBO 2149559 | E20: ATTACHE QUICK M16 NOIR | F20: 10000000 | G20: 0.16510 | H20: 120000 | I20: 2000000 | J20: 180000 | K20: 20.00 | L20: 0.00000 | M20: 0.00000 | N20: 0.00000 | P20: 0.20000 | Q20: 2000000 | R20: 0.06 | U20: P
A21: 190003 | B21: =IFERROR(INDEX(Export!B:B,MATCH('Lignes des factures'!A21,Export!A:A,0)),"") -> bcdez | D21: BIZ BIZ 730700 | E21: TRIANGLES DANGER ÉLECTRIQUE 50X50 (30) | F21: 0.06000 | G21: 902260 | H21: 120000 | I21: 0.65000 | J21: 180000 | K21: 20.00 | L21: 0.00000 | M21: 0.00000 | N21: 0.00000 | P21: 1083000 | Q21: 0.65000 | R21: 0.06 | U21: P
A22: 190003 | B22: =IFERROR(INDEX(Export!B:B,MATCH('Lignes des factures'!A22,Export!A:A,0)),"") -> bcdez | D22: BPP 3X240V 85K1 | E22: MARQUEUR VOLTAGE 35X70MM 3X240 | F22: 300000 | G22: 0.40530 | H22: 120000 | I22: 147000 | J22: 180000 | K22: 20.00 | L22: 0.00000 | M22: 0.00000 | N22: 0.00000 | P22: 0.49000 | Q22: 147000 | R22: 0.06 | U22: P
A23: 190003 | B23: =IFERROR(INDEX(Export!B:B,MATCH('Lignes des factures'!A23,Export!A:A,0)),"") -> bcdez | D23: NIK 170-32100 | E23: SOCLE POUR PRISE AVEC BROCHE DE TERRE ET SECURITE-ENFANTS, PROFONDEUR 21MM | F23: 200000 | G23: 329220 | H23: 120000 | I23: 790000 | J23: 180000 | K23: 20.00 | L23: 0.00000 | M23: 0.00000 | N23: 0.00000 | P23: 395000 | Q23: 790000 | R23: 0.06 | U23: P
A24: 190003 | B24: =IFERROR(INDEX(Export!B:B,MATCH('Lignes des factures'!A24,Export!A:A,0)),"") -> bcdez | D24: NIK 100-66500 | E24: PRISE SANS TERRE AVEC SECURITE-ENFANTS, PROFONDEUR 21MM, SOCLE ET SET DE FINITION CREAM | F24: 1200000 | G24: 317870 | H24: 120000 | I24: 4572000 | J24: 180000 | K24: 20.00 | L24: 0.00000 | M24: 0.00000 | N24: 0.00000 | P24: 381000 | Q24: 4572000 | R24: 0.06 | U24: P
A25: 190003 | B25: =IFERROR(INDEX(Export!B:B,MATCH('Lignes des factures'!A25,Export!A:A,0)),"") -> bcdez | D25: LEG 034386 | E25: CONNECTEUR EQUIPOTENTIEL 18/22MM 1/4 DE TOUR CONNEXION | F25: 200000 | G25: 244120 | H25: 120000 | I25: 586000 | J25: 180000 | K25: 20.00 | L25: 0.00000 | M25: 0.00000 | N25: 0.00000 | P25: 293000 | Q25: 586000 | R25: 0.06 | U25: P
A26: 190003 | B26: =IFERROR(INDEX(Export!B:B,MATCH('Lignes des factures'!A26,Export!A:A,0)),"") -> bcdez | D26: KLE 542003 | E26: COLLIER (BANDE) DE TERRE 17,5À | F26: 400000 | G26: 276850 | H26: 120000 | I26: 1328000 | J26: 180000 | K26: 20.00 | L26: 0.00000 | M26: 0.00000 | N26: 0.00000 | P26: 332000 | Q26: 1328000 | R26: 0.06 | U26: P
A27: 190003 | B27: =IFERROR(INDEX(Export!B:B,MATCH('Lignes des factures'!A27,Export!A:A,0)),"") -> bcdez | D27: NIK 100-80200 | E27: KIT EN SAILLIE DOUBLE POUR MONTAGE EN SAILLIE DE 2 APPAREILS A ENCASTRER, CREAM | F27: 100000 | G27: 437810 | H27: 120000 | I27: 525000 | J27: 180000 | K27: 20.00 | L27: 0.00000 | M27: 0.00000 | N27: 0.00000 | P27: 525000 | Q27: 525000 | R27: 0.06 | U27: P
A28: 190003 | B28: =IFERROR(INDEX(Export!B:B,MATCH('Lignes des factures'!A28,Export!A:A,0)),"") -> bcdez | D28: LEG 080051 | E28: BATIBOX BOITE D'ENCASTREMENT MONOPOSTE POUR CLOISONS CREUSES - 1 POSTE - PROFONDEUR 50 MM | F28: 200000 | G28: 127950 | H28: 120000 | I28: 308000 | J28: 180000 | K28: 20.00 | L28: 0.00000 | M28: 0.00000 | N28: 0.00000 | P28: 154000 | Q28: 308000 | R28: 0.06 | U28: P
A29: 190003 | B29: =IFERROR(INDEX(Export!B:B,MATCH('Lignes des factures'!A29,Export!A:A,0)),"") -> bcdez | D29: NIK 170-68600 | E29: SOCLE UNIVERSEL AVEC FIXATION A GRIFFES | F29: 200000 | G29: 101690 | H29: 120000 | I29: 244000 | J29: 180000 | K29: 20.00 | L29: 0.00000 | M29: 0.00000 | N29: 0.00000 | P29: 122000 | Q29: 244000 | R29: 0.06 | U29: P
A30: 190003 | B30: =IFERROR(INDEX(Export!B:B,MATCH('Lignes des factures'!A30,Export!A:A,0)),"") -> bcdez | D30: NIK 100-66501 | E30: SET DE FINITION POUR PRISE DE COURANT SANS MISE A LA TERRE, AVEC SECURITE-ENFANTS, PROFONDEUR D'ENCASTREMENT 21 MM, CREAM | F30: 500000 | G30: 111060 | H30: 120000 | I30: 665000 | J30: 180000 | K30: 20.00 | L30: 0.00000 | M30: 0.00000 | N30: 0.00000 | P30: 133000 | Q30: 665000 | R30: 0.06 | U30: P
A31: 190003 | B31: =IFERROR(INDEX(Export!B:B,MATCH('Lignes des factures'!A31,Export!A:A,0)),"") -> bcdez | D31: FLX RX5G15 | E31: TUBE ANNELE PRECABLE REXFLEX VOB HO7V-U 5G1.5 DIAMETRE 5/8 16MM ROULEAU 100M D16 R100 | F31: 1000000 | G31: 0.83580 | H31: 120000 | I31: 1000000 | J31: 180000 | K31: 20.00 | L31: 0.00000 | M31: 0.00000 | N31: 0.00000 | P31: 100000 | Q31: 1000000 | R31: 0.06 | U31: P
A32: 190003 | B32: =IFERROR(INDEX(Export!B:B,MATCH('Lignes des factures'!A32,Export!A:A,0)),"") -> bcdez | D32: NIK 101-61600 | E32: INTERRUPTEUR VA-ET-VIENT, SOCLE ET SET DE FINITION WHITE | F32: 200000 | G32: 376830 | H32: 120000 | I32: 904000 | J32: 180000 | K32: 20.00 | L32: 0.00000 | M32: 0.00000 | N32: 0.00000 | P32: 452000 | Q32: 904000 | R32: 0.06 | U32: P
A33: 190003 | B33: =IFERROR(INDEX(Export!B:B,MATCH('Lignes des factures'!A33,Export!A:A,0)),"") -> bcdez | D33: NIK 100-80100 | E33: KIT EN SAILLIE SIMPLE POUR MONTAGE EN SAILLIE D 1 APPAREIL A ENCASTRER, CREAM | F33: 200000 | G33: 250710 | H33: 120000 | I33: 602000 | J33: 180000 | K33: 20.00 | L33: 0.00000 | M33: 0.00000 | N33: 0.00000 | P33: 301000 | Q33: 602000 | R33: 0.06 | U33: P
A34: 190003 | B34: =IFERROR(INDEX(Export!B:B,MATCH('Lignes des factures'!A34,Export!A:A,0)),"") -> bcdez | D34: NIK 101-76100 | E34: ORIGINAL WHITE PLAQUE DE RECOUVREMENT SIMPLE | F34: 300000 | G34: 0.98360 | H34: 120000 | I34: 354000 | J34: 180000 | K34: 20.00 | L34: 0.00000 | M34: 0.00000 | N34: 0.00000 | P34: 118000 | Q34: 354000 | R34: 0.06 | U34: P
A35: 190003 | B35: =IFERROR(INDEX(Export!B:B,MATCH('Lignes des factures'!A35,Export!A:A,0)),"") -> bcdez | D35: NIK 101-76800 | E35: ORIGINAL WHITE PLAQUE DE RECOUVREMENT DOUBLE, ENTRAXE 71MM | F35: 100000 | G35: 220120 | H35: 120000 | I35: 264000 | J35: 180000 | K35: 20.00 | L35: 0.00000 | M35: 0.00000 | N35: 0.00000 | P35: 264000 | Q35: 264000 | R35: 0.06 | U35: P
A36: 190003 | B36: =IFERROR(INDEX(Export!B:B,MATCH('Lignes des factures'!A36,Export!A:A,0)),"") -> bcdez | C36: 1 | D36: ENSENIKPCH2E2V | E36: PRISES DOUBLES HERMÉTIQUES VERTICALES 2 ENTRÉES NIKO | F36: 200000 | G36: 1489510 | H36: 143000 | I36: 4260000 | J36: 180000 | K36: 20.00 | L36: 0.00000 | M36: 0.00000 | N36: 0.00000 | P36: 2130000 | Q36: 4260000 | R36: 0.06 | U36: SET
A37: 190003 | B37: =IFERROR(INDEX(Export!B:B,MATCH('Lignes des factures'!A37,Export!A:A,0)),"") -> bcdez | E37: APPAREILLAGE | F37: 0.00000 | G37: 0.00000 | H37: 0.00000 | I37: 0.00000 | J37: 0.00000 | K37: 0.00 | L37: 0.00000 | M37: 0.00000 | N37: 0.00000 | P37: 0.00000 | Q37: 0.00000
A38: 190003 | B38: =IFERROR(INDEX(Export!B:B,MATCH('Lignes des factures'!A38,Export!A:A,0)),"") -> bcdez | D38: NIK 700-84202 | E38: NEW HYDRO BOÎTIER EN SAILLIE VERTICAL ETANCHE AUX PROJECTIONS D EAU POURVU D UNE ENTREE M20 DOUBLE POUR L ENCASTREMENT DE DEUX FONCTIONS | F38: 100000 | G38: 476700 | H38: 143000 | I38: 682000 | J38: 180000 | K38: 20.00 | L38: 0.00000 | M38: 0.00000 | N38: 0.00000 | P38: 682000 | Q38: 682000 | R38: 0.06 | U38: P
A39: 190003 | B39: =IFERROR(INDEX(Export!B:B,MATCH('Lignes des factures'!A39,Export!A:A,0)),"") -> bcdez | D39: NIK 700-36600 | E39: NEW HYDRO PRISE ETANCHE AUX PROJECTIONS D'EAU, AVEC BROCHE DE TERRE, ECLIPSES ET BORNES DE RACCORDEMENT A VIS, SANS BOITIER EN SAILLIE | F39: 200000 | G39: 506590 | H39: 143000 | I39: 1448000 | J39: 180000 | K39: 20.00 | L39: 0.00000 | M39: 0.00000 | N39: 0.00000 | P39: 724000 | Q39: 1448000 | R39: 0.06 | U39: P
A40: 190003 | B40: =IFERROR(INDEX(Export!B:B,MATCH('Lignes des factures'!A40,Export!A:A,0)),"") -> bcdez | C40: 1 | D40: Fin ensemble | F40: 0.00000 | G40: 0.00000 | H40: 0.00000 | I40: 0.00000 | J40: 0.00000 | K40: 0.00 | L40: 0.00000 | M40: 0.00000 | N40: 0.00000 | P40: 0.00000 | Q40: 0.00000
...

Sheet Export
A1: N° de la facture | B1: Client | C1: Date de facturation | D1: Échéance | E1: Conditions | F1: Site | G1: Message affiché sur le relevé de situation | H1: Article (produit/service) | I1: Description | J1: Quantité | K1: Prix unitaire | L1: Montant de l'article | M1: Taux de TVA | N1: Montant de TVA
A2: 190001 | B2: aaaa | C2: 43467 | D2: 43467 | I2: Conformité Eden City, 23 | K2: 599.36 | L2: 599.36 | M2: 0.06 | N2: 35.96
A3: 190002 | B3: aba | C3: 43467 | D3: 43467 | I3: Dépannage luminaire sdb | K3: 89.61 | L3: 89.61 | M3: 0.06 | N3: 5.38
A4: 190003 | B4: bcdez | C4: 43475 | D4: 43475 | I4: Conformité Charlène | K4: 1444.13 | L4: 1444.13 | M4: 0.06 | N4: 86.65
A5: 190004 | B5: thgarreah | C5: 43492 | D5: 43492 | I5: DIVERS | K5: 2318 | L5: 2318 | M5: 0 | N5: 0
A6: 190005 | B6: grg | C6: 43524 | D6: 43524 | I6: Dépannage Parlophonie | K6: 144 | L6: 144 | M6: 0.06 | N6: 8.64
A7: 190006 | B7: VBE | C7: 43512 | D7: 43512 | I7: DIVERS | K7: 1855.66 | L7: 1855.66 | M7: 0 | N7: 0
A8: 190007 | B8: raehrhr | C8: 43518 | D8: 43518 | I8: 7 lights wired and fitted into the ceiling | K8: 167.5 | L8: 167.5 | M8: 0.06 | N8: 9.3
A9: 190008 | B9: VBE | C9: 43528 | D9: 43528 | I9: Luminaire appartement 3eme avant | K9: 929.22 | L9: 929.22 | M9: 0.06 | N9: 55.75
A10: 190009 | B10: grar | C10: 43528 | D10: 43528 | I10: Spots + Prises appartement 1er arrière | K10: 639.92 | L10: 639.92 | M10: 0.06 | N10: 38.4
A11: 190010 | B11: aaaa | C11: 43528 | D11: 43528 | I11: Luminaire appartement 3eme avant | K11: 207.8 | L11: 207.8 | M11: 0.06 | N11: 12.47
A12: 190011 | B12: PARDE | C12: 43530 | D12: 43530 | I12: Détecteurs caves + remplacements lampes | K12: 458.25 | L12: 458.25 | M12: 0.06 | N12: 27.5
A13: 190012 | B13: gkllg | C13: 43546 | D13: 43546 | I13: 4x "3-way" switches | K13: 61.61 | L13: 61.61 | M13: 0.06 | N13: 3.48
... A53: 190052 | B53: bbbbb | C53: 43818 | D53: 43818 | I53: Installation Photovoltaïque | K53: 6820.37 | L53: 6820.37 | M53: 0.06 | N53: 409.22
