Workbook

Sheet Tableau données 
A2: =MID(CELL("nomfichier"),FIND("]",CELL("nomfichier"))+1,40) -> Tableau données
G3: Théorique | K3: Réalisé | O3: Différence entre prévu et réalisé
A4: code | B4: intitulé | C4: début | D4: fin | E4: nombre de points | F4: Points An 2016 | G4: valeur point | H4: total théorique | I4: Simu 1 Trimestre | J4: Simu pts trimestre | K4: T1-2016 | L4: T2-2016 | M4: T3-2016 | N4: T4-2016
A5: 07597/00 | K5: {=IFERROR(INDEX('récapitulatif Tri 1 2 3 4'!$W$2:$W$12,MATCH($A5&$K$4,'récapitulatif Tri 1 2 3 4'!$B$2:$B$12&'récapitulatif Tri 1 2 3 4'!$J$2:$J$12,0)),"-")} -> - | O5: =SUM(K5:N5)-H5 -> 0
A6: 09133/00 | K6: {=IFERROR(INDEX('récapitulatif Tri 1 2 3 4'!$W$2:$W$12,MATCH($A6&$K$4,'récapitulatif Tri 1 2 3 4'!$B$2:$B$12&'récapitulatif Tri 1 2 3 4'!$J$2:$J$12,0)),"-")} -> 2463026.5 | O6: =SUM(K6:N6)-H6 -> 2463026.5
A7: 09478/00 | K7: {=IFERROR(INDEX('récapitulatif Tri 1 2 3 4'!$W$2:$W$12,MATCH($A7&$K$4,'récapitulatif Tri 1 2 3 4'!$B$2:$B$12&'récapitulatif Tri 1 2 3 4'!$J$2:$J$12,0)),"-")} -> - | O7: =SUM(K7:N7)-H7 -> 0
A8: 09652/00 | K8: {=IFERROR(INDEX('récapitulatif Tri 1 2 3 4'!$W$2:$W$12,MATCH($A8&$K$4,'récapitulatif Tri 1 2 3 4'!$B$2:$B$12&'récapitulatif Tri 1 2 3 4'!$J$2:$J$12,0)),"-")} -> - | O8: =SUM(K8:N8)-H8 -> 0
A9: 09980/00 | K9: {=IFERROR(INDEX('récapitulatif Tri 1 2 3 4'!$W$2:$W$12,MATCH($A9&$K$4,'récapitulatif Tri 1 2 3 4'!$B$2:$B$12&'récapitulatif Tri 1 2 3 4'!$J$2:$J$12,0)),"-")} -> - | O9: =SUM(K9:N9)-H9 -> 0
A10: 11009/00 | K10: {=IFERROR(INDEX('récapitulatif Tri 1 2 3 4'!$W$2:$W$12,MATCH($A10&$K$4,'récapitulatif Tri 1 2 3 4'!$B$2:$B$12&'récapitulatif Tri 1 2 3 4'!$J$2:$J$12,0)),"-")} -> - | O10: =SUM(K10:N10)-H10 -> 0
A11: 12416/00 | K11: {=IFERROR(INDEX('récapitulatif Tri 1 2 3 4'!$W$2:$W$12,MATCH($A11&$K$4,'récapitulatif Tri 1 2 3 4'!$B$2:$B$12&'récapitulatif Tri 1 2 3 4'!$J$2:$J$12,0)),"-")} -> 1231513.3 | O11: =SUM(K11:N11)-H11 -> 1231513.3
A12: 13689/00 | K12: {=IFERROR(INDEX('récapitulatif Tri 1 2 3 4'!$W$2:$W$12,MATCH($A12&$K$4,'récapitulatif Tri 1 2 3 4'!$B$2:$B$12&'récapitulatif Tri 1 2 3 4'!$J$2:$J$12,0)),"-")} -> - | O12: =SUM(K12:N12)-H12 -> 0
A13: 14608/00 | K13: {=IFERROR(INDEX('récapitulatif Tri 1 2 3 4'!$W$2:$W$12,MATCH($A13&$K$4,'récapitulatif Tri 1 2 3 4'!$B$2:$B$12&'récapitulatif Tri 1 2 3 4'!$J$2:$J$12,0)),"-")} -> - | O13: =SUM(K13:N13)-H13 -> 0
A14: 15638/00 | K14: {=IFERROR(INDEX('récapitulatif Tri 1 2 3 4'!$W$2:$W$12,MATCH($A14&$K$4,'récapitulatif Tri 1 2 3 4'!$B$2:$B$12&'récapitulatif Tri 1 2 3 4'!$J$2:$J$12,0)),"-")} -> 351860.93 | O14: =SUM(K14:N14)-H14 -> 351860.93
A15: 16191/00 | K15: {=IFERROR(INDEX('récapitulatif Tri 1 2 3 4'!$W$2:$W$12,MATCH($A15&$K$4,'récapitulatif Tri 1 2 3 4'!$B$2:$B$12&'récapitulatif Tri 1 2 3 4'!$J$2:$J$12,0)),"-")} -> - | O15: =SUM(K15:N15)-H15 -> 0
A16: 16585/00 | K16: {=IFERROR(INDEX('récapitulatif Tri 1 2 3 4'!$W$2:$W$12,MATCH($A16&$K$4,'récapitulatif Tri 1 2 3 4'!$B$2:$B$12&'récapitulatif Tri 1 2 3 4'!$J$2:$J$12,0)),"-")} -> - | O16: =SUM(K16:N16)-H16 -> 0
... A18: 17919/00 | K18: {=IFERROR(INDEX('récapitulatif Tri 1 2 3 4'!$W$2:$W$12,MATCH($A18&$K$4,'récapitulatif Tri 1 2 3 4'!$B$2:$B$12&'récapitulatif Tri 1 2 3 4'!$J$2:$J$12,0)),"-")} -> - | O18: =SUM(K18:N18)-H18 -> 0
K19: =SUM(K5:K18) -> 4046400.7 | O19: =SUM(O5:O18) -> 4046400.7
K21: qu'est ce qui cloche dans mon sommeprod ?
K23: =SOMMEPROD('récapitulatif Tri 1 2 3 4'!$B$2:$B$12='Tableau données '!$A5)*('récapitulatif Tri 1 2 3 4'!$J$2:$J$12="T1-2016")*'récapitulatif Tri 1 2 3 4'!$W$2:$W$12

Sheet récapitulatif Tri 1 2 3 4
A1: NumeroLigne | B1: poste | I1: Poster.DateFinRealisation | J1: Trimestre | S1: Durée | T1: a | U1: b | V1: a | W1: b | Z1: 3024.64
A2: 1 | B2: 12416/00 | I2: 42460 | J2: ="T"&TEXT(1+INT((MONTH(I2)-1)/3),"#")&"-"&TEXT(YEAR(I2),"####") -> T1-2016 | L2: 0.5 | N2: 9 | O2: 7 | P2: 1 | S2: =(I2-H2)+1 -> 42461 | T2: =O2*L2*S2/365 -> 407.16027 | U2: =T2*P2 -> 407.16027 | V2: =T2*$Z$1 -> 1231513.3 | W2: 1231513.3
A3: 2 | B3: 12416/00 | I3: 42460 | J3: ="T"&TEXT(1+INT((MONTH(I3)-1)/3),"#")&"-"&TEXT(YEAR(I3),"####") -> T1-2016 | L3: 1 | N3: 8 | O3: 5 | P3: 1 | S3: =(I3-H3)+1 -> 42461 | T3: =O3*L3*S3/365 -> 581.65753 | U3: =T3*P3 -> 581.65753 | V3: =T3*$Z$1 -> 1759304.6 | W3: 1759304.6
A4: 3 | B4: 15638/00 | I4: 42460 | J4: ="T"&TEXT(1+INT((MONTH(I4)-1)/3),"#")&"-"&TEXT(YEAR(I4),"####") -> T1-2016 | L4: 0.5 | N4: 9 | O4: 2 | P4: 1 | S4: =(I4-H4)+1 -> 42461 | T4: =O4*L4*S4/365 -> 116.33151 | U4: =T4*P4 -> 116.33151 | V4: =T4*$Z$1 -> 351860.93 | W4: 351860.93
A5: 4 | B5: 09133/00 | I5: 42460 | J5: ="T"&TEXT(1+INT((MONTH(I5)-1)/3),"#")&"-"&TEXT(YEAR(I5),"####") -> T1-2016 | L5: 1 | N5: 15 | O5: 7 | P5: 1 | S5: =(I5-H5)+1 -> 42461 | T5: =O5*L5*S5/365 -> 814.32055 | U5: =T5*P5 -> 814.32055 | V5: =T5*$Z$1 -> 2463026.5 | W5: 2463026.5
A6: 5 | B6: 12416/00 | I6: 42460 | J6: ="T"&TEXT(1+INT((MONTH(I6)-1)/3),"#")&"-"&TEXT(YEAR(I6),"####") -> T1-2016 | L6: 1 | N6: 9 | O6: 4 | P6: 1 | S6: =(I6-H6)+1 -> 42461 | T6: =O6*L6*S6/365 -> 465.32603 | U6: =T6*P6 -> 465.32603 | V6: =T6*$Z$1 -> 1407443.7 | W6: 1407443.7
A7: 6 | B7: 12416/00 | I7: 42460 | J7: ="T"&TEXT(1+INT((MONTH(I7)-1)/3),"#")&"-"&TEXT(YEAR(I7),"####") -> T1-2016 | L7: 0.5 | N7: 9 | O7: 7 | P7: 0 | S7: =(I7-H7)+1 -> 42461 | T7: =O7*L7*S7/365 -> 407.16027 | U7: =T7*P7 -> 0 | V7: =T7*$Z$1 -> 1231513.3 | W7: 0
A8: 7 | B8: 12416/00 | I8: 42460 | J8: ="T"&TEXT(1+INT((MONTH(I8)-1)/3),"#")&"-"&TEXT(YEAR(I8),"####") -> T1-2016 | L8: 1 | N8: 9 | O8: 7 | P8: 0.5 | S8: =(I8-H8)+1 -> 42461 | T8: =O8*L8*S8/365 -> 814.32055 | U8: =T8*P8 -> 407.16027 | V8: =T8*$Z$1 -> 2463026.5 | W8: 1231513.3 | Z8: =J2 -> T1-2016
A9: 8 | B9: 12416/00 | I9: 42460 | J9: ="T"&TEXT(1+INT((MONTH(I9)-1)/3),"#")&"-"&TEXT(YEAR(I9),"####") -> T1-2016 | L9: 1 | N9: 9 | O9: 7 | P9: 1 | S9: =(I9-H9)+1 -> 42461 | T9: =O9*L9*S9/365 -> 814.32055 | U9: =T9*P9 -> 814.32055 | V9: =T9*$Z$1 -> 2463026.5 | W9: 2463026.5
A10: 9 | B10: 12416/00 | I10: 42460 | J10: ="T"&TEXT(1+INT((MONTH(I10)-1)/3),"#")&"-"&TEXT(YEAR(I10),"####") -> T1-2016 | L10: 1 | N10: 9 | O10: 7 | P10: 1 | S10: =(I10-H10)+1 -> 42461 | T10: =O10*L10*S10/365 -> 814.32055 | U10: =T10*P10 -> 814.32055 | V10: =T10*$Z$1 -> 2463026.5 | W10: 2463026.5
A11: 10 | B11: 12416/00 | I11: 42460 | J11: ="T"&TEXT(1+INT((MONTH(I11)-1)/3),"#")&"-"&TEXT(YEAR(I11),"####") -> T1-2016 | L11: 0.5 | N11: 9 | O11: 7 | P11: 1 | S11: =(I11-H11)+1 -> 42461 | T11: =O11*L11*S11/365 -> 407.16027 | U11: =T11*P11 -> 407.16027 | V11: =T11*$Z$1 -> 1231513.3 | W11: 1231513.3 | Z11: T1-2016
A12: 11 | B12: 15638/00 | I12: 42460 | J12: ="T"&TEXT(1+INT((MONTH(I12)-1)/3),"#")&"-"&TEXT(YEAR(I12),"####") -> T1-2016 | L12: 0.5 | N12: 9 | O12: 2 | P12: 0.5 | S12: =(I12-H12)+1 -> 42461 | T12: =O12*L12*S12/365 -> 116.33151 | U12: =T12*P12 -> 58.165753 | V12: =T12*$Z$1 -> 351860.93 | W12: 175930.46
