Workbook

Sheet BASE DE DONNEE 
A6: date | B6: CONTENANT | C6: CONTENU | F6: DESTINE A | G6: DESTINATAIRE | H6: POIDS
A7: 43468 | B7: 6 MALETTES | C7: AFFAIRE 1 | F7: PERSONNE 1 | G7: 1 | I7: =IF(A7=BON!$B$8,MAX($I$6:I6)+1,"") -> 1
A8: 43468 | B8: 4 CARTONS + 1 LONGUEUR | C8: AFFAIRE 2 | F8: PERSONNE 1 | G8: 1 | I8: =IF(A8=BON!$B$8,MAX($I$6:I7)+1,"") -> 2
A9: 43468 | B9: 1 CAISSE | C9: AFFAIRE 3 | F9: PERSONNE 1 | G9: 1 | H9: 170 | I9: =IF(A9=BON!$B$8,MAX($I$6:I8)+1,"") -> 3
A10: 43475 | B10: 4 CAISSES NAVETTES | C10: AFFAIRE 4 | F10: PERSONNE 1 | G10: 1 | I10: =IF(A10=BON!$B$8,MAX($I$6:I9)+1,"")
A11: 43475 | B11: 1 CARTON | C11: AFFAIRE 5 | F11: PERSONNE 2 | G11: 1 | I11: =IF(A11=BON!$B$8,MAX($I$6:I10)+1,"")
A12: 43475 | B12: 1 ENVELOPPE | C12: AFFAIRE 6 | F12: PERSONNE 3 | G12: 1 | I12: =IF(A12=BON!$B$8,MAX($I$6:I11)+1,"")
A13: 43475 | B13: 1 CARTON | C13: AFFAIRE 7 | F13: PERSONNE 4 | G13: 1 | H13: 82 | I13: =IF(A13=BON!$B$8,MAX($I$6:I12)+1,"")
A14: 43482 | B14: 1 CARTON | C14: AFFAIRE 8 | F14: PERSONNE 3 | G14: 1 | I14: =IF(A14=BON!$B$8,MAX($I$6:I13)+1,"")
A15: 43482 | B15: 1 CARTON | C15: AFFAIRE 9 | F15: PERSONNE 3 | G15: 1 | I15: =IF(A15=BON!$B$8,MAX($I$6:I14)+1,"")
A16: 43482 | B16: 1 CARTON | C16: AFFAIRE 10 | F16: PERSONNE 2 | G16: 1 | I16: =IF(A16=BON!$B$8,MAX($I$6:I15)+1,"")
A17: 43482 | B17: 1 CARTON | C17: AFFAIRE 11 | F17: MAGASIN | G17: 1 | I17: =IF(A17=BON!$B$8,MAX($I$6:I16)+1,"")
A18: 43482 | B18: 2 CAISSES | C18: AFFAIRE 12 | F18: PERSONNE 1 | G18: 1 | I18: =IF(A18=BON!$B$8,MAX($I$6:I17)+1,"")
A19: 43482 | B19: 2 MALETTES | C19: AFFAIRE 13 | F19: PERSONNE 1 | G19: 1 | I19: =IF(A19=BON!$B$8,MAX($I$6:I18)+1,"")
A20: 43482 | B20: 1 ENVELOPPE | C20: AFFAIRE 14 | F20: PERSONNE 4 | G20: 1 | H20: 580 | I20: =IF(A20=BON!$B$8,MAX($I$6:I19)+1,"")
A21: 43487 | B21: 1 CARTON | C21: AFFAIRE 15 | F21: PERSONNE 1 | G21: 1 | I21: =IF(A21=BON!$B$8,MAX($I$6:I20)+1,"")
A22: 43487 | B22: 1 CARTON | C22: AFFAIRE 16 | F22: PERSONNE 3 | G22: 1 | I22: =IF(A22=BON!$B$8,MAX($I$6:I21)+1,"")
A23: 43487 | B23: 1 CARTON | C23: AFFAIRE 17 | F23: PERSONNE 4 | G23: 1 | I23: =IF(A23=BON!$B$8,MAX($I$6:I22)+1,"")
A24: 43487 | C24: AFFAIRE 18 | F24: PERSONNE 1 | G24: 1 | I24: =IF(A24=BON!$B$8,MAX($I$6:I23)+1,"")
A25: 43487 | C25: AFFAIRE 19 | F25: PERSONNE 5 | G25: 1 | I25: =IF(A25=BON!$B$8,MAX($I$6:I24)+1,"")
A26: 43487 | B26: 1 MALETTE NAVETTE | C26: AFFAIRE 20 | F26: PERSONNE 1 | G26: 1 | H26: 75 | I26: =IF(A26=BON!$B$8,MAX($I$6:I25)+1,"")
A27: 43489 | B27: 1 CAISSE | C27: AFFAIRE 21 | F27: PERSONNE 1 | G27: 1 | I27: =IF(A27=BON!$B$8,MAX($I$6:I26)+1,"")
A28: 43489 | B28: 1 CARTON | C28: AFFAIRE 22 | F28: PERSONNE 3 | G28: 1 | I28: =IF(A28=BON!$B$8,MAX($I$6:I27)+1,"")
A29: 43489 | B29: 3 CAISSES | C29: AFFAIRE 23 | F29: PERSONNE 1 | G29: 1 | I29: =IF(A29=BON!$B$8,MAX($I$6:I28)+1,"")
A30: 43489 | B30: 1 CARTON | C30: AFFAIRE 24 | F30: PERSONNE 1 | G30: 1 | H30: 590 | I30: =IF(A30=BON!$B$8,MAX($I$6:I29)+1,"")
A31: 43490 | B31: 1 CAISSE + 2 CARTONS | C31: AFFAIRE 25 | F31: PERSONNE 1 | G31: 1 | I31: =IF(A31=BON!$B$8,MAX($I$6:I30)+1,"")
A32: 43490 | B32: 1 CARTON | C32: AFFAIRE 26 | F32: PERSONNE 1 | G32: 1 | I32: =IF(A32=BON!$B$8,MAX($I$6:I31)+1,"")
A33: 43490 | B33: 1 CARTON | C33: AFFAIRE 27 | F33: PERSONNE 4 | G33: 1 | H33: 235 | I33: =IF(A33=BON!$B$8,MAX($I$6:I32)+1,"")
A34: 43493 | B34: 1 CARTON | C34: AFFAIRE 28 | F34: PERSONNE 1 | G34: 1 | H34: 1 | I34: =IF(A34=BON!$B$8,MAX($I$6:I33)+1,"")
A35: 43495 | B35: 1 CAISSE | C35: AFFAIRE 29 | F35: PERSONNE 1 | G35: 1 | I35: =IF(A35=BON!$B$8,MAX($I$6:I34)+1,"")
A36: 43495 | B36: 1 ENVELOPPE | C36: AFFAIRE 30 | F36: PERSONNE 3 | G36: 1 | I36: =IF(A36=BON!$B$8,MAX($I$6:I35)+1,"")
A37: 43495 | B37: 1 ENVELOPPE | C37: AFFAIRE 31 | F37: PERSONNE 3 | G37: 1 | H37: 190 | I37: =IF(A37=BON!$B$8,MAX($I$6:I36)+1,"")
A38: 43496 | B38: 3 MALETTES | C38: AFFAIRE 32 | F38: PERSONNE 1 | G38: 1 | H38: 50 | I38: =IF(A38=BON!$B$8,MAX($I$6:I37)+1,"")

Sheet BON
A1: LOGO | D1: bordereau expédition
A4: ADRESSE 1
A5: ADRESSE 2 | E5: DESTINATAIRE | G5: 1
A8: DATE | B8: 43468 | C8: SEMAINE | D8: =IF(B8<>"",WEEKNUM(B8),"") -> 1 | E8: POIDS | F8: 82
A12: CONTENANT | C12: CONTENU | F12: DESTINE A
A13: =IFERROR(INDEX('BASE DE DONNEE '!B:B,MATCH(ROW()-12,'BASE DE DONNEE '!I:I,0)),"") -> 6 MALETTES | C13: =IFERROR(INDEX('BASE DE DONNEE '!C:C,MATCH(ROW()-12,'BASE DE DONNEE '!I:I,0)),"") -> AFFAIRE 1 | F13: =IFERROR(INDEX('BASE DE DONNEE '!F:F,MATCH(ROW()-12,'BASE DE DONNEE '!I:I,0)),"") -> PERSONNE 1
A14: =IFERROR(INDEX('BASE DE DONNEE '!B:B,MATCH(ROW()-12,'BASE DE DONNEE '!I:I,0)),"") -> 4 CARTONS + 1 LONGUEUR | C14: =IFERROR(INDEX('BASE DE DONNEE '!C:C,MATCH(ROW()-12,'BASE DE DONNEE '!I:I,0)),"") -> AFFAIRE 2 | F14: =IFERROR(INDEX('BASE DE DONNEE '!F:F,MATCH(ROW()-12,'BASE DE DONNEE '!I:I,0)),"") -> PERSONNE 1
A15: =IFERROR(INDEX('BASE DE DONNEE '!B:B,MATCH(ROW()-12,'BASE DE DONNEE '!I:I,0)),"") -> 1 CAISSE | C15: =IFERROR(INDEX('BASE DE DONNEE '!C:C,MATCH(ROW()-12,'BASE DE DONNEE '!I:I,0)),"") -> AFFAIRE 3 | F15: =IFERROR(INDEX('BASE DE DONNEE '!F:F,MATCH(ROW()-12,'BASE DE DONNEE '!I:I,0)),"") -> PERSONNE 1
A16: =IFERROR(INDEX('BASE DE DONNEE '!B:B,MATCH(ROW()-12,'BASE DE DONNEE '!I:I,0)),"") | C16: =IFERROR(INDEX('BASE DE DONNEE '!C:C,MATCH(ROW()-12,'BASE DE DONNEE '!I:I,0)),"") | F16: =IFERROR(INDEX('BASE DE DONNEE '!F:F,MATCH(ROW()-12,'BASE DE DONNEE '!I:I,0)),"")
A17: =IFERROR(INDEX('BASE DE DONNEE '!B:B,MATCH(ROW()-12,'BASE DE DONNEE '!I:I,0)),"") | C17: =IFERROR(INDEX('BASE DE DONNEE '!C:C,MATCH(ROW()-12,'BASE DE DONNEE '!I:I,0)),"") | F17: =IFERROR(INDEX('BASE DE DONNEE '!F:F,MATCH(ROW()-12,'BASE DE DONNEE '!I:I,0)),"")
A18: =IFERROR(INDEX('BASE DE DONNEE '!B:B,MATCH(ROW()-12,'BASE DE DONNEE '!I:I,0)),"") | C18: =IFERROR(INDEX('BASE DE DONNEE '!C:C,MATCH(ROW()-12,'BASE DE DONNEE '!I:I,0)),"") | F18: =IFERROR(INDEX('BASE DE DONNEE '!F:F,MATCH(ROW()-12,'BASE DE DONNEE '!I:I,0)),"")
A19: =IFERROR(INDEX('BASE DE DONNEE '!B:B,MATCH(ROW()-12,'BASE DE DONNEE '!I:I,0)),"") | C19: =IFERROR(INDEX('BASE DE DONNEE '!C:C,MATCH(ROW()-12,'BASE DE DONNEE '!I:I,0)),"") | F19: =IFERROR(INDEX('BASE DE DONNEE '!F:F,MATCH(ROW()-12,'BASE DE DONNEE '!I:I,0)),"")
A20: =IFERROR(INDEX('BASE DE DONNEE '!B:B,MATCH(ROW()-12,'BASE DE DONNEE '!I:I,0)),"") | C20: =IFERROR(INDEX('BASE DE DONNEE '!C:C,MATCH(ROW()-12,'BASE DE DONNEE '!I:I,0)),"") | F20: =IFERROR(INDEX('BASE DE DONNEE '!F:F,MATCH(ROW()-12,'BASE DE DONNEE '!I:I,0)),"") | I20: =IFERROR(INDEX('BASE DE DONNEE '!B:B,MATCH(ROW()-12,'BASE DE DONNEE '!I:I,0)),"")
A21: =IFERROR(INDEX('BASE DE DONNEE '!B:B,MATCH(ROW()-12,'BASE DE DONNEE '!I:I,0)),"") | C21: =IFERROR(INDEX('BASE DE DONNEE '!C:C,MATCH(ROW()-12,'BASE DE DONNEE '!I:I,0)),"") | F21: =IFERROR(INDEX('BASE DE DONNEE '!F:F,MATCH(ROW()-12,'BASE DE DONNEE '!I:I,0)),"") | I21: =IFERROR(INDEX('BASE DE DONNEE '!B:B,MATCH(ROW()-12,'BASE DE DONNEE '!I:I,0)),"")
A22: =IFERROR(INDEX('BASE DE DONNEE '!B:B,MATCH(ROW()-12,'BASE DE DONNEE '!I:I,0)),"") | C22: =IFERROR(INDEX('BASE DE DONNEE '!C:C,MATCH(ROW()-12,'BASE DE DONNEE '!I:I,0)),"") | F22: =IFERROR(INDEX('BASE DE DONNEE '!F:F,MATCH(ROW()-12,'BASE DE DONNEE '!I:I,0)),"") | I22: =IFERROR(INDEX('BASE DE DONNEE '!B:B,MATCH(ROW()-12,'BASE DE DONNEE '!I:I,0)),"")
A23: =IFERROR(INDEX('BASE DE DONNEE '!B:B,MATCH(ROW()-12,'BASE DE DONNEE '!I:I,0)),"") | C23: =IFERROR(INDEX('BASE DE DONNEE '!C:C,MATCH(ROW()-12,'BASE DE DONNEE '!I:I,0)),"") | F23: =IFERROR(INDEX('BASE DE DONNEE '!F:F,MATCH(ROW()-12,'BASE DE DONNEE '!I:I,0)),"")
A24: =IFERROR(INDEX('BASE DE DONNEE '!B:B,MATCH(ROW()-12,'BASE DE DONNEE '!I:I,0)),"") | C24: =IFERROR(INDEX('BASE DE DONNEE '!C:C,MATCH(ROW()-12,'BASE DE DONNEE '!I:I,0)),"") | F24: =IFERROR(INDEX('BASE DE DONNEE '!F:F,MATCH(ROW()-12,'BASE DE DONNEE '!I:I,0)),"")
A25: =IFERROR(INDEX('BASE DE DONNEE '!B:B,MATCH(ROW()-12,'BASE DE DONNEE '!I:I,0)),"") | C25: =IFERROR(INDEX('BASE DE DONNEE '!C:C,MATCH(ROW()-12,'BASE DE DONNEE '!I:I,0)),"") | F25: =IFERROR(INDEX('BASE DE DONNEE '!F:F,MATCH(ROW()-12,'BASE DE DONNEE '!I:I,0)),"")
A26: =IFERROR(INDEX('BASE DE DONNEE '!B:B,MATCH(ROW()-12,'BASE DE DONNEE '!I:I,0)),"") | C26: =IFERROR(INDEX('BASE DE DONNEE '!C:C,MATCH(ROW()-12,'BASE DE DONNEE '!I:I,0)),"") | F26: =IFERROR(INDEX('BASE DE DONNEE '!F:F,MATCH(ROW()-12,'BASE DE DONNEE '!I:I,0)),"")
A27: =IFERROR(INDEX('BASE DE DONNEE '!B:B,MATCH(ROW()-12,'BASE DE DONNEE '!I:I,0)),"") | C27: =IFERROR(INDEX('BASE DE DONNEE '!C:C,MATCH(ROW()-12,'BASE DE DONNEE '!I:I,0)),"") | F27: =IFERROR(INDEX('BASE DE DONNEE '!F:F,MATCH(ROW()-12,'BASE DE DONNEE '!I:I,0)),"")
A28: =IFERROR(INDEX('BASE DE DONNEE '!B:B,MATCH(ROW()-12,'BASE DE DONNEE '!I:I,0)),"") | C28: =IFERROR(INDEX('BASE DE DONNEE '!C:C,MATCH(ROW()-12,'BASE DE DONNEE '!I:I,0)),"") | F28: =IFERROR(INDEX('BASE DE DONNEE '!F:F,MATCH(ROW()-12,'BASE DE DONNEE '!I:I,0)),"")
A29: =IFERROR(INDEX('BASE DE DONNEE '!B:B,MATCH(ROW()-12,'BASE DE DONNEE '!I:I,0)),"") | C29: =IFERROR(INDEX('BASE DE DONNEE '!C:C,MATCH(ROW()-12,'BASE DE DONNEE '!I:I,0)),"") | F29: =IFERROR(INDEX('BASE DE DONNEE '!F:F,MATCH(ROW()-12,'BASE DE DONNEE '!I:I,0)),"")
