Workbook
Name A: REF!$E$4:$E$368
Name I: REF!$G$4:$G$368
Name M: REF!$F$4:$F$368
Name R_: REF!$H$4:$H$368

Sheet LIST
D2: 43101 | I2: Points | L2: Points | O2: Points | R2: Points | U2: Points
A3: Ordre | B3: TRIGRAMME | C3: Date Entrée | D3: Ancienneté | E3: STATUT MARITAL | F3: Points | G3: ENFANT 1 | H3: < 4 ans | I3: > 4 ans | J3: ENFANT 2 | K3: < 4 ans | L3: > 4 ans | M3: ENFANT 3 | N3: < 4 ans | O3: > 4 ans | P3: ENFANT 4 | Q3: < 4 ans | R3: > 4 ans | S3: ENFANT 4 | T3: < 4 ans | U3: > 4 ans
F4: 60 | G4: DATE NAISS | H4: 15 | I4: 60 | J4: DATE NAISS | K4: 15 | L4: 95 | M4: DATE NAISS | N4: 15 | O4: 125 | P4: DATE NAISS | Q4: 15 | R4: 150 | S4: DATE NAISS | T4: 15 | U4: 170
A5: 1 | B5: MSO | C5: 33042 | D5: =IF(DATEDIF(C5,$D$2,"y")>=15,((DATEDIF((EDATE((EOMONTH(C5,0)+1),15*12)),$D$2,"m"))*1.5)+60+180,IF(DATEDIF(C5,$D$2,"y")<15,DATEDIF(C5,$D$2,"m"))) -> 465 | E5: y | F5: =IF(E5="y",$F$4,0) -> 60 | G5: 33164 | H5: =IF((DATEDIF(G5,$D$2,"y")<4),$H$4,0) -> 0 | I5: =IF(AND(DATEDIF(G5,$D$2,"y")<=18,DATEDIF(G5,$D$2,"y")>=4),$I$4,0) -> 0 | J5: 34840 | K5: =IF((DATEDIF(J5,$D$2,"y")<4),$K$4,0) -> 0 | L5: =IF(AND(DATEDIF(J5,$D$2,"y")<=18,DATEDIF(J5,$D$2,"y")>=4),$L$4,0) -> 0 | M5: 36770 | N5: =IF((DATEDIF(M5,$D$2,"y")<4),$N$4,0) -> 0 | O5: =IF(AND(DATEDIF(M5,$D$2,"y")<=18,DATEDIF(M5,$D$2,"y")>=4),$O$4,0) -> 125 | Q5: =IF((DATEDIF(P5,$D$2,"y")<4),$Q$4,0) -> 0 | R5: =IF(AND(DATEDIF(P5,$D$2,"y")<=18,DATEDIF(P5,$D$2,"y")>=4),$Q$4,0) -> 0 | T5: =IF((DATEDIF(S5,$D$2,"y")<4),$T$4,0) -> 0 | U5: =IF(AND(DATEDIF(S5,$D$2,"y")<=18,DATEDIF(S5,$D$2,"y")>=4),$U$4,0) -> 0
A6: 2 | B6: ALY | C6: 33350 | D6: =IF(DATEDIF(C6,$D$2,"y")>=15,((DATEDIF((EDATE((EOMONTH(C6,0)+1),15*12)),$D$2,"m"))*1.5)+60+180,IF(DATEDIF(C6,$D$2,"y")<15,DATEDIF(C6,$D$2,"m"))) -> 450 | E6: n | F6: =IF(E6="y",$F$4,0) -> 0 | G6: 41820 | H6: =IF((DATEDIF(G6,$D$2,"y")<4),$H$4,0) -> 15 | I6: =IF(AND(DATEDIF(G6,$D$2,"y")<=18,DATEDIF(G6,$D$2,"y")>=4),$I$4,0) -> 0 | J6: 42582 | K6: =IF((DATEDIF(J6,$D$2,"y")<4),$K$4,0) -> 15 | L6: =IF(AND(DATEDIF(J6,$D$2,"y")<=18,DATEDIF(J6,$D$2,"y")>=4),$L$4,0) -> 0 | M6: 42582 | N6: =IF((DATEDIF(M6,$D$2,"y")<4),$N$4,0) -> 15 | O6: =IF(AND(DATEDIF(M6,$D$2,"y")<=18,DATEDIF(M6,$D$2,"y")>=4),$O$4,0) -> 0 | Q6: =IF((DATEDIF(P6,$D$2,"y")<4),$Q$4,0) -> 0 | R6: =IF(AND(DATEDIF(P6,$D$2,"y")<=18,DATEDIF(P6,$D$2,"y")>=4),$Q$4,0) -> 0 | T6: =IF((DATEDIF(S6,$D$2,"y")<4),$T$4,0) -> 0 | U6: =IF(AND(DATEDIF(S6,$D$2,"y")<=18,DATEDIF(S6,$D$2,"y")>=4),$U$4,0) -> 0
A7: 3 | B7: EHL | C7: 33678 | D7: =IF(DATEDIF(C7,$D$2,"y")>=15,((DATEDIF((EDATE((EOMONTH(C7,0)+1),15*12)),$D$2,"m"))*1.5)+60+180,IF(DATEDIF(C7,$D$2,"y")<15,DATEDIF(C7,$D$2,"m"))) -> 433.5 | E7: y | F7: =IF(E7="y",$F$4,0) -> 60 | G7: 40347 | H7: =IF((DATEDIF(G7,$D$2,"y")<4),$H$4,0) -> 0 | I7: =IF(AND(DATEDIF(G7,$D$2,"y")<=18,DATEDIF(G7,$D$2,"y")>=4),$I$4,0) -> 60 | J7: 41601 | K7: =IF((DATEDIF(J7,$D$2,"y")<4),$K$4,0) -> 0 | L7: =IF(AND(DATEDIF(J7,$D$2,"y")<=18,DATEDIF(J7,$D$2,"y")>=4),$L$4,0) -> 95 | M7: 42190 | N7: =IF((DATEDIF(M7,$D$2,"y")<4),$N$4,0) -> 15 | O7: =IF(AND(DATEDIF(M7,$D$2,"y")<=18,DATEDIF(M7,$D$2,"y")>=4),$O$4,0) -> 0 | Q7: =IF((DATEDIF(P7,$D$2,"y")<4),$Q$4,0) -> 0 | R7: =IF(AND(DATEDIF(P7,$D$2,"y")<=18,DATEDIF(P7,$D$2,"y")>=4),$Q$4,0) -> 0 | T7: =IF((DATEDIF(S7,$D$2,"y")<4),$T$4,0) -> 0 | U7: =IF(AND(DATEDIF(S7,$D$2,"y")<=18,DATEDIF(S7,$D$2,"y")>=4),$U$4,0) -> 0
A8: 4 | B8: LCT | C8: 33800 | D8: =IF(DATEDIF(C8,$D$2,"y")>=15,((DATEDIF((EDATE((EOMONTH(C8,0)+1),15*12)),$D$2,"m"))*1.5)+60+180,IF(DATEDIF(C8,$D$2,"y")<15,DATEDIF(C8,$D$2,"m"))) -> 427.5 | E8: y | F8: =IF(E8="y",$F$4,0) -> 60 | H8: =IF((DATEDIF(G8,$D$2,"y")<4),$H$4,0) -> 0 | I8: =IF(AND(DATEDIF(G8,$D$2,"y")<=18,DATEDIF(G8,$D$2,"y")>=4),$I$4,0) -> 0 | K8: =IF((DATEDIF(J8,$D$2,"y")<4),$K$4,0) -> 0 | L8: =IF(AND(DATEDIF(J8,$D$2,"y")<=18,DATEDIF(J8,$D$2,"y")>=4),$L$4,0) -> 0 | N8: =IF((DATEDIF(M8,$D$2,"y")<4),$N$4,0) -> 0 | O8: =IF(AND(DATEDIF(M8,$D$2,"y")<=18,DATEDIF(M8,$D$2,"y")>=4),$O$4,0) -> 0 | Q8: =IF((DATEDIF(P8,$D$2,"y")<4),$Q$4,0) -> 0 | R8: =IF(AND(DATEDIF(P8,$D$2,"y")<=18,DATEDIF(P8,$D$2,"y")>=4),$Q$4,0) -> 0 | T8: =IF((DATEDIF(S8,$D$2,"y")<4),$T$4,0) -> 0 | U8: =IF(AND(DATEDIF(S8,$D$2,"y")<=18,DATEDIF(S8,$D$2,"y")>=4),$U$4,0) -> 0
A9: 5 | B9: DNI | C9: 33856 | D9: =IF(DATEDIF(C9,$D$2,"y")>=15,((DATEDIF((EDATE((EOMONTH(C9,0)+1),15*12)),$D$2,"m"))*1.5)+60+180,IF(DATEDIF(C9,$D$2,"y")<15,DATEDIF(C9,$D$2,"m"))) -> 424.5 | E9: y | F9: =IF(E9="y",$F$4,0) -> 60 | H9: =IF((DATEDIF(G9,$D$2,"y")<4),$H$4,0) -> 0 | I9: =IF(AND(DATEDIF(G9,$D$2,"y")<=18,DATEDIF(G9,$D$2,"y")>=4),$I$4,0) -> 0 | K9: =IF((DATEDIF(J9,$D$2,"y")<4),$K$4,0) -> 0 | L9: =IF(AND(DATEDIF(J9,$D$2,"y")<=18,DATEDIF(J9,$D$2,"y")>=4),$L$4,0) -> 0 | N9: =IF((DATEDIF(M9,$D$2,"y")<4),$N$4,0) -> 0 | O9: =IF(AND(DATEDIF(M9,$D$2,"y")<=18,DATEDIF(M9,$D$2,"y")>=4),$O$4,0) -> 0 | Q9: =IF((DATEDIF(P9,$D$2,"y")<4),$Q$4,0) -> 0 | R9: =IF(AND(DATEDIF(P9,$D$2,"y")<=18,DATEDIF(P9,$D$2,"y")>=4),$Q$4,0) -> 0 | T9: =IF((DATEDIF(S9,$D$2,"y")<4),$T$4,0) -> 0 | U9: =IF(AND(DATEDIF(S9,$D$2,"y")<=18,DATEDIF(S9,$D$2,"y")>=4),$U$4,0) -> 0
A10: 6 | B10: PLA | C10: 34260 | D10: =IF(DATEDIF(C10,$D$2,"y")>=15,((DATEDIF((EDATE((EOMONTH(C10,0)+1),15*12)),$D$2,"m"))*1.5)+60+180,IF(DATEDIF(C10,$D$2,"y")<15,DATEDIF(C10,$D$2,"m"))) -> 405 | E10: y | F10: =IF(E10="y",$F$4,0) -> 60 | H10: =IF((DATEDIF(G10,$D$2,"y")<4),$H$4,0) -> 0 | I10: =IF(AND(DATEDIF(G10,$D$2,"y")<=18,DATEDIF(G10,$D$2,"y")>=4),$I$4,0) -> 0 | K10: =IF((DATEDIF(J10,$D$2,"y")<4),$K$4,0) -> 0 | L10: =IF(AND(DATEDIF(J10,$D$2,"y")<=18,DATEDIF(J10,$D$2,"y")>=4),$L$4,0) -> 0 | N10: =IF((DATEDIF(M10,$D$2,"y")<4),$N$4,0) -> 0 | O10: =IF(AND(DATEDIF(M10,$D$2,"y")<=18,DATEDIF(M10,$D$2,"y")>=4),$O$4,0) -> 0 | Q10: =IF((DATEDIF(P10,$D$2,"y")<4),$Q$4,0) -> 0 | R10: =IF(AND(DATEDIF(P10,$D$2,"y")<=18,DATEDIF(P10,$D$2,"y")>=4),$Q$4,0) -> 0 | T10: =IF((DATEDIF(S10,$D$2,"y")<4),$T$4,0) -> 0 | U10: =IF(AND(DATEDIF(S10,$D$2,"y")<=18,DATEDIF(S10,$D$2,"y")>=4),$U$4,0) -> 0
A11: 7 | B11: BSE | C11: 34582 | D11: =IF(DATEDIF(C11,$D$2,"y")>=15,((DATEDIF((EDATE((EOMONTH(C11,0)+1),15*12)),$D$2,"m"))*1.5)+60+180,IF(DATEDIF(C11,$D$2,"y")<15,DATEDIF(C11,$D$2,"m"))) -> 388.5 | E11: n | F11: =IF(E11="y",$F$4,0) -> 0 | H11: =IF((DATEDIF(G11,$D$2,"y")<4),$H$4,0) -> 0 | I11: =IF(AND(DATEDIF(G11,$D$2,"y")<=18,DATEDIF(G11,$D$2,"y")>=4),$I$4,0) -> 0 | K11: =IF((DATEDIF(J11,$D$2,"y")<4),$K$4,0) -> 0 | L11: =IF(AND(DATEDIF(J11,$D$2,"y")<=18,DATEDIF(J11,$D$2,"y")>=4),$L$4,0) -> 0 | N11: =IF((DATEDIF(M11,$D$2,"y")<4),$N$4,0) -> 0 | O11: =IF(AND(DATEDIF(M11,$D$2,"y")<=18,DATEDIF(M11,$D$2,"y")>=4),$O$4,0) -> 0 | Q11: =IF((DATEDIF(P11,$D$2,"y")<4),$Q$4,0) -> 0 | R11: =IF(AND(DATEDIF(P11,$D$2,"y")<=18,DATEDIF(P11,$D$2,"y")>=4),$Q$4,0) -> 0 | T11: =IF((DATEDIF(S11,$D$2,"y")<4),$T$4,0) -> 0 | U11: =IF(AND(DATEDIF(S11,$D$2,"y")<=18,DATEDIF(S11,$D$2,"y")>=4),$U$4,0) -> 0
A12: 8 | B12: PRD | C12: 34582 | D12: =IF(DATEDIF(C12,$D$2,"y")>=15,((DATEDIF((EDATE((EOMONTH(C12,0)+1),15*12)),$D$2,"m"))*1.5)+60+180,IF(DATEDIF(C12,$D$2,"y")<15,DATEDIF(C12,$D$2,"m"))) -> 388.5 | E12: y | F12: =IF(E12="y",$F$4,0) -> 60 | H12: =IF((DATEDIF(G12,$D$2,"y")<4),$H$4,0) -> 0 | I12: =IF(AND(DATEDIF(G12,$D$2,"y")<=18,DATEDIF(G12,$D$2,"y")>=4),$I$4,0) -> 0 | K12: =IF((DATEDIF(J12,$D$2,"y")<4),$K$4,0) -> 0 | L12: =IF(AND(DATEDIF(J12,$D$2,"y")<=18,DATEDIF(J12,$D$2,"y")>=4),$L$4,0) -> 0 | N12: =IF((DATEDIF(M12,$D$2,"y")<4),$N$4,0) -> 0 | O12: =IF(AND(DATEDIF(M12,$D$2,"y")<=18,DATEDIF(M12,$D$2,"y")>=4),$O$4,0) -> 0 | Q12: =IF((DATEDIF(P12,$D$2,"y")<4),$Q$4,0) -> 0 | R12: =IF(AND(DATEDIF(P12,$D$2,"y")<=18,DATEDIF(P12,$D$2,"y")>=4),$Q$4,0) -> 0 | T12: =IF((DATEDIF(S12,$D$2,"y")<4),$T$4,0) -> 0 | U12: =IF(AND(DATEDIF(S12,$D$2,"y")<=18,DATEDIF(S12,$D$2,"y")>=4),$U$4,0) -> 0
A13: 9 | B13: CLO | C13: 34645 | D13: =IF(DATEDIF(C13,$D$2,"y")>=15,((DATEDIF((EDATE((EOMONTH(C13,0)+1),15*12)),$D$2,"m"))*1.5)+60+180,IF(DATEDIF(C13,$D$2,"y")<15,DATEDIF(C13,$D$2,"m"))) -> 385.5 | E13: y | F13: =IF(E13="y",$F$4,0) -> 60 | H13: =IF((DATEDIF(G13,$D$2,"y")<4),$H$4,0) -> 0 | I13: =IF(AND(DATEDIF(G13,$D$2,"y")<=18,DATEDIF(G13,$D$2,"y")>=4),$I$4,0) -> 0 | K13: =IF((DATEDIF(J13,$D$2,"y")<4),$K$4,0) -> 0 | L13: =IF(AND(DATEDIF(J13,$D$2,"y")<=18,DATEDIF(J13,$D$2,"y")>=4),$L$4,0) -> 0 | N13: =IF((DATEDIF(M13,$D$2,"y")<4),$N$4,0) -> 0 | O13: =IF(AND(DATEDIF(M13,$D$2,"y")<=18,DATEDIF(M13,$D$2,"y")>=4),$O$4,0) -> 0 | Q13: =IF((DATEDIF(P13,$D$2,"y")<4),$Q$4,0) -> 0 | R13: =IF(AND(DATEDIF(P13,$D$2,"y")<=18,DATEDIF(P13,$D$2,"y")>=4),$Q$4,0) -> 0 | T13: =IF((DATEDIF(S13,$D$2,"y")<4),$T$4,0) -> 0 | U13: =IF(AND(DATEDIF(S13,$D$2,"y")<=18,DATEDIF(S13,$D$2,"y")>=4),$U$4,0) -> 0
A14: 10 | B14: ALB | C14: 34705 | D14: =IF(DATEDIF(C14,$D$2,"y")>=15,((DATEDIF((EDATE((EOMONTH(C14,0)+1),15*12)),$D$2,"m"))*1.5)+60+180,IF(DATEDIF(C14,$D$2,"y")<15,DATEDIF(C14,$D$2,"m"))) -> 382.5 | E14: y | F14: =IF(E14="y",$F$4,0) -> 60 | H14: =IF((DATEDIF(G14,$D$2,"y")<4),$H$4,0) -> 0 | I14: =IF(AND(DATEDIF(G14,$D$2,"y")<=18,DATEDIF(G14,$D$2,"y")>=4),$I$4,0) -> 0 | K14: =IF((DATEDIF(J14,$D$2,"y")<4),$K$4,0) -> 0 | L14: =IF(AND(DATEDIF(J14,$D$2,"y")<=18,DATEDIF(J14,$D$2,"y")>=4),$L$4,0) -> 0 | N14: =IF((DATEDIF(M14,$D$2,"y")<4),$N$4,0) -> 0 | O14: =IF(AND(DATEDIF(M14,$D$2,"y")<=18,DATEDIF(M14,$D$2,"y")>=4),$O$4,0) -> 0 | Q14: =IF((DATEDIF(P14,$D$2,"y")<4),$Q$4,0) -> 0 | R14: =IF(AND(DATEDIF(P14,$D$2,"y")<=18,DATEDIF(P14,$D$2,"y")>=4),$Q$4,0) -> 0 | T14: =IF((DATEDIF(S14,$D$2,"y")<4),$T$4,0) -> 0 | U14: =IF(AND(DATEDIF(S14,$D$2,"y")<=18,DATEDIF(S14,$D$2,"y")>=4),$U$4,0) -> 0
A15: 11 | B15: CSP | C15: 34705 | D15: =IF(DATEDIF(C15,$D$2,"y")>=15,((DATEDIF((EDATE((EOMONTH(C15,0)+1),15*12)),$D$2,"m"))*1.5)+60+180,IF(DATEDIF(C15,$D$2,"y")<15,DATEDIF(C15,$D$2,"m"))) -> 382.5 | E15: y | F15: =IF(E15="y",$F$4,0) -> 60 | H15: =IF((DATEDIF(G15,$D$2,"y")<4),$H$4,0) -> 0 | I15: =IF(AND(DATEDIF(G15,$D$2,"y")<=18,DATEDIF(G15,$D$2,"y")>=4),$I$4,0) -> 0 | K15: =IF((DATEDIF(J15,$D$2,"y")<4),$K$4,0) -> 0 | L15: =IF(AND(DATEDIF(J15,$D$2,"y")<=18,DATEDIF(J15,$D$2,"y")>=4),$L$4,0) -> 0 | N15: =IF((DATEDIF(M15,$D$2,"y")<4),$N$4,0) -> 0 | O15: =IF(AND(DATEDIF(M15,$D$2,"y")<=18,DATEDIF(M15,$D$2,"y")>=4),$O$4,0) -> 0 | Q15: =IF((DATEDIF(P15,$D$2,"y")<4),$Q$4,0) -> 0 | R15: =IF(AND(DATEDIF(P15,$D$2,"y")<=18,DATEDIF(P15,$D$2,"y")>=4),$Q$4,0) -> 0 | T15: =IF((DATEDIF(S15,$D$2,"y")<4),$T$4,0) -> 0 | U15: =IF(AND(DATEDIF(S15,$D$2,"y")<=18,DATEDIF(S15,$D$2,"y")>=4),$U$4,0) -> 0
A16: 12 | B16: BLY | C16: 34785 | D16: =IF(DATEDIF(C16,$D$2,"y")>=15,((DATEDIF((EDATE((EOMONTH(C16,0)+1),15*12)),$D$2,"m"))*1.5)+60+180,IF(DATEDIF(C16,$D$2,"y")<15,DATEDIF(C16,$D$2,"m"))) -> 379.5 | E16: y | F16: =IF(E16="y",$F$4,0) -> 60 | H16: =IF((DATEDIF(G16,$D$2,"y")<4),$H$4,0) -> 0 | I16: =IF(AND(DATEDIF(G16,$D$2,"y")<=18,DATEDIF(G16,$D$2,"y")>=4),$I$4,0) -> 0 | K16: =IF((DATEDIF(J16,$D$2,"y")<4),$K$4,0) -> 0 | L16: =IF(AND(DATEDIF(J16,$D$2,"y")<=18,DATEDIF(J16,$D$2,"y")>=4),$L$4,0) -> 0 | N16: =IF((DATEDIF(M16,$D$2,"y")<4),$N$4,0) -> 0 | O16: =IF(AND(DATEDIF(M16,$D$2,"y")<=18,DATEDIF(M16,$D$2,"y")>=4),$O$4,0) -> 0 | Q16: =IF((DATEDIF(P16,$D$2,"y")<4),$Q$4,0) -> 0 | R16: =IF(AND(DATEDIF(P16,$D$2,"y")<=18,DATEDIF(P16,$D$2,"y")>=4),$Q$4,0) -> 0 | T16: =IF((DATEDIF(S16,$D$2,"y")<4),$T$4,0) -> 0 | U16: =IF(AND(DATEDIF(S16,$D$2,"y")<=18,DATEDIF(S16,$D$2,"y")>=4),$U$4,0) -> 0
A17: 13 | B17: BLX | C17: 34941 | D17: =IF(DATEDIF(C17,$D$2,"y")>=15,((DATEDIF((EDATE((EOMONTH(C17,0)+1),15*12)),$D$2,"m"))*1.5)+60+180,IF(DATEDIF(C17,$D$2,"y")<15,DATEDIF(C17,$D$2,"m"))) -> 372 | E17: y | F17: =IF(E17="y",$F$4,0) -> 60 | H17: =IF((DATEDIF(G17,$D$2,"y")<4),$H$4,0) -> 0 | I17: =IF(AND(DATEDIF(G17,$D$2,"y")<=18,DATEDIF(G17,$D$2,"y")>=4),$I$4,0) -> 0 | K17: =IF((DATEDIF(J17,$D$2,"y")<4),$K$4,0) -> 0 | L17: =IF(AND(DATEDIF(J17,$D$2,"y")<=18,DATEDIF(J17,$D$2,"y")>=4),$L$4,0) -> 0 | N17: =IF((DATEDIF(M17,$D$2,"y")<4),$N$4,0) -> 0 | O17: =IF(AND(DATEDIF(M17,$D$2,"y")<=18,DATEDIF(M17,$D$2,"y")>=4),$O$4,0) -> 0 | Q17: =IF((DATEDIF(P17,$D$2,"y")<4),$Q$4,0) -> 0 | R17: =IF(AND(DATEDIF(P17,$D$2,"y")<=18,DATEDIF(P17,$D$2,"y")>=4),$Q$4,0) -> 0 | T17: =IF((DATEDIF(S17,$D$2,"y")<4),$T$4,0) -> 0 | U17: =IF(AND(DATEDIF(S17,$D$2,"y")<=18,DATEDIF(S17,$D$2,"y")>=4),$U$4,0) -> 0
A18: 15 | B18: BNI | C18: 35163 | D18: =IF(DATEDIF(C18,$D$2,"y")>=15,((DATEDIF((EDATE((EOMONTH(C18,0)+1),15*12)),$D$2,"m"))*1.5)+60+180,IF(DATEDIF(C18,$D$2,"y")<15,DATEDIF(C18,$D$2,"m"))) -> 360 | E18: y | F18: =IF(E18="y",$F$4,0) -> 60 | H18: =IF((DATEDIF(G18,$D$2,"y")<4),$H$4,0) -> 0 | I18: =IF(AND(DATEDIF(G18,$D$2,"y")<=18,DATEDIF(G18,$D$2,"y")>=4),$I$4,0) -> 0 | K18: =IF((DATEDIF(J18,$D$2,"y")<4),$K$4,0) -> 0 | L18: =IF(AND(DATEDIF(J18,$D$2,"y")<=18,DATEDIF(J18,$D$2,"y")>=4),$L$4,0) -> 0 | N18: =IF((DATEDIF(M18,$D$2,"y")<4),$N$4,0) -> 0 | O18: =IF(AND(DATEDIF(M18,$D$2,"y")<=18,DATEDIF(M18,$D$2,"y")>=4),$O$4,0) -> 0 | Q18: =IF((DATEDIF(P18,$D$2,"y")<4),$Q$4,0) -> 0 | R18: =IF(AND(DATEDIF(P18,$D$2,"y")<=18,DATEDIF(P18,$D$2,"y")>=4),$Q$4,0) -> 0 | T18: =IF((DATEDIF(S18,$D$2,"y")<4),$T$4,0) -> 0 | U18: =IF(AND(DATEDIF(S18,$D$2,"y")<=18,DATEDIF(S18,$D$2,"y")>=4),$U$4,0) -> 0
A19: 16 | B19: LPP | C19: 35163 | D19: =IF(DATEDIF(C19,$D$2,"y")>=15,((DATEDIF((EDATE((EOMONTH(C19,0)+1),15*12)),$D$2,"m"))*1.5)+60+180,IF(DATEDIF(C19,$D$2,"y")<15,DATEDIF(C19,$D$2,"m"))) -> 360 | E19: y | F19: =IF(E19="y",$F$4,0) -> 60 | H19: =IF((DATEDIF(G19,$D$2,"y")<4),$H$4,0) -> 0 | I19: =IF(AND(DATEDIF(G19,$D$2,"y")<=18,DATEDIF(G19,$D$2,"y")>=4),$I$4,0) -> 0 | K19: =IF((DATEDIF(J19,$D$2,"y")<4),$K$4,0) -> 0 | L19: =IF(AND(DATEDIF(J19,$D$2,"y")<=18,DATEDIF(J19,$D$2,"y")>=4),$L$4,0) -> 0 | N19: =IF((DATEDIF(M19,$D$2,"y")<4),$N$4,0) -> 0 | O19: =IF(AND(DATEDIF(M19,$D$2,"y")<=18,DATEDIF(M19,$D$2,"y")>=4),$O$4,0) -> 0 | Q19: =IF((DATEDIF(P19,$D$2,"y")<4),$Q$4,0) -> 0 | R19: =IF(AND(DATEDIF(P19,$D$2,"y")<=18,DATEDIF(P19,$D$2,"y")>=4),$Q$4,0) -> 0 | T19: =IF((DATEDIF(S19,$D$2,"y")<4),$T$4,0) -> 0 | U19: =IF(AND(DATEDIF(S19,$D$2,"y")<=18,DATEDIF(S19,$D$2,"y")>=4),$U$4,0) -> 0
... A32: 22 | B32: CSA | C32: 36262 | D32: =IF(DATEDIF(C32,$D$2,"y")>=15,((DATEDIF((EDATE((EOMONTH(C32,0)+1),15*12)),$D$2,"m"))*1.5)+60+180,IF(DATEDIF(C32,$D$2,"y")<15,DATEDIF(C32,$D$2,"m"))) -> 306 | E32: y | F32: =IF(E32="y",$F$4,0) -> 60 | H32: =IF((DATEDIF(G32,$D$2,"y")<4),$H$4,0) -> 0 | I32: =IF(AND(DATEDIF(G32,$D$2,"y")<=18,DATEDIF(G32,$D$2,"y")>=4),$I$4,0) -> 0 | K32: =IF((DATEDIF(J32,$D$2,"y")<4),$K$4,0) -> 0 | L32: =IF(AND(DATEDIF(J32,$D$2,"y")<=18,DATEDIF(J32,$D$2,"y")>=4),$L$4,0) -> 0 | N32: =IF((DATEDIF(M32,$D$2,"y")<4),$N$4,0) -> 0 | O32: =IF(AND(DATEDIF(M32,$D$2,"y")<=18,DATEDIF(M32,$D$2,"y")>=4),$O$4,0) -> 0 | Q32: =IF((DATEDIF(P32,$D$2,"y")<4),$Q$4,0) -> 0 | R32: =IF(AND(DATEDIF(P32,$D$2,"y")<=18,DATEDIF(P32,$D$2,"y")>=4),$Q$4,0) -> 0 | T32: =IF((DATEDIF(S32,$D$2,"y")<4),$T$4,0) -> 0 | U32: =IF(AND(DATEDIF(S32,$D$2,"y")<=18,DATEDIF(S32,$D$2,"y")>=4),$U$4,0) -> 0

Sheet CA N-1
E2: A | F2: Accepté
E3: M | F3: Modifié
E4: I | F4: Imposés
E5: R | F5: Reliquat
C6: Période | G6: Période | K6: Période | O6: Période
A7: Ordre | B7: TRIGRAMME | C7: 1 | G7: 2 | K7: 3 | O7: 4
C8: Date Début | D8: Date Fin | E8: Statut | F8: Points | G8: Date Début | H8: Date Fin | I8: Statut | J8: Points | K8: Date Début | L8: Date Fin | M8: Statut | N8: Points | O8: Date Début | P8: Date Fin | Q8: Statut | R8: Points
A9: =+LIST!A5 -> 1 | B9: =+LIST!B5 -> MSO | C9: 42470 | D9: 42481 | E9: a | F9: =SUM(INDIRECT("REF!"&ADDRESS(MATCH(C9,REF!$D$1:$D$368,0),MATCH(E9,REF!$A$3:$H$3,0))):INDIRECT("REF!"&ADDRESS(MATCH(D9,REF!$D$1:$D$368,0),MATCH(E9,REF!$A$3:$H$3,0)))) -> 24
A10: =+LIST!A6 -> 2 | B10: =+LIST!B6 -> ALY | C10: 42470 | D10: 42481 | E10: a | F10: =SUM(INDIRECT("REF!"&ADDRESS(MATCH(C10,REF!$D$1:$D$368,0),MATCH(E10,REF!$A$3:$H$3,0))):INDIRECT("REF!"&ADDRESS(MATCH(D10,REF!$D$1:$D$368,0),MATCH(E10,REF!$A$3:$H$3,0)))) -> 24
A11: =+LIST!A7 -> 3 | B11: =+LIST!B7 -> EHL | C11: 42481 | D11: 42495 | E11: a | F11: =SUM(INDIRECT("REF!"&ADDRESS(MATCH(C11,REF!$D$1:$D$368,0),MATCH(E11,REF!$A$3:$H$3,0))):INDIRECT("REF!"&ADDRESS(MATCH(D11,REF!$D$1:$D$368,0),MATCH(E11,REF!$A$3:$H$3,0)))) -> 54
A12: =+LIST!A8 -> 4 | B12: =+LIST!B8 -> LCT | C12: 42461 | D12: 42470 | E12: a | F12: =SUM(INDIRECT("REF!"&ADDRESS(MATCH(C12,REF!$D$1:$D$368,0),MATCH(E12,REF!$A$3:$H$3,0))):INDIRECT("REF!"&ADDRESS(MATCH(D12,REF!$D$1:$D$368,0),MATCH(E12,REF!$A$3:$H$3,0)))) -> 22
A13: =+LIST!A9 -> 5 | B13: =+LIST!B9 -> DNI | C13: 42461 | D13: 42470 | E13: a | F13: =SUM(INDIRECT("REF!"&ADDRESS(MATCH(C13,REF!$D$1:$D$368,0),MATCH(E13,REF!$A$3:$H$3,0))):INDIRECT("REF!"&ADDRESS(MATCH(D13,REF!$D$1:$D$368,0),MATCH(E13,REF!$A$3:$H$3,0)))) -> 22
A14: =+LIST!A10 -> 6 | B14: =+LIST!B10 -> PLA
A15: =+LIST!A11 -> 7 | B15: =+LIST!B11 -> BSE
A16: =+LIST!A12 -> 8 | B16: =+LIST!B12 -> PRD
A17: =+LIST!A13 -> 9 | B17: =+LIST!B13 -> CLO
A18: =+LIST!A14 -> 10 | B18: =+LIST!B14 -> ALB
A19: =+LIST!A15 -> 11 | B19: =+LIST!B15 -> CSP
A20: =+LIST!A16 -> 12 | B20: =+LIST!B16 -> BLY
A21: =+LIST!A17 -> 13 | B21: =+LIST!B17 -> BLX
A22: =+LIST!A18 -> 15 | B22: =+LIST!B18 -> BNI
A23: =+LIST!A19 -> 16 | B23: =+LIST!B19 -> LPP
A24: =+LIST!A20 -> 17 | B24: =+LIST!B20 -> MCL
A25: =+LIST!A21 -> 18 | B25: =+LIST!B21 -> RVL
... A39: =+LIST!A35 -> 0 | B39: =+LIST!B35 -> 0
A40: =+LIST!#REF! -> #REF! | B40: =+LIST!#REF! -> #REF!
A41: =+LIST!#REF! -> #REF! | B41: =+LIST!#REF! -> #REF!
A42: =+LIST!#REF! -> #REF! | B42: =+LIST!#REF! -> #REF!
A43: =+LIST!#REF! -> #REF! | B43: =+LIST!#REF! -> #REF!

Sheet REF
E2: DEMANDES | G2: NON DEMANDES
A3: Col A | B3: Col B | C3: Col C | D3: DATE | E3: A | F3: M | G3: I | H3: R
D4: 42461 | E4: 4 | F4: 8 | G4: 4 | H4: 4
D5: 42462 | E5: 2 | F5: 8 | G5: 2 | H5: 4
D6: 42463 | E6: 2 | F6: 8 | G6: 2 | H6: 4
D7: 42464 | E7: 2 | F7: 8 | G7: 2 | H7: 4
D8: 42465 | E8: 2 | F8: 8 | G8: 2 | H8: 4
D9: 42466 | E9: 2 | F9: 8 | G9: 2 | H9: 4
D10: 42467 | E10: 2 | F10: 8 | G10: 2 | H10: 4
D11: 42468 | E11: 2 | F11: 8 | G11: 2 | H11: 4
D12: 42469 | E12: 2 | F12: 8 | G12: 2 | H12: 4
D13: 42470 | E13: 2 | F13: 8 | G13: 2 | H13: 4
D14: 42471 | E14: 2 | F14: 8 | G14: 2 | H14: 4
D15: 42472 | E15: 2 | F15: 8 | G15: 2 | H15: 4
... D368: 42825 | E368: 4 | F368: 8 | G368: 4 | H368: 4

Sheet Feuil4
A4: Vacances de printemps 2016 | B4: Fin des cours : | C4: Fin des cours : | D4: Fin des cours :
B5: samedi 9 avril 2016 | C5: samedi 2 avril 2016 | D5: samedi 16 avril 2016
B7: Jour de reprise : | C7: Jour de reprise : | D7: Jour de reprise :
B8: lundi 25 avril 2016 | C8: lundi 18 avril 2016 | D8: lundi 2 mai 2016
A9: Pont de l'Ascension 2016 | B9: Fin des cours : mercredi 4 mai 2016
B11: Jour de reprise : lundi 9 mai 2016
A12: Grandes vacances 2016 | B12: Fin des cours : mardi 5 juillet 2016
A14: Jour de reprise : jeudi 1 septembre 2016
A15: Vacances de la Toussaint 2016 | B15: Fin des cours : mercredi 19 octobre 2016
B17: Jour de reprise : jeudi 3 novembre 2016
A18: Vacances de Noël 2016 | B18: Fin des cours : samedi 17 décembre 2016
B20: Jour de reprise : mardi 3 janvier 2017
A21: Vacances d'hiver 2017 | B21: Fin des cours : | C21: Fin des cours : | D21: Fin des cours :
B22: samedi 18 février 2017 | C22: samedi 11 février 2017 | D22: samedi 4 février 2017
B24: Jour de reprise : | C24: Jour de reprise : | D24: Jour de reprise :
B25: lundi 6 mars 2017 | C25: lundi 27 février 2017 | D25: lundi 20 février 2017
A26: Vacances de printemps 2017 | B26: Fin des cours : | C26: Fin des cours : | D26: Fin des cours :
B27: samedi 15 avril 2017 | C27: samedi 8 avril 2017 | D27: samedi 1 avril 2017
B29: Jour de reprise : | C29: Jour de reprise : | D29: Jour de reprise :
B30: mardi 2 mai 2017 | C30: lundi 24 avril 2017 | D30: mardi 18 avril 2017
