Workbook

Sheet recette
A1: PO: | B1: 1 | C1: Famille de Produit: | D1: EC | E1: Production: | H1: Gmid: | I1: 97062650 | J1: Densité:
A2: Taille de la campagne: | D2: L
A3: GMID | B3: Description | C3: Besoin Théorique | D3: Ajustement | E3: Saisie SAP | F3: Stock Optilog | G3: Stock SAP | H3: Unite | I3: Total campagne
A5: 97053192 | G5: {=IFERROR(INDEX(donnees!G:G,MATCH(recette!$I$1&recette!A5,donnees!A:A&donnees!E:E,0)),"")} -> 26.29 | H5: KG
A6: 22193 | G6: {=IFERROR(INDEX(donnees!G:G,MATCH(recette!$I$1&recette!A6,donnees!A:A&donnees!E:E,0)),"")} -> 92.5 | H6: L
A7: 250781 | G7: {=IFERROR(INDEX(donnees!G:G,MATCH(recette!$I$1&recette!A7,donnees!A:A&donnees!E:E,0)),"")} -> 615.2 | H7: KG
A8: 297345 | G8: {=IFERROR(INDEX(donnees!G:G,MATCH(recette!$I$1&recette!A8,donnees!A:A&donnees!E:E,0)),"")} -> 44.03 | H8: KG
A9: 341561 | G9: {=IFERROR(INDEX(donnees!G:G,MATCH(recette!$I$1&recette!A9,donnees!A:A&donnees!E:E,0)),"")} -> 46.25 | H9: KG
A10: 97063146 | G10: {=IFERROR(INDEX(donnees!G:G,MATCH(recette!$I$1&recette!A10,donnees!A:A&donnees!E:E,0)),"")} -> 97.96 | H10: KG
A11: 247422 | G11: {=IFERROR(INDEX(donnees!G:G,MATCH(recette!$I$1&recette!A11,donnees!A:A&donnees!E:E,0)),"")} -> 2.78 | H11: KG
A12: 0 | G12: {=IFERROR(INDEX(donnees!G:G,MATCH(recette!$I$1&recette!A12,donnees!A:A&donnees!E:E,0)),"")}
A13: 0 | G13: {=IFERROR(INDEX(donnees!G:G,MATCH(recette!$I$1&recette!A13,donnees!A:A&donnees!E:E,0)),"")}
A14: 0 | G14: {=IFERROR(INDEX(donnees!G:G,MATCH(recette!$I$1&recette!A14,donnees!A:A&donnees!E:E,0)),"")}
A15: 0 | G15: {=IFERROR(INDEX(donnees!G:G,MATCH(recette!$I$1&recette!A15,donnees!A:A&donnees!E:E,0)),"")}
A16: 0 | G16: {=IFERROR(INDEX(donnees!G:G,MATCH(recette!$I$1&recette!A16,donnees!A:A&donnees!E:E,0)),"")}
A17: 0 | G17: {=IFERROR(INDEX(donnees!G:G,MATCH(recette!$I$1&recette!A17,donnees!A:A&donnees!E:E,0)),"")}
A18: 0 | G18: {=IFERROR(INDEX(donnees!G:G,MATCH(recette!$I$1&recette!A18,donnees!A:A&donnees!E:E,0)),"")}
I19: N de Lot d'ISO | J19: 1
A20: RINSKOR DRMFBR | B20: Poids en (kg) | D20: Poids en (kg) | I20: Poids (Kg) | J20: 1
I21: Volume (L)
I22: Date manuf | J22: =[1]Codes!#REF! -> #REF!
I23: Temps de cycle de référence (H)
I24: Temps de cycle (H)
I25: Temps de cycle CIP de référence (H)
I26: Temps de cycle CIP (H)
I27: Solvant CIP (Kg)
I28: N d'ISO

Sheet donnees
A1: Material | B1: Material Description | C1: AltBOM | D1: Item | E1: Component | F1: BOM component | G1: Quantity | H1: Un | I1: Plnt | J1: Famille | L1: L60 Abrege | M1: Mat Agrege
A2: 112330 | B2: EF1343DE570SC BLKBLK1L EC1 | C2: 3 | D2: 60 | E2: 9494 | F2: =VLOOKUP(E2,[1]mat_prem!$A:$D,4,FALSE) -> PROXEL GXL BIOCIDE 440LB DRM 25352R801 | G2: 0.49 | H2: KG | I2: F469 | J2: SC | L2: =LEFT(B2,14) -> EF1343DE570SC | M2: =LEFT(F2,14) -> PROXEL GXL BIO
A3: 112330 | B3: EF1343DE570SC BLKBLK1L EC1 | C3: 3 | D3: 20 | E3: 1333 | F3: =VLOOKUP(E3,[1]mat_prem!$A:$D,4,FALSE) -> AVICEL CL611 BINDING AGENT | G3: 9 | H3: KG | I3: F469 | J3: SC | L3: =LEFT(B3,14) -> EF1343DE570SC | M3: =LEFT(F3,14) -> AVICEL CL611 B
A4: 112330 | B4: EF1343DE570SC BLKBLK1L EC1 | C4: 3 | D4: 40 | E4: 108881 | F4: =VLOOKUP(E4,[1]mat_prem!$A:$D,4,FALSE) -> PG IND IBC1000KG | G4: 85 | H4: KG | I4: F469 | J4: SC | L4: =LEFT(B4,14) -> EF1343DE570SC | M4: =LEFT(F4,14) -> PG IND IBC1000
A5: 112330 | B5: EF1343DE570SC BLKBLK1L EC1 | C5: 3 | D5: 40 | E5: 97064483 | F5: =VLOOKUP(E5,[1]mat_prem!$A:$D,4,FALSE) -> PG IND IBC1000KG | G5: 85 | H5: KG | I5: F469 | J5: SC | L5: =LEFT(B5,14) -> EF1343DE570SC | M5: =LEFT(F5,14) -> PG IND IBC1000
A6: 112330 | B6: EF1343DE570SC BLKBLK1L EC1 | C6: 3 | D6: 10 | E6: 160574 | F6: =VLOOKUP(E6,[1]mat_prem!$A:$D,4,FALSE) -> EF1440DE570MFG BLKBLK1KG UNL | G6: 111.1 | H6: KG | I6: F469 | J6: SC | L6: =LEFT(B6,14) -> EF1343DE570SC | M6: =LEFT(F6,14) -> EF1440DE570MFG
A7: 112330 | B7: EF1343DE570SC BLKBLK1L EC1 | C7: 3 | D7: 30 | E7: 11029742 | F7: =VLOOKUP(E7,[1]mat_prem!$A:$D,4,FALSE) -> WIP KELZAN S 1.5% SCOD | G7: 110.3 | H7: KG | I7: F469 | J7: SC | L7: =LEFT(B7,14) -> EF1343DE570SC | M7: =LEFT(F7,14) -> WIP KELZAN S 1
A8: 112330 | B8: EF1343DE570SC BLKBLK1L EC1 | C8: 3 | D8: 50 | E8: 98310 | F8: =VLOOKUP(E8,[1]mat_prem!$A:$D,4,FALSE) -> PLURONIC PE10 500(18PCT SOLN) SURFACTANT | G8: 33.5 | H8: KG | I8: F469 | J8: SC | L8: =LEFT(B8,14) -> EF1343DE570SC | M8: =LEFT(F8,14) -> PLURONIC PE10
A9: 112335 | B9: EF1381DE570+FLUME BLKBLK1L LTO | C9: 2 | D9: 50 | E9: 11029742 | F9: =VLOOKUP(E9,[1]mat_prem!$A:$D,4,FALSE) -> WIP KELZAN S 1.5% SCOD | G9: 119.3 | H9: KG | I9: F469 | J9: SC | L9: =LEFT(B9,14) -> EF1381DE570+FL | M9: =LEFT(F9,14) -> WIP KELZAN S 1
A10: 112335 | B10: EF1381DE570+FLUME BLKBLK1L LTO | C10: 2 | D10: 30 | E10: 1334 | F10: =VLOOKUP(E10,[1]mat_prem!$A:$D,4,FALSE) -> FOAMASTER UDB ANTIFOAM 18886R801 | G10: 0.24 | H10: KG | I10: F469 | J10: SC | L10: =LEFT(B10,14) -> EF1381DE570+FL | M10: =LEFT(F10,14) -> FOAMASTER UDB
A11: 112335 | B11: EF1381DE570+FLUME BLKBLK1L LTO | C11: 2 | D11: 70 | E11: 98310 | F11: =VLOOKUP(E11,[1]mat_prem!$A:$D,4,FALSE) -> PLURONIC PE10 500(18PCT SOLN) SURFACTANT | G11: 50.1 | H11: KG | I11: F469 | J11: SC | L11: =LEFT(B11,14) -> EF1381DE570+FL | M11: =LEFT(F11,14) -> PLURONIC PE10
A12: 112335 | B12: EF1381DE570+FLUME BLKBLK1L LTO | C12: 2 | D12: 20 | E12: 160577 | F12: =VLOOKUP(E12,[1]mat_prem!$A:$D,4,FALSE) -> EF1453FLUMETSUL BLKBLK1L UNL | G12: 250 | H12: KG | I12: F469 | J12: SC | L12: =LEFT(B12,14) -> EF1381DE570+FL | M12: =LEFT(F12,14) -> EF1453FLUMETSU
A13: 112335 | B13: EF1381DE570+FLUME BLKBLK1L LTO | C13: 2 | D13: 40 | E13: 1333 | F13: =VLOOKUP(E13,[1]mat_prem!$A:$D,4,FALSE) -> AVICEL CL611 BINDING AGENT | G13: 6.52 | H13: KG | I13: F469 | J13: SC | L13: =LEFT(B13,14) -> EF1381DE570+FL | M13: =LEFT(F13,14) -> AVICEL CL611 B
... A565: 97070322 | B565: GF3582 BLKBLK1KG UNL (CALACHEM TECH) | C565: 1 | D565: 20 | E565: 273131 | F565: =VLOOKUP(E565,[1]mat_prem!$A:$D,4,FALSE) -> CLOQUINTOCET MEXYL TECH 152263-R801 | G565: 57 | H565: KG | I565: F469 | J565: TK | L565: =LEFT(B565,14) -> GF3582 BLKBLK1 | M565: =LEFT(F565,14) -> CLOQUINTOCET M
A566: 97070322 | B566: GF3582 BLKBLK1KG UNL (CALACHEM TECH) | C566: 1 | D566: 30 | E566: 22193 | F566: =VLOOKUP(E566,[1]mat_prem!$A:$D,4,FALSE) -> GENAGEN 4166 SOLVENT | G566: 806 | I566: F469 | J566: TK | L566: =LEFT(B566,14) -> GF3582 BLKBLK1 | M566: =LEFT(F566,14) -> GENAGEN 4166 S
A567: 97070322 | B567: GF3582 BLKBLK1KG UNL (CALACHEM TECH) | C567: 2 | D567: 10 | E567: 99019033 | F567: =VLOOKUP(E567,[1]mat_prem!$A:$D,4,FALSE) -> ARYLEXTECHNICAL BAGBLK1KG FRM EUR | G567: 60 | H567: KG | I567: F469 | J567: TK | L567: =LEFT(B567,14) -> GF3582 BLKBLK1 | M567: =LEFT(F567,14) -> ARYLEXTECHNICA
A568: 97070322 | B568: GF3582 BLKBLK1KG UNL (CALACHEM TECH) | C568: 2 | D568: 20 | E568: 273131 | F568: =VLOOKUP(E568,[1]mat_prem!$A:$D,4,FALSE) -> CLOQUINTOCET MEXYL TECH 152263-R801 | G568: 57 | H568: KG | I568: F469 | J568: TK | L568: =LEFT(B568,14) -> GF3582 BLKBLK1 | M568: =LEFT(F568,14) -> CLOQUINTOCET M
A569: 97070322 | B569: GF3582 BLKBLK1KG UNL (CALACHEM TECH) | C569: 2 | D569: 30 | E569: 286845 | F569: =VLOOKUP(E569,[1]mat_prem!$A:$D,4,FALSE) -> NN DIMETHYLOCTANAMIDE 148924R801 | G569: 915.9 | H569: L | I569: F469 | J569: TK | L569: =LEFT(B569,14) -> GF3582 BLKBLK1 | M569: =LEFT(F569,14) -> NN DIMETHYLOCT
A570: 97070322 | B570: GF3582 BLKBLK1KG UNL (CALACHEM TECH) | C570: 3 | D570: 10 | E570: 97070322 | F570: =VLOOKUP(E570,[1]mat_prem!$A:$D,4,FALSE) -> GF3582 BLK(CALACHEM TECH) | G570: 1000 | H570: L | I570: F469 | J570: TK | L570: =LEFT(B570,14) -> GF3582 BLKBLK1 | M570: =LEFT(F570,14) -> GF3582 BLK(CAL
A571: 97070321 | B571: GF3488EC BLKBLK1L UNL (CALACHEM TECH) | C571: 1 | D571: 10 | E571: 99019033 | F571: =VLOOKUP(E571,[1]mat_prem!$A:$D,4,FALSE) -> ARYLEXTECHNICAL BAGBLK1KG FRM EUR | G571: 5.21 | H571: KG | I571: F469 | J571: EC | L571: =LEFT(B571,14) -> GF3488EC BLKBL | M571: =LEFT(F571,14) -> ARYLEXTECHNICA
A572: 97070321 | B572: GF3488EC BLKBLK1L UNL (CALACHEM TECH) | C572: 1 | D572: 20 | E572: 358172 | F572: =VLOOKUP(E572,[1]mat_prem!$A:$D,4,FALSE) -> LONTRELT BAGBLK1075LV EUR | G572: 126.32 | H572: KG | I572: F469 | J572: EC | L572: =LEFT(B572,14) -> GF3488EC BLKBL | M572: =LEFT(F572,14) -> LONTRELT BAGBL
A573: 97070321 | B573: GF3488EC BLKBLK1L UNL (CALACHEM TECH) | C573: 1 | D573: 30 | E573: 97015669 | F573: =VLOOKUP(E573,[1]mat_prem!$A:$D,4,FALSE) -> AGNIQUE ME18 RD-F 421260 R201 | G573: 220 | H573: KG | I573: F469 | J573: EC | L573: =LEFT(B573,14) -> GF3488EC BLKBL | M573: =LEFT(F573,14) -> AGNIQUE ME18 R
A574: 97070321 | B574: GF3488EC BLKBLK1L UNL (CALACHEM TECH) | C574: 1 | D574: 40 | E574: 341202 | F574: =VLOOKUP(E574,[1]mat_prem!$A:$D,4,FALSE) -> SAG 1572 FOAM CONTROL 167057R801 207kg | G574: 0.15 | H574: KG | I574: F469 | J574: EC | L574: =LEFT(B574,14) -> GF3488EC BLKBL | M574: =LEFT(F574,14) -> SAG 1572 FOAM
A575: 97070321 | B575: GF3488EC BLKBLK1L UNL (CALACHEM TECH) | C575: 1 | D575: 50 | E575: 99029518 | F575: =VLOOKUP(E575,[1]mat_prem!$A:$D,4,FALSE) -> ATLAS G5002L DRM200KG USA 411874-R201 | G575: 69.99 | H575: KG | I575: F469 | J575: EC | L575: =LEFT(B575,14) -> GF3488EC BLKBL | M575: =LEFT(F575,14) -> ATLAS G5002L D
A576: 97070321 | B576: GF3488EC BLKBLK1L UNL (CALACHEM TECH) | C576: 1 | D576: 60 | E576: 97016848 | F576: =VLOOKUP(E576,[1]mat_prem!$A:$D,4,FALSE) -> NANSA YS 94 432166 R201 | G576: 69.99 | H576: KG | I576: F469 | J576: EC | L576: =LEFT(B576,14) -> GF3488EC BLKBL | M576: =LEFT(F576,14) -> NANSA YS 94 43
A577: 97070321 | B577: GF3488EC BLKBLK1L UNL (CALACHEM TECH) | C577: 1 | D577: 70 | E577: 22193 | F577: =VLOOKUP(E577,[1]mat_prem!$A:$D,4,FALSE) -> GENAGEN 4166 SOLVENT | G577: 240.05 | H577: KG | I577: F469 | J577: EC | L577: =LEFT(B577,14) -> GF3488EC BLKBL | M577: =LEFT(F577,14) -> GENAGEN 4166 S
A578: 97070321 | B578: GF3488EC BLKBLK1L UNL (CALACHEM TECH) | C578: 1 | D578: 80 | E578: 97064390 | F578: =VLOOKUP(E578,[1]mat_prem!$A:$D,4,FALSE) -> OXS DOWANOL DPM IBC960KG | G578: 251.3 | H578: KG | I578: F469 | J578: EC | L578: =LEFT(B578,14) -> GF3488EC BLKBL | M578: =LEFT(F578,14) -> OXS DOWANOL DP
... A610: 97070725 | B610: TRICEA BRAZIL BLKBLK1GL UNL GF1847 | C610: 3 | D610: 10 | E610: 97070725 | F610: =VLOOKUP(E610,[1]mat_prem!$A:$D,4,FALSE) -> TRICEA BRAZIL BLKBLK1GL UNL GF1847 | G610: 1000 | H610: L | I610: F469 | J610: OD | L610: =LEFT(B610,14) -> TRICEA BRAZIL | M610: =LEFT(F610,14) -> TRICEA BRAZIL
A611: 97069593 | B611: GF2644OD BLKBLK1L UNL CALACHEM | C611: 1 | D611: 10 | E611: 99019033 | F611: =VLOOKUP(E611,[1]mat_prem!$A:$D,4,FALSE) -> ARYLEXTECHNICAL BAGBLK1KG FRM EUR | G611: 6.48 | I611: F469 | J611: OD | L611: =LEFT(B611,14) -> GF2644OD BLKBL | M611: =LEFT(F611,14) -> ARYLEXTECHNICA
A612: 97069593 | B612: GF2644OD BLKBLK1L UNL CALACHEM | C612: 1 | D612: 20 | E612: 99029989 | F612: =VLOOKUP(E612,[1]mat_prem!$A:$D,4,FALSE) -> FLORAMILLEDCONC DRMHPE100KG FRA | G612: 5.18 | I612: F469 | J612: OD | L612: =LEFT(B612,14) -> GF2644OD BLKBL | M612: =LEFT(F612,14) -> FLORAMILLEDCON
A613: 97069593 | B613: GF2644OD BLKBLK1L UNL CALACHEM | C613: 1 | D613: 30 | E613: 273131 | F613: =VLOOKUP(E613,[1]mat_prem!$A:$D,4,FALSE) -> CLOQUINTOCET MEXYL TECH 152263-R801 | G613: 6.11 | I613: F469 | J613: OD | L613: =LEFT(B613,14) -> GF2644OD BLKBL | M613: =LEFT(F613,14) -> CLOQUINTOCET M
A614: 97069593 | B614: GF2644OD BLKBLK1L UNL CALACHEM | C614: 1 | D614: 40 | E614: 288810 | F614: =VLOOKUP(E614,[1]mat_prem!$A:$D,4,FALSE) -> ATLOX 4912 155287-R801 | G614: 9.25 | I614: F469 | J614: OD | L614: =LEFT(B614,14) -> GF2644OD BLKBL | M614: =LEFT(F614,14) -> ATLOX 4912
A615: 97069593 | B615: GF2644OD BLKBLK1L UNL CALACHEM | C615: 1 | D615: 50 | E615: 140951 | F615: =VLOOKUP(E615,[1]mat_prem!$A:$D,4,FALSE) -> TENSIOFIX N9824HF SURFACTANT | G615: 74 | I615: F469 | J615: OD | L615: =LEFT(B615,14) -> GF2644OD BLKBL | M615: =LEFT(F615,14) -> TENSIOFIX N982
A616: 97069593 | B616: GF2644OD BLKBLK1L UNL CALACHEM | C616: 1 | D616: 60 | E616: 242473 | F616: =VLOOKUP(E616,[1]mat_prem!$A:$D,4,FALSE) -> AEROSIL R974 SP 143540R801 | G616: 41.6 | I616: F469 | J616: OD | L616: =LEFT(B616,14) -> GF2644OD BLKBL | M616: =LEFT(F616,14) -> AEROSIL R974 S
A617: 97069593 | B617: GF2644OD BLKBLK1L UNL CALACHEM | C617: 1 | D617: 70 | E617: 263316 | F617: =VLOOKUP(E617,[1]mat_prem!$A:$D,4,FALSE) -> AGNIQUEME12-18 149651-R801 | G617: 727 | I617: F469 | J617: OD | L617: =LEFT(B617,14) -> GF2644OD BLKBL | M617: =LEFT(F617,14) -> AGNIQUEME12-18
A618: 97069593 | B618: GF2644OD BLKBLK1L UNL CALACHEM | C618: 1 | D618: 80 | E618: 97064407 | F618: =VLOOKUP(E618,[1]mat_prem!$A:$D,4,FALSE) -> SRF POLYGL P4000E IBC1000KG | G618: 23.13 | I618: F469 | J618: OD | L618: =LEFT(B618,14) -> GF2644OD BLKBL | M618: =LEFT(F618,14) -> SRF POLYGL P40
A619: 97069593 | B619: GF2644OD BLKBLK1L UNL CALACHEM | C619: 1 | D619: 90 | E619: 341561 | F619: =VLOOKUP(E619,[1]mat_prem!$A:$D,4,FALSE) -> PROPYLENE CARBONATE 550 LB DR167433-R801 | G619: 23.13 | I619: F469 | J619: OD | L619: =LEFT(B619,14) -> GF2644OD BLKBL | M619: =LEFT(F619,14) -> PROPYLENE CARB
A620: 97069593 | B620: GF2644OD BLKBLK1L UNL CALACHEM | C620: 1 | D620: 100 | E620: 99039852 | F620: =VLOOKUP(E620,[1]mat_prem!$A:$D,4,FALSE) -> PLURONIC PE105 00424020-R201 | G620: 9.25 | I620: F469 | J620: OD | L620: =LEFT(B620,14) -> GF2644OD BLKBL | M620: =LEFT(F620,14) -> PLURONIC PE105
A621: 97069593 | B621: GF2644OD BLKBLK1L UNL CALACHEM | C621: 2 | D621: 10 | E621: 97069593 | F621: =VLOOKUP(E621,[1]mat_prem!$A:$D,4,FALSE) -> GF2644OD CALACHEM | G621: 1000 | H621: L | I621: F469 | J621: OD | L621: =LEFT(B621,14) -> GF2644OD BLKBL | M621: =LEFT(F621,14) -> GF2644OD CALAC
