Workbook

Sheet JOURS FERIES
A1: 1er Janvier | B1: =DATE(D1,1,1) -> 43101 | C1: Année | D1: 2018
A2: Pâques | B2: =DATE(D1,3,29.56+0.979*MOD(204-11*MOD(D1,19),30)-WEEKDAY(DATE(D1,3,28.26+0.979*MOD(204-11*MOD(D1,19),30)))) -> 43191
A3: Lundi de Pâques | B3: =B2+1 -> 43192
A4: 1er Mai | B4: =DATE(D1,5,1) -> 43221
A5: 8 Mai | B5: =DATE(D1,5,8) -> 43228
A6: Ascension | B6: =B2+39 -> 43230
A7: Pentecôte | B7: =B2+49 -> 43240
A8: Lundi de la Pentecôte | B8: =B2+50 -> 43241
A9: 14 Juillet | B9: =DATE(D1,7,14) -> 43295
A10: 15 Août | B10: =DATE(D1,8,15) -> 43327
A11: 1er Novembre | B11: =DATE(D1,11,1) -> 43405
A12: 11 Novembre | B12: =DATE(D1,11,11) -> 43415
A13: 25 Décembre | B13: =DATE(,12,25) -> 360

Sheet JANV
A1: ='JOURS FERIES'!D1 -> 2018 | C1: Réservations chambres | AI1: * | AJ1: Nombre de chambres et coût | AM1: * | AO1: Carte IBIS BUSINESS
B2: 1 | C2: JANVIER | AJ2: PRIX UNITAIRE | AL2: 74 | AO2: Eric | AQ2: *3081432700807952
A3: Mois | AJ3: COÛT | AK3: CHAMBRES | AO3: Paul | AQ3: *3081432662964312
A4: NOMS | B4: PRENOMS | C4: 1 | D4: =C4+1 -> 2 | E4: =D4+1 -> 3 | F4: =E4+1 -> 4 | G4: =F4+1 -> 5 | H4: =G4+1 -> 6 | I4: =H4+1 -> 7 | J4: =I4+1 -> 8 | K4: =J4+1 -> 9 | ... AG4: =AF4+1 -> 31 | AJ4: TOTAL | AK4: NBS | AL4: COÛT | AO4: Chantal | AQ4: *3081432699167947
C5: =DATE($A$1,$B$2,C4) -> 43101 | D5: =C5+1 -> 43102 | E5: =D5+1 -> 43103 | F5: =E5+1 -> 43104 | G5: =F5+1 -> 43105 | H5: =G5+1 -> 43106 | I5: =H5+1 -> 43107 | J5: =I5+1 -> 43108 | K5: =J5+1 -> 43109 | ... AG5: =AF5+1 -> 43131 | AH5: TOTAL | AJ5: Au mois | AK5: Depuis le | AL5: 42736 | AN5: 1 | AO5: RESA IBIS BUDGET
A6: HUGON | B6: Eric | AH6: =SUM(C6:AG6) -> 0 | AJ6: =AH6*$AL$2 -> 0 | AK6: =SUM(AH6) -> 0 | AL6: =SUM(AK6*$AL$2) -> 0 | AN6: 1 | AO6: Annulation à confirmer
A7: DESSOMME | B7: Paul | AH7: =SUM(C7:AG7) -> 0 | AJ7: =AH7*$AL$2 -> 0 | AK7: =SUM(AH7) -> 0 | AL7: =SUM(AK7*$AL$2) -> 0 | AN7: ? | AO7: Réservation à confirmer
A8: GUERMONT | B8: Michèle | AH8: =SUM(C8:AG8) -> 0 | AJ8: =AH8*$AL$2 -> 0 | AK8: =SUM(AH8) -> 0 | AL8: =SUM(AK8*$AL$2) -> 0 | AO8: BN et CS SNTU
A9: ROULLAUD | B9: Chantal | AH9: =SUM(C9:AG9) -> 0 | AJ9: =AH9*$AL$2 -> 0 | AK9: =SUM(AH9) -> 0 | AL9: =SUM(AK9*$AL$2) -> 0 | AO9: SECRETARIAT
A10: Non Affectées | B10: CFDT | AH10: =SUM(C10:AG10) -> 0 | AJ10: =AH10*$AL$2 -> 0 | AK10: =SUM(AH10) -> 0 | AL10: =SUM(AK10*$AL$2) -> 0 | AO10: REUNION
A11: CANTALOUBE | B11: Philippe | AH11: =SUM(C11:AG11) -> 0 | AJ11: =AH11*$AL$2 -> 0 | AK11: =SUM(AH11) -> 0 | AL11: =SUM(AK11*$AL$2) -> 0 | AO11: FORM
A12: CHARRON | B12: Jean Michel | AH12: =SUM(C12:AG12) -> 0 | AJ12: =AH12*$AL$2 -> 0 | AK12: =SUM(AH12) -> 0 | AL12: =SUM(AK12*$AL$2) -> 0 | AN12: CA | AO12: CONGES
A13: LE BONJOUR | B13: Jean Emmanuel | AH13: =SUM(C13:AG13) -> 0 | AJ13: =AH13*$AL$2 -> 0 | AK13: =SUM(AH13) -> 0 | AL13: =SUM(AK13*$AL$2) -> 0 | AO13: Fériés
A14: TERNOIS | B14: Pierrick | AH14: =SUM(C14:AG14) -> 0 | AJ14: =AH14*$AL$2 -> 0 | AK14: =SUM(AH14) -> 0 | AL14: =SUM(AK14*$AL$2) -> 0 | AO14: REUNION SNTU
A15: VANDENBROUCKE | B15: François | AH15: =SUM(C15:AG15) -> 0 | AJ15: =AH15*$AL$2 -> 0 | AK15: =SUM(AH15) -> 0 | AL15: =SUM(AK15*$AL$2) -> 0 | AP15: DU | AQ15: AU
A16: ACHOUR | B16: Souad | AH16: =SUM(C16:AG16) -> 0 | AJ16: =AH16*$AL$2 -> 0 | AK16: =SUM(AH16) -> 0 | AL16: =SUM(AK16*$AL$2) -> 0 | AO16: BN | AP16: 42757 | AQ16: 42758
A17: AUROY | B17: Alain | AH17: =SUM(C17:AG17) -> 0 | AJ17: =AH17*$AL$2 -> 0 | AK17: =SUM(AH17) -> 0 | AL17: =SUM(AK17*$AL$2) -> 0 | AO17: SECRETARIAT | AP17: 42786
A18: BELGOURCH | B18: Abdelmejid | AH18: =SUM(C18:AG18) -> 0 | AJ18: =AH18*$AL$2 -> 0 | AK18: =SUM(AH18) -> 0 | AL18: =SUM(AK18*$AL$2) -> 0 | AO18: BN | AP18: 42808 | AQ18: 42809
A19: CHEMIN | B19: Grégory | AH19: =SUM(C19:AG19) -> 0 | AJ19: =AH19*$AL$2 -> 0 | AK19: =SUM(AH19) -> 0 | AL19: =SUM(AK19*$AL$2) -> 0 | AO19: SECRETARIAT | AP19: 42839
A20: DANIEL | B20: Luc | AH20: =SUM(C20:AG20) -> 0 | AJ20: =AH20*$AL$2 -> 0 | AK20: =SUM(AH20) -> 0 | AL20: =SUM(AK20*$AL$2) -> 0 | AO20: BN + CS | AP20: 42898 | AQ20: 42900
A21: DELALLEAU | B21: Joël | AH21: =SUM(C21:AG21) -> 0 | AJ21: =AH21*$AL$2 -> 0 | AK21: =SUM(AH21) -> 0 | AL21: =SUM(AK21*$AL$2) -> 0 | AO21: SECRETARIAT | AP21: 42920
A22: DESROCHE | B22: Philippe | AH22: =SUM(C22:AG22) -> 0 | AJ22: =AH22*$AL$2 -> 0 | AK22: =SUM(AH22) -> 0 | AL22: =SUM(AK22*$AL$2) -> 0 | AO22: SECRETARIAT | AP22: 42982
A23: DIAS | B23: Patrick | AH23: =SUM(C23:AG23) -> 0 | AJ23: =AH23*$AL$2 -> 0 | AK23: =SUM(AH23) -> 0 | AL23: =SUM(AK23*$AL$2) -> 0 | AO23: BN | AP23: 42989 | AQ23: 42990
A24: GUEROUALI | B24: Mouhcine | AH24: =SUM(C24:AG24) -> 0 | AJ24: =AH24*$AL$2 -> 0 | AK24: =SUM(AH24) -> 0 | AL24: =SUM(AK24*$AL$2) -> 0 | AO24: TRESORIERS | AP24: 42991 | AQ24: PARIS
A25: LARDEUX | B25: Didier | AH25: =SUM(C25:AG25) -> 0 | AJ25: =AH25*$AL$2 -> 0 | AK25: =SUM(AH25) -> 0 | AL25: =SUM(AK25*$AL$2) -> 0 | AO25: SECRETARIAT | AP25: 43017
A26: LE MAUGUEN | B26: Gildas | AH26: =SUM(C26:AG26) -> 0 | AJ26: =AH26*$AL$2 -> 0 | AK26: =SUM(AH26) -> 0 | AL26: =SUM(AK26*$AL$2) -> 0 | AO26: BN | AP26: 43052 | AQ26: 43053
A27: PROVENDIER | B27: Steve | AH27: =SUM(C27:AG27) -> 0 | AJ27: =AH27*$AL$2 -> 0 | AK27: =SUM(AH27) -> 0 | AL27: =SUM(AK27*$AL$2) -> 0 | AO27: SECRETARIAT | AP27: 43080
A28: TAMSNA | B28: Hicham | AH28: =SUM(C28:AG28) -> 0 | AJ28: =AH28*$AL$2 -> 0 | AK28: =SUM(AH28) -> 0 | AL28: =SUM(AK28*$AL$2) -> 0 | AO28: FORMATION SNTU
A29: WERNERT | B29: Michel | AH29: =SUM(C29:AG29) -> 0 | AJ29: =AH29*$AL$2 -> 0 | AK29: =SUM(AH29) -> 0 | AL29: =SUM(AK29*$AL$2) -> 0 | AP29: Du | AQ29: Au
AH30: =SUM(C30:AG30) -> 0 | AJ30: =AH30*$AL$2 -> 0 | AK30: =SUM(AH30) -> 0 | AL30: =SUM(AK30*$AL$2) -> 0 | AO30: IREFE | AP30: 42764 | AQ30: 42767
AH31: =SUM(C31:AG31) -> 0 | AJ31: =AH31*$AL$2 -> 0 | AK31: =SUM(AH31) -> 0 | AL31: =SUM(AK31*$AL$2) -> 0 | AO31: CE | AP31: 42771 | AQ31: 42775
AH32: =SUM(C32:AG32) -> 0 | AJ32: =AH32*$AL$2 -> 0 | AK32: =SUM(AH32) -> 0 | AL32: =SUM(AK32*$AL$2) -> 0 | AO32: DS | AP32: 42779 | AQ32: 42781
A33: CARY | B33: Didier | AH33: =SUM(C33:AG33) -> 0 | AJ33: =AH33*$AL$2 -> 0 | AK33: =SUM(AH33) -> 0 | AL33: =SUM(AK33*$AL$2) -> 0 | AO33: CHSCT NIV 1 | AP33: 42792 | AQ33: 42796
AH34: =SUM(C34:AG34) -> 0 | AJ34: =AH34*$AL$2 -> 0 | AK34: =SUM(AH34) -> 0 | AL34: =SUM(AK34*$AL$2) -> 0 | AO34: CE | AP34: 42834 | AQ34: 42838
AH35: =SUM(C35:AG35) -> 0 | AJ35: =AH35*$AL$2 -> 0 | AK35: =SUM(AH35) -> 0 | AL35: =SUM(AK35*$AL$2) -> 0 | AO35: CHSCT NIV 2 | AP35: 42869 | AQ35: 42873
A36: VERMEESCH | B36: Guy | AH36: =SUM(C36:AG36) -> 0 | AJ36: =AH36*$AL$2 -> 0 | AK36: =SUM(AH36) -> 0 | AL36: =SUM(AK36*$AL$2) -> 0 | AO36: DS | AP36: 42870 | AQ36: 42872
A37: PLOUZENNEC | B37: Pierre | AH37: =SUM(C37:AG37) -> 0 | AJ37: =AH37*$AL$2 -> 0 | AK37: =SUM(AH37) -> 0 | AL37: =SUM(AK37*$AL$2) -> 0 | AO37: CE | AP37: 42911 | AQ37: 42915
AH38: =SUM(C38:AG38) -> 0 | AJ38: =AH38*$AL$2 -> 0 | AK38: =SUM(AH38) -> 0 | AL38: =SUM(AK38*$AL$2) -> 0 | AO38: CE | AP38: 43002 | AQ38: 43006
A39: FERRANDINO | B39: Denis | AH39: =SUM(C39:AG39) -> 0 | AJ39: =AH39*$AL$2 -> 0 | AK39: =SUM(AH39) -> 0 | AL39: =SUM(AK39*$AL$2) -> 0 | AO39: CHSCT NIV 1 | AP39: 43023 | AQ39: 43027
A40: PONZ | B40: Stéphanie | AH40: =SUM(C40:AG40) -> 0 | AJ40: =AH40*$AL$2 -> 0 | AK40: =SUM(AH40) -> 0 | AL40: =SUM(AK40*$AL$2) -> 0 | AO40: DS | AP40: 43024 | AQ40: 43026
...

Sheet FEV
A1: ='JOURS FERIES'!D1 -> 2018 | C1: Réservations chambres | AI1: * | AJ1: Nombre de chambres et coût | AM1: * | AO1: Carte IBIS BUSINESS
B2: 2 | C2: FEVRIER | AJ2: PRIX UNITAIRE | AL2: 74 | AO2: Eric | AQ2: *3081432700807952
A3: Mois | AH3: CHAMBRES | AJ3: COÛT | AK3: CHAMBRES | AO3: Paul | AQ3: *3081432662964312
A4: NOMS | B4: PRENOMS | C4: 1 | D4: =C4+1 -> 2 | E4: =D4+1 -> 3 | F4: =E4+1 -> 4 | G4: =F4+1 -> 5 | H4: =G4+1 -> 6 | I4: =H4+1 -> 7 | J4: =I4+1 -> 8 | K4: =J4+1 -> 9 | ... AG4: =AF4+1 -> 31 | AH4: TOTAL | AJ4: TOTAL | AK4: NBS | AL4: COÛT | AO4: Chantal | AQ4: *3081432699167947
C5: =DATE(JANV!$A$1,FEV!$B$2,FEV!C4) -> 43132 | D5: =C5+1 -> 43133 | E5: =D5+1 -> 43134 | F5: =E5+1 -> 43135 | G5: =F5+1 -> 43136 | H5: =G5+1 -> 43137 | I5: =H5+1 -> 43138 | J5: =I5+1 -> 43139 | K5: =J5+1 -> 43140 | ... AG5: =AF5+1 -> 43162 | AH5: au mois | AJ5: Au mois | AK5: Depuis le | AL5: 42736 | AN5: 1 | AO5: RESA IBIS BUDGET
A6: HUGON | B6: Eric | AH6: =SUM(C6:AG6) -> 0 | AJ6: =AH6*$AL$2 -> 0 | AK6: =SUM(AH6) -> 0 | AL6: =SUM(AK6*$AL$2) -> 0 | AN6: ? | AO6: Réservation à confirmer
A7: DESSOMME | B7: Paul
A8: GUERMONT | B8: Michèle | AH8: =SUM(C8:AG8) -> 0 | AJ8: =AH8*$AL$2 -> 0 | AK8: =SUM(AH8) -> 0 | AL8: =SUM(AK8*$AL$2) -> 0 | AO8: BN et CS SNTU
A9: ROULLAUD | B9: Chantal | AH9: =SUM(C9:AG9) -> 0 | AJ9: =AH9*$AL$2 -> 0 | AK9: =SUM(AH9) -> 0 | AL9: =SUM(AK9*$AL$2) -> 0 | AO9: SECRETARIAT
A10: Non Affectées | B10: CFDT | AH10: =SUM(C10:AG10) -> 0 | AJ10: =AH10*$AL$2 -> 0 | AK10: =SUM(AH10) -> 0 | AL10: =SUM(AK10*$AL$2) -> 0 | AO10: REUNION
A11: CANTALOUBE | B11: Philippe | AH11: =SUM(C11:AG11) -> 0 | AJ11: =AH11*$AL$2 -> 0 | AK11: =SUM(AH11) -> 0 | AL11: =SUM(AK11*$AL$2) -> 0 | AO11: FORM
A12: CHARRON | B12: Jean Michel | AH12: =SUM(C12:AG12) -> 0 | AJ12: =AH12*$AL$2 -> 0 | AK12: =SUM(AH12) -> 0 | AL12: =SUM(AK12*$AL$2) -> 0 | AN12: CA | AO12: CONGES
A13: LE BONJOUR | B13: Jean Emmanuel | AH13: =SUM(C13:AG13) -> 0 | AJ13: =AH13*$AL$2 -> 0 | AK13: =SUM(AH13) -> 0 | AL13: =SUM(AK13*$AL$2) -> 0 | AO13: Fériés
A14: TERNOIS | B14: Pierrick | AH14: =SUM(C14:AG14) -> 0 | AJ14: =AH14*$AL$2 -> 0 | AK14: =SUM(AH14) -> 0 | AL14: =SUM(AK14*$AL$2) -> 0 | AO14: REUNION SNTU
A15: VANDENBROUCKE | B15: François | AH15: =SUM(C15:AG15) -> 0 | AJ15: =AH15*$AL$2 -> 0 | AK15: =SUM(AH15) -> 0 | AL15: =SUM(AK15*$AL$2) -> 0 | AP15: DU | AQ15: AU
A16: ACHOUR | B16: Souad | AH16: =SUM(C16:AG16) -> 0 | AJ16: =AH16*$AL$2 -> 0 | AK16: =SUM(AH16) -> 0 | AL16: =SUM(AK16*$AL$2) -> 0 | AO16: BN | AP16: 42757 | AQ16: 42758
A17: AUROY | B17: Alain | AH17: =SUM(C17:AG17) -> 0 | AJ17: =AH17*$AL$2 -> 0 | AK17: =SUM(AH17) -> 0 | AL17: =SUM(AK17*$AL$2) -> 0 | AO17: SECRETARIAT | AP17: 42786
A18: BELGOURCH | B18: Abdelmejid | AH18: =SUM(C18:AG18) -> 0 | AJ18: =AH18*$AL$2 -> 0 | AK18: =SUM(AH18) -> 0 | AL18: =SUM(AK18*$AL$2) -> 0 | AO18: BN | AP18: 42808 | AQ18: 42809
A19: CHEMIN | B19: Grégory | AH19: =SUM(C19:AG19) -> 0 | AJ19: =AH19*$AL$2 -> 0 | AK19: =SUM(AH19) -> 0 | AL19: =SUM(AK19*$AL$2) -> 0 | AO19: SECRETARIAT | AP19: 42839
A20: DANIEL | B20: Luc | AH20: =SUM(C20:AG20) -> 0 | AJ20: =AH20*$AL$2 -> 0 | AK20: =SUM(AH20) -> 0 | AL20: =SUM(AK20*$AL$2) -> 0 | AO20: BN + CS | AP20: 42898 | AQ20: 42900
A21: DELALLEAU | B21: Joël | AH21: =SUM(C21:AG21) -> 0 | AJ21: =AH21*$AL$2 -> 0 | AK21: =SUM(AH21) -> 0 | AL21: =SUM(AK21*$AL$2) -> 0 | AO21: SECRETARIAT | AP21: 42920
A22: DESROCHE | B22: Philippe | AH22: =SUM(C22:AG22) -> 0 | AJ22: =AH22*$AL$2 -> 0 | AK22: =SUM(AH22) -> 0 | AL22: =SUM(AK22*$AL$2) -> 0 | AO22: SECRETARIAT | AP22: 42982
A23: DIAS | B23: Patrick | AH23: =SUM(C23:AG23) -> 0 | AJ23: =AH23*$AL$2 -> 0 | AK23: =SUM(AH23) -> 0 | AL23: =SUM(AK23*$AL$2) -> 0 | AO23: BN | AP23: 42989 | AQ23: 42990
A24: GUEROUALI | B24: Mouhcine | AH24: =SUM(C24:AG24) -> 0 | AJ24: =AH24*$AL$2 -> 0 | AK24: =SUM(AH24) -> 0 | AL24: =SUM(AK24*$AL$2) -> 0 | AO24: TRESORIERS | AP24: 42991 | AQ24: PARIS
A25: LARDEUX | B25: Didier | AH25: =SUM(C25:AG25) -> 0 | AJ25: =AH25*$AL$2 -> 0 | AK25: =SUM(AH25) -> 0 | AL25: =SUM(AK25*$AL$2) -> 0 | AO25: SECRETARIAT | AP25: 43017
A26: LE MAUGUEN | B26: Gildas | AH26: =SUM(C26:AG26) -> 0 | AJ26: =AH26*$AL$2 -> 0 | AK26: =SUM(AH26) -> 0 | AL26: =SUM(AK26*$AL$2) -> 0 | AO26: BN | AP26: 43052 | AQ26: 43053
A27: PROVENDIER | B27: Steve | AH27: =SUM(C27:AG27) -> 0 | AJ27: =AH27*$AL$2 -> 0 | AK27: =SUM(AH27) -> 0 | AL27: =SUM(AK27*$AL$2) -> 0 | AO27: SECRETARIAT | AP27: 43080
A28: TAMSNA | B28: Hicham | AH28: =SUM(C28:AG28) -> 0 | AJ28: =AH28*$AL$2 -> 0 | AK28: =SUM(AH28) -> 0 | AL28: =SUM(AK28*$AL$2) -> 0 | AO28: FORMATION SNTU
A29: WERNERT | B29: Michel | AH29: =SUM(C29:AG29) -> 0 | AJ29: =AH29*$AL$2 -> 0 | AK29: =SUM(AH29) -> 0 | AL29: =SUM(AK29*$AL$2) -> 0 | AP29: Du | AQ29: Au
AH30: =SUM(C30:AG30) -> 0 | AJ30: =AH30*$AL$2 -> 0 | AK30: =SUM(AH30) -> 0 | AL30: =SUM(AK30*$AL$2) -> 0 | AO30: IREFE | AP30: 42764 | AQ30: 42767
AH31: =SUM(C31:AG31) -> 0 | AJ31: =AH31*$AL$2 -> 0 | AK31: =SUM(AH31) -> 0 | AL31: =SUM(AK31*$AL$2) -> 0 | AO31: CE | AP31: 42771 | AQ31: 42775
AH32: =SUM(C32:AG32) -> 0 | AJ32: =AH32*$AL$2 -> 0 | AK32: =SUM(AH32) -> 0 | AL32: =SUM(AK32*$AL$2) -> 0 | AO32: DS | AP32: 42779 | AQ32: 42781
A33: CARY | B33: Didier | AH33: =SUM(C33:AG33) -> 0 | AJ33: =AH33*$AL$2 -> 0 | AK33: =SUM(AH33) -> 0 | AL33: =SUM(AK33*$AL$2) -> 0 | AO33: CHSCT NIV 1 | AP33: 42792 | AQ33: 42796
AH34: =SUM(C34:AG34) -> 0 | AJ34: =AH34*$AL$2 -> 0 | AK34: =SUM(AH34) -> 0 | AL34: =SUM(AK34*$AL$2) -> 0 | AO34: CE | AP34: 42834 | AQ34: 42838
AH35: =SUM(C35:AG35) -> 0 | AJ35: =AH35*$AL$2 -> 0 | AK35: =SUM(AH35) -> 0 | AL35: =SUM(AK35*$AL$2) -> 0 | AO35: CHSCT NIV 2 | AP35: 42869 | AQ35: 42873
A36: VERMEESCH | B36: Guy | AH36: =SUM(C36:AG36) -> 0 | AJ36: =AH36*$AL$2 -> 0 | AK36: =SUM(AH36) -> 0 | AL36: =SUM(AK36*$AL$2) -> 0 | AO36: DS | AP36: 42870 | AQ36: 42872
A37: PLOUZENNEC | B37: Pierre | AH37: =SUM(C37:AG37) -> 0 | AJ37: =AH37*$AL$2 -> 0 | AK37: =SUM(AH37) -> 0 | AL37: =SUM(AK37*$AL$2) -> 0 | AO37: CE | AP37: 42911 | AQ37: 42915
AH38: =SUM(C38:AG38) -> 0 | AJ38: =AH38*$AL$2 -> 0 | AK38: =SUM(AH38) -> 0 | AL38: =SUM(AK38*$AL$2) -> 0 | AO38: CE | AP38: 43002 | AQ38: 43006
A39: FERRANDINO | B39: Denis | AH39: =SUM(C39:AG39) -> 0 | AJ39: =AH39*$AL$2 -> 0 | AK39: =SUM(AH39) -> 0 | AL39: =SUM(AK39*$AL$2) -> 0 | AO39: CHSCT NIV 1 | AP39: 43023 | AQ39: 43027
A40: PONZ | B40: Stéphanie | AH40: =SUM(C40:AG40) -> 0 | AJ40: =AH40*$AL$2 -> 0 | AK40: =SUM(AH40) -> 0 | AL40: =SUM(AK40*$AL$2) -> 0 | AO40: DS | AP40: 43024 | AQ40: 43026
...

Sheet MARS
A1: ='JOURS FERIES'!D1 -> 2018 | C1: Réservations chambres | AI1: * | AJ1: Nombre de chambres et coût | AM1: * | AO1: Carte IBIS BUSINESS
B2: 3 | C2: MARS | AJ2: PRIX UNITAIRE | AL2: 74 | AO2: Eric | AQ2: *3081432700807952
A3: Mois | AH3: CHAMBRES | AJ3: COÛT | AK3: CHAMBRES | AO3: Paul | AQ3: *3081432662964312
A4: NOMS | B4: PRENOMS | C4: 1 | D4: =C4+1 -> 2 | E4: =D4+1 -> 3 | F4: =E4+1 -> 4 | G4: =F4+1 -> 5 | H4: =G4+1 -> 6 | I4: =H4+1 -> 7 | J4: =I4+1 -> 8 | K4: =J4+1 -> 9 | ... AG4: =AF4+1 -> 31 | AH4: TOTAL | AJ4: TOTAL | AK4: NBS | AL4: COÛT | AO4: Chantal | AQ4: *3081432699167947
C5: =DATE(JANV!$A$1,MARS!$B$2,MARS!C4) -> 43160 | D5: =C5+1 -> 43161 | E5: =D5+1 -> 43162 | F5: =E5+1 -> 43163 | G5: =F5+1 -> 43164 | H5: =G5+1 -> 43165 | I5: =H5+1 -> 43166 | J5: =I5+1 -> 43167 | K5: =J5+1 -> 43168 | ... AG5: =AF5+1 -> 43190 | AH5: au mois | AJ5: Au mois | AK5: Depuis le | AL5: 42736 | AN5: 1 | AO5: RESA IBIS BUDGET
A6: HUGON | B6: Eric | AH6: =SUM(C6:AG6) -> 0 | AJ6: =AH6*$AL$2 -> 0 | AK6: =SUM(AH6) -> 0 | AL6: =SUM(AK6*$AL$2) -> 0 | AN6: ? | AO6: Réservation à confirmer
A7: DESSOMME | B7: Paul
A8: GUERMONT | B8: Michèle | AH8: =SUM(C8:AG8) -> 0 | AJ8: =AH8*$AL$2 -> 0 | AK8: =SUM(AH8) -> 0 | AL8: =SUM(AK8*$AL$2) -> 0 | AO8: BN et CS SNTU
A9: ROULLAUD | B9: Chantal | AH9: =SUM(C9:AG9) -> 0 | AJ9: =AH9*$AL$2 -> 0 | AK9: =SUM(AH9) -> 0 | AL9: =SUM(AK9*$AL$2) -> 0 | AO9: SECRETARIAT
A10: Non Affectées | B10: CFDT | AH10: =SUM(C10:AG10) -> 0 | AJ10: =AH10*$AL$2 -> 0 | AK10: =SUM(AH10) -> 0 | AL10: =SUM(AK10*$AL$2) -> 0 | AO10: REUNION
A11: CANTALOUBE | B11: Philippe | AH11: =SUM(C11:AG11) -> 0 | AJ11: =AH11*$AL$2 -> 0 | AK11: =SUM(AH11) -> 0 | AL11: =SUM(AK11*$AL$2) -> 0 | AO11: FORM
A12: CHARRON | B12: Jean Michel | AH12: =SUM(C12:AG12) -> 0 | AJ12: =AH12*$AL$2 -> 0 | AK12: =SUM(AH12) -> 0 | AL12: =SUM(AK12*$AL$2) -> 0 | AN12: CA | AO12: CONGES
A13: LE BONJOUR | B13: Jean Emmanuel | AH13: =SUM(C13:AG13) -> 0 | AJ13: =AH13*$AL$2 -> 0 | AK13: =SUM(AH13) -> 0 | AL13: =SUM(AK13*$AL$2) -> 0 | AO13: Fériés
A14: TERNOIS | B14: Pierrick | AH14: =SUM(C14:AG14) -> 0 | AJ14: =AH14*$AL$2 -> 0 | AK14: =SUM(AH14) -> 0 | AL14: =SUM(AK14*$AL$2) -> 0 | AO14: REUNION SNTU
A15: VANDENBROUCKE | B15: François | AH15: =SUM(C15:AG15) -> 0 | AJ15: =AH15*$AL$2 -> 0 | AK15: =SUM(AH15) -> 0 | AL15: =SUM(AK15*$AL$2) -> 0 | AP15: DU | AQ15: AU
A16: ACHOUR | B16: Souad | AH16: =SUM(C16:AG16) -> 0 | AJ16: =AH16*$AL$2 -> 0 | AK16: =SUM(AH16) -> 0 | AL16: =SUM(AK16*$AL$2) -> 0 | AO16: BN | AP16: 42757 | AQ16: 42758
A17: AUROY | B17: Alain | AH17: =SUM(C17:AG17) -> 0 | AJ17: =AH17*$AL$2 -> 0 | AK17: =SUM(AH17) -> 0 | AL17: =SUM(AK17*$AL$2) -> 0 | AO17: SECRETARIAT | AP17: 42786
A18: BELGOURCH | B18: Abdelmejid | AH18: =SUM(C18:AG18) -> 0 | AJ18: =AH18*$AL$2 -> 0 | AK18: =SUM(AH18) -> 0 | AL18: =SUM(AK18*$AL$2) -> 0 | AO18: BN | AP18: 42808 | AQ18: 42809
A19: CHEMIN | B19: Grégory | AH19: =SUM(C19:AG19) -> 0 | AJ19: =AH19*$AL$2 -> 0 | AK19: =SUM(AH19) -> 0 | AL19: =SUM(AK19*$AL$2) -> 0 | AO19: SECRETARIAT | AP19: 42839
A20: DANIEL | B20: Luc | AH20: =SUM(C20:AG20) -> 0 | AJ20: =AH20*$AL$2 -> 0 | AK20: =SUM(AH20) -> 0 | AL20: =SUM(AK20*$AL$2) -> 0 | AO20: BN + CS | AP20: 42898 | AQ20: 42900
A21: DELALLEAU | B21: Joël | AH21: =SUM(C21:AG21) -> 0 | AJ21: =AH21*$AL$2 -> 0 | AK21: =SUM(AH21) -> 0 | AL21: =SUM(AK21*$AL$2) -> 0 | AO21: SECRETARIAT | AP21: 42920
A22: DESROCHE | B22: Philippe | AH22: =SUM(C22:AG22) -> 0 | AJ22: =AH22*$AL$2 -> 0 | AK22: =SUM(AH22) -> 0 | AL22: =SUM(AK22*$AL$2) -> 0 | AO22: SECRETARIAT | AP22: 42982
A23: DIAS | B23: Patrick | AH23: =SUM(C23:AG23) -> 0 | AJ23: =AH23*$AL$2 -> 0 | AK23: =SUM(AH23) -> 0 | AL23: =SUM(AK23*$AL$2) -> 0 | AO23: BN | AP23: 42989 | AQ23: 42990
A24: GUEROUALI | B24: Mouhcine | AH24: =SUM(C24:AG24) -> 0 | AJ24: =AH24*$AL$2 -> 0 | AK24: =SUM(AH24) -> 0 | AL24: =SUM(AK24*$AL$2) -> 0 | AO24: TRESORIERS | AP24: 42991 | AQ24: PARIS
A25: LARDEUX | B25: Didier | AH25: =SUM(C25:AG25) -> 0 | AJ25: =AH25*$AL$2 -> 0 | AK25: =SUM(AH25) -> 0 | AL25: =SUM(AK25*$AL$2) -> 0 | AO25: SECRETARIAT | AP25: 43017
A26: LE MAUGUEN | B26: Gildas | AH26: =SUM(C26:AG26) -> 0 | AJ26: =AH26*$AL$2 -> 0 | AK26: =SUM(AH26) -> 0 | AL26: =SUM(AK26*$AL$2) -> 0 | AO26: BN | AP26: 43052 | AQ26: 43053
A27: PROVENDIER | B27: Steve | AH27: =SUM(C27:AG27) -> 0 | AJ27: =AH27*$AL$2 -> 0 | AK27: =SUM(AH27) -> 0 | AL27: =SUM(AK27*$AL$2) -> 0 | AO27: SECRETARIAT | AP27: 43080
A28: TAMSNA | B28: Hicham | AH28: =SUM(C28:AG28) -> 0 | AJ28: =AH28*$AL$2 -> 0 | AK28: =SUM(AH28) -> 0 | AL28: =SUM(AK28*$AL$2) -> 0 | AO28: FORMATION SNTU
A29: WERNERT | B29: Michel | AH29: =SUM(C29:AG29) -> 0 | AJ29: =AH29*$AL$2 -> 0 | AK29: =SUM(AH29) -> 0 | AL29: =SUM(AK29*$AL$2) -> 0 | AP29: Du | AQ29: Au
AH30: =SUM(C30:AG30) -> 0 | AJ30: =AH30*$AL$2 -> 0 | AK30: =SUM(AH30) -> 0 | AL30: =SUM(AK30*$AL$2) -> 0 | AO30: IREFE | AP30: 42764 | AQ30: 42767
AH31: =SUM(C31:AG31) -> 0 | AJ31: =AH31*$AL$2 -> 0 | AK31: =SUM(AH31) -> 0 | AL31: =SUM(AK31*$AL$2) -> 0 | AO31: CE | AP31: 42771 | AQ31: 42775
AH32: =SUM(C32:AG32) -> 0 | AJ32: =AH32*$AL$2 -> 0 | AK32: =SUM(AH32) -> 0 | AL32: =SUM(AK32*$AL$2) -> 0 | AO32: DS | AP32: 42779 | AQ32: 42781
A33: CARY | B33: Didier | AH33: =SUM(C33:AG33) -> 0 | AJ33: =AH33*$AL$2 -> 0 | AK33: =SUM(AH33) -> 0 | AL33: =SUM(AK33*$AL$2) -> 0 | AO33: CHSCT NIV 1 | AP33: 42792 | AQ33: 42796
AH34: =SUM(C34:AG34) -> 0 | AJ34: =AH34*$AL$2 -> 0 | AK34: =SUM(AH34) -> 0 | AL34: =SUM(AK34*$AL$2) -> 0 | AO34: CE | AP34: 42834 | AQ34: 42838
AH35: =SUM(C35:AG35) -> 0 | AJ35: =AH35*$AL$2 -> 0 | AK35: =SUM(AH35) -> 0 | AL35: =SUM(AK35*$AL$2) -> 0 | AO35: CHSCT NIV 2 | AP35: 42869 | AQ35: 42873
A36: VERMEESCH | B36: Guy | AH36: =SUM(C36:AG36) -> 0 | AJ36: =AH36*$AL$2 -> 0 | AK36: =SUM(AH36) -> 0 | AL36: =SUM(AK36*$AL$2) -> 0 | AO36: DS | AP36: 42870 | AQ36: 42872
A37: PLOUZENNEC | B37: Pierre | AH37: =SUM(C37:AG37) -> 0 | AJ37: =AH37*$AL$2 -> 0 | AK37: =SUM(AH37) -> 0 | AL37: =SUM(AK37*$AL$2) -> 0 | AO37: CE | AP37: 42911 | AQ37: 42915
AH38: =SUM(C38:AG38) -> 0 | AJ38: =AH38*$AL$2 -> 0 | AK38: =SUM(AH38) -> 0 | AL38: =SUM(AK38*$AL$2) -> 0 | AO38: CE | AP38: 43002 | AQ38: 43006
A39: FERRANDINO | B39: Denis | AH39: =SUM(C39:AG39) -> 0 | AJ39: =AH39*$AL$2 -> 0 | AK39: =SUM(AH39) -> 0 | AL39: =SUM(AK39*$AL$2) -> 0 | AO39: CHSCT NIV 1 | AP39: 43023 | AQ39: 43027
A40: PONZ | B40: Stéphanie | AH40: =SUM(C40:AG40) -> 0 | AJ40: =AH40*$AL$2 -> 0 | AK40: =SUM(AH40) -> 0 | AL40: =SUM(AK40*$AL$2) -> 0 | AO40: DS | AP40: 43024 | AQ40: 43026
...

Sheet AVRIL
A1: ='JOURS FERIES'!D1 -> 2018 | C1: Réservations chambres | AI1: * | AJ1: Nombre de chambres et coût | AM1: * | AO1: Carte IBIS BUSINESS
B2: 4 | C2: AVRIL | AJ2: PRIX UNITAIRE | AL2: 74 | AO2: Eric | AQ2: *3081432700807952
A3: Mois | AH3: CHAMBRES | AJ3: COÛT | AK3: CHAMBRES | AO3: Paul | AQ3: *3081432662964312
A4: NOMS | B4: PRENOMS | C4: 1 | D4: =C4+1 -> 2 | E4: =D4+1 -> 3 | F4: =E4+1 -> 4 | G4: =F4+1 -> 5 | H4: =G4+1 -> 6 | I4: =H4+1 -> 7 | J4: =I4+1 -> 8 | K4: =J4+1 -> 9 | ... AG4: =AF4+1 -> 31 | AH4: TOTAL | AJ4: TOTAL | AK4: NBS | AL4: COÛT | AO4: Chantal | AQ4: *3081432699167947
C5: =DATE(JANV!$A$1,AVRIL!$B$2,AVRIL!C4) -> 43191 | D5: =C5+1 -> 43192 | E5: =D5+1 -> 43193 | F5: =E5+1 -> 43194 | G5: =F5+1 -> 43195 | H5: =G5+1 -> 43196 | I5: =H5+1 -> 43197 | J5: =I5+1 -> 43198 | K5: =J5+1 -> 43199 | ... AG5: =AF5+1 -> 43221 | AH5: au mois | AJ5: Au mois | AK5: Depuis le | AL5: 42736 | AN5: 1 | AO5: RESA IBIS BUDGET
A6: HUGON | B6: Eric | AH6: =SUM(C6:AG6) -> 0 | AJ6: =AH6*$AL$2 -> 0 | AK6: =SUM(AH6) -> 0 | AL6: =SUM(AK6*$AL$2) -> 0 | AN6: ? | AO6: Réservation à confirmer
A7: DESSOMME | B7: Paul
A8: GUERMONT | B8: Michèle | AH8: =SUM(C8:AG8) -> 0 | AJ8: =AH8*$AL$2 -> 0 | AK8: =SUM(AH8) -> 0 | AL8: =SUM(AK8*$AL$2) -> 0 | AO8: BN et CS SNTU
A9: ROULLAUD | B9: Chantal | AH9: =SUM(C9:AG9) -> 0 | AJ9: =AH9*$AL$2 -> 0 | AK9: =SUM(AH9) -> 0 | AL9: =SUM(AK9*$AL$2) -> 0 | AO9: SECRETARIAT
A10: Non Affectées | B10: CFDT | AH10: =SUM(C10:AG10) -> 0 | AJ10: =AH10*$AL$2 -> 0 | AK10: =SUM(AH10) -> 0 | AL10: =SUM(AK10*$AL$2) -> 0 | AO10: REUNION
A11: CANTALOUBE | B11: Philippe | AH11: =SUM(C11:AG11) -> 0 | AJ11: =AH11*$AL$2 -> 0 | AK11: =SUM(AH11) -> 0 | AL11: =SUM(AK11*$AL$2) -> 0 | AO11: FORM
A12: CHARRON | B12: Jean Michel | AH12: =SUM(C12:AG12) -> 0 | AJ12: =AH12*$AL$2 -> 0 | AK12: =SUM(AH12) -> 0 | AL12: =SUM(AK12*$AL$2) -> 0 | AN12: CA | AO12: CONGES
A13: LE BONJOUR | B13: Jean Emmanuel | AH13: =SUM(C13:AG13) -> 0 | AJ13: =AH13*$AL$2 -> 0 | AK13: =SUM(AH13) -> 0 | AL13: =SUM(AK13*$AL$2) -> 0 | AO13: Fériés
A14: TERNOIS | B14: Pierrick | AH14: =SUM(C14:AG14) -> 0 | AJ14: =AH14*$AL$2 -> 0 | AK14: =SUM(AH14) -> 0 | AL14: =SUM(AK14*$AL$2) -> 0 | AO14: REUNION SNTU
A15: VANDENBROUCKE | B15: François | AH15: =SUM(C15:AG15) -> 0 | AJ15: =AH15*$AL$2 -> 0 | AK15: =SUM(AH15) -> 0 | AL15: =SUM(AK15*$AL$2) -> 0 | AP15: DU | AQ15: AU
A16: ACHOUR | B16: Souad | AH16: =SUM(C16:AG16) -> 0 | AJ16: =AH16*$AL$2 -> 0 | AK16: =SUM(AH16) -> 0 | AL16: =SUM(AK16*$AL$2) -> 0 | AO16: BN | AP16: 42757 | AQ16: 42758
A17: AUROY | B17: Alain | AH17: =SUM(C17:AG17) -> 0 | AJ17: =AH17*$AL$2 -> 0 | AK17: =SUM(AH17) -> 0 | AL17: =SUM(AK17*$AL$2) -> 0 | AO17: SECRETARIAT | AP17: 42786
A18: BELGOURCH | B18: Abdelmejid | AH18: =SUM(C18:AG18) -> 0 | AJ18: =AH18*$AL$2 -> 0 | AK18: =SUM(AH18) -> 0 | AL18: =SUM(AK18*$AL$2) -> 0 | AO18: BN | AP18: 42808 | AQ18: 42809
A19: CHEMIN | B19: Grégory | AH19: =SUM(C19:AG19) -> 0 | AJ19: =AH19*$AL$2 -> 0 | AK19: =SUM(AH19) -> 0 | AL19: =SUM(AK19*$AL$2) -> 0 | AO19: SECRETARIAT | AP19: 42839
A20: DANIEL | B20: Luc | AH20: =SUM(C20:AG20) -> 0 | AJ20: =AH20*$AL$2 -> 0 | AK20: =SUM(AH20) -> 0 | AL20: =SUM(AK20*$AL$2) -> 0 | AO20: BN + CS | AP20: 42898 | AQ20: 42900
A21: DELALLEAU | B21: Joël | AH21: =SUM(C21:AG21) -> 0 | AJ21: =AH21*$AL$2 -> 0 | AK21: =SUM(AH21) -> 0 | AL21: =SUM(AK21*$AL$2) -> 0 | AO21: SECRETARIAT | AP21: 42920
A22: DESROCHE | B22: Philippe | AH22: =SUM(C22:AG22) -> 0 | AJ22: =AH22*$AL$2 -> 0 | AK22: =SUM(AH22) -> 0 | AL22: =SUM(AK22*$AL$2) -> 0 | AO22: SECRETARIAT | AP22: 42982
A23: DIAS | B23: Patrick | AH23: =SUM(C23:AG23) -> 0 | AJ23: =AH23*$AL$2 -> 0 | AK23: =SUM(AH23) -> 0 | AL23: =SUM(AK23*$AL$2) -> 0 | AO23: BN | AP23: 42989 | AQ23: 42990
A24: GUEROUALI | B24: Mouhcine | AH24: =SUM(C24:AG24) -> 0 | AJ24: =AH24*$AL$2 -> 0 | AK24: =SUM(AH24) -> 0 | AL24: =SUM(AK24*$AL$2) -> 0 | AO24: TRESORIERS | AP24: 42991 | AQ24: PARIS
A25: LARDEUX | B25: Didier | AH25: =SUM(C25:AG25) -> 0 | AJ25: =AH25*$AL$2 -> 0 | AK25: =SUM(AH25) -> 0 | AL25: =SUM(AK25*$AL$2) -> 0 | AO25: SECRETARIAT | AP25: 43017
A26: LE MAUGUEN | B26: Gildas | AH26: =SUM(C26:AG26) -> 0 | AJ26: =AH26*$AL$2 -> 0 | AK26: =SUM(AH26) -> 0 | AL26: =SUM(AK26*$AL$2) -> 0 | AO26: BN | AP26: 43052 | AQ26: 43053
A27: PROVENDIER | B27: Steve | AH27: =SUM(C27:AG27) -> 0 | AJ27: =AH27*$AL$2 -> 0 | AK27: =SUM(AH27) -> 0 | AL27: =SUM(AK27*$AL$2) -> 0 | AO27: SECRETARIAT | AP27: 43080
A28: TAMSNA | B28: Hicham | AH28: =SUM(C28:AG28) -> 0 | AJ28: =AH28*$AL$2 -> 0 | AK28: =SUM(AH28) -> 0 | AL28: =SUM(AK28*$AL$2) -> 0 | AO28: FORMATION SNTU
A29: WERNERT | B29: Michel | AH29: =SUM(C29:AG29) -> 0 | AJ29: =AH29*$AL$2 -> 0 | AK29: =SUM(AH29) -> 0 | AL29: =SUM(AK29*$AL$2) -> 0 | AP29: Du | AQ29: Au
AH30: =SUM(C30:AG30) -> 0 | AJ30: =AH30*$AL$2 -> 0 | AK30: =SUM(AH30) -> 0 | AL30: =SUM(AK30*$AL$2) -> 0 | AO30: IREFE | AP30: 42764 | AQ30: 42767
AH31: =SUM(C31:AG31) -> 0 | AJ31: =AH31*$AL$2 -> 0 | AK31: =SUM(AH31) -> 0 | AL31: =SUM(AK31*$AL$2) -> 0 | AO31: CE | AP31: 42771 | AQ31: 42775
AH32: =SUM(C32:AG32) -> 0 | AJ32: =AH32*$AL$2 -> 0 | AK32: =SUM(AH32) -> 0 | AL32: =SUM(AK32*$AL$2) -> 0 | AO32: DS | AP32: 42779 | AQ32: 42781
A33: CARY | B33: Didier | AH33: =SUM(C33:AG33) -> 0 | AJ33: =AH33*$AL$2 -> 0 | AK33: =SUM(AH33) -> 0 | AL33: =SUM(AK33*$AL$2) -> 0 | AO33: CHSCT NIV 1 | AP33: 42792 | AQ33: 42796
AH34: =SUM(C34:AG34) -> 0 | AJ34: =AH34*$AL$2 -> 0 | AK34: =SUM(AH34) -> 0 | AL34: =SUM(AK34*$AL$2) -> 0 | AO34: CE | AP34: 42834 | AQ34: 42838
AH35: =SUM(C35:AG35) -> 0 | AJ35: =AH35*$AL$2 -> 0 | AK35: =SUM(AH35) -> 0 | AL35: =SUM(AK35*$AL$2) -> 0 | AO35: CHSCT NIV 2 | AP35: 42869 | AQ35: 42873
A36: VERMEESCH | B36: Guy | AH36: =SUM(C36:AG36) -> 0 | AJ36: =AH36*$AL$2 -> 0 | AK36: =SUM(AH36) -> 0 | AL36: =SUM(AK36*$AL$2) -> 0 | AO36: DS | AP36: 42870 | AQ36: 42872
A37: PLOUZENNEC | B37: Pierre | AH37: =SUM(C37:AG37) -> 0 | AJ37: =AH37*$AL$2 -> 0 | AK37: =SUM(AH37) -> 0 | AL37: =SUM(AK37*$AL$2) -> 0 | AO37: CE | AP37: 42911 | AQ37: 42915
AH38: =SUM(C38:AG38) -> 0 | AJ38: =AH38*$AL$2 -> 0 | AK38: =SUM(AH38) -> 0 | AL38: =SUM(AK38*$AL$2) -> 0 | AO38: CE | AP38: 43002 | AQ38: 43006
A39: FERRANDINO | B39: Denis | AH39: =SUM(C39:AG39) -> 0 | AJ39: =AH39*$AL$2 -> 0 | AK39: =SUM(AH39) -> 0 | AL39: =SUM(AK39*$AL$2) -> 0 | AO39: CHSCT NIV 1 | AP39: 43023 | AQ39: 43027
A40: PONZ | B40: Stéphanie | AH40: =SUM(C40:AG40) -> 0 | AJ40: =AH40*$AL$2 -> 0 | AK40: =SUM(AH40) -> 0 | AL40: =SUM(AK40*$AL$2) -> 0 | AO40: DS | AP40: 43024 | AQ40: 43026
...

Sheet MAI
A1: ='JOURS FERIES'!D1 -> 2018 | C1: Réservations chambres | AI1: * | AJ1: Nombre de chambres et coût | AM1: * | AO1: Carte IBIS BUSINESS
B2: 5 | C2: MAI | AJ2: PRIX UNITAIRE | AL2: 74 | AO2: Eric | AQ2: *3081432700807952
A3: Mois | AH3: CHAMBRES | AJ3: COÛT | AK3: CHAMBRES | AO3: Paul | AQ3: *3081432662964312
A4: NOMS | B4: PRENOMS | C4: 1 | D4: =C4+1 -> 2 | E4: =D4+1 -> 3 | F4: =E4+1 -> 4 | G4: =F4+1 -> 5 | H4: =G4+1 -> 6 | I4: =H4+1 -> 7 | J4: =I4+1 -> 8 | K4: =J4+1 -> 9 | ... AG4: =AF4+1 -> 31 | AH4: TOTAL | AJ4: TOTAL | AK4: NBS | AL4: COÛT | AO4: Chantal | AQ4: *3081432699167947
C5: =DATE(JANV!$A$1,MAI!$B$2,MAI!C4) -> 43221 | D5: =C5+1 -> 43222 | E5: =D5+1 -> 43223 | F5: =E5+1 -> 43224 | G5: =F5+1 -> 43225 | H5: =G5+1 -> 43226 | I5: =H5+1 -> 43227 | J5: =I5+1 -> 43228 | K5: =J5+1 -> 43229 | ... AG5: =AF5+1 -> 43251 | AH5: au mois | AJ5: Au mois | AK5: Depuis le | AL5: 42736 | AN5: 1 | AO5: RESA IBIS BUDGET
A6: HUGON | B6: Eric | AH6: =SUM(C6:AG6) -> 0 | AJ6: =AH6*$AL$2 -> 0 | AK6: =SUM(AH6) -> 0 | AL6: =SUM(AK6*$AL$2) -> 0 | AN6: ? | AO6: Réservation à confirmer
A7: DESSOMME | B7: Paul
A8: GUERMONT | B8: Michèle | AH8: =SUM(C8:AG8) -> 0 | AJ8: =AH8*$AL$2 -> 0 | AK8: =SUM(AH8) -> 0 | AL8: =SUM(AK8*$AL$2) -> 0 | AO8: BN et CS SNTU
A9: ROULLAUD | B9: Chantal | AH9: =SUM(C9:AG9) -> 0 | AJ9: =AH9*$AL$2 -> 0 | AK9: =SUM(AH9) -> 0 | AL9: =SUM(AK9*$AL$2) -> 0 | AO9: SECRETARIAT
A10: Non Affectées | B10: CFDT | AH10: =SUM(C10:AG10) -> 0 | AJ10: =AH10*$AL$2 -> 0 | AK10: =SUM(AH10) -> 0 | AL10: =SUM(AK10*$AL$2) -> 0 | AO10: REUNION
A11: CANTALOUBE | B11: Philippe | AH11: =SUM(C11:AG11) -> 0 | AJ11: =AH11*$AL$2 -> 0 | AK11: =SUM(AH11) -> 0 | AL11: =SUM(AK11*$AL$2) -> 0 | AO11: FORM
A12: CHARRON | B12: Jean Michel | AH12: =SUM(C12:AG12) -> 0 | AJ12: =AH12*$AL$2 -> 0 | AK12: =SUM(AH12) -> 0 | AL12: =SUM(AK12*$AL$2) -> 0 | AN12: CA | AO12: CONGES
A13: LE BONJOUR | B13: Jean Emmanuel | AH13: =SUM(C13:AG13) -> 0 | AJ13: =AH13*$AL$2 -> 0 | AK13: =SUM(AH13) -> 0 | AL13: =SUM(AK13*$AL$2) -> 0 | AO13: Fériés
A14: TERNOIS | B14: Pierrick | AH14: =SUM(C14:AG14) -> 0 | AJ14: =AH14*$AL$2 -> 0 | AK14: =SUM(AH14) -> 0 | AL14: =SUM(AK14*$AL$2) -> 0 | AO14: REUNION SNTU
A15: VANDENBROUCKE | B15: François | AH15: =SUM(C15:AG15) -> 0 | AJ15: =AH15*$AL$2 -> 0 | AK15: =SUM(AH15) -> 0 | AL15: =SUM(AK15*$AL$2) -> 0 | AP15: DU | AQ15: AU
A16: ACHOUR | B16: Souad | AH16: =SUM(C16:AG16) -> 0 | AJ16: =AH16*$AL$2 -> 0 | AK16: =SUM(AH16) -> 0 | AL16: =SUM(AK16*$AL$2) -> 0 | AO16: BN | AP16: 42757 | AQ16: 42758
A17: AUROY | B17: Alain | AH17: =SUM(C17:AG17) -> 0 | AJ17: =AH17*$AL$2 -> 0 | AK17: =SUM(AH17) -> 0 | AL17: =SUM(AK17*$AL$2) -> 0 | AO17: SECRETARIAT | AP17: 42786
A18: BELGOURCH | B18: Abdelmejid | AH18: =SUM(C18:AG18) -> 0 | AJ18: =AH18*$AL$2 -> 0 | AK18: =SUM(AH18) -> 0 | AL18: =SUM(AK18*$AL$2) -> 0 | AO18: BN | AP18: 42808 | AQ18: 42809
A19: CHEMIN | B19: Grégory | AH19: =SUM(C19:AG19) -> 0 | AJ19: =AH19*$AL$2 -> 0 | AK19: =SUM(AH19) -> 0 | AL19: =SUM(AK19*$AL$2) -> 0 | AO19: SECRETARIAT | AP19: 42839
A20: DANIEL | B20: Luc | AH20: =SUM(C20:AG20) -> 0 | AJ20: =AH20*$AL$2 -> 0 | AK20: =SUM(AH20) -> 0 | AL20: =SUM(AK20*$AL$2) -> 0 | AO20: BN + CS | AP20: 42898 | AQ20: 42900
A21: DELALLEAU | B21: Joël | AH21: =SUM(C21:AG21) -> 0 | AJ21: =AH21*$AL$2 -> 0 | AK21: =SUM(AH21) -> 0 | AL21: =SUM(AK21*$AL$2) -> 0 | AO21: SECRETARIAT | AP21: 42920
A22: DESROCHE | B22: Philippe | AH22: =SUM(C22:AG22) -> 0 | AJ22: =AH22*$AL$2 -> 0 | AK22: =SUM(AH22) -> 0 | AL22: =SUM(AK22*$AL$2) -> 0 | AO22: SECRETARIAT | AP22: 42982
A23: DIAS | B23: Patrick | AH23: =SUM(C23:AG23) -> 0 | AJ23: =AH23*$AL$2 -> 0 | AK23: =SUM(AH23) -> 0 | AL23: =SUM(AK23*$AL$2) -> 0 | AO23: BN | AP23: 42989 | AQ23: 42990
A24: GUEROUALI | B24: Mouhcine | AH24: =SUM(C24:AG24) -> 0 | AJ24: =AH24*$AL$2 -> 0 | AK24: =SUM(AH24) -> 0 | AL24: =SUM(AK24*$AL$2) -> 0 | AO24: TRESORIERS | AP24: 42991 | AQ24: PARIS
A25: LARDEUX | B25: Didier | AH25: =SUM(C25:AG25) -> 0 | AJ25: =AH25*$AL$2 -> 0 | AK25: =SUM(AH25) -> 0 | AL25: =SUM(AK25*$AL$2) -> 0 | AO25: SECRETARIAT | AP25: 43017
A26: LE MAUGUEN | B26: Gildas | AH26: =SUM(C26:AG26) -> 0 | AJ26: =AH26*$AL$2 -> 0 | AK26: =SUM(AH26) -> 0 | AL26: =SUM(AK26*$AL$2) -> 0 | AO26: BN | AP26: 43052 | AQ26: 43053
A27: PROVENDIER | B27: Steve | AH27: =SUM(C27:AG27) -> 0 | AJ27: =AH27*$AL$2 -> 0 | AK27: =SUM(AH27) -> 0 | AL27: =SUM(AK27*$AL$2) -> 0 | AO27: SECRETARIAT | AP27: 43080
A28: TAMSNA | B28: Hicham | AH28: =SUM(C28:AG28) -> 0 | AJ28: =AH28*$AL$2 -> 0 | AK28: =SUM(AH28) -> 0 | AL28: =SUM(AK28*$AL$2) -> 0 | AO28: FORMATION SNTU
A29: WERNERT | B29: Michel | AH29: =SUM(C29:AG29) -> 0 | AJ29: =AH29*$AL$2 -> 0 | AK29: =SUM(AH29) -> 0 | AL29: =SUM(AK29*$AL$2) -> 0 | AP29: Du | AQ29: Au
AH30: =SUM(C30:AG30) -> 0 | AJ30: =AH30*$AL$2 -> 0 | AK30: =SUM(AH30) -> 0 | AL30: =SUM(AK30*$AL$2) -> 0 | AO30: IREFE | AP30: 42764 | AQ30: 42767
AH31: =SUM(C31:AG31) -> 0 | AJ31: =AH31*$AL$2 -> 0 | AK31: =SUM(AH31) -> 0 | AL31: =SUM(AK31*$AL$2) -> 0 | AO31: CE | AP31: 42771 | AQ31: 42775
AH32: =SUM(C32:AG32) -> 0 | AJ32: =AH32*$AL$2 -> 0 | AK32: =SUM(AH32) -> 0 | AL32: =SUM(AK32*$AL$2) -> 0 | AO32: DS | AP32: 42779 | AQ32: 42781
A33: CARY | B33: Didier | AH33: =SUM(C33:AG33) -> 0 | AJ33: =AH33*$AL$2 -> 0 | AK33: =SUM(AH33) -> 0 | AL33: =SUM(AK33*$AL$2) -> 0 | AO33: CHSCT NIV 1 | AP33: 42792 | AQ33: 42796
AH34: =SUM(C34:AG34) -> 0 | AJ34: =AH34*$AL$2 -> 0 | AK34: =SUM(AH34) -> 0 | AL34: =SUM(AK34*$AL$2) -> 0 | AO34: CE | AP34: 42834 | AQ34: 42838
AH35: =SUM(C35:AG35) -> 0 | AJ35: =AH35*$AL$2 -> 0 | AK35: =SUM(AH35) -> 0 | AL35: =SUM(AK35*$AL$2) -> 0 | AO35: CHSCT NIV 2 | AP35: 42869 | AQ35: 42873
A36: VERMEESCH | B36: Guy | AH36: =SUM(C36:AG36) -> 0 | AJ36: =AH36*$AL$2 -> 0 | AK36: =SUM(AH36) -> 0 | AL36: =SUM(AK36*$AL$2) -> 0 | AO36: DS | AP36: 42870 | AQ36: 42872
A37: PLOUZENNEC | B37: Pierre | AH37: =SUM(C37:AG37) -> 0 | AJ37: =AH37*$AL$2 -> 0 | AK37: =SUM(AH37) -> 0 | AL37: =SUM(AK37*$AL$2) -> 0 | AO37: CE | AP37: 42911 | AQ37: 42915
AH38: =SUM(C38:AG38) -> 0 | AJ38: =AH38*$AL$2 -> 0 | AK38: =SUM(AH38) -> 0 | AL38: =SUM(AK38*$AL$2) -> 0 | AO38: CE | AP38: 43002 | AQ38: 43006
A39: FERRANDINO | B39: Denis | AH39: =SUM(C39:AG39) -> 0 | AJ39: =AH39*$AL$2 -> 0 | AK39: =SUM(AH39) -> 0 | AL39: =SUM(AK39*$AL$2) -> 0 | AO39: CHSCT NIV 1 | AP39: 43023 | AQ39: 43027
A40: PONZ | B40: Stéphanie | AH40: =SUM(C40:AG40) -> 0 | AJ40: =AH40*$AL$2 -> 0 | AK40: =SUM(AH40) -> 0 | AL40: =SUM(AK40*$AL$2) -> 0 | AO40: DS | AP40: 43024 | AQ40: 43026
...

Sheet JUIN
A1: ='JOURS FERIES'!D1 -> 2018 | C1: Réservations chambres | AI1: * | AJ1: Nombre de chambres et coût | AM1: * | AO1: Carte IBIS BUSINESS
B2: 6 | C2: JUIN | AJ2: PRIX UNITAIRE | AL2: 74 | AO2: Eric | AQ2: *3081432700807952
A3: Mois | AH3: CHAMBRES | AJ3: COÛT | AK3: CHAMBRES | AO3: Paul | AQ3: *3081432662964312
A4: NOMS | B4: PRENOMS | C4: 1 | D4: =C4+1 -> 2 | E4: =D4+1 -> 3 | F4: =E4+1 -> 4 | G4: =F4+1 -> 5 | H4: =G4+1 -> 6 | I4: =H4+1 -> 7 | J4: =I4+1 -> 8 | K4: =J4+1 -> 9 | ... AG4: =AF4+1 -> 31 | AH4: TOTAL | AJ4: TOTAL | AK4: NBS | AL4: COÛT | AO4: Chantal | AQ4: *3081432699167947
C5: =DATE(JANV!$A$1,JUIN!$B$2,JUIN!C4) -> 43252 | D5: =C5+1 -> 43253 | E5: =D5+1 -> 43254 | F5: =E5+1 -> 43255 | G5: =F5+1 -> 43256 | H5: =G5+1 -> 43257 | I5: =H5+1 -> 43258 | J5: =I5+1 -> 43259 | K5: =J5+1 -> 43260 | ... AG5: =AF5+1 -> 43282 | AH5: au mois | AJ5: Au mois | AK5: Depuis le | AL5: 42736 | AN5: 1 | AO5: RESA IBIS BUDGET
A6: HUGON | B6: Eric | AH6: =SUM(C6:AG6) -> 0 | AJ6: =AH6*$AL$2 -> 0 | AK6: =SUM(AH6) -> 0 | AL6: =SUM(AK6*$AL$2) -> 0 | AN6: ? | AO6: Réservation à confirmer
A7: DESSOMME | B7: Paul
A8: GUERMONT | B8: Michèle | AH8: =SUM(C8:AG8) -> 0 | AJ8: =AH8*$AL$2 -> 0 | AK8: =SUM(AH8) -> 0 | AL8: =SUM(AK8*$AL$2) -> 0 | AO8: BN et CS SNTU
A9: ROULLAUD | B9: Chantal | AH9: =SUM(C9:AG9) -> 0 | AJ9: =AH9*$AL$2 -> 0 | AK9: =SUM(AH9) -> 0 | AL9: =SUM(AK9*$AL$2) -> 0 | AO9: SECRETARIAT
A10: Non Affectées | B10: CFDT | AH10: =SUM(C10:AG10) -> 0 | AJ10: =AH10*$AL$2 -> 0 | AK10: =SUM(AH10) -> 0 | AL10: =SUM(AK10*$AL$2) -> 0 | AO10: REUNION
A11: CANTALOUBE | B11: Philippe | AH11: =SUM(C11:AG11) -> 0 | AJ11: =AH11*$AL$2 -> 0 | AK11: =SUM(AH11) -> 0 | AL11: =SUM(AK11*$AL$2) -> 0 | AO11: FORM
A12: CHARRON | B12: Jean Michel | AH12: =SUM(C12:AG12) -> 0 | AJ12: =AH12*$AL$2 -> 0 | AK12: =SUM(AH12) -> 0 | AL12: =SUM(AK12*$AL$2) -> 0 | AN12: CA | AO12: CONGES
A13: LE BONJOUR | B13: Jean Emmanuel | AH13: =SUM(C13:AG13) -> 0 | AJ13: =AH13*$AL$2 -> 0 | AK13: =SUM(AH13) -> 0 | AL13: =SUM(AK13*$AL$2) -> 0 | AO13: Fériés
A14: TERNOIS | B14: Pierrick | AH14: =SUM(C14:AG14) -> 0 | AJ14: =AH14*$AL$2 -> 0 | AK14: =SUM(AH14) -> 0 | AL14: =SUM(AK14*$AL$2) -> 0 | AO14: REUNION SNTU
A15: VANDENBROUCKE | B15: François | AH15: =SUM(C15:AG15) -> 0 | AJ15: =AH15*$AL$2 -> 0 | AK15: =SUM(AH15) -> 0 | AL15: =SUM(AK15*$AL$2) -> 0 | AP15: DU | AQ15: AU
A16: ACHOUR | B16: Souad | AH16: =SUM(C16:AG16) -> 0 | AJ16: =AH16*$AL$2 -> 0 | AK16: =SUM(AH16) -> 0 | AL16: =SUM(AK16*$AL$2) -> 0 | AO16: BN | AP16: 42757 | AQ16: 42758
A17: AUROY | B17: Alain | AH17: =SUM(C17:AG17) -> 0 | AJ17: =AH17*$AL$2 -> 0 | AK17: =SUM(AH17) -> 0 | AL17: =SUM(AK17*$AL$2) -> 0 | AO17: SECRETARIAT | AP17: 42786
A18: BELGOURCH | B18: Abdelmejid | AH18: =SUM(C18:AG18) -> 0 | AJ18: =AH18*$AL$2 -> 0 | AK18: =SUM(AH18) -> 0 | AL18: =SUM(AK18*$AL$2) -> 0 | AO18: BN | AP18: 42808 | AQ18: 42809
A19: CHEMIN | B19: Grégory | AH19: =SUM(C19:AG19) -> 0 | AJ19: =AH19*$AL$2 -> 0 | AK19: =SUM(AH19) -> 0 | AL19: =SUM(AK19*$AL$2) -> 0 | AO19: SECRETARIAT | AP19: 42839
A20: DANIEL | B20: Luc | AH20: =SUM(C20:AG20) -> 0 | AJ20: =AH20*$AL$2 -> 0 | AK20: =SUM(AH20) -> 0 | AL20: =SUM(AK20*$AL$2) -> 0 | AO20: BN + CS | AP20: 42898 | AQ20: 42900
A21: DELALLEAU | B21: Joël | AH21: =SUM(C21:AG21) -> 0 | AJ21: =AH21*$AL$2 -> 0 | AK21: =SUM(AH21) -> 0 | AL21: =SUM(AK21*$AL$2) -> 0 | AO21: SECRETARIAT | AP21: 42920
A22: DESROCHE | B22: Philippe | AH22: =SUM(C22:AG22) -> 0 | AJ22: =AH22*$AL$2 -> 0 | AK22: =SUM(AH22) -> 0 | AL22: =SUM(AK22*$AL$2) -> 0 | AO22: SECRETARIAT | AP22: 42982
A23: DIAS | B23: Patrick | AH23: =SUM(C23:AG23) -> 0 | AJ23: =AH23*$AL$2 -> 0 | AK23: =SUM(AH23) -> 0 | AL23: =SUM(AK23*$AL$2) -> 0 | AO23: BN | AP23: 42989 | AQ23: 42990
A24: GUEROUALI | B24: Mouhcine | AH24: =SUM(C24:AG24) -> 0 | AJ24: =AH24*$AL$2 -> 0 | AK24: =SUM(AH24) -> 0 | AL24: =SUM(AK24*$AL$2) -> 0 | AO24: TRESORIERS | AP24: 42991 | AQ24: PARIS
A25: LARDEUX | B25: Didier | AH25: =SUM(C25:AG25) -> 0 | AJ25: =AH25*$AL$2 -> 0 | AK25: =SUM(AH25) -> 0 | AL25: =SUM(AK25*$AL$2) -> 0 | AO25: SECRETARIAT | AP25: 43017
A26: LE MAUGUEN | B26: Gildas | AH26: =SUM(C26:AG26) -> 0 | AJ26: =AH26*$AL$2 -> 0 | AK26: =SUM(AH26) -> 0 | AL26: =SUM(AK26*$AL$2) -> 0 | AO26: BN | AP26: 43052 | AQ26: 43053
A27: PROVENDIER | B27: Steve | AH27: =SUM(C27:AG27) -> 0 | AJ27: =AH27*$AL$2 -> 0 | AK27: =SUM(AH27) -> 0 | AL27: =SUM(AK27*$AL$2) -> 0 | AO27: SECRETARIAT | AP27: 43080
A28: TAMSNA | B28: Hicham | AH28: =SUM(C28:AG28) -> 0 | AJ28: =AH28*$AL$2 -> 0 | AK28: =SUM(AH28) -> 0 | AL28: =SUM(AK28*$AL$2) -> 0 | AO28: FORMATION SNTU
A29: WERNERT | B29: Michel | AH29: =SUM(C29:AG29) -> 0 | AJ29: =AH29*$AL$2 -> 0 | AK29: =SUM(AH29) -> 0 | AL29: =SUM(AK29*$AL$2) -> 0 | AP29: Du | AQ29: Au
AH30: =SUM(C30:AG30) -> 0 | AJ30: =AH30*$AL$2 -> 0 | AK30: =SUM(AH30) -> 0 | AL30: =SUM(AK30*$AL$2) -> 0 | AO30: IREFE | AP30: 42764 | AQ30: 42767
AH31: =SUM(C31:AG31) -> 0 | AJ31: =AH31*$AL$2 -> 0 | AK31: =SUM(AH31) -> 0 | AL31: =SUM(AK31*$AL$2) -> 0 | AO31: CE | AP31: 42771 | AQ31: 42775
AH32: =SUM(C32:AG32) -> 0 | AJ32: =AH32*$AL$2 -> 0 | AK32: =SUM(AH32) -> 0 | AL32: =SUM(AK32*$AL$2) -> 0 | AO32: DS | AP32: 42779 | AQ32: 42781
A33: CARY | B33: Didier | AH33: =SUM(C33:AG33) -> 0 | AJ33: =AH33*$AL$2 -> 0 | AK33: =SUM(AH33) -> 0 | AL33: =SUM(AK33*$AL$2) -> 0 | AO33: CHSCT NIV 1 | AP33: 42792 | AQ33: 42796
AH34: =SUM(C34:AG34) -> 0 | AJ34: =AH34*$AL$2 -> 0 | AK34: =SUM(AH34) -> 0 | AL34: =SUM(AK34*$AL$2) -> 0 | AO34: CE | AP34: 42834 | AQ34: 42838
AH35: =SUM(C35:AG35) -> 0 | AJ35: =AH35*$AL$2 -> 0 | AK35: =SUM(AH35) -> 0 | AL35: =SUM(AK35*$AL$2) -> 0 | AO35: CHSCT NIV 2 | AP35: 42869 | AQ35: 42873
A36: VERMEESCH | B36: Guy | AH36: =SUM(C36:AG36) -> 0 | AJ36: =AH36*$AL$2 -> 0 | AK36: =SUM(AH36) -> 0 | AL36: =SUM(AK36*$AL$2) -> 0 | AO36: DS | AP36: 42870 | AQ36: 42872
A37: PLOUZENNEC | B37: Pierre | AH37: =SUM(C37:AG37) -> 0 | AJ37: =AH37*$AL$2 -> 0 | AK37: =SUM(AH37) -> 0 | AL37: =SUM(AK37*$AL$2) -> 0 | AO37: CE | AP37: 42911 | AQ37: 42915
AH38: =SUM(C38:AG38) -> 0 | AJ38: =AH38*$AL$2 -> 0 | AK38: =SUM(AH38) -> 0 | AL38: =SUM(AK38*$AL$2) -> 0 | AO38: CE | AP38: 43002 | AQ38: 43006
A39: FERRANDINO | B39: Denis | AH39: =SUM(C39:AG39) -> 0 | AJ39: =AH39*$AL$2 -> 0 | AK39: =SUM(AH39) -> 0 | AL39: =SUM(AK39*$AL$2) -> 0 | AO39: CHSCT NIV 1 | AP39: 43023 | AQ39: 43027
A40: PONZ | B40: Stéphanie | AH40: =SUM(C40:AG40) -> 0 | AJ40: =AH40*$AL$2 -> 0 | AK40: =SUM(AH40) -> 0 | AL40: =SUM(AK40*$AL$2) -> 0 | AO40: DS | AP40: 43024 | AQ40: 43026
...

Sheet JUIL
A1: ='JOURS FERIES'!D1 -> 2018 | C1: Réservations chambres | AI1: * | AJ1: Nombre de chambres et coût | AM1: * | AO1: Carte IBIS BUSINESS
B2: 7 | C2: JUILLET | AJ2: PRIX UNITAIRE | AL2: 74 | AO2: Eric | AQ2: *3081432700807952
A3: Mois | AH3: CHAMBRES | AJ3: COÛT | AK3: CHAMBRES | AO3: Paul | AQ3: *3081432662964312
A4: NOMS | B4: PRENOMS | C4: 1 | D4: =C4+1 -> 2 | E4: =D4+1 -> 3 | F4: =E4+1 -> 4 | G4: =F4+1 -> 5 | H4: =G4+1 -> 6 | I4: =H4+1 -> 7 | J4: =I4+1 -> 8 | K4: =J4+1 -> 9 | ... AG4: =AF4+1 -> 31 | AH4: TOTAL | AJ4: TOTAL | AK4: NBS | AL4: COÛT | AO4: Chantal | AQ4: *3081432699167947
C5: =DATE(JANV!$A$1,JUIL!$B$2,JUIL!C4) -> 43282 | D5: =C5+1 -> 43283 | E5: =D5+1 -> 43284 | F5: =E5+1 -> 43285 | G5: =F5+1 -> 43286 | H5: =G5+1 -> 43287 | I5: =H5+1 -> 43288 | J5: =I5+1 -> 43289 | K5: =J5+1 -> 43290 | ... AG5: =AF5+1 -> 43312 | AH5: au mois | AJ5: Au mois | AK5: Depuis le | AL5: 42736 | AN5: 1 | AO5: RESA IBIS BUDGET
A6: HUGON | B6: Eric | AH6: =SUM(C6:AG6) -> 0 | AJ6: =AH6*$AL$2 -> 0 | AK6: =SUM(AH6) -> 0 | AL6: =SUM(AK6*$AL$2) -> 0 | AN6: ? | AO6: Réservation à confirmer
A7: DESSOMME | B7: Paul
A8: GUERMONT | B8: Michèle | AH8: =SUM(C8:AG8) -> 0 | AJ8: =AH8*$AL$2 -> 0 | AK8: =SUM(AH8) -> 0 | AL8: =SUM(AK8*$AL$2) -> 0 | AO8: BN et CS SNTU
A9: ROULLAUD | B9: Chantal | AH9: =SUM(C9:AG9) -> 0 | AJ9: =AH9*$AL$2 -> 0 | AK9: =SUM(AH9) -> 0 | AL9: =SUM(AK9*$AL$2) -> 0 | AO9: SECRETARIAT
A10: Non Affectées | B10: CFDT | AH10: =SUM(C10:AG10) -> 0 | AJ10: =AH10*$AL$2 -> 0 | AK10: =SUM(AH10) -> 0 | AL10: =SUM(AK10*$AL$2) -> 0 | AO10: REUNION
A11: CANTALOUBE | B11: Philippe | AH11: =SUM(C11:AG11) -> 0 | AJ11: =AH11*$AL$2 -> 0 | AK11: =SUM(AH11) -> 0 | AL11: =SUM(AK11*$AL$2) -> 0 | AO11: FORM
A12: CHARRON | B12: Jean Michel | AH12: =SUM(C12:AG12) -> 0 | AJ12: =AH12*$AL$2 -> 0 | AK12: =SUM(AH12) -> 0 | AL12: =SUM(AK12*$AL$2) -> 0 | AN12: CA | AO12: CONGES
A13: LE BONJOUR | B13: Jean Emmanuel | AH13: =SUM(C13:AG13) -> 0 | AJ13: =AH13*$AL$2 -> 0 | AK13: =SUM(AH13) -> 0 | AL13: =SUM(AK13*$AL$2) -> 0 | AO13: Fériés
A14: TERNOIS | B14: Pierrick | AH14: =SUM(C14:AG14) -> 0 | AJ14: =AH14*$AL$2 -> 0 | AK14: =SUM(AH14) -> 0 | AL14: =SUM(AK14*$AL$2) -> 0 | AO14: REUNION SNTU
A15: VANDENBROUCKE | B15: François | AH15: =SUM(C15:AG15) -> 0 | AJ15: =AH15*$AL$2 -> 0 | AK15: =SUM(AH15) -> 0 | AL15: =SUM(AK15*$AL$2) -> 0 | AP15: DU | AQ15: AU
A16: ACHOUR | B16: Souad | AH16: =SUM(C16:AG16) -> 0 | AJ16: =AH16*$AL$2 -> 0 | AK16: =SUM(AH16) -> 0 | AL16: =SUM(AK16*$AL$2) -> 0 | AO16: BN | AP16: 42757 | AQ16: 42758
A17: AUROY | B17: Alain | AH17: =SUM(C17:AG17) -> 0 | AJ17: =AH17*$AL$2 -> 0 | AK17: =SUM(AH17) -> 0 | AL17: =SUM(AK17*$AL$2) -> 0 | AO17: SECRETARIAT | AP17: 42786
A18: BELGOURCH | B18: Abdelmejid | AH18: =SUM(C18:AG18) -> 0 | AJ18: =AH18*$AL$2 -> 0 | AK18: =SUM(AH18) -> 0 | AL18: =SUM(AK18*$AL$2) -> 0 | AO18: BN | AP18: 42808 | AQ18: 42809
A19: CHEMIN | B19: Grégory | AH19: =SUM(C19:AG19) -> 0 | AJ19: =AH19*$AL$2 -> 0 | AK19: =SUM(AH19) -> 0 | AL19: =SUM(AK19*$AL$2) -> 0 | AO19: SECRETARIAT | AP19: 42839
A20: DANIEL | B20: Luc | AH20: =SUM(C20:AG20) -> 0 | AJ20: =AH20*$AL$2 -> 0 | AK20: =SUM(AH20) -> 0 | AL20: =SUM(AK20*$AL$2) -> 0 | AO20: BN + CS | AP20: 42898 | AQ20: 42900
A21: DELALLEAU | B21: Joël | AH21: =SUM(C21:AG21) -> 0 | AJ21: =AH21*$AL$2 -> 0 | AK21: =SUM(AH21) -> 0 | AL21: =SUM(AK21*$AL$2) -> 0 | AO21: SECRETARIAT | AP21: 42920
A22: DESROCHE | B22: Philippe | AH22: =SUM(C22:AG22) -> 0 | AJ22: =AH22*$AL$2 -> 0 | AK22: =SUM(AH22) -> 0 | AL22: =SUM(AK22*$AL$2) -> 0 | AO22: SECRETARIAT | AP22: 42982
A23: DIAS | B23: Patrick | AH23: =SUM(C23:AG23) -> 0 | AJ23: =AH23*$AL$2 -> 0 | AK23: =SUM(AH23) -> 0 | AL23: =SUM(AK23*$AL$2) -> 0 | AO23: BN | AP23: 42989 | AQ23: 42990
A24: GUEROUALI | B24: Mouhcine | AH24: =SUM(C24:AG24) -> 0 | AJ24: =AH24*$AL$2 -> 0 | AK24: =SUM(AH24) -> 0 | AL24: =SUM(AK24*$AL$2) -> 0 | AO24: TRESORIERS | AP24: 42991 | AQ24: PARIS
A25: LARDEUX | B25: Didier | AH25: =SUM(C25:AG25) -> 0 | AJ25: =AH25*$AL$2 -> 0 | AK25: =SUM(AH25) -> 0 | AL25: =SUM(AK25*$AL$2) -> 0 | AO25: SECRETARIAT | AP25: 43017
A26: LE MAUGUEN | B26: Gildas | AH26: =SUM(C26:AG26) -> 0 | AJ26: =AH26*$AL$2 -> 0 | AK26: =SUM(AH26) -> 0 | AL26: =SUM(AK26*$AL$2) -> 0 | AO26: BN | AP26: 43052 | AQ26: 43053
A27: PROVENDIER | B27: Steve | AH27: =SUM(C27:AG27) -> 0 | AJ27: =AH27*$AL$2 -> 0 | AK27: =SUM(AH27) -> 0 | AL27: =SUM(AK27*$AL$2) -> 0 | AO27: SECRETARIAT | AP27: 43080
A28: TAMSNA | B28: Hicham | AH28: =SUM(C28:AG28) -> 0 | AJ28: =AH28*$AL$2 -> 0 | AK28: =SUM(AH28) -> 0 | AL28: =SUM(AK28*$AL$2) -> 0 | AO28: FORMATION SNTU
A29: WERNERT | B29: Michel | AH29: =SUM(C29:AG29) -> 0 | AJ29: =AH29*$AL$2 -> 0 | AK29: =SUM(AH29) -> 0 | AL29: =SUM(AK29*$AL$2) -> 0 | AP29: Du | AQ29: Au
AH30: =SUM(C30:AG30) -> 0 | AJ30: =AH30*$AL$2 -> 0 | AK30: =SUM(AH30) -> 0 | AL30: =SUM(AK30*$AL$2) -> 0 | AO30: IREFE | AP30: 42764 | AQ30: 42767
AH31: =SUM(C31:AG31) -> 0 | AJ31: =AH31*$AL$2 -> 0 | AK31: =SUM(AH31) -> 0 | AL31: =SUM(AK31*$AL$2) -> 0 | AO31: CE | AP31: 42771 | AQ31: 42775
AH32: =SUM(C32:AG32) -> 0 | AJ32: =AH32*$AL$2 -> 0 | AK32: =SUM(AH32) -> 0 | AL32: =SUM(AK32*$AL$2) -> 0 | AO32: DS | AP32: 42779 | AQ32: 42781
A33: CARY | B33: Didier | AH33: =SUM(C33:AG33) -> 0 | AJ33: =AH33*$AL$2 -> 0 | AK33: =SUM(AH33) -> 0 | AL33: =SUM(AK33*$AL$2) -> 0 | AO33: CHSCT NIV 1 | AP33: 42792 | AQ33: 42796
AH34: =SUM(C34:AG34) -> 0 | AJ34: =AH34*$AL$2 -> 0 | AK34: =SUM(AH34) -> 0 | AL34: =SUM(AK34*$AL$2) -> 0 | AO34: CE | AP34: 42834 | AQ34: 42838
AH35: =SUM(C35:AG35) -> 0 | AJ35: =AH35*$AL$2 -> 0 | AK35: =SUM(AH35) -> 0 | AL35: =SUM(AK35*$AL$2) -> 0 | AO35: CHSCT NIV 2 | AP35: 42869 | AQ35: 42873
A36: VERMEESCH | B36: Guy | AH36: =SUM(C36:AG36) -> 0 | AJ36: =AH36*$AL$2 -> 0 | AK36: =SUM(AH36) -> 0 | AL36: =SUM(AK36*$AL$2) -> 0 | AO36: DS | AP36: 42870 | AQ36: 42872
A37: PLOUZENNEC | B37: Pierre | AH37: =SUM(C37:AG37) -> 0 | AJ37: =AH37*$AL$2 -> 0 | AK37: =SUM(AH37) -> 0 | AL37: =SUM(AK37*$AL$2) -> 0 | AO37: CE | AP37: 42911 | AQ37: 42915
AH38: =SUM(C38:AG38) -> 0 | AJ38: =AH38*$AL$2 -> 0 | AK38: =SUM(AH38) -> 0 | AL38: =SUM(AK38*$AL$2) -> 0 | AO38: CE | AP38: 43002 | AQ38: 43006
A39: FERRANDINO | B39: Denis | AH39: =SUM(C39:AG39) -> 0 | AJ39: =AH39*$AL$2 -> 0 | AK39: =SUM(AH39) -> 0 | AL39: =SUM(AK39*$AL$2) -> 0 | AO39: CHSCT NIV 1 | AP39: 43023 | AQ39: 43027
A40: PONZ | B40: Stéphanie | AH40: =SUM(C40:AG40) -> 0 | AJ40: =AH40*$AL$2 -> 0 | AK40: =SUM(AH40) -> 0 | AL40: =SUM(AK40*$AL$2) -> 0 | AO40: DS | AP40: 43024 | AQ40: 43026
...

Sheet AOUT
A1: ='JOURS FERIES'!D1 -> 2018 | C1: Réservations chambres | AI1: * | AJ1: Nombre de chambres et coût | AM1: * | AO1: Carte IBIS BUSINESS
B2: 8 | C2: AOUT | AJ2: PRIX UNITAIRE | AL2: 74 | AO2: Eric | AQ2: *3081432700807952
A3: Mois | AH3: CHAMBRES | AJ3: COÛT | AK3: CHAMBRES | AO3: Paul | AQ3: *3081432662964312
A4: NOMS | B4: PRENOMS | C4: 1 | D4: =C4+1 -> 2 | E4: =D4+1 -> 3 | F4: =E4+1 -> 4 | G4: =F4+1 -> 5 | H4: =G4+1 -> 6 | I4: =H4+1 -> 7 | J4: =I4+1 -> 8 | K4: =J4+1 -> 9 | ... AG4: =AF4+1 -> 31 | AH4: TOTAL | AJ4: TOTAL | AK4: NBS | AL4: COÛT | AO4: Chantal | AQ4: *3081432699167947
C5: =DATE(JANV!$A$1,AOUT!$B$2,AOUT!C4) -> 43313 | D5: =C5+1 -> 43314 | E5: =D5+1 -> 43315 | F5: =E5+1 -> 43316 | G5: =F5+1 -> 43317 | H5: =G5+1 -> 43318 | I5: =H5+1 -> 43319 | J5: =I5+1 -> 43320 | K5: =J5+1 -> 43321 | ... AG5: =AF5+1 -> 43343 | AH5: au mois | AJ5: Au mois | AK5: Depuis le | AL5: 42736 | AN5: 1 | AO5: RESA IBIS BUDGET
A6: HUGON | B6: Eric | AH6: =SUM(C6:AG6) -> 0 | AJ6: =AH6*$AL$2 -> 0 | AK6: =SUM(AH6) -> 0 | AL6: =SUM(AK6*$AL$2) -> 0 | AN6: ? | AO6: Réservation à confirmer
A7: DESSOMME | B7: Paul
A8: GUERMONT | B8: Michèle | AH8: =SUM(C8:AG8) -> 0 | AJ8: =AH8*$AL$2 -> 0 | AK8: =SUM(AH8) -> 0 | AL8: =SUM(AK8*$AL$2) -> 0 | AO8: BN et CS SNTU
A9: ROULLAUD | B9: Chantal | AH9: =SUM(C9:AG9) -> 0 | AJ9: =AH9*$AL$2 -> 0 | AK9: =SUM(AH9) -> 0 | AL9: =SUM(AK9*$AL$2) -> 0 | AO9: SECRETARIAT
A10: Non Affectées | B10: CFDT | AH10: =SUM(C10:AG10) -> 0 | AJ10: =AH10*$AL$2 -> 0 | AK10: =SUM(AH10) -> 0 | AL10: =SUM(AK10*$AL$2) -> 0 | AO10: REUNION
A11: CANTALOUBE | B11: Philippe | AH11: =SUM(C11:AG11) -> 0 | AJ11: =AH11*$AL$2 -> 0 | AK11: =SUM(AH11) -> 0 | AL11: =SUM(AK11*$AL$2) -> 0 | AO11: FORM
A12: CHARRON | B12: Jean Michel | AH12: =SUM(C12:AG12) -> 0 | AJ12: =AH12*$AL$2 -> 0 | AK12: =SUM(AH12) -> 0 | AL12: =SUM(AK12*$AL$2) -> 0 | AN12: CA | AO12: CONGES
A13: LE BONJOUR | B13: Jean Emmanuel | AH13: =SUM(C13:AG13) -> 0 | AJ13: =AH13*$AL$2 -> 0 | AK13: =SUM(AH13) -> 0 | AL13: =SUM(AK13*$AL$2) -> 0 | AO13: Fériés
A14: TERNOIS | B14: Pierrick | AH14: =SUM(C14:AG14) -> 0 | AJ14: =AH14*$AL$2 -> 0 | AK14: =SUM(AH14) -> 0 | AL14: =SUM(AK14*$AL$2) -> 0 | AO14: REUNION SNTU
A15: VANDENBROUCKE | B15: François | AH15: =SUM(C15:AG15) -> 0 | AJ15: =AH15*$AL$2 -> 0 | AK15: =SUM(AH15) -> 0 | AL15: =SUM(AK15*$AL$2) -> 0 | AP15: DU | AQ15: AU
A16: ACHOUR | B16: Souad | AH16: =SUM(C16:AG16) -> 0 | AJ16: =AH16*$AL$2 -> 0 | AK16: =SUM(AH16) -> 0 | AL16: =SUM(AK16*$AL$2) -> 0 | AO16: BN | AP16: 42757 | AQ16: 42758
A17: AUROY | B17: Alain | AH17: =SUM(C17:AG17) -> 0 | AJ17: =AH17*$AL$2 -> 0 | AK17: =SUM(AH17) -> 0 | AL17: =SUM(AK17*$AL$2) -> 0 | AO17: SECRETARIAT | AP17: 42786
A18: BELGOURCH | B18: Abdelmejid | AH18: =SUM(C18:AG18) -> 0 | AJ18: =AH18*$AL$2 -> 0 | AK18: =SUM(AH18) -> 0 | AL18: =SUM(AK18*$AL$2) -> 0 | AO18: BN | AP18: 42808 | AQ18: 42809
A19: CHEMIN | B19: Grégory | AH19: =SUM(C19:AG19) -> 0 | AJ19: =AH19*$AL$2 -> 0 | AK19: =SUM(AH19) -> 0 | AL19: =SUM(AK19*$AL$2) -> 0 | AO19: SECRETARIAT | AP19: 42839
A20: DANIEL | B20: Luc | AH20: =SUM(C20:AG20) -> 0 | AJ20: =AH20*$AL$2 -> 0 | AK20: =SUM(AH20) -> 0 | AL20: =SUM(AK20*$AL$2) -> 0 | AO20: BN + CS | AP20: 42898 | AQ20: 42900
A21: DELALLEAU | B21: Joël | AH21: =SUM(C21:AG21) -> 0 | AJ21: =AH21*$AL$2 -> 0 | AK21: =SUM(AH21) -> 0 | AL21: =SUM(AK21*$AL$2) -> 0 | AO21: SECRETARIAT | AP21: 42920
A22: DESROCHE | B22: Philippe | AH22: =SUM(C22:AG22) -> 0 | AJ22: =AH22*$AL$2 -> 0 | AK22: =SUM(AH22) -> 0 | AL22: =SUM(AK22*$AL$2) -> 0 | AO22: SECRETARIAT | AP22: 42982
A23: DIAS | B23: Patrick | AH23: =SUM(C23:AG23) -> 0 | AJ23: =AH23*$AL$2 -> 0 | AK23: =SUM(AH23) -> 0 | AL23: =SUM(AK23*$AL$2) -> 0 | AO23: BN | AP23: 42989 | AQ23: 42990
A24: GUEROUALI | B24: Mouhcine | AH24: =SUM(C24:AG24) -> 0 | AJ24: =AH24*$AL$2 -> 0 | AK24: =SUM(AH24) -> 0 | AL24: =SUM(AK24*$AL$2) -> 0 | AO24: TRESORIERS | AP24: 42991 | AQ24: PARIS
A25: LARDEUX | B25: Didier | AH25: =SUM(C25:AG25) -> 0 | AJ25: =AH25*$AL$2 -> 0 | AK25: =SUM(AH25) -> 0 | AL25: =SUM(AK25*$AL$2) -> 0 | AO25: SECRETARIAT | AP25: 43017
A26: LE MAUGUEN | B26: Gildas | AH26: =SUM(C26:AG26) -> 0 | AJ26: =AH26*$AL$2 -> 0 | AK26: =SUM(AH26) -> 0 | AL26: =SUM(AK26*$AL$2) -> 0 | AO26: BN | AP26: 43052 | AQ26: 43053
A27: PROVENDIER | B27: Steve | AH27: =SUM(C27:AG27) -> 0 | AJ27: =AH27*$AL$2 -> 0 | AK27: =SUM(AH27) -> 0 | AL27: =SUM(AK27*$AL$2) -> 0 | AO27: SECRETARIAT | AP27: 43080
A28: TAMSNA | B28: Hicham | AH28: =SUM(C28:AG28) -> 0 | AJ28: =AH28*$AL$2 -> 0 | AK28: =SUM(AH28) -> 0 | AL28: =SUM(AK28*$AL$2) -> 0 | AO28: FORMATION SNTU
A29: WERNERT | B29: Michel | AH29: =SUM(C29:AG29) -> 0 | AJ29: =AH29*$AL$2 -> 0 | AK29: =SUM(AH29) -> 0 | AL29: =SUM(AK29*$AL$2) -> 0 | AP29: Du | AQ29: Au
AH30: =SUM(C30:AG30) -> 0 | AJ30: =AH30*$AL$2 -> 0 | AK30: =SUM(AH30) -> 0 | AL30: =SUM(AK30*$AL$2) -> 0 | AO30: IREFE | AP30: 42764 | AQ30: 42767
AH31: =SUM(C31:AG31) -> 0 | AJ31: =AH31*$AL$2 -> 0 | AK31: =SUM(AH31) -> 0 | AL31: =SUM(AK31*$AL$2) -> 0 | AO31: CE | AP31: 42771 | AQ31: 42775
AH32: =SUM(C32:AG32) -> 0 | AJ32: =AH32*$AL$2 -> 0 | AK32: =SUM(AH32) -> 0 | AL32: =SUM(AK32*$AL$2) -> 0 | AO32: DS | AP32: 42779 | AQ32: 42781
A33: CARY | B33: Didier | AH33: =SUM(C33:AG33) -> 0 | AJ33: =AH33*$AL$2 -> 0 | AK33: =SUM(AH33) -> 0 | AL33: =SUM(AK33*$AL$2) -> 0 | AO33: CHSCT NIV 1 | AP33: 42792 | AQ33: 42796
AH34: =SUM(C34:AG34) -> 0 | AJ34: =AH34*$AL$2 -> 0 | AK34: =SUM(AH34) -> 0 | AL34: =SUM(AK34*$AL$2) -> 0 | AO34: CE | AP34: 42834 | AQ34: 42838
AH35: =SUM(C35:AG35) -> 0 | AJ35: =AH35*$AL$2 -> 0 | AK35: =SUM(AH35) -> 0 | AL35: =SUM(AK35*$AL$2) -> 0 | AO35: CHSCT NIV 2 | AP35: 42869 | AQ35: 42873
A36: VERMEESCH | B36: Guy | AH36: =SUM(C36:AG36) -> 0 | AJ36: =AH36*$AL$2 -> 0 | AK36: =SUM(AH36) -> 0 | AL36: =SUM(AK36*$AL$2) -> 0 | AO36: DS | AP36: 42870 | AQ36: 42872
A37: PLOUZENNEC | B37: Pierre | AH37: =SUM(C37:AG37) -> 0 | AJ37: =AH37*$AL$2 -> 0 | AK37: =SUM(AH37) -> 0 | AL37: =SUM(AK37*$AL$2) -> 0 | AO37: CE | AP37: 42911 | AQ37: 42915
AH38: =SUM(C38:AG38) -> 0 | AJ38: =AH38*$AL$2 -> 0 | AK38: =SUM(AH38) -> 0 | AL38: =SUM(AK38*$AL$2) -> 0 | AO38: CE | AP38: 43002 | AQ38: 43006
A39: FERRANDINO | B39: Denis | AH39: =SUM(C39:AG39) -> 0 | AJ39: =AH39*$AL$2 -> 0 | AK39: =SUM(AH39) -> 0 | AL39: =SUM(AK39*$AL$2) -> 0 | AO39: CHSCT NIV 1 | AP39: 43023 | AQ39: 43027
A40: PONZ | B40: Stéphanie | AH40: =SUM(C40:AG40) -> 0 | AJ40: =AH40*$AL$2 -> 0 | AK40: =SUM(AH40) -> 0 | AL40: =SUM(AK40*$AL$2) -> 0 | AO40: DS | AP40: 43024 | AQ40: 43026
...

Sheet SEPT
A1: ='JOURS FERIES'!D1 -> 2018 | C1: Réservations chambres | AI1: * | AJ1: Nombre de chambres et coût | AM1: * | AO1: Carte IBIS BUSINESS
B2: 9 | C2: SEPTEMBRE | AJ2: PRIX UNITAIRE | AL2: 74 | AO2: Eric | AQ2: *3081432700807952
A3: Mois | AH3: CHAMBRES | AJ3: COÛT | AK3: CHAMBRES | AO3: Paul | AQ3: *3081432662964312
A4: NOMS | B4: PRENOMS | C4: 1 | D4: =C4+1 -> 2 | E4: =D4+1 -> 3 | F4: =E4+1 -> 4 | G4: =F4+1 -> 5 | H4: =G4+1 -> 6 | I4: =H4+1 -> 7 | J4: =I4+1 -> 8 | K4: =J4+1 -> 9 | ... AG4: =AF4+1 -> 31 | AH4: TOTAL | AJ4: TOTAL | AK4: NBS | AL4: COÛT | AO4: Chantal | AQ4: *3081432699167947
C5: =DATE(JANV!$A$1,SEPT!$B$2,SEPT!C4) -> 43344 | D5: =C5+1 -> 43345 | E5: =D5+1 -> 43346 | F5: =E5+1 -> 43347 | G5: =F5+1 -> 43348 | H5: =G5+1 -> 43349 | I5: =H5+1 -> 43350 | J5: =I5+1 -> 43351 | K5: =J5+1 -> 43352 | ... AG5: =AF5+1 -> 43374 | AH5: au mois | AJ5: Au mois | AK5: Depuis le | AL5: 42736 | AN5: 1 | AO5: RESA IBIS BUDGET
A6: HUGON | B6: Eric | AH6: =SUM(C6:AG6) -> 0 | AJ6: =AH6*$AL$2 -> 0 | AK6: =SUM(AH6) -> 0 | AL6: =SUM(AK6*$AL$2) -> 0 | AN6: ? | AO6: Réservation à confirmer
A7: DESSOMME | B7: Paul
A8: GUERMONT | B8: Michèle | AH8: =SUM(C8:AG8) -> 0 | AJ8: =AH8*$AL$2 -> 0 | AK8: =SUM(AH8) -> 0 | AL8: =SUM(AK8*$AL$2) -> 0 | AO8: BN et CS SNTU
A9: ROULLAUD | B9: Chantal | AH9: =SUM(C9:AG9) -> 0 | AJ9: =AH9*$AL$2 -> 0 | AK9: =SUM(AH9) -> 0 | AL9: =SUM(AK9*$AL$2) -> 0 | AO9: SECRETARIAT
A10: Non Affectées | B10: CFDT | AH10: =SUM(C10:AG10) -> 0 | AJ10: =AH10*$AL$2 -> 0 | AK10: =SUM(AH10) -> 0 | AL10: =SUM(AK10*$AL$2) -> 0 | AO10: REUNION
A11: CANTALOUBE | B11: Philippe | AH11: =SUM(C11:AG11) -> 0 | AJ11: =AH11*$AL$2 -> 0 | AK11: =SUM(AH11) -> 0 | AL11: =SUM(AK11*$AL$2) -> 0 | AO11: FORM
A12: CHARRON | B12: Jean Michel | AH12: =SUM(C12:AG12) -> 0 | AJ12: =AH12*$AL$2 -> 0 | AK12: =SUM(AH12) -> 0 | AL12: =SUM(AK12*$AL$2) -> 0 | AN12: CA | AO12: CONGES
A13: LE BONJOUR | B13: Jean Emmanuel | AH13: =SUM(C13:AG13) -> 0 | AJ13: =AH13*$AL$2 -> 0 | AK13: =SUM(AH13) -> 0 | AL13: =SUM(AK13*$AL$2) -> 0 | AO13: Fériés
A14: TERNOIS | B14: Pierrick | AH14: =SUM(C14:AG14) -> 0 | AJ14: =AH14*$AL$2 -> 0 | AK14: =SUM(AH14) -> 0 | AL14: =SUM(AK14*$AL$2) -> 0 | AO14: REUNION SNTU
A15: VANDENBROUCKE | B15: François | AH15: =SUM(C15:AG15) -> 0 | AJ15: =AH15*$AL$2 -> 0 | AK15: =SUM(AH15) -> 0 | AL15: =SUM(AK15*$AL$2) -> 0 | AP15: DU | AQ15: AU
A16: ACHOUR | B16: Souad | AH16: =SUM(C16:AG16) -> 0 | AJ16: =AH16*$AL$2 -> 0 | AK16: =SUM(AH16) -> 0 | AL16: =SUM(AK16*$AL$2) -> 0 | AO16: BN | AP16: 42757 | AQ16: 42758
A17: AUROY | B17: Alain | AH17: =SUM(C17:AG17) -> 0 | AJ17: =AH17*$AL$2 -> 0 | AK17: =SUM(AH17) -> 0 | AL17: =SUM(AK17*$AL$2) -> 0 | AO17: SECRETARIAT | AP17: 42786
A18: BELGOURCH | B18: Abdelmejid | AH18: =SUM(C18:AG18) -> 0 | AJ18: =AH18*$AL$2 -> 0 | AK18: =SUM(AH18) -> 0 | AL18: =SUM(AK18*$AL$2) -> 0 | AO18: BN | AP18: 42808 | AQ18: 42809
A19: CHEMIN | B19: Grégory | AH19: =SUM(C19:AG19) -> 0 | AJ19: =AH19*$AL$2 -> 0 | AK19: =SUM(AH19) -> 0 | AL19: =SUM(AK19*$AL$2) -> 0 | AO19: SECRETARIAT | AP19: 42839
A20: DANIEL | B20: Luc | AH20: =SUM(C20:AG20) -> 0 | AJ20: =AH20*$AL$2 -> 0 | AK20: =SUM(AH20) -> 0 | AL20: =SUM(AK20*$AL$2) -> 0 | AO20: BN + CS | AP20: 42898 | AQ20: 42900
A21: DELALLEAU | B21: Joël | AH21: =SUM(C21:AG21) -> 0 | AJ21: =AH21*$AL$2 -> 0 | AK21: =SUM(AH21) -> 0 | AL21: =SUM(AK21*$AL$2) -> 0 | AO21: SECRETARIAT | AP21: 42920
A22: DESROCHE | B22: Philippe | AH22: =SUM(C22:AG22) -> 0 | AJ22: =AH22*$AL$2 -> 0 | AK22: =SUM(AH22) -> 0 | AL22: =SUM(AK22*$AL$2) -> 0 | AO22: SECRETARIAT | AP22: 42982
A23: DIAS | B23: Patrick | AH23: =SUM(C23:AG23) -> 0 | AJ23: =AH23*$AL$2 -> 0 | AK23: =SUM(AH23) -> 0 | AL23: =SUM(AK23*$AL$2) -> 0 | AO23: BN | AP23: 42989 | AQ23: 42990
A24: GUEROUALI | B24: Mouhcine | AH24: =SUM(C24:AG24) -> 0 | AJ24: =AH24*$AL$2 -> 0 | AK24: =SUM(AH24) -> 0 | AL24: =SUM(AK24*$AL$2) -> 0 | AO24: TRESORIERS | AP24: 42991 | AQ24: PARIS
A25: LARDEUX | B25: Didier | AH25: =SUM(C25:AG25) -> 0 | AJ25: =AH25*$AL$2 -> 0 | AK25: =SUM(AH25) -> 0 | AL25: =SUM(AK25*$AL$2) -> 0 | AO25: SECRETARIAT | AP25: 43017
A26: LE MAUGUEN | B26: Gildas | AH26: =SUM(C26:AG26) -> 0 | AJ26: =AH26*$AL$2 -> 0 | AK26: =SUM(AH26) -> 0 | AL26: =SUM(AK26*$AL$2) -> 0 | AO26: BN | AP26: 43052 | AQ26: 43053
A27: PROVENDIER | B27: Steve | AH27: =SUM(C27:AG27) -> 0 | AJ27: =AH27*$AL$2 -> 0 | AK27: =SUM(AH27) -> 0 | AL27: =SUM(AK27*$AL$2) -> 0 | AO27: SECRETARIAT | AP27: 43080
A28: TAMSNA | B28: Hicham | AH28: =SUM(C28:AG28) -> 0 | AJ28: =AH28*$AL$2 -> 0 | AK28: =SUM(AH28) -> 0 | AL28: =SUM(AK28*$AL$2) -> 0 | AO28: FORMATION SNTU
A29: WERNERT | B29: Michel | AH29: =SUM(C29:AG29) -> 0 | AJ29: =AH29*$AL$2 -> 0 | AK29: =SUM(AH29) -> 0 | AL29: =SUM(AK29*$AL$2) -> 0 | AP29: Du | AQ29: Au
AH30: =SUM(C30:AG30) -> 0 | AJ30: =AH30*$AL$2 -> 0 | AK30: =SUM(AH30) -> 0 | AL30: =SUM(AK30*$AL$2) -> 0 | AO30: IREFE | AP30: 42764 | AQ30: 42767
AH31: =SUM(C31:AG31) -> 0 | AJ31: =AH31*$AL$2 -> 0 | AK31: =SUM(AH31) -> 0 | AL31: =SUM(AK31*$AL$2) -> 0 | AO31: CE | AP31: 42771 | AQ31: 42775
AH32: =SUM(C32:AG32) -> 0 | AJ32: =AH32*$AL$2 -> 0 | AK32: =SUM(AH32) -> 0 | AL32: =SUM(AK32*$AL$2) -> 0 | AO32: DS | AP32: 42779 | AQ32: 42781
A33: CARY | B33: Didier | AH33: =SUM(C33:AG33) -> 0 | AJ33: =AH33*$AL$2 -> 0 | AK33: =SUM(AH33) -> 0 | AL33: =SUM(AK33*$AL$2) -> 0 | AO33: CHSCT NIV 1 | AP33: 42792 | AQ33: 42796
AH34: =SUM(C34:AG34) -> 0 | AJ34: =AH34*$AL$2 -> 0 | AK34: =SUM(AH34) -> 0 | AL34: =SUM(AK34*$AL$2) -> 0 | AO34: CE | AP34: 42834 | AQ34: 42838
AH35: =SUM(C35:AG35) -> 0 | AJ35: =AH35*$AL$2 -> 0 | AK35: =SUM(AH35) -> 0 | AL35: =SUM(AK35*$AL$2) -> 0 | AO35: CHSCT NIV 2 | AP35: 42869 | AQ35: 42873
A36: VERMEESCH | B36: Guy | AH36: =SUM(C36:AG36) -> 0 | AJ36: =AH36*$AL$2 -> 0 | AK36: =SUM(AH36) -> 0 | AL36: =SUM(AK36*$AL$2) -> 0 | AO36: DS | AP36: 42870 | AQ36: 42872
A37: PLOUZENNEC | B37: Pierre | AH37: =SUM(C37:AG37) -> 0 | AJ37: =AH37*$AL$2 -> 0 | AK37: =SUM(AH37) -> 0 | AL37: =SUM(AK37*$AL$2) -> 0 | AO37: CE | AP37: 42911 | AQ37: 42915
AH38: =SUM(C38:AG38) -> 0 | AJ38: =AH38*$AL$2 -> 0 | AK38: =SUM(AH38) -> 0 | AL38: =SUM(AK38*$AL$2) -> 0 | AO38: CE | AP38: 43002 | AQ38: 43006
A39: FERRANDINO | B39: Denis | AH39: =SUM(C39:AG39) -> 0 | AJ39: =AH39*$AL$2 -> 0 | AK39: =SUM(AH39) -> 0 | AL39: =SUM(AK39*$AL$2) -> 0 | AO39: CHSCT NIV 1 | AP39: 43023 | AQ39: 43027
A40: PONZ | B40: Stéphanie | AH40: =SUM(C40:AG40) -> 0 | AJ40: =AH40*$AL$2 -> 0 | AK40: =SUM(AH40) -> 0 | AL40: =SUM(AK40*$AL$2) -> 0 | AO40: DS | AP40: 43024 | AQ40: 43026
...

Sheet OCT
A1: ='JOURS FERIES'!D1 -> 2018 | C1: Réservations chambres | AI1: * | AJ1: Nombre de chambres et coût | AM1: * | AO1: Carte IBIS BUSINESS
B2: 10 | C2: OCTOBRE | AJ2: PRIX UNITAIRE | AL2: 74 | AO2: Eric | AQ2: *3081432700807952
A3: Mois | AH3: CHAMBRES | AJ3: COÛT | AK3: CHAMBRES | AO3: Paul | AQ3: *3081432662964312
A4: NOMS | B4: PRENOMS | C4: 1 | D4: =C4+1 -> 2 | E4: =D4+1 -> 3 | F4: =E4+1 -> 4 | G4: =F4+1 -> 5 | H4: =G4+1 -> 6 | I4: =H4+1 -> 7 | J4: =I4+1 -> 8 | K4: =J4+1 -> 9 | ... AG4: =AF4+1 -> 31 | AH4: TOTAL | AJ4: TOTAL | AK4: NBS | AL4: COÛT | AO4: Chantal | AQ4: *3081432699167947
