Workbook

Sheet Feuil1
B5: Sales Doc. | C5: SaTy | D5: Good Iss D | E5: CSD | F5: OSD | G5: CRD | H5: Item | I5: SLNo | J5: Req | K5: answer | L5: Comment Feb 13
B6: 20697 | C6: OR | D6: 28.02.2023 | E6: 03.03.2023 | F6: 03.03.2023 | G6: 15.02.2022 | H6: 10 | I6: 1 | J6: {=INDEX(Feuil3!J$6:J$138,MATCH(Feuil1!$B6&Feuil1!$H6,Feuil3!$B$6:$B$138&Feuil3!$H$6:$H$138,0))} -> 0 | K6: {=INDEX(Feuil3!K$6:K$138,MATCH(Feuil1!$B6&Feuil1!$H6,Feuil3!$B$6:$B$138&Feuil3!$H$6:$H$138,0))} -> 0 | L6: {=INDEX(Feuil3!L$6:L$138,MATCH(Feuil1!$B6&Feuil1!$H6,Feuil3!$B$6:$B$138&Feuil3!$H$6:$H$138,0))} -> 0
B7: 26820 | C7: OR | D7: 03.03.2023 | E7: 08.03.2023 | F7: 08.03.2023 | G7: 08.03.2023 | H7: 10 | I7: 1 | J7: {=INDEX(Feuil3!J$6:J$138,MATCH(Feuil1!$B7&Feuil1!$H7,Feuil3!$B$6:$B$138&Feuil3!$H$6:$H$138,0))} -> Reschedule Out (4/6/2023) | K7: {=INDEX(Feuil3!K$6:K$138,MATCH(Feuil1!$B7&Feuil1!$H7,Feuil3!$B$6:$B$138&Feuil3!$H$6:$H$138,0))} -> No Pushout | L7: {=INDEX(Feuil3!L$6:L$138,MATCH(Feuil1!$B7&Feuil1!$H7,Feuil3!$B$6:$B$138&Feuil3!$H$6:$H$138,0))} -> 0
B8: 29398 | C8: OR | D8: 07.03.2023 | E8: 10.03.2023 | F8: 10.03.2023 | G8: 10.03.2023 | H8: 10 | I8: 1 | J8: {=INDEX(Feuil3!J$6:J$138,MATCH(Feuil1!$B8&Feuil1!$H8,Feuil3!$B$6:$B$138&Feuil3!$H$6:$H$138,0))} -> Reschedule Out (4/5/2023) | K8: {=INDEX(Feuil3!K$6:K$138,MATCH(Feuil1!$B8&Feuil1!$H8,Feuil3!$B$6:$B$138&Feuil3!$H$6:$H$138,0))} -> No Pushout | L8: {=INDEX(Feuil3!L$6:L$138,MATCH(Feuil1!$B8&Feuil1!$H8,Feuil3!$B$6:$B$138&Feuil3!$H$6:$H$138,0))} -> 0
B9: 20697 | C9: OR | D9: 08.03.2023 | E9: 13.03.2023 | F9: 13.03.2023 | G9: 23.05.2022 | H9: 20 | I9: 1 | J9: {=INDEX(Feuil3!J$6:J$138,MATCH(Feuil1!$B9&Feuil1!$H9,Feuil3!$B$6:$B$138&Feuil3!$H$6:$H$138,0))} -> 0 | K9: {=INDEX(Feuil3!K$6:K$138,MATCH(Feuil1!$B9&Feuil1!$H9,Feuil3!$B$6:$B$138&Feuil3!$H$6:$H$138,0))} -> 0 | L9: {=INDEX(Feuil3!L$6:L$138,MATCH(Feuil1!$B9&Feuil1!$H9,Feuil3!$B$6:$B$138&Feuil3!$H$6:$H$138,0))} -> 0
B10: 26824 | C10: OR | D10: 09.03.2023 | E10: 14.03.2023 | F10: 14.03.2023 | G10: 14.03.2023 | H10: 10 | I10: 1 | J10: {=INDEX(Feuil3!J$6:J$138,MATCH(Feuil1!$B10&Feuil1!$H10,Feuil3!$B$6:$B$138&Feuil3!$H$6:$H$138,0))} -> Reschedule Out (5/10/2023) | K10: {=INDEX(Feuil3!K$6:K$138,MATCH(Feuil1!$B10&Feuil1!$H10,Feuil3!$B$6:$B$138&Feuil3!$H$6:$H$138,0))} -> No Pushout | L10: {=INDEX(Feuil3!L$6:L$138,MATCH(Feuil1!$B10&Feuil1!$H10,Feuil3!$B$6:$B$138&Feuil3!$H$6:$H$138,0))} -> 0
B11: 26817 | C11: OR | D11: 10.03.2023 | E11: 15.03.2023 | F11: 15.03.2023 | G11: 15.03.2023 | H11: 10 | I11: 1 | J11: {=INDEX(Feuil3!J$6:J$138,MATCH(Feuil1!$B11&Feuil1!$H11,Feuil3!$B$6:$B$138&Feuil3!$H$6:$H$138,0))} -> Reschedule Out (5/8/2023) | K11: {=INDEX(Feuil3!K$6:K$138,MATCH(Feuil1!$B11&Feuil1!$H11,Feuil3!$B$6:$B$138&Feuil3!$H$6:$H$138,0))} -> No Pushout | L11: {=INDEX(Feuil3!L$6:L$138,MATCH(Feuil1!$B11&Feuil1!$H11,Feuil3!$B$6:$B$138&Feuil3!$H$6:$H$138,0))} -> 0
B12: 29332 | C12: OR | D12: 15.03.2023 | E12: 20.03.2023 | F12: 20.03.2023 | G12: 20.03.2023 | H12: 10 | I12: 1 | J12: {=INDEX(Feuil3!J$6:J$138,MATCH(Feuil1!$B12&Feuil1!$H12,Feuil3!$B$6:$B$138&Feuil3!$H$6:$H$138,0))} -> Reschedule Out (5/12/2023) | K12: {=INDEX(Feuil3!K$6:K$138,MATCH(Feuil1!$B12&Feuil1!$H12,Feuil3!$B$6:$B$138&Feuil3!$H$6:$H$138,0))} -> No Pushout | L12: {=INDEX(Feuil3!L$6:L$138,MATCH(Feuil1!$B12&Feuil1!$H12,Feuil3!$B$6:$B$138&Feuil3!$H$6:$H$138,0))} -> 0
B13: 24356 | C13: OR | D13: 16.03.2023 | E13: 21.03.2023 | F13: 21.03.2023 | G13: 09.08.2022 | H13: 10 | I13: 1 | J13: {=INDEX(Feuil3!J$6:J$138,MATCH(Feuil1!$B13&Feuil1!$H13,Feuil3!$B$6:$B$138&Feuil3!$H$6:$H$138,0))} -> Reschedule Out (9/8/2023) | K13: {=INDEX(Feuil3!K$6:K$138,MATCH(Feuil1!$B13&Feuil1!$H13,Feuil3!$B$6:$B$138&Feuil3!$H$6:$H$138,0))} -> No Pushout | L13: {=INDEX(Feuil3!L$6:L$138,MATCH(Feuil1!$B13&Feuil1!$H13,Feuil3!$B$6:$B$138&Feuil3!$H$6:$H$138,0))} -> 0
B14: 24358 | C14: OR | D14: 22.03.2023 | E14: 27.03.2023 | F14: 27.03.2023 | G14: 29.08.2022 | H14: 10 | I14: 1 | J14: {=INDEX(Feuil3!J$6:J$138,MATCH(Feuil1!$B14&Feuil1!$H14,Feuil3!$B$6:$B$138&Feuil3!$H$6:$H$138,0))} -> Reschedule Out (10/12/2023) | K14: {=INDEX(Feuil3!K$6:K$138,MATCH(Feuil1!$B14&Feuil1!$H14,Feuil3!$B$6:$B$138&Feuil3!$H$6:$H$138,0))} -> No Pushout | L14: {=INDEX(Feuil3!L$6:L$138,MATCH(Feuil1!$B14&Feuil1!$H14,Feuil3!$B$6:$B$138&Feuil3!$H$6:$H$138,0))} -> 0
B15: 26819 | C15: OR | D15: 23.03.2023 | E15: 28.03.2023 | F15: 28.03.2023 | G15: 06.02.2023 | H15: 10 | I15: 1 | J15: {=INDEX(Feuil3!J$6:J$138,MATCH(Feuil1!$B15&Feuil1!$H15,Feuil3!$B$6:$B$138&Feuil3!$H$6:$H$138,0))} -> Reschedule Out (11/7/2023) | K15: {=INDEX(Feuil3!K$6:K$138,MATCH(Feuil1!$B15&Feuil1!$H15,Feuil3!$B$6:$B$138&Feuil3!$H$6:$H$138,0))} -> No Pushout | L15: {=INDEX(Feuil3!L$6:L$138,MATCH(Feuil1!$B15&Feuil1!$H15,Feuil3!$B$6:$B$138&Feuil3!$H$6:$H$138,0))} -> 0
B16: 26132 | C16: OR | D16: 27.03.2023 | E16: 30.03.2023 | F16: 30.03.2023 | G16: 22.10.2022 | H16: 10 | I16: 1 | J16: {=INDEX(Feuil3!J$6:J$138,MATCH(Feuil1!$B16&Feuil1!$H16,Feuil3!$B$6:$B$138&Feuil3!$H$6:$H$138,0))} -> 0 | K16: {=INDEX(Feuil3!K$6:K$138,MATCH(Feuil1!$B16&Feuil1!$H16,Feuil3!$B$6:$B$138&Feuil3!$H$6:$H$138,0))} -> 0 | L16: {=INDEX(Feuil3!L$6:L$138,MATCH(Feuil1!$B16&Feuil1!$H16,Feuil3!$B$6:$B$138&Feuil3!$H$6:$H$138,0))} -> 0
B17: 26133 | C17: OR | D17: 27.03.2023 | E17: 30.03.2023 | F17: 30.03.2023 | G17: 20.11.2022 | H17: 10 | I17: 1 | J17: {=INDEX(Feuil3!J$6:J$138,MATCH(Feuil1!$B17&Feuil1!$H17,Feuil3!$B$6:$B$138&Feuil3!$H$6:$H$138,0))} -> 0 | K17: {=INDEX(Feuil3!K$6:K$138,MATCH(Feuil1!$B17&Feuil1!$H17,Feuil3!$B$6:$B$138&Feuil3!$H$6:$H$138,0))} -> 0 | L17: {=INDEX(Feuil3!L$6:L$138,MATCH(Feuil1!$B17&Feuil1!$H17,Feuil3!$B$6:$B$138&Feuil3!$H$6:$H$138,0))} -> 0
... B138: 26177 | C138: OR | D138: 04.12.2024 | E138: 11.12.2024 | F138: 11.12.2024 | G138: 11.04.2023 | H138: 10 | I138: 1 | J138: {=INDEX(Feuil3!J$6:J$138,MATCH(Feuil1!$B138&Feuil1!$H138,Feuil3!$B$6:$B$138&Feuil3!$H$6:$H$138,0))} -> cancel process | K138: {=INDEX(Feuil3!K$6:K$138,MATCH(Feuil1!$B138&Feuil1!$H138,Feuil3!$B$6:$B$138&Feuil3!$H$6:$H$138,0))} -> Still investigating | L138: {=INDEX(Feuil3!L$6:L$138,MATCH(Feuil1!$B138&Feuil1!$H138,Feuil3!$B$6:$B$138&Feuil3!$H$6:$H$138,0))} -> 0

Sheet Feuil3
B5: Sales Doc. | C5: SaTy | D5: Good Iss D | E5: CSD | F5: OSD | G5: CRD | H5: Item | I5: SLNo | J5: Req | K5: answer | L5: Comment Feb 13
B6: 20697 | C6: OR | D6: 28.02.2023 | E6: 03.03.2023 | F6: 03.03.2023 | G6: 15.02.2022 | H6: 10 | I6: 1
B7: 26820 | C7: OR | D7: 03.03.2023 | E7: 08.03.2023 | F7: 08.03.2023 | G7: 08.03.2023 | H7: 10 | I7: 1 | J7: Reschedule Out (4/6/2023) | K7: No Pushout
B8: 29398 | C8: OR | D8: 07.03.2023 | E8: 10.03.2023 | F8: 10.03.2023 | G8: 10.03.2023 | H8: 10 | I8: 1 | J8: Reschedule Out (4/5/2023) | K8: No Pushout
B9: 20697 | C9: OR | D9: 08.03.2023 | E9: 13.03.2023 | F9: 13.03.2023 | G9: 23.05.2022 | H9: 20 | I9: 1
B10: 26824 | C10: OR | D10: 09.03.2023 | E10: 14.03.2023 | F10: 14.03.2023 | G10: 14.03.2023 | H10: 10 | I10: 1 | J10: Reschedule Out (5/10/2023) | K10: No Pushout
B11: 26817 | C11: OR | D11: 10.03.2023 | E11: 15.03.2023 | F11: 15.03.2023 | G11: 15.03.2023 | H11: 10 | I11: 1 | J11: Reschedule Out (5/8/2023) | K11: No Pushout
B12: 29332 | C12: OR | D12: 15.03.2023 | E12: 20.03.2023 | F12: 20.03.2023 | G12: 20.03.2023 | H12: 10 | I12: 1 | J12: Reschedule Out (5/12/2023) | K12: No Pushout
B13: 24356 | C13: OR | D13: 16.03.2023 | E13: 21.03.2023 | F13: 21.03.2023 | G13: 09.08.2022 | H13: 10 | I13: 1 | J13: Reschedule Out (9/8/2023) | K13: No Pushout
B14: 24358 | C14: OR | D14: 22.03.2023 | E14: 27.03.2023 | F14: 27.03.2023 | G14: 29.08.2022 | H14: 10 | I14: 1 | J14: Reschedule Out (10/12/2023) | K14: No Pushout
B15: 26819 | C15: OR | D15: 23.03.2023 | E15: 28.03.2023 | F15: 28.03.2023 | G15: 06.02.2023 | H15: 10 | I15: 1 | J15: Reschedule Out (11/7/2023) | K15: No Pushout
B16: 26132 | C16: OR | D16: 27.03.2023 | E16: 30.03.2023 | F16: 30.03.2023 | G16: 22.10.2022 | H16: 10 | I16: 1
B17: 26133 | C17: OR | D17: 27.03.2023 | E17: 30.03.2023 | F17: 30.03.2023 | G17: 20.11.2022 | H17: 10 | I17: 1
B18: 26136 | C18: OR | D18: 27.03.2023 | E18: 30.03.2023 | F18: 30.03.2023 | G18: 30.03.2023 | H18: 10 | I18: 1
B19: 26137 | C19: OR | D19: 27.03.2023 | E19: 30.03.2023 | F19: 30.03.2023 | G19: 30.03.2023 | H19: 10 | I19: 1
B20: 28972 | C20: OR | D20: 28.03.2023 | E20: 31.03.2023 | F20: 31.03.2023 | G20: 28.03.2023 | H20: 10 | I20: 1 | J20: Please cancel | K20: Still investigating
B21: 28971 | C21: OR | D21: 28.03.2023 | E21: 31.03.2023 | F21: 31.03.2023 | G21: 31.03.2023 | H21: 10 | I21: 1 | J21: Please cancel | K21: Still investigating
B22: 29054 | C22: OR | D22: 28.03.2023 | E22: 31.03.2023 | F22: 31.03.2023 | G22: 31.03.2023 | H22: 10 | I22: 1 | J22: Reschedule out to May 1 | K22: Still investigating
B23: 29186 | C23: OR | D23: 28.03.2023 | E23: 31.03.2023 | F23: 31.03.2023 | G23: 31.03.2023 | H23: 10 | I23: 1
B24: 29330 | C24: OR | D24: 29.03.2023 | E24: 03.04.2023 | F24: 03.04.2023 | G24: 03.04.2023 | H24: 10 | I24: 1 | J24: Reschedule Out (6/7/2023) | K24: No Pushout
B25: 31661 | C25: OR | D25: 30.03.2023 | E25: 04.04.2023 | F25: 04.04.2023 | G25: 04.04.2023 | H25: 10 | I25: 1 | J25: Reschedule Out (5/6/2023) | K25: No Pushout
B26: 26822 | C26: OR | D26: 31.03.2023 | E26: 05.04.2023 | F26: 05.04.2023 | G26: 13.02.2023 | H26: 10 | I26: 1 | J26: Reschedule Out (12/8/2023) | K26: No Pushout
B27: 24257 | C27: OR | D27: 04.04.2023 | E27: 07.04.2023 | F27: 07.04.2023 | G27: 10.11.2022 | H27: 10 | I27: 1 | J27: Reschedule in to 3/1/2023 | K27: No Pull in possible | L27: Ok, We have enough
B28: 29095 | C28: OR | D28: 04.04.2023 | E28: 10.04.2023 | F28: 10.04.2023 | G28: 10.04.2023 | H28: 10 | I28: 1 | J28: Reschedule Out (6/13/2023) | K28: No Pushout
B29: 32678 | C29: OR | D29: 06.04.2023 | E29: 12.04.2023 | F29: 12.04.2023 | G29: 12.04.2023 | H29: 10 | I29: 1 | J29: Reschedule Out (7/7/2023) | K29: No Pushout
B30: 21202 | C30: OR | D30: 11.04.2023 | E30: 14.04.2023 | F30: 14.04.2023 | G30: 25.04.2022 | H30: 10 | I30: 2 | J30: Reschedule Out (8/9/2023) | K30: No Pushout
B31: 34272 | C31: OR | D31: 12.04.2023 | E31: 17.04.2023 | F31: 17.04.2023 | G31: 06.04.2023 | H31: 10 | I31: 1 | J31: Reschyedule out June 23 | K31: No Pushout
B32: 26810 | C32: OR | D32: 13.04.2023 | E32: 18.04.2023 | F32: 18.04.2023 | G32: 18.04.2023 | H32: 10 | I32: 1 | J32: Reschedule Out (8/9/2023) | K32: No Pushout
B33: 24262 | C33: OR | D33: 19.04.2023 | E33: 24.04.2023 | F33: 24.04.2023 | G33: 11.08.2022 | H33: 10 | I33: 1 | J33: Reschedule Out (8/15/2023) | K33: No Pushout
B34: 24359 | C34: OR | D34: 25.04.2023 | E34: 28.04.2023 | F34: 28.04.2023 | G34: 25.05.2023 | H34: 10 | I34: 1 | J34: Reschedule Out (9/15/2023) | K34: No Pushout
B35: 27326 | C35: OR | D35: 25.04.2023 | E35: 30.04.2023 | F35: 30.04.2023 | G35: 07.03.2023 | H35: 10 | I35: 1
B36: 27327 | C36: OR | D36: 25.04.2023 | E36: 30.04.2023 | F36: 30.04.2023 | G36: 05.04.2023 | H36: 10 | I36: 1
B37: 23300 | C37: OR | D37: 26.04.2023 | E37: 02.05.2023 | F37: 02.05.2023 | G37: 15.09.2022 | H37: 10 | I37: 1 | J37: Please cancel | K37: Still investigating
B38: 29007 | C38: OR | D38: 26.04.2023 | E38: 02.05.2023 | F38: 02.05.2023 | G38: 29.04.2023 | H38: 10 | I38: 1 | J38: Reschedule out to March 3, 2024 | K38: Still investigating
B39: 23297 | C39: OR | D39: 27.04.2023 | E39: 03.05.2023 | F39: 03.05.2023 | G39: 13.10.2022 | H39: 10 | I39: 1 | J39: Please cancel | K39: Still investigating
B40: 24261 | C40: OR | D40: 27.04.2023 | E40: 03.05.2023 | F40: 03.05.2023 | G40: 21.10.2022 | H40: 10 | I40: 1 | J40: Reschedule Out (9/7/2023) | K40: No Pushout
B41: 29326 | C41: OR | D41: 02.05.2023 | E41: 05.05.2023 | F41: 05.05.2023 | G41: 05.05.2023 | H41: 10 | I41: 1 | J41: Reschedule Out (7/7/2023) | K41: No Pushout
B42: 29401 | C42: OR | D42: 02.05.2023 | E42: 05.05.2023 | F42: 05.05.2023 | G42: 05.05.2023 | H42: 10 | I42: 1 | J42: Reschedule Out (7/7/2023) | K42: No Pushout
B43: 28974 | C43: OR | D43: 04.05.2023 | E43: 10.05.2023 | F43: 10.05.2023 | G43: 28.02.2023 | H43: 10 | I43: 1 | J43: Please cancel | K43: Still investigating
B44: 24260 | C44: OR | D44: 05.05.2023 | E44: 11.05.2023 | F44: 11.05.2023 | G44: 10.11.2022 | H44: 10 | I44: 1 | J44: Reschedule Out (9/14/2023) | K44: No Pushout
...
