Workbook

Sheet Feuil1
B5: Sales Doc. | C5: SaTy | D5: Good Iss D | E5: CSD | F5: OSD | G5: CRD | H5: Item | I5: SLNo | J5: Req | K5: answer | L5: Comment Feb 13
B6: 20697 | C6: OR | D6: 28.02.2023 | E6: 03.03.2023 | F6: 03.03.2023 | G6: 15.02.2022 | H6: 10 | I6: 1 | J6: {=INDEX(Feuil3!J$6:J$138,MATCH(Feuil1!$B6&Feuil1!$H6,Feuil3!$B$6:$B$138&Feuil3!$H$6:$H$138,0))} -> 0 | K6: {=INDEX(Feuil3!K$6:K$138,MATCH(Feuil1!$B6&Feuil1!$H6,Feuil3!$B$6:$B$138&Feuil3!$H$6:$H$138,0))} -> 0 | L6: {=INDEX(Feuil3!L$6:L$138,MATCH(Feuil1!$B6&Feuil1!$H6,Feuil3!$B$6:$B$138&Feuil3!$H$6:$H$138,0))} -> 0
B7: 26820 | C7: OR | D7: 03.03.2023 | E7: 08.03.2023 | F7: 08.03.2023 | G7: 08.03.2023 | H7: 10 | I7: 1 | J7: {=INDEX(Feuil3!J$6:J$138,MATCH(Feuil1!$B7&Feuil1!$H7,Feuil3!$B$6:$B$138&Feuil3!$H$6:$H$138,0))} -> Reschedule Out (4/6/2023) | K7: {=INDEX(Feuil3!K$6:K$138,MATCH(Feuil1!$B7&Feuil1!$H7,Feuil3!$B$6:$B$138&Feuil3!$H$6:$H$138,0))} -> No Pushout | L7: {=INDEX(Feuil3!L$6:L$138,MATCH(Feuil1!$B7&Feuil1!$H7,Feuil3!$B$6:$B$138&Feuil3!$H$6:$H$138,0))} -> 0
B8: 29398 | C8: OR | D8: 07.03.2023 | E8: 10.03.2023 | F8: 10.03.2023 | G8: 10.03.2023 | H8: 10 | I8: 1 | J8: {=INDEX(Feuil3!J$6:J$138,MATCH(Feuil1!$B8&Feuil1!$H8,Feuil3!$B$6:$B$138&Feuil3!$H$6:$H$138,0))} -> Reschedule Out (4/5/2023) | K8: {=INDEX(Feuil3!K$6:K$138,MATCH(Feuil1!$B8&Feuil1!$H8,Feuil3!$B$6:$B$138&Feuil3!$H$6:$H$138,0))} -> No Pushout | L8: {=INDEX(Feuil3!L$6:L$138,MATCH(Feuil1!$B8&Feuil1!$H8,Feuil3!$B$6:$B$138&Feuil3!$H$6:$H$138,0))} -> 0
B9: 20697 | C9: OR | D9: 08.03.2023 | E9: 13.03.2023 | F9: 13.03.2023 | G9: 23.05.2022 | H9: 20 | I9: 1 | J9: {=INDEX(Feuil3!J$6:J$138,MATCH(Feuil1!$B9&Feuil1!$H9,Feuil3!$B$6:$B$138&Feuil3!$H$6:$H$138,0))} -> 0 | K9: {=INDEX(Feuil3!K$6:K$138,MATCH(Feuil1!$B9&Feuil1!$H9,Feuil3!$B$6:$B$138&Feuil3!$H$6:$H$138,0))} -> 0 | L9: {=INDEX(Feuil3!L$6:L$138,MATCH(Feuil1!$B9&Feuil1!$H9,Feuil3!$B$6:$B$138&Feuil3!$H$6:$H$138,0))} -> 0
B10: 26824 | C10: OR | D10: 09.03.2023 | E10: 14.03.2023 | F10: 14.03.2023 | G10: 14.03.2023 | H10: 10 | I10: 1 | J10: {=INDEX(Feuil3!J$6:J$138,MATCH(Feuil1!$B10&Feuil1!$H10,Feuil3!$B$6:$B$138&Feuil3!$H$6:$H$138,0))} -> Reschedule Out (5/10/2023) | K10: {=INDEX(Feuil3!K$6:K$138,MATCH(Feuil1!$B10&Feuil1!$H10,Feuil3!$B$6:$B$138&Feuil3!$H$6:$H$138,0))} -> No Pushout | L10: {=INDEX(Feuil3!L$6:L$138,MATCH(Feuil1!$B10&Feuil1!$H10,Feuil3!$B$6:$B$138&Feuil3!$H$6:$H$138,0))} -> 0
B11: 26817 | C11: OR | D11: 10.03.2023 | E11: 15.03.2023 | F11: 15.03.2023 | G11: 15.03.2023 | H11: 10 | I11: 1 | J11: {=INDEX(Feuil3!J$6:J$138,MATCH(Feuil1!$B11&Feuil1!$H11,Feuil3!$B$6:$B$138&Feuil3!$H$6:$H$138,0))} -> Reschedule Out (5/8/2023) | K11: {=INDEX(Feuil3!K$6:K$138,MATCH(Feuil1!$B11&Feuil1!$H11,Feuil3!$B$6:$B$138&Feuil3!$H$6:$H$138,0))} -> No Pushout | L11: {=INDEX(Feuil3!L$6:L$138,MATCH(Feuil1!$B11&Feuil1!$H11,Feuil3!$B$6:$B$138&Feuil3!$H$6:$H$138,0))} -> 0
B12: 29332 | C12: OR | D12: 15.03.2023 | E12: 20.03.2023 | F12: 20.03.2023 | G12: 20.03.2023 | H12: 10 | I12: 1 | J12: {=INDEX(Feuil3!J$6:J$138,MATCH(Feuil1!$B12&Feuil1!$H12,Feuil3!$B$6:$B$138&Feuil3!$H$6:$H$138,0))} -> Reschedule Out (5/12/2023) | K12: {=INDEX(Feuil3!K$6:K$138,MATCH(Feuil1!$B12&Feuil1!$H12,Feuil3!$B$6:$B$138&Feuil3!$H$6:$H$138,0))} -> No Pushout | L12: {=INDEX(Feuil3!L$6:L$138,MATCH(Feuil1!$B12&Feuil1!$H12,Feuil3!$B$6:$B$138&Feuil3!$H$6:$H$138,0))} -> 0
B13: 24356 | C13: OR | D13: 16.03.2023 | E13: 21.03.2023 | F13: 21.03.2023 | G13: 09.08.2022 | H13: 10 | I13: 1 | J13: {=INDEX(Feuil3!J$6:J$138,MATCH(Feuil1!$B13&Feuil1!$H13,Feuil3!$B$6:$B$138&Feuil3!$H$6:$H$138,0))} -> Reschedule Out (9/8/2023) | K13: {=INDEX(Feuil3!K$6:K$138,MATCH(Feuil1!$B13&Feuil1!$H13,Feuil3!$B$6:$B$138&Feuil3!$H$6:$H$138,0))} -> No Pushout | L13: {=INDEX(Feuil3!L$6:L$138,MATCH(Feuil1!$B13&Feuil1!$H13,Feuil3!$B$6:$B$138&Feuil3!$H$6:$H$138,0))} -> 0
B14: 24358 | C14: OR | D14: 22.03.2023 | E14: 27.03.2023 | F14: 27.03.2023 | G14: 29.08.2022 | H14: 10 | I14: 1 | J14: {=INDEX(Feuil3!J$6:J$138,MATCH(Feuil1!$B14&Feuil1!$H14,Feuil3!$B$6:$B$138&Feuil3!$H$6:$H$138,0))} -> Reschedule Out (10/12/2023) | K14: {=INDEX(Feuil3!K$6:K$138,MATCH(Feuil1!$B14&Feuil1!$H14,Feuil3!$B$6:$B$138&Feuil3!$H$6:$H$138,0))} -> No Pushout | L14: {=INDEX(Feuil3!L$6:L$138,MATCH(Feuil1!$B14&Feuil1!$H14,Feuil3!$B$6:$B$138&Feuil3!$H$6:$H$138,0))} -> 0
B15: 26819 | C15: OR | D15: 23.03.2023 | E15: 28.03.2023 | F15: 28.03.2023 | G15: 06.02.2023 | H15: 10 | I15: 1 | J15: {=INDEX(Feuil3!J$6:J$138,MATCH(Feuil1!$B15&Feuil1!$H15,Feuil3!$B$6:$B$138&Feuil3!$H$6:$H$138,0))} -> Reschedule Out (11/7/2023) | K15: {=INDEX(Feuil3!K$6:K$138,MATCH(Feuil1!$B15&Feuil1!$H15,Feuil3!$B$6:$B$138&Feuil3!$H$6:$H$138,0))} -> No Pushout | L15: {=INDEX(Feuil3!L$6:L$138,MATCH(Feuil1!$B15&Feuil1!$H15,Feuil3!$B$6:$B$138&Feuil3!$H$6:$H$138,0))} -> 0
B16: 26132 | C16: OR | D16: 27.03.2023 | E16: 30.03.2023 | F16: 30.03.2023 | G16: 22.10.2022 | H16: 10 | I16: 1 | J16: {=INDEX(Feuil3!J$6:J$138,MATCH(Feuil1!$B16&Feuil1!$H16,Feuil3!$B$6:$B$138&Feuil3!$H$6:$H$138,0))} -> 0 | K16: {=INDEX(Feuil3!K$6:K$138,MATCH(Feuil1!$B16&Feuil1!$H16,Feuil3!$B$6:$B$138&Feuil3!$H$6:$H$138,0))} -> 0 | L16: {=INDEX(Feuil3!L$6:L$138,MATCH(Feuil1!$B16&Feuil1!$H16,Feuil3!$B$6:$B$138&Feuil3!$H$6:$H$138,0))} -> 0
B17: 26133 | C17: OR | D17: 27.03.2023 | E17: 30.03.2023 | F17: 30.03.2023 | G17: 20.11.2022 | H17: 10 | I17: 1 | J17: {=INDEX(Feuil3!J$6:J$138,MATCH(Feuil1!$B17&Feuil1!$H17,Feuil3!$B$6:$B$138&Feuil3!$H$6:$H$138,0))} -> 0 | K17: {=INDEX(Feuil3!K$6:K$138,MATCH(Feuil1!$B17&Feuil1!$H17,Feuil3!$B$6:$B$138&Feuil3!$H$6:$H$138,0))} -> 0 | L17: {=INDEX(Feuil3!L$6:L$138,MATCH(Feuil1!$B17&Feuil1!$H17,Feuil3!$B$6:$B$138&Feuil3!$H$6:$H$138,0))} -> 0
... B138: 26177 | C138: OR | D138: 04.12.2024 | E138: 11.12.2024 | F138: 11.12.2024 | G138: 11.04.2023 | H138: 10 | I138: 1 | J138: {=INDEX(Feuil3!J$6:J$138,MATCH(Feuil1!$B138&Feuil1!$H138,Feuil3!$B$6:$B$138&Feuil3!$H$6:$H$138,0))} -> cancel process | K138: {=INDEX(Feuil3!K$6:K$138,MATCH(Feuil1!$B138&Feuil1!$H138,Feuil3!$B$6:$B$138&Feuil3!$H$6:$H$138,0))} -> Still investigating | L138: {=INDEX(Feuil3!L$6:L$138,MATCH(Feuil1!$B138&Feuil1!$H138,Feuil3!$B$6:$B$138&Feuil3!$H$6:$H$138,0))} -> 0

Sheet Feuil3
B5: Sales Doc. | C5: SaTy | D5: Good Iss D | E5: CSD | F5: OSD | G5: CRD | H5: Item | I5: SLNo | J5: Req | K5: answer | L5: Comment Feb 13
B6: 20697 | C6: OR | D6: 28.02.2023 | E6: 03.03.2023 | F6: 03.03.2023 | G6: 15.02.2022 | H6: 10 | I6: 1
B7: 26820 | C7: OR | D7: 03.03.2023 | E7: 08.03.2023 | F7: 08.03.2023 | G7: 08.03.2023 | H7: 10 | I7: 1 | J7: Reschedule Out (4/6/2023) | K7: No Pushout
B8: 29398 | C8: OR | D8: 07.03.2023 | E8: 10.03.2023 | F8: 10.03.2023 | G8: 10.03.2023 | H8: 10 | I8: 1 | J8: Reschedule Out (4/5/2023) | K8: No Pushout
B9: 20697 | C9: OR | D9: 08.03.2023 | E9: 13.03.2023 | F9: 13.03.2023 | G9: 23.05.2022 | H9: 20 | I9: 1
B10: 26824 | C10: OR | D10: 09.03.2023 | E10: 14.03.2023 | F10: 14.03.2023 | G10: 14.03.2023 | H10: 10 | I10: 1 | J10: Reschedule Out (5/10/2023) | K10: No Pushout
B11: 26817 | C11: OR | D11: 10.03.2023 | E11: 15.03.2023 | F11: 15.03.2023 | G11: 15.03.2023 | H11: 10 | I11: 1 | J11: Reschedule Out (5/8/2023) | K11: No Pushout
B12: 29332 | C12: OR | D12: 15.03.2023 | E12: 20.03.2023 | F12: 20.03.2023 | G12: 20.03.2023 | H12: 10 | I12: 1 | J12: Reschedule Out (5/12/2023) | K12: No Pushout
B13: 24356 | C13: OR | D13: 16.03.2023 | E13: 21.03.2023 | F13: 21.03.2023 | G13: 09.08.2022 | H13: 10 | I13: 1 | J13: Reschedule Out (9/8/2023) | K13: No Pushout
B14: 24358 | C14: OR | D14: 22.03.2023 | E14: 27.03.2023 | F14: 27.03.2023 | G14: 29.08.2022 | H14: 10 | I14: 1 | J14: Reschedule Out (10/12/2023) | K14: No Pushout
B15: 26819 | C15: OR | D15: 23.03.2023 | E15: 28.03.2023 | F15: 28.03.2023 | G15: 06.02.2023 | H15: 10 | I15: 1 | J15: Reschedule Out (11/7/2023) | K15: No Pushout
B16: 26132 | C16: OR | D16: 27.03.2023 | E16: 30.03.2023 | F16: 30.03.2023 | G16: 22.10.2022 | H16: 10 | I16: 1
B17: 26133 | C17: OR | D17: 27.03.2023 | E17: 30.03.2023 | F17: 30.03.2023 | G17: 20.11.2022 | H17: 10 | I17: 1
B18: 26136 | C18: OR | D18: 27.03.2023 | E18: 30.03.2023 | F18: 30.03.2023 | G18: 30.03.2023 | H18: 10 | I18: 1
B19: 26137 | C19: OR | D19: 27.03.2023 | E19: 30.03.2023 | F19: 30.03.2023 | G19: 30.03.2023 | H19: 10 | I19: 1
B20: 28972 | C20: OR | D20: 28.03.2023 | E20: 31.03.2023 | F20: 31.03.2023 | G20: 28.03.2023 | H20: 10 | I20: 1 | J20: Please cancel | K20: Still investigating
B21: 28971 | C21: OR | D21: 28.03.2023 | E21: 31.03.2023 | F21: 31.03.2023 | G21: 31.03.2023 | H21: 10 | I21: 1 | J21: Please cancel | K21: Still investigating
B22: 29054 | C22: OR | D22: 28.03.2023 | E22: 31.03.2023 | F22: 31.03.2023 | G22: 31.03.2023 | H22: 10 | I22: 1 | J22: Reschedule out to May 1 | K22: Still investigating
B23: 29186 | C23: OR | D23: 28.03.2023 | E23: 31.03.2023 | F23: 31.03.2023 | G23: 31.03.2023 | H23: 10 | I23: 1
B24: 29330 | C24: OR | D24: 29.03.2023 | E24: 03.04.2023 | F24: 03.04.2023 | G24: 03.04.2023 | H24: 10 | I24: 1 | J24: Reschedule Out (6/7/2023) | K24: No Pushout
B25: 31661 | C25: OR | D25: 30.03.2023 | E25: 04.04.2023 | F25: 04.04.2023 | G25: 04.04.2023 | H25: 10 | I25: 1 | J25: Reschedule Out (5/6/2023) | K25: No Pushout
B26: 26822 | C26: OR | D26: 31.03.2023 | E26: 05.04.2023 | F26: 05.04.2023 | G26: 13.02.2023 | H26: 10 | I26: 1 | J26: Reschedule Out (12/8/2023) | K26: No Pushout
B27: 24257 | C27: OR | D27: 04.04.2023 | E27: 07.04.2023 | F27: 07.04.2023 | G27: 10.11.2022 | H27: 10 | I27: 1 | J27: Reschedule in to 3/1/2023 | K27: No Pull in possible | L27: Ok, We have enough
B28: 29095 | C28: OR | D28: 04.04.2023 | E28: 10.04.2023 | F28: 10.04.2023 | G28: 10.04.2023 | H28: 10 | I28: 1 | J28: Reschedule Out (6/13/2023) | K28: No Pushout
B29: 32678 | C29: OR | D29: 06.04.2023 | E29: 12.04.2023 | F29: 12.04.2023 | G29: 12.04.2023 | H29: 10 | I29: 1 | J29: Reschedule Out (7/7/2023) | K29: No Pushout
B30: 21202 | C30: OR | D30: 11.04.2023 | E30: 14.04.2023 | F30: 14.04.2023 | G30: 25.04.2022 | H30: 10 | I30: 2 | J30: Reschedule Out (8/9/2023) | K30: No Pushout
B31: 34272 | C31: OR | D31: 12.04.2023 | E31: 17.04.2023 | F31: 17.04.2023 | G31: 06.04.2023 | H31: 10 | I31: 1 | J31: Reschyedule out June 23 | K31: No Pushout
B32: 26810 | C32: OR | D32: 13.04.2023 | E32: 18.04.2023 | F32: 18.04.2023 | G32: 18.04.2023 | H32: 10 | I32: 1 | J32: Reschedule Out (8/9/2023) | K32: No Pushout
B33: 24262 | C33: OR | D33: 19.04.2023 | E33: 24.04.2023 | F33: 24.04.2023 | G33: 11.08.2022 | H33: 10 | I33: 1 | J33: Reschedule Out (8/15/2023) | K33: No Pushout
B34: 24359 | C34: OR | D34: 25.04.2023 | E34: 28.04.2023 | F34: 28.04.2023 | G34: 25.05.2023 | H34: 10 | I34: 1 | J34: Reschedule Out (9/15/2023) | K34: No Pushout
B35: 27326 | C35: OR | D35: 25.04.2023 | E35: 30.04.2023 | F35: 30.04.2023 | G35: 07.03.2023 | H35: 10 | I35: 1
B36: 27327 | C36: OR | D36: 25.04.2023 | E36: 30.04.2023 | F36: 30.04.2023 | G36: 05.04.2023 | H36: 10 | I36: 1
B37: 23300 | C37: OR | D37: 26.04.2023 | E37: 02.05.2023 | F37: 02.05.2023 | G37: 15.09.2022 | H37: 10 | I37: 1 | J37: Please cancel | K37: Still investigating
B38: 29007 | C38: OR | D38: 26.04.2023 | E38: 02.05.2023 | F38: 02.05.2023 | G38: 29.04.2023 | H38: 10 | I38: 1 | J38: Reschedule out to March 3, 2024 | K38: Still investigating
B39: 23297 | C39: OR | D39: 27.04.2023 | E39: 03.05.2023 | F39: 03.05.2023 | G39: 13.10.2022 | H39: 10 | I39: 1 | J39: Please cancel | K39: Still investigating
B40: 24261 | C40: OR | D40: 27.04.2023 | E40: 03.05.2023 | F40: 03.05.2023 | G40: 21.10.2022 | H40: 10 | I40: 1 | J40: Reschedule Out (9/7/2023) | K40: No Pushout
B41: 29326 | C41: OR | D41: 02.05.2023 | E41: 05.05.2023 | F41: 05.05.2023 | G41: 05.05.2023 | H41: 10 | I41: 1 | J41: Reschedule Out (7/7/2023) | K41: No Pushout
B42: 29401 | C42: OR | D42: 02.05.2023 | E42: 05.05.2023 | F42: 05.05.2023 | G42: 05.05.2023 | H42: 10 | I42: 1 | J42: Reschedule Out (7/7/2023) | K42: No Pushout
B43: 28974 | C43: OR | D43: 04.05.2023 | E43: 10.05.2023 | F43: 10.05.2023 | G43: 28.02.2023 | H43: 10 | I43: 1 | J43: Please cancel | K43: Still investigating
B44: 24260 | C44: OR | D44: 05.05.2023 | E44: 11.05.2023 | F44: 11.05.2023 | G44: 10.11.2022 | H44: 10 | I44: 1 | J44: Reschedule Out (9/14/2023) | K44: No Pushout
B45: 27328 | C45: OR | D45: 08.05.2023 | E45: 11.05.2023 | F45: 11.05.2023 | G45: 05.05.2023 | H45: 10 | I45: 1
B46: 29329 | C46: OR | D46: 09.05.2023 | E46: 12.05.2023 | F46: 12.05.2023 | G46: 12.05.2023 | H46: 10 | I46: 1 | J46: Reschedule Out (7/14/2023) | K46: No Pushout
B47: 24335 | C47: OR | D47: 11.05.2023 | E47: 16.05.2023 | F47: 16.05.2023 | G47: 16.11.2022 | H47: 10 | I47: 1 | J47: Reschedule Out (10/10/2023) | K47: No Pushout
B48: 24339 | C48: OR | D48: 15.05.2023 | E48: 19.05.2023 | F48: 19.05.2023 | G48: 06.12.2022 | H48: 10 | I48: 1 | J48: Reschedule Out (10/16/2023) | K48: No Pushout
B49: 27329 | C49: OR | D49: 16.05.2023 | E49: 19.05.2023 | F49: 19.05.2023 | G49: 19.05.2023 | H49: 10 | I49: 1
B50: 38401 | C50: OR | D50: 16.05.2023 | E50: 19.05.2023 | F50: 19.05.2023 | G50: 19.05.2023 | H50: 10 | I50: 1
B51: 24340 | C51: OR | D51: 16.05.2023 | E51: 22.05.2023 | F51: 22.05.2023 | G51: 15.12.2022 | H51: 10 | I51: 1 | J51: Reschedule Out (11/7/2023) | K51: No Pushout
B52: 26826 | C52: OR | D52: 22.05.2023 | E52: 25.05.2023 | F52: 25.05.2023 | G52: 11.01.2023 | H52: 10 | I52: 1 | J52: Reschedule Out (11/14/2023) | K52: No Pushout
B53: 26818 | C53: OR | D53: 24.05.2023 | E53: 30.05.2023 | F53: 30.05.2023 | G53: 08.02.2023 | H53: 10 | I53: 1 | J53: Reschedule Out (12/6/2023) | K53: No Pushout
B54: 26821 | C54: OR | D54: 26.05.2023 | E54: 01.06.2023 | F54: 01.06.2023 | G54: 16.02.2023 | H54: 10 | I54: 1 | J54: Reschedule Out (12/13/2023) | K54: No Pushout
B55: 29403 | C55: OR | D55: 30.05.2023 | E55: 03.06.2023 | F55: 03.06.2023 | G55: 03.06.2023 | H55: 10 | I55: 1 | J55: Reschedule Out (8/9/2023) | K55: No Pushout
B56: 28977 | C56: OR | D56: 01.06.2023 | E56: 06.06.2023 | F56: 28.02.2023 | G56: 31.08.2022 | H56: 10 | I56: 2 | J56: cancel process | K56: Still investigating
B57: 30355 | C57: OR | D57: 02.06.2023 | E57: 07.06.2023 | F57: 07.06.2023 | G57: 30.05.2023 | H57: 10 | I57: 1 | J57: Please cancel | K57: Still investigating
B58: 24258 | C58: OR | D58: 05.06.2023 | E58: 08.06.2023 | F58: 08.06.2023 | G58: 08.12.2022 | H58: 10 | I58: 1 | J58: Please cancel | K58: Still investigating
B59: 31659 | C59: OR | D59: 05.06.2023 | E59: 08.06.2023 | F59: 08.06.2023 | G59: 08.06.2023 | H59: 10 | I59: 1 | J59: Reschedule Out (8/9/2023) | K59: No Pushout
B60: 29553 | C60: OR | D60: 06.06.2023 | E60: 09.06.2023 | F60: 09.06.2023 | G60: 01.06.2023 | H60: 10 | I60: 1
B61: 32686 | C61: OR | D61: 09.06.2023 | E61: 14.06.2023 | F61: 14.06.2023 | G61: 14.06.2023 | H61: 10 | I61: 1 | J61: Reschedule Out (9/7/2023) | K61: No Pushout
B62: 30352 | C62: OR | D62: 20.06.2023 | E62: 23.06.2023 | F62: 23.06.2023 | G62: 23.06.2023 | H62: 10 | I62: 1 | J62: Please cancel | K62: Still investigating
B63: 30354 | C63: OR | D63: 22.06.2023 | E63: 27.06.2023 | F63: 27.06.2023 | G63: 27.06.2023 | H63: 10 | I63: 1 | J63: Please cancel | K63: Still investigating
B64: 28981 | C64: OR | D64: 26.06.2023 | E64: 29.06.2023 | F64: 29.06.2023 | G64: 30.09.2022 | H64: 10 | I64: 1 | J64: cancel process | K64: Still investigating
B65: 29569 | C65: OR | D65: 27.06.2023 | E65: 30.06.2023 | F65: 30.06.2023 | G65: 31.01.2023 | H65: 10 | I65: 1 | J65: Please cancel | K65: Still investigating
B66: 29566 | C66: OR | D66: 27.06.2023 | E66: 30.06.2023 | F66: 30.06.2023 | G66: 28.02.2023 | H66: 10 | I66: 1 | J66: Please cancel | K66: Still investigating
B67: 29571 | C67: OR | D67: 27.06.2023 | E67: 30.06.2023 | F67: 30.06.2023 | G67: 01.06.2023 | H67: 10 | I67: 1 | J67: Please cancel | K67: Still investigating
B68: 29052 | C68: OR | D68: 27.06.2023 | E68: 30.06.2023 | F68: 30.06.2023 | G68: 30.06.2023 | H68: 10 | I68: 1 | J68: Reschedule out to July 15 | K68: Still investigating
B69: 30366 | C69: OR | D69: 29.06.2023 | E69: 04.07.2023 | F69: 04.07.2023 | G69: 25.04.2023 | H69: 10 | I69: 1 | J69: Please cancel | K69: Still investigating
B70: 30357 | C70: OR | D70: 29.06.2023 | E70: 04.07.2023 | F70: 04.07.2023 | G70: 29.04.2023 | H70: 10 | I70: 1 | J70: Please cancel | K70: Still investigating
B71: 32684 | C71: OR | D71: 03.07.2023 | E71: 06.07.2023 | F71: 06.07.2023 | G71: 06.07.2023 | H71: 10 | I71: 1 | J71: Reschedule Out (9/7/2023) | K71: No Pushout
B72: 34269 | C72: OR | D72: 03.07.2023 | E72: 06.07.2023 | F72: 06.07.2023 | G72: 06.07.2023 | H72: 10 | I72: 1 | J72: Reschedule out Aug 18 | K72: No Pushout
B73: 38402 | C73: OR | D73: 04.07.2023 | E73: 07.07.2023 | F73: 07.07.2023 | G73: 07.07.2023 | H73: 10 | I73: 1 | J73: Reschedule in | K73: Please advise new requested date | L73: 45190
B74: 33642 | C74: OR | D74: 07.07.2023 | E74: 12.07.2023 | F74: 12.07.2023 | G74: 12.07.2023 | H74: 10 | I74: 1 | J74: Reschedule out | K74: No Pushout | L74: Please cancel
B75: 29076 | C75: OR | D75: 25.07.2023 | E75: 28.07.2023 | F75: 28.07.2023 | G75: 30.09.2022 | H75: 10 | I75: 1 | J75: Reschedule out to Sept 5 | K75: Still investigating
B76: 29046 | C76: OR | D76: 25.07.2023 | E76: 28.07.2023 | F76: 28.07.2023 | G76: 30.11.2022 | H76: 10 | I76: 1 | J76: Please cancel | K76: Still investigating
B77: 29047 | C77: OR | D77: 25.07.2023 | E77: 28.07.2023 | F77: 28.07.2023 | G77: 30.11.2022 | H77: 10 | I77: 1 | J77: Please cancel | K77: Still investigating
B78: 29030 | C78: OR | D78: 25.07.2023 | E78: 28.07.2023 | F78: 28.07.2023 | G78: 31.12.2022 | H78: 10 | I78: 1 | J78: Reschedule out | K78: Please advise new requested date | L78: Please cancel
B79: 29002 | C79: OR | D79: 25.07.2023 | E79: 28.07.2023 | F79: 28.07.2023 | G79: 31.01.2023 | H79: 10 | I79: 1 | J79: Reschedule out | K79: Please advise new requested date | L79: Please cancel
B80: 29067 | C80: OR | D80: 25.07.2023 | E80: 28.07.2023 | F80: 28.07.2023 | G80: 31.01.2023 | H80: 10 | I80: 1 | J80: Please cancel | K80: Still investigating
B81: 29068 | C81: OR | D81: 25.07.2023 | E81: 28.07.2023 | F81: 28.07.2023 | G81: 31.01.2023 | H81: 10 | I81: 1 | J81: Please cancel | K81: Still investigating
B82: 29069 | C82: OR | D82: 25.07.2023 | E82: 28.07.2023 | F82: 28.07.2023 | G82: 31.01.2023 | H82: 10 | I82: 1 | J82: Please cancel | K82: Still investigating
B83: 29004 | C83: OR | D83: 25.07.2023 | E83: 28.07.2023 | F83: 28.07.2023 | G83: 28.02.2023 | H83: 10 | I83: 1 | J83: Reschedule out | K83: Please advise new requested date | L83: Please cancel
B84: 29062 | C84: OR | D84: 25.07.2023 | E84: 28.07.2023 | F84: 28.07.2023 | G84: 28.02.2023 | H84: 10 | I84: 1 | J84: Please cancel | K84: Still investigating
B85: 29006 | C85: OR | D85: 25.07.2023 | E85: 28.07.2023 | F85: 28.07.2023 | G85: 31.03.2023 | H85: 10 | I85: 1 | J85: Reschedule out | K85: Please advise new requested date | L85: Please cancel
B86: 29008 | C86: OR | D86: 25.07.2023 | E86: 28.07.2023 | F86: 28.07.2023 | G86: 29.04.2023 | H86: 10 | I86: 1 | J86: Reschedule out | K86: Please advise new requested date | L86: Please cancel
B87: 29009 | C87: OR | D87: 25.07.2023 | E87: 28.07.2023 | F87: 28.07.2023 | G87: 31.05.2023 | H87: 10 | I87: 1 | J87: Reschedule out | K87: Please advise new requested date | L87: Please cancel
B88: 29011 | C88: OR | D88: 25.07.2023 | E88: 28.07.2023 | F88: 28.07.2023 | G88: 30.06.2023 | H88: 10 | I88: 1 | J88: Reschedule out | K88: Please advise new requested date | L88: Please cancel
B89: 29014 | C89: OR | D89: 26.07.2023 | E89: 31.07.2023 | F89: 31.07.2023 | G89: 31.07.2023 | H89: 10 | I89: 1 | J89: Reschedule out | K89: Please advise new requested date | L89: Please cancel
B90: 29017 | C90: OR | D90: 26.07.2023 | E90: 31.07.2023 | F90: 31.07.2023 | G90: 31.07.2023 | H90: 10 | I90: 1 | J90: Please cancel | K90: Still investigating
B91: 29036 | C91: OR | D91: 26.07.2023 | E91: 31.07.2023 | F91: 31.07.2023 | G91: 31.07.2023 | H91: 10 | I91: 1 | J91: Please cancel | K91: Still investigating
B92: 32687 | C92: OR | D92: 02.08.2023 | E92: 07.08.2023 | F92: 07.08.2023 | G92: 07.08.2023 | H92: 10 | I92: 1 | J92: Reschedule Out (10/6/2023) | K92: No Pushout
B93: 33653 | C93: OR | D93: 08.08.2023 | E93: 11.08.2023 | F93: 11.08.2023 | G93: 11.08.2023 | H93: 10 | I93: 1 | J93: Reschedule out | K93: No Pushout | L93: Please cancel
B94: 22753 | C94: OR | D94: 09.08.2023 | E94: 14.08.2023 | F94: 14.08.2023 | G94: 14.08.2023 | H94: 10 | I94: 1 | J94: Keep as is
B95: 29056 | C95: OR | D95: 22.08.2023 | E95: 25.08.2023 | F95: 25.08.2023 | G95: 28.12.2022 | H95: 10 | I95: 1 | J95: Cancelled as per Feb 03 meeting | K95: Still investigating
B96: 29053 | C96: OR | D96: 22.08.2023 | E96: 25.08.2023 | F96: 25.08.2023 | G96: 31.12.2022 | H96: 10 | I96: 1 | J96: Cancelled as per Feb 03 meeting | K96: Still investigating
B97: 29060 | C97: OR | D97: 22.08.2023 | E97: 25.08.2023 | F97: 25.08.2023 | G97: 31.12.2022 | H97: 10 | I97: 1 | J97: Cancelled as per Feb 03 meeting | K97: Still investigating
B98: 29061 | C98: OR | D98: 22.08.2023 | E98: 25.08.2023 | F98: 25.08.2023 | G98: 31.12.2022 | H98: 10 | I98: 1 | J98: Cancelled as per Feb 03 meeting | K98: Still investigating
B99: 29063 | C99: OR | D99: 22.08.2023 | E99: 25.08.2023 | F99: 25.08.2023 | G99: 31.12.2022 | H99: 10 | I99: 1 | J99: Cancelled as per Feb 03 meeting | K99: Still investigating
B100: 29065 | C100: OR | D100: 22.08.2023 | E100: 25.08.2023 | F100: 25.08.2023 | G100: 31.12.2022 | H100: 10 | I100: 1 | J100: Cancelled as per Feb 03 meeting | K100: Still investigating
B101: 29070 | C101: OR | D101: 22.08.2023 | E101: 25.08.2023 | F101: 25.08.2023 | G101: 28.02.2023 | H101: 10 | I101: 1 | J101: Cancelled as per Feb 03 meeting | K101: Still investigating
B102: 29057 | C102: OR | D102: 22.08.2023 | E102: 25.08.2023 | F102: 25.08.2023 | G102: 31.03.2023 | H102: 10 | I102: 1 | J102: Cancelled as per Feb 03 meeting | K102: Still investigating
B103: 29066 | C103: OR | D103: 22.08.2023 | E103: 25.08.2023 | F103: 25.08.2023 | G103: 31.03.2023 | H103: 10 | I103: 1 | J103: Cancelled as per Feb 03 meeting | K103: Still investigating
B104: 29059 | C104: OR | D104: 22.08.2023 | E104: 25.08.2023 | F104: 25.08.2023 | G104: 29.04.2023 | H104: 10 | I104: 1 | J104: Cancelled as per Feb 03 meeting | K104: Still investigating
...
