Workbook

Sheet Données
A1: FA | B1: valeur 1 | C1: valeur 2
A2: 1 | B2: A | C2: 10
A3: 1 | B3: B | C3: 12
A4: 2 | B4: C | C4: 8
A5: 2 | B5: D | C5: 6
A6: 3 | B6: E | C6: 7
A7: 3 | B7: F | C7: 10

Sheet Résultat
A1: FA | B1: R1 | C1: Coordonnées | D1: OU ALORS
A2: 1 | B2: =INDEX(Données!$C$2:$C$7,MATCH(Résultat!A2,Données!$A$2:$A$7,0)) -> 10 | C2: B2 | D2: {=IFERROR(INDEX(Données!$C$2:$C$7,MATCH(LEFT(C2,1)&RIGHT(C2,1)*1,Données!$B$2:$B$7&Données!$A$2:$A$7,0)),"")}
A3: 1 | B3: =INDEX(Données!$C$2:$C$7,MATCH(Résultat!A3,Données!$A$2:$A$7,0)) -> 10 | C3: C2 | D3: {=IFERROR(INDEX(Données!$C$2:$C$7,MATCH(LEFT(C3,1)&RIGHT(C3,1)*1,Données!$B$2:$B$7&Données!$A$2:$A$7,0)),"")} -> 8
A4: 1 | B4: =INDEX(Données!$C$2:$C$7,MATCH(Résultat!A4,Données!$A$2:$A$7,0)) -> 10 | C4: B3 | D4: {=IFERROR(INDEX(Données!$C$2:$C$7,MATCH(LEFT(C4,1)&RIGHT(C4,1)*1,Données!$B$2:$B$7&Données!$A$2:$A$7,0)),"")}
A5: 1 | B5: =INDEX(Données!$C$2:$C$7,MATCH(Résultat!A5,Données!$A$2:$A$7,0)) -> 10 | C5: C3 | D5: {=IFERROR(INDEX(Données!$C$2:$C$7,MATCH(LEFT(C5,1)&RIGHT(C5,1)*1,Données!$B$2:$B$7&Données!$A$2:$A$7,0)),"")}
A6: 2 | B6: =INDEX(Données!$C$2:$C$7,MATCH(Résultat!A6,Données!$A$2:$A$7,0)) -> 8 | C6: B4 | D6: {=IFERROR(INDEX(Données!$C$2:$C$7,MATCH(LEFT(C6,1)&RIGHT(C6,1)*1,Données!$B$2:$B$7&Données!$A$2:$A$7,0)),"")}
A7: 2 | B7: =INDEX(Données!$C$2:$C$7,MATCH(Résultat!A7,Données!$A$2:$A$7,0)) -> 8 | C7: C4 | D7: {=IFERROR(INDEX(Données!$C$2:$C$7,MATCH(LEFT(C7,1)&RIGHT(C7,1)*1,Données!$B$2:$B$7&Données!$A$2:$A$7,0)),"")}
A8: 2 | B8: =INDEX(Données!$C$2:$C$7,MATCH(Résultat!A8,Données!$A$2:$A$7,0)) -> 8 | C8: B5 | D8: {=IFERROR(INDEX(Données!$C$2:$C$7,MATCH(LEFT(C8,1)&RIGHT(C8,1)*1,Données!$B$2:$B$7&Données!$A$2:$A$7,0)),"")}
A9: 2 | B9: =INDEX(Données!$C$2:$C$7,MATCH(Résultat!A9,Données!$A$2:$A$7,0)) -> 8 | C9: C5 | D9: {=IFERROR(INDEX(Données!$C$2:$C$7,MATCH(LEFT(C9,1)&RIGHT(C9,1)*1,Données!$B$2:$B$7&Données!$A$2:$A$7,0)),"")}
A10: 3 | B10: =INDEX(Données!$C$2:$C$7,MATCH(Résultat!A10,Données!$A$2:$A$7,0)) -> 7 | C10: B6 | D10: {=IFERROR(INDEX(Données!$C$2:$C$7,MATCH(LEFT(C10,1)&RIGHT(C10,1)*1,Données!$B$2:$B$7&Données!$A$2:$A$7,0)),"")}
A11: 3 | B11: =INDEX(Données!$C$2:$C$7,MATCH(Résultat!A11,Données!$A$2:$A$7,0)) -> 7 | C11: C6 | D11: {=IFERROR(INDEX(Données!$C$2:$C$7,MATCH(LEFT(C11,1)&RIGHT(C11,1)*1,Données!$B$2:$B$7&Données!$A$2:$A$7,0)),"")}
A12: 3 | B12: =INDEX(Données!$C$2:$C$7,MATCH(Résultat!A12,Données!$A$2:$A$7,0)) -> 7 | C12: B7 | D12: {=IFERROR(INDEX(Données!$C$2:$C$7,MATCH(LEFT(C12,1)&RIGHT(C12,1)*1,Données!$B$2:$B$7&Données!$A$2:$A$7,0)),"")}
A13: 3 | B13: =INDEX(Données!$C$2:$C$7,MATCH(Résultat!A13,Données!$A$2:$A$7,0)) -> 7 | C13: C7 | D13: {=IFERROR(INDEX(Données!$C$2:$C$7,MATCH(LEFT(C13,1)&RIGHT(C13,1)*1,Données!$B$2:$B$7&Données!$A$2:$A$7,0)),"")}
