Workbook
Name Clients: [1]clients!$C$2:$W$98
Name rubriques: [1]rubriques!$B$5:$I$53

Sheet 2022
E1: Journal | F1: 2022 | H1: caisse | I1: =+H2-I2+H3 -> 1240 | J1: Banque | K1: =+J2-K2+J3 -> -1050.48 | L1: =+I1+K1 -> 189.52 | P1: =+F1 -> 2022 | Q1: caisse | S1: Banque
G2: cloture 2022 | H2: =SUM(H7:H100) -> 1190 | I2: =SUM(I7:I227) -> 0 | J2: =SUM(J7:J227) -> 70 | K2: =SUM(K6:K100) -> 1576.48 | Q2: entrée | R2: sortie | S2: entrée | T2: sortie | U2: Prêt
G3: cloture 2021 | H3: 50 | J3: 456 | P3: cloture 2021 | Q3: =+H3 -> 50 | S3: =+J3 -> 456
D4: N° | H4: Caisse | J4: Banque | N4: Km | P4: *22 | Q4: =SUMIF($B:$B,$P4,$H:$H) -> 1190 | R4: =SUMIF($B:$B,$P4,$I:$I) -> 0 | S4: =SUMIF($B:$B,$P4,$J:$J) -> 70 | T4: =SUMIF($B:$B,$P4,$K:$K) -> 1576.48
A5: 2022 | C5: Date | D5: pièce | E5: Tiers | F5: Libellé | H5: entrée | I5: sortie | J5: entrée | K5: sortie | L5: rubriques | N5: =SUM(N6:N216) -> 21.4 | Q5: =+Q4-R4+Q3 -> 1240 | S5: =+S4-T4+S3 -> -1050.48
A6: 452 | B6: =IF(C6,TEXT(C6,"MM-AA"),".") -> 01-22 | C6: =+'[1]journal de caisse'!B452 -> 44565 | D6: =IF(ISNUMBER(+'[1]journal de caisse'!C452),+'[1]journal de caisse'!C452,"-") -> 1 | E6: =IF(ISTEXT(+'[1]journal de caisse'!D452),+'[1]journal de caisse'!D452,".") -> voo | F6: =IF(ISTEXT(+'[1]journal de caisse'!E452),+'[1]journal de caisse'!E452,".") -> abonnement tél | G6: =IF(+'[1]journal de caisse'!F452,+'[1]journal de caisse'!F452,".") -> 44531 | H6: =IF(+'[1]journal de caisse'!G452,+'[1]journal de caisse'!G452,".") -> . | I6: =IF(+'[1]journal de caisse'!H452,+'[1]journal de caisse'!H452,".") -> . | J6: =IF(+'[1]journal de caisse'!I452,+'[1]journal de caisse'!I452,".") -> . | K6: =IF(+'[1]journal de caisse'!J452,+'[1]journal de caisse'!J452,".") -> 12 | L6: =IF(ISTEXT(+'[1]journal de caisse'!K452),+'[1]journal de caisse'!K452,".") -> abonnement tél | M6: =IF(ISTEXT(L6),IF(ISERROR(VLOOKUP(L6,rubriques,8,FALSE)),"Nouv",VLOOKUP(L6,rubriques,8,FALSE)),".") -> v | N6: =+'[1]journal de caisse'!M452 -> 0 | O6: =IF(ISTEXT(L6),VLOOKUP(L6,[1]rubriques!$B$6:$H$51,7,FALSE),".") -> F08 | P6: cloture année | Q6: =+Q5-R5 -> 1240 | S6: =+S5-T5 -> -1050.48 | T6: Total=> | U6: =SUM(Q6:S6) -> 189.52
A7: 453 | B7: =IF(C7,TEXT(C7,"MM-AA"),".") -> 01-22 | C7: =+'[1]journal de caisse'!B453 -> 44565 | D7: =IF(ISNUMBER(+'[1]journal de caisse'!C453),+'[1]journal de caisse'!C453,"-") -> 2 | E7: =IF(ISTEXT(+'[1]journal de caisse'!D453),+'[1]journal de caisse'!D453,".") -> UPBPF | F7: =IF(ISTEXT(+'[1]journal de caisse'!E453),+'[1]journal de caisse'!E453,".") -> cotisation 2022 | G7: =IF(+'[1]journal de caisse'!F453,+'[1]journal de caisse'!F453,".") -> 44562 | H7: =IF(+'[1]journal de caisse'!G453,+'[1]journal de caisse'!G453,".") -> . | I7: =IF(+'[1]journal de caisse'!H453,+'[1]journal de caisse'!H453,".") -> . | J7: =IF(+'[1]journal de caisse'!I453,+'[1]journal de caisse'!I453,".") -> . | K7: =IF(+'[1]journal de caisse'!J453,+'[1]journal de caisse'!J453,".") -> 80 | L7: =IF(ISTEXT(+'[1]journal de caisse'!K453),+'[1]journal de caisse'!K453,".") -> adhésion | M7: =IF(ISTEXT(L7),IF(ISERROR(VLOOKUP(L7,rubriques,8,FALSE)),"Nouv",VLOOKUP(L7,rubriques,8,FALSE)),".") -> v | N7: =+'[1]journal de caisse'!M453 -> 0 | O7: =IF(ISTEXT(L7),VLOOKUP(L7,[1]rubriques!$B$6:$H$51,7,FALSE),".") -> F04
A8: 454 | B8: =IF(C8,TEXT(C8,"MM-AA"),".") -> 01-22 | C8: =+'[1]journal de caisse'!B454 -> 44565 | D8: =IF(ISNUMBER(+'[1]journal de caisse'!C454),+'[1]journal de caisse'!C454,"-") -> 3 | E8: =IF(ISTEXT(+'[1]journal de caisse'!D454),+'[1]journal de caisse'!D454,".") -> lessive | F8: =IF(ISTEXT(+'[1]journal de caisse'!E454),+'[1]journal de caisse'!E454,".") -> coût lessive 2021 | G8: =IF(+'[1]journal de caisse'!F454,+'[1]journal de caisse'!F454,".") -> 44197 | H8: =IF(+'[1]journal de caisse'!G454,+'[1]journal de caisse'!G454,".") -> . | I8: =IF(+'[1]journal de caisse'!H454,+'[1]journal de caisse'!H454,".") -> . | J8: =IF(+'[1]journal de caisse'!I454,+'[1]journal de caisse'!I454,".") -> . | K8: =IF(+'[1]journal de caisse'!J454,+'[1]journal de caisse'!J454,".") -> 1131.58 | L8: =IF(ISTEXT(+'[1]journal de caisse'!K454),+'[1]journal de caisse'!K454,".") -> lessive | M8: =IF(ISTEXT(L8),IF(ISERROR(VLOOKUP(L8,rubriques,8,FALSE)),"Nouv",VLOOKUP(L8,rubriques,8,FALSE)),".") -> v | N8: =+'[1]journal de caisse'!M454 -> 0 | O8: =IF(ISTEXT(L8),VLOOKUP(L8,[1]rubriques!$B$6:$H$51,7,FALSE),".") -> F14 | P8: cloture 2021 | Q8: caisse | R8: =+Q10-R10 -> 1190 | S8: banque | T8: =+S10-T10 -> -256.49
A9: 455 | B9: =IF(C9,TEXT(C9,"MM-AA"),".") -> 01-22 | C9: =+'[1]journal de caisse'!B455 -> 44565 | D9: =IF(ISNUMBER(+'[1]journal de caisse'!C455),+'[1]journal de caisse'!C455,"-") -> 4 | E9: =IF(ISTEXT(+'[1]journal de caisse'!D455),+'[1]journal de caisse'!D455,".") -> trajet | F9: =IF(ISTEXT(+'[1]journal de caisse'!E455),+'[1]journal de caisse'!E455,".") -> coût trajet 2021 | G9: =IF(+'[1]journal de caisse'!F455,+'[1]journal de caisse'!F455,".") -> 44197 | H9: =IF(+'[1]journal de caisse'!G455,+'[1]journal de caisse'!G455,".") -> . | I9: =IF(+'[1]journal de caisse'!H455,+'[1]journal de caisse'!H455,".") -> . | J9: =IF(+'[1]journal de caisse'!I455,+'[1]journal de caisse'!I455,".") -> . | K9: =IF(+'[1]journal de caisse'!J455,+'[1]journal de caisse'!J455,".") -> 118.41 | L9: =IF(ISTEXT(+'[1]journal de caisse'!K455),+'[1]journal de caisse'!K455,".") -> Km | M9: =IF(ISTEXT(L9),IF(ISERROR(VLOOKUP(L9,rubriques,8,FALSE)),"Nouv",VLOOKUP(L9,rubriques,8,FALSE)),".") -> v | N9: =+'[1]journal de caisse'!M455 -> 0 | O9: =IF(ISTEXT(L9),VLOOKUP(L9,[1]rubriques!$B$6:$H$51,7,FALSE),".") -> F15 | P9: lien extérieur rubrique | Q9: entrées | R9: sorties | S9: entrées | T9: sorties | U9: =SUM(U11:U42) -> 930.3 | V9: rubrique
A10: 456 | B10: =IF(C10,TEXT(C10,"MM-AA"),".") -> 01-22 | C10: =+'[1]journal de caisse'!B456 -> 44565 | D10: =IF(ISNUMBER(+'[1]journal de caisse'!C456),+'[1]journal de caisse'!C456,"-") -> - | E10: =IF(ISTEXT(+'[1]journal de caisse'!D456),+'[1]journal de caisse'!D456,".") -> cabinet | F10: =IF(ISTEXT(+'[1]journal de caisse'!E456),+'[1]journal de caisse'!E456,".") -> consultation | G10: =IF(+'[1]journal de caisse'!F456,+'[1]journal de caisse'!F456,".") -> . | H10: =IF(+'[1]journal de caisse'!G456,+'[1]journal de caisse'!G456,".") -> 40 | I10: =IF(+'[1]journal de caisse'!H456,+'[1]journal de caisse'!H456,".") -> . | J10: =IF(+'[1]journal de caisse'!I456,+'[1]journal de caisse'!I456,".") -> . | K10: =IF(+'[1]journal de caisse'!J456,+'[1]journal de caisse'!J456,".") -> . | L10: =IF(ISTEXT(+'[1]journal de caisse'!K456),+'[1]journal de caisse'!K456,".") -> recette | M10: =IF(ISTEXT(L10),IF(ISERROR(VLOOKUP(L10,rubriques,8,FALSE)),"Nouv",VLOOKUP(L10,rubriques,8,FALSE)),".") -> v | N10: =+'[1]journal de caisse'!M456 -> 0 | O10: =IF(ISTEXT(L10),VLOOKUP(L10,[1]rubriques!$B$6:$H$51,7,FALSE),".") -> R1 | P10: rubriques | Q10: =SUM(Q11:Q41) -> 1190 | R10: =SUM(R11:R42) -> 0 | S10: =SUM(S11:S42) -> 70 | T10: =SUM(T11:T42) -> 326.49 | U10: balance | V10: code
A11: 457 | B11: =IF(C11,TEXT(C11,"MM-AA"),".") -> 01-22 | C11: =+'[1]journal de caisse'!B457 -> 44567 | D11: =IF(ISNUMBER(+'[1]journal de caisse'!C457),+'[1]journal de caisse'!C457,"-") -> - | E11: =IF(ISTEXT(+'[1]journal de caisse'!D457),+'[1]journal de caisse'!D457,".") -> cabinet | F11: =IF(ISTEXT(+'[1]journal de caisse'!E457),+'[1]journal de caisse'!E457,".") -> consultation | G11: =IF(+'[1]journal de caisse'!F457,+'[1]journal de caisse'!F457,".") -> . | H11: =IF(+'[1]journal de caisse'!G457,+'[1]journal de caisse'!G457,".") -> 70 | I11: =IF(+'[1]journal de caisse'!H457,+'[1]journal de caisse'!H457,".") -> . | J11: =IF(+'[1]journal de caisse'!I457,+'[1]journal de caisse'!I457,".") -> . | K11: =IF(+'[1]journal de caisse'!J457,+'[1]journal de caisse'!J457,".") -> . | L11: =IF(ISTEXT(+'[1]journal de caisse'!K457),+'[1]journal de caisse'!K457,".") -> recette | M11: =IF(ISTEXT(L11),IF(ISERROR(VLOOKUP(L11,rubriques,8,FALSE)),"Nouv",VLOOKUP(L11,rubriques,8,FALSE)),".") -> v | N11: =+'[1]journal de caisse'!M457 -> 0 | O11: =IF(ISTEXT(L11),VLOOKUP(L11,[1]rubriques!$B$6:$H$51,7,FALSE),".") -> R1 | P11: =+[1]rubriques!B6 -> abonnement tél | Q11: =IF(ISTEXT($P11),SUMIF($L:$L,$P11,H:H),".") -> 0 | R11: =IF(ISTEXT($P11),SUMIF($L:$L,$P11,I:I),".") -> 0 | S11: =IF(ISTEXT($P11),SUMIF($L:$L,$P11,J:J),".") -> 0 | T11: =IF(ISTEXT($P11),SUMIF($L:$L,$P11,K:K),".") -> 89 | U11: =IF(ISTEXT(P11),+(Q11+S11)-(+R11+T11),".") -> -89 | V11: =IF(P11="x",".",VLOOKUP(P11,rubriques,7,FALSE)) -> F08
A12: 476 | B12: =IF(C12,TEXT(C12,"MM-AA"),".") -> 02-22 | C12: =+'[1]journal de caisse'!B476 -> 44593 | D12: =IF(ISNUMBER(+'[1]journal de caisse'!C476),+'[1]journal de caisse'!C476,"-") -> 7 | E12: =IF(ISTEXT(+'[1]journal de caisse'!D476),+'[1]journal de caisse'!D476,".") -> voo | F12: =IF(ISTEXT(+'[1]journal de caisse'!E476),+'[1]journal de caisse'!E476,".") -> abonnement tél | G12: =IF(+'[1]journal de caisse'!F476,+'[1]journal de caisse'!F476,".") -> 44562 | H12: =IF(+'[1]journal de caisse'!G476,+'[1]journal de caisse'!G476,".") -> . | I12: =IF(+'[1]journal de caisse'!H476,+'[1]journal de caisse'!H476,".") -> . | J12: =IF(+'[1]journal de caisse'!I476,+'[1]journal de caisse'!I476,".") -> . | K12: =IF(+'[1]journal de caisse'!J476,+'[1]journal de caisse'!J476,".") -> 12 | L12: =IF(ISTEXT(+'[1]journal de caisse'!K476),+'[1]journal de caisse'!K476,".") -> abonnement tél | M12: =IF(ISTEXT(L12),IF(ISERROR(VLOOKUP(L12,rubriques,8,FALSE)),"Nouv",VLOOKUP(L12,rubriques,8,FALSE)),".") -> v | N12: =+'[1]journal de caisse'!M476 -> 0 | O12: =IF(ISTEXT(L12),VLOOKUP(L12,[1]rubriques!$B$6:$H$51,7,FALSE),".") -> F08 | P12: =+[1]rubriques!B7 -> adhésion | Q12: =IF(ISTEXT($P12),SUMIF($L:$L,$P12,H:H),".") -> 0 | R12: =IF(ISTEXT($P12),SUMIF($L:$L,$P12,I:I),".") -> 0 | S12: =IF(ISTEXT($P12),SUMIF($L:$L,$P12,J:J),".") -> 0 | T12: =IF(ISTEXT($P12),SUMIF($L:$L,$P12,K:K),".") -> 80 | U12: =IF(ISTEXT(P12),+(Q12+S12)-(+R12+T12),".") -> -80 | V12: =IF(P12="x",".",VLOOKUP(P12,rubriques,7,FALSE)) -> F04
A13: 477 | B13: =IF(C13,TEXT(C13,"MM-AA"),".") -> 02-22 | C13: =+'[1]journal de caisse'!B477 -> 44600 | D13: =IF(ISNUMBER(+'[1]journal de caisse'!C477),+'[1]journal de caisse'!C477,"-") -> - | E13: =IF(ISTEXT(+'[1]journal de caisse'!D477),+'[1]journal de caisse'!D477,".") -> cabinet | F13: =IF(ISTEXT(+'[1]journal de caisse'!E477),+'[1]journal de caisse'!E477,".") -> consultation | G13: =IF(+'[1]journal de caisse'!F477,+'[1]journal de caisse'!F477,".") -> . | H13: =IF(+'[1]journal de caisse'!G477,+'[1]journal de caisse'!G477,".") -> 40 | I13: =IF(+'[1]journal de caisse'!H477,+'[1]journal de caisse'!H477,".") -> . | J13: =IF(+'[1]journal de caisse'!I477,+'[1]journal de caisse'!I477,".") -> . | K13: =IF(+'[1]journal de caisse'!J477,+'[1]journal de caisse'!J477,".") -> . | L13: =IF(ISTEXT(+'[1]journal de caisse'!K477),+'[1]journal de caisse'!K477,".") -> recette | M13: =IF(ISTEXT(L13),IF(ISERROR(VLOOKUP(L13,rubriques,8,FALSE)),"Nouv",VLOOKUP(L13,rubriques,8,FALSE)),".") -> v | N13: =+'[1]journal de caisse'!M477 -> 0 | O13: =IF(ISTEXT(L13),VLOOKUP(L13,[1]rubriques!$B$6:$H$51,7,FALSE),".") -> R1 | P13: =+[1]rubriques!B8 -> aménagement | Q13: =IF(ISTEXT($P13),SUMIF($L:$L,$P13,H:H),".") -> 0 | R13: =IF(ISTEXT($P13),SUMIF($L:$L,$P13,I:I),".") -> 0 | S13: =IF(ISTEXT($P13),SUMIF($L:$L,$P13,J:J),".") -> 0 | T13: =IF(ISTEXT($P13),SUMIF($L:$L,$P13,K:K),".") -> 0 | U13: =IF(ISTEXT(P13),+(Q13+S13)-(+R13+T13),".") -> 0 | V13: =IF(P13="x",".",VLOOKUP(P13,rubriques,7,FALSE)) -> F01
A14: 478 | B14: =IF(C14,TEXT(C14,"MM-AA"),".") -> 02-22 | C14: =+'[1]journal de caisse'!B478 -> 44601 | D14: =IF(ISNUMBER(+'[1]journal de caisse'!C478),+'[1]journal de caisse'!C478,"-") -> 8 | E14: =IF(ISTEXT(+'[1]journal de caisse'!D478),+'[1]journal de caisse'!D478,".") -> electrabel | F14: =IF(ISTEXT(+'[1]journal de caisse'!E478),+'[1]journal de caisse'!E478,".") -> gaz électricité Fac inter | G14: =IF(+'[1]journal de caisse'!F478,+'[1]journal de caisse'!F478,".") -> 44562 | H14: =IF(+'[1]journal de caisse'!G478,+'[1]journal de caisse'!G478,".") -> . | I14: =IF(+'[1]journal de caisse'!H478,+'[1]journal de caisse'!H478,".") -> . | J14: =IF(+'[1]journal de caisse'!I478,+'[1]journal de caisse'!I478,".") -> . | K14: =IF(+'[1]journal de caisse'!J478,+'[1]journal de caisse'!J478,".") -> 50.17 | L14: =IF(ISTEXT(+'[1]journal de caisse'!K478),+'[1]journal de caisse'!K478,".") -> electrabel | M14: =IF(ISTEXT(L14),IF(ISERROR(VLOOKUP(L14,rubriques,8,FALSE)),"Nouv",VLOOKUP(L14,rubriques,8,FALSE)),".") -> v | N14: =+'[1]journal de caisse'!M478 -> 0 | O14: =IF(ISTEXT(L14),VLOOKUP(L14,[1]rubriques!$B$6:$H$51,7,FALSE),".") -> F02 | P14: =+[1]rubriques!B9 -> assurance | Q14: =IF(ISTEXT($P14),SUMIF($L:$L,$P14,H:H),".") -> 0 | R14: =IF(ISTEXT($P14),SUMIF($L:$L,$P14,I:I),".") -> 0 | S14: =IF(ISTEXT($P14),SUMIF($L:$L,$P14,J:J),".") -> 0 | T14: =IF(ISTEXT($P14),SUMIF($L:$L,$P14,K:K),".") -> 0 | U14: =IF(ISTEXT(P14),+(Q14+S14)-(+R14+T14),".") -> 0 | V14: =IF(P14="x",".",VLOOKUP(P14,rubriques,7,FALSE)) -> F05
A15: 479 | B15: =IF(C15,TEXT(C15,"MM-AA"),".") -> 02-22 | C15: =+'[1]journal de caisse'!B479 -> 44601 | D15: =IF(ISNUMBER(+'[1]journal de caisse'!C479),+'[1]journal de caisse'!C479,"-") -> - | E15: =IF(ISTEXT(+'[1]journal de caisse'!D479),+'[1]journal de caisse'!D479,".") -> cabinet | F15: =IF(ISTEXT(+'[1]journal de caisse'!E479),+'[1]journal de caisse'!E479,".") -> consultation | G15: =IF(+'[1]journal de caisse'!F479,+'[1]journal de caisse'!F479,".") -> . | H15: =IF(+'[1]journal de caisse'!G479,+'[1]journal de caisse'!G479,".") -> 80 | I15: =IF(+'[1]journal de caisse'!H479,+'[1]journal de caisse'!H479,".") -> . | J15: =IF(+'[1]journal de caisse'!I479,+'[1]journal de caisse'!I479,".") -> . | K15: =IF(+'[1]journal de caisse'!J479,+'[1]journal de caisse'!J479,".") -> . | L15: =IF(ISTEXT(+'[1]journal de caisse'!K479),+'[1]journal de caisse'!K479,".") -> recette | M15: =IF(ISTEXT(L15),IF(ISERROR(VLOOKUP(L15,rubriques,8,FALSE)),"Nouv",VLOOKUP(L15,rubriques,8,FALSE)),".") -> v | N15: =+'[1]journal de caisse'!M479 -> 0 | O15: =IF(ISTEXT(L15),VLOOKUP(L15,[1]rubriques!$B$6:$H$51,7,FALSE),".") -> R1 | P15: =+[1]rubriques!B10 -> banque frais | Q15: =IF(ISTEXT($P15),SUMIF($L:$L,$P15,H:H),".") -> 0 | R15: =IF(ISTEXT($P15),SUMIF($L:$L,$P15,I:I),".") -> 0 | S15: =IF(ISTEXT($P15),SUMIF($L:$L,$P15,J:J),".") -> 0 | T15: =IF(ISTEXT($P15),SUMIF($L:$L,$P15,K:K),".") -> 0 | U15: =IF(ISTEXT(P15),+(Q15+S15)-(+R15+T15),".") -> 0 | V15: =IF(P15="x",".",VLOOKUP(P15,rubriques,7,FALSE)) -> F16
A16: 514 | B16: =IF(C16,TEXT(C16,"MM-AA"),".") -> 03-22 | C16: =+'[1]journal de caisse'!B514 -> 44650 | D16: =IF(ISNUMBER(+'[1]journal de caisse'!C514),+'[1]journal de caisse'!C514,"-") -> - | E16: =IF(ISTEXT(+'[1]journal de caisse'!D514),+'[1]journal de caisse'!D514,".") -> cabinet | F16: =IF(ISTEXT(+'[1]journal de caisse'!E514),+'[1]journal de caisse'!E514,".") -> consultation | G16: =IF(+'[1]journal de caisse'!F514,+'[1]journal de caisse'!F514,".") -> . | H16: =IF(+'[1]journal de caisse'!G514,+'[1]journal de caisse'!G514,".") -> 40 | I16: =IF(+'[1]journal de caisse'!H514,+'[1]journal de caisse'!H514,".") -> . | J16: =IF(+'[1]journal de caisse'!I514,+'[1]journal de caisse'!I514,".") -> . | K16: =IF(+'[1]journal de caisse'!J514,+'[1]journal de caisse'!J514,".") -> . | L16: =IF(ISTEXT(+'[1]journal de caisse'!K514),+'[1]journal de caisse'!K514,".") -> recette | M16: =IF(ISTEXT(L16),IF(ISERROR(VLOOKUP(L16,rubriques,8,FALSE)),"Nouv",VLOOKUP(L16,rubriques,8,FALSE)),".") -> v | N16: =+'[1]journal de caisse'!M514 -> 0 | O16: =IF(ISTEXT(L16),VLOOKUP(L16,[1]rubriques!$B$6:$H$51,7,FALSE),".") -> R1 | P16: =+[1]rubriques!B11 -> Cadeaux | Q16: =IF(ISTEXT($P16),SUMIF($L:$L,$P16,H:H),".") -> 0 | R16: =IF(ISTEXT($P16),SUMIF($L:$L,$P16,I:I),".") -> 0 | S16: =IF(ISTEXT($P16),SUMIF($L:$L,$P16,J:J),".") -> 0 | T16: =IF(ISTEXT($P16),SUMIF($L:$L,$P16,K:K),".") -> 0 | U16: =IF(ISTEXT(P16),+(Q16+S16)-(+R16+T16),".") -> 0 | V16: =IF(P16="x",".",VLOOKUP(P16,rubriques,7,FALSE)) -> F12
A17: 515 | B17: =IF(C17,TEXT(C17,"MM-AA"),".") -> 03-22 | C17: =+'[1]journal de caisse'!B515 -> 44651 | D17: =IF(ISNUMBER(+'[1]journal de caisse'!C515),+'[1]journal de caisse'!C515,"-") -> 18 | E17: =IF(ISTEXT(+'[1]journal de caisse'!D515),+'[1]journal de caisse'!D515,".") -> Aldi | F17: =IF(ISTEXT(+'[1]journal de caisse'!E515),+'[1]journal de caisse'!E515,".") -> toilette hygiène | G17: =IF(+'[1]journal de caisse'!F515,+'[1]journal de caisse'!F515,".") -> . | H17: =IF(+'[1]journal de caisse'!G515,+'[1]journal de caisse'!G515,".") -> . | I17: =IF(+'[1]journal de caisse'!H515,+'[1]journal de caisse'!H515,".") -> . | J17: =IF(+'[1]journal de caisse'!I515,+'[1]journal de caisse'!I515,".") -> . | K17: =IF(+'[1]journal de caisse'!J515,+'[1]journal de caisse'!J515,".") -> 31.11 | L17: =IF(ISTEXT(+'[1]journal de caisse'!K515),+'[1]journal de caisse'!K515,".") -> consomable | M17: =IF(ISTEXT(L17),IF(ISERROR(VLOOKUP(L17,rubriques,8,FALSE)),"Nouv",VLOOKUP(L17,rubriques,8,FALSE)),".") -> v | N17: =+'[1]journal de caisse'!M515 -> 0 | O17: =IF(ISTEXT(L17),VLOOKUP(L17,[1]rubriques!$B$6:$H$51,7,FALSE),".") -> F09 | P17: =+[1]rubriques!B12 -> chauffage | Q17: =IF(ISTEXT($P17),SUMIF($L:$L,$P17,H:H),".") -> 0 | R17: =IF(ISTEXT($P17),SUMIF($L:$L,$P17,I:I),".") -> 0 | S17: =IF(ISTEXT($P17),SUMIF($L:$L,$P17,J:J),".") -> 0 | T17: =IF(ISTEXT($P17),SUMIF($L:$L,$P17,K:K),".") -> 0 | U17: =IF(ISTEXT(P17),+(Q17+S17)-(+R17+T17),".") -> 0 | V17: =IF(P17="x",".",VLOOKUP(P17,rubriques,7,FALSE)) -> F02
A18: 516 | B18: =IF(C18,TEXT(C18,"MM-AA"),".") -> 03-22 | C18: =+'[1]journal de caisse'!B516 -> 44651 | D18: =IF(ISNUMBER(+'[1]journal de caisse'!C516),+'[1]journal de caisse'!C516,"-") -> - | E18: =IF(ISTEXT(+'[1]journal de caisse'!D516),+'[1]journal de caisse'!D516,".") -> cabinet | F18: =IF(ISTEXT(+'[1]journal de caisse'!E516),+'[1]journal de caisse'!E516,".") -> consultation | G18: =IF(+'[1]journal de caisse'!F516,+'[1]journal de caisse'!F516,".") -> . | H18: =IF(+'[1]journal de caisse'!G516,+'[1]journal de caisse'!G516,".") -> 80 | I18: =IF(+'[1]journal de caisse'!H516,+'[1]journal de caisse'!H516,".") -> . | J18: =IF(+'[1]journal de caisse'!I516,+'[1]journal de caisse'!I516,".") -> . | K18: =IF(+'[1]journal de caisse'!J516,+'[1]journal de caisse'!J516,".") -> . | L18: =IF(ISTEXT(+'[1]journal de caisse'!K516),+'[1]journal de caisse'!K516,".") -> recette | M18: =IF(ISTEXT(L18),IF(ISERROR(VLOOKUP(L18,rubriques,8,FALSE)),"Nouv",VLOOKUP(L18,rubriques,8,FALSE)),".") -> v | N18: =+'[1]journal de caisse'!M516 -> 0 | O18: =IF(ISTEXT(L18),VLOOKUP(L18,[1]rubriques!$B$6:$H$51,7,FALSE),".") -> R1 | P18: =+[1]rubriques!B13 -> comptable | Q18: =IF(ISTEXT($P18),SUMIF($L:$L,$P18,H:H),".") -> 0 | R18: =IF(ISTEXT($P18),SUMIF($L:$L,$P18,I:I),".") -> 0 | S18: =IF(ISTEXT($P18),SUMIF($L:$L,$P18,J:J),".") -> 0 | T18: =IF(ISTEXT($P18),SUMIF($L:$L,$P18,K:K),".") -> 0 | U18: =IF(ISTEXT(P18),+(Q18+S18)-(+R18+T18),".") -> 0 | V18: =IF(P18="x",".",VLOOKUP(P18,rubriques,7,FALSE)) -> F03
A19: 534 | B19: =IF(C19,TEXT(C19,"MM-AA"),".") -> 04-22 | C19: =+'[1]journal de caisse'!B534 -> 44679 | D19: =IF(ISNUMBER(+'[1]journal de caisse'!C534),+'[1]journal de caisse'!C534,"-") -> - | E19: =IF(ISTEXT(+'[1]journal de caisse'!D534),+'[1]journal de caisse'!D534,".") -> cabinet | F19: =IF(ISTEXT(+'[1]journal de caisse'!E534),+'[1]journal de caisse'!E534,".") -> consultation | G19: =IF(+'[1]journal de caisse'!F534,+'[1]journal de caisse'!F534,".") -> . | H19: =IF(+'[1]journal de caisse'!G534,+'[1]journal de caisse'!G534,".") -> 40 | I19: =IF(+'[1]journal de caisse'!H534,+'[1]journal de caisse'!H534,".") -> . | J19: =IF(+'[1]journal de caisse'!I534,+'[1]journal de caisse'!I534,".") -> . | K19: =IF(+'[1]journal de caisse'!J534,+'[1]journal de caisse'!J534,".") -> . | L19: =IF(ISTEXT(+'[1]journal de caisse'!K534),+'[1]journal de caisse'!K534,".") -> recette | M19: =IF(ISTEXT(L19),IF(ISERROR(VLOOKUP(L19,rubriques,8,FALSE)),"Nouv",VLOOKUP(L19,rubriques,8,FALSE)),".") -> v | N19: =+'[1]journal de caisse'!M534 -> 0 | O19: =IF(ISTEXT(L19),VLOOKUP(L19,[1]rubriques!$B$6:$H$51,7,FALSE),".") -> R1 | P19: =+[1]rubriques!B14 -> conférence | Q19: =IF(ISTEXT($P19),SUMIF($L:$L,$P19,H:H),".") -> 0 | R19: =IF(ISTEXT($P19),SUMIF($L:$L,$P19,I:I),".") -> 0 | S19: =IF(ISTEXT($P19),SUMIF($L:$L,$P19,J:J),".") -> 0 | T19: =IF(ISTEXT($P19),SUMIF($L:$L,$P19,K:K),".") -> 0 | U19: =IF(ISTEXT(P19),+(Q19+S19)-(+R19+T19),".") -> 0 | V19: =IF(P19="x",".",VLOOKUP(P19,rubriques,7,FALSE)) -> F06
A20: 535 | B20: =IF(C20,TEXT(C20,"MM-AA"),".") -> 04-22 | C20: =+'[1]journal de caisse'!B535 -> 44680 | D20: =IF(ISNUMBER(+'[1]journal de caisse'!C535),+'[1]journal de caisse'!C535,"-") -> - | E20: =IF(ISTEXT(+'[1]journal de caisse'!D535),+'[1]journal de caisse'!D535,".") -> cabinet | F20: =IF(ISTEXT(+'[1]journal de caisse'!E535),+'[1]journal de caisse'!E535,".") -> consultation | G20: =IF(+'[1]journal de caisse'!F535,+'[1]journal de caisse'!F535,".") -> . | H20: =IF(+'[1]journal de caisse'!G535,+'[1]journal de caisse'!G535,".") -> 120 | I20: =IF(+'[1]journal de caisse'!H535,+'[1]journal de caisse'!H535,".") -> . | J20: =IF(+'[1]journal de caisse'!I535,+'[1]journal de caisse'!I535,".") -> . | K20: =IF(+'[1]journal de caisse'!J535,+'[1]journal de caisse'!J535,".") -> . | L20: =IF(ISTEXT(+'[1]journal de caisse'!K535),+'[1]journal de caisse'!K535,".") -> recette | M20: =IF(ISTEXT(L20),IF(ISERROR(VLOOKUP(L20,rubriques,8,FALSE)),"Nouv",VLOOKUP(L20,rubriques,8,FALSE)),".") -> v | N20: =+'[1]journal de caisse'!M535 -> 0 | O20: =IF(ISTEXT(L20),VLOOKUP(L20,[1]rubriques!$B$6:$H$51,7,FALSE),".") -> R1 | P20: =+[1]rubriques!B15 -> consomable | Q20: =IF(ISTEXT($P20),SUMIF($L:$L,$P20,H:H),".") -> 0 | R20: =IF(ISTEXT($P20),SUMIF($L:$L,$P20,I:I),".") -> 0 | S20: =IF(ISTEXT($P20),SUMIF($L:$L,$P20,J:J),".") -> 0 | T20: =IF(ISTEXT($P20),SUMIF($L:$L,$P20,K:K),".") -> 53.43 | U20: =IF(ISTEXT(P20),+(Q20+S20)-(+R20+T20),".") -> -53.43 | V20: =IF(P20="x",".",VLOOKUP(P20,rubriques,7,FALSE)) -> F09
A21: 552 | B21: =IF(C21,TEXT(C21,"MM-AA"),".") -> 05-22 | C21: =+'[1]journal de caisse'!B552 -> 44712 | D21: =IF(ISNUMBER(+'[1]journal de caisse'!C552),+'[1]journal de caisse'!C552,"-") -> - | E21: =IF(ISTEXT(+'[1]journal de caisse'!D552),+'[1]journal de caisse'!D552,".") -> cabinet | F21: =IF(ISTEXT(+'[1]journal de caisse'!E552),+'[1]journal de caisse'!E552,".") -> consultation | G21: =IF(+'[1]journal de caisse'!F552,+'[1]journal de caisse'!F552,".") -> . | H21: =IF(+'[1]journal de caisse'!G552,+'[1]journal de caisse'!G552,".") -> 40 | I21: =IF(+'[1]journal de caisse'!H552,+'[1]journal de caisse'!H552,".") -> . | J21: =IF(+'[1]journal de caisse'!I552,+'[1]journal de caisse'!I552,".") -> . | K21: =IF(+'[1]journal de caisse'!J552,+'[1]journal de caisse'!J552,".") -> . | L21: =IF(ISTEXT(+'[1]journal de caisse'!K552),+'[1]journal de caisse'!K552,".") -> recette | M21: =IF(ISTEXT(L21),IF(ISERROR(VLOOKUP(L21,rubriques,8,FALSE)),"Nouv",VLOOKUP(L21,rubriques,8,FALSE)),".") -> v | N21: =+'[1]journal de caisse'!M552 -> 0 | O21: =IF(ISTEXT(L21),VLOOKUP(L21,[1]rubriques!$B$6:$H$51,7,FALSE),".") -> R1 | P21: =+[1]rubriques!B16 -> eau | Q21: =IF(ISTEXT($P21),SUMIF($L:$L,$P21,H:H),".") -> 0 | R21: =IF(ISTEXT($P21),SUMIF($L:$L,$P21,I:I),".") -> 0 | S21: =IF(ISTEXT($P21),SUMIF($L:$L,$P21,J:J),".") -> 0 | T21: =IF(ISTEXT($P21),SUMIF($L:$L,$P21,K:K),".") -> 0 | U21: =IF(ISTEXT(P21),+(Q21+S21)-(+R21+T21),".") -> 0 | V21: =IF(P21="x",".",VLOOKUP(P21,rubriques,7,FALSE)) -> F02
A22: 553 | B22: =IF(C22,TEXT(C22,"MM-AA"),".") -> 06-22 | C22: =+'[1]journal de caisse'!B553 -> 44713 | D22: =IF(ISNUMBER(+'[1]journal de caisse'!C553),+'[1]journal de caisse'!C553,"-") -> 30 | E22: =IF(ISTEXT(+'[1]journal de caisse'!D553),+'[1]journal de caisse'!D553,".") -> voo | F22: =IF(ISTEXT(+'[1]journal de caisse'!E553),+'[1]journal de caisse'!E553,".") -> abonnement tél | G22: =IF(+'[1]journal de caisse'!F553,+'[1]journal de caisse'!F553,".") -> 44682 | H22: =IF(+'[1]journal de caisse'!G553,+'[1]journal de caisse'!G553,".") -> . | I22: =IF(+'[1]journal de caisse'!H553,+'[1]journal de caisse'!H553,".") -> . | J22: =IF(+'[1]journal de caisse'!I553,+'[1]journal de caisse'!I553,".") -> . | K22: =IF(+'[1]journal de caisse'!J553,+'[1]journal de caisse'!J553,".") -> 13 | L22: =IF(ISTEXT(+'[1]journal de caisse'!K553),+'[1]journal de caisse'!K553,".") -> abonnement tél | M22: =IF(ISTEXT(L22),IF(ISERROR(VLOOKUP(L22,rubriques,8,FALSE)),"Nouv",VLOOKUP(L22,rubriques,8,FALSE)),".") -> v | N22: =+'[1]journal de caisse'!M553 -> 0 | O22: =IF(ISTEXT(L22),VLOOKUP(L22,[1]rubriques!$B$6:$H$51,7,FALSE),".") -> F08 | P22: =+[1]rubriques!B17 -> Electrabel | Q22: =IF(ISTEXT($P22),SUMIF($L:$L,$P22,H:H),".") -> 0 | R22: =IF(ISTEXT($P22),SUMIF($L:$L,$P22,I:I),".") -> 0 | S22: =IF(ISTEXT($P22),SUMIF($L:$L,$P22,J:J),".") -> 0 | T22: =IF(ISTEXT($P22),SUMIF($L:$L,$P22,K:K),".") -> 94.07 | U22: =IF(ISTEXT(P22),+(Q22+S22)-(+R22+T22),".") -> -94.07 | V22: =IF(P22="x",".",VLOOKUP(P22,rubriques,7,FALSE)) -> F02
A23: 554 | B23: =IF(C23,TEXT(C23,"MM-AA"),".") -> 06-22 | C23: =+'[1]journal de caisse'!B554 -> 44713 | D23: =IF(ISNUMBER(+'[1]journal de caisse'!C554),+'[1]journal de caisse'!C554,"-") -> - | E23: =IF(ISTEXT(+'[1]journal de caisse'!D554),+'[1]journal de caisse'!D554,".") -> cabinet | F23: =IF(ISTEXT(+'[1]journal de caisse'!E554),+'[1]journal de caisse'!E554,".") -> consultation | G23: =IF(+'[1]journal de caisse'!F554,+'[1]journal de caisse'!F554,".") -> . | H23: =IF(+'[1]journal de caisse'!G554,+'[1]journal de caisse'!G554,".") -> 40 | I23: =IF(+'[1]journal de caisse'!H554,+'[1]journal de caisse'!H554,".") -> . | J23: =IF(+'[1]journal de caisse'!I554,+'[1]journal de caisse'!I554,".") -> . | K23: =IF(+'[1]journal de caisse'!J554,+'[1]journal de caisse'!J554,".") -> . | L23: =IF(ISTEXT(+'[1]journal de caisse'!K554),+'[1]journal de caisse'!K554,".") -> recette | M23: =IF(ISTEXT(L23),IF(ISERROR(VLOOKUP(L23,rubriques,8,FALSE)),"Nouv",VLOOKUP(L23,rubriques,8,FALSE)),".") -> v | N23: =+'[1]journal de caisse'!M554 -> 0 | O23: =IF(ISTEXT(L23),VLOOKUP(L23,[1]rubriques!$B$6:$H$51,7,FALSE),".") -> R1 | P23: =+[1]rubriques!B18 -> enregistrement | Q23: =IF(ISTEXT($P23),SUMIF($L:$L,$P23,H:H),".") -> 0 | R23: =IF(ISTEXT($P23),SUMIF($L:$L,$P23,I:I),".") -> 0 | S23: =IF(ISTEXT($P23),SUMIF($L:$L,$P23,J:J),".") -> 0 | T23: =IF(ISTEXT($P23),SUMIF($L:$L,$P23,K:K),".") -> 0 | U23: =IF(ISTEXT(P23),+(Q23+S23)-(+R23+T23),".") -> 0 | V23: =IF(P23="x",".",VLOOKUP(P23,rubriques,7,FALSE)) -> F01
A24: 555 | B24: =IF(C24,TEXT(C24,"MM-AA"),".") -> 06-22 | C24: =+'[1]journal de caisse'!B555 -> 44715 | D24: =IF(ISNUMBER(+'[1]journal de caisse'!C555),+'[1]journal de caisse'!C555,"-") -> - | E24: =IF(ISTEXT(+'[1]journal de caisse'!D555),+'[1]journal de caisse'!D555,".") -> cabinet | F24: =IF(ISTEXT(+'[1]journal de caisse'!E555),+'[1]journal de caisse'!E555,".") -> consultation | G24: =IF(+'[1]journal de caisse'!F555,+'[1]journal de caisse'!F555,".") -> . | H24: =IF(+'[1]journal de caisse'!G555,+'[1]journal de caisse'!G555,".") -> 40 | I24: =IF(+'[1]journal de caisse'!H555,+'[1]journal de caisse'!H555,".") -> . | J24: =IF(+'[1]journal de caisse'!I555,+'[1]journal de caisse'!I555,".") -> . | K24: =IF(+'[1]journal de caisse'!J555,+'[1]journal de caisse'!J555,".") -> . | L24: =IF(ISTEXT(+'[1]journal de caisse'!K555),+'[1]journal de caisse'!K555,".") -> recette | M24: =IF(ISTEXT(L24),IF(ISERROR(VLOOKUP(L24,rubriques,8,FALSE)),"Nouv",VLOOKUP(L24,rubriques,8,FALSE)),".") -> v | N24: =+'[1]journal de caisse'!M555 -> 0 | O24: =IF(ISTEXT(L24),VLOOKUP(L24,[1]rubriques!$B$6:$H$51,7,FALSE),".") -> R1 | P24: =+[1]rubriques!B19 -> entretien | Q24: =IF(ISTEXT($P24),SUMIF($L:$L,$P24,H:H),".") -> 0 | R24: =IF(ISTEXT($P24),SUMIF($L:$L,$P24,I:I),".") -> 0 | S24: =IF(ISTEXT($P24),SUMIF($L:$L,$P24,J:J),".") -> 0 | T24: =IF(ISTEXT($P24),SUMIF($L:$L,$P24,K:K),".") -> 0 | U24: =IF(ISTEXT(P24),+(Q24+S24)-(+R24+T24),".") -> 0 | V24: =IF(P24="x",".",VLOOKUP(P24,rubriques,7,FALSE)) -> F01
A25: 569 | B25: =IF(C25,TEXT(C25,"MM-AA"),".") -> 07-22 | C25: =+'[1]journal de caisse'!B569 -> 44747 | D25: =IF(ISNUMBER(+'[1]journal de caisse'!C569),+'[1]journal de caisse'!C569,"-") -> 36 | E25: =IF(ISTEXT(+'[1]journal de caisse'!D569),+'[1]journal de caisse'!D569,".") -> voo | F25: =IF(ISTEXT(+'[1]journal de caisse'!E569),+'[1]journal de caisse'!E569,".") -> abonnement tél | G25: =IF(+'[1]journal de caisse'!F569,+'[1]journal de caisse'!F569,".") -> 44713 | H25: =IF(+'[1]journal de caisse'!G569,+'[1]journal de caisse'!G569,".") -> . | I25: =IF(+'[1]journal de caisse'!H569,+'[1]journal de caisse'!H569,".") -> . | J25: =IF(+'[1]journal de caisse'!I569,+'[1]journal de caisse'!I569,".") -> . | K25: =IF(+'[1]journal de caisse'!J569,+'[1]journal de caisse'!J569,".") -> 13 | L25: =IF(ISTEXT(+'[1]journal de caisse'!K569),+'[1]journal de caisse'!K569,".") -> abonnement tél | M25: =IF(ISTEXT(L25),IF(ISERROR(VLOOKUP(L25,rubriques,8,FALSE)),"Nouv",VLOOKUP(L25,rubriques,8,FALSE)),".") -> v | N25: =+'[1]journal de caisse'!M569 -> 0 | O25: =IF(ISTEXT(L25),VLOOKUP(L25,[1]rubriques!$B$6:$H$51,7,FALSE),".") -> F08 | P25: =+[1]rubriques!B20 -> Frais bureau | Q25: =IF(ISTEXT($P25),SUMIF($L:$L,$P25,H:H),".") -> 0 | R25: =IF(ISTEXT($P25),SUMIF($L:$L,$P25,I:I),".") -> 0 | S25: =IF(ISTEXT($P25),SUMIF($L:$L,$P25,J:J),".") -> 0 | T25: =IF(ISTEXT($P25),SUMIF($L:$L,$P25,K:K),".") -> 0 | U25: =IF(ISTEXT(P25),+(Q25+S25)-(+R25+T25),".") -> 0 | V25: =IF(P25="x",".",VLOOKUP(P25,rubriques,7,FALSE)) -> F09
A26: 570 | B26: =IF(C26,TEXT(C26,"MM-AA"),".") -> 07-22 | C26: =+'[1]journal de caisse'!B570 -> 44747 | D26: =IF(ISNUMBER(+'[1]journal de caisse'!C570),+'[1]journal de caisse'!C570,"-") -> - | E26: =IF(ISTEXT(+'[1]journal de caisse'!D570),+'[1]journal de caisse'!D570,".") -> cabinet | F26: =IF(ISTEXT(+'[1]journal de caisse'!E570),+'[1]journal de caisse'!E570,".") -> consultation | G26: =IF(+'[1]journal de caisse'!F570,+'[1]journal de caisse'!F570,".") -> . | H26: =IF(+'[1]journal de caisse'!G570,+'[1]journal de caisse'!G570,".") -> 40 | I26: =IF(+'[1]journal de caisse'!H570,+'[1]journal de caisse'!H570,".") -> . | J26: =IF(+'[1]journal de caisse'!I570,+'[1]journal de caisse'!I570,".") -> . | K26: =IF(+'[1]journal de caisse'!J570,+'[1]journal de caisse'!J570,".") -> . | L26: =IF(ISTEXT(+'[1]journal de caisse'!K570),+'[1]journal de caisse'!K570,".") -> recette | M26: =IF(ISTEXT(L26),IF(ISERROR(VLOOKUP(L26,rubriques,8,FALSE)),"Nouv",VLOOKUP(L26,rubriques,8,FALSE)),".") -> v | N26: =+'[1]journal de caisse'!M570 -> 0 | O26: =IF(ISTEXT(L26),VLOOKUP(L26,[1]rubriques!$B$6:$H$51,7,FALSE),".") -> R1 | P26: =+[1]rubriques!B21 -> Publicité | Q26: =IF(ISTEXT($P26),SUMIF($L:$L,$P26,H:H),".") -> 0 | R26: =IF(ISTEXT($P26),SUMIF($L:$L,$P26,I:I),".") -> 0 | S26: =IF(ISTEXT($P26),SUMIF($L:$L,$P26,J:J),".") -> 0 | T26: =IF(ISTEXT($P26),SUMIF($L:$L,$P26,K:K),".") -> 0 | U26: =IF(ISTEXT(P26),+(Q26+S26)-(+R26+T26),".") -> 0 | V26: =IF(P26="x",".",VLOOKUP(P26,rubriques,7,FALSE)) -> F07
A27: 571 | B27: =IF(C27,TEXT(C27,"MM-AA"),".") -> 07-22 | C27: =+'[1]journal de caisse'!B571 -> 44748 | D27: =IF(ISNUMBER(+'[1]journal de caisse'!C571),+'[1]journal de caisse'!C571,"-") -> - | E27: =IF(ISTEXT(+'[1]journal de caisse'!D571),+'[1]journal de caisse'!D571,".") -> cabinet | F27: =IF(ISTEXT(+'[1]journal de caisse'!E571),+'[1]journal de caisse'!E571,".") -> consultation | G27: =IF(+'[1]journal de caisse'!F571,+'[1]journal de caisse'!F571,".") -> . | H27: =IF(+'[1]journal de caisse'!G571,+'[1]journal de caisse'!G571,".") -> 120 | I27: =IF(+'[1]journal de caisse'!H571,+'[1]journal de caisse'!H571,".") -> . | J27: =IF(+'[1]journal de caisse'!I571,+'[1]journal de caisse'!I571,".") -> . | K27: =IF(+'[1]journal de caisse'!J571,+'[1]journal de caisse'!J571,".") -> . | L27: =IF(ISTEXT(+'[1]journal de caisse'!K571),+'[1]journal de caisse'!K571,".") -> recette | M27: =IF(ISTEXT(L27),IF(ISERROR(VLOOKUP(L27,rubriques,8,FALSE)),"Nouv",VLOOKUP(L27,rubriques,8,FALSE)),".") -> v | N27: =+'[1]journal de caisse'!M571 -> 0 | O27: =IF(ISTEXT(L27),VLOOKUP(L27,[1]rubriques!$B$6:$H$51,7,FALSE),".") -> R1 | P27: =+[1]rubriques!B22 -> librairie | Q27: =IF(ISTEXT($P27),SUMIF($L:$L,$P27,H:H),".") -> 0 | R27: =IF(ISTEXT($P27),SUMIF($L:$L,$P27,I:I),".") -> 0 | S27: =IF(ISTEXT($P27),SUMIF($L:$L,$P27,J:J),".") -> 0 | T27: =IF(ISTEXT($P27),SUMIF($L:$L,$P27,K:K),".") -> 0 | U27: =IF(ISTEXT(P27),+(Q27+S27)-(+R27+T27),".") -> 0 | V27: =IF(P27="x",".",VLOOKUP(P27,rubriques,7,FALSE)) -> F06
A28: 581 | B28: =IF(C28,TEXT(C28,"MM-AA"),".") -> 08-22 | C28: =+'[1]journal de caisse'!B581 -> 44783 | D28: =IF(ISNUMBER(+'[1]journal de caisse'!C581),+'[1]journal de caisse'!C581,"-") -> 43 | E28: =IF(ISTEXT(+'[1]journal de caisse'!D581),+'[1]journal de caisse'!D581,".") -> spotify | F28: =IF(ISTEXT(+'[1]journal de caisse'!E581),+'[1]journal de caisse'!E581,".") -> musique Visa | G28: =IF(+'[1]journal de caisse'!F581,+'[1]journal de caisse'!F581,".") -> 44743 | H28: =IF(+'[1]journal de caisse'!G581,+'[1]journal de caisse'!G581,".") -> . | I28: =IF(+'[1]journal de caisse'!H581,+'[1]journal de caisse'!H581,".") -> . | J28: =IF(+'[1]journal de caisse'!I581,+'[1]journal de caisse'!I581,".") -> . | K28: =IF(+'[1]journal de caisse'!J581,+'[1]journal de caisse'!J581,".") -> 9.99 | L28: =IF(ISTEXT(+'[1]journal de caisse'!K581),+'[1]journal de caisse'!K581,".") -> matériel de travail | M28: =IF(ISTEXT(L28),IF(ISERROR(VLOOKUP(L28,rubriques,8,FALSE)),"Nouv",VLOOKUP(L28,rubriques,8,FALSE)),".") -> v | N28: =+'[1]journal de caisse'!M581 -> 0 | O28: =IF(ISTEXT(L28),VLOOKUP(L28,[1]rubriques!$B$6:$H$51,7,FALSE),".") -> F10 | P28: =+[1]rubriques!B23 -> matériel de travail | Q28: =IF(ISTEXT($P28),SUMIF($L:$L,$P28,H:H),".") -> 0 | R28: =IF(ISTEXT($P28),SUMIF($L:$L,$P28,I:I),".") -> 0 | S28: =IF(ISTEXT($P28),SUMIF($L:$L,$P28,J:J),".") -> 0 | T28: =IF(ISTEXT($P28),SUMIF($L:$L,$P28,K:K),".") -> 9.99 | U28: =IF(ISTEXT(P28),+(Q28+S28)-(+R28+T28),".") -> -9.99 | V28: =IF(P28="x",".",VLOOKUP(P28,rubriques,7,FALSE)) -> F10
A29: 582 | B29: =IF(C29,TEXT(C29,"MM-AA"),".") -> 08-22 | C29: =+'[1]journal de caisse'!B582 -> 44783 | D29: =IF(ISNUMBER(+'[1]journal de caisse'!C582),+'[1]journal de caisse'!C582,"-") -> 44 | E29: =IF(ISTEXT(+'[1]journal de caisse'!D582),+'[1]journal de caisse'!D582,".") -> electrabel | F29: =IF(ISTEXT(+'[1]journal de caisse'!E582),+'[1]journal de caisse'!E582,".") -> gaz électricité Fac inter | G29: =IF(+'[1]journal de caisse'!F582,+'[1]journal de caisse'!F582,".") -> 44743 | H29: =IF(+'[1]journal de caisse'!G582,+'[1]journal de caisse'!G582,".") -> . | I29: =IF(+'[1]journal de caisse'!H582,+'[1]journal de caisse'!H582,".") -> . | J29: =IF(+'[1]journal de caisse'!I582,+'[1]journal de caisse'!I582,".") -> . | K29: =IF(+'[1]journal de caisse'!J582,+'[1]journal de caisse'!J582,".") -> 43.9 | L29: =IF(ISTEXT(+'[1]journal de caisse'!K582),+'[1]journal de caisse'!K582,".") -> electrabel | M29: =IF(ISTEXT(L29),IF(ISERROR(VLOOKUP(L29,rubriques,8,FALSE)),"Nouv",VLOOKUP(L29,rubriques,8,FALSE)),".") -> v | N29: =+'[1]journal de caisse'!M582 -> 0 | O29: =IF(ISTEXT(L29),VLOOKUP(L29,[1]rubriques!$B$6:$H$51,7,FALSE),".") -> F02 | P29: =+[1]rubriques!B24 -> mobilier | Q29: =IF(ISTEXT($P29),SUMIF($L:$L,$P29,H:H),".") -> 0 | R29: =IF(ISTEXT($P29),SUMIF($L:$L,$P29,I:I),".") -> 0 | S29: =IF(ISTEXT($P29),SUMIF($L:$L,$P29,J:J),".") -> 0 | T29: =IF(ISTEXT($P29),SUMIF($L:$L,$P29,K:K),".") -> 0 | U29: =IF(ISTEXT(P29),+(Q29+S29)-(+R29+T29),".") -> 0 | V29: =IF(P29="x",".",VLOOKUP(P29,rubriques,7,FALSE)) -> F09
A30: 583 | B30: =IF(C30,TEXT(C30,"MM-AA"),".") -> 08-22 | C30: =+'[1]journal de caisse'!B583 -> 44792 | D30: =IF(ISNUMBER(+'[1]journal de caisse'!C583),+'[1]journal de caisse'!C583,"-") -> - | E30: =IF(ISTEXT(+'[1]journal de caisse'!D583),+'[1]journal de caisse'!D583,".") -> cabinet | F30: =IF(ISTEXT(+'[1]journal de caisse'!E583),+'[1]journal de caisse'!E583,".") -> consultation | G30: =IF(+'[1]journal de caisse'!F583,+'[1]journal de caisse'!F583,".") -> . | H30: =IF(+'[1]journal de caisse'!G583,+'[1]journal de caisse'!G583,".") -> 40 | I30: =IF(+'[1]journal de caisse'!H583,+'[1]journal de caisse'!H583,".") -> . | J30: =IF(+'[1]journal de caisse'!I583,+'[1]journal de caisse'!I583,".") -> . | K30: =IF(+'[1]journal de caisse'!J583,+'[1]journal de caisse'!J583,".") -> . | L30: =IF(ISTEXT(+'[1]journal de caisse'!K583),+'[1]journal de caisse'!K583,".") -> recette | M30: =IF(ISTEXT(L30),IF(ISERROR(VLOOKUP(L30,rubriques,8,FALSE)),"Nouv",VLOOKUP(L30,rubriques,8,FALSE)),".") -> v | N30: =+'[1]journal de caisse'!M583 -> 0 | O30: =IF(ISTEXT(L30),VLOOKUP(L30,[1]rubriques!$B$6:$H$51,7,FALSE),".") -> R1 | P30: =+[1]rubriques!B25 -> parking | Q30: =IF(ISTEXT($P30),SUMIF($L:$L,$P30,H:H),".") -> 0 | R30: =IF(ISTEXT($P30),SUMIF($L:$L,$P30,I:I),".") -> 0 | S30: =IF(ISTEXT($P30),SUMIF($L:$L,$P30,J:J),".") -> 0 | T30: =IF(ISTEXT($P30),SUMIF($L:$L,$P30,K:K),".") -> 0 | U30: =IF(ISTEXT(P30),+(Q30+S30)-(+R30+T30),".") -> 0 | V30: =IF(P30="x",".",VLOOKUP(P30,rubriques,7,FALSE)) -> F11
A31: 588 | B31: =IF(C31,TEXT(C31,"MM-AA"),".") -> 09-22 | C31: =+'[1]journal de caisse'!B588 -> 44805 | D31: =IF(ISNUMBER(+'[1]journal de caisse'!C588),+'[1]journal de caisse'!C588,"-") -> 45 | E31: =IF(ISTEXT(+'[1]journal de caisse'!D588),+'[1]journal de caisse'!D588,".") -> voo | F31: =IF(ISTEXT(+'[1]journal de caisse'!E588),+'[1]journal de caisse'!E588,".") -> abonnement tél | G31: =IF(+'[1]journal de caisse'!F588,+'[1]journal de caisse'!F588,".") -> 44774 | H31: =IF(+'[1]journal de caisse'!G588,+'[1]journal de caisse'!G588,".") -> . | I31: =IF(+'[1]journal de caisse'!H588,+'[1]journal de caisse'!H588,".") -> . | J31: =IF(+'[1]journal de caisse'!I588,+'[1]journal de caisse'!I588,".") -> . | K31: =IF(+'[1]journal de caisse'!J588,+'[1]journal de caisse'!J588,".") -> 13 | L31: =IF(ISTEXT(+'[1]journal de caisse'!K588),+'[1]journal de caisse'!K588,".") -> abonnement tél | M31: =IF(ISTEXT(L31),IF(ISERROR(VLOOKUP(L31,rubriques,8,FALSE)),"Nouv",VLOOKUP(L31,rubriques,8,FALSE)),".") -> v | N31: =+'[1]journal de caisse'!M588 -> 0 | O31: =IF(ISTEXT(L31),VLOOKUP(L31,[1]rubriques!$B$6:$H$51,7,FALSE),".") -> F08 | P31: =+[1]rubriques!B26 -> restaurant | Q31: =IF(ISTEXT($P31),SUMIF($L:$L,$P31,H:H),".") -> 0 | R31: =IF(ISTEXT($P31),SUMIF($L:$L,$P31,I:I),".") -> 0 | S31: =IF(ISTEXT($P31),SUMIF($L:$L,$P31,J:J),".") -> 0 | T31: =IF(ISTEXT($P31),SUMIF($L:$L,$P31,K:K),".") -> 0 | U31: =IF(ISTEXT(P31),+(Q31+S31)-(+R31+T31),".") -> 0 | V31: =IF(P31="x",".",VLOOKUP(P31,rubriques,7,FALSE)) -> F13
A32: 589 | B32: =IF(C32,TEXT(C32,"MM-AA"),".") -> 09-22 | C32: =+'[1]journal de caisse'!B589 -> 44806 | D32: =IF(ISNUMBER(+'[1]journal de caisse'!C589),+'[1]journal de caisse'!C589,"-") -> - | E32: =IF(ISTEXT(+'[1]journal de caisse'!D589),+'[1]journal de caisse'!D589,".") -> cabinet | F32: =IF(ISTEXT(+'[1]journal de caisse'!E589),+'[1]journal de caisse'!E589,".") -> consultation | G32: =IF(+'[1]journal de caisse'!F589,+'[1]journal de caisse'!F589,".") -> . | H32: =IF(+'[1]journal de caisse'!G589,+'[1]journal de caisse'!G589,".") -> 60 | I32: =IF(+'[1]journal de caisse'!H589,+'[1]journal de caisse'!H589,".") -> . | J32: =IF(+'[1]journal de caisse'!I589,+'[1]journal de caisse'!I589,".") -> . | K32: =IF(+'[1]journal de caisse'!J589,+'[1]journal de caisse'!J589,".") -> . | L32: =IF(ISTEXT(+'[1]journal de caisse'!K589),+'[1]journal de caisse'!K589,".") -> recette | M32: =IF(ISTEXT(L32),IF(ISERROR(VLOOKUP(L32,rubriques,8,FALSE)),"Nouv",VLOOKUP(L32,rubriques,8,FALSE)),".") -> v | N32: =+'[1]journal de caisse'!M589 -> 0 | O32: =IF(ISTEXT(L32),VLOOKUP(L32,[1]rubriques!$B$6:$H$51,7,FALSE),".") -> R1 | P32: =+[1]rubriques!B27 -> téléphone | Q32: =IF(ISTEXT($P32),SUMIF($L:$L,$P32,H:H),".") -> 0 | R32: =IF(ISTEXT($P32),SUMIF($L:$L,$P32,I:I),".") -> 0 | S32: =IF(ISTEXT($P32),SUMIF($L:$L,$P32,J:J),".") -> 0 | T32: =IF(ISTEXT($P32),SUMIF($L:$L,$P32,K:K),".") -> 0 | U32: =IF(ISTEXT(P32),+(Q32+S32)-(+R32+T32),".") -> 0 | V32: =IF(P32="x",".",VLOOKUP(P32,rubriques,7,FALSE)) -> F08
A33: 604 | B33: =IF(C33,TEXT(C33,"MM-AA"),".") -> 09-22 | C33: =+'[1]journal de caisse'!B604 -> 44830 | D33: =IF(ISNUMBER(+'[1]journal de caisse'!C604),+'[1]journal de caisse'!C604,"-") -> 51 | E33: =IF(ISTEXT(+'[1]journal de caisse'!D604),+'[1]journal de caisse'!D604,".") -> Aldi | F33: =IF(ISTEXT(+'[1]journal de caisse'!E604),+'[1]journal de caisse'!E604,".") -> toilette hygiène + traj fact | G33: =IF(+'[1]journal de caisse'!F604,+'[1]journal de caisse'!F604,".") -> . | H33: =IF(+'[1]journal de caisse'!G604,+'[1]journal de caisse'!G604,".") -> . | I33: =IF(+'[1]journal de caisse'!H604,+'[1]journal de caisse'!H604,".") -> . | J33: =IF(+'[1]journal de caisse'!I604,+'[1]journal de caisse'!I604,".") -> . | K33: =IF(+'[1]journal de caisse'!J604,+'[1]journal de caisse'!J604,".") -> 9.84 | L33: =IF(ISTEXT(+'[1]journal de caisse'!K604),+'[1]journal de caisse'!K604,".") -> consomable | M33: =IF(ISTEXT(L33),IF(ISERROR(VLOOKUP(L33,rubriques,8,FALSE)),"Nouv",VLOOKUP(L33,rubriques,8,FALSE)),".") -> v | N33: =+'[1]journal de caisse'!M604 -> 12.4 | O33: =IF(ISTEXT(L33),VLOOKUP(L33,[1]rubriques!$B$6:$H$51,7,FALSE),".") -> F09 | P33: =+[1]rubriques!B29 -> vêtements | Q33: =IF(ISTEXT($P33),SUMIF($L:$L,$P33,H:H),".") -> 0 | R33: =IF(ISTEXT($P33),SUMIF($L:$L,$P33,I:I),".") -> 0 | S33: =IF(ISTEXT($P33),SUMIF($L:$L,$P33,J:J),".") -> 0 | T33: =IF(ISTEXT($P33),SUMIF($L:$L,$P33,K:K),".") -> 0 | U33: =IF(ISTEXT(P33),+(Q33+S33)-(+R33+T33),".") -> 0 | V33: =IF(P33="x",".",VLOOKUP(P33,rubriques,7,FALSE)) -> F17
A34: 605 | B34: =IF(C34,TEXT(C34,"MM-AA"),".") -> 09-22 | C34: =+'[1]journal de caisse'!B605 -> 44834 | D34: =IF(ISNUMBER(+'[1]journal de caisse'!C605),+'[1]journal de caisse'!C605,"-") -> - | E34: =IF(ISTEXT(+'[1]journal de caisse'!D605),+'[1]journal de caisse'!D605,".") -> cabinet | F34: =IF(ISTEXT(+'[1]journal de caisse'!E605),+'[1]journal de caisse'!E605,".") -> consultation | G34: =IF(+'[1]journal de caisse'!F605,+'[1]journal de caisse'!F605,".") -> . | H34: =IF(+'[1]journal de caisse'!G605,+'[1]journal de caisse'!G605,".") -> 50 | I34: =IF(+'[1]journal de caisse'!H605,+'[1]journal de caisse'!H605,".") -> . | J34: =IF(+'[1]journal de caisse'!I605,+'[1]journal de caisse'!I605,".") -> . | K34: =IF(+'[1]journal de caisse'!J605,+'[1]journal de caisse'!J605,".") -> . | L34: =IF(ISTEXT(+'[1]journal de caisse'!K605),+'[1]journal de caisse'!K605,".") -> recette | M34: =IF(ISTEXT(L34),IF(ISERROR(VLOOKUP(L34,rubriques,8,FALSE)),"Nouv",VLOOKUP(L34,rubriques,8,FALSE)),".") -> v | N34: =+'[1]journal de caisse'!M605 -> 0 | O34: =IF(ISTEXT(L34),VLOOKUP(L34,[1]rubriques!$B$6:$H$51,7,FALSE),".") -> R1 | P34: taxes | Q34: =IF(ISTEXT($P34),SUMIF($L:$L,$P34,H:H),".") -> 0 | R34: =IF(ISTEXT($P34),SUMIF($L:$L,$P34,I:I),".") -> 0 | S34: =IF(ISTEXT($P34),SUMIF($L:$L,$P34,J:J),".") -> 0 | T34: =IF(ISTEXT($P34),SUMIF($L:$L,$P34,K:K),".") -> 0 | U34: =IF(ISTEXT(P34),+(Q34+S34)-(+R34+T34),".") -> 0 | V34: =IF(P34="x",".",VLOOKUP(P34,rubriques,7,FALSE)) -> F01
A35: 606 | B35: =IF(C35,TEXT(C35,"MM-AA"),".") -> 10-22 | C35: =+'[1]journal de caisse'!B606 -> 44837 | D35: =IF(ISNUMBER(+'[1]journal de caisse'!C606),+'[1]journal de caisse'!C606,"-") -> - | E35: =IF(ISTEXT(+'[1]journal de caisse'!D606),+'[1]journal de caisse'!D606,".") -> privé | F35: =IF(ISTEXT(+'[1]journal de caisse'!E606),+'[1]journal de caisse'!E606,".") -> recup consultation 1/10/22 | G35: =IF(+'[1]journal de caisse'!F606,+'[1]journal de caisse'!F606,".") -> . | H35: =IF(+'[1]journal de caisse'!G606,+'[1]journal de caisse'!G606,".") -> . | I35: =IF(+'[1]journal de caisse'!H606,+'[1]journal de caisse'!H606,".") -> . | J35: =IF(+'[1]journal de caisse'!I606,+'[1]journal de caisse'!I606,".") -> 70 | K35: =IF(+'[1]journal de caisse'!J606,+'[1]journal de caisse'!J606,".") -> . | L35: =IF(ISTEXT(+'[1]journal de caisse'!K606),+'[1]journal de caisse'!K606,".") -> recette | M35: =IF(ISTEXT(L35),IF(ISERROR(VLOOKUP(L35,rubriques,8,FALSE)),"Nouv",VLOOKUP(L35,rubriques,8,FALSE)),".") -> v | N35: =+'[1]journal de caisse'!M606 -> 0 | O35: =IF(ISTEXT(L35),VLOOKUP(L35,[1]rubriques!$B$6:$H$51,7,FALSE),".") -> R1 | P35: =+[1]rubriques!B32 -> x | Q35: =IF(ISTEXT($P35),SUMIF($L:$L,$P35,H:H),".") -> 0 | R35: =IF(ISTEXT($P35),SUMIF($L:$L,$P35,I:I),".") -> 0 | S35: =IF(ISTEXT($P35),SUMIF($L:$L,$P35,J:J),".") -> 0 | T35: =IF(ISTEXT($P35),SUMIF($L:$L,$P35,K:K),".") -> 0 | U35: =IF(ISTEXT(P35),+(Q35+S35)-(+R35+T35),".") -> 0 | V35: =IF(P35="x",".",VLOOKUP(P35,rubriques,7,FALSE)) -> .
A36: 620 | B36: =IF(C36,TEXT(C36,"MM-AA"),".") -> 10-22 | C36: =+'[1]journal de caisse'!B620 -> 44853 | D36: =IF(ISNUMBER(+'[1]journal de caisse'!C620),+'[1]journal de caisse'!C620,"-") -> - | E36: =IF(ISTEXT(+'[1]journal de caisse'!D620),+'[1]journal de caisse'!D620,".") -> cabinet | F36: =IF(ISTEXT(+'[1]journal de caisse'!E620),+'[1]journal de caisse'!E620,".") -> consutation | G36: =IF(+'[1]journal de caisse'!F620,+'[1]journal de caisse'!F620,".") -> . | H36: =IF(+'[1]journal de caisse'!G620,+'[1]journal de caisse'!G620,".") -> 50 | I36: =IF(+'[1]journal de caisse'!H620,+'[1]journal de caisse'!H620,".") -> . | J36: =IF(+'[1]journal de caisse'!I620,+'[1]journal de caisse'!I620,".") -> . | K36: =IF(+'[1]journal de caisse'!J620,+'[1]journal de caisse'!J620,".") -> . | L36: =IF(ISTEXT(+'[1]journal de caisse'!K620),+'[1]journal de caisse'!K620,".") -> recette | M36: =IF(ISTEXT(L36),IF(ISERROR(VLOOKUP(L36,rubriques,8,FALSE)),"Nouv",VLOOKUP(L36,rubriques,8,FALSE)),".") -> v | N36: =+'[1]journal de caisse'!M620 -> 0 | O36: =IF(ISTEXT(L36),VLOOKUP(L36,[1]rubriques!$B$6:$H$51,7,FALSE),".") -> R1 | P36: =+[1]rubriques!B33 -> x | Q36: =IF(ISTEXT($P36),SUMIF($L:$L,$P36,H:H),".") -> 0 | R36: =IF(ISTEXT($P36),SUMIF($L:$L,$P36,I:I),".") -> 0 | S36: =IF(ISTEXT($P36),SUMIF($L:$L,$P36,J:J),".") -> 0 | T36: =IF(ISTEXT($P36),SUMIF($L:$L,$P36,K:K),".") -> 0 | U36: =IF(ISTEXT(P36),+(Q36+S36)-(+R36+T36),".") -> 0 | V36: =IF(P36="x",".",VLOOKUP(P36,rubriques,7,FALSE)) -> .
A37: 621 | B37: =IF(C37,TEXT(C37,"MM-AA"),".") -> 10-22 | C37: =+'[1]journal de caisse'!B621 -> 44855 | D37: =IF(ISNUMBER(+'[1]journal de caisse'!C621),+'[1]journal de caisse'!C621,"-") -> - | E37: =IF(ISTEXT(+'[1]journal de caisse'!D621),+'[1]journal de caisse'!D621,".") -> cabinet | F37: =IF(ISTEXT(+'[1]journal de caisse'!E621),+'[1]journal de caisse'!E621,".") -> consutation | G37: =IF(+'[1]journal de caisse'!F621,+'[1]journal de caisse'!F621,".") -> . | H37: =IF(+'[1]journal de caisse'!G621,+'[1]journal de caisse'!G621,".") -> 100 | I37: =IF(+'[1]journal de caisse'!H621,+'[1]journal de caisse'!H621,".") -> . | J37: =IF(+'[1]journal de caisse'!I621,+'[1]journal de caisse'!I621,".") -> . | K37: =IF(+'[1]journal de caisse'!J621,+'[1]journal de caisse'!J621,".") -> . | L37: =IF(ISTEXT(+'[1]journal de caisse'!K621),+'[1]journal de caisse'!K621,".") -> recette | M37: =IF(ISTEXT(L37),IF(ISERROR(VLOOKUP(L37,rubriques,8,FALSE)),"Nouv",VLOOKUP(L37,rubriques,8,FALSE)),".") -> v | N37: =+'[1]journal de caisse'!M621 -> 0 | O37: =IF(ISTEXT(L37),VLOOKUP(L37,[1]rubriques!$B$6:$H$51,7,FALSE),".") -> R1 | P37: =+[1]rubriques!B34 -> cotisation | Q37: =IF(ISTEXT($P37),SUMIF($L:$L,$P37,H:H),".") -> 0 | R37: =IF(ISTEXT($P37),SUMIF($L:$L,$P37,I:I),".") -> 0 | S37: =IF(ISTEXT($P37),SUMIF($L:$L,$P37,J:J),".") -> 0 | T37: =IF(ISTEXT($P37),SUMIF($L:$L,$P37,K:K),".") -> 0 | U37: =IF(ISTEXT(P37),+(Q37+S37)-(+R37+T37),".") -> 0 | V37: =IF(P37="x",".",VLOOKUP(P37,rubriques,7,FALSE)) -> CS
A38: 622 | B38: =IF(C38,TEXT(C38,"MM-AA"),".") -> 11-22 | C38: =+'[1]journal de caisse'!B622 -> 44866 | D38: =IF(ISNUMBER(+'[1]journal de caisse'!C622),+'[1]journal de caisse'!C622,"-") -> 57 | E38: =IF(ISTEXT(+'[1]journal de caisse'!D622),+'[1]journal de caisse'!D622,".") -> voo | F38: =IF(ISTEXT(+'[1]journal de caisse'!E622),+'[1]journal de caisse'!E622,".") -> abonnement tél | G38: =IF(+'[1]journal de caisse'!F622,+'[1]journal de caisse'!F622,".") -> 44835 | H38: =IF(+'[1]journal de caisse'!G622,+'[1]journal de caisse'!G622,".") -> . | I38: =IF(+'[1]journal de caisse'!H622,+'[1]journal de caisse'!H622,".") -> . | J38: =IF(+'[1]journal de caisse'!I622,+'[1]journal de caisse'!I622,".") -> . | K38: =IF(+'[1]journal de caisse'!J622,+'[1]journal de caisse'!J622,".") -> 13 | L38: =IF(ISTEXT(+'[1]journal de caisse'!K622),+'[1]journal de caisse'!K622,".") -> abonnement tél | M38: =IF(ISTEXT(L38),IF(ISERROR(VLOOKUP(L38,rubriques,8,FALSE)),"Nouv",VLOOKUP(L38,rubriques,8,FALSE)),".") -> v | N38: =+'[1]journal de caisse'!M622 -> 0 | O38: =IF(ISTEXT(L38),VLOOKUP(L38,[1]rubriques!$B$6:$H$51,7,FALSE),".") -> F08 | P38: =+[1]rubriques!B35 -> recette | Q38: =IF(ISTEXT($P38),SUMIF($L:$L,$P38,H:H),".") -> 1190 | R38: =IF(ISTEXT($P38),SUMIF($L:$L,$P38,I:I),".") -> 0 | S38: =IF(ISTEXT($P38),SUMIF($L:$L,$P38,J:J),".") -> 70 | T38: =IF(ISTEXT($P38),SUMIF($L:$L,$P38,K:K),".") -> 0 | U38: =IF(ISTEXT(P38),+(Q38+S38)-(+R38+T38),".") -> 1260 | V38: =IF(P38="x",".",VLOOKUP(P38,rubriques,7,FALSE)) -> R1
A39: 636 | B39: =IF(C39,TEXT(C39,"MM-AA"),".") -> 12-22 | C39: =+'[1]journal de caisse'!B636 -> 44896 | D39: =IF(ISNUMBER(+'[1]journal de caisse'!C636),+'[1]journal de caisse'!C636,"-") -> 61 | E39: =IF(ISTEXT(+'[1]journal de caisse'!D636),+'[1]journal de caisse'!D636,".") -> voo | F39: =IF(ISTEXT(+'[1]journal de caisse'!E636),+'[1]journal de caisse'!E636,".") -> abonnement tél | G39: =IF(+'[1]journal de caisse'!F636,+'[1]journal de caisse'!F636,".") -> 44866 | H39: =IF(+'[1]journal de caisse'!G636,+'[1]journal de caisse'!G636,".") -> . | I39: =IF(+'[1]journal de caisse'!H636,+'[1]journal de caisse'!H636,".") -> . | J39: =IF(+'[1]journal de caisse'!I636,+'[1]journal de caisse'!I636,".") -> . | K39: =IF(+'[1]journal de caisse'!J636,+'[1]journal de caisse'!J636,".") -> 13 | L39: =IF(ISTEXT(+'[1]journal de caisse'!K636),+'[1]journal de caisse'!K636,".") -> abonnement tél | M39: =IF(ISTEXT(L39),IF(ISERROR(VLOOKUP(L39,rubriques,8,FALSE)),"Nouv",VLOOKUP(L39,rubriques,8,FALSE)),".") -> v | N39: =+'[1]journal de caisse'!M636 -> 0 | O39: =IF(ISTEXT(L39),VLOOKUP(L39,[1]rubriques!$B$6:$H$51,7,FALSE),".") -> F08 | P39: =+[1]rubriques!B36 -> prêt | Q39: =IF(ISTEXT($P39),SUMIF($L:$L,$P39,H:H),".") -> 0 | R39: =IF(ISTEXT($P39),SUMIF($L:$L,$P39,I:I),".") -> 0 | S39: =IF(ISTEXT($P39),SUMIF($L:$L,$P39,J:J),".") -> 0 | T39: =IF(ISTEXT($P39),SUMIF($L:$L,$P39,K:K),".") -> 0 | U39: =IF(ISTEXT(P39),+(Q39+S39)-(+R39+T39),".") -> 0 | V39: =IF(P39="x",".",VLOOKUP(P39,rubriques,7,FALSE)) -> Dette
A40: 637 | B40: =IF(C40,TEXT(C40,"MM-AA"),".") -> 12-22 | C40: =+'[1]journal de caisse'!B637 -> 44897 | D40: =IF(ISNUMBER(+'[1]journal de caisse'!C637),+'[1]journal de caisse'!C637,"-") -> - | E40: =IF(ISTEXT(+'[1]journal de caisse'!D637),+'[1]journal de caisse'!D637,".") -> cabinet | F40: =IF(ISTEXT(+'[1]journal de caisse'!E637),+'[1]journal de caisse'!E637,".") -> consultation | G40: =IF(+'[1]journal de caisse'!F637,+'[1]journal de caisse'!F637,".") -> . | H40: =IF(+'[1]journal de caisse'!G637,+'[1]journal de caisse'!G637,".") -> 100 | I40: =IF(+'[1]journal de caisse'!H637,+'[1]journal de caisse'!H637,".") -> . | J40: =IF(+'[1]journal de caisse'!I637,+'[1]journal de caisse'!I637,".") -> . | K40: =IF(+'[1]journal de caisse'!J637,+'[1]journal de caisse'!J637,".") -> . | L40: =IF(ISTEXT(+'[1]journal de caisse'!K637),+'[1]journal de caisse'!K637,".") -> recette | M40: =IF(ISTEXT(L40),IF(ISERROR(VLOOKUP(L40,rubriques,8,FALSE)),"Nouv",VLOOKUP(L40,rubriques,8,FALSE)),".") -> v | N40: =+'[1]journal de caisse'!M637 -> 0 | O40: =IF(ISTEXT(L40),VLOOKUP(L40,[1]rubriques!$B$6:$H$51,7,FALSE),".") -> R1 | P40: =+[1]rubriques!B37 -> dépôt | Q40: =IF(ISTEXT($P40),SUMIF($L:$L,$P40,H:H),".") -> 0 | R40: =IF(ISTEXT($P40),SUMIF($L:$L,$P40,I:I),".") -> 0 | S40: =IF(ISTEXT($P40),SUMIF($L:$L,$P40,J:J),".") -> 0 | T40: =IF(ISTEXT($P40),SUMIF($L:$L,$P40,K:K),".") -> 0 | U40: =IF(ISTEXT(P40),+(Q40+S40)-(+R40+T40),".") -> 0 | V40: =IF(P40="x",".",VLOOKUP(P40,rubriques,7,FALSE)) -> Transf
...

Sheet expl 2022
D1: clôturé | E1: 44926
E2: 2022
E3: =IF(E2,TEXT(E1,"M"),".") -> 12
E5: =SUM(E7:E8) -> 1260
A7: R1 | B7: Suivant livre de recettes | E7: =IF(A7<>"",SUMIF(INDIRECT(E2&"!$V$11:$V$42"),'expl 2022'!$A7,INDIRECT(E2&"!$u$11:$u$42")),".") -> 1260
E10: =SUM(E11:E31) -> 1049.7
A11: F01 | B11: Frais locatifs (enregistrement bail, petits aménagements, entretiens…) | E11: =IF(A11<>"",-SUMIF(INDIRECT($E$2&"!$V$11:$V$43"),'expl 2022'!$A11,INDIRECT($E$2&"!$u$11:$u$43")),".") -> 0 | F11: E11 => | G11: =SI(A11<>"";-SOMME.SI('2022'!$V$11:$V$43;'expl 2022'!$A11;'2022'!$U$11:$U$43);".")
A12: F02 | B12: Charges locatives (électricité, chauffage, eau) | E12: =IF(A12<>"",-SUMIF(INDIRECT($E$2&"!$V$11:$V$43"),'expl 2022'!$A12,INDIRECT($E$2&"!$u$11:$u$43")),".") -> 94.07
A13: F03 | E13: =IF(A13<>"",-SUMIF(INDIRECT($E$2&"!$V$11:$V$43"),'expl 2022'!$A13,INDIRECT($E$2&"!$u$11:$u$43")),".") -> 0 | G13: 2022 fait référence a une feuille (onglet)
A14: F04 | B14: Inscription / Frais d'adhésion / cotisations | E14: =IF(A14<>"",-SUMIF(INDIRECT($E$2&"!$V$11:$V$43"),'expl 2022'!$A14,INDIRECT($E$2&"!$u$11:$u$43")),".") -> 80 | G14: Est-il possible que cet élément de la formule soit repris d'une référence fixe dans la feuille
A15: F05 | B15: Assurance RC professionnelle | E15: =IF(A15<>"",-SUMIF(INDIRECT($E$2&"!$V$11:$V$43"),'expl 2022'!$A15,INDIRECT($E$2&"!$u$11:$u$43")),".") -> 0 | G15: dans cet exemple E2
A16: F06 | B16: Formations-conférences | E16: =IF(A16<>"",-SUMIF(INDIRECT($E$2&"!$V$11:$V$43"),'expl 2022'!$A16,INDIRECT($E$2&"!$u$11:$u$43")),".") -> 0 | G16: Afin que quand je fais glisser ma formule elle s'adapte?
A17: F07 | B17: Frais publicitaires | E17: =IF(A17<>"",-SUMIF(INDIRECT($E$2&"!$V$11:$V$43"),'expl 2022'!$A17,INDIRECT($E$2&"!$u$11:$u$43")),".") -> 0
A18: F08 | B18: Frais de téléphone | E18: =IF(A18<>"",-SUMIF(INDIRECT($E$2&"!$V$11:$V$43"),'expl 2022'!$A18,INDIRECT($E$2&"!$u$11:$u$43")),".") -> 89
A19: F09 | B19: Petit mobilier, matériel de bureau,consomable | E19: =IF(A19<>"",-SUMIF(INDIRECT($E$2&"!$V$11:$V$43"),'expl 2022'!$A19,INDIRECT($E$2&"!$u$11:$u$43")),".") -> 53.43
B20: Forfait frais de bureau 2020
B21: (Administratif) | E21: =60*E3 -> 720
A23: F10 | B23: Petit matériel de travail | E23: =IF(A23<>"",-SUMIF(INDIRECT($E$2&"!$V$11:$V$43"),'expl 2022'!$A23,INDIRECT($E$2&"!$u$11:$u$43")),".") -> 9.99
A24: F11 | B24: Frais de parking | E24: =IF(A24<>"",-SUMIF(INDIRECT($E$2&"!$V$11:$V$43"),'expl 2022'!$A24,INDIRECT($E$2&"!$u$11:$u$43")),".") -> 0
A25: F12 | B25: Cadeaux : | C25: 0.5 | E25: =IF(A25<>"",-SUMIF(INDIRECT($E$2&"!$V$11:$V$43"),'expl 2022'!$A25,INDIRECT($E$2&"!$u$11:$u$43")),".") -> 0
A26: F13 | B26: Frais de restaurants : | C26: 0.69 | D26: =IF(A26<>"",-SUMIF('2022'!$V$11:$V$43,'expl 2022'!$A26,'2022'!$U$11:$U$43),".") -> 0 | E26: =IF(A26<>"",-SUMIF(INDIRECT($E$2&"!$V$11:$V$43"),'expl 2022'!$A26,INDIRECT($E$2&"!$u$11:$u$43")),".") -> 0
A27: F14 | B27: frais lessive | E27: =IF(A27<>"",-SUMIF(INDIRECT($E$2&"!$V$11:$V$43"),'expl 2022'!$A27,INDIRECT($E$2&"!$u$11:$u$43")),".") -> 0
A28: F15 | B28: Frais de voiture (Km) | C28: 0.15 | E28: =IF(A28<>"",-SUMIF(INDIRECT($E$2&"!$V$11:$V$43"),'expl 2022'!$A28,INDIRECT($E$2&"!$u$11:$u$43")),".") -> 3.21
A29: F16 | B29: Frais bancaires | E29: =IF(A29<>"",-SUMIF(INDIRECT($E$2&"!$V$11:$V$43"),'expl 2022'!$A29,INDIRECT($E$2&"!$u$11:$u$43")),".") -> 0
A30: F17 | B30: Frais de vêtements | E30: =IF(A30<>"",-SUMIF(INDIRECT($E$2&"!$V$11:$V$43"),'expl 2022'!$A30,INDIRECT($E$2&"!$u$11:$u$43")),".") -> 0
A31: F18 | E31: =IF(A31<>"",-SUMIF(INDIRECT($E$2&"!$V$11:$V$43"),'expl 2022'!$A31,INDIRECT($E$2&"!$u$11:$u$43")),".") -> 0
A32: CS | B32: COTISATIONS SOCIALES - code 2656 | E32: =IF(A32<>"",-SUMIF(INDIRECT($E$2&"!$V$11:$V$43"),'expl 2022'!$A32,INDIRECT($E$2&"!$u$11:$u$43")),".") -> 0
H42: =+G42/12 -> 0
