Workbook

Sheet Paramétres
A2: TC | B2: 0.33333333 | C2: 0.67708333
A3: CU | B3: 0.33333333 | C3: 0.58333333 | D3: 0.70833333 | E3: 0.79166667

Sheet janvier
A1: Date | D1: AGENT
A2: 44927 | C2: code | D2: matin | F2: après midi | H2: Total heures | I2: dont heures nuit
D3: emb | E3: deb | F3: emb | G3: deb
A4: DIMANCHE | B4: 1 | C4: TC | D4: =IFERROR(VLOOKUP($C4,Paramétres!$A$2:$E$3,COLUMN()-2,FALSE),"") -> 0.33333333 | E4: =IFERROR(VLOOKUP($C4,Paramétres!$A$2:$E$3,COLUMN()-2,FALSE),"") -> 0.67708333 | F4: =IFERROR(VLOOKUP($C4,Paramétres!$A$2:$E$3,COLUMN()-2,FALSE),"") -> 0 | G4: =IFERROR(VLOOKUP($C4,Paramétres!$A$2:$E$3,COLUMN()-2,FALSE),"") -> 0 | H4: =IFERROR((E4-D4)+(G4-F4),"") -> 0.34375 | J4: =IF(H4=0,"repos","") | K4: =IF(H4="","",H4*10.85*24) -> 89.5125
A5: LUNDI | B5: 2 | C5: CU | D5: =IFERROR(VLOOKUP($C5,Paramétres!$A$2:$E$3,COLUMN()-2,FALSE),"") -> 0.33333333 | E5: =IFERROR(VLOOKUP($C5,Paramétres!$A$2:$E$3,COLUMN()-2,FALSE),"") -> 0.58333333 | F5: =IFERROR(VLOOKUP($C5,Paramétres!$A$2:$E$3,COLUMN()-2,FALSE),"") -> 0.70833333 | G5: =IFERROR(VLOOKUP($C5,Paramétres!$A$2:$E$3,COLUMN()-2,FALSE),"") -> 0.79166667 | H5: =IFERROR((E5-D5)+(G5-F5),"") -> 0.33333333 | J5: =IF(H5=0,"repos","") | K5: =IF(H5="","",H5*10.85*24) -> 86.8
A6: MARDI | B6: 3 | D6: =IFERROR(VLOOKUP($C6,Paramétres!$A$2:$E$3,COLUMN()-2,FALSE),"") | E6: =IFERROR(VLOOKUP($C6,Paramétres!$A$2:$E$3,COLUMN()-2,FALSE),"") | F6: =IFERROR(VLOOKUP($C6,Paramétres!$A$2:$E$3,COLUMN()-2,FALSE),"") | G6: =IFERROR(VLOOKUP($C6,Paramétres!$A$2:$E$3,COLUMN()-2,FALSE),"") | H6: =IFERROR((E6-D6)+(G6-F6),"") | J6: =IF(H6=0,"repos","") | K6: =IF(H6="","",H6*10.85*24)
A7: MERCREDI | B7: 4 | D7: =IFERROR(VLOOKUP($C7,Paramétres!$A$2:$E$3,COLUMN()-2,FALSE),"") | E7: =IFERROR(VLOOKUP($C7,Paramétres!$A$2:$E$3,COLUMN()-2,FALSE),"") | F7: =IFERROR(VLOOKUP($C7,Paramétres!$A$2:$E$3,COLUMN()-2,FALSE),"") | G7: =IFERROR(VLOOKUP($C7,Paramétres!$A$2:$E$3,COLUMN()-2,FALSE),"") | H7: =IFERROR((E7-D7)+(G7-F7),"") | J7: =IF(H7=0,"repos","") | K7: =IF(H7="","",H7*10.85*24)
A8: JEUDI | B8: 5 | D8: =IFERROR(VLOOKUP($C8,Paramétres!$A$2:$E$3,COLUMN()-2,FALSE),"") | E8: =IFERROR(VLOOKUP($C8,Paramétres!$A$2:$E$3,COLUMN()-2,FALSE),"") | F8: =IFERROR(VLOOKUP($C8,Paramétres!$A$2:$E$3,COLUMN()-2,FALSE),"") | G8: =IFERROR(VLOOKUP($C8,Paramétres!$A$2:$E$3,COLUMN()-2,FALSE),"") | H8: =IFERROR((E8-D8)+(G8-F8),"") | J8: =IF(H8=0,"repos","") | K8: =IF(H8="","",H8*10.85*24)
A9: VENDREDI | B9: 6 | D9: =IFERROR(VLOOKUP($C9,Paramétres!$A$2:$E$3,COLUMN()-2,FALSE),"") | E9: =IFERROR(VLOOKUP($C9,Paramétres!$A$2:$E$3,COLUMN()-2,FALSE),"") | F9: =IFERROR(VLOOKUP($C9,Paramétres!$A$2:$E$3,COLUMN()-2,FALSE),"") | G9: =IFERROR(VLOOKUP($C9,Paramétres!$A$2:$E$3,COLUMN()-2,FALSE),"") | H9: =IFERROR((E9-D9)+(G9-F9),"") | J9: =IF(H9=0,"repos","") | K9: =IF(H9="","",H9*10.85*24)
A10: SAMEDI | B10: 7 | D10: =IFERROR(VLOOKUP($C10,Paramétres!$A$2:$E$3,COLUMN()-2,FALSE),"") | E10: =IFERROR(VLOOKUP($C10,Paramétres!$A$2:$E$3,COLUMN()-2,FALSE),"") | F10: =IFERROR(VLOOKUP($C10,Paramétres!$A$2:$E$3,COLUMN()-2,FALSE),"") | G10: =IFERROR(VLOOKUP($C10,Paramétres!$A$2:$E$3,COLUMN()-2,FALSE),"") | H10: =IFERROR((E10-D10)+(G10-F10),"") | J10: =IF(H10=0,"repos","") | K10: =IF(H10="","",H10*10.85*24)
A11: DIMANCHE | B11: 8 | D11: =IFERROR(VLOOKUP($C11,Paramétres!$A$2:$E$3,COLUMN()-2,FALSE),"") | E11: =IFERROR(VLOOKUP($C11,Paramétres!$A$2:$E$3,COLUMN()-2,FALSE),"") | F11: =IFERROR(VLOOKUP($C11,Paramétres!$A$2:$E$3,COLUMN()-2,FALSE),"") | G11: =IFERROR(VLOOKUP($C11,Paramétres!$A$2:$E$3,COLUMN()-2,FALSE),"") | H11: =IFERROR((E11-D11)+(G11-F11),"") | J11: =IF(H11=0,"repos","") | K11: =IF(H11="","",H11*10.85*24)
A12: LUNDI | B12: 9 | D12: =IFERROR(VLOOKUP($C12,Paramétres!$A$2:$E$3,COLUMN()-2,FALSE),"") | E12: =IFERROR(VLOOKUP($C12,Paramétres!$A$2:$E$3,COLUMN()-2,FALSE),"") | F12: =IFERROR(VLOOKUP($C12,Paramétres!$A$2:$E$3,COLUMN()-2,FALSE),"") | G12: =IFERROR(VLOOKUP($C12,Paramétres!$A$2:$E$3,COLUMN()-2,FALSE),"") | H12: =IFERROR((E12-D12)+(G12-F12),"") | J12: =IF(H12=0,"repos","") | K12: =IF(H12="","",H12*10.85*24)
A13: MARDI | B13: 10 | D13: =IFERROR(VLOOKUP($C13,Paramétres!$A$2:$E$3,COLUMN()-2,FALSE),"") | E13: =IFERROR(VLOOKUP($C13,Paramétres!$A$2:$E$3,COLUMN()-2,FALSE),"") | F13: =IFERROR(VLOOKUP($C13,Paramétres!$A$2:$E$3,COLUMN()-2,FALSE),"") | G13: =IFERROR(VLOOKUP($C13,Paramétres!$A$2:$E$3,COLUMN()-2,FALSE),"") | H13: =IFERROR((E13-D13)+(G13-F13),"") | J13: =IF(H13=0,"repos","") | K13: =IF(H13="","",H13*10.85*24)
A14: MERCREDI | B14: 11 | D14: =IFERROR(VLOOKUP($C14,Paramétres!$A$2:$E$3,COLUMN()-2,FALSE),"") | E14: =IFERROR(VLOOKUP($C14,Paramétres!$A$2:$E$3,COLUMN()-2,FALSE),"") | F14: =IFERROR(VLOOKUP($C14,Paramétres!$A$2:$E$3,COLUMN()-2,FALSE),"") | G14: =IFERROR(VLOOKUP($C14,Paramétres!$A$2:$E$3,COLUMN()-2,FALSE),"") | H14: =IFERROR((E14-D14)+(G14-F14),"") | J14: =IF(H14=0,"repos","") | K14: =IF(H14="","",H14*10.85*24)
A15: JEUDI | B15: 12 | D15: =IFERROR(VLOOKUP($C15,Paramétres!$A$2:$E$3,COLUMN()-2,FALSE),"") | E15: =IFERROR(VLOOKUP($C15,Paramétres!$A$2:$E$3,COLUMN()-2,FALSE),"") | F15: =IFERROR(VLOOKUP($C15,Paramétres!$A$2:$E$3,COLUMN()-2,FALSE),"") | G15: =IFERROR(VLOOKUP($C15,Paramétres!$A$2:$E$3,COLUMN()-2,FALSE),"") | H15: =IFERROR((E15-D15)+(G15-F15),"") | J15: =IF(H15=0,"repos","") | K15: =IF(H15="","",H15*10.85*24)
A16: VENDREDI | B16: 13 | D16: =IFERROR(VLOOKUP($C16,Paramétres!$A$2:$E$3,COLUMN()-2,FALSE),"") | E16: =IFERROR(VLOOKUP($C16,Paramétres!$A$2:$E$3,COLUMN()-2,FALSE),"") | F16: =IFERROR(VLOOKUP($C16,Paramétres!$A$2:$E$3,COLUMN()-2,FALSE),"") | G16: =IFERROR(VLOOKUP($C16,Paramétres!$A$2:$E$3,COLUMN()-2,FALSE),"") | H16: =IFERROR((E16-D16)+(G16-F16),"") | J16: =IF(H16=0,"repos","") | K16: =IF(H16="","",H16*10.85*24)
A17: SAMEDI | B17: 14 | D17: =IFERROR(VLOOKUP($C17,Paramétres!$A$2:$E$3,COLUMN()-2,FALSE),"") | E17: =IFERROR(VLOOKUP($C17,Paramétres!$A$2:$E$3,COLUMN()-2,FALSE),"") | F17: =IFERROR(VLOOKUP($C17,Paramétres!$A$2:$E$3,COLUMN()-2,FALSE),"") | G17: =IFERROR(VLOOKUP($C17,Paramétres!$A$2:$E$3,COLUMN()-2,FALSE),"") | H17: =IFERROR((E17-D17)+(G17-F17),"") | J17: =IF(H17=0,"repos","") | K17: =IF(H17="","",H17*10.85*24)
... A34: MARDI | B34: 31 | D34: =IFERROR(VLOOKUP($C34,Paramétres!$A$2:$E$3,COLUMN()-2,FALSE),"") | E34: =IFERROR(VLOOKUP($C34,Paramétres!$A$2:$E$3,COLUMN()-2,FALSE),"") | F34: =IFERROR(VLOOKUP($C34,Paramétres!$A$2:$E$3,COLUMN()-2,FALSE),"") | G34: =IFERROR(VLOOKUP($C34,Paramétres!$A$2:$E$3,COLUMN()-2,FALSE),"") | H34: =IFERROR((E34-D34)+(G34-F34),"") | J34: =IF(H34=0,"repos","") | K34: =IF(H34="","",H34*10.85*24)
A35: Total heures | H35: =SUM(H4:H33) -> 0.67708333
A36: dont heures dimanche | H36: =H21
A37: dont heures jours fériés | H37: =H28
A38: dont heures de nuit | H38: =SUM(I4:I34) -> 0
A39: REPORT NOVEMBRE
A40: TOTAL DES HEURES NOVEMBRE ET DECEMBRE | H40: =H36+H39 -> #VALUE!
G41: BRUT | H41: =H35*10.85*24 -> 176.3125
G42: NET | H42: =H41-(H41*19.8%) -> 141.40263

Sheet février
A1: Date | D1: AGENT
A2: 44927 | C2: code | D2: matin | F2: après midi | H2: Total heures | I2: dont heures nuit
D3: emb | E3: deb | F3: emb | G3: deb
A4: DIMANCHE | B4: 1 | H4: =(E4-D4)+(G4-F4) -> 0 | J4: =IF(H4=0,"repos","") -> repos | K4: =IF(H4=0,"",H4*10.85*24)
A5: LUNDI | B5: 2 | H5: =(E5-D5)+(G5-F5) -> 0 | J5: =IF(H5=0,"repos","") -> repos | K5: =IF(H5=0,"",H5*10.85*24)
A6: MARDI | B6: 3 | H6: =(E6-D6)+(G6-F6) -> 0 | J6: =IF(H6=0,"repos","") -> repos | K6: =IF(H6=0,"",H6*10.85*24)
A7: MERCREDI | B7: 4 | H7: =(E7-D7)+(G7-F7) -> 0 | J7: =IF(H7=0,"repos","") -> repos | K7: =IF(H7=0,"",H7*10.85*24)
A8: JEUDI | B8: 5 | H8: =(E8-D8)+(G8-F8) -> 0 | J8: =IF(H8=0,"repos","") -> repos | K8: =IF(H8=0,"",H8*10.85*24)
A9: VENDREDI | B9: 6 | H9: =(E9-D9)+(G9-F9) -> 0 | J9: =IF(H9=0,"repos","") -> repos | K9: =IF(H9=0,"",H9*10.85*24)
A10: SAMEDI | B10: 7 | H10: =(E10-D10)+(G10-F10) -> 0 | J10: =IF(H10=0,"repos","") -> repos | K10: =IF(H10=0,"",H10*10.85*24)
A11: DIMANCHE | B11: 8 | H11: =(E11-D11)+(G11-F11) -> 0 | J11: =IF(H11=0,"repos","") -> repos | K11: =IF(H11=0,"",H11*10.85*24)
A12: LUNDI | B12: 9 | H12: =(E12-D12)+(G12-F12) -> 0 | J12: =IF(H12=0,"repos","") -> repos | K12: =IF(H12=0,"",H12*10.85*24)
A13: MARDI | B13: 10 | H13: =(E13-D13)+(G13-F13) -> 0 | J13: =IF(H13=0,"repos","") -> repos | K13: =IF(H13=0,"",H13*10.85*24)
A14: MERCREDI | B14: 11 | H14: =(E14-D14)+(G14-F14) -> 0 | J14: =IF(H14=0,"repos","") -> repos | K14: =IF(H14=0,"",H14*10.85*24)
A15: JEUDI | B15: 12 | H15: =(E15-D15)+(G15-F15) -> 0 | J15: =IF(H15=0,"repos","") -> repos | K15: =IF(H15=0,"",H15*10.85*24)
... A34: MARDI | B34: 31 | H34: =(E34-D34)+(G34-F34) -> 0 | J34: =IF(H34=0,"repos","") -> repos | K34: =IF(H34=0,"",H34*10.85*24)
A35: Total heures | H35: =SUM(H4:H33) -> 0
A36: dont heures dimanche | H36: =H21 -> 0
A37: dont heures jours fériés | H37: =H28 -> 0
A38: dont heures de nuit | H38: =SUM(I4:I34) -> 0
A39: REPORT NOVEMBRE
A40: TOTAL DES HEURES NOVEMBRE ET DECEMBRE | H40: =H36+H39 -> 0
G41: BRUT | H41: =H35*10.85*24 -> 0
G42: NET | H42: =H41-(H41*19.8%) -> 0

Sheet mars
A1: Date | D1: AGENT
A2: 44927 | C2: code | D2: matin | F2: après midi | H2: Total heures | I2: dont heures nuit
D3: emb | E3: deb | F3: emb | G3: deb
A4: DIMANCHE | B4: 1 | H4: =(E4-D4)+(G4-F4) -> 0 | J4: =IF(H4=0,"repos","") -> repos | K4: =IF(H4=0,"",H4*10.85*24)
A5: LUNDI | B5: 2 | H5: =(E5-D5)+(G5-F5) -> 0 | J5: =IF(H5=0,"repos","") -> repos | K5: =IF(H5=0,"",H5*10.85*24)
A6: MARDI | B6: 3 | H6: =(E6-D6)+(G6-F6) -> 0 | J6: =IF(H6=0,"repos","") -> repos | K6: =IF(H6=0,"",H6*10.85*24)
A7: MERCREDI | B7: 4 | H7: =(E7-D7)+(G7-F7) -> 0 | J7: =IF(H7=0,"repos","") -> repos | K7: =IF(H7=0,"",H7*10.85*24)
A8: JEUDI | B8: 5 | H8: =(E8-D8)+(G8-F8) -> 0 | J8: =IF(H8=0,"repos","") -> repos | K8: =IF(H8=0,"",H8*10.85*24)
A9: VENDREDI | B9: 6 | H9: =(E9-D9)+(G9-F9) -> 0 | J9: =IF(H9=0,"repos","") -> repos | K9: =IF(H9=0,"",H9*10.85*24)
A10: SAMEDI | B10: 7 | H10: =(E10-D10)+(G10-F10) -> 0 | J10: =IF(H10=0,"repos","") -> repos | K10: =IF(H10=0,"",H10*10.85*24)
A11: DIMANCHE | B11: 8 | H11: =(E11-D11)+(G11-F11) -> 0 | J11: =IF(H11=0,"repos","") -> repos | K11: =IF(H11=0,"",H11*10.85*24)
A12: LUNDI | B12: 9 | H12: =(E12-D12)+(G12-F12) -> 0 | J12: =IF(H12=0,"repos","") -> repos | K12: =IF(H12=0,"",H12*10.85*24)
A13: MARDI | B13: 10 | H13: =(E13-D13)+(G13-F13) -> 0 | J13: =IF(H13=0,"repos","") -> repos | K13: =IF(H13=0,"",H13*10.85*24)
A14: MERCREDI | B14: 11 | H14: =(E14-D14)+(G14-F14) -> 0 | J14: =IF(H14=0,"repos","") -> repos | K14: =IF(H14=0,"",H14*10.85*24)
A15: JEUDI | B15: 12 | H15: =(E15-D15)+(G15-F15) -> 0 | J15: =IF(H15=0,"repos","") -> repos | K15: =IF(H15=0,"",H15*10.85*24)
... A34: MARDI | B34: 31 | H34: =(E34-D34)+(G34-F34) -> 0 | J34: =IF(H34=0,"repos","") -> repos | K34: =IF(H34=0,"",H34*10.85*24)
A35: Total heures | H35: =SUM(H4:H33) -> 0
A36: dont heures dimanche | H36: =H21 -> 0
A37: dont heures jours fériés | H37: =H28 -> 0
A38: dont heures de nuit | H38: =SUM(I4:I34) -> 0
A39: REPORT NOVEMBRE
A40: TOTAL DES HEURES NOVEMBRE ET DECEMBRE | H40: =H36+H39 -> 0
G41: BRUT | H41: =H35*10.85*24 -> 0
G42: NET | H42: =H41-(H41*19.8%) -> 0

Sheet avril
A1: Date | D1: AGENT
A2: 44927 | C2: code | D2: matin | F2: après midi | H2: Total heures | I2: dont heures nuit
D3: emb | E3: deb | F3: emb | G3: deb
A4: DIMANCHE | B4: 1 | H4: =(E4-D4)+(G4-F4) -> 0 | J4: =IF(H4=0,"repos","") -> repos | K4: =IF(H4=0,"",H4*10.85*24)
A5: LUNDI | B5: 2 | H5: =(E5-D5)+(G5-F5) -> 0 | J5: =IF(H5=0,"repos","") -> repos | K5: =IF(H5=0,"",H5*10.85*24)
A6: MARDI | B6: 3 | H6: =(E6-D6)+(G6-F6) -> 0 | J6: =IF(H6=0,"repos","") -> repos | K6: =IF(H6=0,"",H6*10.85*24)
A7: MERCREDI | B7: 4 | H7: =(E7-D7)+(G7-F7) -> 0 | J7: =IF(H7=0,"repos","") -> repos | K7: =IF(H7=0,"",H7*10.85*24)
A8: JEUDI | B8: 5 | H8: =(E8-D8)+(G8-F8) -> 0 | J8: =IF(H8=0,"repos","") -> repos | K8: =IF(H8=0,"",H8*10.85*24)
A9: VENDREDI | B9: 6 | H9: =(E9-D9)+(G9-F9) -> 0 | J9: =IF(H9=0,"repos","") -> repos | K9: =IF(H9=0,"",H9*10.85*24)
A10: SAMEDI | B10: 7 | H10: =(E10-D10)+(G10-F10) -> 0 | J10: =IF(H10=0,"repos","") -> repos | K10: =IF(H10=0,"",H10*10.85*24)
A11: DIMANCHE | B11: 8 | H11: =(E11-D11)+(G11-F11) -> 0 | J11: =IF(H11=0,"repos","") -> repos | K11: =IF(H11=0,"",H11*10.85*24)
A12: LUNDI | B12: 9 | H12: =(E12-D12)+(G12-F12) -> 0 | J12: =IF(H12=0,"repos","") -> repos | K12: =IF(H12=0,"",H12*10.85*24)
A13: MARDI | B13: 10 | H13: =(E13-D13)+(G13-F13) -> 0 | J13: =IF(H13=0,"repos","") -> repos | K13: =IF(H13=0,"",H13*10.85*24)
A14: MERCREDI | B14: 11 | H14: =(E14-D14)+(G14-F14) -> 0 | J14: =IF(H14=0,"repos","") -> repos | K14: =IF(H14=0,"",H14*10.85*24)
A15: JEUDI | B15: 12 | H15: =(E15-D15)+(G15-F15) -> 0 | J15: =IF(H15=0,"repos","") -> repos | K15: =IF(H15=0,"",H15*10.85*24)
... A34: MARDI | B34: 31 | H34: =(E34-D34)+(G34-F34) -> 0 | J34: =IF(H34=0,"repos","") -> repos | K34: =IF(H34=0,"",H34*10.85*24)
A35: Total heures | H35: =SUM(H4:H33) -> 0
A36: dont heures dimanche | H36: =H21 -> 0
A37: dont heures jours fériés | H37: =H28 -> 0
A38: dont heures de nuit | H38: =SUM(I4:I34) -> 0
A39: REPORT NOVEMBRE
A40: TOTAL DES HEURES NOVEMBRE ET DECEMBRE | H40: =H36+H39 -> 0
G41: BRUT | H41: =H35*10.85*24 -> 0
G42: NET | H42: =H41-(H41*19.8%) -> 0

Sheet mai
A1: Date | D1: AGENT
A2: 44927 | C2: code | D2: matin | F2: après midi | H2: Total heures | I2: dont heures nuit
D3: emb | E3: deb | F3: emb | G3: deb
A4: DIMANCHE | B4: 1 | H4: =(E4-D4)+(G4-F4) -> 0 | J4: =IF(H4=0,"repos","") -> repos | K4: =IF(H4=0,"",H4*10.85*24)
A5: LUNDI | B5: 2 | H5: =(E5-D5)+(G5-F5) -> 0 | J5: =IF(H5=0,"repos","") -> repos | K5: =IF(H5=0,"",H5*10.85*24)
A6: MARDI | B6: 3 | H6: =(E6-D6)+(G6-F6) -> 0 | J6: =IF(H6=0,"repos","") -> repos | K6: =IF(H6=0,"",H6*10.85*24)
A7: MERCREDI | B7: 4 | H7: =(E7-D7)+(G7-F7) -> 0 | J7: =IF(H7=0,"repos","") -> repos | K7: =IF(H7=0,"",H7*10.85*24)
A8: JEUDI | B8: 5 | H8: =(E8-D8)+(G8-F8) -> 0 | J8: =IF(H8=0,"repos","") -> repos | K8: =IF(H8=0,"",H8*10.85*24)
A9: VENDREDI | B9: 6 | H9: =(E9-D9)+(G9-F9) -> 0 | J9: =IF(H9=0,"repos","") -> repos | K9: =IF(H9=0,"",H9*10.85*24)
A10: SAMEDI | B10: 7 | H10: =(E10-D10)+(G10-F10) -> 0 | J10: =IF(H10=0,"repos","") -> repos | K10: =IF(H10=0,"",H10*10.85*24)
A11: DIMANCHE | B11: 8 | H11: =(E11-D11)+(G11-F11) -> 0 | J11: =IF(H11=0,"repos","") -> repos | K11: =IF(H11=0,"",H11*10.85*24)
A12: LUNDI | B12: 9 | H12: =(E12-D12)+(G12-F12) -> 0 | J12: =IF(H12=0,"repos","") -> repos | K12: =IF(H12=0,"",H12*10.85*24)
A13: MARDI | B13: 10 | H13: =(E13-D13)+(G13-F13) -> 0 | J13: =IF(H13=0,"repos","") -> repos | K13: =IF(H13=0,"",H13*10.85*24)
A14: MERCREDI | B14: 11 | H14: =(E14-D14)+(G14-F14) -> 0 | J14: =IF(H14=0,"repos","") -> repos | K14: =IF(H14=0,"",H14*10.85*24)
A15: JEUDI | B15: 12 | H15: =(E15-D15)+(G15-F15) -> 0 | J15: =IF(H15=0,"repos","") -> repos | K15: =IF(H15=0,"",H15*10.85*24)
... A34: MARDI | B34: 31 | H34: =(E34-D34)+(G34-F34) -> 0 | J34: =IF(H34=0,"repos","") -> repos | K34: =IF(H34=0,"",H34*10.85*24)
A35: Total heures | H35: =SUM(H4:H33) -> 0
A36: dont heures dimanche | H36: =H21 -> 0
A37: dont heures jours fériés | H37: =H28 -> 0
A38: dont heures de nuit | H38: =SUM(I4:I34) -> 0
A39: REPORT NOVEMBRE
A40: TOTAL DES HEURES NOVEMBRE ET DECEMBRE | H40: =H36+H39 -> 0
G41: BRUT | H41: =H35*10.85*24 -> 0
G42: NET | H42: =H41-(H41*19.8%) -> 0

Sheet juin
A1: Date | D1: AGENT
A2: 44927 | C2: code | D2: matin | F2: après midi | H2: Total heures | I2: dont heures nuit
D3: emb | E3: deb | F3: emb | G3: deb
A4: DIMANCHE | B4: 1 | H4: =(E4-D4)+(G4-F4) -> 0 | J4: =IF(H4=0,"repos","") -> repos | K4: =IF(H4=0,"",H4*10.85*24)
A5: LUNDI | B5: 2 | H5: =(E5-D5)+(G5-F5) -> 0 | J5: =IF(H5=0,"repos","") -> repos | K5: =IF(H5=0,"",H5*10.85*24)
A6: MARDI | B6: 3 | H6: =(E6-D6)+(G6-F6) -> 0 | J6: =IF(H6=0,"repos","") -> repos | K6: =IF(H6=0,"",H6*10.85*24)
A7: MERCREDI | B7: 4 | H7: =(E7-D7)+(G7-F7) -> 0 | J7: =IF(H7=0,"repos","") -> repos | K7: =IF(H7=0,"",H7*10.85*24)
A8: JEUDI | B8: 5 | H8: =(E8-D8)+(G8-F8) -> 0 | J8: =IF(H8=0,"repos","") -> repos | K8: =IF(H8=0,"",H8*10.85*24)
A9: VENDREDI | B9: 6 | H9: =(E9-D9)+(G9-F9) -> 0 | J9: =IF(H9=0,"repos","") -> repos | K9: =IF(H9=0,"",H9*10.85*24)
A10: SAMEDI | B10: 7 | H10: =(E10-D10)+(G10-F10) -> 0 | J10: =IF(H10=0,"repos","") -> repos | K10: =IF(H10=0,"",H10*10.85*24)
A11: DIMANCHE | B11: 8 | H11: =(E11-D11)+(G11-F11) -> 0 | J11: =IF(H11=0,"repos","") -> repos | K11: =IF(H11=0,"",H11*10.85*24)
A12: LUNDI | B12: 9 | H12: =(E12-D12)+(G12-F12) -> 0 | J12: =IF(H12=0,"repos","") -> repos | K12: =IF(H12=0,"",H12*10.85*24)
A13: MARDI | B13: 10 | H13: =(E13-D13)+(G13-F13) -> 0 | J13: =IF(H13=0,"repos","") -> repos | K13: =IF(H13=0,"",H13*10.85*24)
A14: MERCREDI | B14: 11 | H14: =(E14-D14)+(G14-F14) -> 0 | J14: =IF(H14=0,"repos","") -> repos | K14: =IF(H14=0,"",H14*10.85*24)
A15: JEUDI | B15: 12 | H15: =(E15-D15)+(G15-F15) -> 0 | J15: =IF(H15=0,"repos","") -> repos | K15: =IF(H15=0,"",H15*10.85*24)
... A34: MARDI | B34: 31 | H34: =(E34-D34)+(G34-F34) -> 0 | J34: =IF(H34=0,"repos","") -> repos | K34: =IF(H34=0,"",H34*10.85*24)
A35: Total heures | H35: =SUM(H4:H33) -> 0
A36: dont heures dimanche | H36: =H21 -> 0
A37: dont heures jours fériés | H37: =H28 -> 0
A38: dont heures de nuit | H38: =SUM(I4:I34) -> 0
A39: REPORT NOVEMBRE
A40: TOTAL DES HEURES NOVEMBRE ET DECEMBRE | H40: =H36+H39 -> 0
G41: BRUT | H41: =H35*10.85*24 -> 0
G42: NET | H42: =H41-(H41*19.8%) -> 0

Sheet juillet
A1: Date | D1: AGENT
A2: 44927 | C2: code | D2: matin | F2: après midi | H2: Total heures | I2: dont heures nuit
D3: emb | E3: deb | F3: emb | G3: deb
A4: DIMANCHE | B4: 1 | H4: =(E4-D4)+(G4-F4) -> 0 | J4: =IF(H4=0,"repos","") -> repos | K4: =IF(H4=0,"",H4*10.85*24)
A5: LUNDI | B5: 2 | H5: =(E5-D5)+(G5-F5) -> 0 | J5: =IF(H5=0,"repos","") -> repos | K5: =IF(H5=0,"",H5*10.85*24)
A6: MARDI | B6: 3 | H6: =(E6-D6)+(G6-F6) -> 0 | J6: =IF(H6=0,"repos","") -> repos | K6: =IF(H6=0,"",H6*10.85*24)
A7: MERCREDI | B7: 4 | H7: =(E7-D7)+(G7-F7) -> 0 | J7: =IF(H7=0,"repos","") -> repos | K7: =IF(H7=0,"",H7*10.85*24)
A8: JEUDI | B8: 5 | H8: =(E8-D8)+(G8-F8) -> 0 | J8: =IF(H8=0,"repos","") -> repos | K8: =IF(H8=0,"",H8*10.85*24)
A9: VENDREDI | B9: 6 | H9: =(E9-D9)+(G9-F9) -> 0 | J9: =IF(H9=0,"repos","") -> repos | K9: =IF(H9=0,"",H9*10.85*24)
A10: SAMEDI | B10: 7 | H10: =(E10-D10)+(G10-F10) -> 0 | J10: =IF(H10=0,"repos","") -> repos | K10: =IF(H10=0,"",H10*10.85*24)
A11: DIMANCHE | B11: 8 | H11: =(E11-D11)+(G11-F11) -> 0 | J11: =IF(H11=0,"repos","") -> repos | K11: =IF(H11=0,"",H11*10.85*24)
A12: LUNDI | B12: 9 | H12: =(E12-D12)+(G12-F12) -> 0 | J12: =IF(H12=0,"repos","") -> repos | K12: =IF(H12=0,"",H12*10.85*24)
A13: MARDI | B13: 10 | H13: =(E13-D13)+(G13-F13) -> 0 | J13: =IF(H13=0,"repos","") -> repos | K13: =IF(H13=0,"",H13*10.85*24)
A14: MERCREDI | B14: 11 | H14: =(E14-D14)+(G14-F14) -> 0 | J14: =IF(H14=0,"repos","") -> repos | K14: =IF(H14=0,"",H14*10.85*24)
A15: JEUDI | B15: 12 | H15: =(E15-D15)+(G15-F15) -> 0 | J15: =IF(H15=0,"repos","") -> repos | K15: =IF(H15=0,"",H15*10.85*24)
... A34: MARDI | B34: 31 | H34: =(E34-D34)+(G34-F34) -> 0 | J34: =IF(H34=0,"repos","") -> repos | K34: =IF(H34=0,"",H34*10.85*24)
A35: Total heures | H35: =SUM(H4:H33) -> 0
A36: dont heures dimanche | H36: =H21 -> 0
A37: dont heures jours fériés | H37: =H28 -> 0
A38: dont heures de nuit | H38: =SUM(I4:I34) -> 0
A39: REPORT NOVEMBRE
A40: TOTAL DES HEURES NOVEMBRE ET DECEMBRE | H40: =H36+H39 -> 0
G41: BRUT | H41: =H35*10.85*24 -> 0
G42: NET | H42: =H41-(H41*19.8%) -> 0

Sheet aout
A1: Date | D1: AGENT
A2: 44927 | C2: code | D2: matin | F2: après midi | H2: Total heures | I2: dont heures nuit
D3: emb | E3: deb | F3: emb | G3: deb
A4: DIMANCHE | B4: 1 | H4: =(E4-D4)+(G4-F4) -> 0 | J4: =IF(H4=0,"repos","") -> repos | K4: =IF(H4=0,"",H4*10.85*24)
A5: LUNDI | B5: 2 | H5: =(E5-D5)+(G5-F5) -> 0 | J5: =IF(H5=0,"repos","") -> repos | K5: =IF(H5=0,"",H5*10.85*24)
A6: MARDI | B6: 3 | H6: =(E6-D6)+(G6-F6) -> 0 | J6: =IF(H6=0,"repos","") -> repos | K6: =IF(H6=0,"",H6*10.85*24)
A7: MERCREDI | B7: 4 | H7: =(E7-D7)+(G7-F7) -> 0 | J7: =IF(H7=0,"repos","") -> repos | K7: =IF(H7=0,"",H7*10.85*24)
A8: JEUDI | B8: 5 | H8: =(E8-D8)+(G8-F8) -> 0 | J8: =IF(H8=0,"repos","") -> repos | K8: =IF(H8=0,"",H8*10.85*24)
A9: VENDREDI | B9: 6 | H9: =(E9-D9)+(G9-F9) -> 0 | J9: =IF(H9=0,"repos","") -> repos | K9: =IF(H9=0,"",H9*10.85*24)
A10: SAMEDI | B10: 7 | H10: =(E10-D10)+(G10-F10) -> 0 | J10: =IF(H10=0,"repos","") -> repos | K10: =IF(H10=0,"",H10*10.85*24)
A11: DIMANCHE | B11: 8 | H11: =(E11-D11)+(G11-F11) -> 0 | J11: =IF(H11=0,"repos","") -> repos | K11: =IF(H11=0,"",H11*10.85*24)
A12: LUNDI | B12: 9 | H12: =(E12-D12)+(G12-F12) -> 0 | J12: =IF(H12=0,"repos","") -> repos | K12: =IF(H12=0,"",H12*10.85*24)
A13: MARDI | B13: 10 | H13: =(E13-D13)+(G13-F13) -> 0 | J13: =IF(H13=0,"repos","") -> repos | K13: =IF(H13=0,"",H13*10.85*24)
A14: MERCREDI | B14: 11 | H14: =(E14-D14)+(G14-F14) -> 0 | J14: =IF(H14=0,"repos","") -> repos | K14: =IF(H14=0,"",H14*10.85*24)
A15: JEUDI | B15: 12 | H15: =(E15-D15)+(G15-F15) -> 0 | J15: =IF(H15=0,"repos","") -> repos | K15: =IF(H15=0,"",H15*10.85*24)
... A34: MARDI | B34: 31 | H34: =(E34-D34)+(G34-F34) -> 0 | J34: =IF(H34=0,"repos","") -> repos | K34: =IF(H34=0,"",H34*10.85*24)
A35: Total heures | H35: =SUM(H4:H33) -> 0
A36: dont heures dimanche | H36: =H21 -> 0
A37: dont heures jours fériés | H37: =H28 -> 0
A38: dont heures de nuit | H38: =SUM(I4:I34) -> 0
A39: REPORT NOVEMBRE
A40: TOTAL DES HEURES NOVEMBRE ET DECEMBRE | H40: =H36+H39 -> 0
G41: BRUT | H41: =H35*10.85*24 -> 0
G42: NET | H42: =H41-(H41*19.8%) -> 0

Sheet septembre
A1: Date | D1: AGENT
A2: 44927 | C2: code | D2: matin | F2: après midi | H2: Total heures | I2: dont heures nuit
D3: emb | E3: deb | F3: emb | G3: deb
A4: DIMANCHE | B4: 1 | H4: =(E4-D4)+(G4-F4) -> 0 | J4: =IF(H4=0,"repos","") -> repos | K4: =IF(H4=0,"",H4*10.85*24)
A5: LUNDI | B5: 2 | H5: =(E5-D5)+(G5-F5) -> 0 | J5: =IF(H5=0,"repos","") -> repos | K5: =IF(H5=0,"",H5*10.85*24)
A6: MARDI | B6: 3 | H6: =(E6-D6)+(G6-F6) -> 0 | J6: =IF(H6=0,"repos","") -> repos | K6: =IF(H6=0,"",H6*10.85*24)
A7: MERCREDI | B7: 4 | H7: =(E7-D7)+(G7-F7) -> 0 | J7: =IF(H7=0,"repos","") -> repos | K7: =IF(H7=0,"",H7*10.85*24)
A8: JEUDI | B8: 5 | H8: =(E8-D8)+(G8-F8) -> 0 | J8: =IF(H8=0,"repos","") -> repos | K8: =IF(H8=0,"",H8*10.85*24)
A9: VENDREDI | B9: 6 | H9: =(E9-D9)+(G9-F9) -> 0 | J9: =IF(H9=0,"repos","") -> repos | K9: =IF(H9=0,"",H9*10.85*24)
A10: SAMEDI | B10: 7 | H10: =(E10-D10)+(G10-F10) -> 0 | J10: =IF(H10=0,"repos","") -> repos | K10: =IF(H10=0,"",H10*10.85*24)
A11: DIMANCHE | B11: 8 | H11: =(E11-D11)+(G11-F11) -> 0 | J11: =IF(H11=0,"repos","") -> repos | K11: =IF(H11=0,"",H11*10.85*24)
A12: LUNDI | B12: 9 | H12: =(E12-D12)+(G12-F12) -> 0 | J12: =IF(H12=0,"repos","") -> repos | K12: =IF(H12=0,"",H12*10.85*24)
A13: MARDI | B13: 10 | H13: =(E13-D13)+(G13-F13) -> 0 | J13: =IF(H13=0,"repos","") -> repos | K13: =IF(H13=0,"",H13*10.85*24)
A14: MERCREDI | B14: 11 | H14: =(E14-D14)+(G14-F14) -> 0 | J14: =IF(H14=0,"repos","") -> repos | K14: =IF(H14=0,"",H14*10.85*24)
A15: JEUDI | B15: 12 | H15: =(E15-D15)+(G15-F15) -> 0 | J15: =IF(H15=0,"repos","") -> repos | K15: =IF(H15=0,"",H15*10.85*24)
... A34: MARDI | B34: 31 | H34: =(E34-D34)+(G34-F34) -> 0 | J34: =IF(H34=0,"repos","") -> repos | K34: =IF(H34=0,"",H34*10.85*24)
A35: Total heures | H35: =SUM(H4:H33) -> 0
A36: dont heures dimanche | H36: =H21 -> 0
A37: dont heures jours fériés | H37: =H28 -> 0
A38: dont heures de nuit | H38: =SUM(I4:I34) -> 0
A39: REPORT NOVEMBRE
A40: TOTAL DES HEURES NOVEMBRE ET DECEMBRE | H40: =H36+H39 -> 0
G41: BRUT | H41: =H35*10.85*24 -> 0
G42: NET | H42: =H41-(H41*19.8%) -> 0

Sheet octobre
A1: Date | D1: AGENT
A2: 44927 | C2: code | D2: matin | F2: après midi | H2: Total heures | I2: dont heures nuit
D3: emb | E3: deb | F3: emb | G3: deb
A4: DIMANCHE | B4: 1 | H4: =(E4-D4)+(G4-F4) -> 0 | J4: =IF(H4=0,"repos","") -> repos | K4: =IF(H4=0,"",H4*10.85*24)
A5: LUNDI | B5: 2 | H5: =(E5-D5)+(G5-F5) -> 0 | J5: =IF(H5=0,"repos","") -> repos | K5: =IF(H5=0,"",H5*10.85*24)
A6: MARDI | B6: 3 | H6: =(E6-D6)+(G6-F6) -> 0 | J6: =IF(H6=0,"repos","") -> repos | K6: =IF(H6=0,"",H6*10.85*24)
A7: MERCREDI | B7: 4 | H7: =(E7-D7)+(G7-F7) -> 0 | J7: =IF(H7=0,"repos","") -> repos | K7: =IF(H7=0,"",H7*10.85*24)
A8: JEUDI | B8: 5 | H8: =(E8-D8)+(G8-F8) -> 0 | J8: =IF(H8=0,"repos","") -> repos | K8: =IF(H8=0,"",H8*10.85*24)
A9: VENDREDI | B9: 6 | H9: =(E9-D9)+(G9-F9) -> 0 | J9: =IF(H9=0,"repos","") -> repos | K9: =IF(H9=0,"",H9*10.85*24)
A10: SAMEDI | B10: 7 | H10: =(E10-D10)+(G10-F10) -> 0 | J10: =IF(H10=0,"repos","") -> repos | K10: =IF(H10=0,"",H10*10.85*24)
A11: DIMANCHE | B11: 8 | H11: =(E11-D11)+(G11-F11) -> 0 | J11: =IF(H11=0,"repos","") -> repos | K11: =IF(H11=0,"",H11*10.85*24)
A12: LUNDI | B12: 9 | H12: =(E12-D12)+(G12-F12) -> 0 | J12: =IF(H12=0,"repos","") -> repos | K12: =IF(H12=0,"",H12*10.85*24)
A13: MARDI | B13: 10 | H13: =(E13-D13)+(G13-F13) -> 0 | J13: =IF(H13=0,"repos","") -> repos | K13: =IF(H13=0,"",H13*10.85*24)
A14: MERCREDI | B14: 11 | H14: =(E14-D14)+(G14-F14) -> 0 | J14: =IF(H14=0,"repos","") -> repos | K14: =IF(H14=0,"",H14*10.85*24)
A15: JEUDI | B15: 12 | H15: =(E15-D15)+(G15-F15) -> 0 | J15: =IF(H15=0,"repos","") -> repos | K15: =IF(H15=0,"",H15*10.85*24)
... A34: MARDI | B34: 31 | H34: =(E34-D34)+(G34-F34) -> 0 | J34: =IF(H34=0,"repos","") -> repos | K34: =IF(H34=0,"",H34*10.85*24)
A35: Total heures | H35: =SUM(H4:H33) -> 0
A36: dont heures dimanche | H36: =H21 -> 0
A37: dont heures jours fériés | H37: =H28 -> 0
A38: dont heures de nuit | H38: =SUM(I4:I34) -> 0
A39: REPORT NOVEMBRE
A40: TOTAL DES HEURES NOVEMBRE ET DECEMBRE | H40: =H36+H39 -> 0
G41: BRUT | H41: =H35*10.85*24 -> 0
G42: NET | H42: =H41-(H41*19.8%) -> 0

Sheet novembre
A1: Date | D1: AGENT
A2: 44927 | C2: code | D2: matin | F2: après midi | H2: Total heures | I2: dont heures nuit
D3: emb | E3: deb | F3: emb | G3: deb
A4: DIMANCHE | B4: 1 | H4: =(E4-D4)+(G4-F4) -> 0 | J4: =IF(H4=0,"repos","") -> repos | K4: =IF(H4=0,"",H4*10.85*24)
A5: LUNDI | B5: 2 | H5: =(E5-D5)+(G5-F5) -> 0 | J5: =IF(H5=0,"repos","") -> repos | K5: =IF(H5=0,"",H5*10.85*24)
A6: MARDI | B6: 3 | H6: =(E6-D6)+(G6-F6) -> 0 | J6: =IF(H6=0,"repos","") -> repos | K6: =IF(H6=0,"",H6*10.85*24)
A7: MERCREDI | B7: 4 | H7: =(E7-D7)+(G7-F7) -> 0 | J7: =IF(H7=0,"repos","") -> repos | K7: =IF(H7=0,"",H7*10.85*24)
A8: JEUDI | B8: 5 | H8: =(E8-D8)+(G8-F8) -> 0 | J8: =IF(H8=0,"repos","") -> repos | K8: =IF(H8=0,"",H8*10.85*24)
A9: VENDREDI | B9: 6 | H9: =(E9-D9)+(G9-F9) -> 0 | J9: =IF(H9=0,"repos","") -> repos | K9: =IF(H9=0,"",H9*10.85*24)
A10: SAMEDI | B10: 7 | H10: =(E10-D10)+(G10-F10) -> 0 | J10: =IF(H10=0,"repos","") -> repos | K10: =IF(H10=0,"",H10*10.85*24)
A11: DIMANCHE | B11: 8 | H11: =(E11-D11)+(G11-F11) -> 0 | J11: =IF(H11=0,"repos","") -> repos | K11: =IF(H11=0,"",H11*10.85*24)
A12: LUNDI | B12: 9 | H12: =(E12-D12)+(G12-F12) -> 0 | J12: =IF(H12=0,"repos","") -> repos | K12: =IF(H12=0,"",H12*10.85*24)
A13: MARDI | B13: 10 | H13: =(E13-D13)+(G13-F13) -> 0 | J13: =IF(H13=0,"repos","") -> repos | K13: =IF(H13=0,"",H13*10.85*24)
A14: MERCREDI | B14: 11 | H14: =(E14-D14)+(G14-F14) -> 0 | J14: =IF(H14=0,"repos","") -> repos | K14: =IF(H14=0,"",H14*10.85*24)
A15: JEUDI | B15: 12 | H15: =(E15-D15)+(G15-F15) -> 0 | J15: =IF(H15=0,"repos","") -> repos | K15: =IF(H15=0,"",H15*10.85*24)
... A34: MARDI | B34: 31 | H34: =(E34-D34)+(G34-F34) -> 0 | J34: =IF(H34=0,"repos","") -> repos | K34: =IF(H34=0,"",H34*10.85*24)
A35: Total heures | H35: =SUM(H4:H33) -> 0
A36: dont heures dimanche | H36: =H21 -> 0
A37: dont heures jours fériés | H37: =H28 -> 0
A38: dont heures de nuit | H38: =SUM(I4:I34) -> 0
A39: REPORT NOVEMBRE
A40: TOTAL DES HEURES NOVEMBRE ET DECEMBRE | H40: =H36+H39 -> 0
G41: BRUT | H41: =H35*10.85*24 -> 0
G42: NET | H42: =H41-(H41*19.8%) -> 0

Sheet decembre
A1: Date | D1: AGENT
A2: 44927 | C2: code | D2: matin | F2: après midi | H2: Total heures | I2: dont heures nuit
D3: emb | E3: deb | F3: emb | G3: deb
A4: DIMANCHE | B4: 1 | H4: =(E4-D4)+(G4-F4) -> 0 | J4: =IF(H4=0,"repos","") -> repos | K4: =IF(H4=0,"",H4*10.85*24)
A5: LUNDI | B5: 2 | H5: =(E5-D5)+(G5-F5) -> 0 | J5: =IF(H5=0,"repos","") -> repos | K5: =IF(H5=0,"",H5*10.85*24)
A6: MARDI | B6: 3 | H6: =(E6-D6)+(G6-F6) -> 0 | J6: =IF(H6=0,"repos","") -> repos | K6: =IF(H6=0,"",H6*10.85*24)
A7: MERCREDI | B7: 4 | H7: =(E7-D7)+(G7-F7) -> 0 | J7: =IF(H7=0,"repos","") -> repos | K7: =IF(H7=0,"",H7*10.85*24)
A8: JEUDI | B8: 5 | H8: =(E8-D8)+(G8-F8) -> 0 | J8: =IF(H8=0,"repos","") -> repos | K8: =IF(H8=0,"",H8*10.85*24)
A9: VENDREDI | B9: 6 | H9: =(E9-D9)+(G9-F9) -> 0 | J9: =IF(H9=0,"repos","") -> repos | K9: =IF(H9=0,"",H9*10.85*24)
A10: SAMEDI | B10: 7 | H10: =(E10-D10)+(G10-F10) -> 0 | J10: =IF(H10=0,"repos","") -> repos | K10: =IF(H10=0,"",H10*10.85*24)
A11: DIMANCHE | B11: 8 | H11: =(E11-D11)+(G11-F11) -> 0 | J11: =IF(H11=0,"repos","") -> repos | K11: =IF(H11=0,"",H11*10.85*24)
A12: LUNDI | B12: 9 | H12: =(E12-D12)+(G12-F12) -> 0 | J12: =IF(H12=0,"repos","") -> repos | K12: =IF(H12=0,"",H12*10.85*24)
A13: MARDI | B13: 10 | H13: =(E13-D13)+(G13-F13) -> 0 | J13: =IF(H13=0,"repos","") -> repos | K13: =IF(H13=0,"",H13*10.85*24)
A14: MERCREDI | B14: 11 | H14: =(E14-D14)+(G14-F14) -> 0 | J14: =IF(H14=0,"repos","") -> repos | K14: =IF(H14=0,"",H14*10.85*24)
A15: JEUDI | B15: 12 | H15: =(E15-D15)+(G15-F15) -> 0 | J15: =IF(H15=0,"repos","") -> repos | K15: =IF(H15=0,"",H15*10.85*24)
... A34: MARDI | B34: 31 | H34: =(E34-D34)+(G34-F34) -> 0 | J34: =IF(H34=0,"repos","") -> repos | K34: =IF(H34=0,"",H34*10.85*24)
A35: Total heures | H35: =SUM(H4:H33) -> 0
A36: dont heures dimanche | H36: =H21 -> 0
A37: dont heures jours fériés | H37: =H28 -> 0
A38: dont heures de nuit | H38: =SUM(I4:I34) -> 0
A39: REPORT NOVEMBRE
A40: TOTAL DES HEURES NOVEMBRE ET DECEMBRE | H40: =H36+H39 -> 0
G41: BRUT | H41: =H35*10.85*24 -> 0
G42: NET | H42: =H41-(H41*19.8%) -> 0
