Workbook

Sheet Tableau 
C7: Année | D7: 2024 | F7: Date | G7: Août
C10: CLIENT | E10: Formule | G10: Date | I10: Prix
C12: =IFERROR(INDEX(Données!C$4:C$35,MATCH(ROW()-11,Données!$K$4:$K$35,0)),"") -> M9 | E12: =IFERROR(INDEX(Données!D$4:D$35,MATCH(ROW()-11,Données!$K$4:$K$35,0)),"") -> F3 | G12: =IFERROR(INDEX(Données!E$4:E$35,MATCH(ROW()-11,Données!$K$4:$K$35,0)),"") -> 45505 | I12: =IFERROR(INDEX(Données!F$4:F$35,MATCH(ROW()-11,Données!$K$4:$K$35,0)),"") -> 1120
C13: =IFERROR(INDEX(Données!$C$4:$C$35,MATCH(ROW()-11,Données!$K$4:$K$35,0)),"") -> M13 | E13: =IFERROR(INDEX(Données!D$4:D$35,MATCH(ROW()-11,Données!$K$4:$K$35,0)),"") -> F3 | G13: =IFERROR(INDEX(Données!E$4:E$35,MATCH(ROW()-11,Données!$K$4:$K$35,0)),"") -> 45505 | I13: =IFERROR(INDEX(Données!F$4:F$35,MATCH(ROW()-11,Données!$K$4:$K$35,0)),"") -> 1120
C14: =IFERROR(INDEX(Données!$C$4:$C$35,MATCH(ROW()-11,Données!$K$4:$K$35,0)),"") | E14: =IFERROR(INDEX(Données!D$4:D$35,MATCH(ROW()-11,Données!$K$4:$K$35,0)),"") | G14: =IFERROR(INDEX(Données!E$4:E$35,MATCH(ROW()-11,Données!$K$4:$K$35,0)),"") | I14: =IFERROR(INDEX(Données!F$4:F$35,MATCH(ROW()-11,Données!$K$4:$K$35,0)),"")
C15: =IFERROR(INDEX(Données!$C$4:$C$35,MATCH(ROW()-11,Données!$K$4:$K$35,0)),"") | E15: =IFERROR(INDEX(Données!D$4:D$35,MATCH(ROW()-11,Données!$K$4:$K$35,0)),"") | G15: =IFERROR(INDEX(Données!E$4:E$35,MATCH(ROW()-11,Données!$K$4:$K$35,0)),"") | I15: =IFERROR(INDEX(Données!F$4:F$35,MATCH(ROW()-11,Données!$K$4:$K$35,0)),"")
C16: =IFERROR(INDEX(Données!$C$4:$C$35,MATCH(ROW()-11,Données!$K$4:$K$35,0)),"") | E16: =IFERROR(INDEX(Données!D$4:D$35,MATCH(ROW()-11,Données!$K$4:$K$35,0)),"") | G16: =IFERROR(INDEX(Données!E$4:E$35,MATCH(ROW()-11,Données!$K$4:$K$35,0)),"") | I16: =IFERROR(INDEX(Données!F$4:F$35,MATCH(ROW()-11,Données!$K$4:$K$35,0)),"")
C17: =IFERROR(INDEX(Données!$C$4:$C$35,MATCH(ROW()-11,Données!$K$4:$K$35,0)),"") | E17: =IFERROR(INDEX(Données!D$4:D$35,MATCH(ROW()-11,Données!$K$4:$K$35,0)),"") | G17: =IFERROR(INDEX(Données!E$4:E$35,MATCH(ROW()-11,Données!$K$4:$K$35,0)),"") | I17: =IFERROR(INDEX(Données!F$4:F$35,MATCH(ROW()-11,Données!$K$4:$K$35,0)),"")
C18: =IFERROR(INDEX(Données!$C$4:$C$35,MATCH(ROW()-11,Données!$K$4:$K$35,0)),"") | E18: =IFERROR(INDEX(Données!D$4:D$35,MATCH(ROW()-11,Données!$K$4:$K$35,0)),"") | G18: =IFERROR(INDEX(Données!E$4:E$35,MATCH(ROW()-11,Données!$K$4:$K$35,0)),"") | I18: =IFERROR(INDEX(Données!F$4:F$35,MATCH(ROW()-11,Données!$K$4:$K$35,0)),"") | K18: TOTAL
C19: =IFERROR(INDEX(Données!$C$4:$C$35,MATCH(ROW()-11,Données!$K$4:$K$35,0)),"") | E19: =IFERROR(INDEX(Données!D$4:D$35,MATCH(ROW()-11,Données!$K$4:$K$35,0)),"") | G19: =IFERROR(INDEX(Données!E$4:E$35,MATCH(ROW()-11,Données!$K$4:$K$35,0)),"") | I19: =IFERROR(INDEX(Données!F$4:F$35,MATCH(ROW()-11,Données!$K$4:$K$35,0)),"") | K19: =SUM(I12:J19) -> 2240

Sheet A masquer
J7: Formule | K7: Prix | L7: 0.4 | M7: 0.2
C8: 2022 | E8: Janvier | G8: 44927 | J8: F1 | K8: 1500 | L8: =K8*L$7 -> 600 | M8: =K8*M$7 -> 300
C9: 2023 | E9: Février | G9: 44958 | J9: F2 | K9: 2500 | L9: =K9*L$7 -> 1000 | M9: =K9*M$7 -> 500
C10: 2024 | E10: Mars | G10: 44986 | J10: F3 | K10: 2800 | L10: =K10*L$7 -> 1120 | M10: =K10*M$7 -> 560
C11: 2025 | E11: Avril | G11: 45017
C12: 2026 | E12: Mai | G12: 45047
C13: 2027 | E13: Juin | G13: 45078
C14: 2028 | E14: Juillet | G14: 45108
C15: 2029 | E15: Août | G15: 45139
C16: 2030 | E16: Septembre | G16: 45170
C17: 2031 | E17: Octobre | G17: 45200
C18: 2032 | E18: Novembre | G18: 45231
E19: Décembre | G19: 45261
G20: 45292
G21: 45323
G22: 45352
G23: 45383
G24: 45413
G25: 45444
G26: 45474
G27: 45505
G28: 45536
G29: 45566
G30: 45597
G31: 45627
... G57: 46419

Sheet Données
C3: CLIENT | D3: FORMULE | E3: DATE SIGNATURE | G3: DATE MI-PARCOURS | I3: DATE ECHEANCE
C4: M1 | D4: F2 | E4: 45139 | F4: =IF(D4="F1",'A masquer'!$K$8*'A masquer'!$L$7,IF(D4="F2",'A masquer'!$K$9*'A masquer'!$L$7,IF(D4="F3",'A masquer'!$K$10*'A masquer'!$L$7," "))) -> 1000 | G4: 45292 | H4: =IF(D4="F1",'A masquer'!$K$8*'A masquer'!$L$7,IF(D4="F2",'A masquer'!$K$9*'A masquer'!$L$7,IF(D4="F3",'A masquer'!$K$10*'A masquer'!$L$7," "))) -> 1000 | I4: 45444 | J4: =IF(D4="F1",'A masquer'!$K$8*'A masquer'!$M$7,IF(D4="F2",'A masquer'!$K$9*'A masquer'!$M$7,IF(D4="F3",'A masquer'!$K$10*'A masquer'!$M$7," "))) -> 500 | K4: =IF(AND(YEAR(E4)='Tableau '!$D$7,MONTH(E4)=MONTH('Tableau '!$G$7&1)),MAX($K$3:K3)+1,"")
C5: M2 | D5: F1 | E5: 45170 | F5: =IF(D5="F1",'A masquer'!$K$8*'A masquer'!$L$7,IF(D5="F2",'A masquer'!$K$9*'A masquer'!$L$7,IF(D5="F3",'A masquer'!$K$10*'A masquer'!$L$7," "))) -> 600 | G5: 45323 | H5: =IF(D5="F1",'A masquer'!$K$8*'A masquer'!$L$7,IF(D5="F2",'A masquer'!$K$9*'A masquer'!$L$7,IF(D5="F3",'A masquer'!$K$10*'A masquer'!$L$7," "))) -> 600 | I5: 45444 | J5: =IF(D5="F1",'A masquer'!$K$8*'A masquer'!$M$7,IF(D5="F2",'A masquer'!$K$9*'A masquer'!$M$7,IF(D5="F3",'A masquer'!$K$10*'A masquer'!$M$7," "))) -> 300 | K5: =IF(AND(YEAR(E5)='Tableau '!$D$7,MONTH(E5)=MONTH('Tableau '!$G$7&1)),MAX($K$3:K4)+1,"")
C6: M3 | D6: F2 | E6: 45170 | F6: =IF(D6="F1",'A masquer'!$K$8*'A masquer'!$L$7,IF(D6="F2",'A masquer'!$K$9*'A masquer'!$L$7,IF(D6="F3",'A masquer'!$K$10*'A masquer'!$L$7," "))) -> 1000 | G6: 45323 | H6: =IF(D6="F1",'A masquer'!$K$8*'A masquer'!$L$7,IF(D6="F2",'A masquer'!$K$9*'A masquer'!$L$7,IF(D6="F3",'A masquer'!$K$10*'A masquer'!$L$7," "))) -> 1000 | I6: 45474 | J6: =IF(D6="F1",'A masquer'!$K$8*'A masquer'!$M$7,IF(D6="F2",'A masquer'!$K$9*'A masquer'!$M$7,IF(D6="F3",'A masquer'!$K$10*'A masquer'!$M$7," "))) -> 500 | K6: =IF(AND(YEAR(E6)='Tableau '!$D$7,MONTH(E6)=MONTH('Tableau '!$G$7&1)),MAX($K$3:K5)+1,"")
C7: M4 | D7: F2 | E7: 45170 | F7: =IF(D7="F1",'A masquer'!$K$8*'A masquer'!$L$7,IF(D7="F2",'A masquer'!$K$9*'A masquer'!$L$7,IF(D7="F3",'A masquer'!$K$10*'A masquer'!$L$7," "))) -> 1000 | G7: 45323 | H7: =IF(D7="F1",'A masquer'!$K$8*'A masquer'!$L$7,IF(D7="F2",'A masquer'!$K$9*'A masquer'!$L$7,IF(D7="F3",'A masquer'!$K$10*'A masquer'!$L$7," "))) -> 1000 | I7: 45474 | J7: =IF(D7="F1",'A masquer'!$K$8*'A masquer'!$M$7,IF(D7="F2",'A masquer'!$K$9*'A masquer'!$M$7,IF(D7="F3",'A masquer'!$K$10*'A masquer'!$M$7," "))) -> 500 | K7: =IF(AND(YEAR(E7)='Tableau '!$D$7,MONTH(E7)=MONTH('Tableau '!$G$7&1)),MAX($K$3:K6)+1,"")
C8: M5 | D8: F2 | E8: 45200 | F8: =IF(D8="F1",'A masquer'!$K$8*'A masquer'!$L$7,IF(D8="F2",'A masquer'!$K$9*'A masquer'!$L$7,IF(D8="F3",'A masquer'!$K$10*'A masquer'!$L$7," "))) -> 1000 | G8: 45352 | H8: =IF(D8="F1",'A masquer'!$K$8*'A masquer'!$L$7,IF(D8="F2",'A masquer'!$K$9*'A masquer'!$L$7,IF(D8="F3",'A masquer'!$K$10*'A masquer'!$L$7," "))) -> 1000 | I8: 45474 | J8: =IF(D8="F1",'A masquer'!$K$8*'A masquer'!$M$7,IF(D8="F2",'A masquer'!$K$9*'A masquer'!$M$7,IF(D8="F3",'A masquer'!$K$10*'A masquer'!$M$7," "))) -> 500 | K8: =IF(AND(YEAR(E8)='Tableau '!$D$7,MONTH(E8)=MONTH('Tableau '!$G$7&1)),MAX($K$3:K7)+1,"")
C9: M6 | D9: F1 | E9: 45078 | F9: =IF(D9="F1",'A masquer'!$K$8*'A masquer'!$L$7,IF(D9="F2",'A masquer'!$K$9*'A masquer'!$L$7,IF(D9="F3",'A masquer'!$K$10*'A masquer'!$L$7," "))) -> 600 | G9: 45292 | H9: =IF(D9="F1",'A masquer'!$K$8*'A masquer'!$L$7,IF(D9="F2",'A masquer'!$K$9*'A masquer'!$L$7,IF(D9="F3",'A masquer'!$K$10*'A masquer'!$L$7," "))) -> 600 | I9: 45474 | J9: =IF(D9="F1",'A masquer'!$K$8*'A masquer'!$M$7,IF(D9="F2",'A masquer'!$K$9*'A masquer'!$M$7,IF(D9="F3",'A masquer'!$K$10*'A masquer'!$M$7," "))) -> 300 | K9: =IF(AND(YEAR(E9)='Tableau '!$D$7,MONTH(E9)=MONTH('Tableau '!$G$7&1)),MAX($K$3:K8)+1,"")
C10: M7 | D10: F2 | E10: 45170 | F10: =IF(D10="F1",'A masquer'!$K$8*'A masquer'!$L$7,IF(D10="F2",'A masquer'!$K$9*'A masquer'!$L$7,IF(D10="F3",'A masquer'!$K$10*'A masquer'!$L$7," "))) -> 1000 | G10: 45352 | H10: =IF(D10="F1",'A masquer'!$K$8*'A masquer'!$L$7,IF(D10="F2",'A masquer'!$K$9*'A masquer'!$L$7,IF(D10="F3",'A masquer'!$K$10*'A masquer'!$L$7," "))) -> 1000 | I10: 45505 | J10: =IF(D10="F1",'A masquer'!$K$8*'A masquer'!$M$7,IF(D10="F2",'A masquer'!$K$9*'A masquer'!$M$7,IF(D10="F3",'A masquer'!$K$10*'A masquer'!$M$7," "))) -> 500 | K10: =IF(AND(YEAR(E10)='Tableau '!$D$7,MONTH(E10)=MONTH('Tableau '!$G$7&1)),MAX($K$3:K9)+1,"")
C11: M8 | D11: F1 | E11: 45200 | F11: =IF(D11="F1",'A masquer'!$K$8*'A masquer'!$L$7,IF(D11="F2",'A masquer'!$K$9*'A masquer'!$L$7,IF(D11="F3",'A masquer'!$K$10*'A masquer'!$L$7," "))) -> 600 | G11: 45352 | H11: =IF(D11="F1",'A masquer'!$K$8*'A masquer'!$L$7,IF(D11="F2",'A masquer'!$K$9*'A masquer'!$L$7,IF(D11="F3",'A masquer'!$K$10*'A masquer'!$L$7," "))) -> 600 | I11: 45505 | J11: =IF(D11="F1",'A masquer'!$K$8*'A masquer'!$M$7,IF(D11="F2",'A masquer'!$K$9*'A masquer'!$M$7,IF(D11="F3",'A masquer'!$K$10*'A masquer'!$M$7," "))) -> 300 | K11: =IF(AND(YEAR(E11)='Tableau '!$D$7,MONTH(E11)=MONTH('Tableau '!$G$7&1)),MAX($K$3:K10)+1,"")
C12: M9 | D12: F3 | E12: 45505 | F12: =IF(D12="F1",'A masquer'!$K$8*'A masquer'!$L$7,IF(D12="F2",'A masquer'!$K$9*'A masquer'!$L$7,IF(D12="F3",'A masquer'!$K$10*'A masquer'!$L$7," "))) -> 1120 | G12: 45658 | H12: =IF(D12="F1",'A masquer'!$K$8*'A masquer'!$L$7,IF(D12="F2",'A masquer'!$K$9*'A masquer'!$L$7,IF(D12="F3",'A masquer'!$K$10*'A masquer'!$L$7," "))) -> 1120 | I12: 45809 | J12: =IF(D12="F1",'A masquer'!$K$8*'A masquer'!$M$7,IF(D12="F2",'A masquer'!$K$9*'A masquer'!$M$7,IF(D12="F3",'A masquer'!$K$10*'A masquer'!$M$7," "))) -> 560 | K12: =IF(AND(YEAR(E12)='Tableau '!$D$7,MONTH(E12)=MONTH('Tableau '!$G$7&1)),MAX($K$3:K11)+1,"") -> 1
C13: M10 | D13: F3 | E13: 45444 | F13: =IF(D13="F1",'A masquer'!$K$8*'A masquer'!$L$7,IF(D13="F2",'A masquer'!$K$9*'A masquer'!$L$7,IF(D13="F3",'A masquer'!$K$10*'A masquer'!$L$7," "))) -> 1120 | G13: 45627 | H13: =IF(D13="F1",'A masquer'!$K$8*'A masquer'!$L$7,IF(D13="F2",'A masquer'!$K$9*'A masquer'!$L$7,IF(D13="F3",'A masquer'!$K$10*'A masquer'!$L$7," "))) -> 1120 | I13: 45809 | J13: =IF(D13="F1",'A masquer'!$K$8*'A masquer'!$M$7,IF(D13="F2",'A masquer'!$K$9*'A masquer'!$M$7,IF(D13="F3",'A masquer'!$K$10*'A masquer'!$M$7," "))) -> 560 | K13: =IF(AND(YEAR(E13)='Tableau '!$D$7,MONTH(E13)=MONTH('Tableau '!$G$7&1)),MAX($K$3:K12)+1,"")
C14: M11 | D14: F2 | E14: 45536 | F14: =IF(D14="F1",'A masquer'!$K$8*'A masquer'!$L$7,IF(D14="F2",'A masquer'!$K$9*'A masquer'!$L$7,IF(D14="F3",'A masquer'!$K$10*'A masquer'!$L$7," "))) -> 1000 | G14: 45689 | H14: =IF(D14="F1",'A masquer'!$K$8*'A masquer'!$L$7,IF(D14="F2",'A masquer'!$K$9*'A masquer'!$L$7,IF(D14="F3",'A masquer'!$K$10*'A masquer'!$L$7," "))) -> 1000 | I14: 45809 | J14: =IF(D14="F1",'A masquer'!$K$8*'A masquer'!$M$7,IF(D14="F2",'A masquer'!$K$9*'A masquer'!$M$7,IF(D14="F3",'A masquer'!$K$10*'A masquer'!$M$7," "))) -> 500 | K14: =IF(AND(YEAR(E14)='Tableau '!$D$7,MONTH(E14)=MONTH('Tableau '!$G$7&1)),MAX($K$3:K13)+1,"")
C15: M12 | D15: F3 | E15: 45536 | F15: =IF(D15="F1",'A masquer'!$K$8*'A masquer'!$L$7,IF(D15="F2",'A masquer'!$K$9*'A masquer'!$L$7,IF(D15="F3",'A masquer'!$K$10*'A masquer'!$L$7," "))) -> 1120 | G15: 45689 | H15: =IF(D15="F1",'A masquer'!$K$8*'A masquer'!$L$7,IF(D15="F2",'A masquer'!$K$9*'A masquer'!$L$7,IF(D15="F3",'A masquer'!$K$10*'A masquer'!$L$7," "))) -> 1120 | I15: 45839 | J15: =IF(D15="F1",'A masquer'!$K$8*'A masquer'!$M$7,IF(D15="F2",'A masquer'!$K$9*'A masquer'!$M$7,IF(D15="F3",'A masquer'!$K$10*'A masquer'!$M$7," "))) -> 560 | K15: =IF(AND(YEAR(E15)='Tableau '!$D$7,MONTH(E15)=MONTH('Tableau '!$G$7&1)),MAX($K$3:K14)+1,"")
... C21: M18 | D21: F2 | E21: 45597 | F21: =IF(D21="F1",'A masquer'!$K$8*'A masquer'!$L$7,IF(D21="F2",'A masquer'!$K$9*'A masquer'!$L$7,IF(D21="F3",'A masquer'!$K$10*'A masquer'!$L$7," "))) -> 1000 | G21: 45748 | H21: =IF(D21="F1",'A masquer'!$K$8*'A masquer'!$L$7,IF(D21="F2",'A masquer'!$K$9*'A masquer'!$L$7,IF(D21="F3",'A masquer'!$K$10*'A masquer'!$L$7," "))) -> 1000 | I21: 45901 | J21: =IF(D21="F1",'A masquer'!$K$8*'A masquer'!$M$7,IF(D21="F2",'A masquer'!$K$9*'A masquer'!$M$7,IF(D21="F3",'A masquer'!$K$10*'A masquer'!$M$7," "))) -> 500 | K21: =IF(AND(YEAR(E21)='Tableau '!$D$7,MONTH(E21)=MONTH('Tableau '!$G$7&1)),MAX($K$3:K20)+1,"")
F22: =IF(D22="F1",'A masquer'!$K$8*'A masquer'!$L$7,IF(D22="F2",'A masquer'!$K$9*'A masquer'!$L$7,IF(D22="F3",'A masquer'!$K$10*'A masquer'!$L$7," "))) | H22: =IF(D22="F1",'A masquer'!$K$8*'A masquer'!$L$7,IF(D22="F2",'A masquer'!$K$9*'A masquer'!$L$7,IF(D22="F3",'A masquer'!$K$10*'A masquer'!$L$7," "))) | J22: =IF(D22="F1",'A masquer'!$K$8*'A masquer'!$M$7,IF(D22="F2",'A masquer'!$K$9*'A masquer'!$M$7,IF(D22="F3",'A masquer'!$K$10*'A masquer'!$M$7," "))) | K22: =IF(AND(YEAR(E22)='Tableau '!$D$7,MONTH(E22)=MONTH('Tableau '!$G$7&1)),MAX($K$3:K21)+1,"")
F23: =IF(D23="F1",'A masquer'!$K$8*'A masquer'!$L$7,IF(D23="F2",'A masquer'!$K$9*'A masquer'!$L$7,IF(D23="F3",'A masquer'!$K$10*'A masquer'!$L$7," "))) | H23: =IF(D23="F1",'A masquer'!$K$8*'A masquer'!$L$7,IF(D23="F2",'A masquer'!$K$9*'A masquer'!$L$7,IF(D23="F3",'A masquer'!$K$10*'A masquer'!$L$7," "))) | J23: =IF(D23="F1",'A masquer'!$K$8*'A masquer'!$M$7,IF(D23="F2",'A masquer'!$K$9*'A masquer'!$M$7,IF(D23="F3",'A masquer'!$K$10*'A masquer'!$M$7," "))) | K23: =IF(AND(YEAR(E23)='Tableau '!$D$7,MONTH(E23)=MONTH('Tableau '!$G$7&1)),MAX($K$3:K22)+1,"")
F24: =IF(D24="F1",'A masquer'!$K$8*'A masquer'!$L$7,IF(D24="F2",'A masquer'!$K$9*'A masquer'!$L$7,IF(D24="F3",'A masquer'!$K$10*'A masquer'!$L$7," "))) | H24: =IF(D24="F1",'A masquer'!$K$8*'A masquer'!$L$7,IF(D24="F2",'A masquer'!$K$9*'A masquer'!$L$7,IF(D24="F3",'A masquer'!$K$10*'A masquer'!$L$7," "))) | J24: =IF(D24="F1",'A masquer'!$K$8*'A masquer'!$M$7,IF(D24="F2",'A masquer'!$K$9*'A masquer'!$M$7,IF(D24="F3",'A masquer'!$K$10*'A masquer'!$M$7," "))) | K24: =IF(AND(YEAR(E24)='Tableau '!$D$7,MONTH(E24)=MONTH('Tableau '!$G$7&1)),MAX($K$3:K23)+1,"")
F25: =IF(D25="F1",'A masquer'!$K$8*'A masquer'!$L$7,IF(D25="F2",'A masquer'!$K$9*'A masquer'!$L$7,IF(D25="F3",'A masquer'!$K$10*'A masquer'!$L$7," "))) | H25: =IF(D25="F1",'A masquer'!$K$8*'A masquer'!$L$7,IF(D25="F2",'A masquer'!$K$9*'A masquer'!$L$7,IF(D25="F3",'A masquer'!$K$10*'A masquer'!$L$7," "))) | J25: =IF(D25="F1",'A masquer'!$K$8*'A masquer'!$M$7,IF(D25="F2",'A masquer'!$K$9*'A masquer'!$M$7,IF(D25="F3",'A masquer'!$K$10*'A masquer'!$M$7," "))) | K25: =IF(AND(YEAR(E25)='Tableau '!$D$7,MONTH(E25)=MONTH('Tableau '!$G$7&1)),MAX($K$3:K24)+1,"")
F26: =IF(D26="F1",'A masquer'!$K$8*'A masquer'!$L$7,IF(D26="F2",'A masquer'!$K$9*'A masquer'!$L$7,IF(D26="F3",'A masquer'!$K$10*'A masquer'!$L$7," "))) | H26: =IF(D26="F1",'A masquer'!$K$8*'A masquer'!$L$7,IF(D26="F2",'A masquer'!$K$9*'A masquer'!$L$7,IF(D26="F3",'A masquer'!$K$10*'A masquer'!$L$7," "))) | J26: =IF(D26="F1",'A masquer'!$K$8*'A masquer'!$M$7,IF(D26="F2",'A masquer'!$K$9*'A masquer'!$M$7,IF(D26="F3",'A masquer'!$K$10*'A masquer'!$M$7," "))) | K26: =IF(AND(YEAR(E26)='Tableau '!$D$7,MONTH(E26)=MONTH('Tableau '!$G$7&1)),MAX($K$3:K25)+1,"")
F27: =IF(D27="F1",'A masquer'!$K$8*'A masquer'!$L$7,IF(D27="F2",'A masquer'!$K$9*'A masquer'!$L$7,IF(D27="F3",'A masquer'!$K$10*'A masquer'!$L$7," "))) | H27: =IF(D27="F1",'A masquer'!$K$8*'A masquer'!$L$7,IF(D27="F2",'A masquer'!$K$9*'A masquer'!$L$7,IF(D27="F3",'A masquer'!$K$10*'A masquer'!$L$7," "))) | J27: =IF(D27="F1",'A masquer'!$K$8*'A masquer'!$M$7,IF(D27="F2",'A masquer'!$K$9*'A masquer'!$M$7,IF(D27="F3",'A masquer'!$K$10*'A masquer'!$M$7," "))) | K27: =IF(AND(YEAR(E27)='Tableau '!$D$7,MONTH(E27)=MONTH('Tableau '!$G$7&1)),MAX($K$3:K26)+1,"")
F28: =IF(D28="F1",'A masquer'!$K$8*'A masquer'!$L$7,IF(D28="F2",'A masquer'!$K$9*'A masquer'!$L$7,IF(D28="F3",'A masquer'!$K$10*'A masquer'!$L$7," "))) | H28: =IF(D28="F1",'A masquer'!$K$8*'A masquer'!$L$7,IF(D28="F2",'A masquer'!$K$9*'A masquer'!$L$7,IF(D28="F3",'A masquer'!$K$10*'A masquer'!$L$7," "))) | J28: =IF(D28="F1",'A masquer'!$K$8*'A masquer'!$M$7,IF(D28="F2",'A masquer'!$K$9*'A masquer'!$M$7,IF(D28="F3",'A masquer'!$K$10*'A masquer'!$M$7," "))) | K28: =IF(AND(YEAR(E28)='Tableau '!$D$7,MONTH(E28)=MONTH('Tableau '!$G$7&1)),MAX($K$3:K27)+1,"")
F29: =IF(D29="F1",'A masquer'!$K$8*'A masquer'!$L$7,IF(D29="F2",'A masquer'!$K$9*'A masquer'!$L$7,IF(D29="F3",'A masquer'!$K$10*'A masquer'!$L$7," "))) | H29: =IF(D29="F1",'A masquer'!$K$8*'A masquer'!$L$7,IF(D29="F2",'A masquer'!$K$9*'A masquer'!$L$7,IF(D29="F3",'A masquer'!$K$10*'A masquer'!$L$7," "))) | J29: =IF(D29="F1",'A masquer'!$K$8*'A masquer'!$M$7,IF(D29="F2",'A masquer'!$K$9*'A masquer'!$M$7,IF(D29="F3",'A masquer'!$K$10*'A masquer'!$M$7," "))) | K29: =IF(AND(YEAR(E29)='Tableau '!$D$7,MONTH(E29)=MONTH('Tableau '!$G$7&1)),MAX($K$3:K28)+1,"")
F30: =IF(D30="F1",'A masquer'!$K$8*'A masquer'!$L$7,IF(D30="F2",'A masquer'!$K$9*'A masquer'!$L$7,IF(D30="F3",'A masquer'!$K$10*'A masquer'!$L$7," "))) | H30: =IF(D30="F1",'A masquer'!$K$8*'A masquer'!$L$7,IF(D30="F2",'A masquer'!$K$9*'A masquer'!$L$7,IF(D30="F3",'A masquer'!$K$10*'A masquer'!$L$7," "))) | J30: =IF(D30="F1",'A masquer'!$K$8*'A masquer'!$M$7,IF(D30="F2",'A masquer'!$K$9*'A masquer'!$M$7,IF(D30="F3",'A masquer'!$K$10*'A masquer'!$M$7," "))) | K30: =IF(AND(YEAR(E30)='Tableau '!$D$7,MONTH(E30)=MONTH('Tableau '!$G$7&1)),MAX($K$3:K29)+1,"")
F31: =IF(D31="F1",'A masquer'!$K$8*'A masquer'!$L$7,IF(D31="F2",'A masquer'!$K$9*'A masquer'!$L$7,IF(D31="F3",'A masquer'!$K$10*'A masquer'!$L$7," "))) | J31: =IF(D31="F1",'A masquer'!$K$8*'A masquer'!$M$7,IF(D31="F2",'A masquer'!$K$9*'A masquer'!$M$7,IF(D31="F3",'A masquer'!$K$10*'A masquer'!$M$7," "))) | K31: =IF(AND(YEAR(E31)='Tableau '!$D$7,MONTH(E31)=MONTH('Tableau '!$G$7&1)),MAX($K$3:K30)+1,"")
K32: =IF(AND(YEAR(E32)='Tableau '!$D$7,MONTH(E32)=MONTH('Tableau '!$G$7&1)),MAX($K$3:K31)+1,"")
K33: =IF(AND(YEAR(E33)='Tableau '!$D$7,MONTH(E33)=MONTH('Tableau '!$G$7&1)),MAX($K$3:K32)+1,"")
K34: =IF(AND(YEAR(E34)='Tableau '!$D$7,MONTH(E34)=MONTH('Tableau '!$G$7&1)),MAX($K$3:K33)+1,"")
K35: =IF(AND(YEAR(E35)='Tableau '!$D$7,MONTH(E35)=MONTH('Tableau '!$G$7&1)),MAX($K$3:K34)+1,"")
