Workbook

Sheet RECHERCHE
A1: AGENCE | B1: CODE | C1: PAR
A2: 69 | B2: MS1 | C2: {=IFERROR(INDEX(INFO!$B$2:$B$12,MATCH(A2&B2,INFO!$C$2:$C$12&INFO!$A$2:$A$12,0)),"")} -> AH
A3: 69 | B3: MS1 | C3: {=IFERROR(INDEX(INFO!$B$2:$B$12,MATCH(A3&B3,INFO!$C$2:$C$12&INFO!$A$2:$A$12,0)),"")} -> AH
A4: 69 | B4: MS1 | C4: {=IFERROR(INDEX(INFO!$B$2:$B$12,MATCH(A4&B4,INFO!$C$2:$C$12&INFO!$A$2:$A$12,0)),"")} -> AH
A5: 69 | B5: MS1 | C5: {=IFERROR(INDEX(INFO!$B$2:$B$12,MATCH(A5&B5,INFO!$C$2:$C$12&INFO!$A$2:$A$12,0)),"")} -> AH
A6: 69 | B6: MS1 | C6: {=IFERROR(INDEX(INFO!$B$2:$B$12,MATCH(A6&B6,INFO!$C$2:$C$12&INFO!$A$2:$A$12,0)),"")} -> AH
A7: 69 | B7: MS1 | C7: {=IFERROR(INDEX(INFO!$B$2:$B$12,MATCH(A7&B7,INFO!$C$2:$C$12&INFO!$A$2:$A$12,0)),"")} -> AH
A8: 69 | B8: MS1 | C8: {=IFERROR(INDEX(INFO!$B$2:$B$12,MATCH(A8&B8,INFO!$C$2:$C$12&INFO!$A$2:$A$12,0)),"")} -> AH
A9: 69 | B9: MS1 | C9: {=IFERROR(INDEX(INFO!$B$2:$B$12,MATCH(A9&B9,INFO!$C$2:$C$12&INFO!$A$2:$A$12,0)),"")} -> AH
A10: 69 | B10: MS1 | C10: {=IFERROR(INDEX(INFO!$B$2:$B$12,MATCH(A10&B10,INFO!$C$2:$C$12&INFO!$A$2:$A$12,0)),"")} -> AH
A11: 69 | B11: MS1 | C11: {=IFERROR(INDEX(INFO!$B$2:$B$12,MATCH(A11&B11,INFO!$C$2:$C$12&INFO!$A$2:$A$12,0)),"")} -> AH
A12: 69 | B12: MS1 | C12: {=IFERROR(INDEX(INFO!$B$2:$B$12,MATCH(A12&B12,INFO!$C$2:$C$12&INFO!$A$2:$A$12,0)),"")} -> AH
A13: 69 | B13: MS1 | C13: {=IFERROR(INDEX(INFO!$B$2:$B$12,MATCH(A13&B13,INFO!$C$2:$C$12&INFO!$A$2:$A$12,0)),"")} -> AH
... A1355: 69 | B1355: MS1 | C1355: {=IFERROR(INDEX(INFO!$B$2:$B$12,MATCH(A1355&B1355,INFO!$C$2:$C$12&INFO!$A$2:$A$12,0)),"")} -> AH

Sheet INFO
A1: CODE | B1: PAR | C1: AGENCE
A2: BX1 | B2: CM | C2: 60
A3: BX1 | B3: AH | C3: 69
A4: DC4 | B4: AH | C4: 69
A5: DC9 | B5: AH | C5: 69
A6: LG1 | B6: CM | C6: 60
A7: MS1 | B7: AH | C7: 69
A8: PC1 | B8: PM | C8: 37
A9: LY1 | B9: AH | C9: 69
A10: DC2 | B10: AH | C10: 69
A11: MOI | B11: AH | C11: 69
A12: LY2 | B12: AH | C12: 69
