Workbook

Sheet Base
A1: Mois | B1: 44197 | C1: 44197 | D1: 44197 | E1: 44197 | F1: 44197 | G1: 44228 | H1: 44228 | I1: 44228 | J1: 44228 | K1: 44228 | L1: 44256 | M1: 44256 | N1: 44256 | O1: 44256 | P1: 44256
B2: Produit 1 | C2: Produit 2 | D2: Produit 3 | E2: Produit 4 | F2: Total | G2: Produit 1 | H2: Produit 2 | I2: Produit 3 | J2: Produit 4 | K2: Total | L2: Produit 1 | M2: Produit 2 | N2: Produit 3 | O2: Produit 4 | P2: Total
A3: Catégorie 1 | B3: 363557.33 | C3: 39425.71 | D3: 180297.37 | E3: 661144.94 | F3: 1244425.3 | G3: 191357.18 | H3: 44634.38 | I3: 165109.99 | J3: 318118.49 | K3: 719220.04 | L3: 185979.1 | M3: 103215.53 | N3: 141780.66 | O3: 412608.13 | P3: 843583.42
A4: Catégorie 2 | B4: 42838.39 | C4: 94541 | D4: 39363.09 | E4: 100115.7 | F4: 276858.18 | G4: 78575.89 | H4: 12432.09 | I4: 65520 | J4: 22558.26 | K4: 179086.24 | L4: 85039.89 | M4: 15225.5 | N4: 22198.26 | O4: 102731.25 | P4: 225194.9
A5: Catégorie 3 | B5: 114670.77 | C5: 29706 | D5: 29637 | E5: 35799.1 | F5: 209812.87 | G5: 148271.77 | H5: 32274 | I5: 28076.84 | J5: 65569 | K5: 274191.61 | L5: 172375.29 | M5: 18464 | N5: 56721 | O5: 59107.51 | P5: 306667.8
A6: TOTAL | B6: 521066.49 | C6: 163672.71 | D6: 249297.46 | E6: 797059.74 | F6: 1731096.4 | G6: 418204.84 | H6: 89340.47 | I6: 258706.83 | J6: 406245.75 | K6: 1172497.9 | L6: 443394.28 | M6: 136905.03 | N6: 220699.92 | O6: 574446.89 | P6: 1375446.1

Sheet Produit 1
A1: Produit 1 | B1: 44197 | C1: 44228 | D1: 44256
A2: Catégorie 1 | B2: {=INDEX(Base!$A$1:$P$6,MATCH($A2,Base!$A$1:$A$5,0),MATCH($A$1&B$1,Base!$A$2:$P$2&Base!$A$1:$P$1,0))} -> 363557.33 | C2: {=INDEX(Base!$A$1:$P$6,MATCH($A2,Base!$A$1:$A$5,0),MATCH($A$1&C$1,Base!$A$2:$P$2&Base!$A$1:$P$1,0))} -> 191357.18 | D2: {=INDEX(Base!$A$1:$P$6,MATCH($A2,Base!$A$1:$A$5,0),MATCH($A$1&D$1,Base!$A$2:$P$2&Base!$A$1:$P$1,0))} -> 185979.1
A3: Catégorie 2 | B3: {=INDEX(Base!$A$1:$P$6,MATCH($A3,Base!$A$1:$A$5,0),MATCH($A$1&B$1,Base!$A$2:$P$2&Base!$A$1:$P$1,0))} -> 42838.39 | C3: {=INDEX(Base!$A$1:$P$6,MATCH($A3,Base!$A$1:$A$5,0),MATCH($A$1&C$1,Base!$A$2:$P$2&Base!$A$1:$P$1,0))} -> 78575.89 | D3: {=INDEX(Base!$A$1:$P$6,MATCH($A3,Base!$A$1:$A$5,0),MATCH($A$1&D$1,Base!$A$2:$P$2&Base!$A$1:$P$1,0))} -> 85039.89
A4: Catégorie 3 | B4: {=INDEX(Base!$A$1:$P$6,MATCH($A4,Base!$A$1:$A$5,0),MATCH($A$1&B$1,Base!$A$2:$P$2&Base!$A$1:$P$1,0))} -> 114670.77 | C4: {=INDEX(Base!$A$1:$P$6,MATCH($A4,Base!$A$1:$A$5,0),MATCH($A$1&C$1,Base!$A$2:$P$2&Base!$A$1:$P$1,0))} -> 148271.77 | D4: {=INDEX(Base!$A$1:$P$6,MATCH($A4,Base!$A$1:$A$5,0),MATCH($A$1&D$1,Base!$A$2:$P$2&Base!$A$1:$P$1,0))} -> 172375.29
A5: TOTAL | B5: =SUM(B2:B4) -> 521066.49 | C5: =SUM(C2:C4) -> 418204.84 | D5: =SUM(D2:D4) -> 443394.28

Sheet Produit 2
A1: Produit 2 | B1: 44197 | C1: 44228 | D1: 44256
A2: Catégorie 1 | B2: {=INDEX(Base!$A$1:$P$6,MATCH($A2,Base!$A$1:$A$5,0),MATCH($A$1&B$1,Base!$A$2:$P$2&Base!$A$1:$P$1,0))} -> 39425.71 | C2: {=INDEX(Base!$A$1:$P$6,MATCH($A2,Base!$A$1:$A$5,0),MATCH($A$1&C$1,Base!$A$2:$P$2&Base!$A$1:$P$1,0))} -> 44634.38 | D2: {=INDEX(Base!$A$1:$P$6,MATCH($A2,Base!$A$1:$A$5,0),MATCH($A$1&D$1,Base!$A$2:$P$2&Base!$A$1:$P$1,0))} -> 103215.53
A3: Catégorie 2 | B3: {=INDEX(Base!$A$1:$P$6,MATCH($A3,Base!$A$1:$A$5,0),MATCH($A$1&B$1,Base!$A$2:$P$2&Base!$A$1:$P$1,0))} -> 94541 | C3: {=INDEX(Base!$A$1:$P$6,MATCH($A3,Base!$A$1:$A$5,0),MATCH($A$1&C$1,Base!$A$2:$P$2&Base!$A$1:$P$1,0))} -> 12432.09 | D3: {=INDEX(Base!$A$1:$P$6,MATCH($A3,Base!$A$1:$A$5,0),MATCH($A$1&D$1,Base!$A$2:$P$2&Base!$A$1:$P$1,0))} -> 15225.5
A4: Catégorie 3 | B4: {=INDEX(Base!$A$1:$P$6,MATCH($A4,Base!$A$1:$A$5,0),MATCH($A$1&B$1,Base!$A$2:$P$2&Base!$A$1:$P$1,0))} -> 29706 | C4: {=INDEX(Base!$A$1:$P$6,MATCH($A4,Base!$A$1:$A$5,0),MATCH($A$1&C$1,Base!$A$2:$P$2&Base!$A$1:$P$1,0))} -> 32274 | D4: {=INDEX(Base!$A$1:$P$6,MATCH($A4,Base!$A$1:$A$5,0),MATCH($A$1&D$1,Base!$A$2:$P$2&Base!$A$1:$P$1,0))} -> 18464
A5: TOTAL | B5: =SUM(B2:B4) -> 163672.71 | C5: =SUM(C2:C4) -> 89340.47 | D5: =SUM(D2:D4) -> 136905.03
