Workbook

Sheet DEVIS
F6: Prix unitaire | K6: PU | L6: Total HT | M6: TVA | N6: Total TTC
G7: Main d'oeuvre | I7: Frais généraux | J7: Marge | M7: 0.2 | P7: RECAP
B8: Designation | C8: Référence | D8: Unité | E8: Quantité | F8: Matériel / achats | G8: Directe | H8: indirecte | I8: 0.15 | J8: 0.25 | P8: TOTAL HT | R8: =+L108 -> 0.00014133306
P9: TOTAL TVA | R9: =+M108 -> 2.8266611e-05
A10: G.E | C10: ctxa15aaw | D10: U | E10: 1 | F10: =GROUPE!I48 -> 0 | I10: =IFERROR(K10*$I$8,"") -> 2.1199959e-05 | J10: =IFERROR(K10*$J$8,"") -> 3.5333264e-05 | K10: =SUM(F10:J10) -> 5.6533223e-05 | L10: =K10*E10 -> 5.6533223e-05 | M10: =L10*$M$7 -> 1.1306645e-05 | N10: =M10+L10 -> 6.7839867e-05 | P10: TOTAL TTC | R10: =+N108 -> 0.00016959967
I11: =IFERROR(K11*$I$8,"") -> 0 | J11: =IFERROR(K11*$J$8,"") -> 0 | K11: =SUM(F11:J11) -> 0 | L11: =K11*E11 -> 0 | M11: =L11*$M$7 -> 0 | N11: =M11+L11 -> 0
A12: UNIT1 | D12: U | E12: 1 | F12: =UNITE1!I48 -> 0 | I12: =IFERROR(K12*$I$8,"") -> 0 | J12: =IFERROR(K12*$J$8,"") -> 0 | K12: =SUM(F12:J12) -> 0 | L12: =K12*E12 -> 0 | M12: =L12*$M$7 -> 0 | N12: =M12+L12 -> 0
I13: =IFERROR(K13*$I$8,"") -> 0 | J13: =IFERROR(K13*$J$8,"") -> 0 | K13: =SUM(F13:J13) -> 0 | L13: =K13*E13 -> 0 | M13: =L13*$M$7 -> 0 | N13: =M13+L13 -> 0 | P13: TOTAL MATERIEL | R13: =+SUMPRODUCT(F9:F107,E9:E107) -> 0
A14: UNIT2 | D14: U | E14: 1 | F14: =UNITE2!I48 -> 0 | I14: =IFERROR(K14*$I$8,"") -> 0 | J14: =IFERROR(K14*$J$8,"") -> 0 | K14: =SUM(F14:J14) -> 0 | L14: =K14*E14 -> 0 | M14: =L14*$M$7 -> 0 | N14: =M14+L14 -> 0 | P14: TOTAL MAIN D'O. | R14: =+SUMPRODUCT(G9:G107,E9:E107)+SUMPRODUCT(H9:H107,E9:E107) -> 0
I15: =IFERROR(K15*$I$8,"") -> 0 | J15: =IFERROR(K15*$J$8,"") -> 0 | K15: =SUM(F15:J15) -> 0 | L15: =K15*E15 -> 0 | M15: =L15*$M$7 -> 0 | N15: =M15+L15 -> 0
A16: UNIT3 | D16: U | E16: 1 | F16: =UNITE3!I48 -> 0 | I16: =IFERROR(K16*$I$8,"") -> 0 | J16: =IFERROR(K16*$J$8,"") -> 0 | K16: =SUM(F16:J16) -> 0 | L16: =K16*E16 -> 0 | M16: =L16*$M$7 -> 0 | N16: =M16+L16 -> 0 | P16: TOTAL FRAIS G. | R16: =+SUMPRODUCT(I9:I107,E9:E107) -> 2.1199959e-05
I17: =IFERROR(K17*$I$8,"") -> 0 | J17: =IFERROR(K17*$J$8,"") -> 0 | K17: =SUM(F17:J17) -> 0 | L17: =K17*E17 -> 0 | M17: =L17*$M$7 -> 0 | N17: =M17+L17 -> 0 | P17: TOTAL MARGE | R17: =+SUMPRODUCT(J9:J107,E9:E107) -> 3.5333264e-05
A18: UNIT4 | D18: U | E18: 1 | F18: =UNITE4!I48 -> 0 | I18: =IFERROR(K18*$I$8,"") -> 0 | J18: =IFERROR(K18*$J$8,"") -> 0 | K18: =SUM(F18:J18) -> 0 | L18: =K18*E18 -> 0 | M18: =L18*$M$7 -> 0 | N18: =M18+L18 -> 0
I19: =IFERROR(K19*$I$8,"") -> 0 | J19: =IFERROR(K19*$J$8,"") -> 0 | K19: =SUM(F19:J19) -> 0 | L19: =K19*E19 -> 0 | M19: =L19*$M$7 -> 0 | N19: =M19+L19 -> 0
A20: UNIT5 | D20: U | E20: 1 | F20: =UNITE5!I48 -> 0 | I20: =IFERROR(K20*$I$8,"") -> 0 | J20: =IFERROR(K20*$J$8,"") -> 0 | K20: =SUM(F20:J20) -> 0 | L20: =K20*E20 -> 0 | M20: =L20*$M$7 -> 0 | N20: =M20+L20 -> 0
I21: =IFERROR(K21*$I$8,"") -> 0 | J21: =IFERROR(K21*$J$8,"") -> 0 | K21: =SUM(F21:J21) -> 0 | L21: =K21*E21 -> 0 | M21: =L21*$M$7 -> 0 | N21: =M21+L21 -> 0
A22: UNIT6 | D22: U | E22: 1 | F22: =UNITE6!I48 -> 0 | I22: =IFERROR(K22*$I$8,"") -> 0 | J22: =IFERROR(K22*$J$8,"") -> 0 | K22: =SUM(F22:J22) -> 0 | L22: =K22*E22 -> 0 | M22: =L22*$M$7 -> 0 | N22: =M22+L22 -> 0
I23: =IFERROR(K23*$I$8,"") -> 0 | J23: =IFERROR(K23*$J$8,"") -> 0 | K23: =SUM(F23:J23) -> 0 | L23: =K23*E23 -> 0 | M23: =L23*$M$7 -> 0 | N23: =M23+L23 -> 0
B24: FRAIS DE DEPLACEMENT | I24: =IFERROR(K24*$I$8,"") -> 0 | J24: =IFERROR(K24*$J$8,"") -> 0 | K24: =SUM(F24:J24) -> 0 | L24: =K24*E24 -> 0 | M24: =L24*$M$7 -> 0 | N24: =M24+L24 -> 0
B25: FRAIS DE PARKING | I25: =IFERROR(K25*$I$8,"") -> 0 | J25: =IFERROR(K25*$J$8,"") -> 0 | K25: =SUM(F25:J25) -> 0
B26: MAIN D'OEUVRE 10% | I26: =IFERROR(K26*$I$8,"") -> 0 | J26: =IFERROR(K26*$J$8,"") -> 0 | K26: =SUM(F26:J26) -> 0 | L26: =K26*E26 -> 0 | M26: =L26*$M$7 -> 0 | N26: =M26+L26 -> 0
B27: MAIN D'ŒUVRE 20% | I27: =IFERROR(K27*$I$8,"") -> 0 | J27: =IFERROR(K27*$J$8,"") -> 0 | K27: =SUM(F27:J27) -> 0 | L27: =K27*E27 -> 0 | M27: =L27*$M$7 -> 0 | N27: =M27+L27 -> 0
I28: =K28*$I$8 -> 0 | J28: =K28*$J$8 -> 0 | K28: =F28+G28+H28+I28+J28 -> 0 | L28: =K28*E28 -> 0 | M28: =L28*$M$7 -> 0 | N28: =M28+L28 -> 0
I29: =K29*$I$8 -> 0 | J29: =K29*$J$8 -> 0 | K29: =F29+G29+H29+I29+J29 -> 0 | L29: =K29*E29 -> 0 | M29: =L29*$M$7 -> 0 | N29: =M29+L29 -> 0
I30: =K30*$I$8 -> 0 | J30: =K30*$J$8 -> 0 | K30: =F30+G30+H30+I30+J30 -> 0 | L30: =K30*E30 -> 0 | M30: =L30*$M$7 -> 0 | N30: =M30+L30 -> 0
I31: =K31*$I$8 -> 0 | J31: =K31*$J$8 -> 0 | K31: =F31+G31+H31+I31+J31 -> 0 | L31: =K31*E31 -> 0 | M31: =L31*$M$7 -> 0 | N31: =M31+L31 -> 0
I32: =K32*$I$8 -> 0 | J32: =K32*$J$8 -> 0 | K32: =F32+G32+H32+I32+J32 -> 0 | L32: =K32*E32 -> 0 | M32: =L32*$M$7 -> 0 | N32: =M32+L32 -> 0
I33: =K33*$I$8 -> 0 | J33: =K33*$J$8 -> 0 | K33: =F33+G33+H33+I33+J33 -> 0 | L33: =K33*E33 -> 0 | M33: =L33*$M$7 -> 0 | N33: =M33+L33 -> 0
I34: =K34*$I$8 -> 0 | J34: =K34*$J$8 -> 0 | K34: =F34+G34+H34+I34+J34 -> 0 | L34: =K34*E34 -> 0 | M34: =L34*$M$7 -> 0 | N34: =M34+L34 -> 0
I35: =K35*$I$8 -> 0 | J35: =K35*$J$8 -> 0 | K35: =F35+G35+H35+I35+J35 -> 0 | L35: =K35*E35 -> 0 | M35: =L35*$M$7 -> 0 | N35: =M35+L35 -> 0
I36: =K36*$I$8 -> 0 | J36: =K36*$J$8 -> 0 | K36: =F36+G36+H36+I36+J36 -> 0 | L36: =K36*E36 -> 0 | M36: =L36*$M$7 -> 0 | N36: =M36+L36 -> 0
I37: =K37*$I$8 -> 0 | J37: =K37*$J$8 -> 0 | K37: =F37+G37+H37+I37+J37 -> 0 | L37: =K37*E37 -> 0 | M37: =L37*$M$7 -> 0 | N37: =M37+L37 -> 0
I38: =K38*$I$8 -> 0 | J38: =K38*$J$8 -> 0 | K38: =F38+G38+H38+I38+J38 -> 0 | L38: =K38*E38 -> 0 | M38: =L38*$M$7 -> 0 | N38: =M38+L38 -> 0 | S38: DAIKIN | T38: MURAL | U38: 1,5kW | V38: MONO
I39: =K39*$I$8 -> 0 | J39: =K39*$J$8 -> 0 | K39: =F39+G39+H39+I39+J39 -> 0 | L39: =K39*E39 -> 0 | M39: =L39*$M$7 -> 0 | N39: =M39+L39 -> 0 | S39: MITSUBISHI | T39: CONSOLE | U39: 2kW | V39: MULTI
I40: =K40*$I$8 -> 0 | J40: =K40*$J$8 -> 0 | K40: =F40+G40+H40+I40+J40 -> 0 | L40: =K40*E40 -> 0 | M40: =L40*$M$7 -> 0 | N40: =M40+L40 -> 0 | S40: TOSHIBA | T40: PLAFONNIER | U40: 2,5kW
I41: =K41*$I$8 -> 0 | J41: =K41*$J$8 -> 0 | K41: =F41+G41+H41+I41+J41 -> 0 | L41: =K41*E41 -> 0 | M41: =L41*$M$7 -> 0 | N41: =M41+L41 -> 0 | S41: FUJITSU | T41: CASSETTE | U41: 3,4kW
I42: =K42*$I$8 -> 0 | J42: =K42*$J$8 -> 0 | K42: =F42+G42+H42+I42+J42 -> 0 | L42: =K42*E42 -> 0 | M42: =L42*$M$7 -> 0 | N42: =M42+L42 -> 0 | S42: SAMSUNG | T42: GAINABLE | U42: 3,5kW
I43: =K43*$I$8 -> 0 | J43: =K43*$J$8 -> 0 | K43: =F43+G43+H43+I43+J43 -> 0 | L43: =K43*E43 -> 0 | M43: =L43*$M$7 -> 0 | N43: =M43+L43 -> 0 | S43: AUTRES | U43: 4,0kW
I44: =K44*$I$8 -> 0 | J44: =K44*$J$8 -> 0 | K44: =F44+G44+H44+I44+J44 -> 0 | L44: =K44*E44 -> 0 | M44: =L44*$M$7 -> 0 | N44: =M44+L44 -> 0 | U44: 4,2kW
I45: =K45*$I$8 -> 0 | J45: =K45*$J$8 -> 0 | K45: =F45+G45+H45+I45+J45 -> 0 | L45: =K45*E45 -> 0 | M45: =L45*$M$7 -> 0 | N45: =M45+L45 -> 0 | U45: 4,3kW
...

Sheet GROUPE
E5: GROUPE EXTERIEUR
E7: FOURNITURES PRINCIPALES | F7: u | G7: Q | H7: PU | I7: P TOTAL
D9: REF: | E9: =DEVIS!C10 -> ctxa15aaw | F9: u | G9: 1 | H9: =IFERROR(VLOOKUP(E9,MONO!C:D,2,FALSE),IFERROR(VLOOKUP(E9,MULTI!C:D,2,FALSE),IFERROR(VLOOKUP(E9,MONOTERTIAIRE!C:D,2,FALSE),IFERROR(VLOOKUP(E9,VRV!C:D,2,FALSE),"")))) | I9: =IFERROR(H9*G9,"")
C13: FOURNISSEUR | E13: accessoires / complements
E15: BI-TUBE | F15: ML | I15: =+H15*G15 -> 0
E16: COURONNE | F16: ML | I16: =+H16*G16 -> 0
E17: COURONNE | F17: ML | I17: =+H17*G17 -> 0
E18: 5G1,5 | F18: ML | G18: 0 | H18: 0.92 | I18: =+H18*G18 -> 0
E19: 3G2,5 | F19: ML | H19: 0.8 | I19: =+H19*G19 -> 0
E20: AUTRE CABLE | F20: ML | I20: =+H20*G20 -> 0 | L20: PRIX UNITAIRE TOUT COMPRIS | O20: =+I48/G9 -> 0 | P20: /UNITE
E21: GOULOTTE 80*60 | F21: ML | H21: 3 | I21: =+H21*G21 -> 0
E22: GOULOTTE 110*75 | F22: ML | H22: 7 | I22: =+H22*G22 -> 0 | P22: P TOTAL | Q22: P TOTAL
E23: INTERRUPTEUR PROX | F23: U | H23: 15 | I23: =+H23*G23 -> 0 | N23: VERIFICATION | P23: =+I48 -> 0 | Q23: =+O20*G9 -> 0
E24: RUBBER FOOT | F24: U | I24: =+H24*G24 -> 0
E25: SUPPORT CHAISE | F25: U | I25: =+H25*G25 -> 0
E26: BEIGE | F26: U | H26: 0.58 | I26: =+H26*G26 -> 0
E27: CRISTAL | F27: U | H27: 0.96 | I27: =+H27*G27 -> 0
E28: POMPE DE RELEVAGE | F28: U | I28: =+H28*G28 -> 0
E29: PETITE FOURNITURE | F29: U | H29: 15 | I29: =+H29*G29 -> 0
F30: U | I30: =+H30*G30 -> 0
E31: ANGLE PLAT | F31: U | H31: 4 | I31: =+H31*G31 -> 0
E32: ANGLE INTERNE | F32: U | H32: 4 | I32: =+H32*G32 -> 0
E33: ANGLE EXTERNE | F33: U | H33: 4 | I33: =+H33*G33 -> 0
E34: JOINTURE | F34: U | H34: 4 | I34: =+H34*G34 -> 0 | Q34: 1/4-3/8 | R34: 1/4 - | S34: 1/4 - | T34: BLANCHE | U34: 40CM | V34: MINI BLANCHE
E35: PASSAGE DE MUR | F35: U | H35: 4 | I35: =+H35*G35 -> 0 | Q35: 1/4-1/2 | R35: 3/8 - | S35: 3/8 - | T35: IVOIRE | U35: 50CM | V35: MINI BLEUE
E36: FIN DE GOULOTTE | F36: U | H36: 4 | I36: =+H36*G36 -> 0 | Q36: 1/4-5/8 | R36: 1/2 - | S36: 1/2 - | U36: 60CM | V36: SAUERMANN
F37: U | I37: =+H37*G37 -> 0 | Q37: 3/8-5/8 | R37: 5/8 - | S37: 5/8 - | U37: 80CM | V37: POMPE A BAC
F38: U | I38: =+H38*G38 -> 0 | Q38: 3/8-3/4 | R38: 3/4 - | S38: 3/4 - | T38: FRITEC | U38: 100CM
F39: U | I39: =+H39*G39 -> 0 | Q39: 3/8-7/8 | R39: 7/8 - | S39: 7/8 - | T39: LEFROID
F40: U | I40: =+H40*G40 -> 0 | Q40: 1/2-7/8 | R40: 1" | S40: 1" | T40: COFRISET | V40: 5G2.5
F41: U | I41: =+H41*G41 -> 0 | Q41: 1/2-1" | R41: 1"1/8 | S41: 1"1/8 | T41: CLIM+ | V41: 3G6²
F42: U | I42: =+H42*G42 -> 0 | T42: LEROY M | V42: 5G6²
F43: U | I43: =+H43*G43 -> 0 | T43: REXEL | V43: BUS
F44: U | I44: =+H44*G44 -> 0 | T44: LA PLATEFORME | V44: 2x 0,75
F45: U | I45: =+H45*G45 -> 0
F46: U | I46: =+H46*G46 -> 0
F47: U
H48: P TOTAL | I48: =+SUM(I9:I47) -> 0

Sheet UNITE1
E5: UNITE 1
E7: FOURNITURES PRINCIPALES | F7: u | G7: Q | H7: PU | I7: P TOTAL
D9: REF: | E9: =DEVIS!C12 -> 0 | F9: u | G9: 1 | H9: =IFERROR(VLOOKUP(E9,MONO!C:D,2,FALSE),IFERROR(VLOOKUP(E9,MULTI!C:D,2,FALSE),IFERROR(VLOOKUP(E9,MONOTERTIAIRE!C:D,2,FALSE),IFERROR(VLOOKUP(E9,VRV!C:D,2,FALSE),"")))) | I9: =IFERROR(H9*G9,"")
C13: FOURNISSEUR | E13: accessoires / complements
E15: BI-TUBE | F15: ML | I15: =+H15*G15 -> 0
E16: COURONNE | F16: ML | I16: =+H16*G16 -> 0
E17: COURONNE | F17: ML | I17: =+H17*G17 -> 0
E18: 5G1,5 | F18: ML | H18: 0.92 | I18: =+H18*G18 -> 0
E19: 3G2,5 | F19: ML | H19: 0.8 | I19: =+H19*G19 -> 0
E20: AUTRE CABLE | F20: ML | I20: =+H20*G20 -> 0 | L20: PRIX UNITAIRE TOUT COMPRIS | O20: =+I48/G9 -> 0 | P20: /UNITE
E21: GOULOTTE 80*60 | F21: ML | H21: 3 | I21: =+H21*G21 -> 0
E22: GOULOTTE 110*75 | F22: ML | H22: 7 | I22: =+H22*G22 -> 0 | P22: P TOTAL | Q22: P TOTAL
E23: INTERRUPTEUR PROX | F23: U | H23: 15 | I23: =+H23*G23 -> 0 | N23: VERIFICATION | P23: =+I48 -> 0 | Q23: =+O20*G9 -> 0
E24: RUBBER FOOT | F24: U | I24: =+H24*G24 -> 0
E25: SUPPORT CHAISE | F25: U | I25: =+H25*G25 -> 0
E26: BEIGE | F26: U | H26: 0.58 | I26: =+H26*G26 -> 0
E27: CRISTAL | F27: U | H27: 0.96 | I27: =+H27*G27 -> 0
E28: POMPE DE RELEVAGE | F28: U | I28: =+H28*G28 -> 0
E29: PETITE FOURNITURE | F29: U | H29: 15 | I29: =+H29*G29 -> 0
F30: U | I30: =+H30*G30 -> 0
E31: ANGLE PLAT | F31: U | H31: 4 | I31: =+H31*G31 -> 0
E32: ANGLE INTERNE | F32: U | H32: 4 | I32: =+H32*G32 -> 0
E33: ANGLE EXTERNE | F33: U | H33: 4 | I33: =+H33*G33 -> 0
E34: JOINTURE | F34: U | H34: 4 | I34: =+H34*G34 -> 0 | Q34: 1/4-3/8 | R34: 1/4 - | S34: 1/4 - | T34: BLANCHE | U34: 40CM | V34: MINI BLANCHE
E35: PASSAGE DE MUR | F35: U | H35: 4 | I35: =+H35*G35 -> 0 | Q35: 1/4-1/2 | R35: 3/8 - | S35: 3/8 - | T35: IVOIRE | U35: 50CM | V35: MINI BLEUE
E36: FIN DE GOULOTTE | F36: U | H36: 4 | I36: =+H36*G36 -> 0 | Q36: 1/4-5/8 | R36: 1/2 - | S36: 1/2 - | U36: 60CM | V36: SAUERMANN
F37: U | I37: =+H37*G37 -> 0 | Q37: 3/8-5/8 | R37: 5/8 - | S37: 5/8 - | U37: 80CM | V37: POMPE A BAC
F38: U | I38: =+H38*G38 -> 0 | Q38: 3/8-3/4 | R38: 3/4 - | S38: 3/4 - | T38: FRITEC | U38: 100CM
F39: U | I39: =+H39*G39 -> 0 | Q39: 3/8-7/8 | R39: 7/8 - | S39: 7/8 - | T39: LEFROID
F40: U | I40: =+H40*G40 -> 0 | Q40: 1/2-7/8 | R40: 1" | S40: 1" | T40: COFRISET | V40: 5G2.5
F41: U | I41: =+H41*G41 -> 0 | Q41: 1/2-1" | R41: 1"1/8 | S41: 1"1/8 | T41: CLIM+ | V41: 3G6²
F42: U | I42: =+H42*G42 -> 0 | T42: LEROY M | V42: 5G6²
F43: U | I43: =+H43*G43 -> 0 | T43: REXEL | V43: BUS
F44: U | I44: =+H44*G44 -> 0 | T44: LA PLATEFORME | V44: 2x 0,75
F45: U | I45: =+H45*G45 -> 0
F46: U | I46: =+H46*G46 -> 0
F47: U
H48: P TOTAL | I48: =+SUM(I9:I47) -> 0

Sheet UNITE2
E5: UNITE 2
E7: FOURNITURES PRINCIPALES | F7: u | G7: Q | H7: PU | I7: P TOTAL
D9: REF: | E9: =DEVIS!C14 -> 0 | F9: u | G9: 1 | H9: =IFERROR(VLOOKUP(E9,MONO!C:D,2,FALSE),IFERROR(VLOOKUP(E9,MULTI!C:D,2,FALSE),IFERROR(VLOOKUP(E9,MONOTERTIAIRE!C:D,2,FALSE),IFERROR(VLOOKUP(E9,VRV!C:D,2,FALSE),"")))) | I9: =IFERROR(H9*G9,"")
C13: FOURNISSEUR | E13: accessoires / complements
E15: BI-TUBE | F15: ML | I15: =+H15*G15 -> 0
E16: COURONNE | F16: ML | I16: =+H16*G16 -> 0
E17: COURONNE | F17: ML | I17: =+H17*G17 -> 0
E18: 5G1,5 | F18: ML | H18: 0.92 | I18: =+H18*G18 -> 0
E19: 3G2,5 | F19: ML | H19: 0.8 | I19: =+H19*G19 -> 0
E20: AUTRE CABLE | F20: ML | I20: =+H20*G20 -> 0 | L20: PRIX UNITAIRE TOUT COMPRIS | O20: =+I48/G9 -> 0 | P20: /UNITE
E21: GOULOTTE 80*60 | F21: ML | H21: 3 | I21: =+H21*G21 -> 0
E22: GOULOTTE 110*75 | F22: ML | H22: 7 | I22: =+H22*G22 -> 0 | P22: P TOTAL | Q22: P TOTAL
E23: INTERRUPTEUR PROX | F23: U | H23: 15 | I23: =+H23*G23 -> 0 | N23: VERIFICATION | P23: =+I48 -> 0 | Q23: =+O20*G9 -> 0
E24: RUBBER FOOT | F24: U | I24: =+H24*G24 -> 0
E25: SUPPORT CHAISE | F25: U | I25: =+H25*G25 -> 0
E26: BEIGE | F26: U | H26: 0.58 | I26: =+H26*G26 -> 0
E27: CRISTAL | F27: U | H27: 0.96 | I27: =+H27*G27 -> 0
E28: POMPE DE RELEVAGE | F28: U | I28: =+H28*G28 -> 0
E29: PETITE FOURNITURE | F29: U | H29: 15 | I29: =+H29*G29 -> 0
F30: U | I30: =+H30*G30 -> 0
E31: ANGLE PLAT | F31: U | H31: 4 | I31: =+H31*G31 -> 0
E32: ANGLE INTERNE | F32: U | H32: 4 | I32: =+H32*G32 -> 0
E33: ANGLE EXTERNE | F33: U | H33: 4 | I33: =+H33*G33 -> 0
E34: JOINTURE | F34: U | H34: 4 | I34: =+H34*G34 -> 0 | Q34: 1/4-3/8 | R34: 1/4 - | S34: 1/4 - | T34: BLANCHE | U34: 40CM | V34: MINI BLANCHE
E35: PASSAGE DE MUR | F35: U | H35: 4 | I35: =+H35*G35 -> 0 | Q35: 1/4-1/2 | R35: 3/8 - | S35: 3/8 - | T35: IVOIRE | U35: 50CM | V35: MINI BLEUE
E36: FIN DE GOULOTTE | F36: U | H36: 4 | I36: =+H36*G36 -> 0 | Q36: 1/4-5/8 | R36: 1/2 - | S36: 1/2 - | U36: 60CM | V36: SAUERMANN
F37: U | I37: =+H37*G37 -> 0 | Q37: 3/8-5/8 | R37: 5/8 - | S37: 5/8 - | U37: 80CM | V37: POMPE A BAC
F38: U | I38: =+H38*G38 -> 0 | Q38: 3/8-3/4 | R38: 3/4 - | S38: 3/4 - | T38: FRITEC | U38: 100CM
F39: U | I39: =+H39*G39 -> 0 | Q39: 3/8-7/8 | R39: 7/8 - | S39: 7/8 - | T39: LEFROID
F40: U | I40: =+H40*G40 -> 0 | Q40: 1/2-7/8 | R40: 1" | S40: 1" | T40: COFRISET | V40: 5G2.5
F41: U | I41: =+H41*G41 -> 0 | Q41: 1/2-1" | R41: 1"1/8 | S41: 1"1/8 | T41: CLIM+ | V41: 3G6²
F42: U | I42: =+H42*G42 -> 0 | T42: LEROY M | V42: 5G6²
F43: U | I43: =+H43*G43 -> 0 | T43: REXEL | V43: BUS
F44: U | I44: =+H44*G44 -> 0 | T44: LA PLATEFORME | V44: 2x 0,75
F45: U | I45: =+H45*G45 -> 0
F46: U | I46: =+H46*G46 -> 0
F47: U
H48: P TOTAL | I48: =+SUM(I9:I47) -> 0

Sheet UNITE3
E5: UNITE 3
E7: FOURNITURES PRINCIPALES | F7: u | G7: Q | H7: PU | I7: P TOTAL
D9: REF: | E9: =DEVIS!C16 -> 0 | F9: u | G9: 1 | H9: =IFERROR(VLOOKUP(E9,MONO!C:D,2,FALSE),IFERROR(VLOOKUP(E9,MULTI!C:D,2,FALSE),IFERROR(VLOOKUP(E9,MONOTERTIAIRE!C:D,2,FALSE),IFERROR(VLOOKUP(E9,VRV!C:D,2,FALSE),"")))) | I9: =IFERROR(H9*G9,"")
C13: FOURNISSEUR | E13: accessoires / complements
E15: BI-TUBE | F15: ML | I15: =+H15*G15 -> 0
E16: COURONNE | F16: ML | I16: =+H16*G16 -> 0
E17: COURONNE | F17: ML | I17: =+H17*G17 -> 0
E18: 5G1,5 | F18: ML | H18: 0.92 | I18: =+H18*G18 -> 0
E19: 3G2,5 | F19: ML | H19: 0.8 | I19: =+H19*G19 -> 0
E20: AUTRE CABLE | F20: ML | I20: =+H20*G20 -> 0 | L20: PRIX UNITAIRE TOUT COMPRIS | O20: =+I48/G9 -> 0 | P20: /UNITE
E21: GOULOTTE 80*60 | F21: ML | H21: 3 | I21: =+H21*G21 -> 0
E22: GOULOTTE 110*75 | F22: ML | H22: 7 | I22: =+H22*G22 -> 0 | P22: P TOTAL | Q22: P TOTAL
E23: INTERRUPTEUR PROX | F23: U | H23: 15 | I23: =+H23*G23 -> 0 | N23: VERIFICATION | P23: =+I48 -> 0 | Q23: =+O20*G9 -> 0
E24: RUBBER FOOT | F24: U | I24: =+H24*G24 -> 0
E25: SUPPORT CHAISE | F25: U | I25: =+H25*G25 -> 0
E26: BEIGE | F26: U | H26: 0.58 | I26: =+H26*G26 -> 0
E27: CRISTAL | F27: U | H27: 0.96 | I27: =+H27*G27 -> 0
E28: POMPE DE RELEVAGE | F28: U | I28: =+H28*G28 -> 0
E29: PETITE FOURNITURE | F29: U | H29: 15 | I29: =+H29*G29 -> 0
F30: U | I30: =+H30*G30 -> 0
E31: ANGLE PLAT | F31: U | H31: 4 | I31: =+H31*G31 -> 0
E32: ANGLE INTERNE | F32: U | H32: 4 | I32: =+H32*G32 -> 0
E33: ANGLE EXTERNE | F33: U | H33: 4 | I33: =+H33*G33 -> 0
E34: JOINTURE | F34: U | H34: 4 | I34: =+H34*G34 -> 0 | Q34: 1/4-3/8 | R34: 1/4 - | S34: 1/4 - | T34: BLANCHE | U34: 40CM | V34: MINI BLANCHE
E35: PASSAGE DE MUR | F35: U | H35: 4 | I35: =+H35*G35 -> 0 | Q35: 1/4-1/2 | R35: 3/8 - | S35: 3/8 - | T35: IVOIRE | U35: 50CM | V35: MINI BLEUE
E36: FIN DE GOULOTTE | F36: U | H36: 4 | I36: =+H36*G36 -> 0 | Q36: 1/4-5/8 | R36: 1/2 - | S36: 1/2 - | U36: 60CM | V36: SAUERMANN
F37: U | I37: =+H37*G37 -> 0 | Q37: 3/8-5/8 | R37: 5/8 - | S37: 5/8 - | U37: 80CM | V37: POMPE A BAC
F38: U | I38: =+H38*G38 -> 0 | Q38: 3/8-3/4 | R38: 3/4 - | S38: 3/4 - | T38: FRITEC | U38: 100CM
F39: U | I39: =+H39*G39 -> 0 | Q39: 3/8-7/8 | R39: 7/8 - | S39: 7/8 - | T39: LEFROID
F40: U | I40: =+H40*G40 -> 0 | Q40: 1/2-7/8 | R40: 1" | S40: 1" | T40: COFRISET | V40: 5G2.5
F41: U | I41: =+H41*G41 -> 0 | Q41: 1/2-1" | R41: 1"1/8 | S41: 1"1/8 | T41: CLIM+ | V41: 3G6²
F42: U | I42: =+H42*G42 -> 0 | T42: LEROY M | V42: 5G6²
F43: U | I43: =+H43*G43 -> 0 | T43: REXEL | V43: BUS
F44: U | I44: =+H44*G44 -> 0 | T44: LA PLATEFORME | V44: 2x 0,75
F45: U | I45: =+H45*G45 -> 0
F46: U | I46: =+H46*G46 -> 0
F47: U
H48: P TOTAL | I48: =+SUM(I9:I47) -> 0

Sheet UNITE4
E5: UNITE 4
E7: FOURNITURES PRINCIPALES | F7: u | G7: Q | H7: PU | I7: P TOTAL
D9: REF: | E9: =DEVIS!C18 -> 0 | F9: u | G9: 1 | H9: =IFERROR(VLOOKUP(E9,MONO!C:D,2,FALSE),IFERROR(VLOOKUP(E9,MULTI!C:D,2,FALSE),IFERROR(VLOOKUP(E9,MONOTERTIAIRE!C:D,2,FALSE),IFERROR(VLOOKUP(E9,VRV!C:D,2,FALSE),"")))) | I9: =IFERROR(H9*G9,"")
C13: FOURNISSEUR | E13: accessoires / complements
E15: BI-TUBE | F15: ML | I15: =+H15*G15 -> 0
E16: COURONNE | F16: ML | I16: =+H16*G16 -> 0
E17: COURONNE | F17: ML | I17: =+H17*G17 -> 0
E18: 5G1,5 | F18: ML | H18: 0.92 | I18: =+H18*G18 -> 0
E19: 3G2,5 | F19: ML | H19: 0.8 | I19: =+H19*G19 -> 0
E20: AUTRE CABLE | F20: ML | I20: =+H20*G20 -> 0 | L20: PRIX UNITAIRE TOUT COMPRIS | O20: =+I48/G9 -> 0 | P20: /UNITE
E21: GOULOTTE 80*60 | F21: ML | H21: 3 | I21: =+H21*G21 -> 0
E22: GOULOTTE 110*75 | F22: ML | H22: 7 | I22: =+H22*G22 -> 0 | P22: P TOTAL | Q22: P TOTAL
E23: INTERRUPTEUR PROX | F23: U | H23: 15 | I23: =+H23*G23 -> 0 | N23: VERIFICATION | P23: =+I48 -> 0 | Q23: =+O20*G9 -> 0
E24: RUBBER FOOT | F24: U | I24: =+H24*G24 -> 0
E25: SUPPORT CHAISE | F25: U | I25: =+H25*G25 -> 0
E26: BEIGE | F26: U | H26: 0.58 | I26: =+H26*G26 -> 0
E27: CRISTAL | F27: U | H27: 0.96 | I27: =+H27*G27 -> 0
E28: POMPE DE RELEVAGE | F28: U | I28: =+H28*G28 -> 0
E29: PETITE FOURNITURE | F29: U | H29: 15 | I29: =+H29*G29 -> 0
F30: U | I30: =+H30*G30 -> 0
E31: ANGLE PLAT | F31: U | H31: 4 | I31: =+H31*G31 -> 0
E32: ANGLE INTERNE | F32: U | H32: 4 | I32: =+H32*G32 -> 0
E33: ANGLE EXTERNE | F33: U | H33: 4 | I33: =+H33*G33 -> 0
E34: JOINTURE | F34: U | H34: 4 | I34: =+H34*G34 -> 0 | Q34: 1/4-3/8 | R34: 1/4 - | S34: 1/4 - | T34: BLANCHE | U34: 40CM | V34: MINI BLANCHE
E35: PASSAGE DE MUR | F35: U | H35: 4 | I35: =+H35*G35 -> 0 | Q35: 1/4-1/2 | R35: 3/8 - | S35: 3/8 - | T35: IVOIRE | U35: 50CM | V35: MINI BLEUE
E36: FIN DE GOULOTTE | F36: U | H36: 4 | I36: =+H36*G36 -> 0 | Q36: 1/4-5/8 | R36: 1/2 - | S36: 1/2 - | U36: 60CM | V36: SAUERMANN
F37: U | I37: =+H37*G37 -> 0 | Q37: 3/8-5/8 | R37: 5/8 - | S37: 5/8 - | U37: 80CM | V37: POMPE A BAC
F38: U | I38: =+H38*G38 -> 0 | Q38: 3/8-3/4 | R38: 3/4 - | S38: 3/4 - | T38: FRITEC | U38: 100CM
F39: U | I39: =+H39*G39 -> 0 | Q39: 3/8-7/8 | R39: 7/8 - | S39: 7/8 - | T39: LEFROID
F40: U | I40: =+H40*G40 -> 0 | Q40: 1/2-7/8 | R40: 1" | S40: 1" | T40: COFRISET | V40: 5G2.5
F41: U | I41: =+H41*G41 -> 0 | Q41: 1/2-1" | R41: 1"1/8 | S41: 1"1/8 | T41: CLIM+ | V41: 3G6²
F42: U | I42: =+H42*G42 -> 0 | T42: LEROY M | V42: 5G6²
F43: U | I43: =+H43*G43 -> 0 | T43: REXEL | V43: BUS
F44: U | I44: =+H44*G44 -> 0 | T44: LA PLATEFORME | V44: 2x 0,75
F45: U | I45: =+H45*G45 -> 0
F46: U | I46: =+H46*G46 -> 0
F47: U
H48: P TOTAL | I48: =+SUM(I9:I47) -> 0

Sheet UNITE5
E5: UNITE 5
E7: FOURNITURES PRINCIPALES | F7: u | G7: Q | H7: PU | I7: P TOTAL
D9: REF: | E9: =DEVIS!C20 -> 0 | F9: u | G9: 1 | H9: =IFERROR(VLOOKUP(E9,MONO!C:D,2,FALSE),IFERROR(VLOOKUP(E9,MULTI!C:D,2,FALSE),IFERROR(VLOOKUP(E9,MONOTERTIAIRE!C:D,2,FALSE),IFERROR(VLOOKUP(E9,VRV!C:D,2,FALSE),"")))) | I9: =IFERROR(H9*G9,"")
C13: FOURNISSEUR | E13: accessoires / complements
E15: BI-TUBE | F15: ML | I15: =+H15*G15 -> 0
E16: COURONNE | F16: ML | I16: =+H16*G16 -> 0
E17: COURONNE | F17: ML | I17: =+H17*G17 -> 0
E18: 5G1,5 | F18: ML | H18: 0.92 | I18: =+H18*G18 -> 0
E19: 3G2,5 | F19: ML | H19: 0.8 | I19: =+H19*G19 -> 0
E20: AUTRE CABLE | F20: ML | I20: =+H20*G20 -> 0 | L20: PRIX UNITAIRE TOUT COMPRIS | O20: =+I48/G9 -> 0 | P20: /UNITE
E21: GOULOTTE 80*60 | F21: ML | H21: 3 | I21: =+H21*G21 -> 0
E22: GOULOTTE 110*75 | F22: ML | H22: 7 | I22: =+H22*G22 -> 0 | P22: P TOTAL | Q22: P TOTAL
E23: INTERRUPTEUR PROX | F23: U | H23: 15 | I23: =+H23*G23 -> 0 | N23: VERIFICATION | P23: =+I48 -> 0 | Q23: =+O20*G9 -> 0
E24: RUBBER FOOT | F24: U | I24: =+H24*G24 -> 0
E25: SUPPORT CHAISE | F25: U | I25: =+H25*G25 -> 0
E26: BEIGE | F26: U | H26: 0.58 | I26: =+H26*G26 -> 0
E27: CRISTAL | F27: U | H27: 0.96 | I27: =+H27*G27 -> 0
E28: POMPE DE RELEVAGE | F28: U | I28: =+H28*G28 -> 0
E29: PETITE FOURNITURE | F29: U | H29: 15 | I29: =+H29*G29 -> 0
F30: U | I30: =+H30*G30 -> 0
E31: ANGLE PLAT | F31: U | H31: 4 | I31: =+H31*G31 -> 0
E32: ANGLE INTERNE | F32: U | H32: 4 | I32: =+H32*G32 -> 0
E33: ANGLE EXTERNE | F33: U | H33: 4 | I33: =+H33*G33 -> 0
E34: JOINTURE | F34: U | H34: 4 | I34: =+H34*G34 -> 0 | Q34: 1/4-3/8 | R34: 1/4 - | S34: 1/4 - | T34: BLANCHE | U34: 40CM | V34: MINI BLANCHE
E35: PASSAGE DE MUR | F35: U | H35: 4 | I35: =+H35*G35 -> 0 | Q35: 1/4-1/2 | R35: 3/8 - | S35: 3/8 - | T35: IVOIRE | U35: 50CM | V35: MINI BLEUE
E36: FIN DE GOULOTTE | F36: U | H36: 4 | I36: =+H36*G36 -> 0 | Q36: 1/4-5/8 | R36: 1/2 - | S36: 1/2 - | U36: 60CM | V36: SAUERMANN
F37: U | I37: =+H37*G37 -> 0 | Q37: 3/8-5/8 | R37: 5/8 - | S37: 5/8 - | U37: 80CM | V37: POMPE A BAC
F38: U | I38: =+H38*G38 -> 0 | Q38: 3/8-3/4 | R38: 3/4 - | S38: 3/4 - | T38: FRITEC | U38: 100CM
F39: U | I39: =+H39*G39 -> 0 | Q39: 3/8-7/8 | R39: 7/8 - | S39: 7/8 - | T39: LEFROID
F40: U | I40: =+H40*G40 -> 0 | Q40: 1/2-7/8 | R40: 1" | S40: 1" | T40: COFRISET | V40: 5G2.5
F41: U | I41: =+H41*G41 -> 0 | Q41: 1/2-1" | R41: 1"1/8 | S41: 1"1/8 | T41: CLIM+ | V41: 3G6²
F42: U | I42: =+H42*G42 -> 0 | T42: LEROY M | V42: 5G6²
F43: U | I43: =+H43*G43 -> 0 | T43: REXEL | V43: BUS
F44: U | I44: =+H44*G44 -> 0 | T44: LA PLATEFORME | V44: 2x 0,75
F45: U | I45: =+H45*G45 -> 0
F46: U | I46: =+H46*G46 -> 0
F47: U
H48: P TOTAL | I48: =+SUM(I9:I47) -> 0

Sheet UNITE6
E5: UNITE 6
E7: FOURNITURES PRINCIPALES | F7: u | G7: Q | H7: PU | I7: P TOTAL
D9: REF: | E9: =DEVIS!C22 -> 0 | F9: u | G9: 1 | H9: =IFERROR(VLOOKUP(E9,MONO!C:D,2,FALSE),IFERROR(VLOOKUP(E9,MULTI!C:D,2,FALSE),IFERROR(VLOOKUP(E9,MONOTERTIAIRE!C:D,2,FALSE),IFERROR(VLOOKUP(E9,VRV!C:D,2,FALSE),"")))) | I9: =IFERROR(H9*G9,"")
C13: FOURNISSEUR | E13: accessoires / complements
E15: BI-TUBE | F15: ML | I15: =+H15*G15 -> 0
E16: COURONNE | F16: ML | I16: =+H16*G16 -> 0
E17: COURONNE | F17: ML | I17: =+H17*G17 -> 0
E18: 5G1,5 | F18: ML | H18: 0.92 | I18: =+H18*G18 -> 0
E19: 3G2,5 | F19: ML | H19: 0.8 | I19: =+H19*G19 -> 0
E20: AUTRE CABLE | F20: ML | I20: =+H20*G20 -> 0 | L20: PRIX UNITAIRE TOUT COMPRIS | O20: =+I48/G9 -> 0 | P20: /UNITE
E21: GOULOTTE 80*60 | F21: ML | H21: 3 | I21: =+H21*G21 -> 0
E22: GOULOTTE 110*75 | F22: ML | H22: 7 | I22: =+H22*G22 -> 0 | P22: P TOTAL | Q22: P TOTAL
E23: INTERRUPTEUR PROX | F23: U | H23: 15 | I23: =+H23*G23 -> 0 | N23: VERIFICATION | P23: =+I48 -> 0 | Q23: =+O20*G9 -> 0
E24: RUBBER FOOT | F24: U | I24: =+H24*G24 -> 0
E25: SUPPORT CHAISE | F25: U | I25: =+H25*G25 -> 0
E26: BEIGE | F26: U | H26: 0.58 | I26: =+H26*G26 -> 0
E27: CRISTAL | F27: U | H27: 0.96 | I27: =+H27*G27 -> 0
E28: POMPE DE RELEVAGE | F28: U | I28: =+H28*G28 -> 0
E29: PETITE FOURNITURE | F29: U | H29: 15 | I29: =+H29*G29 -> 0
F30: U | I30: =+H30*G30 -> 0
E31: ANGLE PLAT | F31: U | H31: 4 | I31: =+H31*G31 -> 0
E32: ANGLE INTERNE | F32: U | H32: 4 | I32: =+H32*G32 -> 0
E33: ANGLE EXTERNE | F33: U | H33: 4 | I33: =+H33*G33 -> 0
E34: JOINTURE | F34: U | H34: 4 | I34: =+H34*G34 -> 0 | Q34: 1/4-3/8 | R34: 1/4 - | S34: 1/4 - | T34: BLANCHE | U34: 40CM | V34: MINI BLANCHE
E35: PASSAGE DE MUR | F35: U | H35: 4 | I35: =+H35*G35 -> 0 | Q35: 1/4-1/2 | R35: 3/8 - | S35: 3/8 - | T35: IVOIRE | U35: 50CM | V35: MINI BLEUE
E36: FIN DE GOULOTTE | F36: U | H36: 4 | I36: =+H36*G36 -> 0 | Q36: 1/4-5/8 | R36: 1/2 - | S36: 1/2 - | U36: 60CM | V36: SAUERMANN
F37: U | I37: =+H37*G37 -> 0 | Q37: 3/8-5/8 | R37: 5/8 - | S37: 5/8 - | U37: 80CM | V37: POMPE A BAC
F38: U | I38: =+H38*G38 -> 0 | Q38: 3/8-3/4 | R38: 3/4 - | S38: 3/4 - | T38: FRITEC | U38: 100CM
F39: U | I39: =+H39*G39 -> 0 | Q39: 3/8-7/8 | R39: 7/8 - | S39: 7/8 - | T39: LEFROID
F40: U | I40: =+H40*G40 -> 0 | Q40: 1/2-7/8 | R40: 1" | S40: 1" | T40: COFRISET | V40: 5G2.5 | W40: 65
F41: U | I41: =+H41*G41 -> 0 | Q41: 1/2-1" | R41: 1"1/8 | S41: 1"1/8 | T41: CLIM+ | V41: 3G6² | W41: 75
F42: U | I42: =+H42*G42 -> 0 | T42: LEROY M | V42: 5G6² | W42: 99
F43: U | I43: =+H43*G43 -> 0 | T43: REXEL | V43: BUS | W43: 129
F44: U | I44: =+H44*G44 -> 0 | T44: LA PLATEFORME | V44: 2x 0,75
F45: U | I45: =+H45*G45 -> 0
F46: U | I46: =+H46*G46 -> 0
F47: U
H48: P TOTAL | I48: =+SUM(I9:I47) -> 0

Sheet MONO
C1: MONOSPLIT
C2: CTXA15AW | D2: 1234
C3: CTXA15BB | D3: 12345
C4: CTXA15BS | D4: 123456
C5: CTXA15BT | D5: 1234567
C6: FXTA20AW | D6: 123456758
C7: FTXA20BB | D7: 123456789
C8: FTXA20BS
C9: FTXA20BT
C10: FTXA25AW
C11: FTXA25BB
C12: FTXA25BS
C13: FTXA25BT
C14: FTXA35AW
C15: FTXA35BB
C16: FTXA35BS
C17: FTXA35BT
C18: FTXA42AW
C19: FTXA42BB
... C32: RXTA30N
C33: CTXM15R | D33: 234.26
C34: FTXM20R
C35: FTXM25R | D35: 327.81
C36: FTXM35R | D36: 327.79
C37: FTXM42R | D37: 452.8
C38: FTXM50R
C39: FTXM60R
C40: FTXM71R
C41: RXM20R
C42: RXM25R
C43: RXM35R | D43: 583.84
C44: RXM42R | D44: 953.71
C45: RXM50R
C46: RXM60R
C47: RXM71R
D48: 0
D49: 0
D50: 0
D51: 0
D52: 0
...

Sheet MULTI
C1: MULTISPLIT
C85: MARLEY | D85: 1230

Sheet MONOTERTIAIRE
C1: MONOSPLIT TERTIAIRE
C17: ALAIN | D17: 555

Sheet VRV
C1: TWIN, TRIPLE ET DOUBLE TWIN
C23: MATHILDE | D23: 888
