Workbook
Name Adresse_Client: OFFSET('Info Client'!$J$2,,,COUNTIF('Info Client'!$J:$J,"><""")-1)
Name Client: 'Info Client'!$A$2:$A$8
Name Liste_Client: OFFSET('Info Client'!$H$2,,,COUNTIF('Info Client'!$H:$H,"><")-1)

Sheet Feuil1
A1: Code Client : | B1: =VLOOKUP(F1,'Info Client'!$A$2:$B$8,2,FALSE) -> 0M85PAS | E1: Client facturé : | F1: PASI LORIE
A2: Adresse de livraison : | B2: 99 RUE LORIE 85120 VORIS 06 52 52 52 52 | E2: Adresse facturation : | F2: =VLOOKUP(F1,'Info Client'!$A$2:$F$8,4,FALSE) -> 4 LOCAL BI 85120 VARIS 05 26 20 52 52
A4: Commande
A5: Code | B5: Désignation | C5: Qté | E5: Tableau récap :
A6: 1 | B6: a | E6: Qté | F6: Code | G6: Désignation
A7: 2 | B7: b | E7: {=IFERROR(IF(ROWS($1:1)<=COUNTIF($C$6:$C$57,"<>"""),INDEX($C$6:$C$57,SMALL(IF($C$6:$C$57>0,ROW(INDIRECT("1:"&ROWS($C$6:$C$57)))),ROWS($1:1))),""),"")} -> 2 | F7: {=IFERROR(IF(ROWS($1:1)<=COUNTIF($C$6:$C$57,"<>"""),INDEX($A$6:$A$57,SMALL(IF($C$6:$C$57>0,ROW(INDIRECT("1:"&ROWS($C$6:$C$57)))),ROWS($1:1))),""),"")} -> 5 | G7: {=IFERROR(IF(ROWS($1:1)<=COUNTIF($C$6:$C$57,"<>"""),INDEX($B$6:$B$57,SMALL(IF($C$6:$C$57>0,ROW(INDIRECT("1:"&ROWS($C$6:$C$57)))),ROWS($1:1))),""),"")} -> e
A8: 3 | B8: c | E8: {=IFERROR(IF(ROWS($1:2)<=COUNTIF($C$6:$C$57,"<>"""),INDEX($C$6:$C$57,SMALL(IF($C$6:$C$57>0,ROW(INDIRECT("1:"&ROWS($C$6:$C$57)))),ROWS($1:2))),""),"")} -> 1 | F8: {=IFERROR(IF(ROWS($1:2)<=COUNTIF($C$6:$C$57,"<>"""),INDEX($A$6:$A$57,SMALL(IF($C$6:$C$57>0,ROW(INDIRECT("1:"&ROWS($C$6:$C$57)))),ROWS($1:2))),""),"")} -> 6 | G8: {=IFERROR(IF(ROWS($1:2)<=COUNTIF($C$6:$C$57,"<>"""),INDEX($B$6:$B$57,SMALL(IF($C$6:$C$57>0,ROW(INDIRECT("1:"&ROWS($C$6:$C$57)))),ROWS($1:2))),""),"")} -> f
A9: 4 | B9: d | E9: {=IFERROR(IF(ROWS($1:3)<=COUNTIF($C$6:$C$57,"<>"""),INDEX($C$6:$C$57,SMALL(IF($C$6:$C$57>0,ROW(INDIRECT("1:"&ROWS($C$6:$C$57)))),ROWS($1:3))),""),"")} -> 4 | F9: {=IFERROR(IF(ROWS($1:3)<=COUNTIF($C$6:$C$57,"<>"""),INDEX($A$6:$A$57,SMALL(IF($C$6:$C$57>0,ROW(INDIRECT("1:"&ROWS($C$6:$C$57)))),ROWS($1:3))),""),"")} -> 23 | G9: {=IFERROR(IF(ROWS($1:3)<=COUNTIF($C$6:$C$57,"<>"""),INDEX($B$6:$B$57,SMALL(IF($C$6:$C$57>0,ROW(INDIRECT("1:"&ROWS($C$6:$C$57)))),ROWS($1:3))),""),"")} -> w
A10: 5 | B10: e | C10: 2 | E10: {=IFERROR(IF(ROWS($1:4)<=COUNTIF($C$6:$C$57,"<>"""),INDEX($C$6:$C$57,SMALL(IF($C$6:$C$57>0,ROW(INDIRECT("1:"&ROWS($C$6:$C$57)))),ROWS($1:4))),""),"")} -> 1 | F10: {=IFERROR(IF(ROWS($1:4)<=COUNTIF($C$6:$C$57,"<>"""),INDEX($A$6:$A$57,SMALL(IF($C$6:$C$57>0,ROW(INDIRECT("1:"&ROWS($C$6:$C$57)))),ROWS($1:4))),""),"")} -> 52 | G10: {=IFERROR(IF(ROWS($1:4)<=COUNTIF($C$6:$C$57,"<>"""),INDEX($B$6:$B$57,SMALL(IF($C$6:$C$57>0,ROW(INDIRECT("1:"&ROWS($C$6:$C$57)))),ROWS($1:4))),""),"")} -> zz
A11: 6 | B11: f | C11: 1 | E11: {=IFERROR(IF(ROWS($1:5)<=COUNTIF($C$6:$C$57,"<>"""),INDEX($C$6:$C$57,SMALL(IF($C$6:$C$57>0,ROW(INDIRECT("1:"&ROWS($C$6:$C$57)))),ROWS($1:5))),""),"")} | F11: {=IFERROR(IF(ROWS($1:5)<=COUNTIF($C$6:$C$57,"<>"""),INDEX($A$6:$A$57,SMALL(IF($C$6:$C$57>0,ROW(INDIRECT("1:"&ROWS($C$6:$C$57)))),ROWS($1:5))),""),"")} | G11: {=IFERROR(IF(ROWS($1:5)<=COUNTIF($C$6:$C$57,"<>"""),INDEX($B$6:$B$57,SMALL(IF($C$6:$C$57>0,ROW(INDIRECT("1:"&ROWS($C$6:$C$57)))),ROWS($1:5))),""),"")}
A12: 7 | B12: g | E12: {=IFERROR(IF(ROWS($1:6)<=COUNTIF($C$6:$C$57,"<>"""),INDEX($C$6:$C$57,SMALL(IF($C$6:$C$57>0,ROW(INDIRECT("1:"&ROWS($C$6:$C$57)))),ROWS($1:6))),""),"")} | F12: {=IFERROR(IF(ROWS($1:6)<=COUNTIF($C$6:$C$57,"<>"""),INDEX($A$6:$A$57,SMALL(IF($C$6:$C$57>0,ROW(INDIRECT("1:"&ROWS($C$6:$C$57)))),ROWS($1:6))),""),"")} | G12: {=IFERROR(IF(ROWS($1:6)<=COUNTIF($C$6:$C$57,"<>"""),INDEX($B$6:$B$57,SMALL(IF($C$6:$C$57>0,ROW(INDIRECT("1:"&ROWS($C$6:$C$57)))),ROWS($1:6))),""),"")}
A13: 8 | B13: h | E13: {=IFERROR(IF(ROWS($1:7)<=COUNTIF($C$6:$C$57,"<>"""),INDEX($C$6:$C$57,SMALL(IF($C$6:$C$57>0,ROW(INDIRECT("1:"&ROWS($C$6:$C$57)))),ROWS($1:7))),""),"")} | F13: {=IFERROR(IF(ROWS($1:7)<=COUNTIF($C$6:$C$57,"<>"""),INDEX($A$6:$A$57,SMALL(IF($C$6:$C$57>0,ROW(INDIRECT("1:"&ROWS($C$6:$C$57)))),ROWS($1:7))),""),"")} | G13: {=IFERROR(IF(ROWS($1:7)<=COUNTIF($C$6:$C$57,"<>"""),INDEX($B$6:$B$57,SMALL(IF($C$6:$C$57>0,ROW(INDIRECT("1:"&ROWS($C$6:$C$57)))),ROWS($1:7))),""),"")}
A14: 9 | B14: i | E14: {=IFERROR(IF(ROWS($1:8)<=COUNTIF($C$6:$C$57,"<>"""),INDEX($C$6:$C$57,SMALL(IF($C$6:$C$57>0,ROW(INDIRECT("1:"&ROWS($C$6:$C$57)))),ROWS($1:8))),""),"")} | F14: {=IFERROR(IF(ROWS($1:8)<=COUNTIF($C$6:$C$57,"<>"""),INDEX($A$6:$A$57,SMALL(IF($C$6:$C$57>0,ROW(INDIRECT("1:"&ROWS($C$6:$C$57)))),ROWS($1:8))),""),"")} | G14: {=IFERROR(IF(ROWS($1:8)<=COUNTIF($C$6:$C$57,"<>"""),INDEX($B$6:$B$57,SMALL(IF($C$6:$C$57>0,ROW(INDIRECT("1:"&ROWS($C$6:$C$57)))),ROWS($1:8))),""),"")}
A15: 10 | B15: j | E15: {=IFERROR(IF(ROWS($1:9)<=COUNTIF($C$6:$C$57,"<>"""),INDEX($C$6:$C$57,SMALL(IF($C$6:$C$57>0,ROW(INDIRECT("1:"&ROWS($C$6:$C$57)))),ROWS($1:9))),""),"")} | F15: {=IFERROR(IF(ROWS($1:9)<=COUNTIF($C$6:$C$57,"<>"""),INDEX($A$6:$A$57,SMALL(IF($C$6:$C$57>0,ROW(INDIRECT("1:"&ROWS($C$6:$C$57)))),ROWS($1:9))),""),"")} | G15: {=IFERROR(IF(ROWS($1:9)<=COUNTIF($C$6:$C$57,"<>"""),INDEX($B$6:$B$57,SMALL(IF($C$6:$C$57>0,ROW(INDIRECT("1:"&ROWS($C$6:$C$57)))),ROWS($1:9))),""),"")}
A16: 11 | B16: k | E16: {=IFERROR(IF(ROWS($1:10)<=COUNTIF($C$6:$C$57,"<>"""),INDEX($C$6:$C$57,SMALL(IF($C$6:$C$57>0,ROW(INDIRECT("1:"&ROWS($C$6:$C$57)))),ROWS($1:10))),""),"")} | F16: {=IFERROR(IF(ROWS($1:10)<=COUNTIF($C$6:$C$57,"<>"""),INDEX($A$6:$A$57,SMALL(IF($C$6:$C$57>0,ROW(INDIRECT("1:"&ROWS($C$6:$C$57)))),ROWS($1:10))),""),"")} | G16: {=IFERROR(IF(ROWS($1:10)<=COUNTIF($C$6:$C$57,"<>"""),INDEX($B$6:$B$57,SMALL(IF($C$6:$C$57>0,ROW(INDIRECT("1:"&ROWS($C$6:$C$57)))),ROWS($1:10))),""),"")}
A17: 12 | B17: l | E17: {=IFERROR(IF(ROWS($1:11)<=COUNTIF($C$6:$C$57,"<>"""),INDEX($C$6:$C$57,SMALL(IF($C$6:$C$57>0,ROW(INDIRECT("1:"&ROWS($C$6:$C$57)))),ROWS($1:11))),""),"")} | F17: {=IFERROR(IF(ROWS($1:11)<=COUNTIF($C$6:$C$57,"<>"""),INDEX($A$6:$A$57,SMALL(IF($C$6:$C$57>0,ROW(INDIRECT("1:"&ROWS($C$6:$C$57)))),ROWS($1:11))),""),"")} | G17: {=IFERROR(IF(ROWS($1:11)<=COUNTIF($C$6:$C$57,"<>"""),INDEX($B$6:$B$57,SMALL(IF($C$6:$C$57>0,ROW(INDIRECT("1:"&ROWS($C$6:$C$57)))),ROWS($1:11))),""),"")}
A18: 13 | B18: m | E18: {=IFERROR(IF(ROWS($1:12)<=COUNTIF($C$6:$C$57,"<>"""),INDEX($C$6:$C$57,SMALL(IF($C$6:$C$57>0,ROW(INDIRECT("1:"&ROWS($C$6:$C$57)))),ROWS($1:12))),""),"")} | F18: {=IFERROR(IF(ROWS($1:12)<=COUNTIF($C$6:$C$57,"<>"""),INDEX($A$6:$A$57,SMALL(IF($C$6:$C$57>0,ROW(INDIRECT("1:"&ROWS($C$6:$C$57)))),ROWS($1:12))),""),"")} | G18: {=IFERROR(IF(ROWS($1:12)<=COUNTIF($C$6:$C$57,"<>"""),INDEX($B$6:$B$57,SMALL(IF($C$6:$C$57>0,ROW(INDIRECT("1:"&ROWS($C$6:$C$57)))),ROWS($1:12))),""),"")}
A19: 14 | B19: n | E19: {=IFERROR(IF(ROWS($1:13)<=COUNTIF($C$6:$C$57,"<>"""),INDEX($C$6:$C$57,SMALL(IF($C$6:$C$57>0,ROW(INDIRECT("1:"&ROWS($C$6:$C$57)))),ROWS($1:13))),""),"")} | F19: {=IFERROR(IF(ROWS($1:13)<=COUNTIF($C$6:$C$57,"<>"""),INDEX($A$6:$A$57,SMALL(IF($C$6:$C$57>0,ROW(INDIRECT("1:"&ROWS($C$6:$C$57)))),ROWS($1:13))),""),"")} | G19: {=IFERROR(IF(ROWS($1:13)<=COUNTIF($C$6:$C$57,"<>"""),INDEX($B$6:$B$57,SMALL(IF($C$6:$C$57>0,ROW(INDIRECT("1:"&ROWS($C$6:$C$57)))),ROWS($1:13))),""),"")}
A20: 15 | B20: o | E20: {=IFERROR(IF(ROWS($1:14)<=COUNTIF($C$6:$C$57,"<>"""),INDEX($C$6:$C$57,SMALL(IF($C$6:$C$57>0,ROW(INDIRECT("1:"&ROWS($C$6:$C$57)))),ROWS($1:14))),""),"")} | F20: {=IFERROR(IF(ROWS($1:14)<=COUNTIF($C$6:$C$57,"<>"""),INDEX($A$6:$A$57,SMALL(IF($C$6:$C$57>0,ROW(INDIRECT("1:"&ROWS($C$6:$C$57)))),ROWS($1:14))),""),"")} | G20: {=IFERROR(IF(ROWS($1:14)<=COUNTIF($C$6:$C$57,"<>"""),INDEX($B$6:$B$57,SMALL(IF($C$6:$C$57>0,ROW(INDIRECT("1:"&ROWS($C$6:$C$57)))),ROWS($1:14))),""),"")}
A21: 16 | B21: p | E21: {=IFERROR(IF(ROWS($1:15)<=COUNTIF($C$6:$C$57,"<>"""),INDEX($C$6:$C$57,SMALL(IF($C$6:$C$57>0,ROW(INDIRECT("1:"&ROWS($C$6:$C$57)))),ROWS($1:15))),""),"")} | F21: {=IFERROR(IF(ROWS($1:15)<=COUNTIF($C$6:$C$57,"<>"""),INDEX($A$6:$A$57,SMALL(IF($C$6:$C$57>0,ROW(INDIRECT("1:"&ROWS($C$6:$C$57)))),ROWS($1:15))),""),"")} | G21: {=IFERROR(IF(ROWS($1:15)<=COUNTIF($C$6:$C$57,"<>"""),INDEX($B$6:$B$57,SMALL(IF($C$6:$C$57>0,ROW(INDIRECT("1:"&ROWS($C$6:$C$57)))),ROWS($1:15))),""),"")}
A22: 17 | B22: q | E22: {=IFERROR(IF(ROWS($1:16)<=COUNTIF($C$6:$C$57,"<>"""),INDEX($C$6:$C$57,SMALL(IF($C$6:$C$57>0,ROW(INDIRECT("1:"&ROWS($C$6:$C$57)))),ROWS($1:16))),""),"")} | F22: {=IFERROR(IF(ROWS($1:16)<=COUNTIF($C$6:$C$57,"<>"""),INDEX($A$6:$A$57,SMALL(IF($C$6:$C$57>0,ROW(INDIRECT("1:"&ROWS($C$6:$C$57)))),ROWS($1:16))),""),"")} | G22: {=IFERROR(IF(ROWS($1:16)<=COUNTIF($C$6:$C$57,"<>"""),INDEX($B$6:$B$57,SMALL(IF($C$6:$C$57>0,ROW(INDIRECT("1:"&ROWS($C$6:$C$57)))),ROWS($1:16))),""),"")}
A23: 18 | B23: r | E23: {=IFERROR(IF(ROWS($1:17)<=COUNTIF($C$6:$C$57,"<>"""),INDEX($C$6:$C$57,SMALL(IF($C$6:$C$57>0,ROW(INDIRECT("1:"&ROWS($C$6:$C$57)))),ROWS($1:17))),""),"")} | F23: {=IFERROR(IF(ROWS($1:17)<=COUNTIF($C$6:$C$57,"<>"""),INDEX($A$6:$A$57,SMALL(IF($C$6:$C$57>0,ROW(INDIRECT("1:"&ROWS($C$6:$C$57)))),ROWS($1:17))),""),"")} | G23: {=IFERROR(IF(ROWS($1:17)<=COUNTIF($C$6:$C$57,"<>"""),INDEX($B$6:$B$57,SMALL(IF($C$6:$C$57>0,ROW(INDIRECT("1:"&ROWS($C$6:$C$57)))),ROWS($1:17))),""),"")}
A24: 19 | B24: s | E24: {=IFERROR(IF(ROWS($1:18)<=COUNTIF($C$6:$C$57,"<>"""),INDEX($C$6:$C$57,SMALL(IF($C$6:$C$57>0,ROW(INDIRECT("1:"&ROWS($C$6:$C$57)))),ROWS($1:18))),""),"")} | F24: {=IFERROR(IF(ROWS($1:18)<=COUNTIF($C$6:$C$57,"<>"""),INDEX($A$6:$A$57,SMALL(IF($C$6:$C$57>0,ROW(INDIRECT("1:"&ROWS($C$6:$C$57)))),ROWS($1:18))),""),"")} | G24: {=IFERROR(IF(ROWS($1:18)<=COUNTIF($C$6:$C$57,"<>"""),INDEX($B$6:$B$57,SMALL(IF($C$6:$C$57>0,ROW(INDIRECT("1:"&ROWS($C$6:$C$57)))),ROWS($1:18))),""),"")}
A25: 20 | B25: t | E25: {=IFERROR(IF(ROWS($1:19)<=COUNTIF($C$6:$C$57,"<>"""),INDEX($C$6:$C$57,SMALL(IF($C$6:$C$57>0,ROW(INDIRECT("1:"&ROWS($C$6:$C$57)))),ROWS($1:19))),""),"")} | F25: {=IFERROR(IF(ROWS($1:19)<=COUNTIF($C$6:$C$57,"<>"""),INDEX($A$6:$A$57,SMALL(IF($C$6:$C$57>0,ROW(INDIRECT("1:"&ROWS($C$6:$C$57)))),ROWS($1:19))),""),"")} | G25: {=IFERROR(IF(ROWS($1:19)<=COUNTIF($C$6:$C$57,"<>"""),INDEX($B$6:$B$57,SMALL(IF($C$6:$C$57>0,ROW(INDIRECT("1:"&ROWS($C$6:$C$57)))),ROWS($1:19))),""),"")}
A26: 21 | B26: u | E26: {=IFERROR(IF(ROWS($1:20)<=COUNTIF($C$6:$C$57,"<>"""),INDEX($C$6:$C$57,SMALL(IF($C$6:$C$57>0,ROW(INDIRECT("1:"&ROWS($C$6:$C$57)))),ROWS($1:20))),""),"")} | F26: {=IFERROR(IF(ROWS($1:20)<=COUNTIF($C$6:$C$57,"<>"""),INDEX($A$6:$A$57,SMALL(IF($C$6:$C$57>0,ROW(INDIRECT("1:"&ROWS($C$6:$C$57)))),ROWS($1:20))),""),"")} | G26: {=IFERROR(IF(ROWS($1:20)<=COUNTIF($C$6:$C$57,"<>"""),INDEX($B$6:$B$57,SMALL(IF($C$6:$C$57>0,ROW(INDIRECT("1:"&ROWS($C$6:$C$57)))),ROWS($1:20))),""),"")}
A27: 22 | B27: v | E27: {=IFERROR(IF(ROWS($1:21)<=COUNTIF($C$6:$C$57,"<>"""),INDEX($C$6:$C$57,SMALL(IF($C$6:$C$57>0,ROW(INDIRECT("1:"&ROWS($C$6:$C$57)))),ROWS($1:21))),""),"")} | F27: {=IFERROR(IF(ROWS($1:21)<=COUNTIF($C$6:$C$57,"<>"""),INDEX($A$6:$A$57,SMALL(IF($C$6:$C$57>0,ROW(INDIRECT("1:"&ROWS($C$6:$C$57)))),ROWS($1:21))),""),"")} | G27: {=IFERROR(IF(ROWS($1:21)<=COUNTIF($C$6:$C$57,"<>"""),INDEX($B$6:$B$57,SMALL(IF($C$6:$C$57>0,ROW(INDIRECT("1:"&ROWS($C$6:$C$57)))),ROWS($1:21))),""),"")}
A28: 23 | B28: w | C28: 4 | E28: {=IFERROR(IF(ROWS($1:22)<=COUNTIF($C$6:$C$57,"<>"""),INDEX($C$6:$C$57,SMALL(IF($C$6:$C$57>0,ROW(INDIRECT("1:"&ROWS($C$6:$C$57)))),ROWS($1:22))),""),"")} | F28: {=IFERROR(IF(ROWS($1:22)<=COUNTIF($C$6:$C$57,"<>"""),INDEX($A$6:$A$57,SMALL(IF($C$6:$C$57>0,ROW(INDIRECT("1:"&ROWS($C$6:$C$57)))),ROWS($1:22))),""),"")} | G28: {=IFERROR(IF(ROWS($1:22)<=COUNTIF($C$6:$C$57,"<>"""),INDEX($B$6:$B$57,SMALL(IF($C$6:$C$57>0,ROW(INDIRECT("1:"&ROWS($C$6:$C$57)))),ROWS($1:22))),""),"")}
A29: 24 | B29: x | E29: {=IFERROR(IF(ROWS($1:23)<=COUNTIF($C$6:$C$57,"<>"""),INDEX($C$6:$C$57,SMALL(IF($C$6:$C$57>0,ROW(INDIRECT("1:"&ROWS($C$6:$C$57)))),ROWS($1:23))),""),"")} | F29: {=IFERROR(IF(ROWS($1:23)<=COUNTIF($C$6:$C$57,"<>"""),INDEX($A$6:$A$57,SMALL(IF($C$6:$C$57>0,ROW(INDIRECT("1:"&ROWS($C$6:$C$57)))),ROWS($1:23))),""),"")} | G29: {=IFERROR(IF(ROWS($1:23)<=COUNTIF($C$6:$C$57,"<>"""),INDEX($B$6:$B$57,SMALL(IF($C$6:$C$57>0,ROW(INDIRECT("1:"&ROWS($C$6:$C$57)))),ROWS($1:23))),""),"")}
A30: 25 | B30: y | E30: {=IFERROR(IF(ROWS($1:24)<=COUNTIF($C$6:$C$57,"<>"""),INDEX($C$6:$C$57,SMALL(IF($C$6:$C$57>0,ROW(INDIRECT("1:"&ROWS($C$6:$C$57)))),ROWS($1:24))),""),"")} | F30: {=IFERROR(IF(ROWS($1:24)<=COUNTIF($C$6:$C$57,"<>"""),INDEX($A$6:$A$57,SMALL(IF($C$6:$C$57>0,ROW(INDIRECT("1:"&ROWS($C$6:$C$57)))),ROWS($1:24))),""),"")} | G30: {=IFERROR(IF(ROWS($1:24)<=COUNTIF($C$6:$C$57,"<>"""),INDEX($B$6:$B$57,SMALL(IF($C$6:$C$57>0,ROW(INDIRECT("1:"&ROWS($C$6:$C$57)))),ROWS($1:24))),""),"")}
A31: 26 | B31: z | E31: {=IFERROR(IF(ROWS($1:25)<=COUNTIF($C$6:$C$57,"<>"""),INDEX($C$6:$C$57,SMALL(IF($C$6:$C$57>0,ROW(INDIRECT("1:"&ROWS($C$6:$C$57)))),ROWS($1:25))),""),"")} | F31: {=IFERROR(IF(ROWS($1:25)<=COUNTIF($C$6:$C$57,"<>"""),INDEX($A$6:$A$57,SMALL(IF($C$6:$C$57>0,ROW(INDIRECT("1:"&ROWS($C$6:$C$57)))),ROWS($1:25))),""),"")} | G31: {=IFERROR(IF(ROWS($1:25)<=COUNTIF($C$6:$C$57,"<>"""),INDEX($B$6:$B$57,SMALL(IF($C$6:$C$57>0,ROW(INDIRECT("1:"&ROWS($C$6:$C$57)))),ROWS($1:25))),""),"")}
A32: 27 | B32: aa | E32: {=IFERROR(IF(ROWS($1:26)<=COUNTIF($C$6:$C$57,"<>"""),INDEX($C$6:$C$57,SMALL(IF($C$6:$C$57>0,ROW(INDIRECT("1:"&ROWS($C$6:$C$57)))),ROWS($1:26))),""),"")} | F32: {=IFERROR(IF(ROWS($1:26)<=COUNTIF($C$6:$C$57,"<>"""),INDEX($A$6:$A$57,SMALL(IF($C$6:$C$57>0,ROW(INDIRECT("1:"&ROWS($C$6:$C$57)))),ROWS($1:26))),""),"")} | G32: {=IFERROR(IF(ROWS($1:26)<=COUNTIF($C$6:$C$57,"<>"""),INDEX($B$6:$B$57,SMALL(IF($C$6:$C$57>0,ROW(INDIRECT("1:"&ROWS($C$6:$C$57)))),ROWS($1:26))),""),"")}
A33: 28 | B33: bb | E33: {=IFERROR(IF(ROWS($1:27)<=COUNTIF($C$6:$C$57,"<>"""),INDEX($C$6:$C$57,SMALL(IF($C$6:$C$57>0,ROW(INDIRECT("1:"&ROWS($C$6:$C$57)))),ROWS($1:27))),""),"")} | F33: {=IFERROR(IF(ROWS($1:27)<=COUNTIF($C$6:$C$57,"<>"""),INDEX($A$6:$A$57,SMALL(IF($C$6:$C$57>0,ROW(INDIRECT("1:"&ROWS($C$6:$C$57)))),ROWS($1:27))),""),"")} | G33: {=IFERROR(IF(ROWS($1:27)<=COUNTIF($C$6:$C$57,"<>"""),INDEX($B$6:$B$57,SMALL(IF($C$6:$C$57>0,ROW(INDIRECT("1:"&ROWS($C$6:$C$57)))),ROWS($1:27))),""),"")}
A34: 29 | B34: cc | E34: {=IFERROR(IF(ROWS($1:28)<=COUNTIF($C$6:$C$57,"<>"""),INDEX($C$6:$C$57,SMALL(IF($C$6:$C$57>0,ROW(INDIRECT("1:"&ROWS($C$6:$C$57)))),ROWS($1:28))),""),"")} | F34: {=IFERROR(IF(ROWS($1:28)<=COUNTIF($C$6:$C$57,"<>"""),INDEX($A$6:$A$57,SMALL(IF($C$6:$C$57>0,ROW(INDIRECT("1:"&ROWS($C$6:$C$57)))),ROWS($1:28))),""),"")} | G34: {=IFERROR(IF(ROWS($1:28)<=COUNTIF($C$6:$C$57,"<>"""),INDEX($B$6:$B$57,SMALL(IF($C$6:$C$57>0,ROW(INDIRECT("1:"&ROWS($C$6:$C$57)))),ROWS($1:28))),""),"")}
A35: 30 | B35: dd | E35: {=IFERROR(IF(ROWS($1:29)<=COUNTIF($C$6:$C$57,"<>"""),INDEX($C$6:$C$57,SMALL(IF($C$6:$C$57>0,ROW(INDIRECT("1:"&ROWS($C$6:$C$57)))),ROWS($1:29))),""),"")} | F35: {=IFERROR(IF(ROWS($1:29)<=COUNTIF($C$6:$C$57,"<>"""),INDEX($A$6:$A$57,SMALL(IF($C$6:$C$57>0,ROW(INDIRECT("1:"&ROWS($C$6:$C$57)))),ROWS($1:29))),""),"")} | G35: {=IFERROR(IF(ROWS($1:29)<=COUNTIF($C$6:$C$57,"<>"""),INDEX($B$6:$B$57,SMALL(IF($C$6:$C$57>0,ROW(INDIRECT("1:"&ROWS($C$6:$C$57)))),ROWS($1:29))),""),"")}
A36: 31 | B36: ee | E36: {=IFERROR(IF(ROWS($1:30)<=COUNTIF($C$6:$C$57,"<>"""),INDEX($C$6:$C$57,SMALL(IF($C$6:$C$57>0,ROW(INDIRECT("1:"&ROWS($C$6:$C$57)))),ROWS($1:30))),""),"")} | F36: {=IFERROR(IF(ROWS($1:30)<=COUNTIF($C$6:$C$57,"<>"""),INDEX($A$6:$A$57,SMALL(IF($C$6:$C$57>0,ROW(INDIRECT("1:"&ROWS($C$6:$C$57)))),ROWS($1:30))),""),"")} | G36: {=IFERROR(IF(ROWS($1:30)<=COUNTIF($C$6:$C$57,"<>"""),INDEX($B$6:$B$57,SMALL(IF($C$6:$C$57>0,ROW(INDIRECT("1:"&ROWS($C$6:$C$57)))),ROWS($1:30))),""),"")}
A37: 32 | B37: ff | E37: {=IFERROR(IF(ROWS($1:31)<=COUNTIF($C$6:$C$57,"<>"""),INDEX($C$6:$C$57,SMALL(IF($C$6:$C$57>0,ROW(INDIRECT("1:"&ROWS($C$6:$C$57)))),ROWS($1:31))),""),"")} | F37: {=IFERROR(IF(ROWS($1:31)<=COUNTIF($C$6:$C$57,"<>"""),INDEX($A$6:$A$57,SMALL(IF($C$6:$C$57>0,ROW(INDIRECT("1:"&ROWS($C$6:$C$57)))),ROWS($1:31))),""),"")} | G37: {=IFERROR(IF(ROWS($1:31)<=COUNTIF($C$6:$C$57,"<>"""),INDEX($B$6:$B$57,SMALL(IF($C$6:$C$57>0,ROW(INDIRECT("1:"&ROWS($C$6:$C$57)))),ROWS($1:31))),""),"")}
A38: 33 | B38: gg | E38: {=IFERROR(IF(ROWS($1:32)<=COUNTIF($C$6:$C$57,"<>"""),INDEX($C$6:$C$57,SMALL(IF($C$6:$C$57>0,ROW(INDIRECT("1:"&ROWS($C$6:$C$57)))),ROWS($1:32))),""),"")} | F38: {=IFERROR(IF(ROWS($1:32)<=COUNTIF($C$6:$C$57,"<>"""),INDEX($A$6:$A$57,SMALL(IF($C$6:$C$57>0,ROW(INDIRECT("1:"&ROWS($C$6:$C$57)))),ROWS($1:32))),""),"")} | G38: {=IFERROR(IF(ROWS($1:32)<=COUNTIF($C$6:$C$57,"<>"""),INDEX($B$6:$B$57,SMALL(IF($C$6:$C$57>0,ROW(INDIRECT("1:"&ROWS($C$6:$C$57)))),ROWS($1:32))),""),"")}
A39: 34 | B39: hh | E39: {=IFERROR(IF(ROWS($1:33)<=COUNTIF($C$6:$C$57,"<>"""),INDEX($C$6:$C$57,SMALL(IF($C$6:$C$57>0,ROW(INDIRECT("1:"&ROWS($C$6:$C$57)))),ROWS($1:33))),""),"")} | F39: {=IFERROR(IF(ROWS($1:33)<=COUNTIF($C$6:$C$57,"<>"""),INDEX($A$6:$A$57,SMALL(IF($C$6:$C$57>0,ROW(INDIRECT("1:"&ROWS($C$6:$C$57)))),ROWS($1:33))),""),"")} | G39: {=IFERROR(IF(ROWS($1:33)<=COUNTIF($C$6:$C$57,"<>"""),INDEX($B$6:$B$57,SMALL(IF($C$6:$C$57>0,ROW(INDIRECT("1:"&ROWS($C$6:$C$57)))),ROWS($1:33))),""),"")}
A40: 35 | B40: ii | E40: {=IFERROR(IF(ROWS($1:34)<=COUNTIF($C$6:$C$57,"<>"""),INDEX($C$6:$C$57,SMALL(IF($C$6:$C$57>0,ROW(INDIRECT("1:"&ROWS($C$6:$C$57)))),ROWS($1:34))),""),"")} | F40: {=IFERROR(IF(ROWS($1:34)<=COUNTIF($C$6:$C$57,"<>"""),INDEX($A$6:$A$57,SMALL(IF($C$6:$C$57>0,ROW(INDIRECT("1:"&ROWS($C$6:$C$57)))),ROWS($1:34))),""),"")} | G40: {=IFERROR(IF(ROWS($1:34)<=COUNTIF($C$6:$C$57,"<>"""),INDEX($B$6:$B$57,SMALL(IF($C$6:$C$57>0,ROW(INDIRECT("1:"&ROWS($C$6:$C$57)))),ROWS($1:34))),""),"")}
A41: 36 | B41: jj | E41: {=IFERROR(IF(ROWS($1:35)<=COUNTIF($C$6:$C$57,"<>"""),INDEX($C$6:$C$57,SMALL(IF($C$6:$C$57>0,ROW(INDIRECT("1:"&ROWS($C$6:$C$57)))),ROWS($1:35))),""),"")} | F41: {=IFERROR(IF(ROWS($1:35)<=COUNTIF($C$6:$C$57,"<>"""),INDEX($A$6:$A$57,SMALL(IF($C$6:$C$57>0,ROW(INDIRECT("1:"&ROWS($C$6:$C$57)))),ROWS($1:35))),""),"")} | G41: {=IFERROR(IF(ROWS($1:35)<=COUNTIF($C$6:$C$57,"<>"""),INDEX($B$6:$B$57,SMALL(IF($C$6:$C$57>0,ROW(INDIRECT("1:"&ROWS($C$6:$C$57)))),ROWS($1:35))),""),"")}
...

Sheet Info Client
A1: Client | B1: Code Client | C1: Adresse de livraison | D1: Adresse de facturation | H1: Client | J1: Adresse Client
A2: PONT MARTIN | B2: 0M84PON | C2: 51 IMPASSE DES PIEDS 84350 COURTHEZON 06 23 22 21 25 | D2: 51 IMPASSE DES PIEDS 84350 COURTHEZON 06 23 22 21 25 | H2: {=IF(ISNA(MATCH(0, COUNTIF(H$1:H1, INDIRECT(H$1)), 0)),"", INDEX(INDIRECT(H$1), MATCH(0, COUNTIF(H$1:H1, INDIRECT(H$1)), 0)))} -> PONT MARTIN | J2: {=IFERROR(IF(ROWS($1:1)<=COUNTIF($A$2:$A$8,Feuil1!$F$1),INDEX('Info Client'!$C$2:$C$8,SMALL(IF('Info Client'!$A$2:$A$8=Feuil1!$F$1,ROW(INDIRECT("1:"&ROWS('Info Client'!$A$2:$A$8)))),ROWS($1:1))),""),"")} -> 4 LOCAL BI 85120 VARIS 05 26 20 52 52
A3: PONT MARTIN | B3: 0M84PON | C3: IMPASSE DES CHANTERLLES 84830 SERIGNAN 06 88 88 88 88 | D3: 51 IMPASSE DES PIEDS 84350 COURTHEZON 06 23 22 21 25 | H3: {=IF(ISNA(MATCH(0, COUNTIF(H$1:H2, INDIRECT(H$1)), 0)),"", INDEX(INDIRECT(H$1), MATCH(0, COUNTIF(H$1:H2, INDIRECT(H$1)), 0)))} -> PASI LORIE | J3: {=IFERROR(IF(ROWS($1:2)<=COUNTIF($A$2:$A$8,Feuil1!$F$1),INDEX('Info Client'!$C$2:$C$8,SMALL(IF('Info Client'!$A$2:$A$8=Feuil1!$F$1,ROW(INDIRECT("1:"&ROWS('Info Client'!$A$2:$A$8)))),ROWS($1:2))),""),"")} -> 99 RUE LORIE 85120 VORIS 06 52 52 52 52
A4: PASI LORIE | B4: 0M85PAS | C4: 4 LOCAL BI 85120 VARIS 05 26 20 52 52 | D4: 4 LOCAL BI 85120 VARIS 05 26 20 52 52 | H4: {=IF(ISNA(MATCH(0, COUNTIF(H$1:H3, INDIRECT(H$1)), 0)),"", INDEX(INDIRECT(H$1), MATCH(0, COUNTIF(H$1:H3, INDIRECT(H$1)), 0)))} -> LARSE BIO | J4: {=IFERROR(IF(ROWS($1:3)<=COUNTIF($A$2:$A$8,Feuil1!$F$1),INDEX('Info Client'!$C$2:$C$8,SMALL(IF('Info Client'!$A$2:$A$8=Feuil1!$F$1,ROW(INDIRECT("1:"&ROWS('Info Client'!$A$2:$A$8)))),ROWS($1:3))),""),"")} -> 2 IMPASSE JO 85320 JORIS 06 58 59 57 54
A5: PASI LORIE | B5: 0M85PAS | C5: 99 RUE LORIE 85120 VORIS 06 52 52 52 52 | D5: 4 LOCAL BI 85120 VARIS 05 26 20 52 52 | H5: {=IF(ISNA(MATCH(0, COUNTIF(H$1:H4, INDIRECT(H$1)), 0)),"", INDEX(INDIRECT(H$1), MATCH(0, COUNTIF(H$1:H4, INDIRECT(H$1)), 0)))} -> JAX MARAICHER | J5: {=IFERROR(IF(ROWS($1:4)<=COUNTIF($A$2:$A$8,Feuil1!$F$1),INDEX('Info Client'!$C$2:$C$8,SMALL(IF('Info Client'!$A$2:$A$8=Feuil1!$F$1,ROW(INDIRECT("1:"&ROWS('Info Client'!$A$2:$A$8)))),ROWS($1:4))),""),"")}
A6: PASI LORIE | B6: 0M85PAS | C6: 2 IMPASSE JO 85320 JORIS 06 58 59 57 54 | D6: 4 LOCAL BI 85120 VARIS 05 26 20 52 52 | H6: {=IF(ISNA(MATCH(0, COUNTIF(H$1:H5, INDIRECT(H$1)), 0)),"", INDEX(INDIRECT(H$1), MATCH(0, COUNTIF(H$1:H5, INDIRECT(H$1)), 0)))} | J6: {=IFERROR(IF(ROWS($1:5)<=COUNTIF($A$2:$A$8,Feuil1!$F$1),INDEX('Info Client'!$C$2:$C$8,SMALL(IF('Info Client'!$A$2:$A$8=Feuil1!$F$1,ROW(INDIRECT("1:"&ROWS('Info Client'!$A$2:$A$8)))),ROWS($1:5))),""),"")}
A7: LARSE BIO | B7: 0M15LAR | C7: 15 BIS CHEMIN DE MARSEILLE 15230 TOUL 04 60 50 51 26 | D7: 15 BIS CHEMIN DE MARSEILLE 15230 TOUL 04 60 50 51 26 | H7: {=IF(ISNA(MATCH(0, COUNTIF(H$1:H6, INDIRECT(H$1)), 0)),"", INDEX(INDIRECT(H$1), MATCH(0, COUNTIF(H$1:H6, INDIRECT(H$1)), 0)))} | J7: {=IFERROR(IF(ROWS($1:6)<=COUNTIF($A$2:$A$8,Feuil1!$F$1),INDEX('Info Client'!$C$2:$C$8,SMALL(IF('Info Client'!$A$2:$A$8=Feuil1!$F$1,ROW(INDIRECT("1:"&ROWS('Info Client'!$A$2:$A$8)))),ROWS($1:6))),""),"")}
A8: JAX MARAICHER | B8: 0M65JAX | C8: 5 RUE NOIR 65150 RAS 06 12 23 52 52 | D8: 5 RUE NOIR 65150 RAS 06 12 23 52 52 | H8: {=IF(ISNA(MATCH(0, COUNTIF(H$1:H7, INDIRECT(H$1)), 0)),"", INDEX(INDIRECT(H$1), MATCH(0, COUNTIF(H$1:H7, INDIRECT(H$1)), 0)))} | J8: {=IFERROR(IF(ROWS($1:7)<=COUNTIF($A$2:$A$8,Feuil1!$F$1),INDEX('Info Client'!$C$2:$C$8,SMALL(IF('Info Client'!$A$2:$A$8=Feuil1!$F$1,ROW(INDIRECT("1:"&ROWS('Info Client'!$A$2:$A$8)))),ROWS($1:7))),""),"")}

Sheet Feuil3
