Workbook
Name annee: #REF!
Name dates: #REF!
Name mois: #REF!
Name pays: #REF!
Name pays: #REF!
Name zones_vacances: #REF!
Name zones_vacances: #REF!

Sheet DATA
B2: le calendrier commence au mois n° | F2: Horraire de travail possible : | H2: code horaire : | I2: je pose mon enfant a : | J2: je le récupère a : | L2: DATA CALCUL
C3: 1
C4: de l'année : | F4: 8h | G4: 16h | H4: J1 | I4: 0.29513889 | J4: 0.6875 | L4: heures sup a partir de | M4: 1.875 | N4: heures
C5: 2021 | F5: 8h | G5: 15h30 | H5: J2 | I5: 0.29513889 | J5: 0.66666667 | L5: majoration heures sup en % | M5: 20 | N5: %
F6: 8h | G6: 15h | H6: J3 | I6: 0.29513889 | J6: 0.64583333
B7: les feuilles sont protégé par un mot de passe, si vous voulez ôter la protection des feuilles, le mot de passe est "1234" | F7: 8h | G7: 15h30 | H7: J4 | I7: 0.29513889 | J7: 0.66666667 | L7: salaire horraire brut de base | M7: 3.6 | N7: €
F8: 13h | G8: 21h | H8: S1 | I8: 0.50347222 | J8: 0.89583333 | L8: cout entretient journalier | M8: 3 | N8: €
F9: 13h | G9: 20h | H9: S2 | I9: 0.5 | J9: 0.85416667
F10: 12h | G10: 19h | H10: S3 | I10: 0.46180556 | J10: 0.8125 | L10: prix petit dejeuné | M10: 2 | N10: €
F11: 13h | G11: 20h30 | H11: S4 | I11: 0.50347222 | J11: 0.875 | L11: prix déjeuné | M11: 2 | N11: €
F12: 5h | G12: 13h | H12: M1 | I12: 0.17013889 | J12: 0.5625 | L12: prix gouté | M12: 1 | N12: €
F13: 6h | G13: 14h | H13: M2 | I13: 0.21527778 | J13: 0.60416667 | L13: prix diné | M13: 2 | N13: €
F14: 6h | G14: 13h | H14: M3 | I14: 0.21527778 | J14: 0.5625
F15: 5h | G15: 12h | H15: M4 | I15: 0.17013889 | J15: 0.52083333 | L15: taux % passage brut en net | M15: 0.78 | N15: %
F16: 6h | G16: 13h30 | H16: M5 | I16: 0.21527778 | J16: 0.58333333
F17: 21h | G17: 5h | H17: N1 | I17: 0.83680556 | J17: 0.22916667
F18: 19h | G18: 2h | H18: N2 | I18: 0.75347222 | J18: 0.10416667

Sheet total
F3: code horraire seb | G3: code alice | H3: soit | I3: dépose à | J3: récupere à | K3: nbr d'heures de garde
B4: {=IFERROR(CHOOSE(DAY(D4:D369),UPPER(TEXT(D4:D369,"mmmm")),YEAR(D4:D369)),"")} | C4: {=IF(D4:D369="","",UPPER(LEFT(TEXT(D4:D369,"jjjj"),1)))} -> S | D4: =DATE(DATA!$C$5,1,-5) -> 44191 | E4: {=IF(D4:D369="","",IF(WEEKDAY(D4:D369)=5,INT((D4:D369-DATE(YEAR(D4:D369),1,1))/7+1),""))}
C5: D | D5: =D4+1 -> 44192
C6: L | D6: =D5+1 -> 44193
C7: M | D7: =D6+1 -> 44194
C8: M | D8: =D7+1 -> 44195
C9: J | D9: =D8+1 -> 44196 | E9: 53
B10: JANVIER | C10: V | D10: =D9+1 -> 44197
B11: 2021 | C11: S | D11: =D10+1 -> 44198
C12: D | D12: =D11+1 -> 44199
C13: L | D13: =D12+1 -> 44200
C14: M | D14: =D13+1 -> 44201
C15: M | D15: =D14+1 -> 44202
C16: J | D16: =D15+1 -> 44203 | E16: 1
C17: V | D17: =D16+1 -> 44204
C18: S | D18: =D17+1 -> 44205
C19: D | D19: =D18+1 -> 44206
C20: L | D20: =D19+1 -> 44207
C21: M | D21: =D20+1 -> 44208
C22: M | D22: =D21+1 -> 44209
C23: J | D23: =D22+1 -> 44210 | E23: 2
C24: V | D24: =D23+1 -> 44211
C25: S | D25: =D24+1 -> 44212
C26: D | D26: =D25+1 -> 44213
C27: L | D27: =D26+1 -> 44214
C28: M | D28: =D27+1 -> 44215
C29: M | D29: =D28+1 -> 44216
C30: J | D30: =D29+1 -> 44217 | E30: 3
C31: V | D31: =D30+1 -> 44218
C32: S | D32: =D31+1 -> 44219
C33: D | D33: =D32+1 -> 44220
C34: L | D34: =D33+1 -> 44221
C35: M | D35: =D34+1 -> 44222
C36: M | D36: =D35+1 -> 44223
C37: J | D37: =D36+1 -> 44224 | E37: 4
C38: V | D38: =D37+1 -> 44225
C39: S | D39: =D38+1 -> 44226
C40: D | D40: =D39+1 -> 44227
B41: FÉVRIER | C41: L | D41: =D40+1 -> 44228
B42: 2021 | C42: M | D42: =D41+1 -> 44229
C43: M | D43: =D42+1 -> 44230
C44: J | D44: =D43+1 -> 44231 | E44: 5
C45: V | D45: =D44+1 -> 44232
C46: S | D46: =D45+1 -> 44233
C47: D | D47: =D46+1 -> 44234
C48: L | D48: =D47+1 -> 44235
C49: M | D49: =D48+1 -> 44236
C50: M | D50: =D49+1 -> 44237
C51: J | D51: =D50+1 -> 44238 | E51: 6
C52: V | D52: =D51+1 -> 44239
C53: S | D53: =D52+1 -> 44240
C54: D | D54: =D53+1 -> 44241
C55: L | D55: =D54+1 -> 44242
C56: M | D56: =D55+1 -> 44243
C57: M | D57: =D56+1 -> 44244
C58: J | D58: =D57+1 -> 44245 | E58: 7
C59: V | D59: =D58+1 -> 44246
C60: S | D60: =D59+1 -> 44247
C61: D | D61: =D60+1 -> 44248
C62: L | D62: =D61+1 -> 44249
C63: M | D63: =D62+1 -> 44250
C64: M | D64: =D63+1 -> 44251
C65: J | D65: =D64+1 -> 44252 | E65: 8
C66: V | D66: =D65+1 -> 44253
C67: S | D67: =D66+1 -> 44254
C68: D | D68: =D67+1 -> 44255
B69: MARS | C69: L | D69: =D68+1 -> 44256
B70: 2021 | C70: M | D70: =D69+1 -> 44257
C71: M | D71: =D70+1 -> 44258
C72: J | D72: =D71+1 -> 44259 | E72: 9
C73: V | D73: =D72+1 -> 44260
C74: S | D74: =D73+1 -> 44261
C75: D | D75: =D74+1 -> 44262
C76: L | D76: =D75+1 -> 44263
C77: M | D77: =D76+1 -> 44264
C78: M | D78: =D77+1 -> 44265
C79: J | D79: =D78+1 -> 44266 | E79: 10
C80: V | D80: =D79+1 -> 44267
C81: S | D81: =D80+1 -> 44268
C82: D | D82: =D81+1 -> 44269
C83: L | D83: =D82+1 -> 44270
C84: M | D84: =D83+1 -> 44271
C85: M | D85: =D84+1 -> 44272
C86: J | D86: =D85+1 -> 44273 | E86: 11
C87: V | D87: =D86+1 -> 44274
C88: S | D88: =D87+1 -> 44275
C89: D | D89: =D88+1 -> 44276
C90: L | D90: =D89+1 -> 44277
C91: M | D91: =D90+1 -> 44278
C92: M | D92: =D91+1 -> 44279
C93: J | D93: =D92+1 -> 44280 | E93: 12
C94: V | D94: =D93+1 -> 44281
C95: S | D95: =D94+1 -> 44282
C96: D | D96: =D95+1 -> 44283
C97: L | D97: =D96+1 -> 44284
C98: M | D98: =D97+1 -> 44285
C99: M | D99: =D98+1 -> 44286
B100: AVRIL | C100: J | D100: =D99+1 -> 44287 | E100: 13
B101: 2021 | C101: V | D101: =D100+1 -> 44288
C102: S | D102: =D101+1 -> 44289
...

Sheet janv
F2: code seb | G2: code alice | H2: soit | I2: dépose à | J2: récupere à | K2: nbr d'heures de garde | L2: heures en plus | M2: TOTAL SEMAINE | N2: note
B3: {=IFERROR(CHOOSE(DAY(D3:D368),UPPER(TEXT(D3:D368,"mmmm")),YEAR(D3:D368)),"")} | C3: {=IF(D3:D368="","",UPPER(LEFT(TEXT(D3:D368,"jjjj"),1)))} -> S | D3: =DATE(DATA!$C$5,1,-5) -> 44191 | E3: {=IF(D3:D368="","",IF(WEEKDAY(D3:D368)=5,INT((D3:D368-DATE(YEAR(D3:D368),1,1))/7+1),""))} | F3: s2 | G3: j2 | I3: =IF(F3="","",VLOOKUP(F3,DATA!$H$3:$J$26,2,FALSE)) -> 0.5 | J3: =IF(G3="","",VLOOKUP(G3,DATA!$H$3:$J$26,3,FALSE)) -> 0.66666667 | K3: =IFERROR(J3-I3,"") -> 0.16666667 | L3: 0.10416667 | M3: =IF(COUNTIF(C3,"D"),SUM(K3:L3),0) -> 0 | N3: 2h30 en plus car rdv docteur le soir soit 18h30
C4: D | D4: =D3+1 -> 44192 | F4: j1 | G4: j1 | I4: =IF(F4="","",VLOOKUP(F4,DATA!$H$3:$J$26,2,FALSE)) -> 0.29513889 | J4: =IF(G4="","",VLOOKUP(G4,DATA!$H$3:$J$26,3,FALSE)) -> 0.6875 | K4: =IFERROR(J4-I4,"") -> 0.39236111 | M4: =IF(COUNTIF(C4,"D"),SUM(K3:L4),0) -> 0.66319444
C5: L | D5: =D4+1 -> 44193 | F5: s1 | G5: j1 | I5: =IF(F5="","",VLOOKUP(F5,DATA!$H$3:$J$26,2,FALSE)) -> 0.50347222 | J5: =IF(G5="","",VLOOKUP(G5,DATA!$H$3:$J$26,3,FALSE)) -> 0.6875 | K5: =IFERROR(J5-I5,"") -> 0.18402778 | M5: =IF(COUNTIF(C5,"D"),SUM(K3:L5),0) -> 0
C6: M | D6: =D5+1 -> 44194 | F6: s1 | G6: j3 | I6: =IF(F6="","",VLOOKUP(F6,DATA!$H$3:$J$26,2,FALSE)) -> 0.50347222 | J6: =IF(G6="","",VLOOKUP(G6,DATA!$H$3:$J$26,3,FALSE)) -> 0.64583333 | K6: =IFERROR(J6-I6,"") -> 0.14236111 | M6: =IF(COUNTIF(C6,"D"),SUM(K3:L6),0) -> 0
C7: M | D7: =D6+1 -> 44195 | I7: =IF(F7="","",VLOOKUP(F7,DATA!$H$3:$J$26,2,FALSE)) | J7: =IF(G7="","",VLOOKUP(G7,DATA!$H$3:$J$26,3,FALSE)) | K7: =IFERROR(J7-I7,"") | M7: =IF(COUNTIF(C7,"D"),SUM(K3:L7),0) -> 0
C8: J | D8: =D7+1 -> 44196 | E8: 53 | I8: =IF(F8="","",VLOOKUP(F8,DATA!$H$3:$J$26,2,FALSE)) | J8: =IF(G8="","",VLOOKUP(G8,DATA!$H$3:$J$26,3,FALSE)) | K8: =IFERROR(J8-I8,"") | M8: =IF(COUNTIF(C8,"D"),SUM(K3:L8),0) -> 0
B9: JANVIER | C9: V | D9: =D8+1 -> 44197 | I9: =IF(F9="","",VLOOKUP(F9,DATA!$H$3:$J$26,2,FALSE)) | J9: =IF(G9="","",VLOOKUP(G9,DATA!$H$3:$J$26,3,FALSE)) | K9: =IFERROR(J9-I9,"") | M9: =IF(COUNTIF(C9,"D"),SUM(K3:L9),0) -> 0
B10: 2021 | C10: S | D10: =D9+1 -> 44198 | I10: =IF(F10="","",VLOOKUP(F10,DATA!$H$3:$J$26,2,FALSE)) | J10: =IF(G10="","",VLOOKUP(G10,DATA!$H$3:$J$26,3,FALSE)) | K10: =IFERROR(J10-I10,"") | M10: =IF(COUNTIF(C10,"D"),SUM(K4:L10),0) -> 0
C11: D | D11: =D10+1 -> 44199 | I11: =IF(F11="","",VLOOKUP(F11,DATA!$H$3:$J$26,2,FALSE)) | J11: =IF(G11="","",VLOOKUP(G11,DATA!$H$3:$J$26,3,FALSE)) | K11: =IFERROR(J11-I11,"") | M11: =IF(COUNTIF(C11,"D"),SUM(OFFSET(M11,-6,-2):L11,0)) -> 0.32638889
C12: L | D12: =D11+1 -> 44200 | I12: =IF(F12="","",VLOOKUP(F12,DATA!$H$3:$J$26,2,FALSE)) | J12: =IF(G12="","",VLOOKUP(G12,DATA!$H$3:$J$26,3,FALSE)) | K12: =IFERROR(J12-I12,"") | M12: =IF(COUNTIF(C12,"D"),SUM(K6:L12),0) -> 0
C13: M | D13: =D12+1 -> 44201 | I13: =IF(F13="","",VLOOKUP(F13,DATA!$H$3:$J$26,2,FALSE)) | J13: =IF(G13="","",VLOOKUP(G13,DATA!$H$3:$J$26,3,FALSE)) | K13: =IFERROR(J13-I13,"") | M13: =IF(COUNTIF(C13,"D"),SUM(K7:L13),0) -> 0
C14: M | D14: =D13+1 -> 44202 | I14: =IF(F14="","",VLOOKUP(F14,DATA!$H$3:$J$26,2,FALSE)) | J14: =IF(G14="","",VLOOKUP(G14,DATA!$H$3:$J$26,3,FALSE)) | K14: =IFERROR(J14-I14,"") | M14: =IF(COUNTIF(C14,"D"),SUM(K8:L14),0) -> 0
C15: J | D15: =D14+1 -> 44203 | E15: 1 | I15: =IF(F15="","",VLOOKUP(F15,DATA!$H$3:$J$26,2,FALSE)) | J15: =IF(G15="","",VLOOKUP(G15,DATA!$H$3:$J$26,3,FALSE)) | K15: =IFERROR(J15-I15,"") | M15: =IF(COUNTIF(C15,"D"),SUM(K9:L15),0) -> 0
C16: V | D16: =D15+1 -> 44204 | I16: =IF(F16="","",VLOOKUP(F16,DATA!$H$3:$J$26,2,FALSE)) | J16: =IF(G16="","",VLOOKUP(G16,DATA!$H$3:$J$26,3,FALSE)) | K16: =IFERROR(J16-I16,"") | M16: =IF(COUNTIF(C16,"D"),SUM(K10:L16),0) -> 0
C17: S | D17: =D16+1 -> 44205 | I17: =IF(F17="","",VLOOKUP(F17,DATA!$H$3:$J$26,2,FALSE)) | J17: =IF(G17="","",VLOOKUP(G17,DATA!$H$3:$J$26,3,FALSE)) | K17: =IFERROR(J17-I17,"") | M17: =IF(COUNTIF(C17,"D"),SUM(K11:L17),0) -> 0
C18: D | D18: =D17+1 -> 44206 | I18: =IF(F18="","",VLOOKUP(F18,DATA!$H$3:$J$26,2,FALSE)) | J18: =IF(G18="","",VLOOKUP(G18,DATA!$H$3:$J$26,3,FALSE)) | K18: =IFERROR(J18-I18,"") | M18: =IF(COUNTIF(C18,"D"),SUM(K12:L18),0) -> 0
C19: L | D19: =D18+1 -> 44207 | I19: =IF(F19="","",VLOOKUP(F19,DATA!$H$3:$J$26,2,FALSE)) | J19: =IF(G19="","",VLOOKUP(G19,DATA!$H$3:$J$26,3,FALSE)) | K19: =IFERROR(J19-I19,"") | M19: =IF(COUNTIF(C19,"D"),SUM(K13:L19),0) -> 0
C20: M | D20: =D19+1 -> 44208 | I20: =IF(F20="","",VLOOKUP(F20,DATA!$H$3:$J$26,2,FALSE)) | J20: =IF(G20="","",VLOOKUP(G20,DATA!$H$3:$J$26,3,FALSE)) | K20: =IFERROR(J20-I20,"") | M20: =IF(COUNTIF(C20,"D"),SUM(K14:L20),0) -> 0
C21: M | D21: =D20+1 -> 44209 | I21: =IF(F21="","",VLOOKUP(F21,DATA!$H$3:$J$26,2,FALSE)) | J21: =IF(G21="","",VLOOKUP(G21,DATA!$H$3:$J$26,3,FALSE)) | K21: =IFERROR(J21-I21,"") | M21: =IF(COUNTIF(C21,"D"),SUM(K15:L21),0) -> 0
C22: J | D22: =D21+1 -> 44210 | E22: 2 | I22: =IF(F22="","",VLOOKUP(F22,DATA!$H$3:$J$26,2,FALSE)) | J22: =IF(G22="","",VLOOKUP(G22,DATA!$H$3:$J$26,3,FALSE)) | K22: =IFERROR(J22-I22,"") | M22: =IF(COUNTIF(C22,"D"),SUM(K16:L22),0) -> 0
C23: V | D23: =D22+1 -> 44211 | I23: =IF(F23="","",VLOOKUP(F23,DATA!$H$3:$J$26,2,FALSE)) | J23: =IF(G23="","",VLOOKUP(G23,DATA!$H$3:$J$26,3,FALSE)) | K23: =IFERROR(J23-I23,"") | M23: =IF(COUNTIF(C23,"D"),SUM(K17:L23),0) -> 0
C24: S | D24: =D23+1 -> 44212 | I24: =IF(F24="","",VLOOKUP(F24,DATA!$H$3:$J$26,2,FALSE)) | J24: =IF(G24="","",VLOOKUP(G24,DATA!$H$3:$J$26,3,FALSE)) | K24: =IFERROR(J24-I24,"") | M24: =IF(COUNTIF(C24,"D"),SUM(K18:L24),0) -> 0
C25: D | D25: =D24+1 -> 44213 | I25: =IF(F25="","",VLOOKUP(F25,DATA!$H$3:$J$26,2,FALSE)) | J25: =IF(G25="","",VLOOKUP(G25,DATA!$H$3:$J$26,3,FALSE)) | K25: =IFERROR(J25-I25,"") | M25: =IF(COUNTIF(C25,"D"),SUM(K19:L25),0) -> 0
C26: L | D26: =D25+1 -> 44214 | I26: =IF(F26="","",VLOOKUP(F26,DATA!$H$3:$J$26,2,FALSE)) | J26: =IF(G26="","",VLOOKUP(G26,DATA!$H$3:$J$26,3,FALSE)) | K26: =IFERROR(J26-I26,"") | M26: =IF(COUNTIF(C26,"D"),SUM(K20:L26),0) -> 0
C27: M | D27: =D26+1 -> 44215 | I27: =IF(F27="","",VLOOKUP(F27,DATA!$H$3:$J$26,2,FALSE)) | J27: =IF(G27="","",VLOOKUP(G27,DATA!$H$3:$J$26,3,FALSE)) | K27: =IFERROR(J27-I27,"") | M27: =IF(COUNTIF(C27,"D"),SUM(K21:L27),0) -> 0
C28: M | D28: =D27+1 -> 44216 | I28: =IF(F28="","",VLOOKUP(F28,DATA!$H$3:$J$26,2,FALSE)) | J28: =IF(G28="","",VLOOKUP(G28,DATA!$H$3:$J$26,3,FALSE)) | K28: =IFERROR(J28-I28,"") | M28: =IF(COUNTIF(C28,"D"),SUM(K22:L28),0) -> 0
C29: J | D29: =D28+1 -> 44217 | E29: 3 | I29: =IF(F29="","",VLOOKUP(F29,DATA!$H$3:$J$26,2,FALSE)) | J29: =IF(G29="","",VLOOKUP(G29,DATA!$H$3:$J$26,3,FALSE)) | K29: =IFERROR(J29-I29,"") | M29: =IF(COUNTIF(C29,"D"),SUM(K23:L29),0) -> 0
C30: V | D30: =D29+1 -> 44218 | I30: =IF(F30="","",VLOOKUP(F30,DATA!$H$3:$J$26,2,FALSE)) | J30: =IF(G30="","",VLOOKUP(G30,DATA!$H$3:$J$26,3,FALSE)) | K30: =IFERROR(J30-I30,"") | M30: =IF(COUNTIF(C30,"D"),SUM(K24:L30),0) -> 0
C31: S | D31: =D30+1 -> 44219 | I31: =IF(F31="","",VLOOKUP(F31,DATA!$H$3:$J$26,2,FALSE)) | J31: =IF(G31="","",VLOOKUP(G31,DATA!$H$3:$J$26,3,FALSE)) | K31: =IFERROR(J31-I31,"") | M31: =IF(COUNTIF(C31,"D"),SUM(K25:L31),0) -> 0
C32: D | D32: =D31+1 -> 44220 | I32: =IF(F32="","",VLOOKUP(F32,DATA!$H$3:$J$26,2,FALSE)) | J32: =IF(G32="","",VLOOKUP(G32,DATA!$H$3:$J$26,3,FALSE)) | K32: =IFERROR(J32-I32,"") | M32: =IF(COUNTIF(C32,"D"),SUM(K26:L32),0) -> 0
C33: L | D33: =D32+1 -> 44221 | I33: =IF(F33="","",VLOOKUP(F33,DATA!$H$3:$J$26,2,FALSE)) | J33: =IF(G33="","",VLOOKUP(G33,DATA!$H$3:$J$26,3,FALSE)) | K33: =IFERROR(J33-I33,"") | M33: =IF(COUNTIF(C33,"D"),SUM(K27:L33),0) -> 0
