Workbook

Sheet Paramètres
B2: DEXTERITE | E2: VISER ET ATTRAPER | H2: EQUILIBRE | K2: Percentile | N2: NOTE TOTALE
B3: 1 | C3: 1 | E3: 1 | F3: 1 | H3: 1 | I3: 1 | K3: 1 | L3: 0.1 | N3: <=41 | O3: 1
B4: 7 | C4: 2 | E4: 7 | F4: 2 | H4: 11 | I4: 2 | K4: 2 | L4: 0.5 | N4: 42 | O4: 2
B5: 11 | C5: 3 | E5: 8 | F5: 3 | H5: 13 | I5: 3 | K5: 3 | L5: 1 | N5: 48 | O5: 3
B6: 16 | C6: 4 | E6: 9 | F6: 4 | H6: 16 | I6: 4 | K6: 4 | L6: 2 | N6: 53 | O6: 4
B7: 18 | C7: 5 | E7: 11 | F7: 5 | H7: 19 | I7: 5 | K7: 5 | L7: 5 | N7: 58 | O7: 5
B8: 22 | C8: 6 | E8: 12 | F8: 6 | H8: 22 | I8: 6 | K8: 6 | L8: 9 | N8: 62 | O8: 6
B9: 25 | C9: 7 | E9: 14 | F9: 7 | H9: 25 | I9: 7 | K9: 7 | L9: 16 | N9: 67 | O9: 7
B10: 27 | C10: 8 | E10: 15 | F10: 8 | H10: 27 | I10: 8 | K10: 8 | L10: 25 | N10: 72 | O10: 8
B11: 29 | C11: 9 | E11: 17 | F11: 9 | H11: 29 | I11: 9 | K11: 9 | L11: 37 | N11: 78 | O11: 9
B12: 31 | C12: 10 | E12: 19 | F12: 10 | H12: 31 | I12: 10 | K12: 10 | L12: 50 | N12: 81 | O12: 10
B13: 33 | C13: 11 | E13: 21 | F13: 11 | H13: 33 | I13: 11 | K13: 11 | L13: 63 | N13: 85 | O13: 11
B14: 35 | C14: 12 | E14: 23 | F14: 12 | H14: 35 | I14: 12 | K14: 12 | L14: 75 | N14: 89 | O14: 12
B15: 37 | C15: 13 | E15: 25 | F15: 13 | H15: 36 | I15: 13 | K15: 13 | L15: 84 | N15: 92 | O15: 13
... B19: 42 | C19: 17 | E19: 32 | F19: 17 | H19: 44 | I19: 18 | K19: 17 | L19: 99 | N19: 105 | O19: 17
B20: 44 | C20: 18 | E20: 34 | F20: 18 | H20: >=45 | I20: 19 | K20: 18 | L20: 99.5 | N20: 112 | O20: 18
B21: >=46 | C21: 19 | E21: >=36 | F21: 19 | K21: 19 | L21: 99.9 | N21: >=118 | O21: 19
A24: 16 ans | B24: Retourner les chevilles MD | D24: Retourner les chevilles MND | F24: Ecrous | H24: Trajet | J24: Attraper meilleure main | L24: Attraper autre main | N24: Lancer sur cible | P24: Equilibre 2 planches | R24: Marche à reculons | T24: Sauts meilleure jambe | V24: Sauts autre jambe
B25: 1 | C25: 15 | D25: 1 | E25: 16 | F25: >=57 | G25: 1 | H25: >=3 | I25: 1 | J25: 0 | K25: 2 | L25: 0 | M25: 3 | N25: 0 | O25: 2 | P25: 0 | Q25: 2 | R25: 0 | S25: 2 | T25: 0 | U25: 1 | V25: 0 | W25: 1
B26: 14 | C26: 13 | D26: 15 | E26: 14 | F26: 52 | G26: 3 | H26: 1 | I26: 6 | J26: 2 | K26: 3 | L26: 3 | M26: 4 | N26: 1 | O26: 4 | P26: 1 | Q26: 3 | R26: 2 | S26: 3 | T26: 4 | U26: 1 | V26: 2 | W26: 3
B27: 16 | C27: 12 | D27: 16 | E27: 13 | F27: 49 | G27: 4 | H27: 0 | I27: 12 | J27: 5 | K27: 4 | L27: 5 | M27: 6 | N27: 4 | O27: 6 | P27: 4 | Q27: 4 | R27: 5 | S27: 4 | T27: 5 | U27: 10 | V27: 4 | W27: 4
B28: 17 | C28: 10 | D28: 17 | E28: 12 | F28: 44 | G28: 5 | J28: 6 | K28: 5 | L28: 6 | M28: 9 | N28: 5 | O28: 8 | P28: 6 | Q28: 5 | R28: 6 | S28: 5 | V28: 5 | W28: 10
B29: 19 | C29: 8 | D29: 18 | E29: 11 | F29: 39 | G29: 6 | J29: 7 | K29: 7 | L29: 8 | M29: 10 | N29: 6 | O29: 10 | P29: 7 | Q29: 6 | R29: 8 | S29: 6
B30: 20 | C30: 7 | D30: 19 | E30: 10 | F30: 37 | G30: 7 | J30: 8 | K30: 8 | L30: 9 | M30: 12 | N30: 7 | O30: 11 | P30: 8 | Q30: 7 | R30: 11 | S30: 7
B31: 21 | C31: 6 | D31: 20 | E31: 9 | F31: 35 | G31: 8 | J31: 9 | K31: 9 | L31: 10 | M31: 13 | N31: 8 | O31: 13 | P31: 11 | Q31: 8 | R31: 13 | S31: 8
B32: 24 | C32: 5 | D32: 22 | E32: 8 | F32: 32 | G32: 9 | J32: 10 | K32: 13 | N32: 9 | O32: 15 | P32: 18 | Q32: 9 | R32: 15 | S32: 11
B33: 25 | C33: 4 | D33: 23 | E33: 7 | F33: 29 | G33: 10 | N33: 10 | O33: 16 | P33: 23 | Q33: 10
B34: 26 | C34: 1 | D34: 25 | E34: 5 | F34: 27 | G34: 11 | P34: 28 | Q34: 11
D35: 27 | E35: 4 | F35: 25 | G35: 12 | P35: 29 | Q35: 13
D36: 28 | E36: 3 | F36: 24 | G36: 13 | P36: 30 | Q36: 13
D37: 29 | E37: 1 | F37: 22 | G37: 14
F38: 21 | G38: 15
F39: <=20 | G39: 16
A43: 15 ans | B43: Retourner les chevilles MD | D43: Retourner les chevilles MND | F43: Ecrous | H43: Trajet | J43: Attraper meilleure main | L43: Attraper autre main | N43: Lancer sur cible | P43: Equilibre 2 planches | R43: Marche à reculons | T43: Sauts meilleure jambe | V43: Sauts autre jambe
B44: >=26 | C44: 1 | D44: >=29 | E44: 1 | F44: >=65 | G44: 1 | H44: >=4 | I44: 1 | J44: 0 | K44: 2 | L44: 0 | M44: 3 | N44: 0 | O44: 3 | P44: 0 | Q44: 2 | R44: 0 | S44: 2 | T44: 0 | U44: 1 | V44: 0 | W44: 1
B45: 25 | C45: 4 | D45: 28 | E45: 5 | F45: 61 | G45: 3 | H45: 3 | I45: 4 | J45: 2 | K45: 4 | L45: 2 | M45: 5 | N45: 1 | O45: 5 | P45: 1 | Q45: 3 | R45: 2 | S45: 3 | T45: 4 | U45: 1 | V45: 2 | W45: 2
B46: 24 | C46: 5 | D46: 25 | E46: 6 | F46: 59 | G46: 4 | H46: 1 | I46: 7 | J46: 4 | K46: 6 | L46: 4 | M46: 6 | N46: 3 | O46: 6 | P46: 4 | Q46: 4 | R46: 5 | S46: 4 | T46: 5 | U46: 10 | V46: 3 | W46: 3
B47: 22 | C47: 6 | D47: 23 | E47: 7 | F47: 50 | G47: 5 | H47: 0 | I47: 12 | J47: 7 | K47: 7 | L47: 6 | M47: 9 | N47: 4 | O47: 7 | P47: 6 | Q47: 5 | R47: 6 | S47: 5 | V47: 4 | W47: 9
B48: 21 | C48: 7 | D48: 22 | E48: 8 | F48: 39 | G48: 6 | J48: 8 | K48: 8 | L48: 7 | M48: 10 | N48: 5 | O48: 9 | P48: 7 | Q48: 6 | R48: 8 | S48: 6 | V48: 5 | W48: 10
B49: 20 | C49: 8 | D49: 20 | E49: 10 | F49: 37 | G49: 7 | J49: 9 | K49: 9 | L49: 8 | M49: 12 | N49: 6 | O49: 11 | P49: 8 | Q49: 7 | R49: 11 | S49: 7
B50: 19 | C50: 9 | D50: 18 | E50: 11 | F50: 35 | G50: 8 | J50: 10 | K50: 13 | L50: 9 | M50: 12 | N50: 7 | O50: 12 | P50: 11 | Q50: 8 | R50: 13 | S50: 8
B51: 18 | C51: 10 | D51: 16 | E51: 13 | F51: 33 | G51: 9 | L51: 10 | M51: 13 | N51: 8 | O51: 13 | P51: 18 | Q51: 9 | R51: 15 | S51: 11
B52: 17 | C52: 11 | D52: 15 | E52: 14 | F52: 30 | G52: 10 | N52: 9 | O52: 16 | P52: 23 | Q52: 10
B53: 16 | C53: 12 | D53: <=14 | E53: 16 | F53: 28 | G53: 11 | N53: 10 | O53: 17 | P53: 28 | Q53: 11
B54: 15 | C54: 13 | F54: 25 | G54: 12 | P54: 29 | Q54: 13
B55: 14 | C55: 14 | F55: 24 | G55: 13 | P55: 30 | Q55: 13
B56: <=13 | C56: 16 | F56: 22 | G56: 14
F57: 21 | G57: 15
F58: <=20 | G58: 16
A61: 14 ans | B61: Retourner les chevilles MD | D61: Retourner les chevilles MND | F61: Ecrous | H61: Trajet | J61: Attraper meilleure main | L61: Attraper autre main | N61: Lancer sur cible | P61: Equilibre 2 planches | R61: Marche à reculons | T61: Sauts meilleure jambe | V61: Sauts autre jambe
B62: >=26 | C62: 1 | D62: >=29 | E62: 1 | F62: >=65 | G62: 1 | H62: >=4 | I62: 1 | J62: 0 | K62: 2 | L62: 0 | M62: 3 | N62: 0 | O62: 3 | P62: 0 | Q62: 2 | R62: 0 | S62: 2 | T62: 0 | U62: 1 | V62: 0 | W62: 1
B63: 25 | C63: 4 | D63: 28 | E63: 5 | F63: 61 | G63: 3 | H63: 3 | I63: 4 | J63: 2 | K63: 4 | L63: 2 | M63: 5 | N63: 1 | O63: 5 | P63: 1 | Q63: 3 | R63: 2 | S63: 3 | T63: 4 | U63: 1 | V63: 2 | W63: 2
B64: 24 | C64: 5 | D64: 26 | E64: 6 | F64: 59 | G64: 4 | H64: 2 | I64: 7 | J64: 4 | K64: 6 | L64: 4 | M64: 6 | N64: 3 | O64: 6 | P64: 3 | Q64: 4 | R64: 5 | S64: 4 | T64: 5 | U64: 10 | V64: 3 | W64: 3
B65: 22 | C65: 6 | D65: 25 | E65: 7 | F65: 52 | G65: 5 | H65: 1 | I65: 8 | J65: 6 | K65: 7 | L65: 6 | M65: 9 | N65: 4 | O65: 7 | P65: 4 | Q65: 5 | R65: 6 | S65: 5 | V65: 4 | W65: 9
B66: 21 | C66: 7 | D66: 23 | E66: 8 | F66: 48 | G66: 6 | H66: 0 | I66: 12 | J66: 7 | K66: 8 | L66: 7 | M66: 10 | N66: 5 | O66: 9 | P66: 7 | Q66: 6 | R66: 8 | S66: 6 | V66: 5 | W66: 10
B67: 20 | C67: 9 | D67: 20 | E67: 10 | F67: 42 | G67: 7 | J67: 9 | K67: 9 | L67: 8 | M67: 11 | N67: 6 | O67: 11 | P67: 8 | Q67: 7 | R67: 11 | S67: 7
B68: 18 | C68: 10 | D68: 18 | E68: 11 | F68: 39 | G68: 8 | J68: 10 | K68: 13 | L68: 9 | M68: 12 | N68: 7 | O68: 12 | P68: 11 | Q68: 8 | R68: 13 | S68: 8
B69: 17 | C69: 11 | D69: 17 | E69: 13 | F69: 37 | G69: 9 | L69: 10 | M69: 14 | N69: 8 | O69: 13 | P69: 18 | Q69: 9 | R69: 15 | S69: 11
B70: 16 | C70: 12 | D70: 16 | E70: 14 | F70: 30 | G70: 10 | N70: 9 | O70: 16 | P70: 23 | Q70: 10
B71: 15 | C71: 13 | D71: <=15 | E71: 16 | F71: 28 | G71: 11 | N71: 10 | O71: 17 | P71: 28 | Q71: 11
B72: 14 | C72: 14 | F72: 25 | G72: 12 | P72: 29 | Q72: 13
B73: <=13 | C73: 16 | F73: 24 | G73: 13 | P73: 30 | Q73: 13
F74: 22 | G74: 15
F75: 20 | G75: 16
F76: <=19 | G76: 17
A79: 13 ans | B79: Retourner les chevilles MD | D79: Retourner les chevilles MND | F79: Ecrous | H79: Trajet | J79: Attraper meilleure main | L79: Attraper autre main | N79: Lancer sur cible | P79: Equilibre 2 planches | R79: Marche à reculons | T79: Sauts meilleure jambe | V79: Sauts autre jambe
B80: >=27 | C80: 1 | D80: >=31 | E80: 1 | F80: >=65 | G80: 1 | H80: >=8 | I80: 1 | J80: 0 | K80: 4 | L80: 0 | M80: 3 | N80: 0 | O80: 3 | P80: 0 | Q80: 2 | R80: 0 | S80: 3 | T80: 0 | U80: 1 | V80: 0 | W80: 1
B81: 26 | C81: 3 | D81: 30 | E81: 3 | F81: 63 | G81: 3 | H81: 6 | I81: 3 | J81: 1 | K81: 5 | L81: 1 | M81: 4 | N81: 1 | O81: 5 | P81: 1 | Q81: 3 | R81: 5 | S81: 5 | T81: 4 | U81: 1 | V81: 2 | W81: 2
B82: 25 | C82: 4 | D82: 29 | E82: 4 | F82: 61 | G82: 4 | H82: 5 | I82: 5 | J82: 4 | K82: 6 | L82: 2 | M82: 6 | N82: 3 | O82: 6 | P82: 3 | Q82: 4 | R82: 6 | S82: 6 | T82: 5 | U82: 10 | V82: 3 | W82: 3
B83: 22 | C83: 6 | D83: 28 | E83: 5 | F83: 52 | G83: 5 | H83: 4 | I83: 6 | J83: 6 | K83: 7 | L83: 3 | M83: 7 | N83: 4 | O83: 7 | P83: 4 | Q83: 5 | R83: 7 | S83: 7 | V83: 4 | W83: 9
B84: 21 | C84: 7 | D84: 26 | E84: 6 | F84: 48 | G84: 6 | H84: 2 | I84: 7 | J84: 7 | K84: 8 | L84: 4 | M84: 8 | N84: 5 | O84: 10 | P84: 7 | Q84: 7 | R84: 8 | S84: 9 | V84: 5 | W84: 10
B85: 20 | C85: 9 | D85: 25 | E85: 7 | F85: 45 | G85: 7 | H85: 1 | I85: 9 | J85: 9 | K85: 11 | L85: 5 | M85: 9 | N85: 6 | O85: 11 | P85: 11 | Q85: 8 | R85: 11 | S85: 10
B86: 19 | C86: 10 | D86: 23 | E86: 8 | F86: 41 | G86: 8 | H86: 0 | I86: 13 | J86: 10 | K86: 13 | L86: 6 | M86: 10 | N86: 7 | O86: 12 | P86: 18 | Q86: 9 | R86: 14 | S86: 11
B87: 17 | C87: 11 | D87: 22 | E87: 9 | F87: 39 | G87: 9 | L87: 8 | M87: 11 | N87: 8 | O87: 13 | P87: 23 | Q87: 10 | R87: 15 | S87: 11
B88: 16 | C88: 12 | D88: 20 | E88: 10 | F88: 35 | G88: 10 | L88: 9 | M88: 12 | N88: 9 | O88: 16 | P88: 27 | Q88: 11
B89: 15 | C89: 13 | D89: 19 | E89: 11 | F89: 30 | G89: 11 | L89: 10 | M89: 14 | N89: 10 | O89: 17 | P89: 29 | Q89: 13
B90: 14 | C90: 14 | D90: 18 | E90: 12 | F90: 28 | G90: 12 | P90: 30 | Q90: 13
B91: <=13 | C91: 16 | D91: 17 | E91: 13 | F91: 26 | G91: 13
D92: 16 | E92: 14 | F92: 23 | G92: 14
D93: <=15 | E93: 16 | F93: 22 | G93: 15
F94: 20 | G94: 16
F95: <=19 | G95: 17
A98: 12 ans | B98: Retourner les chevilles MD | D98: Retourner les chevilles MND | F98: Ecrous | H98: Trajet | J98: Attraper meilleure main | L98: Attraper autre main | N98: Lancer sur cible | P98: Equilibre 2 planches | R98: Marche à reculons | T98: Sauts meilleure jambe | V98: Sauts autre jambe
B99: >=30 | C99: 1 | D99: >=40 | E99: 1 | F99: >=71 | G99: 1 | H99: >=11 | I99: 1 | J99: 0 | K99: 4 | L99: 0 | M99: 4 | N99: 0 | O99: 3 | P99: 0 | Q99: 2 | R99: 0 | S99: 3 | T99: 0 | U99: 1 | V99: 0 | W99: 1
B100: 28 | C100: 2 | D100: 34 | E100: 3 | F100: 69 | G100: 3 | H100: 6 | I100: 3 | J100: 1 | K100: 5 | L100: 1 | M100: 5 | N100: 1 | O100: 5 | P100: 1 | Q100: 3 | R100: 5 | S100: 5 | T100: 4 | U100: 1 | V100: 2 | W100: 2
B101: 27 | C101: 3 | D101: 31 | E101: 4 | F101: 63 | G101: 4 | H101: 5 | I101: 5 | J101: 3 | K101: 6 | L101: 3 | M101: 6 | N101: 2 | O101: 6 | P101: 3 | Q101: 4 | R101: 6 | S101: 7 | T101: 5 | U101: 10 | V101: 3 | W101: 3
B102: 25 | C102: 5 | D102: 28 | E102: 5 | F102: 52 | G102: 5 | H102: 4 | I102: 6 | J102: 5 | K102: 7 | L102: 5 | M102: 7 | N102: 4 | O102: 7 | P102: 4 | Q102: 5 | R102: 7 | S102: 8 | V102: 4 | W102: 9
B103: 23 | C103: 6 | D103: 26 | E103: 6 | F103: 48 | G103: 6 | H103: 3 | I103: 7 | J103: 7 | K103: 8 | L103: 7 | M103: 8 | N103: 5 | O103: 10 | P103: 6 | Q103: 6 | R103: 8 | S103: 9 | V103: 5 | W103: 10
B104: 22 | C104: 7 | D104: 25 | E104: 7 | F104: 45 | G104: 7 | H104: 2 | I104: 8 | J104: 8 | K104: 9 | L104: 8 | M104: 9 | N104: 6 | O104: 11 | P104: 7 | Q104: 7 | R104: 11 | S104: 10
B105: 21 | C105: 8 | D105: 23 | E105: 8 | F105: 43 | G105: 8 | H105: 1 | I105: 9 | J105: 9 | K105: 11 | L105: 9 | M105: 11 | N105: 7 | O105: 13 | P105: 11 | Q105: 8 | R105: 14 | S105: 11
B106: 20 | C106: 9 | D106: 22 | E106: 9 | F106: 41 | G106: 9 | H106: 0 | I106: 13 | J106: 10 | K106: 14 | L106: 10 | M106: 15 | N106: 8 | O106: 15 | P106: 18 | Q106: 9 | R106: 15 | S106: 11
B107: 19 | C107: 10 | D107: 21 | E107: 10 | F107: 35 | G107: 10 | N107: 9 | O107: 17 | P107: 23 | Q107: 10
B108: 17 | C108: 11 | D108: 19 | E108: 11 | F108: 30 | G108: 11 | N108: 10 | O108: 17 | P108: 27 | Q108: 11
B109: 16 | C109: 13 | D109: 18 | E109: 12 | F109: 28 | G109: 12 | P109: 29 | Q109: 13
B110: 15 | C110: 14 | D110: 17 | E110: 13 | F110: 27 | G110: 13 | P110: 30 | Q110: 13
B111: 14 | C111: 15 | D111: 16 | E111: 14 | F111: 23 | G111: 14
B112: <=13 | C112: 16 | D112: <=15 | E112: 16 | F112: 22 | G112: 15
F113: <=21 | G113: 17
A116: 11 ans | B116: Retourner les chevilles MD | D116: Retourner les chevilles MND | F116: Ecrous | H116: Trajet | J116: Attraper meilleure main | L116: Attraper autre main | N116: Lancer sur cible | P116: Equilibre 2 planches | R116: Marche à reculons | T116: Sauts meilleure jambe | V116: Sauts autre jambe
B117: >=28 | C117: 2 | D117: >=41 | E117: 1 | F117: >=92 | G117: 1 | H117: >=11 | I117: 1 | J117: 0 | K117: 4 | L117: 0 | M117: 4 | N117: 0 | O117: 3 | P117: 0 | Q117: 2 | R117: 0 | S117: 3 | T117: 0 | U117: 1 | V117: 0 | W117: 2
...

Sheet 16 ans
A1: Cote de l'item | B1: Nom de l'item | C1: Note obtenue | D1: Note standart de l'item | F1: Note de composante | H1: Cote de l'item | I1: Note standart | J1: Percentile
B2: Retourner les chevilles - main dominante | C2: 19 | D2: =VLOOKUP(C2,Paramètres!B25:C34,2,FALSE) -> 8 | E2: =(D2+D3)/2 -> 12
A3: DEXTERITE | B3: Retourner les chevilles - main non dominante | C3: 13 | D3: =VLOOKUP(C3,Paramètres!D25:E37,2,TRUE) -> 16 | F3: =SUM(E2+D4+D5) -> 27 | H3: DEXTERITE | I3: =VLOOKUP(F3,Paramètres!$B$3:$C$21,2,TRUE) -> 8 | J3: =VLOOKUP(I3,Paramètres!$K$3:$L$21,2,TRUE) -> 25
B4: Ecrous et boulons | C4: 22 | D4: =IF(C4<=20,16,IF(C4=21,15,IF(AND(C4>=22,C4<=23),14,IF(C4=24,13,IF(AND(C4>=25,C4<=26),12,IF(AND(C4>=27,C4<=28),11,IF(AND(C4>=29,C4<=31),10,IF(AND(C4>=32,C4<=34),9,IF(AND(C4>=35,C4<=36),8,IF(AND(C4>=37,C4<=38),7,IF(AND(C4>=39,C4<=43),6,IF(AND(C4>=44,C4<=48),5,IF(AND(C4>=49,C4<=51),4,IF(AND(C4>=52,C4<=56),3,IF(C4>=57,1,))))))))))))))) -> 14
B5: Trajet | C5: 3 | D5: =IF(C5=0,12,IF(AND(C5>=1,C5<=2),6,IF(C5>=3,1,))) -> 1
B6: Attraper avec main dominante | C6: 10 | D6: =IF(C6=10,13,IF(C6=9,9,IF(C6=8,8,IF(C6=7,7,IF(C6=6,5,IF(C6=5,4,IF(AND(C6>=2,C6<=4),3,IF(C6<=1,2,)))))))) -> 13 | E6: =(D6+D7)/2 -> 13
A7: VISER ET ATTRAPER | B7: Attraper avec autre main | C7: 10 | D7: =IF(C7=10,13,IF(C7=9,12,IF(C7=8,10,IF(AND(C7>=6,C7<=7),9,IF(C7=5,6,IF(AND(C7>=3,C7<=4),4,IF(C7<=2,3,))))))) -> 13 | F7: =SUM(E6+D8) -> 29 | H7: VISER ET ATTRAPER | I7: =VLOOKUP(F7,Paramètres!$E$3:$F$20,2,TRUE) -> 15 | J7: =VLOOKUP(I7,Paramètres!$K$3:$L$21,2,TRUE) -> 95
B8: Lancer sur cible | C8: 10 | D8: =IF(C8=10,16,IF(C8=9,15,IF(C8=8,13,IF(C8=7,11,IF(C8=6,10,IF(C8=5,8,IF(C8=4,6,IF(AND(C8>=1,C8<=3),3,IF(C8=0,3,))))))))) -> 16
B9: Equilibre sur 2 planches | C9: 30 | D9: =IF(AND(C9>=29,C9<=30),13,IF(C9=28,11,IF(AND(C9>=23,C9<=27),10,IF(AND(C9>=18,C9<=22),9,IF(AND(C9>=11,C9<=17),8,IF(AND(C9>=8,C9<=10),7,IF(C9=7,6,IF(C9=6,5,IF(AND(C9>=4,C9<=5),4,IF(AND(C9>=1,C9<=3),3,IF(C9=0,2,))))))))))) -> 13
A10: EQUILIBRE | B10: Marcher à reculons en talons/pointes | C10: 12 | D10: =IF(C10=15,11,IF(AND(C10>=13,C10<=14),8,IF(AND(C10>=11,C10<=12),7,IF(AND(C10>=8,C10<=10),6,IF(AND(C10>=6,C10<=7),5,IF(C10=5,4,IF(AND(C10>=2,C10<=4),3,IF(C10<=1,2,)))))))) -> 7 | F10: =SUM(D9+D10+E11) -> 30 | H10: EQUILIBRE | I10: =VLOOKUP(F10,Paramètres!$H$3:$I$21,2,TRUE) -> 9 | J10: =VLOOKUP(I10,Paramètres!$K$3:$L$21,2,TRUE) -> 37
B11: sauter en zig-zag - meilleure jambe | C11: 5 | D11: =IF(C11=5,10,IF(C11<=4,1,)) -> 10 | E11: =(D11+D12)/2 -> 10
B12: Sauter en zig-zag - autre jambe | C12: 5 | D12: =IF(C12=5,10,IF(C12=4,4,IF(AND(C12>=2,C12<=3),2,IF(C12<=1,1,)))) -> 10
A13: NOTE TOTALE | F13: =SUM(F3+F7+F10) -> 86 | H13: NOTE TOTALE | I13: =VLOOKUP(F13,Paramètres!N3:O21,2,TRUE) -> 11 | J13: =VLOOKUP(I13,Paramètres!K3:L21,2,TRUE) -> 63

Sheet 15 ans
A1: Cote de l'item | B1: Nom de l'item | C1: Note obtenue | D1: Note standart de l'item | F1: Note de composante | H1: Cote de l'item | I1: Note standart | J1: Percentile
B2: Retourner les chevilles - main dominante | C2: 28 | D2: =IF(C2<=13,16,IF(C2=14,14,IF(C2=15,13,IF(C2=16,12,IF(C2=17,11,IF(C2=18,10,IF(C2=19,9,IF(C2=20,8,IF(C2=21,7,IF(AND(C2>=22,C2<=23),6,IF(C2=24,5,IF(C2=25,4,IF(C2>=26,1,))))))))))))) -> 1 | E2: =(D2+D3)/2 -> 8.5
A3: DEXTERITE | B3: Retourner les chevilles - main non dominante | C3: 13 | D3: =IF(C3<=14,16,IF(C3=15,14,IF(AND(C3>=16,C3<=17),13,IF(AND(C3>=18,C3<=19),11,IF(AND(C3>=20,C3<=21),10,IF(C3=22,8,IF(AND(C3>=23,C3<=24),7,IF(AND(C3>=25,C3<=27),6,IF(C3=28,5,IF(C3=28,5,IF(C3>=29,1,))))))))))) -> 16 | F3: =SUM(E2+D4+D5) -> 26.5 | H3: DEXTERITE | I3: =VLOOKUP(F3,Paramètres!$B$3:$C$21,2,TRUE) -> 7 | J3: =VLOOKUP(I3,Paramètres!$K$3:$L$21,2,TRUE) -> 16
B4: Ecrous et boulons | C4: 22 | D4: =IF(C4<=20,16,IF(C4=21,15,IF(AND(C4>=22,C4<=23),14,IF(C4=24,13,IF(AND(C4>=25,C4<=27),12,IF(AND(C4>=28,C4<=29),11,IF(AND(C4>=30,C4<=32),10,IF(AND(C4>=33,C4<=34),9,IF(AND(C4>=35,C4<=36),8,IF(AND(C4>=37,C4<=38),7,IF(AND(C4>=39,C4<=49),6,IF(AND(C4>=50,C4<=58),5,IF(AND(C4>=59,C4<=60),4,IF(AND(C4>=61,C4<=64),3,IF(C4>=65,1,))))))))))))))) -> 14
B5: Trajet | C5: 3 | D5: =IF(C5=0,12,IF(AND(C5>=1,C5<=2),7,IF(C5=3,4,IF(C5>=4,1,)))) -> 4
B6: Attraper avec main dominante | C6: 10 | D6: =IF(C6=10,13,IF(C6=9,9,IF(C6=8,8,IF(C6=7,7,IF(AND(C6>4,C6<=6),6,IF(AND(C6>=2,C6<=3),4,IF(C6<=1,2,))))))) -> 13 | E6: =(D6+D7)/2 -> 13.5
A7: VISER ET ATTRAPER | B7: Attraper avec autre main | C7: 10 | D7: =IF(C7=10,14,IF(C7=9,12,IF(C7=8,11,IF(C7=7,10,IF(C7=6,9,IF(AND(C7>=4,C7<=5),6,IF(AND(C7>=2,C7<=3),5,IF(C7<=1,3,)))))))) -> 14 | F7: =SUM(E6+D8) -> 30.5 | H7: VISER ET ATTRAPER | I7: =VLOOKUP(F7,Paramètres!$E$3:$F$20,2,TRUE) -> 16 | J7: =VLOOKUP(I7,Paramètres!$K$3:$L$21,2,TRUE) -> 98
B8: Lancer sur cible | C8: 10 | D8: =IF(C8=10,17,IF(C8=9,16,IF(C8=8,13,IF(C8=7,12,IF(C8=6,11,IF(C8=5,9,IF(C8=4,7,IF(C8=3,6,IF(AND(C8>=1,C8<=3),3,IF(C8=0,3,)))))))))) -> 17
B9: Equilibre sur 2 planches | C9: 30 | D9: =IF(AND(C9>=29,C9<=30),13,IF(C9=28,11,IF(AND(C9>=23,C9<=27),10,IF(AND(C9>=18,C9<=22),9,IF(AND(C9>=11,C9<=17),8,IF(AND(C9>=8,C9<=10),7,IF(C9=7,6,IF(C9=6,5,IF(AND(C9>=4,C9<=5),4,IF(AND(C9>=1,C9<=3),3,IF(C9=0,2,))))))))))) -> 13
A10: EQUILIBRE | B10: Marcher à reculons en talons/pointes | C10: 12 | D10: =IF(C10=15,11,IF(AND(C10>=13,C10<=14),8,IF(AND(C10>=11,C10<=12),7,IF(AND(C10>=8,C10<=10),6,IF(AND(C10>=6,C10<=7),5,IF(C10=5,4,IF(AND(C10>=2,C10<=4),3,IF(C10<=1,2,)))))))) -> 7 | F10: =SUM(D9+D10+E11) -> 30 | H10: EQUILIBRE | I10: =VLOOKUP(F10,Paramètres!$H$3:$I$21,2,TRUE) -> 9 | J10: =VLOOKUP(I10,Paramètres!$K$3:$L$21,2,TRUE) -> 37
B11: sauter en zig-zag - meilleure jambe | C11: 5 | D11: =IF(C11=5,10,IF(C11<=4,1,)) -> 10 | E11: =(D11+D12)/2 -> 10
B12: Sauter en zig-zag - autre jambe | C12: 5 | D12: =IF(C12=5,10,IF(C12=4,9,IF(C12=3,3,IF(C12=2,2,IF(C12<=1,1,))))) -> 10
A13: NOTE TOTALE | F13: =SUM(F3+F7+F10) -> 87 | H13: NOTE TOTALE | I13: =VLOOKUP(F13,Paramètres!N3:O21,2,TRUE) -> 11 | J13: =VLOOKUP(I13,Paramètres!K3:L21,2,TRUE) -> 63
