Workbook
Name Dec: #REF!
Name Fériés: #REF!
Name Jours_Feries: Variables!$I$5:$I$17
Name Juin: #REF!
Name mois: #REF!
Name Nov: #REF!
Name oct: #REF!
Name SEPT: #REF!

Sheet Jan
A1: Service : | B1: =Variables!B1 -> Institut Médico-Professionnel (IMPro)
C3: % Trv | D3: À réaliser (heures) | E3: =DATE(Variables!$B$2,"05","01") -> 44317 | AJ3: TOTAL réalisé (heures) | AL3: Δ | AM3: Solde | AN3: Dim. & JF (heures) | AO3: Nuit (heures) | AP3: Report au 31/12/n-1 | AQ3: CA pris | AR3: CA restants
E4: =DATE(Variables!$B$2,MONTH($E$3),"01") -> 44317 | F4: =DATE(Variables!$B$2,MONTH($E$3),"02") -> 44318 | G4: =DATE(Variables!$B$2,MONTH($E$3),"03") -> 44319 | H4: =DATE(Variables!$B$2,MONTH($E$3),"04") -> 44320 | I4: =DATE(Variables!$B$2,MONTH($E$3),"05") -> 44321 | J4: =DATE(Variables!$B$2,MONTH($E$3),"06") -> 44322 | K4: =DATE(Variables!$B$2,MONTH($E$3),"07") -> 44323 | L4: =DATE(Variables!$B$2,MONTH($E$3),"08") -> 44324 | M4: =DATE(Variables!$B$2,MONTH($E$3),"09") -> 44325 | N4: =DATE(Variables!$B$2,MONTH($E$3),"10") -> 44326 | O4: =DATE(Variables!$B$2,MONTH($E$3),"11") -> 44327 | P4: =DATE(Variables!$B$2,MONTH($E$3),"12") -> 44328 | Q4: =DATE(Variables!$B$2,MONTH($E$3),"13") -> 44329 | R4: =DATE(Variables!$B$2,MONTH($E$3),"14") -> 44330 | S4: =DATE(Variables!$B$2,MONTH($E$3),"15") -> 44331 | T4: =DATE(Variables!$B$2,MONTH($E$3),"16") -> 44332 | U4: =DATE(Variables!$B$2,MONTH($E$3),"17") -> 44333 | V4: =DATE(Variables!$B$2,MONTH($E$3),"18") -> 44334 | W4: =DATE(Variables!$B$2,MONTH($E$3),"19") -> 44335 | X4: =DATE(Variables!$B$2,MONTH($E$3),"20") -> 44336 | Y4: =DATE(Variables!$B$2,MONTH($E$3),"21") -> 44337 | Z4: =DATE(Variables!$B$2,MONTH($E$3),"22") -> 44338 | AA4: =DATE(Variables!$B$2,MONTH($E$3),"23") -> 44339 | AB4: =DATE(Variables!$B$2,MONTH($E$3),"24") -> 44340 | AC4: =DATE(Variables!$B$2,MONTH($E$3),"25") -> 44341 | AD4: =DATE(Variables!$B$2,MONTH($E$3),"26") -> 44342 | AE4: =DATE(Variables!$B$2,MONTH($E$3),"27") -> 44343 | AF4: =DATE(Variables!$B$2,MONTH($E$3),"28") -> 44344 | AG4: =DATE(Variables!$B$2,MONTH($E$3),"29") -> 44345 | AH4: =DATE(Variables!$B$2,MONTH($E$3),"30") -> 44346 | AI4: =DATE(Variables!$B$2,MONTH($E$3),"31") -> 44347
E5: =DATE(Variables!$B$2,MONTH($E$3),"01") -> 44317 | F5: =DATE(Variables!$B$2,MONTH($E$3),"02") -> 44318 | G5: =DATE(Variables!$B$2,MONTH($E$3),"03") -> 44319 | H5: =DATE(Variables!$B$2,MONTH($E$3),"04") -> 44320 | I5: =DATE(Variables!$B$2,MONTH($E$3),"05") -> 44321 | J5: =DATE(Variables!$B$2,MONTH($E$3),"06") -> 44322 | K5: =DATE(Variables!$B$2,MONTH($E$3),"07") -> 44323 | L5: =DATE(Variables!$B$2,MONTH($E$3),"08") -> 44324 | M5: =DATE(Variables!$B$2,MONTH($E$3),"09") -> 44325 | N5: =DATE(Variables!$B$2,MONTH($E$3),"10") -> 44326 | O5: =DATE(Variables!$B$2,MONTH($E$3),"11") -> 44327 | P5: =DATE(Variables!$B$2,MONTH($E$3),"12") -> 44328 | Q5: =DATE(Variables!$B$2,MONTH($E$3),"13") -> 44329 | R5: =DATE(Variables!$B$2,MONTH($E$3),"14") -> 44330 | S5: =DATE(Variables!$B$2,MONTH($E$3),"15") -> 44331 | T5: =DATE(Variables!$B$2,MONTH($E$3),"16") -> 44332 | U5: =DATE(Variables!$B$2,MONTH($E$3),"17") -> 44333 | V5: =DATE(Variables!$B$2,MONTH($E$3),"18") -> 44334 | W5: =DATE(Variables!$B$2,MONTH($E$3),"19") -> 44335 | X5: =DATE(Variables!$B$2,MONTH($E$3),"20") -> 44336 | Y5: =DATE(Variables!$B$2,MONTH($E$3),"21") -> 44337 | Z5: =DATE(Variables!$B$2,MONTH($E$3),"22") -> 44338 | AA5: =DATE(Variables!$B$2,MONTH($E$3),"23") -> 44339 | AB5: =DATE(Variables!$B$2,MONTH($E$3),"24") -> 44340 | AC5: =DATE(Variables!$B$2,MONTH($E$3),"25") -> 44341 | AD5: =DATE(Variables!$B$2,MONTH($E$3),"26") -> 44342 | AE5: =DATE(Variables!$B$2,MONTH($E$3),"27") -> 44343 | AF5: =DATE(Variables!$B$2,MONTH($E$3),"28") -> 44344 | AG5: =DATE(Variables!$B$2,MONTH($E$3),"29") -> 44345 | AH5: =DATE(Variables!$B$2,MONTH($E$3),"30") -> 44346 | AI5: =DATE(Variables!$B$2,MONTH($E$3),"31") -> 44347
A6: =Variables!A20 -> Agent 1 | C6: 1 | D6: =Variables!F5*C6 -> 140 | AA6: C | AJ6: Prév : | AK6: =SUM(E7:AI7) -> 12 | AL6: =AK6-D6 -> -128 | AM6: =AP6+AL7 -> -128 | AN6: =SUMIF(E4:AI4,WEEKDAY(E4:AI4,2)=7,E7:AI7) -> 0 | AO6: =COUNTIF(A6:AI6,"SL")*Variables!M3+COUNTIF(A6:AI6,"NL")*Variables!M3 -> 0 | AP6: =Variables!E20 -> 0 | AQ6: =COUNTIF(E6:AI6,"CA") -> 0 | AR6: =25-AQ6 -> 25
D7: Prév | E7: =IFERROR(VLOOKUP(E6,Variables!$H$20:$I$119,2,FALSE),"-") -> - | F7: =IFERROR(VLOOKUP(F6,Variables!$H$20:$I$119,2,FALSE),"-") -> - | G7: =IFERROR(VLOOKUP(G6,Variables!$H$20:$I$119,2,FALSE),"-") -> - | H7: =IFERROR(VLOOKUP(H6,Variables!$H$20:$I$119,2,FALSE),"-") -> - | I7: =IFERROR(VLOOKUP(I6,Variables!$H$20:$I$119,2,FALSE),"-") -> - | J7: =IFERROR(VLOOKUP(J6,Variables!$H$20:$I$119,2,FALSE),"-") -> - | K7: =IFERROR(VLOOKUP(K6,Variables!$H$20:$I$119,2,FALSE),"-") -> - | L7: =IFERROR(VLOOKUP(L6,Variables!$H$20:$I$119,2,FALSE),"-") -> - | ... AI7: =IFERROR(VLOOKUP(AI6,Variables!$H$20:$I$119,2,FALSE),"-") -> - | AJ7: Réel: | AK7: =SUM(E8:AI8) -> 12 | AL7: =AK7-D6 -> -128 | AO7: =COUNTIF(A6:AI6,"SL")*Variables!M3+COUNTIF(A6:AI6,"NL")*Variables!M3 -> 0
D8: Réel | E8: =IFERROR(VLOOKUP(E6,Variables!$H$20:$I$119,2,FALSE),"-") -> - | F8: =IFERROR(VLOOKUP(F6,Variables!$H$20:$I$119,2,FALSE),"-") -> - | G8: =IFERROR(VLOOKUP(G6,Variables!$H$20:$I$119,2,FALSE),"-") -> - | H8: =IFERROR(VLOOKUP(H6,Variables!$H$20:$I$119,2,FALSE),"-") -> - | I8: =IFERROR(VLOOKUP(I6,Variables!$H$20:$I$119,2,FALSE),"-") -> - | J8: =IFERROR(VLOOKUP(J6,Variables!$H$20:$I$119,2,FALSE),"-") -> - | K8: =IFERROR(VLOOKUP(K6,Variables!$H$20:$I$119,2,FALSE),"-") -> - | L8: =IFERROR(VLOOKUP(L6,Variables!$H$20:$I$119,2,FALSE),"-") -> - | ... AI8: =IFERROR(VLOOKUP(AI6,Variables!$H$20:$I$119,2,FALSE),"-") -> -
E9: =COUNTIF(Jours_Feries,Jan!E5)+IF(WEEKDAY(E5,2)=7,1,0) -> 1 | F9: =COUNTIF(Jours_Feries,Jan!F5)+IF(WEEKDAY(F5,2)=7,1,0) -> 1 | G9: =COUNTIF(Jours_Feries,Jan!G5)+IF(WEEKDAY(G5,2)=7,1,0) -> 0 | H9: =COUNTIF(Jours_Feries,Jan!H5)+IF(WEEKDAY(H5,2)=7,1,0) -> 0 | I9: =COUNTIF(Jours_Feries,Jan!I5)+IF(WEEKDAY(I5,2)=7,1,0) -> 0 | J9: =COUNTIF(Jours_Feries,Jan!J5)+IF(WEEKDAY(J5,2)=7,1,0) -> 0 | K9: =COUNTIF(Jours_Feries,Jan!K5)+IF(WEEKDAY(K5,2)=7,1,0) -> 0 | L9: =COUNTIF(Jours_Feries,Jan!L5)+IF(WEEKDAY(L5,2)=7,1,0) -> 1 | ... AI9: =COUNTIF(Jours_Feries,Jan!AI5)+IF(WEEKDAY(AI5,2)=7,1,0) -> 0 | AN9: =SUMIF(E9:AI9,1,E7:AI7) -> 12

Sheet Variables
A1: Service : | B1: Institut Médico-Professionnel (IMPro)
A2: Année : | B2: 2021 | C2: (ATTENTION aux années bissextiles)
A3: Heures à réaliser | H3: Jours Fériés | L3: Nuit = | M3: 3 | N3: heures
A4: Mois | B4: Début | C4: Fin | D4: Nbre Jours Ouvrés | E4: Repos Fixe | F4: Repos Variable | H4: Fête | I4: Date
A5: =DATE($B$2,"01","01") -> 44197 | B5: =DATE(B2,"01","01") -> 44197 | C5: =DATE(B2,"01","31") -> 44227 | D5: =NETWORKDAYS.INTL(B5,C5,1,$I$5:$I$17) -> 20 | E5: =D5*7 -> 140 | F5: =D5*7 -> 140 | H5: Jour de l'An | I5: =DATE(B2,"01","01") -> 44197
A6: =DATE($B$2,"02","01") -> 44228 | B6: =DATE(B2,"02","01") -> 44228 | C6: =DATE(B2,"02","28") -> 44255 | D6: =NETWORKDAYS.INTL(B6,C6,1,$I$5:$I$17) -> 20 | E6: =D6*7 -> 140 | F6: =D6*7 -> 140 | H6: Vendredi Saint | I6: =(ROUND(DATE(B2,4,MOD(234-11*MOD(B2,19),30))/7,0)*7-6)-2 -> 44288
A7: =DATE($B$2,"03","01") -> 44256 | B7: =DATE(B2,"03","01") -> 44256 | C7: =DATE(B2,"03","31") -> 44286 | D7: =NETWORKDAYS.INTL(B7,C7,1,$I$5:$I$17) -> 23 | E7: =D7*7 -> 161 | F7: =D7*7 -> 161 | H7: Lundi de Pâques | I7: =(ROUND(DATE(B2,4,MOD(234-11*MOD(B2,19),30))/7,0)*7-6)+1 -> 44291
A8: =DATE($B$2,"04","01") -> 44287 | B8: =DATE(B2,"04","01") -> 44287 | C8: =DATE(B2,"04","30") -> 44316 | D8: =NETWORKDAYS.INTL(B8,C8,1,$I$5:$I$17) -> 20 | E8: =D8*7 -> 140 | F8: =D8*7 -> 140 | H8: Fête du travail | I8: =DATE(B2,"05","01") -> 44317
A9: =DATE($B$2,"05","01") -> 44317 | B9: =DATE(B2,"05","01") -> 44317 | C9: =DATE(B2,"05","31") -> 44347 | D9: =NETWORKDAYS.INTL(B9,C9,1,$I$5:$I$17) -> 19 | E9: =D9*7 -> 133 | F9: =D9*7 -> 133 | H9: Victoire 1945 | I9: =DATE(B2,"05","08") -> 44324
A10: =DATE($B$2,"06","01") -> 44348 | B10: =DATE(B2,"06","01") -> 44348 | C10: =DATE(B2,"06","30") -> 44377 | D10: =NETWORKDAYS.INTL(B10,C10,1,$I$5:$I$17) -> 22 | E10: =D10*7 -> 154 | F10: =D10*7 -> 154 | H10: Jeudi de l'ascension | I10: =(ROUND(DATE(B2,4,MOD(234-11*MOD(B2,19),30))/7,0)*7-6)+39 -> 44329
A11: =DATE($B$2,"07","01") -> 44378 | B11: =DATE(B2,"07","01") -> 44378 | C11: =DATE(B2,"07","31") -> 44408 | D11: =NETWORKDAYS.INTL(B11,C11,1,$I$5:$I$17) -> 21 | E11: =D11*7 -> 147 | F11: =D11*7 -> 147 | H11: Lundi de Pentecôte | I11: =(ROUND(DATE(B2,4,MOD(234-11*MOD(B2,19),30))/7,0)*7-6)+50 -> 44340
A12: =DATE($B$2,"08","01") -> 44409 | B12: =DATE(B2,"08","01") -> 44409 | C12: =DATE(B2,"08","31") -> 44439 | D12: =NETWORKDAYS.INTL(B12,C12,1,$I$5:$I$17) -> 22 | E12: =D12*7 -> 154 | F12: =D12*7 -> 154 | H12: Fête nationale | I12: =DATE(B2,"07","14") -> 44391
A13: =DATE($B$2,"091","01") -> 46935 | B13: =DATE(B2,"09","01") -> 44440 | C13: =DATE(B2,"09","30") -> 44469 | D13: =NETWORKDAYS.INTL(B13,C13,1,$I$5:$I$17) -> 22 | E13: =D13*7 -> 154 | F13: =D13*7 -> 154 | H13: Assomption | I13: =DATE(B2,"08","15") -> 44423
A14: =DATE($B$2,"10","01") -> 44470 | B14: =DATE(B2,"10","01") -> 44470 | C14: =DATE(B2,"10","31") -> 44500 | D14: =NETWORKDAYS.INTL(B14,C14,1,$I$5:$I$17) -> 21 | E14: =D14*7 -> 147 | F14: =D14*7 -> 147 | H14: Toussaint | I14: =DATE(B2,"11","01") -> 44501
A15: =DATE($B$2,"11","01") -> 44501 | B15: =DATE(B2,"11","01") -> 44501 | C15: =DATE(B2,"11","30") -> 44530 | D15: =NETWORKDAYS.INTL(B15,C15,1,$I$5:$I$17) -> 20 | E15: =D15*7 -> 140 | F15: =D15*7 -> 140 | H15: Armistice 1918 | I15: =DATE(B2,"11","11") -> 44511
A16: =DATE($B$2,"12","01") -> 44531 | B16: =DATE(B2,"12","01") -> 44531 | C16: =DATE(B2,"12","31") -> 44561 | D16: =NETWORKDAYS.INTL(B16,C16,1,$I$5:$I$17) -> 23 | E16: =D16*7 -> 161 | F16: =D16*7 -> 161 | H16: Jour de Noël | I16: =DATE(B2,"12","25") -> 44555
A17: TOTAL | E17: =SUM(E5:E16) -> 1771 | F17: =SUM(F5:F16) -> 1771 | H17: Saint-Étienne | I17: =DATE(B2,"12","26") -> 44556
A19: Liste des Agents | E19: Solde au 31/12/N-1 | H19: Code de Travail | I19: Amplitude | J19: Horaires
A20: Agent 1 | H20: A | I20: 6 | J20: 0.66666667 | K20: – | L20: 0.91666667
A21: Agent 2 | H21: AN | I21: 11 | J21: 0.66666667 | K21: – | L21: 0.91666667 | M21: nuit | N21: 0.29166667 | O21: – | P21: 0.375
A22: Agent 3 | H22: AT | I22: 7
A23: Agent 4 | H23: ATRH | I23: 0
A24: Agent 5 | H24: B | I24: 7 | J24: 0.625 | K24: – | L24: 0.91666667
A25: Agent 6 | H25: B1 | I25: 6 | J25: 0.625 | K25: – | L25: 0.875
A26: Agent 7 | H26: C | I26: 12 | J26: 0.375 | K26: – | L26: 0.875
A27: Agent 8 | H27: CA | I27: 7 | K27: –
A28: Agent 9 | H28: CT | I28: 7 | K28: –
A29: Agent 10 | H29: D | I29: 12 | J29: 0.375 | K29: – | L29: 0.875
A30: Agent 11 | H30: F | I30: 0 | K30: –
A31: Agent 12 | H31: For | I31: 7 | K31: –
A32: Agent 13 | H32: FR | I32: 7 | K32: –
A33: Agent 14 | H33: HP | I33: 7 | K33: –
A34: Agent 15 | H34: J | I34: 7 | J34: 0.33333333 | K34: – | L34: 0.625
A35: Agent 16 | H35: MO | I35: 7 | K35: –
A36: Agent 17 | H36: MRH | I36: 0 | K36: –
A37: Agent 18 | H37: NL | I37: 5 | L37: 0.91666667 | M37: nuit | N37: 0.29166667 | O37: – | P37: 0.375
A38: Agent 19 | H38: O | I38: 0 | K38: –
A39: Agent 20 | H39: R | I39: 2 | J39: 0.375 | K39: – | L39: 0.45833333
H40: RF | I40: 0 | K40: –
H41: RH | I41: 0 | K41: –
H42: SL | I42: 6 | J42: 0.875 | K42: – | L42: 0.91666667 | M42: nuit | N42: 0.29166667 | O42: – | P42: 0.375
H43: V | I43: 9 | K43: –
H44: V3 | I44: 10 | K44: –
H45: V4 | I45: 9 | K45: –
K46: –
K47: –
K48: –
K49: –
K50: –
K51: –
K52: –
K53: –
K54: –
K55: –
K56: –
K57: –
... K119: –

Sheet Feuil1
A1: 44268 | B1: =A1+1 -> 44269
A2: =WEEKDAY(A1,2) -> 6 | B2: =WEEKDAY(B1,2) -> 7
