Workbook
Name jours_fériés: [1]Année!$C$2:$C$19

Sheet CALCUL
A1: codes couleurs
A2: =[1]ParamètresCouleurs!A5 -> Permission | B2: =[1]ParamètresCouleurs!B5 -> 1/2 P | C2: =[1]ParamètresCouleurs!C5 -> OPInt | D2: =[1]ParamètresCouleurs!D5 -> OPEX | E2: =[1]ParamètresCouleurs!E5 -> Stage | F2: =[1]ParamètresCouleurs!F5 -> EI/CP | G2: =[1]ParamètresCouleurs!G5 -> PAF | H2: =[1]ParamètresCouleurs!H5 -> Semaine | ... V2: =[1]ParamètresCouleurs!V5 -> Déta.1erRPIMa
A3: =SUMPRODUCT((planning!$G$10:$CV$10=TODAY())*(planning!$G$11:$CV$202=CALCUL!A$2)*(planning!$B$11:$B$202="CCH")) -> 1 | B3: =SUMPRODUCT((planning!$G$10:$CV$10=TODAY())*(planning!$G$11:$CV$202=CALCUL!B$2)*(planning!$B$11:$B$202="CCH")) -> 0 | C3: =SUMPRODUCT((planning!$G$10:$CV$10=TODAY())*(planning!$G$11:$CV$202=CALCUL!C$2)*(planning!$B$11:$B$202="CCH")) -> 2 | D3: =SUMPRODUCT((planning!$G$10:$CV$10=TODAY())*(planning!$G$11:$CV$202=CALCUL!D$2)*(planning!$B$11:$B$202="CCH")) -> 0 | E3: =SUMPRODUCT((planning!$G$10:$CV$10=TODAY())*(planning!$G$11:$CV$202=CALCUL!E$2)*(planning!$B$11:$B$202="CCH")) -> 0 | F3: =SUMPRODUCT((planning!$G$10:$CV$10=TODAY())*(planning!$G$11:$CV$202=CALCUL!F$2)*(planning!$B$11:$B$202="CCH")) -> 0 | G3: =SUMPRODUCT((planning!$G$10:$CV$10=TODAY())*(planning!$G$11:$CV$202=CALCUL!G$2)*(planning!$B$11:$B$202="CCH")) -> 0 | H3: =SUMPRODUCT((planning!$G$10:$CV$10=TODAY())*(planning!$G$11:$CV$202=CALCUL!H$2)*(planning!$B$11:$B$202="CCH")) -> 0 | ... V3: =SUMPRODUCT((planning!$G$10:$CV$10=TODAY())*(planning!$G$11:$CV$202=CALCUL!V$2)*(planning!$B$11:$B$202="CCH")) -> 0
A6: EXEMPLE:
A7: J'AIMERAIS RECUPERER LA SOMME DES "CCH"(GRADE COLONNE:B); POUR LE CODE COULEUR:OPINT (CELLULE C2); POUR AUJOURDHUI()= PLAGE G10:CV10; DANS LA PLAGE G11:CV202
C12: Pour CCH et Opint
C13: =SOMMEPROD((planning!$G$10:$CV$10=AUJOURDHUI())*(planning!$G$11:$CV$202=CALCUL!C$2)*(planning!$B$11:$B$202="CCH"))

Sheet planning
F7: Mars | AL7: Avril
F9: ALERTES | G9: 9 | H9: 9 | I9: 9 | J9: 9 | K9: 9 | L9: 9 | M9: 10 | N9: 10 | O9: 10 | P9: 10 | Q9: 10 | R9: 10 | S9: 10 | T9: 11 | U9: 11 | V9: 11 | W9: 11 | X9: 11 | Y9: 11 | Z9: 11 | AA9: 12 | AB9: 12 | AC9: 12 | AD9: 12 | AE9: 12 | AF9: 12 | AG9: 12 | AH9: 13 | AI9: 13 | AJ9: 13 | AK9: 13 | AL9: ALERTES | AM9: 13 | AN9: 13 | AO9: 13 | AP9: 14 | AQ9: 14 | AR9: 14 | AS9: 14 | AT9: 14 | AU9: 14 | AV9: 14 | AW9: 15 | AX9: 15 | AY9: 15 | AZ9: 15 | BA9: 15 | BB9: 15 | BC9: 15 | BD9: 16 | BE9: 16 | BF9: 16 | BG9: 16 | BH9: 16 | BI9: 16 | BJ9: 16 | BK9: 17 | BL9: 17 | BM9: 17 | BN9: 17 | BO9: 17 | BP9: 17
A10: SECTION | B10: GRADE | C10: NOM | D10: PRENOM | E10: FONCTION | G10: 42430 | H10: 42431 | I10: 42432 | J10: 42433 | K10: 42434 | L10: 42435 | M10: 42436 | N10: 42437 | O10: 42438 | P10: 42439 | Q10: 42440 | R10: 42441 | S10: 42442 | T10: 42443 | U10: 42444 | V10: 42445 | W10: 42446 | X10: 42447 | Y10: 42448 | Z10: 42449 | AA10: 42450 | AB10: 42451 | AC10: 42452 | AD10: 42453 | AE10: 42454 | AF10: 42455 | AG10: 42456 | AH10: 42457 | AI10: 42458 | AJ10: 42459 | AK10: 42460 | AM10: 42461 | AN10: 42462 | AO10: 42463 | AP10: 42464 | AQ10: 42465 | AR10: 42466 | AS10: 42467 | AT10: 42468 | AU10: 42469 | AV10: 42470 | AW10: 42471 | AX10: 42472 | AY10: 42473 | AZ10: 42474 | BA10: 42475 | BB10: 42476 | BC10: 42477 | BD10: 42478 | BE10: 42479 | BF10: 42480 | BG10: 42481 | BH10: 42482 | BI10: 42483 | BJ10: 42484 | BK10: 42485 | BL10: 42486 | BM10: 42487 | BN10: 42488 | BO10: 42489 | BP10: 42490
A11: SK | B11: CNE | G11: Prépa ops | H11: Prépa ops | I11: Prépa ops | J11: Prépa ops | K11: Prépa ops | L11: Prépa ops | M11: Prépa ops | N11: Prépa ops | O11: Prépa ops | P11: Prépa ops | Q11: Prépa ops | T11: Prépa ops | U11: Prépa ops | V11: Prépa ops | W11: Prépa ops | X11: Prépa ops | Z11: EI/CP | AA11: Prépa ops | BI11: Permission | BJ11: Permission | BK11: Permission | BL11: Permission | BM11: Permission | BN11: Permission | BO11: Permission | BP11: Permission
A12: SK | B12: ADJ | G12: Prépa ops | H12: Prépa ops | I12: Prépa ops | J12: Prépa ops | K12: Prépa ops | L12: Prépa ops | M12: Prépa ops | N12: Prépa ops | O12: Prépa ops | P12: Prépa ops | Q12: Prépa ops | T12: Stage | U12: Stage | V12: Stage | W12: Stage | X12: Stage | Y12: Stage | Z12: Stage | AA12: Stage | AB12: Stage | AC12: Stage | AD12: Stage | AE12: Stage | AF12: Stage | AG12: Stage | AH12: Stage | AI12: Stage | BG12: EI/CP | BO12: OPInt | BP12: OPInt
A13: SK | B13: ADJ | M13: Stage | N13: Stage | O13: Stage | P13: Stage | Q13: Stage | AA13: EI/CP | AB13: EI/CP | AC13: EI/CP | AD13: EI/CP
A14: SK | B14: CC1 | E14: =SUM((planning!$G$10:$CV$10=TODAY())*(planning!$G$11:$CV$202=CALCUL!$C$2)*(planning!B11:B102="CCH")) -> #VALUE! | M14: Stage | N14: Stage | O14: Stage | P14: Stage | Q14: Stage | R14: Stage | S14: Stage | T14: Stage | U14: Stage | V14: Stage | W14: Stage | X14: Stage | Y14: Stage | Z14: Stage | AA14: Stage | AB14: Stage | AC14: Stage | AD14: Stage | AE14: Stage | AF14: Stage | AG14: Stage | AH14: Stage | AI14: Stage
A15: SK | B15: CC1 | G15: Déta.1erRPIMa | H15: Déta.1erRPIMa | I15: Déta.1erRPIMa | J15: Déta.1erRPIMa | K15: Déta.1erRPIMa | L15: Déta.1erRPIMa | M15: Déta.1erRPIMa | N15: Déta.1erRPIMa | O15: Déta.1erRPIMa | P15: Déta.1erRPIMa | Q15: Déta.1erRPIMa | R15: Déta.1erRPIMa | S15: Déta.1erRPIMa | T15: Déta.1erRPIMa | U15: Déta.1erRPIMa | V15: Déta.1erRPIMa | W15: Déta.1erRPIMa | X15: Déta.1erRPIMa | Y15: Déta.1erRPIMa | Z15: Déta.1erRPIMa | AA15: Déta.1erRPIMa | AB15: Déta.1erRPIMa | AC15: Déta.1erRPIMa | AD15: Déta.1erRPIMa | AE15: Déta.1erRPIMa | AF15: Déta.1erRPIMa | AG15: Déta.1erRPIMa | AH15: Déta.1erRPIMa | AI15: Déta.1erRPIMa
A16: SK | B16: CCH | G16: Prépa ops | H16: Prépa ops | I16: Prépa ops | J16: Prépa ops | K16: Prépa ops | L16: Prépa ops | M16: Prépa ops | N16: Prépa ops | O16: Prépa ops | P16: Prépa ops | Q16: Prépa ops | T16: Prépa ops | U16: Prépa ops | V16: Prépa ops | W16: Prépa ops | X16: Prépa ops | AA16: Prépa ops | AE16: Récupération | AJ16: Non/plus Affecté | AK16: Non/plus Affecté | AM16: Non/plus Affecté | AN16: Non/plus Affecté | AO16: Non/plus Affecté | AP16: Non/plus Affecté | AQ16: Non/plus Affecté | AR16: Non/plus Affecté | AS16: Non/plus Affecté | AT16: Non/plus Affecté | AU16: Non/plus Affecté | AV16: Non/plus Affecté | AW16: Non/plus Affecté | AX16: Non/plus Affecté | AY16: Non/plus Affecté | AZ16: Non/plus Affecté | BA16: Non/plus Affecté | BB16: Non/plus Affecté | BC16: Non/plus Affecté | BD16: Non/plus Affecté | BE16: Non/plus Affecté | BF16: Non/plus Affecté | BG16: Non/plus Affecté | BH16: Non/plus Affecté | BI16: Non/plus Affecté | BJ16: Non/plus Affecté | BK16: Non/plus Affecté | BL16: Non/plus Affecté | BM16: Non/plus Affecté | BN16: Non/plus Affecté | BO16: Non/plus Affecté | BP16: Non/plus Affecté
A17: SK | B17: CCH | G17: Stage | H17: Stage | I17: Stage | J17: Stage | K17: Stage | L17: Stage | M17: Stage | N17: Stage | O17: Stage | P17: Stage | Q17: Stage | R17: Stage | S17: Stage | T17: Stage | U17: Stage | V17: Stage | W17: Stage | X17: Stage | Y17: Stage | Z17: Stage | AA17: Stage | AB17: Stage | AC17: Stage | AD17: Stage | AE17: Stage | AF17: Stage | AG17: Stage | AH17: Stage | AI17: Stage
A18: SK | B18: CPL | G18: Stage | H18: Stage | I18: Stage | J18: Stage | K18: Stage | L18: Stage | M18: Stage | N18: Stage | O18: Stage | P18: Stage | Q18: Stage | R18: Stage | S18: Stage | T18: Stage | U18: Stage | V18: Stage | W18: Stage | X18: Stage | Y18: Stage | Z18: Stage | AA18: Stage | AB18: Stage | AC18: Stage | AD18: Stage | AE18: Stage | AF18: Stage | AG18: Stage | AH18: Stage | AI18: Stage
A19: S1 | B19: ADJ | G19: Prépa ops | H19: Prépa ops | I19: Prépa ops | J19: Prépa ops | K19: Prépa ops | L19: Prépa ops | M19: Prépa ops | N19: Prépa ops | O19: Prépa ops | P19: Prépa ops | Q19: Prépa ops | W19: EI/CP | X19: EI/CP | Y19: EI/CP | Z19: EI/CP | AA19: Prépa ops | AE19: Récupération
A20: S1 | B20: SGT | G20: Prépa ops | H20: Prépa ops | I20: Prépa ops | J20: Prépa ops | K20: Prépa ops | L20: Prépa ops | M20: Prépa ops | N20: Prépa ops | O20: Prépa ops | P20: Prépa ops | Q20: Prépa ops | W20: Armurier | X20: Armurier | Y20: Armurier | Z20: Armurier | AA20: Prépa ops | AB20: Armurier | AC20: Armurier | AD20: Armurier | AE20: Armurier | AF20: Armurier | AG20: Armurier | AH20: Armurier | AI20: Armurier
A21: S1 | B21: SGT | G21: Non/plus Affecté | H21: Non/plus Affecté | I21: Non/plus Affecté | J21: Non/plus Affecté | K21: Non/plus Affecté | L21: Non/plus Affecté | M21: Non/plus Affecté | N21: Non/plus Affecté | O21: Non/plus Affecté | P21: Non/plus Affecté | Q21: Non/plus Affecté | R21: Non/plus Affecté | S21: Non/plus Affecté | T21: Non/plus Affecté | U21: Non/plus Affecté | V21: Non/plus Affecté | W21: Non/plus Affecté | X21: Non/plus Affecté | Y21: Non/plus Affecté | Z21: Non/plus Affecté | AA21: Non/plus Affecté | AB21: Non/plus Affecté | AC21: Non/plus Affecté | AD21: Non/plus Affecté | AE21: Non/plus Affecté | AF21: Non/plus Affecté | AG21: Non/plus Affecté | AH21: Non/plus Affecté | AI21: Non/plus Affecté
A22: S1 | B22: SGT
A23: S1 | B23: SGT
A24: S1 | B24: CC1
A25: S1 | B25: CC1
A26: S1 | B26: CC1
A27: S1 | B27: CCH
A28: S1 | B28: CCH
A29: S1 | B29: CCH
A30: S1 | B30: CPL
A31: S1 | B31: CPL
A32: S1 | B32: CPL
A33: S1 | B33: CPL
... A41: S1 | B41: 1CL
A42: S2 | B42: LTN | N42: Tir | P42: EI/CP | T42: Prépa ops | U42: Prépa ops | V42: Prépa ops | W42: Prépa ops | X42: Prépa ops | AP42: Permission | AQ42: Permission | AR42: Permission | AS42: Permission | AT42: Permission | AU42: Permission | AV42: Permission | BC42: EI/CP | BK42: missions chronophages | BL42: missions chronophages | BM42: missions chronophages
A43: S2 | B43: SCH | G43: Encadrement | H43: Encadrement | I43: Encadrement | J43: Encadrement | K43: Encadrement | L43: Encadrement | M43: Encadrement | N43: Encadrement | O43: Encadrement | P43: Encadrement | Q43: Encadrement | R43: Encadrement | S43: Encadrement | T43: Encadrement | U43: Encadrement | V43: Encadrement | W43: Encadrement | X43: Encadrement | Y43: Encadrement | Z43: Encadrement | AA43: Encadrement | AB43: Encadrement | AC43: Encadrement | AD43: Encadrement | AE43: Encadrement | AF43: Encadrement | AG43: Encadrement | AH43: Encadrement | AI43: Encadrement | AJ43: Encadrement | AK43: Encadrement | AM43: Encadrement | AN43: Encadrement | AO43: Encadrement | AP43: Encadrement | AQ43: Encadrement | AR43: Encadrement | AS43: Encadrement | AT43: Encadrement | AU43: Encadrement | AV43: Encadrement | AW43: Encadrement | AX43: Encadrement | AY43: Encadrement | AZ43: Encadrement | BA43: Encadrement | BB43: Encadrement | BC43: Encadrement | BD43: Encadrement | BE43: Encadrement | BF43: Encadrement | BG43: Encadrement | BH43: Encadrement | BI43: Encadrement | BJ43: Encadrement | BK43: Encadrement | BL43: Encadrement | BM43: Encadrement | BN43: Encadrement | BO43: Encadrement | BP43: Encadrement
A44: S2 | B44: SCH | M44: Stage | N44: Stage | O44: Stage | P44: Stage | Q44: Stage | R44: Stage | S44: Stage | T44: Stage | U44: Stage | V44: Stage | W44: Stage | X44: Stage | Y44: Stage | Z44: Stage | AA44: Stage | AB44: Stage | AC44: Stage | AD44: Stage | AE44: Stage | AF44: Stage | AG44: Stage | AH44: Stage | AI44: Stage | AJ44: Stage | AK44: Stage | AM44: Stage | AN44: Stage | AO44: Stage | AP44: Stage | AQ44: Stage | AR44: Stage | AS44: Stage | AT44: Stage | AU44: Stage | AV44: Stage | AW44: Stage | AX44: Stage | AY44: Stage | AZ44: Stage | BA44: Stage | BB44: Stage | BC44: Stage | BD44: Stage | BE44: Stage | BF44: Stage | BG44: Stage | BH44: Stage | BI44: Stage | BJ44: Stage | BK44: Stage | BL44: Stage | BM44: Stage | BN44: Stage | BO44: Stage | BP44: Stage
A45: S2 | B45: SGT | G45: Encadrement | H45: Encadrement | I45: Encadrement | J45: Encadrement | K45: Encadrement | L45: Encadrement | M45: Encadrement | N45: Encadrement | O45: Encadrement | P45: Encadrement | Q45: Encadrement | R45: Encadrement | S45: Encadrement | T45: Encadrement | U45: Encadrement | V45: Encadrement | W45: Encadrement | X45: Encadrement | Y45: Encadrement | Z45: Encadrement | AA45: Encadrement | AB45: Encadrement | AC45: Encadrement | AD45: Encadrement | AE45: Encadrement | AF45: Encadrement | AG45: Encadrement | AH45: Encadrement | AI45: Encadrement | AJ45: Encadrement | AK45: Encadrement | AM45: Encadrement | AN45: Encadrement | AO45: Encadrement | AP45: Encadrement | AQ45: Encadrement | AR45: Encadrement | AS45: Encadrement | AT45: Encadrement | AU45: Encadrement | AV45: Encadrement | AW45: Permission | AX45: Permission | AY45: Permission | AZ45: Permission | BA45: Permission | BB45: Permission | BC45: Permission | BG45: EI/CP | BH45: EI/CP | BI45: EI/CP | BJ45: EI/CP | BK45: EI/CP | BL45: EI/CP | BM45: EI/CP | BN45: missions chronophages | BO45: missions chronophages
A46: S2 | B46: SGT | J46: Récupération | M46: Récupération | N46: Tir | AM46: OPInt | AN46: OPInt | AO46: OPInt | AP46: Récupération | AW46: OPInt | AX46: OPInt | AZ46: OPInt | BA46: Permission | BB46: Permission | BC46: Permission | BD46: Permission | BE46: Permission | BF46: Permission | BG46: Permission | BH46: Permission | BI46: Permission | BJ46: Permission | BN46: missions chronophages | BO46: missions chronophages
A47: S2 | B47: SGT | G47: Permission | H47: Permission | I47: Permission | J47: Permission | K47: Permission | L47: Permission | Q47: OPEX | R47: OPEX | S47: OPEX | T47: OPEX | U47: OPEX | V47: OPEX | W47: OPEX | X47: OPEX | Y47: OPEX | Z47: OPEX | AA47: OPEX | AB47: OPEX | AC47: OPEX | AD47: OPEX | AE47: OPEX | AF47: OPEX | AG47: OPEX | AH47: OPEX | AI47: OPEX | AJ47: OPEX | AK47: OPEX | AM47: OPEX | AN47: OPEX | AO47: OPEX | AP47: OPEX | AQ47: OPEX | AR47: OPEX | AS47: OPEX | AT47: OPEX | AU47: OPEX | AV47: OPEX | AW47: OPEX | AX47: OPEX | AY47: OPEX | AZ47: OPEX | BA47: OPEX | BB47: OPEX | BC47: OPEX | BD47: OPEX | BE47: OPEX | BF47: OPEX | BG47: OPEX | BH47: OPEX | BI47: OPEX | BJ47: OPEX | BK47: OPEX | BL47: OPEX | BM47: OPEX | BN47: OPEX | BO47: OPEX | BP47: OPEX
A48: S2 | B48: CCH | N48: Tir | T48: Prépa ops | U48: Prépa ops | V48: Prépa ops | W48: Prépa ops | X48: Prépa ops | AK48: EI/CP | AM48: EI/CP | AN48: EI/CP | AO48: EI/CP | AP48: EI/CP | AQ48: EI/CP | AR48: EI/CP | AS48: EI/CP | AT48: Récupération | AZ48: Permission | BA48: Permission | BB48: Permission | BC48: Permission | BI48: Permission | BJ48: Permission | BK48: Permission | BL48: Permission | BM48: Permission | BN48: Permission | BO48: Permission | BP48: Permission
A49: S2 | B49: CCH | G49: OPEX | H49: OPEX | I49: OPEX | J49: OPEX | K49: OPEX | L49: OPEX | M49: OPEX | N49: OPEX | O49: OPEX | P49: OPEX | Q49: OPEX | R49: OPEX | S49: OPEX | T49: OPEX | U49: OPEX | V49: OPEX | W49: OPEX | X49: OPEX | Y49: OPEX | Z49: OPEX | AA49: OPEX | AB49: OPEX | AC49: OPEX | AD49: Permission | AE49: Permission | AF49: Permission | AG49: Permission | AH49: Permission | AI49: Permission | AJ49: Permission | AK49: Permission | AM49: Permission | AN49: Permission | AO49: Permission | AP49: Permission | AQ49: Permission | AR49: Permission | AS49: Permission | AT49: Permission | BK49: Stage | BL49: Stage | BM49: Stage | BO49: OPInt | BP49: OPInt
A50: S2 | B50: CCH | G50: P.Chenil | H50: P.Chenil | I50: P.Chenil | J50: Récupération | L50: missions chronophages | M50: missions chronophages | N50: missions chronophages | Q50: Récupération | AM50: OPInt | AN50: OPInt | AO50: OPInt | AT50: Récupération | AU50: Permission | AV50: Permission | AW50: Permission | AX50: Permission | AY50: Permission | AZ50: Permission | BA50: Permission | BB50: Permission | BC50: Permission | BD50: Permission | BG50: Soutier | BH50: Soutier | BI50: Soutier | BJ50: Soutier | BK50: Stage | BL50: Stage | BM50: Stage | BO50: OPInt | BP50: OPInt
A51: S2 | B51: CPL | I51: Récupération | J51: Récupération | K51: Permission | L51: Permission | M51: Permission | N51: Tir | AD51: P.Chenil | AE51: P.Chenil | AF51: P.Chenil | AG51: P.Chenil | AH51: P.Chenil | AI51: P.Chenil | AJ51: P.Chenil | AK51: P.Chenil | AM51: OPInt | AN51: OPInt | AO51: OPInt | AP51: Récupération | AQ51: Récupération | AR51: Permission | AS51: Permission | AT51: Permission | AU51: Permission | AV51: Permission | AW51: OPInt | AX51: OPInt | AZ51: OPInt | BA51: Armurier | BB51: Armurier | BC51: Armurier | BD51: Armurier | BE51: Armurier | BF51: Armurier | BG51: Armurier | BN51: P.Chenil | BO51: P.Chenil | BP51: P.Chenil
A52: S2 | B52: CPL | N52: Tir | AK52: EI/CP | AM52: EI/CP | AN52: EI/CP | AO52: EI/CP | AP52: EI/CP | AQ52: EI/CP | AR52: EI/CP | AS52: EI/CP | AT52: Récupération | AZ52: Permission | BA52: Permission | BB52: Permission | BC52: Permission | BD52: Permission | BE52: Permission | BF52: Permission | BG52: Permission | BH52: Permission | BI52: Permission | BJ52: Permission | BK52: Permission | BL52: Permission | BM52: Permission | BN52: Permission | BO52: Permission | BP52: Permission
A53: S2 | B53: CPL | J53: Récupération | M53: Récupération | N53: Tir | AM53: OPInt | AN53: OPInt | AO53: OPInt | AP53: Récupération | AS53: P.Chenil | AT53: P.Chenil | AU53: P.Chenil | AV53: P.Chenil | AW53: OPInt | AX53: OPInt | AZ53: OPInt | BA53: Récupération | BD53: Encadrement | BE53: Encadrement | BF53: Encadrement | BG53: Encadrement | BH53: Encadrement | BI53: Permission | BJ53: Permission | BK53: Permission | BL53: Permission | BM53: Permission | BN53: Permission | BO53: Permission | BP53: Permission
A54: S2 | B54: CPL | G54: Permission | H54: Permission | I54: Permission | J54: Permission | K54: Permission | L54: Permission | Q54: OPEX | R54: OPEX | S54: OPEX | T54: OPEX | U54: OPEX | V54: OPEX | W54: OPEX | X54: OPEX | Y54: OPEX | Z54: OPEX | AA54: OPEX | AB54: OPEX | AC54: OPEX | AD54: OPEX | AE54: OPEX | AF54: OPEX | AG54: OPEX | AH54: OPEX | AI54: OPEX | AJ54: OPEX | AK54: OPEX | AM54: OPEX | AN54: OPEX | AO54: OPEX | AP54: OPEX | AQ54: OPEX | AR54: OPEX | AS54: OPEX | AT54: OPEX | AU54: OPEX | AV54: OPEX | AW54: OPEX | AX54: OPEX | AY54: OPEX | AZ54: OPEX | BA54: OPEX | BB54: OPEX | BC54: OPEX | BD54: OPEX | BE54: OPEX | BF54: OPEX | BG54: OPEX | BH54: OPEX | BI54: OPEX | BJ54: OPEX | BK54: OPEX | BL54: OPEX | BM54: OPEX | BN54: OPEX | BO54: OPEX | BP54: OPEX
A55: S2 | B55: 1CL | G55: Prépa ops | H55: Prépa ops | I55: Prépa ops | J55: Prépa ops | K55: Prépa ops | L55: Prépa ops | M55: Prépa ops | N55: Prépa ops | O55: Prépa ops | P55: Prépa ops | Q55: Prépa ops | AD55: PAF | AE55: PAF | AF55: PAF | AG55: PAF | AH55: PAF | AI55: PAF | AJ55: PAF | AK55: PAF | AM55: Récupération | AN55: Permission | AO55: Permission | AP55: Permission | AQ55: Permission | AR55: Permission | AS55: Permission | AT55: Permission | AU55: Permission | AV55: P.Chenil | AW55: P.Chenil | AX55: P.Chenil | AY55: P.Chenil | AZ55: P.Chenil | BA55: Récupération | BJ55: Prépa ops | BK55: Prépa ops | BL55: Prépa ops | BM55: Prépa ops | BN55: Prépa ops | BO55: Prépa ops
A56: S2 | B56: 1CL | G56: Stage | H56: Stage | I56: Stage | J56: Stage | K56: Stage | L56: Stage | M56: Stage | N56: Stage | O56: Stage | P56: Stage | Q56: Stage | R56: Stage | S56: Stage | T56: Stage | U56: Stage | V56: Stage | W56: Stage | X56: Stage | Y56: Stage | Z56: Stage | AA56: Stage | AB56: Stage | AC56: Stage | AD56: Stage | AE56: Stage | AF56: Stage | AG56: Stage | AH56: Stage | AI56: Stage | AJ56: Stage | AK56: Stage | AM56: Stage | AN56: Stage | AO56: Stage | AP56: Stage | AQ56: Stage | AR56: Stage | AS56: Stage | AT56: Stage | AU56: Permission | AV56: Permission | AW56: Permission | AX56: Permission | AY56: Permission | AZ56: Permission | BA56: Permission | BB56: Permission | BC56: Permission | BD56: Permission | BE56: Permission | BF56: Permission | BG56: EI/CP | BH56: EI/CP | BI56: EI/CP | BJ56: EI/CP | BK56: EI/CP | BL56: EI/CP | BM56: EI/CP | BN56: EI/CP | BO56: Récupération
A57: S2 | B57: 1CL | G57: Stage | H57: Stage | I57: Stage | J57: Stage | K57: Stage | L57: Stage | M57: Stage | N57: Stage | O57: Stage | P57: Stage | Q57: Stage | R57: Stage | S57: Stage | T57: Stage | U57: Stage | V57: Stage | W57: Stage | X57: Stage | Y57: Stage | Z57: Stage | AA57: Stage | AB57: Stage | AC57: Stage | AD57: Stage | AE57: Stage | AF57: Stage | AG57: Stage | AH57: Stage | AI57: Stage | AJ57: Stage | AK57: Stage | AM57: Stage | AN57: Stage | AO57: Stage | AP57: Stage | AQ57: Stage | AR57: Stage | AS57: Stage | AT57: Stage | AW57: Stage | AX57: Stage | AY57: Stage | AZ57: Stage | BA57: Stage | BB57: Stage | BC57: Stage | BD57: Stage | BE57: Stage | BF57: Stage | BG57: Stage | BH57: Stage | BO57: OPInt
A58: S2 | B58: 1CL | G58: Permission | H58: Permission | I58: Permission | J58: Permission | K58: Permission | L58: Permission | M58: Prépa ops | N58: Prépa ops | O58: Prépa ops | P58: Prépa ops | Q58: Prépa ops | W58: Soutier | X58: Soutier | Y58: Soutier | Z58: Soutier | AA58: Soutier | AB58: Soutier | AC58: Soutier | AD58: Soutier | AK58: EI/CP | AM58: EI/CP | AN58: EI/CP | AO58: EI/CP | AP58: EI/CP | AQ58: EI/CP | AR58: EI/CP | AS58: EI/CP | AT58: Récupération | AU58: Permission | AV58: Permission | AW58: Permission | AX58: Permission | AY58: Permission | AZ58: Permission | BA58: Permission | BB58: Permission | BC58: Permission | BD58: Soutier | BE58: Soutier | BF58: Soutier | BG58: Soutier | BH58: Soutier | BN58: Soutier | BO58: Soutier | BP58: Soutier
A59: S2 | B59: 1CL | G59: Permission | H59: Permission | I59: Permission | J59: Permission | K59: Permission | L59: Permission | Q59: OPEX | R59: OPEX | S59: OPEX | T59: OPEX | U59: OPEX | V59: OPEX | W59: OPEX | X59: OPEX | Y59: OPEX | Z59: OPEX | AA59: OPEX | AB59: OPEX | AC59: OPEX | AD59: OPEX | AE59: OPEX | AF59: OPEX | AG59: OPEX | AH59: OPEX | AI59: OPEX | AJ59: OPEX | AK59: OPEX | AM59: OPEX | AN59: OPEX | AO59: OPEX | AP59: OPEX | AQ59: OPEX | AR59: OPEX | AS59: OPEX | AT59: OPEX | AU59: OPEX | AV59: OPEX | AW59: OPEX | AX59: OPEX | AY59: OPEX | AZ59: OPEX | BA59: OPEX | BB59: OPEX | BC59: OPEX | BD59: OPEX | BE59: OPEX | BF59: OPEX | BG59: OPEX | BH59: OPEX | BI59: OPEX | BJ59: OPEX | BK59: OPEX | BL59: OPEX | BM59: OPEX | BN59: OPEX | BO59: OPEX | BP59: OPEX
A60: S2 | B60: 1CL | G60: Stage | H60: Stage | I60: Stage | J60: Stage | K60: Stage | L60: Stage | M60: Stage | N60: Stage | O60: Stage | P60: Stage | Q60: Stage | R60: Stage | S60: Stage | T60: Stage | U60: Stage | V60: Stage | W60: Stage | X60: Stage | Y60: Stage | Z60: Stage | AA60: Stage | AB60: Stage | AC60: Stage | AD60: Stage | AE60: Stage | AF60: Stage | AG60: Stage | AH60: Stage | AI60: Stage | AJ60: Stage | AK60: Stage | AM60: Stage | AN60: Stage | AO60: Stage | AP60: Stage | AQ60: Stage | AR60: Stage | AS60: Stage | AT60: Stage | AU60: Permission | AV60: Permission | AW60: Permission | AX60: Permission | AY60: Permission | AZ60: EI/CP | BA60: EI/CP | BB60: EI/CP | BC60: EI/CP | BD60: EI/CP | BE60: EI/CP | BF60: EI/CP | BG60: EI/CP | BH60: Récupération | BI60: Permission | BJ60: Permission | BK60: Permission | BL60: Permission | BM60: Permission | BN60: Permission | BO60: Permission | BP60: Permission
A61: S2 | B61: 1CL | M61: Prépa ops | N61: Prépa ops | O61: Prépa ops | P61: Prépa ops | Q61: Prépa ops | AA61: Encadrement | AB61: Encadrement | AC61: Encadrement | AD61: Encadrement | AE61: Encadrement | AU61: Permission | AV61: Permission | AW61: Permission | AX61: Permission | AY61: Permission | AZ61: Permission | BA61: Permission | BB61: Permission | BC61: Permission | BD61: Permission | BE61: Permission | BF61: Permission | BG61: EI/CP | BH61: EI/CP | BI61: EI/CP | BJ61: EI/CP | BK61: EI/CP | BL61: EI/CP | BM61: EI/CP | BN61: EI/CP | BO61: Récupération
A62: S2 | B62: 1CL | N62: Tir | T62: Stage | U62: Stage | V62: Stage | W62: Stage | X62: Stage | Y62: Stage | Z62: Stage | AA62: Stage | AB62: Stage | AC62: Stage | AD62: Stage | AE62: Stage | AF62: Stage | AG62: Stage | AH62: Stage | AI62: Stage | AJ62: Stage | AK62: Stage | AM62: Stage | AN62: Stage | AO62: Stage | AP62: Stage | AQ62: Stage | AR62: Stage | AS62: Stage | AT62: Stage | AU62: Stage | AV62: Stage | AW62: Stage | AX62: Stage | AY62: Stage | AZ62: Stage | BA62: Stage | BB62: Stage | BC62: Stage | BD62: Stage | BE62: Stage | BF62: Stage | BG62: Stage | BH62: Stage | BI62: Stage | BJ62: Stage | BK62: Stage | BL62: Stage | BM62: Stage | BN62: Stage | BO62: Stage | BP62: Stage
A63: SCAOS | B63: LTN | G63: Prépa ops | H63: Prépa ops | I63: Prépa ops | J63: Prépa ops | K63: Prépa ops | L63: Prépa ops | M63: Prépa ops | N63: Prépa ops | O63: Prépa ops | P63: Prépa ops | Q63: Prépa ops | T63: Prépa ops | U63: Prépa ops | V63: Prépa ops | W63: Prépa ops | X63: Prépa ops | Z63: EI/CP | AA63: Prépa ops | AL63: ALERTES DU 01 AU 30 | AM63: EI/CP | AR63: Prépa ops | AU63: Permission | AV63: Permission | AW63: Permission | AX63: Permission | AY63: Permission | AZ63: Permission | BA63: Permission | BB63: Permission | BC63: Permission
A64: SCAOS | B64: SCH | G64: Prépa ops | H64: Prépa ops | I64: Prépa ops | J64: Prépa ops | K64: Prépa ops | L64: Prépa ops | M64: Prépa ops | N64: Prépa ops | O64: Prépa ops | P64: Prépa ops | Q64: Prépa ops | T64: Stage | U64: Stage | V64: Stage | W64: Stage | X64: Stage | Y64: Stage | Z64: Stage | AA64: Stage | AB64: Stage | AC64: Stage | AD64: Stage | AE64: Stage | AF64: Stage | AG64: Stage | AH64: Stage | AI64: Stage | AJ64: Stage | AK64: Stage | AM64: Stage | AN64: Stage | AO64: Stage | AP64: Stage | AQ64: Stage | AR64: Stage | AS64: Stage | AT64: Stage | AU64: Stage | AV64: Stage | AW64: Stage | AX64: Stage | AY64: Stage | AZ64: Stage | BA64: Stage | BB64: Stage | BC64: Stage | BD64: Stage | BE64: Stage | BF64: Stage | BG64: Stage | BH64: Stage | BI64: Stage | BJ64: Stage | BK64: Stage | BL64: Stage | BM64: Stage | BN64: Stage | BO64: Stage | BP64: Stage
A65: SCAOS | B65: SGT | M65: Stage | N65: Stage | O65: Stage | P65: Stage | Q65: Stage | AA65: EI/CP | AB65: EI/CP | AC65: EI/CP | AD65: EI/CP | AY65: Tir | BD65: EI/CP | BE65: EI/CP | BF65: EI/CP | BG65: EI/CP | BH65: Permission | BI65: Permission | BJ65: Permission | BK65: Permission | BL65: Permission | BM65: Permission | BN65: Permission | BO65: Permission | BP65: Permission
A66: SCAOS | B66: SGT | M66: Stage | N66: Stage | O66: Stage | P66: Stage | Q66: Stage | R66: Stage | S66: Stage | T66: Stage | U66: Stage | V66: Stage | W66: Stage | X66: Stage | Y66: Stage | Z66: Stage | AA66: Stage | AB66: Stage | AC66: Stage | AD66: Stage | AE66: Stage | AF66: Stage | AG66: Stage | AH66: Stage | AI66: Stage | AJ66: Stage | AK66: Stage | AM66: Stage | AN66: Permission | AO66: Permission | AP66: Permission | AQ66: Permission | AR66: Permission | AS66: Permission | AT66: Permission | AU66: Permission | AV66: Permission | AW66: Permission | AX66: Permission | AY66: Permission | AZ66: Permission | BA66: Permission | BB66: Permission | BC66: Permission
A67: SCAOS | B67: SGT | G67: Non/plus Affecté | H67: Non/plus Affecté | I67: Non/plus Affecté | J67: Non/plus Affecté | K67: Non/plus Affecté | L67: Non/plus Affecté | M67: Non/plus Affecté | N67: Non/plus Affecté | O67: Non/plus Affecté | P67: Non/plus Affecté | Q67: Non/plus Affecté | R67: Non/plus Affecté | S67: Non/plus Affecté | T67: Non/plus Affecté | U67: Non/plus Affecté | V67: Non/plus Affecté | W67: Non/plus Affecté | X67: Non/plus Affecté | Y67: Non/plus Affecté | Z67: Non/plus Affecté | AA67: Non/plus Affecté | AB67: Non/plus Affecté | AC67: Non/plus Affecté | AD67: Non/plus Affecté | AE67: Non/plus Affecté | AF67: Non/plus Affecté | AG67: Non/plus Affecté | AH67: Non/plus Affecté | AI67: Non/plus Affecté | AJ67: Non/plus Affecté | AK67: Non/plus Affecté | AM67: Déta.1erRPIMa | AN67: Déta.1erRPIMa | AO67: Déta.1erRPIMa | AP67: Déta.1erRPIMa | AQ67: Déta.1erRPIMa | AR67: Déta.1erRPIMa | AS67: Déta.1erRPIMa | AT67: Déta.1erRPIMa | AU67: Déta.1erRPIMa | AV67: Déta.1erRPIMa | AW67: Déta.1erRPIMa | AX67: Déta.1erRPIMa | AY67: Déta.1erRPIMa | AZ67: Déta.1erRPIMa | BA67: Déta.1erRPIMa | BB67: Déta.1erRPIMa | BC67: Déta.1erRPIMa | BD67: Déta.1erRPIMa | BE67: Déta.1erRPIMa | BF67: Déta.1erRPIMa | BG67: Déta.1erRPIMa | BH67: Déta.1erRPIMa | BI67: Déta.1erRPIMa | BJ67: Déta.1erRPIMa | BK67: Déta.1erRPIMa | BL67: Déta.1erRPIMa | BM67: Déta.1erRPIMa | BN67: Déta.1erRPIMa | BO67: Non/plus Affecté | BP67: Non/plus Affecté
A68: SCAOS | B68: SGT | G68: Prépa ops | H68: Prépa ops | I68: Prépa ops | J68: Prépa ops | K68: Prépa ops | L68: Prépa ops | M68: Prépa ops | N68: Prépa ops | O68: Prépa ops | P68: Prépa ops | Q68: Prépa ops | T68: Prépa ops | U68: Prépa ops | V68: Prépa ops | W68: Prépa ops | X68: Prépa ops | AA68: Prépa ops | AE68: Récupération | AL68: ALERTES DU 01 AU 30 | AY68: Tir | AZ68: EI/CP | BA68: EI/CP | BB68: EI/CP | BC68: EI/CP | BK68: Prépa ops | BL68: Prépa ops | BM68: Prépa ops | BN68: Prépa ops | BO68: Prépa ops
A69: SCAOS | B69: SGT | G69: Stage | H69: Stage | I69: Stage | J69: Stage | K69: Stage | L69: Stage | M69: Stage | N69: Stage | O69: Stage | P69: Stage | Q69: Stage | R69: Stage | S69: Stage | T69: Stage | U69: Stage | V69: Stage | W69: Stage | X69: Stage | Y69: Stage | Z69: Stage | AA69: Stage | AB69: Stage | AC69: Stage | AD69: Stage | AE69: Stage | AF69: Stage | AG69: Stage | AH69: Stage | AI69: Stage | AJ69: Stage | AK69: Stage | AM69: Stage | AN69: Stage | AO69: Stage | AP69: Stage | AQ69: Stage | AR69: Stage | AS69: Stage | AT69: Stage | AU69: Stage | AV69: Stage | AW69: Stage | AX69: Stage | AY69: Stage | AZ69: Stage | BA69: Stage | BB69: Stage | BC69: Stage | BD69: Stage | BE69: Stage | BF69: Stage | BG69: Stage | BH69: Stage | BI69: Stage | BJ69: Stage | BK69: Stage | BL69: Stage | BM69: Stage | BN69: Stage | BO69: Stage | BP69: Stage
A70: SCAOS | B70: SGT | G70: Stage | H70: Stage | I70: Stage | J70: Stage | K70: Stage | L70: Stage | M70: Stage | N70: Stage | O70: Stage | P70: Stage | Q70: Stage | R70: Stage | S70: Stage | T70: Stage | U70: Stage | V70: Stage | W70: Stage | X70: Stage | Y70: Stage | Z70: Stage | AA70: Stage | AB70: Stage | AC70: Stage | AD70: Stage | AE70: Stage | AF70: Stage | AG70: Stage | AH70: Stage | AI70: Stage | AJ70: Stage | AK70: Stage | AM70: Stage | AN70: Stage | AO70: Stage | AP70: Stage | AQ70: Stage | AR70: Stage | AS70: Stage | AT70: Stage | AU70: Stage | AV70: Stage | AW70: Stage | AX70: Stage | AY70: Stage | AZ70: Stage | BA70: Stage | BB70: Stage | BC70: Stage | BD70: Stage | BE70: Stage | BF70: Stage | BG70: Stage | BH70: Stage | BI70: Stage | BJ70: Stage | BK70: Stage | BL70: Stage | BM70: Stage | BN70: Stage | BO70: Stage | BP70: Stage
A71: SCAOS | B71: CC1 | G71: Prépa ops | H71: Prépa ops | I71: Prépa ops | J71: Prépa ops | K71: Prépa ops | L71: Prépa ops | M71: Prépa ops | N71: Prépa ops | O71: Prépa ops | P71: Prépa ops | Q71: Prépa ops | W71: EI/CP | X71: EI/CP | Y71: EI/CP | Z71: EI/CP | AA71: Prépa ops | AE71: Récupération | AL71: ALERTES DU 01 AU 30 | BB71: Permission | BC71: Permission | BD71: Permission | BE71: Permission | BF71: Permission | BG71: Permission | BH71: Permission | BI71: Permission | BJ71: Permission | BK71: Prépa ops | BL71: Prépa ops | BM71: Prépa ops | BN71: Prépa ops | BO71: Prépa ops
A72: SCAOS | B72: CCH | G72: Prépa ops | H72: Prépa ops | I72: Prépa ops | J72: Prépa ops | K72: Prépa ops | L72: Prépa ops | M72: Prépa ops | N72: Prépa ops | O72: Prépa ops | P72: Prépa ops | Q72: Prépa ops | W72: Armurier | X72: Armurier | Y72: Armurier | Z72: Armurier | AA72: Prépa ops | AB72: Armurier | AC72: Armurier | AD72: Armurier | AE72: Armurier | AF72: Armurier | AG72: Armurier | AH72: Armurier | AI72: Armurier | AJ72: Armurier | AK72: Armurier | AL72: ALERTES DU 01 AU 30 | BK72: Prépa ops | BL72: Prépa ops | BM72: Prépa ops | BN72: Prépa ops | BO72: Prépa ops
A73: SCAOS | B73: CPL | G73: Non/plus Affecté | H73: Non/plus Affecté | I73: Non/plus Affecté | J73: Non/plus Affecté | K73: Non/plus Affecté | L73: Non/plus Affecté | M73: Non/plus Affecté | N73: Non/plus Affecté | O73: Non/plus Affecté | P73: Non/plus Affecté | Q73: Non/plus Affecté | R73: Non/plus Affecté | S73: Non/plus Affecté | T73: Non/plus Affecté | U73: Non/plus Affecté | V73: Non/plus Affecté | W73: Non/plus Affecté | X73: Non/plus Affecté | Y73: Non/plus Affecté | Z73: Non/plus Affecté | AA73: Non/plus Affecté | AB73: Non/plus Affecté | AC73: Non/plus Affecté | AD73: Non/plus Affecté | AE73: Non/plus Affecté | AF73: Non/plus Affecté | AG73: Non/plus Affecté | AH73: Non/plus Affecté | AI73: Non/plus Affecté | AJ73: Non/plus Affecté | AK73: Non/plus Affecté | AM73: Non/plus Affecté | AN73: Non/plus Affecté | AO73: Non/plus Affecté | AP73: Non/plus Affecté | AQ73: Non/plus Affecté | AR73: Non/plus Affecté | AS73: Non/plus Affecté | AT73: Non/plus Affecté | AU73: Non/plus Affecté | AV73: Non/plus Affecté | AW73: Non/plus Affecté | AX73: Non/plus Affecté | AY73: Non/plus Affecté | AZ73: Non/plus Affecté | BA73: Non/plus Affecté | BB73: Non/plus Affecté | BC73: Non/plus Affecté | BD73: Non/plus Affecté | BE73: Non/plus Affecté | BF73: Non/plus Affecté | BG73: Non/plus Affecté | BH73: Non/plus Affecté | BI73: Non/plus Affecté | BJ73: Non/plus Affecté | BK73: Non/plus Affecté | BL73: Non/plus Affecté | BM73: Non/plus Affecté | BN73: Non/plus Affecté | BO73: Non/plus Affecté | BP73: Non/plus Affecté
A74: S4 | B74: LTN | AU74: Permission | AV74: Permission | AW74: Permission | AX74: Permission | AY74: Permission | AZ74: Permission | BA74: Permission | BB74: Permission | BC74: Permission | BD74: Permission
A75: S4 | B75: SCH
A76: S4 | B76: SGT
A77: S4 | B77: SGT
A78: S4 | B78: CC1
A79: S4 | B79: CC1
A80: S4 | B80: CC1
A81: S4 | B81: CCH
A82: S4 | B82: CCH | AM82: Non/plus Affecté | AN82: Non/plus Affecté | AO82: Non/plus Affecté | AP82: Non/plus Affecté | AQ82: Non/plus Affecté | AR82: Non/plus Affecté | AS82: Non/plus Affecté | AT82: Non/plus Affecté | AU82: Non/plus Affecté | AV82: Non/plus Affecté | AW82: Non/plus Affecté | AX82: Non/plus Affecté | AY82: Non/plus Affecté | AZ82: Non/plus Affecté | BA82: Non/plus Affecté | BB82: Non/plus Affecté | BC82: Non/plus Affecté | BD82: Non/plus Affecté | BE82: Non/plus Affecté | BF82: Non/plus Affecté | BG82: Non/plus Affecté | BH82: Non/plus Affecté | BI82: Non/plus Affecté | BJ82: Non/plus Affecté | BK82: Non/plus Affecté | BL82: Non/plus Affecté | BM82: Non/plus Affecté | BN82: Non/plus Affecté | BO82: Non/plus Affecté | BP82: Non/plus Affecté
A83: S4 | B83: CCH
A84: S4 | B84: CCH | AM84: Non/plus Affecté | AN84: Non/plus Affecté | AO84: Non/plus Affecté | AP84: Non/plus Affecté | AQ84: Non/plus Affecté | AR84: Non/plus Affecté | AS84: Non/plus Affecté | AT84: Non/plus Affecté | AU84: Non/plus Affecté | AV84: Non/plus Affecté | AW84: Non/plus Affecté | AX84: Non/plus Affecté | AY84: Non/plus Affecté | AZ84: Non/plus Affecté | BA84: Non/plus Affecté | BB84: Non/plus Affecté | BC84: Non/plus Affecté | BD84: Non/plus Affecté | BE84: Non/plus Affecté | BF84: Non/plus Affecté | BG84: Non/plus Affecté | BH84: Non/plus Affecté | BI84: Non/plus Affecté | BJ84: Non/plus Affecté | BK84: Non/plus Affecté | BL84: Non/plus Affecté | BM84: Non/plus Affecté | BN84: Non/plus Affecté | BO84: Non/plus Affecté | BP84: Non/plus Affecté
A85: S4 | B85: CCH
A86: S4 | B86: CCH
A87: S4 | B87: CPL
A88: S4 | B88: CPL
A89: S4 | B89: CPL
A90: S4 | B90: CPL
A91: S4 | B91: CPL
A92: S4 | B92: 1CL
A93: S4 | B93: 1CL
A94: S4 | B94: 1CL
A95: S4 | B95: 1CL
A96: S4 | B96: 1CL
... A102: S4 | B102: 1CL
