Workbook
Name jours_fériés: [1]Année!$C$2:$C$19

Sheet CALCUL
A1: codes couleurs
A2: =[1]ParamètresCouleurs!A5 -> Permission | B2: =[1]ParamètresCouleurs!B5 -> 1/2 P | C2: =[1]ParamètresCouleurs!C5 -> OPInt | D2: =[1]ParamètresCouleurs!D5 -> OPEX | E2: =[1]ParamètresCouleurs!E5 -> Stage | F2: =[1]ParamètresCouleurs!F5 -> EI/CP | G2: =[1]ParamètresCouleurs!G5 -> PAF | H2: =[1]ParamètresCouleurs!H5 -> Semaine | ... V2: =[1]ParamètresCouleurs!V5 -> Déta.1erRPIMa
A3: =SUMPRODUCT((planning!$G$10:$CV$10=TODAY())*(planning!$G$11:$CV$202=CALCUL!A$2)*(planning!$B$11:$B$202="CCH")) -> 1 | B3: =SUMPRODUCT((planning!$G$10:$CV$10=TODAY())*(planning!$G$11:$CV$202=CALCUL!B$2)*(planning!$B$11:$B$202="CCH")) -> 0 | C3: =SUMPRODUCT((planning!$G$10:$CV$10=TODAY())*(planning!$G$11:$CV$202=CALCUL!C$2)*(planning!$B$11:$B$202="CCH")) -> 2 | D3: =SUMPRODUCT((planning!$G$10:$CV$10=TODAY())*(planning!$G$11:$CV$202=CALCUL!D$2)*(planning!$B$11:$B$202="CCH")) -> 0 | E3: =SUMPRODUCT((planning!$G$10:$CV$10=TODAY())*(planning!$G$11:$CV$202=CALCUL!E$2)*(planning!$B$11:$B$202="CCH")) -> 0 | F3: =SUMPRODUCT((planning!$G$10:$CV$10=TODAY())*(planning!$G$11:$CV$202=CALCUL!F$2)*(planning!$B$11:$B$202="CCH")) -> 0 | G3: =SUMPRODUCT((planning!$G$10:$CV$10=TODAY())*(planning!$G$11:$CV$202=CALCUL!G$2)*(planning!$B$11:$B$202="CCH")) -> 0 | H3: =SUMPRODUCT((planning!$G$10:$CV$10=TODAY())*(planning!$G$11:$CV$202=CALCUL!H$2)*(planning!$B$11:$B$202="CCH")) -> 0 | ... V3: =SUMPRODUCT((planning!$G$10:$CV$10=TODAY())*(planning!$G$11:$CV$202=CALCUL!V$2)*(planning!$B$11:$B$202="CCH")) -> 0
A6: EXEMPLE:
A7: J'AIMERAIS RECUPERER LA SOMME DES "CCH"(GRADE COLONNE:B); POUR LE CODE COULEUR:OPINT (CELLULE C2); POUR AUJOURDHUI()= PLAGE G10:CV10; DANS LA PLAGE G11:CV202
C12: Pour CCH et Opint
C13: =SOMMEPROD((planning!$G$10:$CV$10=AUJOURDHUI())*(planning!$G$11:$CV$202=CALCUL!C$2)*(planning!$B$11:$B$202="CCH"))

Sheet planning
F7: Mars | AL7: Avril
F9: ALERTES | G9: 9 | H9: 9 | I9: 9 | J9: 9 | K9: 9 | L9: 9 | M9: 10 | N9: 10 | O9: 10 | P9: 10 | Q9: 10 | R9: 10 | S9: 10 | T9: 11 | U9: 11 | V9: 11 | W9: 11 | X9: 11 | Y9: 11 | Z9: 11 | AA9: 12 | AB9: 12 | AC9: 12 | AD9: 12 | AE9: 12 | AF9: 12 | AG9: 12 | AH9: 13 | AI9: 13 | AJ9: 13 | AK9: 13 | AL9: ALERTES | AM9: 13 | AN9: 13 | AO9: 13 | AP9: 14 | AQ9: 14 | AR9: 14 | AS9: 14 | AT9: 14 | AU9: 14 | AV9: 14 | AW9: 15 | AX9: 15 | AY9: 15 | AZ9: 15 | BA9: 15 | BB9: 15 | BC9: 15 | BD9: 16 | BE9: 16 | BF9: 16 | BG9: 16 | BH9: 16 | BI9: 16 | BJ9: 16 | BK9: 17 | BL9: 17 | BM9: 17 | BN9: 17 | BO9: 17 | BP9: 17
A10: SECTION | B10: GRADE | C10: NOM | D10: PRENOM | E10: FONCTION | G10: 42430 | H10: 42431 | I10: 42432 | J10: 42433 | K10: 42434 | L10: 42435 | M10: 42436 | N10: 42437 | O10: 42438 | P10: 42439 | Q10: 42440 | R10: 42441 | S10: 42442 | T10: 42443 | U10: 42444 | V10: 42445 | W10: 42446 | X10: 42447 | Y10: 42448 | Z10: 42449 | AA10: 42450 | AB10: 42451 | AC10: 42452 | AD10: 42453 | AE10: 42454 | AF10: 42455 | AG10: 42456 | AH10: 42457 | AI10: 42458 | AJ10: 42459 | AK10: 42460 | AM10: 42461 | AN10: 42462 | AO10: 42463 | AP10: 42464 | AQ10: 42465 | AR10: 42466 | AS10: 42467 | AT10: 42468 | AU10: 42469 | AV10: 42470 | AW10: 42471 | AX10: 42472 | AY10: 42473 | AZ10: 42474 | BA10: 42475 | BB10: 42476 | BC10: 42477 | BD10: 42478 | BE10: 42479 | BF10: 42480 | BG10: 42481 | BH10: 42482 | BI10: 42483 | BJ10: 42484 | BK10: 42485 | BL10: 42486 | BM10: 42487 | BN10: 42488 | BO10: 42489 | BP10: 42490
A11: SK | B11: CNE | G11: Prépa ops | H11: Prépa ops | I11: Prépa ops | J11: Prépa ops | K11: Prépa ops | L11: Prépa ops | M11: Prépa ops | N11: Prépa ops | O11: Prépa ops | P11: Prépa ops | Q11: Prépa ops | T11: Prépa ops | U11: Prépa ops | V11: Prépa ops | W11: Prépa ops | X11: Prépa ops | Z11: EI/CP | AA11: Prépa ops | BI11: Permission | BJ11: Permission | BK11: Permission | BL11: Permission | BM11: Permission | BN11: Permission | BO11: Permission | BP11: Permission
A12: SK | B12: ADJ | G12: Prépa ops | H12: Prépa ops | I12: Prépa ops | J12: Prépa ops | K12: Prépa ops | L12: Prépa ops | M12: Prépa ops | N12: Prépa ops | O12: Prépa ops | P12: Prépa ops | Q12: Prépa ops | T12: Stage | U12: Stage | V12: Stage | W12: Stage | X12: Stage | Y12: Stage | Z12: Stage | AA12: Stage | AB12: Stage | AC12: Stage | AD12: Stage | AE12: Stage | AF12: Stage | AG12: Stage | AH12: Stage | AI12: Stage | BG12: EI/CP | BO12: OPInt | BP12: OPInt
A13: SK | B13: ADJ | M13: Stage | N13: Stage | O13: Stage | P13: Stage | Q13: Stage | AA13: EI/CP | AB13: EI/CP | AC13: EI/CP | AD13: EI/CP
A14: SK | B14: CC1 | E14: =SUM((planning!$G$10:$CV$10=TODAY())*(planning!$G$11:$CV$202=CALCUL!$C$2)*(planning!B11:B102="CCH")) -> #VALUE! | M14: Stage | N14: Stage | O14: Stage | P14: Stage | Q14: Stage | R14: Stage | S14: Stage | T14: Stage | U14: Stage | V14: Stage | W14: Stage | X14: Stage | Y14: Stage | Z14: Stage | AA14: Stage | AB14: Stage | AC14: Stage | AD14: Stage | AE14: Stage | AF14: Stage | AG14: Stage | AH14: Stage | AI14: Stage
A15: SK | B15: CC1 | G15: Déta.1erRPIMa | H15: Déta.1erRPIMa | I15: Déta.1erRPIMa | J15: Déta.1erRPIMa | K15: Déta.1erRPIMa | L15: Déta.1erRPIMa | M15: Déta.1erRPIMa | N15: Déta.1erRPIMa | O15: Déta.1erRPIMa | P15: Déta.1erRPIMa | Q15: Déta.1erRPIMa | R15: Déta.1erRPIMa | S15: Déta.1erRPIMa | T15: Déta.1erRPIMa | U15: Déta.1erRPIMa | V15: Déta.1erRPIMa | W15: Déta.1erRPIMa | X15: Déta.1erRPIMa | Y15: Déta.1erRPIMa | Z15: Déta.1erRPIMa | AA15: Déta.1erRPIMa | AB15: Déta.1erRPIMa | AC15: Déta.1erRPIMa | AD15: Déta.1erRPIMa | AE15: Déta.1erRPIMa | AF15: Déta.1erRPIMa | AG15: Déta.1erRPIMa | AH15: Déta.1erRPIMa | AI15: Déta.1erRPIMa
A16: SK | B16: CCH | G16: Prépa ops | H16: Prépa ops | I16: Prépa ops | J16: Prépa ops | K16: Prépa ops | L16: Prépa ops | M16: Prépa ops | N16: Prépa ops | O16: Prépa ops | P16: Prépa ops | Q16: Prépa ops | T16: Prépa ops | U16: Prépa ops | V16: Prépa ops | W16: Prépa ops | X16: Prépa ops | AA16: Prépa ops | AE16: Récupération | AJ16: Non/plus Affecté | AK16: Non/plus Affecté | AM16: Non/plus Affecté | AN16: Non/plus Affecté | AO16: Non/plus Affecté | AP16: Non/plus Affecté | AQ16: Non/plus Affecté | AR16: Non/plus Affecté | AS16: Non/plus Affecté | AT16: Non/plus Affecté | AU16: Non/plus Affecté | AV16: Non/plus Affecté | AW16: Non/plus Affecté | AX16: Non/plus Affecté | AY16: Non/plus Affecté | AZ16: Non/plus Affecté | BA16: Non/plus Affecté | BB16: Non/plus Affecté | BC16: Non/plus Affecté | BD16: Non/plus Affecté | BE16: Non/plus Affecté | BF16: Non/plus Affecté | BG16: Non/plus Affecté | BH16: Non/plus Affecté | BI16: Non/plus Affecté | BJ16: Non/plus Affecté | BK16: Non/plus Affecté | BL16: Non/plus Affecté | BM16: Non/plus Affecté | BN16: Non/plus Affecté | BO16: Non/plus Affecté | BP16: Non/plus Affecté
A17: SK | B17: CCH | G17: Stage | H17: Stage | I17: Stage | J17: Stage | K17: Stage | L17: Stage | M17: Stage | N17: Stage | O17: Stage | P17: Stage | Q17: Stage | R17: Stage | S17: Stage | T17: Stage | U17: Stage | V17: Stage | W17: Stage | X17: Stage | Y17: Stage | Z17: Stage | AA17: Stage | AB17: Stage | AC17: Stage | AD17: Stage | AE17: Stage | AF17: Stage | AG17: Stage | AH17: Stage | AI17: Stage
A18: SK | B18: CPL | G18: Stage | H18: Stage | I18: Stage | J18: Stage | K18: Stage | L18: Stage | M18: Stage | N18: Stage | O18: Stage | P18: Stage | Q18: Stage | R18: Stage | S18: Stage | T18: Stage | U18: Stage | V18: Stage | W18: Stage | X18: Stage | Y18: Stage | Z18: Stage | AA18: Stage | AB18: Stage | AC18: Stage | AD18: Stage | AE18: Stage | AF18: Stage | AG18: Stage | AH18: Stage | AI18: Stage
A19: S1 | B19: ADJ | G19: Prépa ops | H19: Prépa ops | I19: Prépa ops | J19: Prépa ops | K19: Prépa ops | L19: Prépa ops | M19: Prépa ops | N19: Prépa ops | O19: Prépa ops | P19: Prépa ops | Q19: Prépa ops | W19: EI/CP | X19: EI/CP | Y19: EI/CP | Z19: EI/CP | AA19: Prépa ops | AE19: Récupération
A20: S1 | B20: SGT | G20: Prépa ops | H20: Prépa ops | I20: Prépa ops | J20: Prépa ops | K20: Prépa ops | L20: Prépa ops | M20: Prépa ops | N20: Prépa ops | O20: Prépa ops | P20: Prépa ops | Q20: Prépa ops | W20: Armurier | X20: Armurier | Y20: Armurier | Z20: Armurier | AA20: Prépa ops | AB20: Armurier | AC20: Armurier | AD20: Armurier | AE20: Armurier | AF20: Armurier | AG20: Armurier | AH20: Armurier | AI20: Armurier
A21: S1 | B21: SGT | G21: Non/plus Affecté | H21: Non/plus Affecté | I21: Non/plus Affecté | J21: Non/plus Affecté | K21: Non/plus Affecté | L21: Non/plus Affecté | M21: Non/plus Affecté | N21: Non/plus Affecté | O21: Non/plus Affecté | P21: Non/plus Affecté | Q21: Non/plus Affecté | R21: Non/plus Affecté | S21: Non/plus Affecté | T21: Non/plus Affecté | U21: Non/plus Affecté | V21: Non/plus Affecté | W21: Non/plus Affecté | X21: Non/plus Affecté | Y21: Non/plus Affecté | Z21: Non/plus Affecté | AA21: Non/plus Affecté | AB21: Non/plus Affecté | AC21: Non/plus Affecté | AD21: Non/plus Affecté | AE21: Non/plus Affecté | AF21: Non/plus Affecté | AG21: Non/plus Affecté | AH21: Non/plus Affecté | AI21: Non/plus Affecté
A22: S1 | B22: SGT
A23: S1 | B23: SGT
A24: S1 | B24: CC1
A25: S1 | B25: CC1
A26: S1 | B26: CC1
A27: S1 | B27: CCH
A28: S1 | B28: CCH
A29: S1 | B29: CCH
A30: S1 | B30: CPL
A31: S1 | B31: CPL
A32: S1 | B32: CPL
A33: S1 | B33: CPL
... A41: S1 | B41: 1CL
A42: S2 | B42: LTN | N42: Tir | P42: EI/CP | T42: Prépa ops | U42: Prépa ops | V42: Prépa ops | W42: Prépa ops | X42: Prépa ops | AP42: Permission | AQ42: Permission | AR42: Permission | AS42: Permission | AT42: Permission | AU42: Permission | AV42: Permission | BC42: EI/CP | BK42: missions chronophages | BL42: missions chronophages | BM42: missions chronophages
A43: S2 | B43: SCH | G43: Encadrement | H43: Encadrement | I43: Encadrement | J43: Encadrement | K43: Encadrement | L43: Encadrement | M43: Encadrement | N43: Encadrement | O43: Encadrement | P43: Encadrement | Q43: Encadrement | R43: Encadrement | S43: Encadrement | T43: Encadrement | U43: Encadrement | V43: Encadrement | W43: Encadrement | X43: Encadrement | Y43: Encadrement | Z43: Encadrement | AA43: Encadrement | AB43: Encadrement | AC43: Encadrement | AD43: Encadrement | AE43: Encadrement | AF43: Encadrement | AG43: Encadrement | AH43: Encadrement | AI43: Encadrement | AJ43: Encadrement | AK43: Encadrement | AM43: Encadrement | AN43: Encadrement | AO43: Encadrement | AP43: Encadrement | AQ43: Encadrement | AR43: Encadrement | AS43: Encadrement | AT43: Encadrement | AU43: Encadrement | AV43: Encadrement | AW43: Encadrement | AX43: Encadrement | AY43: Encadrement | AZ43: Encadrement | BA43: Encadrement | BB43: Encadrement | BC43: Encadrement | BD43: Encadrement | BE43: Encadrement | BF43: Encadrement | BG43: Encadrement | BH43: Encadrement | BI43: Encadrement | BJ43: Encadrement | BK43: Encadrement | BL43: Encadrement | BM43: Encadrement | BN43: Encadrement | BO43: Encadrement | BP43: Encadrement
A44: S2 | B44: SCH | M44: Stage | N44: Stage | O44: Stage | P44: Stage | Q44: Stage | R44: Stage | S44: Stage | T44: Stage | U44: Stage | V44: Stage | W44: Stage | X44: Stage | Y44: Stage | Z44: Stage | AA44: Stage | AB44: Stage | AC44: Stage | AD44: Stage | AE44: Stage | AF44: Stage | AG44: Stage | AH44: Stage | AI44: Stage | AJ44: Stage | AK44: Stage | AM44: Stage | AN44: Stage | AO44: Stage | AP44: Stage | AQ44: Stage | AR44: Stage | AS44: Stage | AT44: Stage | AU44: Stage | AV44: Stage | AW44: Stage | AX44: Stage | AY44: Stage | AZ44: Stage | BA44: Stage | BB44: Stage | BC44: Stage | BD44: Stage | BE44: Stage | BF44: Stage | BG44: Stage | BH44: Stage | BI44: Stage | BJ44: Stage | BK44: Stage | BL44: Stage | BM44: Stage | BN44: Stage | BO44: Stage | BP44: Stage
A45: S2 | B45: SGT | G45: Encadrement | H45: Encadrement | I45: Encadrement | J45: Encadrement | K45: Encadrement | L45: Encadrement | M45: Encadrement | N45: Encadrement | O45: Encadrement | P45: Encadrement | Q45: Encadrement | R45: Encadrement | S45: Encadrement | T45: Encadrement | U45: Encadrement | V45: Encadrement | W45: Encadrement | X45: Encadrement | Y45: Encadrement | Z45: Encadrement | AA45: Encadrement | AB45: Encadrement | AC45: Encadrement | AD45: Encadrement | AE45: Encadrement | AF45: Encadrement | AG45: Encadrement | AH45: Encadrement | AI45: Encadrement | AJ45: Encadrement | AK45: Encadrement | AM45: Encadrement | AN45: Encadrement | AO45: Encadrement | AP45: Encadrement | AQ45: Encadrement | AR45: Encadrement | AS45: Encadrement | AT45: Encadrement | AU45: Encadrement | AV45: Encadrement | AW45: Permission | AX45: Permission | AY45: Permission | AZ45: Permission | BA45: Permission | BB45: Permission | BC45: Permission | BG45: EI/CP | BH45: EI/CP | BI45: EI/CP | BJ45: EI/CP | BK45: EI/CP | BL45: EI/CP | BM45: EI/CP | BN45: missions chronophages | BO45: missions chronophages
A46: S2 | B46: SGT | J46: Récupération | M46: Récupération | N46: Tir | AM46: OPInt | AN46: OPInt | AO46: OPInt | AP46: Récupération | AW46: OPInt | AX46: OPInt | AZ46: OPInt | BA46: Permission | BB46: Permission | BC46: Permission | BD46: Permission | BE46: Permission | BF46: Permission | BG46: Permission | BH46: Permission | BI46: Permission | BJ46: Permission | BN46: missions chronophages | BO46: missions chronophages
A47: S2 | B47: SGT | G47: Permission | H47: Permission | I47: Permission | J47: Permission | K47: Permission | L47: Permission | Q47: OPEX | R47: OPEX | S47: OPEX | T47: OPEX | U47: OPEX | V47: OPEX | W47: OPEX | X47: OPEX | Y47: OPEX | Z47: OPEX | AA47: OPEX | AB47: OPEX | AC47: OPEX | AD47: OPEX | AE47: OPEX | AF47: OPEX | AG47: OPEX | AH47: OPEX | AI47: OPEX | AJ47: OPEX | AK47: OPEX | AM47: OPEX | AN47: OPEX | AO47: OPEX | AP47: OPEX | AQ47: OPEX | AR47: OPEX | AS47: OPEX | AT47: OPEX | AU47: OPEX | AV47: OPEX | AW47: OPEX | AX47: OPEX | AY47: OPEX | AZ47: OPEX | BA47: OPEX | BB47: OPEX | BC47: OPEX | BD47: OPEX | BE47: OPEX | BF47: OPEX | BG47: OPEX | BH47: OPEX | BI47: OPEX | BJ47: OPEX | BK47: OPEX | BL47: OPEX | BM47: OPEX | BN47: OPEX | BO47: OPEX | BP47: OPEX
A48: S2 | B48: CCH | N48: Tir | T48: Prépa ops | U48: Prépa ops | V48: Prépa ops | W48: Prépa ops | X48: Prépa ops | AK48: EI/CP | AM48: EI/CP | AN48: EI/CP | AO48: EI/CP | AP48: EI/CP | AQ48: EI/CP | AR48: EI/CP | AS48: EI/CP | AT48: Récupération | AZ48: Permission | BA48: Permission | BB48: Permission | BC48: Permission | BI48: Permission | BJ48: Permission | BK48: Permission | BL48: Permission | BM48: Permission | BN48: Permission | BO48: Permission | BP48: Permission
A49: S2 | B49: CCH | G49: OPEX | H49: OPEX | I49: OPEX | J49: OPEX | K49: OPEX | L49: OPEX | M49: OPEX | N49: OPEX | O49: OPEX | P49: OPEX | Q49: OPEX | R49: OPEX | S49: OPEX | T49: OPEX | U49: OPEX | V49: OPEX | W49: OPEX | X49: OPEX | Y49: OPEX | Z49: OPEX | AA49: OPEX | AB49: OPEX | AC49: OPEX | AD49: Permission | AE49: Permission | AF49: Permission | AG49: Permission | AH49: Permission | AI49: Permission | AJ49: Permission | AK49: Permission | AM49: Permission | AN49: Permission | AO49: Permission | AP49: Permission | AQ49: Permission | AR49: Permission | AS49: Permission | AT49: Permission | BK49: Stage | BL49: Stage | BM49: Stage | BO49: OPInt | BP49: OPInt
A50: S2 | B50: CCH | G50: P.Chenil | H50: P.Chenil | I50: P.Chenil | J50: Récupération | L50: missions chronophages | M50: missions chronophages | N50: missions chronophages | Q50: Récupération | AM50: OPInt | AN50: OPInt | AO50: OPInt | AT50: Récupération | AU50: Permission | AV50: Permission | AW50: Permission | AX50: Permission | AY50: Permission | AZ50: Permission | BA50: Permission | BB50: Permission | BC50: Permission | BD50: Permission | BG50: Soutier | BH50: Soutier | BI50: Soutier | BJ50: Soutier | BK50: Stage | BL50: Stage | BM50: Stage | BO50: OPInt | BP50: OPInt
A51: S2 | B51: CPL | I51: Récupération | J51: Récupération | K51: Permission | L51: Permission | M51: Permission | N51: Tir | AD51: P.Chenil | AE51: P.Chenil | AF51: P.Chenil | AG51: P.Chenil | AH51: P.Chenil | AI51: P.Chenil | AJ51: P.Chenil | AK51: P.Chenil | AM51: OPInt | AN51: OPInt | AO51: OPInt | AP51: Récupération | AQ51: Récupération | AR51: Permission | AS51: Permission | AT51: Permission | AU51: Permission | AV51: Permission | AW51: OPInt | AX51: OPInt | AZ51: OPInt | BA51: Armurier | BB51: Armurier | BC51: Armurier | BD51: Armurier | BE51: Armurier | BF51: Armurier | BG51: Armurier | BN51: P.Chenil | BO51: P.Chenil | BP51: P.Chenil
A52: S2 | B52: CPL | N52: Tir | AK52: EI/CP | AM52: EI/CP | AN52: EI/CP | AO52: EI/CP | AP52: EI/CP | AQ52: EI/CP | AR52: EI/CP | AS52: EI/CP | AT52: Récupération | AZ52: Permission | BA52: Permission | BB52: Permission | BC52: Permission | BD52: Permission | BE52: Permission | BF52: Permission | BG52: Permission | BH52: Permission | BI52: Permission | BJ52: Permission | BK52: Permission | BL52: Permission | BM52: Permission | BN52: Permission | BO52: Permission | BP52: Permission
A53: S2 | B53: CPL | J53: Récupération | M53: Récupération | N53: Tir | AM53: OPInt | AN53: OPInt | AO53: OPInt | AP53: Récupération | AS53: P.Chenil | AT53: P.Chenil | AU53: P.Chenil | AV53: P.Chenil | AW53: OPInt | AX53: OPInt | AZ53: OPInt | BA53: Récupération | BD53: Encadrement | BE53: Encadrement | BF53: Encadrement | BG53: Encadrement | BH53: Encadrement | BI53: Permission | BJ53: Permission | BK53: Permission | BL53: Permission | BM53: Permission | BN53: Permission | BO53: Permission | BP53: Permission
A54: S2 | B54: CPL | G54: Permission | H54: Permission | I54: Permission | J54: Permission | K54: Permission | L54: Permission | Q54: OPEX | R54: OPEX | S54: OPEX | T54: OPEX | U54: OPEX | V54: OPEX | W54: OPEX | X54: OPEX | Y54: OPEX | Z54: OPEX | AA54: OPEX | AB54: OPEX | AC54: OPEX | AD54: OPEX | AE54: OPEX | AF54: OPEX | AG54: OPEX | AH54: OPEX | AI54: OPEX | AJ54: OPEX | AK54: OPEX | AM54: OPEX | AN54: OPEX | AO54: OPEX | AP54: OPEX | AQ54: OPEX | AR54: OPEX | AS54: OPEX | AT54: OPEX | AU54: OPEX | AV54: OPEX | AW54: OPEX | AX54: OPEX | AY54: OPEX | AZ54: OPEX | BA54: OPEX | BB54: OPEX | BC54: OPEX | BD54: OPEX | BE54: OPEX | BF54: OPEX | BG54: OPEX | BH54: OPEX | BI54: OPEX | BJ54: OPEX | BK54: OPEX | BL54: OPEX | BM54: OPEX | BN54: OPEX | BO54: OPEX | BP54: OPEX
...
