Workbook

Sheet Évaluation
A2: Evaluation Vitesse Relais 50 mètres et 2x50 mètres Barème de 4ème | F2: Perf. Individuelle 50m / 4 pts | I2: Perf. Collective / 4 pts | L2: Efficacité de Transmission / 6 pts | Q2: CMS / Investissement pdt le cycle / 6 pts
F3: D 1.4 t D 2 | O3: TOTAL | P3: Compétences | T3: TOTAL | U3: Compétences
F4: Je réalise la meilleur performance sur mon 50 mètres | I4: - Indice de réussite de transmission - Différence entre la perforance collective sur 2x50m et l'addition des deux performances individuelles sur 50m. | L4: Donneur / 2 pts | M4: Receveur / 2 pts | N4: Transmission / 2 pts | Q4: Sur 2 pts | R4: Sur 2 pts | S4: Sur 2 pts
L5: - Je connais la partie du couloir ou je cours (en rapport à la main) - Je donne le témoin à vite max - Je sais quand annoncer "hop" | M5: - J'utilise la marque comme signal de départ - Je pars vite sans me retourné (regard vers l'avant) - Je connais mon bras de réception et tend le bras au signal | N5: - La zone de transmission est respectée et le passage s'effectue dans la zone | Q5: Connaitre et appliqué les grands principes de l'échauffement | R5: Respects des consignes, des règles, des partenaires | S5: Investissement dans le travail de groupe | V5: TOTAL
A6: Gpe | B6: Nom | C6: Prénom | D6: Sexe | E6: Perf 2x50m | F6: Tps | G6: Pts | H6: Compét. | I6: Tps | J6: Pts | K6: Compét. | L6: Pts | M6: Pts | N6: Pts | Q6: Pts | R6: Pts | S6: Pts | V6: Sur 20
A7: 1 | D7: M | E7: 16 | F7: 8 | G7: =IF(Évaluation!D7="M",VLOOKUP(F7,Barème!A$5:C$51,3),IF(Évaluation!D7="F",VLOOKUP(F7,Barème!B$5:C$51,2),"")) -> 3 | H7: =IF(G7=0,"DA",IF(G7=0.5,"DA",IF(G7=1,"DA",IF(G7=1.5,"ECA",IF(G7=2,"ECA",IF(G7=2.5,"PA",IF(G7=3,"PA",IF(G7=3.5,"A",IF(G7=4,"A",""))))))))) -> PA | I7: =E7-(F7+F8) -> -1 | J7: =VLOOKUP(I7,Barème!F$5:G$30,2) -> 3.5 | K7: =VLOOKUP(I7,Barème!F$5:H$30,3) -> A | L7: 1 | O7: =L7+M7+N7 -> 1 | P7: =IF(O7=0,"DA",IF(O7=0.5,"DA",IF(O7=1,"DA",IF(O7=1.5,"ECA",IF(O7=2,"ECA",IF(O7=2.5,"PA",IF(O7=3,"PA",IF(O7=3.5,"A",IF(O7=4,"A",IF(O7=4.5,"A",IF(O7=5,"A",IF(O7=5.5,"A",IF(O7=6,"A"))))))))))))) -> DA | Q7: 1 | T7: =Q7+R7+S7 -> 1 | U7: =IF(T7=0,"DA",IF(T7=0.5,"DA",IF(T7=1,"DA",IF(T7=1.5,"ECA",IF(T7=2,"ECA",IF(T7=2.5,"PA",IF(T7=3,"PA",IF(T7=3.5,"A",IF(T7=4,"A",IF(T7=4.5,"A",IF(T7=5,"A",IF(T7=5.5,"A",IF(T7=6,"A"))))))))))))) -> DA | V7: =IFERROR(T7+O7+J7+G7,"") -> 8.5
D8: F | F8: 9 | G8: =IF(Évaluation!D8="M",VLOOKUP(F8,Barème!A$5:C$51,3),IF(Évaluation!D8="F",VLOOKUP(F8,Barème!B$5:C$51,2),"")) -> 3 | H8: =IF(G8=0,"DA",IF(G8=0.5,"DA",IF(G8=1,"DA",IF(G8=1.5,"ECA",IF(G8=2,"ECA",IF(G8=2.5,"PA",IF(G8=3,"PA",IF(G8=3.5,"A",IF(G8=4,"A",""))))))))) -> PA | L8: 2 | O8: =L8+M8+N8 -> 2 | P8: =IF(O8=0,"DA",IF(O8=0.5,"DA",IF(O8=1,"DA",IF(O8=1.5,"ECA",IF(O8=2,"ECA",IF(O8=2.5,"PA",IF(O8=3,"PA",IF(O8=3.5,"A",IF(O8=4,"A",IF(O8=4.5,"A",IF(O8=5,"A",IF(O8=5.5,"A",IF(O8=6,"A"))))))))))))) -> ECA | Q8: 2 | T8: =Q8+R8+S8 -> 2 | U8: =IF(T8=0,"DA",IF(T8=0.5,"DA",IF(T8=1,"DA",IF(T8=1.5,"ECA",IF(T8=2,"ECA",IF(T8=2.5,"PA",IF(T8=3,"PA",IF(T8=3.5,"A",IF(T8=4,"A",IF(T8=4.5,"A",IF(T8=5,"A",IF(T8=5.5,"A",IF(T8=6,"A"))))))))))))) -> ECA | V8: =IFERROR(T8+O8+J8+G8,"") -> 7
A9: =A7+1 -> 2 | D9: M | E9: 18 | F9: 7 | G9: =IF(Évaluation!D9="M",VLOOKUP(F9,Barème!A$5:C$51,3),IF(Évaluation!D9="F",VLOOKUP(F9,Barème!B$5:C$51,2),"")) -> 4 | H9: =IF(G9=0,"DA",IF(G9=0.5,"DA",IF(G9=1,"DA",IF(G9=1.5,"ECA",IF(G9=2,"ECA",IF(G9=2.5,"PA",IF(G9=3,"PA",IF(G9=3.5,"A",IF(G9=4,"A",""))))))))) -> A | I9: =E9-(F9+F10) -> 0 | J9: =VLOOKUP(I9,Barème!F$5:G$30,2) -> 2 | K9: =VLOOKUP(I9,Barème!F$5:H$30,3) -> PA | L9: 4 | O9: =L9+M9+N9 -> 4 | P9: =IF(O9=0,"DA",IF(O9=0.5,"DA",IF(O9=1,"DA",IF(O9=1.5,"ECA",IF(O9=2,"ECA",IF(O9=2.5,"PA",IF(O9=3,"PA",IF(O9=3.5,"A",IF(O9=4,"A",IF(O9=4.5,"A",IF(O9=5,"A",IF(O9=5.5,"A",IF(O9=6,"A"))))))))))))) -> A | Q9: 3 | T9: =Q9+R9+S9 -> 3 | U9: =IF(T9=0,"DA",IF(T9=0.5,"DA",IF(T9=1,"DA",IF(T9=1.5,"ECA",IF(T9=2,"ECA",IF(T9=2.5,"PA",IF(T9=3,"PA",IF(T9=3.5,"A",IF(T9=4,"A",IF(T9=4.5,"A",IF(T9=5,"A",IF(T9=5.5,"A",IF(T9=6,"A"))))))))))))) -> PA | V9: =IFERROR(T9+O9+J9+G9,"") -> 13
D10: M | F10: 11 | G10: =IF(Évaluation!D10="M",VLOOKUP(F10,Barème!A$5:C$51,3),IF(Évaluation!D10="F",VLOOKUP(F10,Barème!B$5:C$51,2),"")) -> 0 | H10: =IF(G10=0,"DA",IF(G10=0.5,"DA",IF(G10=1,"DA",IF(G10=1.5,"ECA",IF(G10=2,"ECA",IF(G10=2.5,"PA",IF(G10=3,"PA",IF(G10=3.5,"A",IF(G10=4,"A",""))))))))) -> DA | L10: 3 | O10: =L10+M10+N10 -> 3 | P10: =IF(O10=0,"DA",IF(O10=0.5,"DA",IF(O10=1,"DA",IF(O10=1.5,"ECA",IF(O10=2,"ECA",IF(O10=2.5,"PA",IF(O10=3,"PA",IF(O10=3.5,"A",IF(O10=4,"A",IF(O10=4.5,"A",IF(O10=5,"A",IF(O10=5.5,"A",IF(O10=6,"A"))))))))))))) -> PA | Q10: 4 | T10: =Q10+R10+S10 -> 4 | U10: =IF(T10=0,"DA",IF(T10=0.5,"DA",IF(T10=1,"DA",IF(T10=1.5,"ECA",IF(T10=2,"ECA",IF(T10=2.5,"PA",IF(T10=3,"PA",IF(T10=3.5,"A",IF(T10=4,"A",IF(T10=4.5,"A",IF(T10=5,"A",IF(T10=5.5,"A",IF(T10=6,"A"))))))))))))) -> A | V10: =IFERROR(T10+O10+J10+G10,"") -> 7
A11: =A9+1 -> 3 | D11: M | E11: 19.5 | F11: 9 | G11: =IF(Évaluation!D11="M",VLOOKUP(F11,Barème!A$5:C$51,3),IF(Évaluation!D11="F",VLOOKUP(F11,Barème!B$5:C$51,2),"")) -> 2 | H11: =IF(G11=0,"DA",IF(G11=0.5,"DA",IF(G11=1,"DA",IF(G11=1.5,"ECA",IF(G11=2,"ECA",IF(G11=2.5,"PA",IF(G11=3,"PA",IF(G11=3.5,"A",IF(G11=4,"A",""))))))))) -> ECA | I11: =E11-(F11+F12) -> 0.5 | J11: =VLOOKUP(I11,Barème!F$5:G$30,2) -> 1 | K11: =VLOOKUP(I11,Barème!F$5:H$30,3) -> ECA | O11: =L11+M11+N11 -> 0 | P11: =IF(O11=0,"DA",IF(O11=0.5,"DA",IF(O11=1,"DA",IF(O11=1.5,"ECA",IF(O11=2,"ECA",IF(O11=2.5,"PA",IF(O11=3,"PA",IF(O11=3.5,"A",IF(O11=4,"A",IF(O11=4.5,"A",IF(O11=5,"A",IF(O11=5.5,"A",IF(O11=6,"A"))))))))))))) -> DA | T11: =Q11+R11+S11 -> 0 | U11: =IF(T11=0,"DA",IF(T11=0.5,"DA",IF(T11=1,"DA",IF(T11=1.5,"ECA",IF(T11=2,"ECA",IF(T11=2.5,"PA",IF(T11=3,"PA",IF(T11=3.5,"A",IF(T11=4,"A",IF(T11=4.5,"A",IF(T11=5,"A",IF(T11=5.5,"A",IF(T11=6,"A"))))))))))))) -> DA | V11: =IFERROR(T11+O11+J11+G11,"") -> 3 | Y11: A
D12: M | F12: 10 | G12: =IF(Évaluation!D12="M",VLOOKUP(F12,Barème!A$5:C$51,3),IF(Évaluation!D12="F",VLOOKUP(F12,Barème!B$5:C$51,2),"")) -> 0.5 | H12: =IF(G12=0,"DA",IF(G12=0.5,"DA",IF(G12=1,"DA",IF(G12=1.5,"ECA",IF(G12=2,"ECA",IF(G12=2.5,"PA",IF(G12=3,"PA",IF(G12=3.5,"A",IF(G12=4,"A",""))))))))) -> DA | O12: =L12+M12+N12 -> 0 | P12: =IF(O12=0,"DA",IF(O12=0.5,"DA",IF(O12=1,"DA",IF(O12=1.5,"ECA",IF(O12=2,"ECA",IF(O12=2.5,"PA",IF(O12=3,"PA",IF(O12=3.5,"A",IF(O12=4,"A",IF(O12=4.5,"A",IF(O12=5,"A",IF(O12=5.5,"A",IF(O12=6,"A"))))))))))))) -> DA | T12: =Q12+R12+S12 -> 0 | U12: =IF(T12=0,"DA",IF(T12=0.5,"DA",IF(T12=1,"DA",IF(T12=1.5,"ECA",IF(T12=2,"ECA",IF(T12=2.5,"PA",IF(T12=3,"PA",IF(T12=3.5,"A",IF(T12=4,"A",IF(T12=4.5,"A",IF(T12=5,"A",IF(T12=5.5,"A",IF(T12=6,"A"))))))))))))) -> DA | V12: =IFERROR(T12+O12+J12+G12,"") -> 0.5 | Y12: PA
A13: =A11+1 -> 4 | D13: M | E13: 18 | F13: 9.2 | G13: =IF(Évaluation!D13="M",VLOOKUP(F13,Barème!A$5:C$51,3),IF(Évaluation!D13="F",VLOOKUP(F13,Barème!B$5:C$51,2),"")) -> 1.5 | H13: =IF(G13=0,"DA",IF(G13=0.5,"DA",IF(G13=1,"DA",IF(G13=1.5,"ECA",IF(G13=2,"ECA",IF(G13=2.5,"PA",IF(G13=3,"PA",IF(G13=3.5,"A",IF(G13=4,"A",""))))))))) -> ECA | I13: =E13-(F13+F14) -> 0.8 | J13: =VLOOKUP(I13,Barème!F$5:G$30,2) -> 0.5 | K13: =VLOOKUP(I13,Barème!F$5:H$30,3) -> DA | O13: =L13+M13+N13 -> 0 | P13: =IF(O13=0,"DA",IF(O13=0.5,"DA",IF(O13=1,"DA",IF(O13=1.5,"ECA",IF(O13=2,"ECA",IF(O13=2.5,"PA",IF(O13=3,"PA",IF(O13=3.5,"A",IF(O13=4,"A",IF(O13=4.5,"A",IF(O13=5,"A",IF(O13=5.5,"A",IF(O13=6,"A"))))))))))))) -> DA | T13: =Q13+R13+S13 -> 0 | U13: =IF(T13=0,"DA",IF(T13=0.5,"DA",IF(T13=1,"DA",IF(T13=1.5,"ECA",IF(T13=2,"ECA",IF(T13=2.5,"PA",IF(T13=3,"PA",IF(T13=3.5,"A",IF(T13=4,"A",IF(T13=4.5,"A",IF(T13=5,"A",IF(T13=5.5,"A",IF(T13=6,"A"))))))))))))) -> DA | V13: =IFERROR(T13+O13+J13+G13,"") -> 2 | Y13: ECA
D14: M | F14: 8 | G14: =IF(Évaluation!D14="M",VLOOKUP(F14,Barème!A$5:C$51,3),IF(Évaluation!D14="F",VLOOKUP(F14,Barème!B$5:C$51,2),"")) -> 3 | H14: =IF(G14=0,"DA",IF(G14=0.5,"DA",IF(G14=1,"DA",IF(G14=1.5,"ECA",IF(G14=2,"ECA",IF(G14=2.5,"PA",IF(G14=3,"PA",IF(G14=3.5,"A",IF(G14=4,"A",""))))))))) -> PA | O14: =L14+M14+N14 -> 0 | P14: =IF(O14=0,"DA",IF(O14=0.5,"DA",IF(O14=1,"DA",IF(O14=1.5,"ECA",IF(O14=2,"ECA",IF(O14=2.5,"PA",IF(O14=3,"PA",IF(O14=3.5,"A",IF(O14=4,"A",IF(O14=4.5,"A",IF(O14=5,"A",IF(O14=5.5,"A",IF(O14=6,"A"))))))))))))) -> DA | T14: =Q14+R14+S14 -> 0 | U14: =IF(T14=0,"DA",IF(T14=0.5,"DA",IF(T14=1,"DA",IF(T14=1.5,"ECA",IF(T14=2,"ECA",IF(T14=2.5,"PA",IF(T14=3,"PA",IF(T14=3.5,"A",IF(T14=4,"A",IF(T14=4.5,"A",IF(T14=5,"A",IF(T14=5.5,"A",IF(T14=6,"A"))))))))))))) -> DA | V14: =IFERROR(T14+O14+J14+G14,"") -> 3 | Y14: DA
A15: =A13+1 -> 5 | G15: =IF(Évaluation!D15="M",VLOOKUP(F15,Barème!A$5:C$51,3),IF(Évaluation!D15="F",VLOOKUP(F15,Barème!B$5:C$51,2),"")) | H15: =IF(G15=0,"DA",IF(G15=0.5,"DA",IF(G15=1,"DA",IF(G15=1.5,"ECA",IF(G15=2,"ECA",IF(G15=2.5,"PA",IF(G15=3,"PA",IF(G15=3.5,"A",IF(G15=4,"A",""))))))))) | I15: =E15-(F15+F16) -> 0 | J15: =VLOOKUP(I15,Barème!F$5:G$30,2) -> 2 | K15: =VLOOKUP(I15,Barème!F$5:H$30,3) -> PA | O15: =L15+M15+N15 -> 0 | P15: =IF(O15=0,"DA",IF(O15=0.5,"DA",IF(O15=1,"DA",IF(O15=1.5,"ECA",IF(O15=2,"ECA",IF(O15=2.5,"PA",IF(O15=3,"PA",IF(O15=3.5,"A",IF(O15=4,"A",IF(O15=4.5,"A",IF(O15=5,"A",IF(O15=5.5,"A",IF(O15=6,"A"))))))))))))) -> DA | T15: =Q15+R15+S15 -> 0 | U15: =IF(T15=0,"DA",IF(T15=0.5,"DA",IF(T15=1,"DA",IF(T15=1.5,"ECA",IF(T15=2,"ECA",IF(T15=2.5,"PA",IF(T15=3,"PA",IF(T15=3.5,"A",IF(T15=4,"A",IF(T15=4.5,"A",IF(T15=5,"A",IF(T15=5.5,"A",IF(T15=6,"A"))))))))))))) -> DA | V15: =IFERROR(T15+O15+J15+G15,"")
G16: =IF(Évaluation!D16="M",VLOOKUP(F16,Barème!A$5:C$51,3),IF(Évaluation!D16="F",VLOOKUP(F16,Barème!B$5:C$51,2),"")) | H16: =IF(G16=0,"DA",IF(G16=0.5,"DA",IF(G16=1,"DA",IF(G16=1.5,"ECA",IF(G16=2,"ECA",IF(G16=2.5,"PA",IF(G16=3,"PA",IF(G16=3.5,"A",IF(G16=4,"A",""))))))))) | O16: =L16+M16+N16 -> 0 | P16: =IF(O16=0,"DA",IF(O16=0.5,"DA",IF(O16=1,"DA",IF(O16=1.5,"ECA",IF(O16=2,"ECA",IF(O16=2.5,"PA",IF(O16=3,"PA",IF(O16=3.5,"A",IF(O16=4,"A",IF(O16=4.5,"A",IF(O16=5,"A",IF(O16=5.5,"A",IF(O16=6,"A"))))))))))))) -> DA | T16: =Q16+R16+S16 -> 0 | U16: =IF(T16=0,"DA",IF(T16=0.5,"DA",IF(T16=1,"DA",IF(T16=1.5,"ECA",IF(T16=2,"ECA",IF(T16=2.5,"PA",IF(T16=3,"PA",IF(T16=3.5,"A",IF(T16=4,"A",IF(T16=4.5,"A",IF(T16=5,"A",IF(T16=5.5,"A",IF(T16=6,"A"))))))))))))) -> DA | V16: =IFERROR(T16+O16+J16+G16,"")
A17: =A15+1 -> 6 | G17: =IF(Évaluation!D17="M",VLOOKUP(F17,Barème!A$5:C$51,3),IF(Évaluation!D17="F",VLOOKUP(F17,Barème!B$5:C$51,2),"")) | H17: =IF(G17=0,"DA",IF(G17=0.5,"DA",IF(G17=1,"DA",IF(G17=1.5,"ECA",IF(G17=2,"ECA",IF(G17=2.5,"PA",IF(G17=3,"PA",IF(G17=3.5,"A",IF(G17=4,"A",""))))))))) | I17: =E17-(F17+F18) -> 0 | J17: =VLOOKUP(I17,Barème!F$5:G$30,2) -> 2 | K17: =VLOOKUP(I17,Barème!F$5:H$30,3) -> PA | O17: =L17+M17+N17 -> 0 | P17: =IF(O17=0,"DA",IF(O17=0.5,"DA",IF(O17=1,"DA",IF(O17=1.5,"ECA",IF(O17=2,"ECA",IF(O17=2.5,"PA",IF(O17=3,"PA",IF(O17=3.5,"A",IF(O17=4,"A",IF(O17=4.5,"A",IF(O17=5,"A",IF(O17=5.5,"A",IF(O17=6,"A"))))))))))))) -> DA | T17: =Q17+R17+S17 -> 0 | U17: =IF(T17=0,"DA",IF(T17=0.5,"DA",IF(T17=1,"DA",IF(T17=1.5,"ECA",IF(T17=2,"ECA",IF(T17=2.5,"PA",IF(T17=3,"PA",IF(T17=3.5,"A",IF(T17=4,"A",IF(T17=4.5,"A",IF(T17=5,"A",IF(T17=5.5,"A",IF(T17=6,"A"))))))))))))) -> DA | V17: =IFERROR(T17+O17+J17+G17,"")
G18: =IF(Évaluation!D18="M",VLOOKUP(F18,Barème!A$5:C$51,3),IF(Évaluation!D18="F",VLOOKUP(F18,Barème!B$5:C$51,2),"")) | H18: =IF(G18=0,"DA",IF(G18=0.5,"DA",IF(G18=1,"DA",IF(G18=1.5,"ECA",IF(G18=2,"ECA",IF(G18=2.5,"PA",IF(G18=3,"PA",IF(G18=3.5,"A",IF(G18=4,"A",""))))))))) | O18: =L18+M18+N18 -> 0 | P18: =IF(O18=0,"DA",IF(O18=0.5,"DA",IF(O18=1,"DA",IF(O18=1.5,"ECA",IF(O18=2,"ECA",IF(O18=2.5,"PA",IF(O18=3,"PA",IF(O18=3.5,"A",IF(O18=4,"A",IF(O18=4.5,"A",IF(O18=5,"A",IF(O18=5.5,"A",IF(O18=6,"A"))))))))))))) -> DA | T18: =Q18+R18+S18 -> 0 | U18: =IF(T18=0,"DA",IF(T18=0.5,"DA",IF(T18=1,"DA",IF(T18=1.5,"ECA",IF(T18=2,"ECA",IF(T18=2.5,"PA",IF(T18=3,"PA",IF(T18=3.5,"A",IF(T18=4,"A",IF(T18=4.5,"A",IF(T18=5,"A",IF(T18=5.5,"A",IF(T18=6,"A"))))))))))))) -> DA | V18: =IFERROR(T18+O18+J18+G18,"")
A19: =A17+1 -> 7 | G19: =IF(Évaluation!D19="M",VLOOKUP(F19,Barème!A$5:C$51,3),IF(Évaluation!D19="F",VLOOKUP(F19,Barème!B$5:C$51,2),"")) | H19: =IF(G19=0,"DA",IF(G19=0.5,"DA",IF(G19=1,"DA",IF(G19=1.5,"ECA",IF(G19=2,"ECA",IF(G19=2.5,"PA",IF(G19=3,"PA",IF(G19=3.5,"A",IF(G19=4,"A",""))))))))) | I19: =E19-(F19+F20) -> 0 | J19: =VLOOKUP(I19,Barème!F$5:G$30,2) -> 2 | K19: =VLOOKUP(I19,Barème!F$5:H$30,3) -> PA | O19: =L19+M19+N19 -> 0 | P19: =IF(O19=0,"DA",IF(O19=0.5,"DA",IF(O19=1,"DA",IF(O19=1.5,"ECA",IF(O19=2,"ECA",IF(O19=2.5,"PA",IF(O19=3,"PA",IF(O19=3.5,"A",IF(O19=4,"A",IF(O19=4.5,"A",IF(O19=5,"A",IF(O19=5.5,"A",IF(O19=6,"A"))))))))))))) -> DA | T19: =Q19+R19+S19 -> 0 | U19: =IF(T19=0,"DA",IF(T19=0.5,"DA",IF(T19=1,"DA",IF(T19=1.5,"ECA",IF(T19=2,"ECA",IF(T19=2.5,"PA",IF(T19=3,"PA",IF(T19=3.5,"A",IF(T19=4,"A",IF(T19=4.5,"A",IF(T19=5,"A",IF(T19=5.5,"A",IF(T19=6,"A"))))))))))))) -> DA | V19: =IFERROR(T19+O19+J19+G19,"")
G20: =IF(Évaluation!D20="M",VLOOKUP(F20,Barème!A$5:C$51,3),IF(Évaluation!D20="F",VLOOKUP(F20,Barème!B$5:C$51,2),"")) | H20: =IF(G20=0,"DA",IF(G20=0.5,"DA",IF(G20=1,"DA",IF(G20=1.5,"ECA",IF(G20=2,"ECA",IF(G20=2.5,"PA",IF(G20=3,"PA",IF(G20=3.5,"A",IF(G20=4,"A",""))))))))) | O20: =L20+M20+N20 -> 0 | P20: =IF(O20=0,"DA",IF(O20=0.5,"DA",IF(O20=1,"DA",IF(O20=1.5,"ECA",IF(O20=2,"ECA",IF(O20=2.5,"PA",IF(O20=3,"PA",IF(O20=3.5,"A",IF(O20=4,"A",IF(O20=4.5,"A",IF(O20=5,"A",IF(O20=5.5,"A",IF(O20=6,"A"))))))))))))) -> DA | T20: =Q20+R20+S20 -> 0 | U20: =IF(T20=0,"DA",IF(T20=0.5,"DA",IF(T20=1,"DA",IF(T20=1.5,"ECA",IF(T20=2,"ECA",IF(T20=2.5,"PA",IF(T20=3,"PA",IF(T20=3.5,"A",IF(T20=4,"A",IF(T20=4.5,"A",IF(T20=5,"A",IF(T20=5.5,"A",IF(T20=6,"A"))))))))))))) -> DA | V20: =IFERROR(T20+O20+J20+G20,"")
A21: =A19+1 -> 8 | G21: =IF(Évaluation!D21="M",VLOOKUP(F21,Barème!A$5:C$51,3),IF(Évaluation!D21="F",VLOOKUP(F21,Barème!B$5:C$51,2),"")) | H21: =IF(G21=0,"DA",IF(G21=0.5,"DA",IF(G21=1,"DA",IF(G21=1.5,"ECA",IF(G21=2,"ECA",IF(G21=2.5,"PA",IF(G21=3,"PA",IF(G21=3.5,"A",IF(G21=4,"A",""))))))))) | I21: =E21-(F21+F22) -> 0 | J21: =VLOOKUP(I21,Barème!F$5:G$30,2) -> 2 | K21: =VLOOKUP(I21,Barème!F$5:H$30,3) -> PA | O21: =L21+M21+N21 -> 0 | P21: =IF(O21=0,"DA",IF(O21=0.5,"DA",IF(O21=1,"DA",IF(O21=1.5,"ECA",IF(O21=2,"ECA",IF(O21=2.5,"PA",IF(O21=3,"PA",IF(O21=3.5,"A",IF(O21=4,"A",IF(O21=4.5,"A",IF(O21=5,"A",IF(O21=5.5,"A",IF(O21=6,"A"))))))))))))) -> DA | T21: =Q21+R21+S21 -> 0 | U21: =IF(T21=0,"DA",IF(T21=0.5,"DA",IF(T21=1,"DA",IF(T21=1.5,"ECA",IF(T21=2,"ECA",IF(T21=2.5,"PA",IF(T21=3,"PA",IF(T21=3.5,"A",IF(T21=4,"A",IF(T21=4.5,"A",IF(T21=5,"A",IF(T21=5.5,"A",IF(T21=6,"A"))))))))))))) -> DA | V21: =IFERROR(T21+O21+J21+G21,"")
G22: =IF(Évaluation!D22="M",VLOOKUP(F22,Barème!A$5:C$51,3),IF(Évaluation!D22="F",VLOOKUP(F22,Barème!B$5:C$51,2),"")) | H22: =IF(G22=0,"DA",IF(G22=0.5,"DA",IF(G22=1,"DA",IF(G22=1.5,"ECA",IF(G22=2,"ECA",IF(G22=2.5,"PA",IF(G22=3,"PA",IF(G22=3.5,"A",IF(G22=4,"A",""))))))))) | O22: =L22+M22+N22 -> 0 | P22: =IF(O22=0,"DA",IF(O22=0.5,"DA",IF(O22=1,"DA",IF(O22=1.5,"ECA",IF(O22=2,"ECA",IF(O22=2.5,"PA",IF(O22=3,"PA",IF(O22=3.5,"A",IF(O22=4,"A",IF(O22=4.5,"A",IF(O22=5,"A",IF(O22=5.5,"A",IF(O22=6,"A"))))))))))))) -> DA | T22: =Q22+R22+S22 -> 0 | U22: =IF(T22=0,"DA",IF(T22=0.5,"DA",IF(T22=1,"DA",IF(T22=1.5,"ECA",IF(T22=2,"ECA",IF(T22=2.5,"PA",IF(T22=3,"PA",IF(T22=3.5,"A",IF(T22=4,"A",IF(T22=4.5,"A",IF(T22=5,"A",IF(T22=5.5,"A",IF(T22=6,"A"))))))))))))) -> DA | V22: =IFERROR(T22+O22+J22+G22,"")
A23: =A21+1 -> 9 | G23: =IF(Évaluation!D23="M",VLOOKUP(F23,Barème!A$5:C$51,3),IF(Évaluation!D23="F",VLOOKUP(F23,Barème!B$5:C$51,2),"")) | H23: =IF(G23=0,"DA",IF(G23=0.5,"DA",IF(G23=1,"DA",IF(G23=1.5,"ECA",IF(G23=2,"ECA",IF(G23=2.5,"PA",IF(G23=3,"PA",IF(G23=3.5,"A",IF(G23=4,"A",""))))))))) | I23: =E23-(F23+F24) -> 0 | J23: =VLOOKUP(I23,Barème!F$5:G$30,2) -> 2 | K23: =VLOOKUP(I23,Barème!F$5:H$30,3) -> PA | O23: =L23+M23+N23 -> 0 | P23: =IF(O23=0,"DA",IF(O23=0.5,"DA",IF(O23=1,"DA",IF(O23=1.5,"ECA",IF(O23=2,"ECA",IF(O23=2.5,"PA",IF(O23=3,"PA",IF(O23=3.5,"A",IF(O23=4,"A",IF(O23=4.5,"A",IF(O23=5,"A",IF(O23=5.5,"A",IF(O23=6,"A"))))))))))))) -> DA | T23: =Q23+R23+S23 -> 0 | U23: =IF(T23=0,"DA",IF(T23=0.5,"DA",IF(T23=1,"DA",IF(T23=1.5,"ECA",IF(T23=2,"ECA",IF(T23=2.5,"PA",IF(T23=3,"PA",IF(T23=3.5,"A",IF(T23=4,"A",IF(T23=4.5,"A",IF(T23=5,"A",IF(T23=5.5,"A",IF(T23=6,"A"))))))))))))) -> DA | V23: =IFERROR(T23+O23+J23+G23,"")
G24: =IF(Évaluation!D24="M",VLOOKUP(F24,Barème!A$5:C$51,3),IF(Évaluation!D24="F",VLOOKUP(F24,Barème!B$5:C$51,2),"")) | H24: =IF(G24=0,"DA",IF(G24=0.5,"DA",IF(G24=1,"DA",IF(G24=1.5,"ECA",IF(G24=2,"ECA",IF(G24=2.5,"PA",IF(G24=3,"PA",IF(G24=3.5,"A",IF(G24=4,"A",""))))))))) | O24: =L24+M24+N24 -> 0 | P24: =IF(O24=0,"DA",IF(O24=0.5,"DA",IF(O24=1,"DA",IF(O24=1.5,"ECA",IF(O24=2,"ECA",IF(O24=2.5,"PA",IF(O24=3,"PA",IF(O24=3.5,"A",IF(O24=4,"A",IF(O24=4.5,"A",IF(O24=5,"A",IF(O24=5.5,"A",IF(O24=6,"A"))))))))))))) -> DA | T24: =Q24+R24+S24 -> 0 | U24: =IF(T24=0,"DA",IF(T24=0.5,"DA",IF(T24=1,"DA",IF(T24=1.5,"ECA",IF(T24=2,"ECA",IF(T24=2.5,"PA",IF(T24=3,"PA",IF(T24=3.5,"A",IF(T24=4,"A",IF(T24=4.5,"A",IF(T24=5,"A",IF(T24=5.5,"A",IF(T24=6,"A"))))))))))))) -> DA | V24: =IFERROR(T24+O24+J24+G24,"")
A25: =A23+1 -> 10 | G25: =IF(Évaluation!D25="M",VLOOKUP(F25,Barème!A$5:C$51,3),IF(Évaluation!D25="F",VLOOKUP(F25,Barème!B$5:C$51,2),"")) | H25: =IF(G25=0,"DA",IF(G25=0.5,"DA",IF(G25=1,"DA",IF(G25=1.5,"ECA",IF(G25=2,"ECA",IF(G25=2.5,"PA",IF(G25=3,"PA",IF(G25=3.5,"A",IF(G25=4,"A",""))))))))) | I25: =E25-(F25+F26) -> 0 | J25: =VLOOKUP(I25,Barème!F$5:G$30,2) -> 2 | K25: =VLOOKUP(I25,Barème!F$5:H$30,3) -> PA | O25: =L25+M25+N25 -> 0 | P25: =IF(O25=0,"DA",IF(O25=0.5,"DA",IF(O25=1,"DA",IF(O25=1.5,"ECA",IF(O25=2,"ECA",IF(O25=2.5,"PA",IF(O25=3,"PA",IF(O25=3.5,"A",IF(O25=4,"A",IF(O25=4.5,"A",IF(O25=5,"A",IF(O25=5.5,"A",IF(O25=6,"A"))))))))))))) -> DA | T25: =Q25+R25+S25 -> 0 | U25: =IF(T25=0,"DA",IF(T25=0.5,"DA",IF(T25=1,"DA",IF(T25=1.5,"ECA",IF(T25=2,"ECA",IF(T25=2.5,"PA",IF(T25=3,"PA",IF(T25=3.5,"A",IF(T25=4,"A",IF(T25=4.5,"A",IF(T25=5,"A",IF(T25=5.5,"A",IF(T25=6,"A"))))))))))))) -> DA | V25: =IFERROR(T25+O25+J25+G25,"")
G26: =IF(Évaluation!D26="M",VLOOKUP(F26,Barème!A$5:C$51,3),IF(Évaluation!D26="F",VLOOKUP(F26,Barème!B$5:C$51,2),"")) | H26: =IF(G26=0,"DA",IF(G26=0.5,"DA",IF(G26=1,"DA",IF(G26=1.5,"ECA",IF(G26=2,"ECA",IF(G26=2.5,"PA",IF(G26=3,"PA",IF(G26=3.5,"A",IF(G26=4,"A",""))))))))) | O26: =L26+M26+N26 -> 0 | P26: =IF(O26=0,"DA",IF(O26=0.5,"DA",IF(O26=1,"DA",IF(O26=1.5,"ECA",IF(O26=2,"ECA",IF(O26=2.5,"PA",IF(O26=3,"PA",IF(O26=3.5,"A",IF(O26=4,"A",IF(O26=4.5,"A",IF(O26=5,"A",IF(O26=5.5,"A",IF(O26=6,"A"))))))))))))) -> DA | T26: =Q26+R26+S26 -> 0 | U26: =IF(T26=0,"DA",IF(T26=0.5,"DA",IF(T26=1,"DA",IF(T26=1.5,"ECA",IF(T26=2,"ECA",IF(T26=2.5,"PA",IF(T26=3,"PA",IF(T26=3.5,"A",IF(T26=4,"A",IF(T26=4.5,"A",IF(T26=5,"A",IF(T26=5.5,"A",IF(T26=6,"A"))))))))))))) -> DA | V26: =IFERROR(T26+O26+J26+G26,"")
A27: =A25+1 -> 11 | G27: =IF(Évaluation!D27="M",VLOOKUP(F27,Barème!A$5:C$51,3),IF(Évaluation!D27="F",VLOOKUP(F27,Barème!B$5:C$51,2),"")) | H27: =IF(G27=0,"DA",IF(G27=0.5,"DA",IF(G27=1,"DA",IF(G27=1.5,"ECA",IF(G27=2,"ECA",IF(G27=2.5,"PA",IF(G27=3,"PA",IF(G27=3.5,"A",IF(G27=4,"A",""))))))))) | I27: =E27-(F27+F28) -> 0 | J27: =VLOOKUP(I27,Barème!F$5:G$30,2) -> 2 | K27: =VLOOKUP(I27,Barème!F$5:H$30,3) -> PA | O27: =L27+M27+N27 -> 0 | P27: =IF(O27=0,"DA",IF(O27=0.5,"DA",IF(O27=1,"DA",IF(O27=1.5,"ECA",IF(O27=2,"ECA",IF(O27=2.5,"PA",IF(O27=3,"PA",IF(O27=3.5,"A",IF(O27=4,"A",IF(O27=4.5,"A",IF(O27=5,"A",IF(O27=5.5,"A",IF(O27=6,"A"))))))))))))) -> DA | T27: =Q27+R27+S27 -> 0 | U27: =IF(T27=0,"DA",IF(T27=0.5,"DA",IF(T27=1,"DA",IF(T27=1.5,"ECA",IF(T27=2,"ECA",IF(T27=2.5,"PA",IF(T27=3,"PA",IF(T27=3.5,"A",IF(T27=4,"A",IF(T27=4.5,"A",IF(T27=5,"A",IF(T27=5.5,"A",IF(T27=6,"A"))))))))))))) -> DA | V27: =IFERROR(T27+O27+J27+G27,"")
G28: =IF(Évaluation!D28="M",VLOOKUP(F28,Barème!A$5:C$51,3),IF(Évaluation!D28="F",VLOOKUP(F28,Barème!B$5:C$51,2),"")) | H28: =IF(G28=0,"DA",IF(G28=0.5,"DA",IF(G28=1,"DA",IF(G28=1.5,"ECA",IF(G28=2,"ECA",IF(G28=2.5,"PA",IF(G28=3,"PA",IF(G28=3.5,"A",IF(G28=4,"A",""))))))))) | O28: =L28+M28+N28 -> 0 | P28: =IF(O28=0,"DA",IF(O28=0.5,"DA",IF(O28=1,"DA",IF(O28=1.5,"ECA",IF(O28=2,"ECA",IF(O28=2.5,"PA",IF(O28=3,"PA",IF(O28=3.5,"A",IF(O28=4,"A",IF(O28=4.5,"A",IF(O28=5,"A",IF(O28=5.5,"A",IF(O28=6,"A"))))))))))))) -> DA | T28: =Q28+R28+S28 -> 0 | U28: =IF(T28=0,"DA",IF(T28=0.5,"DA",IF(T28=1,"DA",IF(T28=1.5,"ECA",IF(T28=2,"ECA",IF(T28=2.5,"PA",IF(T28=3,"PA",IF(T28=3.5,"A",IF(T28=4,"A",IF(T28=4.5,"A",IF(T28=5,"A",IF(T28=5.5,"A",IF(T28=6,"A"))))))))))))) -> DA | V28: =IFERROR(T28+O28+J28+G28,"")
A29: =A27+1 -> 12 | G29: =IF(Évaluation!D29="M",VLOOKUP(F29,Barème!A$5:C$51,3),IF(Évaluation!D29="F",VLOOKUP(F29,Barème!B$5:C$51,2),"")) | H29: =IF(G29=0,"DA",IF(G29=0.5,"DA",IF(G29=1,"DA",IF(G29=1.5,"ECA",IF(G29=2,"ECA",IF(G29=2.5,"PA",IF(G29=3,"PA",IF(G29=3.5,"A",IF(G29=4,"A",""))))))))) | I29: =E29-(F29+F30) -> 0 | J29: =VLOOKUP(I29,Barème!F$5:G$30,2) -> 2 | K29: =VLOOKUP(I29,Barème!F$5:H$30,3) -> PA | O29: =L29+M29+N29 -> 0 | P29: =IF(O29=0,"DA",IF(O29=0.5,"DA",IF(O29=1,"DA",IF(O29=1.5,"ECA",IF(O29=2,"ECA",IF(O29=2.5,"PA",IF(O29=3,"PA",IF(O29=3.5,"A",IF(O29=4,"A",IF(O29=4.5,"A",IF(O29=5,"A",IF(O29=5.5,"A",IF(O29=6,"A"))))))))))))) -> DA | T29: =Q29+R29+S29 -> 0 | U29: =IF(T29=0,"DA",IF(T29=0.5,"DA",IF(T29=1,"DA",IF(T29=1.5,"ECA",IF(T29=2,"ECA",IF(T29=2.5,"PA",IF(T29=3,"PA",IF(T29=3.5,"A",IF(T29=4,"A",IF(T29=4.5,"A",IF(T29=5,"A",IF(T29=5.5,"A",IF(T29=6,"A"))))))))))))) -> DA | V29: =IFERROR(T29+O29+J29+G29,"")
G30: =IF(Évaluation!D30="M",VLOOKUP(F30,Barème!A$5:C$51,3),IF(Évaluation!D30="F",VLOOKUP(F30,Barème!B$5:C$51,2),"")) | H30: =IF(G30=0,"DA",IF(G30=0.5,"DA",IF(G30=1,"DA",IF(G30=1.5,"ECA",IF(G30=2,"ECA",IF(G30=2.5,"PA",IF(G30=3,"PA",IF(G30=3.5,"A",IF(G30=4,"A",""))))))))) | O30: =L30+M30+N30 -> 0 | P30: =IF(O30=0,"DA",IF(O30=0.5,"DA",IF(O30=1,"DA",IF(O30=1.5,"ECA",IF(O30=2,"ECA",IF(O30=2.5,"PA",IF(O30=3,"PA",IF(O30=3.5,"A",IF(O30=4,"A",IF(O30=4.5,"A",IF(O30=5,"A",IF(O30=5.5,"A",IF(O30=6,"A"))))))))))))) -> DA | T30: =Q30+R30+S30 -> 0 | U30: =IF(T30=0,"DA",IF(T30=0.5,"DA",IF(T30=1,"DA",IF(T30=1.5,"ECA",IF(T30=2,"ECA",IF(T30=2.5,"PA",IF(T30=3,"PA",IF(T30=3.5,"A",IF(T30=4,"A",IF(T30=4.5,"A",IF(T30=5,"A",IF(T30=5.5,"A",IF(T30=6,"A"))))))))))))) -> DA | V30: =IFERROR(T30+O30+J30+G30,"")
A31: =A29+1 -> 13 | G31: =IF(Évaluation!D31="M",VLOOKUP(F31,Barème!A$5:C$51,3),IF(Évaluation!D31="F",VLOOKUP(F31,Barème!B$5:C$51,2),"")) | H31: =IF(G31=0,"DA",IF(G31=0.5,"DA",IF(G31=1,"DA",IF(G31=1.5,"ECA",IF(G31=2,"ECA",IF(G31=2.5,"PA",IF(G31=3,"PA",IF(G31=3.5,"A",IF(G31=4,"A",""))))))))) | I31: =E31-(F31+F32) -> 0 | J31: =VLOOKUP(I31,Barème!F$5:G$30,2) -> 2 | K31: =VLOOKUP(I31,Barème!F$5:H$30,3) -> PA | O31: =L31+M31+N31 -> 0 | P31: =IF(O31=0,"DA",IF(O31=0.5,"DA",IF(O31=1,"DA",IF(O31=1.5,"ECA",IF(O31=2,"ECA",IF(O31=2.5,"PA",IF(O31=3,"PA",IF(O31=3.5,"A",IF(O31=4,"A",IF(O31=4.5,"A",IF(O31=5,"A",IF(O31=5.5,"A",IF(O31=6,"A"))))))))))))) -> DA | T31: =Q31+R31+S31 -> 0 | U31: =IF(T31=0,"DA",IF(T31=0.5,"DA",IF(T31=1,"DA",IF(T31=1.5,"ECA",IF(T31=2,"ECA",IF(T31=2.5,"PA",IF(T31=3,"PA",IF(T31=3.5,"A",IF(T31=4,"A",IF(T31=4.5,"A",IF(T31=5,"A",IF(T31=5.5,"A",IF(T31=6,"A"))))))))))))) -> DA | V31: =IFERROR(T31+O31+J31+G31,"")
G32: =IF(Évaluation!D32="M",VLOOKUP(F32,Barème!A$5:C$51,3),IF(Évaluation!D32="F",VLOOKUP(F32,Barème!B$5:C$51,2),"")) | H32: =IF(G32=0,"DA",IF(G32=0.5,"DA",IF(G32=1,"DA",IF(G32=1.5,"ECA",IF(G32=2,"ECA",IF(G32=2.5,"PA",IF(G32=3,"PA",IF(G32=3.5,"A",IF(G32=4,"A",""))))))))) | O32: =L32+M32+N32 -> 0 | P32: =IF(O32=0,"DA",IF(O32=0.5,"DA",IF(O32=1,"DA",IF(O32=1.5,"ECA",IF(O32=2,"ECA",IF(O32=2.5,"PA",IF(O32=3,"PA",IF(O32=3.5,"A",IF(O32=4,"A",IF(O32=4.5,"A",IF(O32=5,"A",IF(O32=5.5,"A",IF(O32=6,"A"))))))))))))) -> DA | T32: =Q32+R32+S32 -> 0 | U32: =IF(T32=0,"DA",IF(T32=0.5,"DA",IF(T32=1,"DA",IF(T32=1.5,"ECA",IF(T32=2,"ECA",IF(T32=2.5,"PA",IF(T32=3,"PA",IF(T32=3.5,"A",IF(T32=4,"A",IF(T32=4.5,"A",IF(T32=5,"A",IF(T32=5.5,"A",IF(T32=6,"A"))))))))))))) -> DA | V32: =IFERROR(T32+O32+J32+G32,"")
A33: =A31+1 -> 14 | G33: =IF(Évaluation!D33="M",VLOOKUP(F33,Barème!A$5:C$51,3),IF(Évaluation!D33="F",VLOOKUP(F33,Barème!B$5:C$51,2),"")) | H33: =IF(G33=0,"DA",IF(G33=0.5,"DA",IF(G33=1,"DA",IF(G33=1.5,"ECA",IF(G33=2,"ECA",IF(G33=2.5,"PA",IF(G33=3,"PA",IF(G33=3.5,"A",IF(G33=4,"A",""))))))))) | I33: =E33-(F33+F34) -> 0 | J33: =VLOOKUP(I33,Barème!F$5:G$30,2) -> 2 | K33: =VLOOKUP(I33,Barème!F$5:H$30,3) -> PA | O33: =L33+M33+N33 -> 0 | P33: =IF(O33=0,"DA",IF(O33=0.5,"DA",IF(O33=1,"DA",IF(O33=1.5,"ECA",IF(O33=2,"ECA",IF(O33=2.5,"PA",IF(O33=3,"PA",IF(O33=3.5,"A",IF(O33=4,"A",IF(O33=4.5,"A",IF(O33=5,"A",IF(O33=5.5,"A",IF(O33=6,"A"))))))))))))) -> DA | T33: =Q33+R33+S33 -> 0 | U33: =IF(T33=0,"DA",IF(T33=0.5,"DA",IF(T33=1,"DA",IF(T33=1.5,"ECA",IF(T33=2,"ECA",IF(T33=2.5,"PA",IF(T33=3,"PA",IF(T33=3.5,"A",IF(T33=4,"A",IF(T33=4.5,"A",IF(T33=5,"A",IF(T33=5.5,"A",IF(T33=6,"A"))))))))))))) -> DA | V33: =IFERROR(T33+O33+J33+G33,"")
G34: =IF(Évaluation!D34="M",VLOOKUP(F34,Barème!A$5:C$51,3),IF(Évaluation!D34="F",VLOOKUP(F34,Barème!B$5:C$51,2),"")) | H34: =IF(G34=0,"DA",IF(G34=0.5,"DA",IF(G34=1,"DA",IF(G34=1.5,"ECA",IF(G34=2,"ECA",IF(G34=2.5,"PA",IF(G34=3,"PA",IF(G34=3.5,"A",IF(G34=4,"A",""))))))))) | O34: =L34+M34+N34 -> 0 | P34: =IF(O34=0,"DA",IF(O34=0.5,"DA",IF(O34=1,"DA",IF(O34=1.5,"ECA",IF(O34=2,"ECA",IF(O34=2.5,"PA",IF(O34=3,"PA",IF(O34=3.5,"A",IF(O34=4,"A",IF(O34=4.5,"A",IF(O34=5,"A",IF(O34=5.5,"A",IF(O34=6,"A"))))))))))))) -> DA | T34: =Q34+R34+S34 -> 0 | U34: =IF(T34=0,"DA",IF(T34=0.5,"DA",IF(T34=1,"DA",IF(T34=1.5,"ECA",IF(T34=2,"ECA",IF(T34=2.5,"PA",IF(T34=3,"PA",IF(T34=3.5,"A",IF(T34=4,"A",IF(T34=4.5,"A",IF(T34=5,"A",IF(T34=5.5,"A",IF(T34=6,"A"))))))))))))) -> DA | V34: =IFERROR(T34+O34+J34+G34,"")
A35: =A33+1 -> 15 | G35: =IF(Évaluation!D35="M",VLOOKUP(F35,Barème!A$5:C$51,3),IF(Évaluation!D35="F",VLOOKUP(F35,Barème!B$5:C$51,2),"")) | H35: =IF(G35=0,"DA",IF(G35=0.5,"DA",IF(G35=1,"DA",IF(G35=1.5,"ECA",IF(G35=2,"ECA",IF(G35=2.5,"PA",IF(G35=3,"PA",IF(G35=3.5,"A",IF(G35=4,"A",""))))))))) | I35: =E35-(F35+F36) -> 0 | J35: =VLOOKUP(I35,Barème!F$5:G$30,2) -> 2 | K35: =VLOOKUP(I35,Barème!F$5:H$30,3) -> PA | O35: =L35+M35+N35 -> 0 | P35: =IF(O35=0,"DA",IF(O35=0.5,"DA",IF(O35=1,"DA",IF(O35=1.5,"ECA",IF(O35=2,"ECA",IF(O35=2.5,"PA",IF(O35=3,"PA",IF(O35=3.5,"A",IF(O35=4,"A",IF(O35=4.5,"A",IF(O35=5,"A",IF(O35=5.5,"A",IF(O35=6,"A"))))))))))))) -> DA | T35: =Q35+R35+S35 -> 0 | U35: =IF(T35=0,"DA",IF(T35=0.5,"DA",IF(T35=1,"DA",IF(T35=1.5,"ECA",IF(T35=2,"ECA",IF(T35=2.5,"PA",IF(T35=3,"PA",IF(T35=3.5,"A",IF(T35=4,"A",IF(T35=4.5,"A",IF(T35=5,"A",IF(T35=5.5,"A",IF(T35=6,"A"))))))))))))) -> DA | V35: =IFERROR(T35+O35+J35+G35,"")
G36: =IF(Évaluation!D36="M",VLOOKUP(F36,Barème!A$5:C$51,3),IF(Évaluation!D36="F",VLOOKUP(F36,Barème!B$5:C$51,2),"")) | H36: =IF(G36=0,"DA",IF(G36=0.5,"DA",IF(G36=1,"DA",IF(G36=1.5,"ECA",IF(G36=2,"ECA",IF(G36=2.5,"PA",IF(G36=3,"PA",IF(G36=3.5,"A",IF(G36=4,"A",""))))))))) | O36: =L36+M36+N36 -> 0 | P36: =IF(O36=0,"DA",IF(O36=0.5,"DA",IF(O36=1,"DA",IF(O36=1.5,"ECA",IF(O36=2,"ECA",IF(O36=2.5,"PA",IF(O36=3,"PA",IF(O36=3.5,"A",IF(O36=4,"A",IF(O36=4.5,"A",IF(O36=5,"A",IF(O36=5.5,"A",IF(O36=6,"A"))))))))))))) -> DA | T36: =Q36+R36+S36 -> 0 | U36: =IF(T36=0,"DA",IF(T36=0.5,"DA",IF(T36=1,"DA",IF(T36=1.5,"ECA",IF(T36=2,"ECA",IF(T36=2.5,"PA",IF(T36=3,"PA",IF(T36=3.5,"A",IF(T36=4,"A",IF(T36=4.5,"A",IF(T36=5,"A",IF(T36=5.5,"A",IF(T36=6,"A"))))))))))))) -> DA | V36: =IFERROR(T36+O36+J36+G36,"")
A37: =A35+1 -> 16 | G37: =IF(Évaluation!D37="M",VLOOKUP(F37,Barème!A$5:C$51,3),IF(Évaluation!D37="F",VLOOKUP(F37,Barème!B$5:C$51,2),"")) | H37: =IF(G37=0,"DA",IF(G37=0.5,"DA",IF(G37=1,"DA",IF(G37=1.5,"ECA",IF(G37=2,"ECA",IF(G37=2.5,"PA",IF(G37=3,"PA",IF(G37=3.5,"A",IF(G37=4,"A",""))))))))) | I37: =E37-(F37+F38) -> 0 | J37: =VLOOKUP(I37,Barème!F$5:G$30,2) -> 2 | K37: =VLOOKUP(I37,Barème!F$5:H$30,3) -> PA | O37: =L37+M37+N37 -> 0 | P37: =IF(O37=0,"DA",IF(O37=0.5,"DA",IF(O37=1,"DA",IF(O37=1.5,"ECA",IF(O37=2,"ECA",IF(O37=2.5,"PA",IF(O37=3,"PA",IF(O37=3.5,"A",IF(O37=4,"A",IF(O37=4.5,"A",IF(O37=5,"A",IF(O37=5.5,"A",IF(O37=6,"A"))))))))))))) -> DA | T37: =Q37+R37+S37 -> 0 | U37: =IF(T37=0,"DA",IF(T37=0.5,"DA",IF(T37=1,"DA",IF(T37=1.5,"ECA",IF(T37=2,"ECA",IF(T37=2.5,"PA",IF(T37=3,"PA",IF(T37=3.5,"A",IF(T37=4,"A",IF(T37=4.5,"A",IF(T37=5,"A",IF(T37=5.5,"A",IF(T37=6,"A"))))))))))))) -> DA | V37: =IFERROR(T37+O37+J37+G37,"")
G38: =IF(Évaluation!D38="M",VLOOKUP(F38,Barème!A$5:C$51,3),IF(Évaluation!D38="F",VLOOKUP(F38,Barème!B$5:C$51,2),"")) | H38: =IF(G38=0,"DA",IF(G38=0.5,"DA",IF(G38=1,"DA",IF(G38=1.5,"ECA",IF(G38=2,"ECA",IF(G38=2.5,"PA",IF(G38=3,"PA",IF(G38=3.5,"A",IF(G38=4,"A",""))))))))) | O38: =L38+M38+N38 -> 0 | P38: =IF(O38=0,"DA",IF(O38=0.5,"DA",IF(O38=1,"DA",IF(O38=1.5,"ECA",IF(O38=2,"ECA",IF(O38=2.5,"PA",IF(O38=3,"PA",IF(O38=3.5,"A",IF(O38=4,"A",IF(O38=4.5,"A",IF(O38=5,"A",IF(O38=5.5,"A",IF(O38=6,"A"))))))))))))) -> DA | T38: =Q38+R38+S38 -> 0 | U38: =IF(T38=0,"DA",IF(T38=0.5,"DA",IF(T38=1,"DA",IF(T38=1.5,"ECA",IF(T38=2,"ECA",IF(T38=2.5,"PA",IF(T38=3,"PA",IF(T38=3.5,"A",IF(T38=4,"A",IF(T38=4.5,"A",IF(T38=5,"A",IF(T38=5.5,"A",IF(T38=6,"A"))))))))))))) -> DA | V38: =IFERROR(T38+O38+J38+G38,"")
A39: =A37+1 -> 17 | G39: =IF(Évaluation!D39="M",VLOOKUP(F39,Barème!A$5:C$51,3),IF(Évaluation!D39="F",VLOOKUP(F39,Barème!B$5:C$51,2),"")) | H39: =IF(G39=0,"DA",IF(G39=0.5,"DA",IF(G39=1,"DA",IF(G39=1.5,"ECA",IF(G39=2,"ECA",IF(G39=2.5,"PA",IF(G39=3,"PA",IF(G39=3.5,"A",IF(G39=4,"A",""))))))))) | I39: =E39-(F39+F40) -> 0 | J39: =VLOOKUP(I39,Barème!F$5:G$30,2) -> 2 | K39: =VLOOKUP(I39,Barème!F$5:H$30,3) -> PA | O39: =L39+M39+N39 -> 0 | P39: =IF(O39=0,"DA",IF(O39=0.5,"DA",IF(O39=1,"DA",IF(O39=1.5,"ECA",IF(O39=2,"ECA",IF(O39=2.5,"PA",IF(O39=3,"PA",IF(O39=3.5,"A",IF(O39=4,"A",IF(O39=4.5,"A",IF(O39=5,"A",IF(O39=5.5,"A",IF(O39=6,"A"))))))))))))) -> DA | T39: =Q39+R39+S39 -> 0 | U39: =IF(T39=0,"DA",IF(T39=0.5,"DA",IF(T39=1,"DA",IF(T39=1.5,"ECA",IF(T39=2,"ECA",IF(T39=2.5,"PA",IF(T39=3,"PA",IF(T39=3.5,"A",IF(T39=4,"A",IF(T39=4.5,"A",IF(T39=5,"A",IF(T39=5.5,"A",IF(T39=6,"A"))))))))))))) -> DA | V39: =IFERROR(T39+O39+J39+G39,"")
G40: =IF(Évaluation!D40="M",VLOOKUP(F40,Barème!A$5:C$51,3),IF(Évaluation!D40="F",VLOOKUP(F40,Barème!B$5:C$51,2),"")) | H40: =IF(G40=0,"DA",IF(G40=0.5,"DA",IF(G40=1,"DA",IF(G40=1.5,"ECA",IF(G40=2,"ECA",IF(G40=2.5,"PA",IF(G40=3,"PA",IF(G40=3.5,"A",IF(G40=4,"A",""))))))))) | O40: =L40+M40+N40 -> 0 | P40: =IF(O40=0,"DA",IF(O40=0.5,"DA",IF(O40=1,"DA",IF(O40=1.5,"ECA",IF(O40=2,"ECA",IF(O40=2.5,"PA",IF(O40=3,"PA",IF(O40=3.5,"A",IF(O40=4,"A",IF(O40=4.5,"A",IF(O40=5,"A",IF(O40=5.5,"A",IF(O40=6,"A"))))))))))))) -> DA | T40: =Q40+R40+S40 -> 0 | U40: =IF(T40=0,"DA",IF(T40=0.5,"DA",IF(T40=1,"DA",IF(T40=1.5,"ECA",IF(T40=2,"ECA",IF(T40=2.5,"PA",IF(T40=3,"PA",IF(T40=3.5,"A",IF(T40=4,"A",IF(T40=4.5,"A",IF(T40=5,"A",IF(T40=5.5,"A",IF(T40=6,"A"))))))))))))) -> DA | V40: =IFERROR(T40+O40+J40+G40,"")
A41: =A39+1 -> 18 | G41: =IF(Évaluation!D41="M",VLOOKUP(F41,Barème!A$5:C$51,3),IF(Évaluation!D41="F",VLOOKUP(F41,Barème!B$5:C$51,2),"")) | H41: =IF(G41=0,"DA",IF(G41=0.5,"DA",IF(G41=1,"DA",IF(G41=1.5,"ECA",IF(G41=2,"ECA",IF(G41=2.5,"PA",IF(G41=3,"PA",IF(G41=3.5,"A",IF(G41=4,"A",""))))))))) | I41: =E41-(F41+F42) -> 0 | J41: =VLOOKUP(I41,Barème!F$5:G$30,2) -> 2 | K41: =VLOOKUP(I41,Barème!F$5:H$30,3) -> PA | O41: =L41+M41+N41 -> 0 | P41: =IF(O41=0,"DA",IF(O41=0.5,"DA",IF(O41=1,"DA",IF(O41=1.5,"ECA",IF(O41=2,"ECA",IF(O41=2.5,"PA",IF(O41=3,"PA",IF(O41=3.5,"A",IF(O41=4,"A",IF(O41=4.5,"A",IF(O41=5,"A",IF(O41=5.5,"A",IF(O41=6,"A"))))))))))))) -> DA | T41: =Q41+R41+S41 -> 0 | U41: =IF(T41=0,"DA",IF(T41=0.5,"DA",IF(T41=1,"DA",IF(T41=1.5,"ECA",IF(T41=2,"ECA",IF(T41=2.5,"PA",IF(T41=3,"PA",IF(T41=3.5,"A",IF(T41=4,"A",IF(T41=4.5,"A",IF(T41=5,"A",IF(T41=5.5,"A",IF(T41=6,"A"))))))))))))) -> DA | V41: =IFERROR(T41+O41+J41+G41,"")
...

Sheet Barème
A2: 50 mètres Perf Indiv /4pts | F2: Barème Perf Collective / 4pts | J2: Efficacité Transmision / 6pts | M2: Investissement / 6pts
A4: Garçons | B4: Filles | C4: Pts | D4: Compétence | F4: Gain de temps | G4: Pts | H4: Compétence | J4: Pts | K4: Compétence | M4: Pts | N4: Compétence
A5: 0 | B5: 0 | C5: 4 | D5: A | F5: -1.5 | G5: 4 | H5: A | J5: 6 | K5: A | M5: 6 | N5: A
A6: 6.5 | B6: 7.5 | C6: 4 | D6: A | F6: =F5+0.1 -> -1.4 | G6: 4 | H6: A | J6: =J5-0.5 -> 5.5 | K6: A | M6: =M5-0.5 -> 5.5 | N6: A
A7: =A6+0.1 -> 6.6 | B7: =B6+0.1 -> 7.6 | C7: 4 | D7: A | F7: =F6+0.1 -> -1.3 | G7: 4 | H7: A | J7: =J6-0.5 -> 5 | K7: A | M7: =M6-0.5 -> 5 | N7: A
A8: =A7+0.1 -> 6.7 | B8: =B7+0.1 -> 7.7 | C8: 4 | D8: A | F8: =F7+0.1 -> -1.2 | G8: 4 | H8: A | J8: =J7-0.5 -> 4.5 | K8: A | M8: =M7-0.5 -> 4.5 | N8: A
A9: =A8+0.1 -> 6.8 | B9: =B8+0.1 -> 7.8 | C9: 4 | D9: A | F9: =F8+0.1 -> -1.1 | G9: 3.5 | H9: A | J9: =J8-0.5 -> 4 | K9: PA | M9: =M8-0.5 -> 4 | N9: PA
A10: =A9+0.1 -> 6.9 | B10: =B9+0.1 -> 7.9 | C10: 4 | D10: A | F10: =F9+0.1 -> -1 | G10: 3.5 | H10: A | J10: =J9-0.5 -> 3.5 | K10: PA | M10: =M9-0.5 -> 3.5 | N10: PA
A11: =A10+0.1 -> 7 | B11: =B10+0.1 -> 8 | C11: 4 | D11: A | F11: =F10+0.1 -> -0.9 | G11: 3.5 | H11: A | J11: =J10-0.5 -> 3 | K11: PA | M11: =M10-0.5 -> 3 | N11: PA
A12: =A11+0.1 -> 7.1 | B12: =B11+0.1 -> 8.1 | C12: 4 | D12: A | F12: =F11+0.1 -> -0.8 | G12: 3.5 | H12: A | J12: =J11-0.5 -> 2.5 | K12: ECA | M12: =M11-0.5 -> 2.5 | N12: ECA
A13: =A12+0.1 -> 7.2 | B13: =B12+0.1 -> 8.2 | C13: 4 | D13: A | F13: =F12+0.1 -> -0.7 | G13: 3 | H13: PA | J13: =J12-0.5 -> 2 | K13: ECA | M13: =M12-0.5 -> 2 | N13: ECA
A14: =A13+0.1 -> 7.3 | B14: =B13+0.1 -> 8.3 | C14: 4 | D14: A | F14: =F13+0.1 -> -0.6 | G14: 3 | H14: PA | J14: =J13-0.5 -> 1.5 | K14: ECA | M14: =M13-0.5 -> 1.5 | N14: ECA
A15: =A14+0.1 -> 7.4 | B15: =B14+0.1 -> 8.4 | C15: 4 | D15: A | F15: =F14+0.1 -> -0.5 | G15: 3 | H15: PA | J15: =J14-0.5 -> 1 | K15: DA | M15: =M14-0.5 -> 1 | N15: DA
A16: 7.5 | B16: 8.5 | C16: 4 | D16: A | F16: =F15+0.1 -> -0.4 | G16: 3 | H16: PA | J16: =J15-0.5 -> 0.5 | K16: DA | M16: =M15-0.5 -> 0.5 | N16: DA
A17: =A16+0.1 -> 7.6 | B17: =B16+0.1 -> 8.6 | C17: 3.5 | D17: A | F17: =F16+0.1 -> -0.3 | G17: 2.5 | H17: PA | J17: =J16-0.5 -> 0 | K17: DA | M17: =M16-0.5 -> 0 | N17: DA
A18: =A17+0.1 -> 7.7 | B18: =B17+0.1 -> 8.7 | C18: 3.5 | D18: A | F18: =F17+0.1 -> -0.2 | G18: 2.5 | H18: PA
A19: =A18+0.1 -> 7.8 | B19: =B18+0.1 -> 8.8 | C19: 3.5 | D19: A | F19: =F18+0.1 -> -0.1 | G19: 2.5 | H19: PA
A20: =A19+0.1 -> 7.9 | B20: =B19+0.1 -> 8.9 | C20: 3.5 | D20: A | F20: 0 | G20: 2 | H20: PA
A21: =A20+0.1 -> 8 | B21: =B20+0.1 -> 9 | C21: 3 | D21: PA | F21: =F20+0.1 -> 0.1 | G21: 1.5 | H21: ECA
A22: =A21+0.1 -> 8.1 | B22: =B21+0.1 -> 9.1 | C22: 3 | D22: PA | F22: =F21+0.1 -> 0.2 | G22: 1.5 | H22: ECA
A23: =A22+0.1 -> 8.2 | B23: =B22+0.1 -> 9.2 | C23: 3 | D23: PA | F23: =F22+0.1 -> 0.3 | G23: 1 | H23: ECA
A24: =A23+0.1 -> 8.3 | B24: =B23+0.1 -> 9.3 | C24: 3 | D24: PA | F24: =F23+0.1 -> 0.4 | G24: 1 | H24: ECA
A25: =A24+0.1 -> 8.4 | B25: =B24+0.1 -> 9.4 | C25: 2.5 | D25: PA | F25: =F24+0.1 -> 0.5 | G25: 1 | H25: ECA
A26: =A25+0.1 -> 8.5 | B26: =B25+0.1 -> 9.5 | C26: 2.5 | D26: PA | F26: =F25+0.1 -> 0.6 | G26: 0.5 | H26: DA
A27: =A26+0.1 -> 8.6 | B27: =B26+0.1 -> 9.6 | C27: 2.5 | D27: PA | F27: =F26+0.1 -> 0.7 | G27: 0.5 | H27: DA
A28: =A27+0.1 -> 8.7 | B28: =B27+0.1 -> 9.7 | C28: 2.5 | D28: PA | F28: =F27+0.1 -> 0.8 | G28: 0.5 | H28: DA
A29: =A28+0.1 -> 8.8 | B29: =B28+0.1 -> 9.8 | C29: 2 | D29: ECA | F29: =F28+0.1 -> 0.9 | G29: 0 | H29: DA
A30: =A29+0.1 -> 8.9 | B30: =B29+0.1 -> 9.9 | C30: 2 | D30: ECA | F30: =F29+0.1 -> 1 | G30: 0 | H30: DA
A31: =A30+0.1 -> 9 | B31: =B30+0.1 -> 10 | C31: 2 | D31: ECA
A32: =A31+0.1 -> 9.1 | B32: =B31+0.1 -> 10.1 | C32: 2 | D32: ECA
A33: =A32+0.1 -> 9.2 | B33: =B32+0.1 -> 10.2 | C33: 1.5 | D33: ECA
A34: =A33+0.1 -> 9.3 | B34: =B33+0.1 -> 10.3 | C34: 1.5 | D34: ECA
A35: =A34+0.1 -> 9.4 | B35: =B34+0.1 -> 10.4 | C35: 1.5 | D35: ECA
A36: =A35+0.1 -> 9.5 | B36: =B35+0.1 -> 10.5 | C36: 1.5 | D36: ECA
A37: =A36+0.1 -> 9.6 | B37: =B36+0.1 -> 10.6 | C37: 1 | D37: DA
A38: =A37+0.1 -> 9.7 | B38: =B37+0.1 -> 10.7 | C38: 1 | D38: DA
A39: =A38+0.1 -> 9.8 | B39: =B38+0.1 -> 10.8 | C39: 1 | D39: DA
A40: =A39+0.1 -> 9.9 | B40: =B39+0.1 -> 10.9 | C40: 1 | D40: DA
A41: =A40+0.1 -> 10 | B41: =B40+0.1 -> 11 | C41: 0.5 | D41: DA
A42: =A41+0.1 -> 10.1 | B42: =B41+0.1 -> 11.1 | C42: 0.5 | D42: DA
...
