Workbook
Name Bissextile: Lune!#REF!
Name NBO: Lune!#REF!

Sheet Janvier
A1: =IF(Feuil13!C2<>"",UPPER(TEXT(DATE(Feuil13!C2,1,1),"mmmm")),"") -> JANVIER
A2: =DATE(Feuil13!C2,1,1) -> 43831 | B2: =UPPER(TEXT($A2,"jjjj")) -> MERCREDI | C2: Ste Marie | D2: =IF(WEEKDAY($A2,2)<>1,"",_xlfn.ISOWEEKNUM($A2)) | E2: =IFERROR(INDEX(Lune!$A:$A,MATCH($A2,Lune!$C:$C,0)),"") | F2: =IFERROR(UPPER(INDEX(Feuil13!$B:$B,MATCH(A2,Feuil13!$C:$C,0))),"") -> JOURS DE L'AN
A3: =IF(EOMONTH($A2,0)>$A2,$A2+1,"") -> 43832 | B3: =UPPER(TEXT($A3,"jjjj")) -> JEUDI | C3: St Basile | D3: =IF(WEEKDAY($A3,2)<>1,"",_xlfn.ISOWEEKNUM($A3)) | E3: =IFERROR(INDEX(Lune!$A:$A,MATCH($A3,Lune!$C:$C,0)),"") | F3: =IFERROR(UPPER(INDEX(Feuil13!$B:$B,MATCH(A3,Feuil13!$C:$C,0))),"")
A4: =IF(EOMONTH($A3,0)>$A3,$A3+1,"") -> 43833 | B4: =UPPER(TEXT($A4,"jjjj")) -> VENDREDI | C4: Ste Geneviève | D4: =IF(WEEKDAY($A4,2)<>1,"",_xlfn.ISOWEEKNUM($A4)) | E4: =IFERROR(INDEX(Lune!$A:$A,MATCH($A4,Lune!$C:$C,0)),"") -> ‚ | F4: =IFERROR(UPPER(INDEX(Feuil13!$B:$B,MATCH(A4,Feuil13!$C:$C,0))),"")
A5: =IF(EOMONTH($A4,0)>$A4,$A4+1,"") -> 43834 | B5: =UPPER(TEXT($A5,"jjjj")) -> SAMEDI | C5: St Odilon | D5: =IF(WEEKDAY($A5,2)<>1,"",_xlfn.ISOWEEKNUM($A5)) | E5: =IFERROR(INDEX(Lune!$A:$A,MATCH($A5,Lune!$C:$C,0)),"") | F5: =IFERROR(UPPER(INDEX(Feuil13!$B:$B,MATCH(A5,Feuil13!$C:$C,0))),"")
A6: =IF(EOMONTH($A5,0)>$A5,$A5+1,"") -> 43835 | B6: =UPPER(TEXT($A6,"jjjj")) -> DIMANCHE | C6: St Edouard | D6: =IF(WEEKDAY($A6,2)<>1,"",_xlfn.ISOWEEKNUM($A6)) | E6: =IFERROR(INDEX(Lune!$A:$A,MATCH($A6,Lune!$C:$C,0)),"") | F6: =IFERROR(UPPER(INDEX(Feuil13!$B:$B,MATCH(A6,Feuil13!$C:$C,0))),"")
A7: =IF(EOMONTH($A6,0)>$A6,$A6+1,"") -> 43836 | B7: =UPPER(TEXT($A7,"jjjj")) -> LUNDI | C7: Ste Tiphaine | D7: =IF(WEEKDAY($A7,2)<>1,"",_xlfn.ISOWEEKNUM($A7)) -> 2 | E7: =IFERROR(INDEX(Lune!$A:$A,MATCH($A7,Lune!$C:$C,0)),"") | F7: =IFERROR(UPPER(INDEX(Feuil13!$B:$B,MATCH(A7,Feuil13!$C:$C,0))),"") -> ÉPIPHANIE
A8: =IF(EOMONTH($A7,0)>$A7,$A7+1,"") -> 43837 | B8: =UPPER(TEXT($A8,"jjjj")) -> MARDI | C8: St Raymond | D8: =IF(WEEKDAY($A8,2)<>1,"",_xlfn.ISOWEEKNUM($A8)) | E8: =IFERROR(INDEX(Lune!$A:$A,MATCH($A8,Lune!$C:$C,0)),"") | F8: =IFERROR(UPPER(INDEX(Feuil13!$B:$B,MATCH(A8,Feuil13!$C:$C,0))),"")
A9: =IF(EOMONTH($A8,0)>$A8,$A8+1,"") -> 43838 | B9: =UPPER(TEXT($A9,"jjjj")) -> MERCREDI | C9: St Lucien | D9: =IF(WEEKDAY($A9,2)<>1,"",_xlfn.ISOWEEKNUM($A9)) | E9: =IFERROR(INDEX(Lune!$A:$A,MATCH($A9,Lune!$C:$C,0)),"") | F9: =IFERROR(UPPER(INDEX(Feuil13!$B:$B,MATCH(A9,Feuil13!$C:$C,0))),"")
A10: =IF(EOMONTH($A9,0)>$A9,$A9+1,"") -> 43839 | B10: =UPPER(TEXT($A10,"jjjj")) -> JEUDI | C10: Ste Alix | D10: =IF(WEEKDAY($A10,2)<>1,"",_xlfn.ISOWEEKNUM($A10)) | E10: =IFERROR(INDEX(Lune!$A:$A,MATCH($A10,Lune!$C:$C,0)),"") | F10: =IFERROR(UPPER(INDEX(Feuil13!$B:$B,MATCH(A10,Feuil13!$C:$C,0))),"")
A11: =IF(EOMONTH($A10,0)>$A10,$A10+1,"") -> 43840 | B11: =UPPER(TEXT($A11,"jjjj")) -> VENDREDI | C11: St Guillaume | D11: =IF(WEEKDAY($A11,2)<>1,"",_xlfn.ISOWEEKNUM($A11)) | E11: =IFERROR(INDEX(Lune!$A:$A,MATCH($A11,Lune!$C:$C,0)),"") ->  | F11: =IFERROR(UPPER(INDEX(Feuil13!$B:$B,MATCH(A11,Feuil13!$C:$C,0))),"")
A12: =IF(EOMONTH($A11,0)>$A11,$A11+1,"") -> 43841 | B12: =UPPER(TEXT($A12,"jjjj")) -> SAMEDI | C12: St Paulin | D12: =IF(WEEKDAY($A12,2)<>1,"",_xlfn.ISOWEEKNUM($A12)) | E12: =IFERROR(INDEX(Lune!$A:$A,MATCH($A12,Lune!$C:$C,0)),"") | F12: =IFERROR(UPPER(INDEX(Feuil13!$B:$B,MATCH(A12,Feuil13!$C:$C,0))),"")
A13: =IF(EOMONTH($A12,0)>$A12,$A12+1,"") -> 43842 | B13: =UPPER(TEXT($A13,"jjjj")) -> DIMANCHE | C13: Ste Tatiana | D13: =IF(WEEKDAY($A13,2)<>1,"",_xlfn.ISOWEEKNUM($A13)) | E13: =IFERROR(INDEX(Lune!$A:$A,MATCH($A13,Lune!$C:$C,0)),"") | F13: =IFERROR(UPPER(INDEX(Feuil13!$B:$B,MATCH(A13,Feuil13!$C:$C,0))),"")
A14: =IF(EOMONTH($A13,0)>$A13,$A13+1,"") -> 43843 | B14: =UPPER(TEXT($A14,"jjjj")) -> LUNDI | C14: Ste Yvette | D14: =IF(WEEKDAY($A14,2)<>1,"",_xlfn.ISOWEEKNUM($A14)) -> 3 | E14: =IFERROR(INDEX(Lune!$A:$A,MATCH($A14,Lune!$C:$C,0)),"") | F14: =IFERROR(UPPER(INDEX(Feuil13!$B:$B,MATCH(A14,Feuil13!$C:$C,0))),"")
... A32: =IF(EOMONTH($A31,0)>$A31,$A31+1,"") -> 43861 | B32: =UPPER(TEXT($A32,"jjjj")) -> VENDREDI | C32: Ste Marcelle | D32: =IF(WEEKDAY($A32,2)<>1,"",_xlfn.ISOWEEKNUM($A32)) | E32: =IFERROR(INDEX(Lune!$A:$A,MATCH($A32,Lune!$C:$C,0)),"") | F32: =IFERROR(UPPER(INDEX(Feuil13!$B:$B,MATCH(A32,Feuil13!$C:$C,0))),"")

Sheet Février
A1: =IF(Feuil13!C2<>"",UPPER(TEXT(DATE(Feuil13!C2,2,1),"mmmm")),"") -> FÉVRIER
A2: =DATE(Feuil13!C2,2,1) -> 43862 | B2: =UPPER(TEXT($A2,"jjjj")) -> SAMEDI | C2: Ste Ella | D2: =IF(WEEKDAY($A2,2)<>1,"",_xlfn.ISOWEEKNUM($A2)) | E2: =IFERROR(INDEX(Lune!$A:$A,MATCH($A2,Lune!$C:$C,0)),"") -> ‚ | F2: =IFERROR(UPPER(INDEX(Feuil13!$B:$B,MATCH(A2,Feuil13!$C:$C,0))),"")
A3: =IF(EOMONTH($A2,0)>$A2,$A2+1,"") -> 43863 | B3: =UPPER(TEXT($A3,"jjjj")) -> DIMANCHE | C3: Ste Theophanie | D3: =IF(WEEKDAY($A3,2)<>1,"",_xlfn.ISOWEEKNUM($A3)) | E3: =IFERROR(INDEX(Lune!$A:$A,MATCH($A3,Lune!$C:$C,0)),"") | F3: =IFERROR(UPPER(INDEX(Feuil13!$B:$B,MATCH(A3,Feuil13!$C:$C,0))),"") -> CHANDELEUR
A4: =IF(EOMONTH($A3,0)>$A3,$A3+1,"") -> 43864 | B4: =UPPER(TEXT($A4,"jjjj")) -> LUNDI | C4: St Blaise | D4: =IF(WEEKDAY($A4,2)<>1,"",_xlfn.ISOWEEKNUM($A4)) -> 6 | E4: =IFERROR(INDEX(Lune!$A:$A,MATCH($A4,Lune!$C:$C,0)),"") | F4: =IFERROR(UPPER(INDEX(Feuil13!$B:$B,MATCH(A4,Feuil13!$C:$C,0))),"")
A5: =IF(EOMONTH($A4,0)>$A4,$A4+1,"") -> 43865 | B5: =UPPER(TEXT($A5,"jjjj")) -> MARDI | C5: Ste Véronique | D5: =IF(WEEKDAY($A5,2)<>1,"",_xlfn.ISOWEEKNUM($A5)) | E5: =IFERROR(INDEX(Lune!$A:$A,MATCH($A5,Lune!$C:$C,0)),"") | F5: =IFERROR(UPPER(INDEX(Feuil13!$B:$B,MATCH(A5,Feuil13!$C:$C,0))),"")
A6: =IF(EOMONTH($A5,0)>$A5,$A5+1,"") -> 43866 | B6: =UPPER(TEXT($A6,"jjjj")) -> MERCREDI | C6: Ste Agathe | D6: =IF(WEEKDAY($A6,2)<>1,"",_xlfn.ISOWEEKNUM($A6)) | E6: =IFERROR(INDEX(Lune!$A:$A,MATCH($A6,Lune!$C:$C,0)),"") | F6: =IFERROR(UPPER(INDEX(Feuil13!$B:$B,MATCH(A6,Feuil13!$C:$C,0))),"")
A7: =IF(EOMONTH($A6,0)>$A6,$A6+1,"") -> 43867 | B7: =UPPER(TEXT($A7,"jjjj")) -> JEUDI | C7: St Gaston | D7: =IF(WEEKDAY($A7,2)<>1,"",_xlfn.ISOWEEKNUM($A7)) | E7: =IFERROR(INDEX(Lune!$A:$A,MATCH($A7,Lune!$C:$C,0)),"") | F7: =IFERROR(UPPER(INDEX(Feuil13!$B:$B,MATCH(A7,Feuil13!$C:$C,0))),"")
A8: =IF(EOMONTH($A7,0)>$A7,$A7+1,"") -> 43868 | B8: =UPPER(TEXT($A8,"jjjj")) -> VENDREDI | C8: Ste Eugénie | D8: =IF(WEEKDAY($A8,2)<>1,"",_xlfn.ISOWEEKNUM($A8)) | E8: =IFERROR(INDEX(Lune!$A:$A,MATCH($A8,Lune!$C:$C,0)),"") | F8: =IFERROR(UPPER(INDEX(Feuil13!$B:$B,MATCH(A8,Feuil13!$C:$C,0))),"")
A9: =IF(EOMONTH($A8,0)>$A8,$A8+1,"") -> 43869 | B9: =UPPER(TEXT($A9,"jjjj")) -> SAMEDI | C9: Ste Jacqueline | D9: =IF(WEEKDAY($A9,2)<>1,"",_xlfn.ISOWEEKNUM($A9)) | E9: =IFERROR(INDEX(Lune!$A:$A,MATCH($A9,Lune!$C:$C,0)),"") | F9: =IFERROR(UPPER(INDEX(Feuil13!$B:$B,MATCH(A9,Feuil13!$C:$C,0))),"")
A10: =IF(EOMONTH($A9,0)>$A9,$A9+1,"") -> 43870 | B10: =UPPER(TEXT($A10,"jjjj")) -> DIMANCHE | C10: Ste Appoline | D10: =IF(WEEKDAY($A10,2)<>1,"",_xlfn.ISOWEEKNUM($A10)) | E10: =IFERROR(INDEX(Lune!$A:$A,MATCH($A10,Lune!$C:$C,0)),"") ->  | F10: =IFERROR(UPPER(INDEX(Feuil13!$B:$B,MATCH(A10,Feuil13!$C:$C,0))),"")
A11: =IF(EOMONTH($A10,0)>$A10,$A10+1,"") -> 43871 | B11: =UPPER(TEXT($A11,"jjjj")) -> LUNDI | C11: St Arnaud | D11: =IF(WEEKDAY($A11,2)<>1,"",_xlfn.ISOWEEKNUM($A11)) -> 7 | E11: =IFERROR(INDEX(Lune!$A:$A,MATCH($A11,Lune!$C:$C,0)),"") | F11: =IFERROR(UPPER(INDEX(Feuil13!$B:$B,MATCH(A11,Feuil13!$C:$C,0))),"")
A12: =IF(EOMONTH($A11,0)>$A11,$A11+1,"") -> 43872 | B12: =UPPER(TEXT($A12,"jjjj")) -> MARDI | C12: N-D Lourdes | D12: =IF(WEEKDAY($A12,2)<>1,"",_xlfn.ISOWEEKNUM($A12)) | E12: =IFERROR(INDEX(Lune!$A:$A,MATCH($A12,Lune!$C:$C,0)),"") | F12: =IFERROR(UPPER(INDEX(Feuil13!$B:$B,MATCH(A12,Feuil13!$C:$C,0))),"")
A13: =IF(EOMONTH($A12,0)>$A12,$A12+1,"") -> 43873 | B13: =UPPER(TEXT($A13,"jjjj")) -> MERCREDI | C13: St Felix | D13: =IF(WEEKDAY($A13,2)<>1,"",_xlfn.ISOWEEKNUM($A13)) | E13: =IFERROR(INDEX(Lune!$A:$A,MATCH($A13,Lune!$C:$C,0)),"") | F13: =IFERROR(UPPER(INDEX(Feuil13!$B:$B,MATCH(A13,Feuil13!$C:$C,0))),"")
A14: =IF(EOMONTH($A13,0)>$A13,$A13+1,"") -> 43874 | B14: =UPPER(TEXT($A14,"jjjj")) -> JEUDI | C14: Ste Béatrice | D14: =IF(WEEKDAY($A14,2)<>1,"",_xlfn.ISOWEEKNUM($A14)) | E14: =IFERROR(INDEX(Lune!$A:$A,MATCH($A14,Lune!$C:$C,0)),"") | F14: =IFERROR(UPPER(INDEX(Feuil13!$B:$B,MATCH(A14,Feuil13!$C:$C,0))),"")
... A30: =IF(EOMONTH($A29,0)>$A29,$A29+1,"") -> 43890 | B30: =UPPER(TEXT($A30,"jjjj")) -> SAMEDI | C30: St Auguste | D30: =IF(WEEKDAY($A30,2)<>1,"",_xlfn.ISOWEEKNUM($A30)) | E30: =IFERROR(INDEX(Lune!$A:$A,MATCH($A30,Lune!$C:$C,0)),"") | F30: =IFERROR(UPPER(INDEX(Feuil13!$B:$B,MATCH(A30,Feuil13!$C:$C,0))),"")

Sheet Mars
A1: =IF(Feuil13!C2<>"",UPPER(TEXT(DATE(Feuil13!C2,3,1),"mmmm")),"") -> MARS
A2: =DATE(Feuil13!C2,3,1) -> 43891 | B2: =UPPER(TEXT($A2,"jjjj")) -> DIMANCHE | C2: St Aubin | D2: =IF(WEEKDAY($A2,2)<>1,"",_xlfn.ISOWEEKNUM($A2)) | E2: =IFERROR(INDEX(Lune!$A:$A,MATCH($A2,Lune!$C:$C,0)),"") | F2: =IFERROR(UPPER(INDEX(Feuil13!$B:$B,MATCH(A2,Feuil13!$C:$C,0))),"") & IF($A2=LEFT(INDEX(Feuil13!K:K,MATCH(Feuil13!$C$2,Feuil13!J:J,0)),5)*1,"PRINTEMPS","") -> FÊTE DES GRANDS-MÈRES | G2: =IFERROR(INDEX(Feuil13!K:K,MATCH(Feuil13!C2,Feuil13!J:J,0)),"") -> 43910.128 | H2: =IF($A2=LEFT(INDEX(Feuil13!K:K,MATCH(Feuil13!$C$2,Feuil13!J:J,0)),5)*1,"PRINTEMPS","") | I2: =IFERROR(UPPER(INDEX(Feuil13!$B:$B,MATCH(A2,Feuil13!$C:$C,0))),"") -> FÊTE DES GRANDS-MÈRES | M2: =OR(IFERROR(UPPER(INDEX(Feuil13!$B:$B,MATCH(A2,Feuil13!$C:$C,0))),""),IFERROR(UPPER(INDEX(Feuil13!$K:$K,MATCH(A2,Feuil13!$J:$J,0))),"")) -> #VALUE!
A3: =IF(EOMONTH($A2,0)>$A2,$A2+1,"") -> 43892 | B3: =UPPER(TEXT($A3,"jjjj")) -> LUNDI | C3: St Charles le Bon | D3: =IF(WEEKDAY($A3,2)<>1,"",_xlfn.ISOWEEKNUM($A3)) -> 10 | E3: =IFERROR(INDEX(Lune!$A:$A,MATCH($A3,Lune!$C:$C,0)),"") -> ‚ | F3: =IFERROR(UPPER(INDEX(Feuil13!$B:$B,MATCH(A3,Feuil13!$C:$C,0))),"") & IF($A3=LEFT(INDEX(Feuil13!K:K,MATCH(Feuil13!$C$2,Feuil13!J:J,0)),5)*1,"PRINTEMPS","") | G3: =IFERROR(INDEX(Feuil13!K:K,MATCH(Feuil13!C3,Feuil13!J:J,0)),"") | H3: =IF($A3=LEFT(INDEX(Feuil13!K:K,MATCH(Feuil13!$C$2,Feuil13!J:J,0)),5)*1,"PRINTEMPS","")
A4: =IF(EOMONTH($A3,0)>$A3,$A3+1,"") -> 43893 | B4: =UPPER(TEXT($A4,"jjjj")) -> MARDI | C4: St Guénolé | D4: =IF(WEEKDAY($A4,2)<>1,"",_xlfn.ISOWEEKNUM($A4)) | E4: =IFERROR(INDEX(Lune!$A:$A,MATCH($A4,Lune!$C:$C,0)),"") | F4: =IFERROR(UPPER(INDEX(Feuil13!$B:$B,MATCH(A4,Feuil13!$C:$C,0))),"") & IF($A4=LEFT(INDEX(Feuil13!K:K,MATCH(Feuil13!$C$2,Feuil13!J:J,0)),5)*1,"PRINTEMPS","") | G4: =IFERROR(INDEX(Feuil13!K:K,MATCH(Feuil13!C4,Feuil13!J:J,0)),"") | H4: =IF($A4=LEFT(INDEX(Feuil13!K:K,MATCH(Feuil13!$C$2,Feuil13!J:J,0)),5)*1,"PRINTEMPS","")
A5: =IF(EOMONTH($A4,0)>$A4,$A4+1,"") -> 43894 | B5: =UPPER(TEXT($A5,"jjjj")) -> MERCREDI | C5: St Casimir | D5: =IF(WEEKDAY($A5,2)<>1,"",_xlfn.ISOWEEKNUM($A5)) | E5: =IFERROR(INDEX(Lune!$A:$A,MATCH($A5,Lune!$C:$C,0)),"") | F5: =IFERROR(UPPER(INDEX(Feuil13!$B:$B,MATCH(A5,Feuil13!$C:$C,0))),"") & IF($A5=LEFT(INDEX(Feuil13!K:K,MATCH(Feuil13!$C$2,Feuil13!J:J,0)),5)*1,"PRINTEMPS","") | G5: =IFERROR(INDEX(Feuil13!K:K,MATCH(Feuil13!C5,Feuil13!J:J,0)),"") | H5: =IF($A5=LEFT(INDEX(Feuil13!K:K,MATCH(Feuil13!$C$2,Feuil13!J:J,0)),5)*1,"PRINTEMPS","")
A6: =IF(EOMONTH($A5,0)>$A5,$A5+1,"") -> 43895 | B6: =UPPER(TEXT($A6,"jjjj")) -> JEUDI | C6: Ste Olive | D6: =IF(WEEKDAY($A6,2)<>1,"",_xlfn.ISOWEEKNUM($A6)) | E6: =IFERROR(INDEX(Lune!$A:$A,MATCH($A6,Lune!$C:$C,0)),"") | F6: =IFERROR(UPPER(INDEX(Feuil13!$B:$B,MATCH(A6,Feuil13!$C:$C,0))),"") & IF($A6=LEFT(INDEX(Feuil13!K:K,MATCH(Feuil13!$C$2,Feuil13!J:J,0)),5)*1,"PRINTEMPS","") | G6: =IFERROR(INDEX(Feuil13!K:K,MATCH(Feuil13!C6,Feuil13!J:J,0)),"") | H6: =IF($A6=LEFT(INDEX(Feuil13!K:K,MATCH(Feuil13!$C$2,Feuil13!J:J,0)),5)*1,"PRINTEMPS","") | I6: =IF(INDEX(Feuil13!K:K,MATCH(Feuil13!C2,Feuil13!J:J,0))<>"","PRINTEMPS","") -> PRINTEMPS
A7: =IF(EOMONTH($A6,0)>$A6,$A6+1,"") -> 43896 | B7: =UPPER(TEXT($A7,"jjjj")) -> VENDREDI | C7: Ste Colette | D7: =IF(WEEKDAY($A7,2)<>1,"",_xlfn.ISOWEEKNUM($A7)) | E7: =IFERROR(INDEX(Lune!$A:$A,MATCH($A7,Lune!$C:$C,0)),"") | F7: =IFERROR(UPPER(INDEX(Feuil13!$B:$B,MATCH(A7,Feuil13!$C:$C,0))),"") & IF($A7=LEFT(INDEX(Feuil13!K:K,MATCH(Feuil13!$C$2,Feuil13!J:J,0)),5)*1,"PRINTEMPS","") | G7: =IFERROR(INDEX(Feuil13!K:K,MATCH(Feuil13!C7,Feuil13!J:J,0)),"") | H7: =IF($A7=LEFT(INDEX(Feuil13!K:K,MATCH(Feuil13!$C$2,Feuil13!J:J,0)),5)*1,"PRINTEMPS","")
A8: =IF(EOMONTH($A7,0)>$A7,$A7+1,"") -> 43897 | B8: =UPPER(TEXT($A8,"jjjj")) -> SAMEDI | C8: Ste Félicité | D8: =IF(WEEKDAY($A8,2)<>1,"",_xlfn.ISOWEEKNUM($A8)) | E8: =IFERROR(INDEX(Lune!$A:$A,MATCH($A8,Lune!$C:$C,0)),"") | F8: =IFERROR(UPPER(INDEX(Feuil13!$B:$B,MATCH(A8,Feuil13!$C:$C,0))),"") & IF($A8=LEFT(INDEX(Feuil13!K:K,MATCH(Feuil13!$C$2,Feuil13!J:J,0)),5)*1,"PRINTEMPS","") | G8: =IFERROR(INDEX(Feuil13!K:K,MATCH(Feuil13!C8,Feuil13!J:J,0)),"") | H8: =IF($A8=LEFT(INDEX(Feuil13!K:K,MATCH(Feuil13!$C$2,Feuil13!J:J,0)),5)*1,"PRINTEMPS","")
A9: =IF(EOMONTH($A8,0)>$A8,$A8+1,"") -> 43898 | B9: =UPPER(TEXT($A9,"jjjj")) -> DIMANCHE | C9: St Jean de Dieu | D9: =IF(WEEKDAY($A9,2)<>1,"",_xlfn.ISOWEEKNUM($A9)) | E9: =IFERROR(INDEX(Lune!$A:$A,MATCH($A9,Lune!$C:$C,0)),"") | F9: =IFERROR(UPPER(INDEX(Feuil13!$B:$B,MATCH(A9,Feuil13!$C:$C,0))),"") & IF($A9=LEFT(INDEX(Feuil13!K:K,MATCH(Feuil13!$C$2,Feuil13!J:J,0)),5)*1,"PRINTEMPS","") | G9: =IFERROR(INDEX(Feuil13!K:K,MATCH(Feuil13!C9,Feuil13!J:J,0)),"") | H9: =IF($A9=LEFT(INDEX(Feuil13!K:K,MATCH(Feuil13!$C$2,Feuil13!J:J,0)),5)*1,"PRINTEMPS","") | I9: ="Printemps "&INDEX(Feuil13!K:K,MATCH(Feuil13!C2,Feuil13!J:J,0)) -> Printemps 43910,1277777778
A10: =IF(EOMONTH($A9,0)>$A9,$A9+1,"") -> 43899 | B10: =UPPER(TEXT($A10,"jjjj")) -> LUNDI | C10: St Françoise | D10: =IF(WEEKDAY($A10,2)<>1,"",_xlfn.ISOWEEKNUM($A10)) -> 11 | E10: =IFERROR(INDEX(Lune!$A:$A,MATCH($A10,Lune!$C:$C,0)),"") ->  | F10: =IFERROR(UPPER(INDEX(Feuil13!$B:$B,MATCH(A10,Feuil13!$C:$C,0))),"") & IF($A10=LEFT(INDEX(Feuil13!K:K,MATCH(Feuil13!$C$2,Feuil13!J:J,0)),5)*1,"PRINTEMPS","") | G10: =IFERROR(INDEX(Feuil13!K:K,MATCH(Feuil13!C10,Feuil13!J:J,0)),"") | H10: =IF($A10=LEFT(INDEX(Feuil13!K:K,MATCH(Feuil13!$C$2,Feuil13!J:J,0)),5)*1,"PRINTEMPS","")
A11: =IF(EOMONTH($A10,0)>$A10,$A10+1,"") -> 43900 | B11: =UPPER(TEXT($A11,"jjjj")) -> MARDI | C11: St Vivien | D11: =IF(WEEKDAY($A11,2)<>1,"",_xlfn.ISOWEEKNUM($A11)) | E11: =IFERROR(INDEX(Lune!$A:$A,MATCH($A11,Lune!$C:$C,0)),"") | F11: =IFERROR(UPPER(INDEX(Feuil13!$B:$B,MATCH(A11,Feuil13!$C:$C,0))),"") & IF($A11=LEFT(INDEX(Feuil13!K:K,MATCH(Feuil13!$C$2,Feuil13!J:J,0)),5)*1,"PRINTEMPS","") | G11: =IFERROR(INDEX(Feuil13!K:K,MATCH(Feuil13!C11,Feuil13!J:J,0)),"") | H11: =IF($A11=LEFT(INDEX(Feuil13!K:K,MATCH(Feuil13!$C$2,Feuil13!J:J,0)),5)*1,"PRINTEMPS","")
A12: =IF(EOMONTH($A11,0)>$A11,$A11+1,"") -> 43901 | B12: =UPPER(TEXT($A12,"jjjj")) -> MERCREDI | C12: Ste Rosine | D12: =IF(WEEKDAY($A12,2)<>1,"",_xlfn.ISOWEEKNUM($A12)) | E12: =IFERROR(INDEX(Lune!$A:$A,MATCH($A12,Lune!$C:$C,0)),"") | F12: =IFERROR(UPPER(INDEX(Feuil13!$B:$B,MATCH(A12,Feuil13!$C:$C,0))),"") & IF($A12=LEFT(INDEX(Feuil13!K:K,MATCH(Feuil13!$C$2,Feuil13!J:J,0)),5)*1,"PRINTEMPS","") | G12: =IFERROR(INDEX(Feuil13!K:K,MATCH(Feuil13!C12,Feuil13!J:J,0)),"") | H12: =IF($A12=LEFT(INDEX(Feuil13!K:K,MATCH(Feuil13!$C$2,Feuil13!J:J,0)),5)*1,"PRINTEMPS","")
A13: =IF(EOMONTH($A12,0)>$A12,$A12+1,"") -> 43902 | B13: =UPPER(TEXT($A13,"jjjj")) -> JEUDI | C13: Ste Justine | D13: =IF(WEEKDAY($A13,2)<>1,"",_xlfn.ISOWEEKNUM($A13)) | E13: =IFERROR(INDEX(Lune!$A:$A,MATCH($A13,Lune!$C:$C,0)),"") | F13: =IFERROR(UPPER(INDEX(Feuil13!$B:$B,MATCH(A13,Feuil13!$C:$C,0))),"") & IF($A13=LEFT(INDEX(Feuil13!K:K,MATCH(Feuil13!$C$2,Feuil13!J:J,0)),5)*1,"PRINTEMPS","") | G13: =IFERROR(INDEX(Feuil13!K:K,MATCH(Feuil13!C13,Feuil13!J:J,0)),"") | H13: =IF($A13=LEFT(INDEX(Feuil13!K:K,MATCH(Feuil13!$C$2,Feuil13!J:J,0)),5)*1,"PRINTEMPS","") | I13: =INDEX(Feuil13!K:K,MATCH(Feuil13!C2,Feuil13!J:J,0)) -> 43910.128
A14: =IF(EOMONTH($A13,0)>$A13,$A13+1,"") -> 43903 | B14: =UPPER(TEXT($A14,"jjjj")) -> VENDREDI | C14: St Rodrigue | D14: =IF(WEEKDAY($A14,2)<>1,"",_xlfn.ISOWEEKNUM($A14)) | E14: =IFERROR(INDEX(Lune!$A:$A,MATCH($A14,Lune!$C:$C,0)),"") | F14: =IFERROR(UPPER(INDEX(Feuil13!$B:$B,MATCH(A14,Feuil13!$C:$C,0))),"") & IF($A14=LEFT(INDEX(Feuil13!K:K,MATCH(Feuil13!$C$2,Feuil13!J:J,0)),5)*1,"PRINTEMPS","") | G14: =IFERROR(INDEX(Feuil13!K:K,MATCH(Feuil13!C14,Feuil13!J:J,0)),"") | H14: =IF($A14=LEFT(INDEX(Feuil13!K:K,MATCH(Feuil13!$C$2,Feuil13!J:J,0)),5)*1,"PRINTEMPS","")
A15: =IF(EOMONTH($A14,0)>$A14,$A14+1,"") -> 43904 | B15: =UPPER(TEXT($A15,"jjjj")) -> SAMEDI | C15: Ste Mathilde | D15: =IF(WEEKDAY($A15,2)<>1,"",_xlfn.ISOWEEKNUM($A15)) | E15: =IFERROR(INDEX(Lune!$A:$A,MATCH($A15,Lune!$C:$C,0)),"") | F15: =IFERROR(UPPER(INDEX(Feuil13!$B:$B,MATCH(A15,Feuil13!$C:$C,0))),"") & IF($A15=LEFT(INDEX(Feuil13!K:K,MATCH(Feuil13!$C$2,Feuil13!J:J,0)),5)*1,"PRINTEMPS","") | G15: =IFERROR(INDEX(Feuil13!K:K,MATCH(Feuil13!C15,Feuil13!J:J,0)),"") | H15: =IF($A15=LEFT(INDEX(Feuil13!K:K,MATCH(Feuil13!$C$2,Feuil13!J:J,0)),5)*1,"PRINTEMPS","")
A16: =IF(EOMONTH($A15,0)>$A15,$A15+1,"") -> 43905 | B16: =UPPER(TEXT($A16,"jjjj")) -> DIMANCHE | C16: St Louise | D16: =IF(WEEKDAY($A16,2)<>1,"",_xlfn.ISOWEEKNUM($A16)) | E16: =IFERROR(INDEX(Lune!$A:$A,MATCH($A16,Lune!$C:$C,0)),"") | F16: =IFERROR(UPPER(INDEX(Feuil13!$B:$B,MATCH(A16,Feuil13!$C:$C,0))),"") & IF($A16=LEFT(INDEX(Feuil13!K:K,MATCH(Feuil13!$C$2,Feuil13!J:J,0)),5)*1,"PRINTEMPS","") | G16: =IFERROR(INDEX(Feuil13!K:K,MATCH(Feuil13!C16,Feuil13!J:J,0)),"") | H16: =IF($A16=LEFT(INDEX(Feuil13!K:K,MATCH(Feuil13!$C$2,Feuil13!J:J,0)),5)*1,"PRINTEMPS","")
A17: =IF(EOMONTH($A16,0)>$A16,$A16+1,"") -> 43906 | B17: =UPPER(TEXT($A17,"jjjj")) -> LUNDI | C17: Ste Bénédicte | D17: =IF(WEEKDAY($A17,2)<>1,"",_xlfn.ISOWEEKNUM($A17)) -> 12 | E17: =IFERROR(INDEX(Lune!$A:$A,MATCH($A17,Lune!$C:$C,0)),"") -> ƒ | F17: =IFERROR(UPPER(INDEX(Feuil13!$B:$B,MATCH(A17,Feuil13!$C:$C,0))),"") & IF($A17=LEFT(INDEX(Feuil13!K:K,MATCH(Feuil13!$C$2,Feuil13!J:J,0)),5)*1,"PRINTEMPS","") | G17: =IFERROR(INDEX(Feuil13!K:K,MATCH(Feuil13!C17,Feuil13!J:J,0)),"") | H17: =IF($A17=LEFT(INDEX(Feuil13!K:K,MATCH(Feuil13!$C$2,Feuil13!J:J,0)),5)*1,"PRINTEMPS","")
A18: =IF(EOMONTH($A17,0)>$A17,$A17+1,"") -> 43907 | B18: =UPPER(TEXT($A18,"jjjj")) -> MARDI | C18: St Patrice | D18: =IF(WEEKDAY($A18,2)<>1,"",_xlfn.ISOWEEKNUM($A18)) | E18: =IFERROR(INDEX(Lune!$A:$A,MATCH($A18,Lune!$C:$C,0)),"") | F18: =IFERROR(UPPER(INDEX(Feuil13!$B:$B,MATCH(A18,Feuil13!$C:$C,0))),"") & IF($A18=LEFT(INDEX(Feuil13!K:K,MATCH(Feuil13!$C$2,Feuil13!J:J,0)),5)*1,"PRINTEMPS","") | G18: =IFERROR(INDEX(Feuil13!K:K,MATCH(Feuil13!C18,Feuil13!J:J,0)),"") | H18: =IF($A18=LEFT(INDEX(Feuil13!K:K,MATCH(Feuil13!$C$2,Feuil13!J:J,0)),5)*1,"PRINTEMPS","")
A19: =IF(EOMONTH($A18,0)>$A18,$A18+1,"") -> 43908 | B19: =UPPER(TEXT($A19,"jjjj")) -> MERCREDI | C19: Ste Cyrille | D19: =IF(WEEKDAY($A19,2)<>1,"",_xlfn.ISOWEEKNUM($A19)) | E19: =IFERROR(INDEX(Lune!$A:$A,MATCH($A19,Lune!$C:$C,0)),"") | F19: =IFERROR(UPPER(INDEX(Feuil13!$B:$B,MATCH(A19,Feuil13!$C:$C,0))),"") & IF($A19=LEFT(INDEX(Feuil13!K:K,MATCH(Feuil13!$C$2,Feuil13!J:J,0)),5)*1,"PRINTEMPS","") | G19: =IFERROR(INDEX(Feuil13!K:K,MATCH(Feuil13!C19,Feuil13!J:J,0)),"") | H19: =IF($A19=LEFT(INDEX(Feuil13!K:K,MATCH(Feuil13!$C$2,Feuil13!J:J,0)),5)*1,"PRINTEMPS","")
A20: =IF(EOMONTH($A19,0)>$A19,$A19+1,"") -> 43909 | B20: =UPPER(TEXT($A20,"jjjj")) -> JEUDI | C20: St Joseph | D20: =IF(WEEKDAY($A20,2)<>1,"",_xlfn.ISOWEEKNUM($A20)) | E20: =IFERROR(INDEX(Lune!$A:$A,MATCH($A20,Lune!$C:$C,0)),"") | F20: =IFERROR(UPPER(INDEX(Feuil13!$B:$B,MATCH(A20,Feuil13!$C:$C,0))),"") & IF($A20=LEFT(INDEX(Feuil13!K:K,MATCH(Feuil13!$C$2,Feuil13!J:J,0)),5)*1,"PRINTEMPS","") | G20: =IFERROR(INDEX(Feuil13!K:K,MATCH(Feuil13!C20,Feuil13!J:J,0)),"") | H20: =IF($A20=LEFT(INDEX(Feuil13!K:K,MATCH(Feuil13!$C$2,Feuil13!J:J,0)),5)*1,"PRINTEMPS","")
A21: =IF(EOMONTH($A20,0)>$A20,$A20+1,"") -> 43910 | B21: =UPPER(TEXT($A21,"jjjj")) -> VENDREDI | C21: Ste Alessandra | D21: =IF(WEEKDAY($A21,2)<>1,"",_xlfn.ISOWEEKNUM($A21)) | E21: =IFERROR(INDEX(Lune!$A:$A,MATCH($A21,Lune!$C:$C,0)),"") | F21: =IFERROR(UPPER(INDEX(Feuil13!$B:$B,MATCH(A21,Feuil13!$C:$C,0))),"") & IF($A21=LEFT(INDEX(Feuil13!K:K,MATCH(Feuil13!$C$2,Feuil13!J:J,0)),5)*1,"PRINTEMPS","") -> PRINTEMPS | G21: =IFERROR(INDEX(Feuil13!K:K,MATCH(Feuil13!C21,Feuil13!J:J,0)),"")
A22: =IF(EOMONTH($A21,0)>$A21,$A21+1,"") -> 43911 | B22: =UPPER(TEXT($A22,"jjjj")) -> SAMEDI | C22: Ste Clémence | D22: =IF(WEEKDAY($A22,2)<>1,"",_xlfn.ISOWEEKNUM($A22)) | E22: =IFERROR(INDEX(Lune!$A:$A,MATCH($A22,Lune!$C:$C,0)),"") | F22: =IFERROR(UPPER(INDEX(Feuil13!$B:$B,MATCH(A22,Feuil13!$C:$C,0))),"") & IF($A22=LEFT(INDEX(Feuil13!K:K,MATCH(Feuil13!$C$2,Feuil13!J:J,0)),5)*1,"PRINTEMPS","") | G22: =IFERROR(INDEX(Feuil13!K:K,MATCH(Feuil13!C22,Feuil13!J:J,0)),"")
A23: =IF(EOMONTH($A22,0)>$A22,$A22+1,"") -> 43912 | B23: =UPPER(TEXT($A23,"jjjj")) -> DIMANCHE | C23: Ste Léa | D23: =IF(WEEKDAY($A23,2)<>1,"",_xlfn.ISOWEEKNUM($A23)) | E23: =IFERROR(INDEX(Lune!$A:$A,MATCH($A23,Lune!$C:$C,0)),"") | F23: =IFERROR(UPPER(INDEX(Feuil13!$B:$B,MATCH(A23,Feuil13!$C:$C,0))),"") & IF($A23=LEFT(INDEX(Feuil13!K:K,MATCH(Feuil13!$C$2,Feuil13!J:J,0)),5)*1,"PRINTEMPS","") | G23: =IFERROR(INDEX(Feuil13!K:K,MATCH(Feuil13!C23,Feuil13!J:J,0)),"")
A24: =IF(EOMONTH($A23,0)>$A23,$A23+1,"") -> 43913 | B24: =UPPER(TEXT($A24,"jjjj")) -> LUNDI | C24: St Victorien | D24: =IF(WEEKDAY($A24,2)<>1,"",_xlfn.ISOWEEKNUM($A24)) -> 13 | E24: =IFERROR(INDEX(Lune!$A:$A,MATCH($A24,Lune!$C:$C,0)),"") | F24: =IFERROR(UPPER(INDEX(Feuil13!$B:$B,MATCH(A24,Feuil13!$C:$C,0))),"") & IF($A24=LEFT(INDEX(Feuil13!K:K,MATCH(Feuil13!$C$2,Feuil13!J:J,0)),5)*1,"PRINTEMPS","") | G24: =IFERROR(INDEX(Feuil13!K:K,MATCH(Feuil13!C24,Feuil13!J:J,0)),"") | H24: =IF($A24=LEFT(INDEX(Feuil13!K:K,MATCH(Feuil13!$C$2,Feuil13!J:J,0)),5)*1,"PRINTEMPS","")
A25: =IF(EOMONTH($A24,0)>$A24,$A24+1,"") -> 43914 | B25: =UPPER(TEXT($A25,"jjjj")) -> MARDI | C25: Ste Cath. De Suède | D25: =IF(WEEKDAY($A25,2)<>1,"",_xlfn.ISOWEEKNUM($A25)) | E25: =IFERROR(INDEX(Lune!$A:$A,MATCH($A25,Lune!$C:$C,0)),"") ->  | F25: =IFERROR(UPPER(INDEX(Feuil13!$B:$B,MATCH(A25,Feuil13!$C:$C,0))),"") & IF($A25=LEFT(INDEX(Feuil13!K:K,MATCH(Feuil13!$C$2,Feuil13!J:J,0)),5)*1,"PRINTEMPS","") | G25: =IFERROR(INDEX(Feuil13!K:K,MATCH(Feuil13!C25,Feuil13!J:J,0)),"") | H25: =IF($A25=LEFT(INDEX(Feuil13!K:K,MATCH(Feuil13!$C$2,Feuil13!J:J,0)),5)*1,"PRINTEMPS","")
A26: =IF(EOMONTH($A25,0)>$A25,$A25+1,"") -> 43915 | B26: =UPPER(TEXT($A26,"jjjj")) -> MERCREDI | C26: Annonciation | D26: =IF(WEEKDAY($A26,2)<>1,"",_xlfn.ISOWEEKNUM($A26)) | E26: =IFERROR(INDEX(Lune!$A:$A,MATCH($A26,Lune!$C:$C,0)),"") | F26: =IFERROR(UPPER(INDEX(Feuil13!$B:$B,MATCH(A26,Feuil13!$C:$C,0))),"") & IF($A26=LEFT(INDEX(Feuil13!K:K,MATCH(Feuil13!$C$2,Feuil13!J:J,0)),5)*1,"PRINTEMPS","") | G26: =IFERROR(INDEX(Feuil13!K:K,MATCH(Feuil13!C26,Feuil13!J:J,0)),"") | H26: =IF($A26=LEFT(INDEX(Feuil13!K:K,MATCH(Feuil13!$C$2,Feuil13!J:J,0)),5)*1,"PRINTEMPS","")
A27: =IF(EOMONTH($A26,0)>$A26,$A26+1,"") -> 43916 | B27: =UPPER(TEXT($A27,"jjjj")) -> JEUDI | C27: Ste Larissa | D27: =IF(WEEKDAY($A27,2)<>1,"",_xlfn.ISOWEEKNUM($A27)) | E27: =IFERROR(INDEX(Lune!$A:$A,MATCH($A27,Lune!$C:$C,0)),"") | F27: =IFERROR(UPPER(INDEX(Feuil13!$B:$B,MATCH(A27,Feuil13!$C:$C,0))),"") & IF($A27=LEFT(INDEX(Feuil13!K:K,MATCH(Feuil13!$C$2,Feuil13!J:J,0)),5)*1,"PRINTEMPS","") | G27: =IFERROR(INDEX(Feuil13!K:K,MATCH(Feuil13!C27,Feuil13!J:J,0)),"") | H27: =IF($A27=LEFT(INDEX(Feuil13!K:K,MATCH(Feuil13!$C$2,Feuil13!J:J,0)),5)*1,"PRINTEMPS","")
A28: =IF(EOMONTH($A27,0)>$A27,$A27+1,"") -> 43917 | B28: =UPPER(TEXT($A28,"jjjj")) -> VENDREDI | C28: St Habib | D28: =IF(WEEKDAY($A28,2)<>1,"",_xlfn.ISOWEEKNUM($A28)) | E28: =IFERROR(INDEX(Lune!$A:$A,MATCH($A28,Lune!$C:$C,0)),"") | F28: =IFERROR(UPPER(INDEX(Feuil13!$B:$B,MATCH(A28,Feuil13!$C:$C,0))),"") & IF($A28=LEFT(INDEX(Feuil13!K:K,MATCH(Feuil13!$C$2,Feuil13!J:J,0)),5)*1,"PRINTEMPS","") | G28: =IFERROR(INDEX(Feuil13!K:K,MATCH(Feuil13!C28,Feuil13!J:J,0)),"") | H28: =IF($A28=LEFT(INDEX(Feuil13!K:K,MATCH(Feuil13!$C$2,Feuil13!J:J,0)),5)*1,"PRINTEMPS","")
A29: =IF(EOMONTH($A28,0)>$A28,$A28+1,"") -> 43918 | B29: =UPPER(TEXT($A29,"jjjj")) -> SAMEDI | C29: Rameaux | D29: =IF(WEEKDAY($A29,2)<>1,"",_xlfn.ISOWEEKNUM($A29)) | E29: =IFERROR(INDEX(Lune!$A:$A,MATCH($A29,Lune!$C:$C,0)),"") | F29: =IFERROR(UPPER(INDEX(Feuil13!$B:$B,MATCH(A29,Feuil13!$C:$C,0))),"") & IF($A29=LEFT(INDEX(Feuil13!K:K,MATCH(Feuil13!$C$2,Feuil13!J:J,0)),5)*1,"PRINTEMPS","") | G29: =IFERROR(INDEX(Feuil13!K:K,MATCH(Feuil13!C29,Feuil13!J:J,0)),"") | H29: =IF($A29=LEFT(INDEX(Feuil13!K:K,MATCH(Feuil13!$C$2,Feuil13!J:J,0)),5)*1,"PRINTEMPS","")
A30: =IF(EOMONTH($A29,0)>$A29,$A29+1,"") -> 43919 | B30: =UPPER(TEXT($A30,"jjjj")) -> DIMANCHE | C30: Ste Gwladys | D30: =IF(WEEKDAY($A30,2)<>1,"",_xlfn.ISOWEEKNUM($A30)) | E30: =IFERROR(INDEX(Lune!$A:$A,MATCH($A30,Lune!$C:$C,0)),"") | F30: =IFERROR(UPPER(INDEX(Feuil13!$B:$B,MATCH(A30,Feuil13!$C:$C,0))),"") & IF($A30=LEFT(INDEX(Feuil13!K:K,MATCH(Feuil13!$C$2,Feuil13!J:J,0)),5)*1,"PRINTEMPS","") | G30: =IFERROR(INDEX(Feuil13!K:K,MATCH(Feuil13!C30,Feuil13!J:J,0)),"") | H30: =IF($A30=LEFT(INDEX(Feuil13!K:K,MATCH(Feuil13!$C$2,Feuil13!J:J,0)),5)*1,"PRINTEMPS","")
A31: =IF(EOMONTH($A30,0)>$A30,$A30+1,"") -> 43920 | B31: =UPPER(TEXT($A31,"jjjj")) -> LUNDI | C31: Ste Amédée | D31: =IF(WEEKDAY($A31,2)<>1,"",_xlfn.ISOWEEKNUM($A31)) -> 14 | E31: =IFERROR(INDEX(Lune!$A:$A,MATCH($A31,Lune!$C:$C,0)),"") | F31: =IFERROR(UPPER(INDEX(Feuil13!$B:$B,MATCH(A31,Feuil13!$C:$C,0))),"") & IF($A31=LEFT(INDEX(Feuil13!K:K,MATCH(Feuil13!$C$2,Feuil13!J:J,0)),5)*1,"PRINTEMPS","") | G31: =IFERROR(INDEX(Feuil13!K:K,MATCH(Feuil13!C31,Feuil13!J:J,0)),"") | H31: =IF($A31=LEFT(INDEX(Feuil13!K:K,MATCH(Feuil13!$C$2,Feuil13!J:J,0)),5)*1,"PRINTEMPS","")
A32: =IF(EOMONTH($A31,0)>$A31,$A31+1,"") -> 43921 | B32: =UPPER(TEXT($A32,"jjjj")) -> MARDI | C32: St Benjamin | D32: =IF(WEEKDAY($A32,2)<>1,"",_xlfn.ISOWEEKNUM($A32)) | E32: =IFERROR(INDEX(Lune!$A:$A,MATCH($A32,Lune!$C:$C,0)),"") | F32: =IFERROR(UPPER(INDEX(Feuil13!$B:$B,MATCH(A32,Feuil13!$C:$C,0))),"") & IF($A32=LEFT(INDEX(Feuil13!K:K,MATCH(Feuil13!$C$2,Feuil13!J:J,0)),5)*1,"PRINTEMPS","") | G32: =IFERROR(INDEX(Feuil13!K:K,MATCH(Feuil13!C32,Feuil13!J:J,0)),"") | H32: =IF($A32=LEFT(INDEX(Feuil13!K:K,MATCH(Feuil13!$C$2,Feuil13!J:J,0)),5)*1,"PRINTEMPS","")

Sheet Avril
A1: =IF(Feuil13!C2<>"",UPPER(TEXT(DATE(Feuil13!C2,4,1),"mmmm")),"") -> AVRIL
A2: =DATE(Feuil13!C2,4,1) -> 43922 | B2: =UPPER(TEXT($A2,"jjjj")) -> MERCREDI | C2: St Hugues | D2: =IF(WEEKDAY($A2,2)<>1,"",_xlfn.ISOWEEKNUM($A2)) | E2: =IFERROR(INDEX(Lune!$A:$A,MATCH($A2,Lune!$C:$C,0)),"") -> ‚ | F2: =IFERROR(UPPER(INDEX(Feuil13!$B:$B,MATCH(A2,Feuil13!$C:$C,0))),"")
A3: =IF(EOMONTH($A2,0)>$A2,$A2+1,"") -> 43923 | B3: =UPPER(TEXT($A3,"jjjj")) -> JEUDI | C3: Ste Sandrine | D3: =IF(WEEKDAY($A3,2)<>1,"",_xlfn.ISOWEEKNUM($A3)) | E3: =IFERROR(INDEX(Lune!$A:$A,MATCH($A3,Lune!$C:$C,0)),"") | F3: =IFERROR(UPPER(INDEX(Feuil13!$B:$B,MATCH(A3,Feuil13!$C:$C,0))),"")
A4: =IF(EOMONTH($A3,0)>$A3,$A3+1,"") -> 43924 | B4: =UPPER(TEXT($A4,"jjjj")) -> VENDREDI | C4: St Richard | D4: =IF(WEEKDAY($A4,2)<>1,"",_xlfn.ISOWEEKNUM($A4)) | E4: =IFERROR(INDEX(Lune!$A:$A,MATCH($A4,Lune!$C:$C,0)),"") | F4: =IFERROR(UPPER(INDEX(Feuil13!$B:$B,MATCH(A4,Feuil13!$C:$C,0))),"")
A5: =IF(EOMONTH($A4,0)>$A4,$A4+1,"") -> 43925 | B5: =UPPER(TEXT($A5,"jjjj")) -> SAMEDI | C5: St Isidore | D5: =IF(WEEKDAY($A5,2)<>1,"",_xlfn.ISOWEEKNUM($A5)) | E5: =IFERROR(INDEX(Lune!$A:$A,MATCH($A5,Lune!$C:$C,0)),"") | F5: =IFERROR(UPPER(INDEX(Feuil13!$B:$B,MATCH(A5,Feuil13!$C:$C,0))),"")
A6: =IF(EOMONTH($A5,0)>$A5,$A5+1,"") -> 43926 | B6: =UPPER(TEXT($A6,"jjjj")) -> DIMANCHE | C6: Ste Irene | D6: =IF(WEEKDAY($A6,2)<>1,"",_xlfn.ISOWEEKNUM($A6)) | E6: =IFERROR(INDEX(Lune!$A:$A,MATCH($A6,Lune!$C:$C,0)),"") | F6: =IFERROR(UPPER(INDEX(Feuil13!$B:$B,MATCH(A6,Feuil13!$C:$C,0))),"") -> RAMEAUX
A7: =IF(EOMONTH($A6,0)>$A6,$A6+1,"") -> 43927 | B7: =UPPER(TEXT($A7,"jjjj")) -> LUNDI | C7: St Marcellin | D7: =IF(WEEKDAY($A7,2)<>1,"",_xlfn.ISOWEEKNUM($A7)) -> 15 | E7: =IFERROR(INDEX(Lune!$A:$A,MATCH($A7,Lune!$C:$C,0)),"") | F7: =IFERROR(UPPER(INDEX(Feuil13!$B:$B,MATCH(A7,Feuil13!$C:$C,0))),"")
A8: =IF(EOMONTH($A7,0)>$A7,$A7+1,"") -> 43928 | B8: =UPPER(TEXT($A8,"jjjj")) -> MARDI | C8: St J. B de la Salle | D8: =IF(WEEKDAY($A8,2)<>1,"",_xlfn.ISOWEEKNUM($A8)) | E8: =IFERROR(INDEX(Lune!$A:$A,MATCH($A8,Lune!$C:$C,0)),"") | F8: =IFERROR(UPPER(INDEX(Feuil13!$B:$B,MATCH(A8,Feuil13!$C:$C,0))),"")
A9: =IF(EOMONTH($A8,0)>$A8,$A8+1,"") -> 43929 | B9: =UPPER(TEXT($A9,"jjjj")) -> MERCREDI | C9: Ste Julie | D9: =IF(WEEKDAY($A9,2)<>1,"",_xlfn.ISOWEEKNUM($A9)) | E9: =IFERROR(INDEX(Lune!$A:$A,MATCH($A9,Lune!$C:$C,0)),"") ->  | F9: =IFERROR(UPPER(INDEX(Feuil13!$B:$B,MATCH(A9,Feuil13!$C:$C,0))),"")
A10: =IF(EOMONTH($A9,0)>$A9,$A9+1,"") -> 43930 | B10: =UPPER(TEXT($A10,"jjjj")) -> JEUDI | C10: St Gauthier | D10: =IF(WEEKDAY($A10,2)<>1,"",_xlfn.ISOWEEKNUM($A10)) | E10: =IFERROR(INDEX(Lune!$A:$A,MATCH($A10,Lune!$C:$C,0)),"") | F10: =IFERROR(UPPER(INDEX(Feuil13!$B:$B,MATCH(A10,Feuil13!$C:$C,0))),"")
A11: =IF(EOMONTH($A10,0)>$A10,$A10+1,"") -> 43931 | B11: =UPPER(TEXT($A11,"jjjj")) -> VENDREDI | C11: St Fulbert | D11: =IF(WEEKDAY($A11,2)<>1,"",_xlfn.ISOWEEKNUM($A11)) | E11: =IFERROR(INDEX(Lune!$A:$A,MATCH($A11,Lune!$C:$C,0)),"") | F11: =IFERROR(UPPER(INDEX(Feuil13!$B:$B,MATCH(A11,Feuil13!$C:$C,0))),"") -> VENDREDI SAINT
A12: =IF(EOMONTH($A11,0)>$A11,$A11+1,"") -> 43932 | B12: =UPPER(TEXT($A12,"jjjj")) -> SAMEDI | C12: St Stanislas | D12: =IF(WEEKDAY($A12,2)<>1,"",_xlfn.ISOWEEKNUM($A12)) | E12: =IFERROR(INDEX(Lune!$A:$A,MATCH($A12,Lune!$C:$C,0)),"") | F12: =IFERROR(UPPER(INDEX(Feuil13!$B:$B,MATCH(A12,Feuil13!$C:$C,0))),"")
A13: =IF(EOMONTH($A12,0)>$A12,$A12+1,"") -> 43933 | B13: =UPPER(TEXT($A13,"jjjj")) -> DIMANCHE | C13: St Jules | D13: =IF(WEEKDAY($A13,2)<>1,"",_xlfn.ISOWEEKNUM($A13)) | E13: =IFERROR(INDEX(Lune!$A:$A,MATCH($A13,Lune!$C:$C,0)),"") | F13: =IFERROR(UPPER(INDEX(Feuil13!$B:$B,MATCH(A13,Feuil13!$C:$C,0))),"") -> PÂQUES
A14: =IF(EOMONTH($A13,0)>$A13,$A13+1,"") -> 43934 | B14: =UPPER(TEXT($A14,"jjjj")) -> LUNDI | C14: St Ida | D14: =IF(WEEKDAY($A14,2)<>1,"",_xlfn.ISOWEEKNUM($A14)) -> 16 | E14: =IFERROR(INDEX(Lune!$A:$A,MATCH($A14,Lune!$C:$C,0)),"") | F14: =IFERROR(UPPER(INDEX(Feuil13!$B:$B,MATCH(A14,Feuil13!$C:$C,0))),"") -> LUNDI DE PÂQUES
... A31: =IF(EOMONTH($A30,0)>$A30,$A30+1,"") -> 43951 | B31: =UPPER(TEXT($A31,"jjjj")) -> JEUDI | C31: St Robert | D31: =IF(WEEKDAY($A31,2)<>1,"",_xlfn.ISOWEEKNUM($A31)) | E31: =IFERROR(INDEX(Lune!$A:$A,MATCH($A31,Lune!$C:$C,0)),"") -> ‚ | F31: =IFERROR(UPPER(INDEX(Feuil13!$B:$B,MATCH(A31,Feuil13!$C:$C,0))),"")

Sheet Mai
A1: =IF(Feuil13!C2<>"",UPPER(TEXT(DATE(Feuil13!C2,5,1),"mmmm")),"") -> MAI
A2: =DATE(Feuil13!C2,5,1) -> 43952 | B2: =UPPER(TEXT($A2,"jjjj")) -> VENDREDI | C2: St Jérémy | D2: =IF(WEEKDAY($A2,2)<>1,"",_xlfn.ISOWEEKNUM($A2)) | E2: =IFERROR(INDEX(Lune!$A:$A,MATCH($A2,Lune!$C:$C,0)),"") | F2: =IFERROR(UPPER(INDEX(Feuil13!$B:$B,MATCH(A2,Feuil13!$C:$C,0))),"") -> FÊTE DU TRAVAIL
A3: =IF(EOMONTH($A2,0)>$A2,$A2+1,"") -> 43953 | B3: =UPPER(TEXT($A3,"jjjj")) -> SAMEDI | C3: St Boris | D3: =IF(WEEKDAY($A3,2)<>1,"",_xlfn.ISOWEEKNUM($A3)) | E3: =IFERROR(INDEX(Lune!$A:$A,MATCH($A3,Lune!$C:$C,0)),"") | F3: =IFERROR(UPPER(INDEX(Feuil13!$B:$B,MATCH(A3,Feuil13!$C:$C,0))),"")
A4: =IF(EOMONTH($A3,0)>$A3,$A3+1,"") -> 43954 | B4: =UPPER(TEXT($A4,"jjjj")) -> DIMANCHE | C4: St Philippe/Jacques | D4: =IF(WEEKDAY($A4,2)<>1,"",_xlfn.ISOWEEKNUM($A4)) | E4: =IFERROR(INDEX(Lune!$A:$A,MATCH($A4,Lune!$C:$C,0)),"") | F4: =IFERROR(UPPER(INDEX(Feuil13!$B:$B,MATCH(A4,Feuil13!$C:$C,0))),"")
A5: =IF(EOMONTH($A4,0)>$A4,$A4+1,"") -> 43955 | B5: =UPPER(TEXT($A5,"jjjj")) -> LUNDI | C5: St Sylvain | D5: =IF(WEEKDAY($A5,2)<>1,"",_xlfn.ISOWEEKNUM($A5)) -> 19 | E5: =IFERROR(INDEX(Lune!$A:$A,MATCH($A5,Lune!$C:$C,0)),"") | F5: =IFERROR(UPPER(INDEX(Feuil13!$B:$B,MATCH(A5,Feuil13!$C:$C,0))),"")
A6: =IF(EOMONTH($A5,0)>$A5,$A5+1,"") -> 43956 | B6: =UPPER(TEXT($A6,"jjjj")) -> MARDI | C6: Ste Judith | D6: =IF(WEEKDAY($A6,2)<>1,"",_xlfn.ISOWEEKNUM($A6)) | E6: =IFERROR(INDEX(Lune!$A:$A,MATCH($A6,Lune!$C:$C,0)),"") | F6: =IFERROR(UPPER(INDEX(Feuil13!$B:$B,MATCH(A6,Feuil13!$C:$C,0))),"")
A7: =IF(EOMONTH($A6,0)>$A6,$A6+1,"") -> 43957 | B7: =UPPER(TEXT($A7,"jjjj")) -> MERCREDI | C7: Ste Prudence | D7: =IF(WEEKDAY($A7,2)<>1,"",_xlfn.ISOWEEKNUM($A7)) | E7: =IFERROR(INDEX(Lune!$A:$A,MATCH($A7,Lune!$C:$C,0)),"") | F7: =IFERROR(UPPER(INDEX(Feuil13!$B:$B,MATCH(A7,Feuil13!$C:$C,0))),"")
A8: =IF(EOMONTH($A7,0)>$A7,$A7+1,"") -> 43958 | B8: =UPPER(TEXT($A8,"jjjj")) -> JEUDI | C8: Ste Gisèle | D8: =IF(WEEKDAY($A8,2)<>1,"",_xlfn.ISOWEEKNUM($A8)) | E8: =IFERROR(INDEX(Lune!$A:$A,MATCH($A8,Lune!$C:$C,0)),"") ->  | F8: =IFERROR(UPPER(INDEX(Feuil13!$B:$B,MATCH(A8,Feuil13!$C:$C,0))),"")
A9: =IF(EOMONTH($A8,0)>$A8,$A8+1,"") -> 43959 | B9: =UPPER(TEXT($A9,"jjjj")) -> VENDREDI | C9: St Désiré(e) | D9: =IF(WEEKDAY($A9,2)<>1,"",_xlfn.ISOWEEKNUM($A9)) | E9: =IFERROR(INDEX(Lune!$A:$A,MATCH($A9,Lune!$C:$C,0)),"") | F9: =IFERROR(UPPER(INDEX(Feuil13!$B:$B,MATCH(A9,Feuil13!$C:$C,0))),"") -> VICTOIRE 1945
A10: =IF(EOMONTH($A9,0)>$A9,$A9+1,"") -> 43960 | B10: =UPPER(TEXT($A10,"jjjj")) -> SAMEDI | C10: St Pacôme | D10: =IF(WEEKDAY($A10,2)<>1,"",_xlfn.ISOWEEKNUM($A10)) | E10: =IFERROR(INDEX(Lune!$A:$A,MATCH($A10,Lune!$C:$C,0)),"") | F10: =IFERROR(UPPER(INDEX(Feuil13!$B:$B,MATCH(A10,Feuil13!$C:$C,0))),"")
A11: =IF(EOMONTH($A10,0)>$A10,$A10+1,"") -> 43961 | B11: =UPPER(TEXT($A11,"jjjj")) -> DIMANCHE | C11: Ste Solange | D11: =IF(WEEKDAY($A11,2)<>1,"",_xlfn.ISOWEEKNUM($A11)) | E11: =IFERROR(INDEX(Lune!$A:$A,MATCH($A11,Lune!$C:$C,0)),"") | F11: =IFERROR(UPPER(INDEX(Feuil13!$B:$B,MATCH(A11,Feuil13!$C:$C,0))),"")
A12: =IF(EOMONTH($A11,0)>$A11,$A11+1,"") -> 43962 | B12: =UPPER(TEXT($A12,"jjjj")) -> LUNDI | C12: Ste Estelle | D12: =IF(WEEKDAY($A12,2)<>1,"",_xlfn.ISOWEEKNUM($A12)) -> 20 | E12: =IFERROR(INDEX(Lune!$A:$A,MATCH($A12,Lune!$C:$C,0)),"") | F12: =IFERROR(UPPER(INDEX(Feuil13!$B:$B,MATCH(A12,Feuil13!$C:$C,0))),"")
A13: =IF(EOMONTH($A12,0)>$A12,$A12+1,"") -> 43963 | B13: =UPPER(TEXT($A13,"jjjj")) -> MARDI | C13: St Achille | D13: =IF(WEEKDAY($A13,2)<>1,"",_xlfn.ISOWEEKNUM($A13)) | E13: =IFERROR(INDEX(Lune!$A:$A,MATCH($A13,Lune!$C:$C,0)),"") | F13: =IFERROR(UPPER(INDEX(Feuil13!$B:$B,MATCH(A13,Feuil13!$C:$C,0))),"")
A14: =IF(EOMONTH($A13,0)>$A13,$A13+1,"") -> 43964 | B14: =UPPER(TEXT($A14,"jjjj")) -> MERCREDI | C14: Ste Rolande | D14: =IF(WEEKDAY($A14,2)<>1,"",_xlfn.ISOWEEKNUM($A14)) | E14: =IFERROR(INDEX(Lune!$A:$A,MATCH($A14,Lune!$C:$C,0)),"") | F14: =IFERROR(UPPER(INDEX(Feuil13!$B:$B,MATCH(A14,Feuil13!$C:$C,0))),"")
... A32: =IF(EOMONTH($A31,0)>$A31,$A31+1,"") -> 43982 | B32: =UPPER(TEXT($A32,"jjjj")) -> DIMANCHE | C32: Ste Marie-Lise | D32: =IF(WEEKDAY($A32,2)<>1,"",_xlfn.ISOWEEKNUM($A32)) | E32: =IFERROR(INDEX(Lune!$A:$A,MATCH($A32,Lune!$C:$C,0)),"") | F32: =IFERROR(UPPER(INDEX(Feuil13!$B:$B,MATCH(A32,Feuil13!$C:$C,0))),"") -> PENTECÔTE

Sheet Juin
A1: =IF(Feuil13!C2<>"",UPPER(TEXT(DATE(Feuil13!C2,6,1),"mmmm")),"") -> JUIN
A2: =DATE(Feuil13!C2,6,1) -> 43983 | B2: =UPPER(TEXT($A2,"jjjj")) -> LUNDI | C2: St Justin | D2: =IF(WEEKDAY($A2,2)<>1,"",_xlfn.ISOWEEKNUM($A2)) -> 23 | E2: =IFERROR(INDEX(Lune!$A:$A,MATCH($A2,Lune!$C:$C,0)),"") | F2: =IFERROR(UPPER(INDEX(Feuil13!$B:$B,MATCH(A2,Feuil13!$C:$C,0))),"") -> LUNDI DE PENTECÔTE
A3: =IF(EOMONTH($A2,0)>$A2,$A2+1,"") -> 43984 | B3: =UPPER(TEXT($A3,"jjjj")) -> MARDI | C3: St Blandine | D3: =IF(WEEKDAY($A3,2)<>1,"",_xlfn.ISOWEEKNUM($A3)) | E3: =IFERROR(INDEX(Lune!$A:$A,MATCH($A3,Lune!$C:$C,0)),"") | F3: =IFERROR(UPPER(INDEX(Feuil13!$B:$B,MATCH(A3,Feuil13!$C:$C,0))),"")
A4: =IF(EOMONTH($A3,0)>$A3,$A3+1,"") -> 43985 | B4: =UPPER(TEXT($A4,"jjjj")) -> MERCREDI | C4: St Kévin | D4: =IF(WEEKDAY($A4,2)<>1,"",_xlfn.ISOWEEKNUM($A4)) | E4: =IFERROR(INDEX(Lune!$A:$A,MATCH($A4,Lune!$C:$C,0)),"") | F4: =IFERROR(UPPER(INDEX(Feuil13!$B:$B,MATCH(A4,Feuil13!$C:$C,0))),"")
A5: =IF(EOMONTH($A4,0)>$A4,$A4+1,"") -> 43986 | B5: =UPPER(TEXT($A5,"jjjj")) -> JEUDI | C5: Ste Clotilde | D5: =IF(WEEKDAY($A5,2)<>1,"",_xlfn.ISOWEEKNUM($A5)) | E5: =IFERROR(INDEX(Lune!$A:$A,MATCH($A5,Lune!$C:$C,0)),"") | F5: =IFERROR(UPPER(INDEX(Feuil13!$B:$B,MATCH(A5,Feuil13!$C:$C,0))),"")
A6: =IF(EOMONTH($A5,0)>$A5,$A5+1,"") -> 43987 | B6: =UPPER(TEXT($A6,"jjjj")) -> VENDREDI | C6: St Igor | D6: =IF(WEEKDAY($A6,2)<>1,"",_xlfn.ISOWEEKNUM($A6)) | E6: =IFERROR(INDEX(Lune!$A:$A,MATCH($A6,Lune!$C:$C,0)),"") ->  | F6: =IFERROR(UPPER(INDEX(Feuil13!$B:$B,MATCH(A6,Feuil13!$C:$C,0))),"")
A7: =IF(EOMONTH($A6,0)>$A6,$A6+1,"") -> 43988 | B7: =UPPER(TEXT($A7,"jjjj")) -> SAMEDI | C7: St Norbert | D7: =IF(WEEKDAY($A7,2)<>1,"",_xlfn.ISOWEEKNUM($A7)) | E7: =IFERROR(INDEX(Lune!$A:$A,MATCH($A7,Lune!$C:$C,0)),"") | F7: =IFERROR(UPPER(INDEX(Feuil13!$B:$B,MATCH(A7,Feuil13!$C:$C,0))),"")
A8: =IF(EOMONTH($A7,0)>$A7,$A7+1,"") -> 43989 | B8: =UPPER(TEXT($A8,"jjjj")) -> DIMANCHE | C8: St Gilbert | D8: =IF(WEEKDAY($A8,2)<>1,"",_xlfn.ISOWEEKNUM($A8)) | E8: =IFERROR(INDEX(Lune!$A:$A,MATCH($A8,Lune!$C:$C,0)),"") | F8: =IFERROR(UPPER(INDEX(Feuil13!$B:$B,MATCH(A8,Feuil13!$C:$C,0))),"") -> FÊTE DES MÈRES
A9: =IF(EOMONTH($A8,0)>$A8,$A8+1,"") -> 43990 | B9: =UPPER(TEXT($A9,"jjjj")) -> LUNDI | C9: St Médard | D9: =IF(WEEKDAY($A9,2)<>1,"",_xlfn.ISOWEEKNUM($A9)) -> 24 | E9: =IFERROR(INDEX(Lune!$A:$A,MATCH($A9,Lune!$C:$C,0)),"") | F9: =IFERROR(UPPER(INDEX(Feuil13!$B:$B,MATCH(A9,Feuil13!$C:$C,0))),"")
A10: =IF(EOMONTH($A9,0)>$A9,$A9+1,"") -> 43991 | B10: =UPPER(TEXT($A10,"jjjj")) -> MARDI | C10: Ste Diane | D10: =IF(WEEKDAY($A10,2)<>1,"",_xlfn.ISOWEEKNUM($A10)) | E10: =IFERROR(INDEX(Lune!$A:$A,MATCH($A10,Lune!$C:$C,0)),"") | F10: =IFERROR(UPPER(INDEX(Feuil13!$B:$B,MATCH(A10,Feuil13!$C:$C,0))),"")
A11: =IF(EOMONTH($A10,0)>$A10,$A10+1,"") -> 43992 | B11: =UPPER(TEXT($A11,"jjjj")) -> MERCREDI | C11: St Landry | D11: =IF(WEEKDAY($A11,2)<>1,"",_xlfn.ISOWEEKNUM($A11)) | E11: =IFERROR(INDEX(Lune!$A:$A,MATCH($A11,Lune!$C:$C,0)),"") | F11: =IFERROR(UPPER(INDEX(Feuil13!$B:$B,MATCH(A11,Feuil13!$C:$C,0))),"")
A12: =IF(EOMONTH($A11,0)>$A11,$A11+1,"") -> 43993 | B12: =UPPER(TEXT($A12,"jjjj")) -> JEUDI | C12: St Barnabé | D12: =IF(WEEKDAY($A12,2)<>1,"",_xlfn.ISOWEEKNUM($A12)) | E12: =IFERROR(INDEX(Lune!$A:$A,MATCH($A12,Lune!$C:$C,0)),"") | F12: =IFERROR(UPPER(INDEX(Feuil13!$B:$B,MATCH(A12,Feuil13!$C:$C,0))),"")
A13: =IF(EOMONTH($A12,0)>$A12,$A12+1,"") -> 43994 | B13: =UPPER(TEXT($A13,"jjjj")) -> VENDREDI | C13: St Guy | D13: =IF(WEEKDAY($A13,2)<>1,"",_xlfn.ISOWEEKNUM($A13)) | E13: =IFERROR(INDEX(Lune!$A:$A,MATCH($A13,Lune!$C:$C,0)),"") | F13: =IFERROR(UPPER(INDEX(Feuil13!$B:$B,MATCH(A13,Feuil13!$C:$C,0))),"")
A14: =IF(EOMONTH($A13,0)>$A13,$A13+1,"") -> 43995 | B14: =UPPER(TEXT($A14,"jjjj")) -> SAMEDI | C14: St Antoine | D14: =IF(WEEKDAY($A14,2)<>1,"",_xlfn.ISOWEEKNUM($A14)) | E14: =IFERROR(INDEX(Lune!$A:$A,MATCH($A14,Lune!$C:$C,0)),"") -> ƒ | F14: =IFERROR(UPPER(INDEX(Feuil13!$B:$B,MATCH(A14,Feuil13!$C:$C,0))),"")
... A31: =IF(EOMONTH($A30,0)>$A30,$A30+1,"") -> 44012 | B31: =UPPER(TEXT($A31,"jjjj")) -> MARDI | C31: St Martial | D31: =IF(WEEKDAY($A31,2)<>1,"",_xlfn.ISOWEEKNUM($A31)) | E31: =IFERROR(INDEX(Lune!$A:$A,MATCH($A31,Lune!$C:$C,0)),"") | F31: =IFERROR(UPPER(INDEX(Feuil13!$B:$B,MATCH(A31,Feuil13!$C:$C,0))),"")

Sheet Juillet
A1: =IF(Feuil13!C2<>"",UPPER(TEXT(DATE(Feuil13!C2,7,1),"mmmm")),"") -> JUILLET
A2: =DATE(Feuil13!C2,7,1) -> 44013 | B2: =UPPER(TEXT($A2,"jjjj")) -> MERCREDI | C2: St Thierry | D2: =IF(WEEKDAY($A2,2)<>1,"",_xlfn.ISOWEEKNUM($A2)) | E2: =IFERROR(INDEX(Lune!$A:$A,MATCH($A2,Lune!$C:$C,0)),"") | F2: =IFERROR(UPPER(INDEX(Feuil13!$B:$B,MATCH(A2,Feuil13!$C:$C,0))),"")
A3: =IF(EOMONTH($A2,0)>$A2,$A2+1,"") -> 44014 | B3: =UPPER(TEXT($A3,"jjjj")) -> JEUDI | C3: St Martinien | D3: =IF(WEEKDAY($A3,2)<>1,"",_xlfn.ISOWEEKNUM($A3)) | E3: =IFERROR(INDEX(Lune!$A:$A,MATCH($A3,Lune!$C:$C,0)),"") | F3: =IFERROR(UPPER(INDEX(Feuil13!$B:$B,MATCH(A3,Feuil13!$C:$C,0))),"")
A4: =IF(EOMONTH($A3,0)>$A3,$A3+1,"") -> 44015 | B4: =UPPER(TEXT($A4,"jjjj")) -> VENDREDI | C4: St Thomas | D4: =IF(WEEKDAY($A4,2)<>1,"",_xlfn.ISOWEEKNUM($A4)) | E4: =IFERROR(INDEX(Lune!$A:$A,MATCH($A4,Lune!$C:$C,0)),"") | F4: =IFERROR(UPPER(INDEX(Feuil13!$B:$B,MATCH(A4,Feuil13!$C:$C,0))),"")
A5: =IF(EOMONTH($A4,0)>$A4,$A4+1,"") -> 44016 | B5: =UPPER(TEXT($A5,"jjjj")) -> SAMEDI | C5: St Florent | D5: =IF(WEEKDAY($A5,2)<>1,"",_xlfn.ISOWEEKNUM($A5)) | E5: =IFERROR(INDEX(Lune!$A:$A,MATCH($A5,Lune!$C:$C,0)),"") | F5: =IFERROR(UPPER(INDEX(Feuil13!$B:$B,MATCH(A5,Feuil13!$C:$C,0))),"")
A6: =IF(EOMONTH($A5,0)>$A5,$A5+1,"") -> 44017 | B6: =UPPER(TEXT($A6,"jjjj")) -> DIMANCHE | C6: St Antoine-Marie | D6: =IF(WEEKDAY($A6,2)<>1,"",_xlfn.ISOWEEKNUM($A6)) | E6: =IFERROR(INDEX(Lune!$A:$A,MATCH($A6,Lune!$C:$C,0)),"") ->  | F6: =IFERROR(UPPER(INDEX(Feuil13!$B:$B,MATCH(A6,Feuil13!$C:$C,0))),"")
A7: =IF(EOMONTH($A6,0)>$A6,$A6+1,"") -> 44018 | B7: =UPPER(TEXT($A7,"jjjj")) -> LUNDI | C7: Ste Mariette | D7: =IF(WEEKDAY($A7,2)<>1,"",_xlfn.ISOWEEKNUM($A7)) -> 28 | E7: =IFERROR(INDEX(Lune!$A:$A,MATCH($A7,Lune!$C:$C,0)),"") | F7: =IFERROR(UPPER(INDEX(Feuil13!$B:$B,MATCH(A7,Feuil13!$C:$C,0))),"")
A8: =IF(EOMONTH($A7,0)>$A7,$A7+1,"") -> 44019 | B8: =UPPER(TEXT($A8,"jjjj")) -> MARDI | C8: St Raoul | D8: =IF(WEEKDAY($A8,2)<>1,"",_xlfn.ISOWEEKNUM($A8)) | E8: =IFERROR(INDEX(Lune!$A:$A,MATCH($A8,Lune!$C:$C,0)),"") | F8: =IFERROR(UPPER(INDEX(Feuil13!$B:$B,MATCH(A8,Feuil13!$C:$C,0))),"")
A9: =IF(EOMONTH($A8,0)>$A8,$A8+1,"") -> 44020 | B9: =UPPER(TEXT($A9,"jjjj")) -> MERCREDI | C9: St Thibault | D9: =IF(WEEKDAY($A9,2)<>1,"",_xlfn.ISOWEEKNUM($A9)) | E9: =IFERROR(INDEX(Lune!$A:$A,MATCH($A9,Lune!$C:$C,0)),"") | F9: =IFERROR(UPPER(INDEX(Feuil13!$B:$B,MATCH(A9,Feuil13!$C:$C,0))),"")
A10: =IF(EOMONTH($A9,0)>$A9,$A9+1,"") -> 44021 | B10: =UPPER(TEXT($A10,"jjjj")) -> JEUDI | C10: Ste Amandine | D10: =IF(WEEKDAY($A10,2)<>1,"",_xlfn.ISOWEEKNUM($A10)) | E10: =IFERROR(INDEX(Lune!$A:$A,MATCH($A10,Lune!$C:$C,0)),"") | F10: =IFERROR(UPPER(INDEX(Feuil13!$B:$B,MATCH(A10,Feuil13!$C:$C,0))),"")
A11: =IF(EOMONTH($A10,0)>$A10,$A10+1,"") -> 44022 | B11: =UPPER(TEXT($A11,"jjjj")) -> VENDREDI | C11: St Ulrich | D11: =IF(WEEKDAY($A11,2)<>1,"",_xlfn.ISOWEEKNUM($A11)) | E11: =IFERROR(INDEX(Lune!$A:$A,MATCH($A11,Lune!$C:$C,0)),"") | F11: =IFERROR(UPPER(INDEX(Feuil13!$B:$B,MATCH(A11,Feuil13!$C:$C,0))),"")
A12: =IF(EOMONTH($A11,0)>$A11,$A11+1,"") -> 44023 | B12: =UPPER(TEXT($A12,"jjjj")) -> SAMEDI | C12: St Benoît | D12: =IF(WEEKDAY($A12,2)<>1,"",_xlfn.ISOWEEKNUM($A12)) | E12: =IFERROR(INDEX(Lune!$A:$A,MATCH($A12,Lune!$C:$C,0)),"") | F12: =IFERROR(UPPER(INDEX(Feuil13!$B:$B,MATCH(A12,Feuil13!$C:$C,0))),"")
A13: =IF(EOMONTH($A12,0)>$A12,$A12+1,"") -> 44024 | B13: =UPPER(TEXT($A13,"jjjj")) -> DIMANCHE | C13: St Olivier | D13: =IF(WEEKDAY($A13,2)<>1,"",_xlfn.ISOWEEKNUM($A13)) | E13: =IFERROR(INDEX(Lune!$A:$A,MATCH($A13,Lune!$C:$C,0)),"") -> ƒ | F13: =IFERROR(UPPER(INDEX(Feuil13!$B:$B,MATCH(A13,Feuil13!$C:$C,0))),"")
A14: =IF(EOMONTH($A13,0)>$A13,$A13+1,"") -> 44025 | B14: =UPPER(TEXT($A14,"jjjj")) -> LUNDI | C14: St Henri-Joël | D14: =IF(WEEKDAY($A14,2)<>1,"",_xlfn.ISOWEEKNUM($A14)) -> 29 | E14: =IFERROR(INDEX(Lune!$A:$A,MATCH($A14,Lune!$C:$C,0)),"") | F14: =IFERROR(UPPER(INDEX(Feuil13!$B:$B,MATCH(A14,Feuil13!$C:$C,0))),"")
... A32: =IF(EOMONTH($A31,0)>$A31,$A31+1,"") -> 44043 | B32: =UPPER(TEXT($A32,"jjjj")) -> VENDREDI | C32: St Ignace de L. | D32: =IF(WEEKDAY($A32,2)<>1,"",_xlfn.ISOWEEKNUM($A32)) | E32: =IFERROR(INDEX(Lune!$A:$A,MATCH($A32,Lune!$C:$C,0)),"") | F32: =IFERROR(UPPER(INDEX(Feuil13!$B:$B,MATCH(A32,Feuil13!$C:$C,0))),"")

Sheet Août
A1: =IF(Feuil13!C2<>"",UPPER(TEXT(DATE(Feuil13!C2,8,1),"mmmm")),"") -> AOÛT
A2: =DATE(Feuil13!C2,8,1) -> 44044 | B2: =UPPER(TEXT($A2,"jjjj")) -> SAMEDI | C2: St Alphonse | D2: =IF(WEEKDAY($A2,2)<>1,"",_xlfn.ISOWEEKNUM($A2)) | E2: =IFERROR(INDEX(Lune!$A:$A,MATCH($A2,Lune!$C:$C,0)),"") | F2: =IFERROR(UPPER(INDEX(Feuil13!$B:$B,MATCH(A2,Feuil13!$C:$C,0))),"")
A3: =IF(EOMONTH($A2,0)>$A2,$A2+1,"") -> 44045 | B3: =UPPER(TEXT($A3,"jjjj")) -> DIMANCHE | C3: St Julien | D3: =IF(WEEKDAY($A3,2)<>1,"",_xlfn.ISOWEEKNUM($A3)) | E3: =IFERROR(INDEX(Lune!$A:$A,MATCH($A3,Lune!$C:$C,0)),"") | F3: =IFERROR(UPPER(INDEX(Feuil13!$B:$B,MATCH(A3,Feuil13!$C:$C,0))),"")
A4: =IF(EOMONTH($A3,0)>$A3,$A3+1,"") -> 44046 | B4: =UPPER(TEXT($A4,"jjjj")) -> LUNDI | C4: Ste Lydie | D4: =IF(WEEKDAY($A4,2)<>1,"",_xlfn.ISOWEEKNUM($A4)) -> 32 | E4: =IFERROR(INDEX(Lune!$A:$A,MATCH($A4,Lune!$C:$C,0)),"") ->  | F4: =IFERROR(UPPER(INDEX(Feuil13!$B:$B,MATCH(A4,Feuil13!$C:$C,0))),"")
A5: =IF(EOMONTH($A4,0)>$A4,$A4+1,"") -> 44047 | B5: =UPPER(TEXT($A5,"jjjj")) -> MARDI | C5: St J. M. Vianney | D5: =IF(WEEKDAY($A5,2)<>1,"",_xlfn.ISOWEEKNUM($A5)) | E5: =IFERROR(INDEX(Lune!$A:$A,MATCH($A5,Lune!$C:$C,0)),"") | F5: =IFERROR(UPPER(INDEX(Feuil13!$B:$B,MATCH(A5,Feuil13!$C:$C,0))),"")
A6: =IF(EOMONTH($A5,0)>$A5,$A5+1,"") -> 44048 | B6: =UPPER(TEXT($A6,"jjjj")) -> MERCREDI | C6: St Abel | D6: =IF(WEEKDAY($A6,2)<>1,"",_xlfn.ISOWEEKNUM($A6)) | E6: =IFERROR(INDEX(Lune!$A:$A,MATCH($A6,Lune!$C:$C,0)),"") | F6: =IFERROR(UPPER(INDEX(Feuil13!$B:$B,MATCH(A6,Feuil13!$C:$C,0))),"")
A7: =IF(EOMONTH($A6,0)>$A6,$A6+1,"") -> 44049 | B7: =UPPER(TEXT($A7,"jjjj")) -> JEUDI | C7: Transfiguration | D7: =IF(WEEKDAY($A7,2)<>1,"",_xlfn.ISOWEEKNUM($A7)) | E7: =IFERROR(INDEX(Lune!$A:$A,MATCH($A7,Lune!$C:$C,0)),"") | F7: =IFERROR(UPPER(INDEX(Feuil13!$B:$B,MATCH(A7,Feuil13!$C:$C,0))),"")
A8: =IF(EOMONTH($A7,0)>$A7,$A7+1,"") -> 44050 | B8: =UPPER(TEXT($A8,"jjjj")) -> VENDREDI | C8: St Gaétan | D8: =IF(WEEKDAY($A8,2)<>1,"",_xlfn.ISOWEEKNUM($A8)) | E8: =IFERROR(INDEX(Lune!$A:$A,MATCH($A8,Lune!$C:$C,0)),"") | F8: =IFERROR(UPPER(INDEX(Feuil13!$B:$B,MATCH(A8,Feuil13!$C:$C,0))),"")
A9: =IF(EOMONTH($A8,0)>$A8,$A8+1,"") -> 44051 | B9: =UPPER(TEXT($A9,"jjjj")) -> SAMEDI | C9: St Dominique | D9: =IF(WEEKDAY($A9,2)<>1,"",_xlfn.ISOWEEKNUM($A9)) | E9: =IFERROR(INDEX(Lune!$A:$A,MATCH($A9,Lune!$C:$C,0)),"") | F9: =IFERROR(UPPER(INDEX(Feuil13!$B:$B,MATCH(A9,Feuil13!$C:$C,0))),"")
A10: =IF(EOMONTH($A9,0)>$A9,$A9+1,"") -> 44052 | B10: =UPPER(TEXT($A10,"jjjj")) -> DIMANCHE | C10: St Amour | D10: =IF(WEEKDAY($A10,2)<>1,"",_xlfn.ISOWEEKNUM($A10)) | E10: =IFERROR(INDEX(Lune!$A:$A,MATCH($A10,Lune!$C:$C,0)),"") | F10: =IFERROR(UPPER(INDEX(Feuil13!$B:$B,MATCH(A10,Feuil13!$C:$C,0))),"")
A11: =IF(EOMONTH($A10,0)>$A10,$A10+1,"") -> 44053 | B11: =UPPER(TEXT($A11,"jjjj")) -> LUNDI | C11: St Laurent | D11: =IF(WEEKDAY($A11,2)<>1,"",_xlfn.ISOWEEKNUM($A11)) -> 33 | E11: =IFERROR(INDEX(Lune!$A:$A,MATCH($A11,Lune!$C:$C,0)),"") | F11: =IFERROR(UPPER(INDEX(Feuil13!$B:$B,MATCH(A11,Feuil13!$C:$C,0))),"")
A12: =IF(EOMONTH($A11,0)>$A11,$A11+1,"") -> 44054 | B12: =UPPER(TEXT($A12,"jjjj")) -> MARDI | C12: Ste Claire | D12: =IF(WEEKDAY($A12,2)<>1,"",_xlfn.ISOWEEKNUM($A12)) | E12: =IFERROR(INDEX(Lune!$A:$A,MATCH($A12,Lune!$C:$C,0)),"") -> ƒ | F12: =IFERROR(UPPER(INDEX(Feuil13!$B:$B,MATCH(A12,Feuil13!$C:$C,0))),"")
A13: =IF(EOMONTH($A12,0)>$A12,$A12+1,"") -> 44055 | B13: =UPPER(TEXT($A13,"jjjj")) -> MERCREDI | C13: Ste Clarisse | D13: =IF(WEEKDAY($A13,2)<>1,"",_xlfn.ISOWEEKNUM($A13)) | E13: =IFERROR(INDEX(Lune!$A:$A,MATCH($A13,Lune!$C:$C,0)),"") | F13: =IFERROR(UPPER(INDEX(Feuil13!$B:$B,MATCH(A13,Feuil13!$C:$C,0))),"")
A14: =IF(EOMONTH($A13,0)>$A13,$A13+1,"") -> 44056 | B14: =UPPER(TEXT($A14,"jjjj")) -> JEUDI | C14: St Hippolyte | D14: =IF(WEEKDAY($A14,2)<>1,"",_xlfn.ISOWEEKNUM($A14)) | E14: =IFERROR(INDEX(Lune!$A:$A,MATCH($A14,Lune!$C:$C,0)),"") | F14: =IFERROR(UPPER(INDEX(Feuil13!$B:$B,MATCH(A14,Feuil13!$C:$C,0))),"")
... A31: =IF(EOMONTH($A30,0)>$A30,$A30+1,"") -> 44073 | B31: =UPPER(TEXT($A31,"jjjj")) -> DIMANCHE | C31: St Fiacre | D31: =IF(WEEKDAY($A31,2)<>1,"",_xlfn.ISOWEEKNUM($A31)) | E31: =IFERROR(INDEX(Lune!$A:$A,MATCH($A31,Lune!$C:$C,0)),"") | F31: =IFERROR(UPPER(INDEX(Feuil13!$B:$B,MATCH(A31,Feuil13!$C:$C,0))),"")
A32: =IF(EOMONTH($A31,0)>$A31,$A31+1,"") -> 44074 | B32: =UPPER(TEXT($A32,"jjjj")) -> LUNDI | C32: St Aristide | D32: =IF(WEEKDAY($A32,2)<>1,"",_xlfn.ISOWEEKNUM($A32)) -> 36 | E32: =IFERROR(INDEX(Lune!$A:$A,MATCH($A32,Lune!$C:$C,0)),"") | F32: =IFERROR(INDEX(Feuil13!$B:$B,MATCH(A32,Feuil13!$C:$C,0)),"")

Sheet Septembre
A1: =IF(Feuil13!C2<>"",UPPER(TEXT(DATE(Feuil13!C2,9,1),"mmmm")),"") -> SEPTEMBRE
A2: =DATE(Feuil13!C2,9,1) -> 44075 | B2: =UPPER(TEXT($A2,"jjjj")) -> MARDI | C2: St Gilles | D2: =IF(WEEKDAY($A2,2)<>1,"",_xlfn.ISOWEEKNUM($A2)) | E2: =IFERROR(INDEX(Lune!$A:$A,MATCH($A2,Lune!$C:$C,0)),"") | F2: =IFERROR(UPPER(INDEX(Feuil13!$B:$B,MATCH(A2,Feuil13!$C:$C,0))),"")
A3: =IF(EOMONTH($A2,0)>$A2,$A2+1,"") -> 44076 | B3: =UPPER(TEXT($A3,"jjjj")) -> MERCREDI | C3: Ste Ingrid | D3: =IF(WEEKDAY($A3,2)<>1,"",_xlfn.ISOWEEKNUM($A3)) | E3: =IFERROR(INDEX(Lune!$A:$A,MATCH($A3,Lune!$C:$C,0)),"") ->  | F3: =IFERROR(UPPER(INDEX(Feuil13!$B:$B,MATCH(A3,Feuil13!$C:$C,0))),"")
A4: =IF(EOMONTH($A3,0)>$A3,$A3+1,"") -> 44077 | B4: =UPPER(TEXT($A4,"jjjj")) -> JEUDI | C4: St Grégoire | D4: =IF(WEEKDAY($A4,2)<>1,"",_xlfn.ISOWEEKNUM($A4)) | E4: =IFERROR(INDEX(Lune!$A:$A,MATCH($A4,Lune!$C:$C,0)),"") | F4: =IFERROR(UPPER(INDEX(Feuil13!$B:$B,MATCH(A4,Feuil13!$C:$C,0))),"")
A5: =IF(EOMONTH($A4,0)>$A4,$A4+1,"") -> 44078 | B5: =UPPER(TEXT($A5,"jjjj")) -> VENDREDI | C5: Ste Rosalie | D5: =IF(WEEKDAY($A5,2)<>1,"",_xlfn.ISOWEEKNUM($A5)) | E5: =IFERROR(INDEX(Lune!$A:$A,MATCH($A5,Lune!$C:$C,0)),"") | F5: =IFERROR(UPPER(INDEX(Feuil13!$B:$B,MATCH(A5,Feuil13!$C:$C,0))),"")
A6: =IF(EOMONTH($A5,0)>$A5,$A5+1,"") -> 44079 | B6: =UPPER(TEXT($A6,"jjjj")) -> SAMEDI | C6: Ste Raïssa | D6: =IF(WEEKDAY($A6,2)<>1,"",_xlfn.ISOWEEKNUM($A6)) | E6: =IFERROR(INDEX(Lune!$A:$A,MATCH($A6,Lune!$C:$C,0)),"") | F6: =IFERROR(UPPER(INDEX(Feuil13!$B:$B,MATCH(A6,Feuil13!$C:$C,0))),"")
A7: =IF(EOMONTH($A6,0)>$A6,$A6+1,"") -> 44080 | B7: =UPPER(TEXT($A7,"jjjj")) -> DIMANCHE | C7: St Bertrand | D7: =IF(WEEKDAY($A7,2)<>1,"",_xlfn.ISOWEEKNUM($A7)) | E7: =IFERROR(INDEX(Lune!$A:$A,MATCH($A7,Lune!$C:$C,0)),"") | F7: =IFERROR(UPPER(INDEX(Feuil13!$B:$B,MATCH(A7,Feuil13!$C:$C,0))),"")
A8: =IF(EOMONTH($A7,0)>$A7,$A7+1,"") -> 44081 | B8: =UPPER(TEXT($A8,"jjjj")) -> LUNDI | C8: Ste Reine | D8: =IF(WEEKDAY($A8,2)<>1,"",_xlfn.ISOWEEKNUM($A8)) -> 37 | E8: =IFERROR(INDEX(Lune!$A:$A,MATCH($A8,Lune!$C:$C,0)),"") | F8: =IFERROR(UPPER(INDEX(Feuil13!$B:$B,MATCH(A8,Feuil13!$C:$C,0))),"")
A9: =IF(EOMONTH($A8,0)>$A8,$A8+1,"") -> 44082 | B9: =UPPER(TEXT($A9,"jjjj")) -> MARDI | C9: St Nativite N. D. | D9: =IF(WEEKDAY($A9,2)<>1,"",_xlfn.ISOWEEKNUM($A9)) | E9: =IFERROR(INDEX(Lune!$A:$A,MATCH($A9,Lune!$C:$C,0)),"") | F9: =IFERROR(UPPER(INDEX(Feuil13!$B:$B,MATCH(A9,Feuil13!$C:$C,0))),"")
A10: =IF(EOMONTH($A9,0)>$A9,$A9+1,"") -> 44083 | B10: =UPPER(TEXT($A10,"jjjj")) -> MERCREDI | C10: St Alain | D10: =IF(WEEKDAY($A10,2)<>1,"",_xlfn.ISOWEEKNUM($A10)) | E10: =IFERROR(INDEX(Lune!$A:$A,MATCH($A10,Lune!$C:$C,0)),"") | F10: =IFERROR(UPPER(INDEX(Feuil13!$B:$B,MATCH(A10,Feuil13!$C:$C,0))),"")
A11: =IF(EOMONTH($A10,0)>$A10,$A10+1,"") -> 44084 | B11: =UPPER(TEXT($A11,"jjjj")) -> JEUDI | C11: Ste Inès | D11: =IF(WEEKDAY($A11,2)<>1,"",_xlfn.ISOWEEKNUM($A11)) | E11: =IFERROR(INDEX(Lune!$A:$A,MATCH($A11,Lune!$C:$C,0)),"") -> ƒ | F11: =IFERROR(UPPER(INDEX(Feuil13!$B:$B,MATCH(A11,Feuil13!$C:$C,0))),"")
A12: =IF(EOMONTH($A11,0)>$A11,$A11+1,"") -> 44085 | B12: =UPPER(TEXT($A12,"jjjj")) -> VENDREDI | C12: St Adelphe | D12: =IF(WEEKDAY($A12,2)<>1,"",_xlfn.ISOWEEKNUM($A12)) | E12: =IFERROR(INDEX(Lune!$A:$A,MATCH($A12,Lune!$C:$C,0)),"") | F12: =IFERROR(UPPER(INDEX(Feuil13!$B:$B,MATCH(A12,Feuil13!$C:$C,0))),"")
A13: =IF(EOMONTH($A12,0)>$A12,$A12+1,"") -> 44086 | B13: =UPPER(TEXT($A13,"jjjj")) -> SAMEDI | C13: St Apollinaire | D13: =IF(WEEKDAY($A13,2)<>1,"",_xlfn.ISOWEEKNUM($A13)) | E13: =IFERROR(INDEX(Lune!$A:$A,MATCH($A13,Lune!$C:$C,0)),"") | F13: =IFERROR(UPPER(INDEX(Feuil13!$B:$B,MATCH(A13,Feuil13!$C:$C,0))),"")
A14: =IF(EOMONTH($A13,0)>$A13,$A13+1,"") -> 44087 | B14: =UPPER(TEXT($A14,"jjjj")) -> DIMANCHE | C14: St Aimé | D14: =IF(WEEKDAY($A14,2)<>1,"",_xlfn.ISOWEEKNUM($A14)) | E14: =IFERROR(INDEX(Lune!$A:$A,MATCH($A14,Lune!$C:$C,0)),"") | F14: =IFERROR(UPPER(INDEX(Feuil13!$B:$B,MATCH(A14,Feuil13!$C:$C,0))),"")
... A31: =IF(EOMONTH($A30,0)>$A30,$A30+1,"") -> 44104 | B31: =UPPER(TEXT($A31,"jjjj")) -> MERCREDI | C31: St Jérôme | D31: =IF(WEEKDAY($A31,2)<>1,"",_xlfn.ISOWEEKNUM($A31)) | E31: =IFERROR(INDEX(Lune!$A:$A,MATCH($A31,Lune!$C:$C,0)),"") | F31: =IFERROR(UPPER(INDEX(Feuil13!$B:$B,MATCH(A31,Feuil13!$C:$C,0))),"")

Sheet Octobre
A1: =IF(Feuil13!C2<>"",UPPER(TEXT(DATE(Feuil13!C2,10,1),"mmmm")),"") -> OCTOBRE
A2: =DATE(Feuil13!C2,10,1) -> 44105 | B2: =UPPER(TEXT($A2,"jjjj")) -> JEUDI | C2: Ste Thérèse de l' E.J. | D2: =IF(WEEKDAY($A2,2)<>1,"",_xlfn.ISOWEEKNUM($A2)) | E2: =IFERROR(INDEX(Lune!$A:$A,MATCH($A2,Lune!$C:$C,0)),"") ->  | F2: =IFERROR(UPPER(INDEX(Feuil13!$B:$B,MATCH(A2,Feuil13!$C:$C,0))),"")
A3: =IF(EOMONTH($A2,0)>$A2,$A2+1,"") -> 44106 | B3: =UPPER(TEXT($A3,"jjjj")) -> VENDREDI | C3: St Léger | D3: =IF(WEEKDAY($A3,2)<>1,"",_xlfn.ISOWEEKNUM($A3)) | E3: =IFERROR(INDEX(Lune!$A:$A,MATCH($A3,Lune!$C:$C,0)),"") | F3: =IFERROR(UPPER(INDEX(Feuil13!$B:$B,MATCH(A3,Feuil13!$C:$C,0))),"")
A4: =IF(EOMONTH($A3,0)>$A3,$A3+1,"") -> 44107 | B4: =UPPER(TEXT($A4,"jjjj")) -> SAMEDI | C4: St Gérard | D4: =IF(WEEKDAY($A4,2)<>1,"",_xlfn.ISOWEEKNUM($A4)) | E4: =IFERROR(INDEX(Lune!$A:$A,MATCH($A4,Lune!$C:$C,0)),"") | F4: =IFERROR(UPPER(INDEX(Feuil13!$B:$B,MATCH(A4,Feuil13!$C:$C,0))),"")
A5: =IF(EOMONTH($A4,0)>$A4,$A4+1,"") -> 44108 | B5: =UPPER(TEXT($A5,"jjjj")) -> DIMANCHE | C5: St François d'Assise | D5: =IF(WEEKDAY($A5,2)<>1,"",_xlfn.ISOWEEKNUM($A5)) | E5: =IFERROR(INDEX(Lune!$A:$A,MATCH($A5,Lune!$C:$C,0)),"") | F5: =IFERROR(UPPER(INDEX(Feuil13!$B:$B,MATCH(A5,Feuil13!$C:$C,0))),"") -> FÊTE DES GRANDS-PÈRES
A6: =IF(EOMONTH($A5,0)>$A5,$A5+1,"") -> 44109 | B6: =UPPER(TEXT($A6,"jjjj")) -> LUNDI | C6: Ste Fleur | D6: =IF(WEEKDAY($A6,2)<>1,"",_xlfn.ISOWEEKNUM($A6)) -> 41 | E6: =IFERROR(INDEX(Lune!$A:$A,MATCH($A6,Lune!$C:$C,0)),"") | F6: =IFERROR(UPPER(INDEX(Feuil13!$B:$B,MATCH(A6,Feuil13!$C:$C,0))),"")
A7: =IF(EOMONTH($A6,0)>$A6,$A6+1,"") -> 44110 | B7: =UPPER(TEXT($A7,"jjjj")) -> MARDI | C7: St Bruno | D7: =IF(WEEKDAY($A7,2)<>1,"",_xlfn.ISOWEEKNUM($A7)) | E7: =IFERROR(INDEX(Lune!$A:$A,MATCH($A7,Lune!$C:$C,0)),"") | F7: =IFERROR(UPPER(INDEX(Feuil13!$B:$B,MATCH(A7,Feuil13!$C:$C,0))),"")
A8: =IF(EOMONTH($A7,0)>$A7,$A7+1,"") -> 44111 | B8: =UPPER(TEXT($A8,"jjjj")) -> MERCREDI | C8: St Serge | D8: =IF(WEEKDAY($A8,2)<>1,"",_xlfn.ISOWEEKNUM($A8)) | E8: =IFERROR(INDEX(Lune!$A:$A,MATCH($A8,Lune!$C:$C,0)),"") | F8: =IFERROR(UPPER(INDEX(Feuil13!$B:$B,MATCH(A8,Feuil13!$C:$C,0))),"")
A9: =IF(EOMONTH($A8,0)>$A8,$A8+1,"") -> 44112 | B9: =UPPER(TEXT($A9,"jjjj")) -> JEUDI | C9: Ste Pélagie | D9: =IF(WEEKDAY($A9,2)<>1,"",_xlfn.ISOWEEKNUM($A9)) | E9: =IFERROR(INDEX(Lune!$A:$A,MATCH($A9,Lune!$C:$C,0)),"") | F9: =IFERROR(UPPER(INDEX(Feuil13!$B:$B,MATCH(A9,Feuil13!$C:$C,0))),"")
A10: =IF(EOMONTH($A9,0)>$A9,$A9+1,"") -> 44113 | B10: =UPPER(TEXT($A10,"jjjj")) -> VENDREDI | C10: St Denis | D10: =IF(WEEKDAY($A10,2)<>1,"",_xlfn.ISOWEEKNUM($A10)) | E10: =IFERROR(INDEX(Lune!$A:$A,MATCH($A10,Lune!$C:$C,0)),"") -> ƒ | F10: =IFERROR(UPPER(INDEX(Feuil13!$B:$B,MATCH(A10,Feuil13!$C:$C,0))),"")
A11: =IF(EOMONTH($A10,0)>$A10,$A10+1,"") -> 44114 | B11: =UPPER(TEXT($A11,"jjjj")) -> SAMEDI | C11: St Ghislain | D11: =IF(WEEKDAY($A11,2)<>1,"",_xlfn.ISOWEEKNUM($A11)) | E11: =IFERROR(INDEX(Lune!$A:$A,MATCH($A11,Lune!$C:$C,0)),"") | F11: =IFERROR(UPPER(INDEX(Feuil13!$B:$B,MATCH(A11,Feuil13!$C:$C,0))),"")
A12: =IF(EOMONTH($A11,0)>$A11,$A11+1,"") -> 44115 | B12: =UPPER(TEXT($A12,"jjjj")) -> DIMANCHE | C12: St Firmin | D12: =IF(WEEKDAY($A12,2)<>1,"",_xlfn.ISOWEEKNUM($A12)) | E12: =IFERROR(INDEX(Lune!$A:$A,MATCH($A12,Lune!$C:$C,0)),"") | F12: =IFERROR(UPPER(INDEX(Feuil13!$B:$B,MATCH(A12,Feuil13!$C:$C,0))),"")
A13: =IF(EOMONTH($A12,0)>$A12,$A12+1,"") -> 44116 | B13: =UPPER(TEXT($A13,"jjjj")) -> LUNDI | C13: St Wilfried | D13: =IF(WEEKDAY($A13,2)<>1,"",_xlfn.ISOWEEKNUM($A13)) -> 42 | E13: =IFERROR(INDEX(Lune!$A:$A,MATCH($A13,Lune!$C:$C,0)),"") | F13: =IFERROR(UPPER(INDEX(Feuil13!$B:$B,MATCH(A13,Feuil13!$C:$C,0))),"")
A14: =IF(EOMONTH($A13,0)>$A13,$A13+1,"") -> 44117 | B14: =UPPER(TEXT($A14,"jjjj")) -> MARDI | C14: St Géraud | D14: =IF(WEEKDAY($A14,2)<>1,"",_xlfn.ISOWEEKNUM($A14)) | E14: =IFERROR(INDEX(Lune!$A:$A,MATCH($A14,Lune!$C:$C,0)),"") | F14: =IFERROR(UPPER(INDEX(Feuil13!$B:$B,MATCH(A14,Feuil13!$C:$C,0))),"")
... A32: =IF(EOMONTH($A31,0)>$A31,$A31+1,"") -> 44135 | B32: =UPPER(TEXT($A32,"jjjj")) -> SAMEDI | C32: St Quentin | D32: =IF(WEEKDAY($A32,2)<>1,"",_xlfn.ISOWEEKNUM($A32)) | E32: =IFERROR(INDEX(Lune!$A:$A,MATCH($A32,Lune!$C:$C,0)),"") ->  | F32: =IFERROR(UPPER(INDEX(Feuil13!$B:$B,MATCH(A32,Feuil13!$C:$C,0))),"") -> HALLOWEEN

Sheet Novembre
A1: =IF(Feuil13!C2<>"",UPPER(TEXT(DATE(Feuil13!C2,11,1),"mmmm")),"") -> NOVEMBRE
A2: =DATE(Feuil13!C2,11,1) -> 44136 | B2: =UPPER(TEXT($A2,"jjjj")) -> DIMANCHE | C2: Toussaint | D2: =IF(WEEKDAY($A2,2)<>1,"",_xlfn.ISOWEEKNUM($A2)) | E2: =IFERROR(INDEX(Lune!$A:$A,MATCH($A2,Lune!$C:$C,0)),"") | F2: =IFERROR(UPPER(INDEX(Feuil13!$B:$B,MATCH(A2,Feuil13!$C:$C,0))),"") -> TOUSSAINT
A3: =IF(EOMONTH($A2,0)>$A2,$A2+1,"") -> 44137 | B3: =UPPER(TEXT($A3,"jjjj")) -> LUNDI | C3: St Défunt | D3: =IF(WEEKDAY($A3,2)<>1,"",_xlfn.ISOWEEKNUM($A3)) -> 45 | E3: =IFERROR(INDEX(Lune!$A:$A,MATCH($A3,Lune!$C:$C,0)),"") | F3: =IFERROR(UPPER(INDEX(Feuil13!$B:$B,MATCH(A3,Feuil13!$C:$C,0))),"")
A4: =IF(EOMONTH($A3,0)>$A3,$A3+1,"") -> 44138 | B4: =UPPER(TEXT($A4,"jjjj")) -> MARDI | C4: St Hubert | D4: =IF(WEEKDAY($A4,2)<>1,"",_xlfn.ISOWEEKNUM($A4)) | E4: =IFERROR(INDEX(Lune!$A:$A,MATCH($A4,Lune!$C:$C,0)),"") | F4: =IFERROR(UPPER(INDEX(Feuil13!$B:$B,MATCH(A4,Feuil13!$C:$C,0))),"")
A5: =IF(EOMONTH($A4,0)>$A4,$A4+1,"") -> 44139 | B5: =UPPER(TEXT($A5,"jjjj")) -> MERCREDI | C5: St Charles | D5: =IF(WEEKDAY($A5,2)<>1,"",_xlfn.ISOWEEKNUM($A5)) | E5: =IFERROR(INDEX(Lune!$A:$A,MATCH($A5,Lune!$C:$C,0)),"") | F5: =IFERROR(UPPER(INDEX(Feuil13!$B:$B,MATCH(A5,Feuil13!$C:$C,0))),"")
A6: =IF(EOMONTH($A5,0)>$A5,$A5+1,"") -> 44140 | B6: =UPPER(TEXT($A6,"jjjj")) -> JEUDI | C6: Ste Sylvie | D6: =IF(WEEKDAY($A6,2)<>1,"",_xlfn.ISOWEEKNUM($A6)) | E6: =IFERROR(INDEX(Lune!$A:$A,MATCH($A6,Lune!$C:$C,0)),"") | F6: =IFERROR(UPPER(INDEX(Feuil13!$B:$B,MATCH(A6,Feuil13!$C:$C,0))),"")
A7: =IF(EOMONTH($A6,0)>$A6,$A6+1,"") -> 44141 | B7: =UPPER(TEXT($A7,"jjjj")) -> VENDREDI | C7: Ste Bertille | D7: =IF(WEEKDAY($A7,2)<>1,"",_xlfn.ISOWEEKNUM($A7)) | E7: =IFERROR(INDEX(Lune!$A:$A,MATCH($A7,Lune!$C:$C,0)),"") | F7: =IFERROR(UPPER(INDEX(Feuil13!$B:$B,MATCH(A7,Feuil13!$C:$C,0))),"")
A8: =IF(EOMONTH($A7,0)>$A7,$A7+1,"") -> 44142 | B8: =UPPER(TEXT($A8,"jjjj")) -> SAMEDI | C8: Ste Carine | D8: =IF(WEEKDAY($A8,2)<>1,"",_xlfn.ISOWEEKNUM($A8)) | E8: =IFERROR(INDEX(Lune!$A:$A,MATCH($A8,Lune!$C:$C,0)),"") | F8: =IFERROR(UPPER(INDEX(Feuil13!$B:$B,MATCH(A8,Feuil13!$C:$C,0))),"")
A9: =IF(EOMONTH($A8,0)>$A8,$A8+1,"") -> 44143 | B9: =UPPER(TEXT($A9,"jjjj")) -> DIMANCHE | C9: Ste Geoffroy | D9: =IF(WEEKDAY($A9,2)<>1,"",_xlfn.ISOWEEKNUM($A9)) | E9: =IFERROR(INDEX(Lune!$A:$A,MATCH($A9,Lune!$C:$C,0)),"") -> ƒ | F9: =IFERROR(UPPER(INDEX(Feuil13!$B:$B,MATCH(A9,Feuil13!$C:$C,0))),"")
A10: =IF(EOMONTH($A9,0)>$A9,$A9+1,"") -> 44144 | B10: =UPPER(TEXT($A10,"jjjj")) -> LUNDI | C10: St Théodore | D10: =IF(WEEKDAY($A10,2)<>1,"",_xlfn.ISOWEEKNUM($A10)) -> 46 | E10: =IFERROR(INDEX(Lune!$A:$A,MATCH($A10,Lune!$C:$C,0)),"") | F10: =IFERROR(UPPER(INDEX(Feuil13!$B:$B,MATCH(A10,Feuil13!$C:$C,0))),"")
A11: =IF(EOMONTH($A10,0)>$A10,$A10+1,"") -> 44145 | B11: =UPPER(TEXT($A11,"jjjj")) -> MARDI | C11: St Léon | D11: =IF(WEEKDAY($A11,2)<>1,"",_xlfn.ISOWEEKNUM($A11)) | E11: =IFERROR(INDEX(Lune!$A:$A,MATCH($A11,Lune!$C:$C,0)),"") | F11: =IFERROR(UPPER(INDEX(Feuil13!$B:$B,MATCH(A11,Feuil13!$C:$C,0))),"")
