Workbook
Name Bissextile: Lune!#REF!
Name NBO: Lune!#REF!

Sheet Janvier
A1: =IF(Feuil13!C2<>"",UPPER(TEXT(DATE(Feuil13!C2,1,1),"mmmm")),"") -> JANVIER
A2: =DATE(Feuil13!C2,1,1) -> 43831 | B2: =UPPER(TEXT($A2,"jjjj")) -> MERCREDI | C2: Ste Marie | D2: =IF(WEEKDAY($A2,2)<>1,"",_xlfn.ISOWEEKNUM($A2)) | E2: =IFERROR(INDEX(Lune!$A:$A,MATCH($A2,Lune!$C:$C,0)),"") | F2: =IFERROR(UPPER(INDEX(Feuil13!$B:$B,MATCH(A2,Feuil13!$C:$C,0))),"") -> JOURS DE L'AN
A3: =IF(EOMONTH($A2,0)>$A2,$A2+1,"") -> 43832 | B3: =UPPER(TEXT($A3,"jjjj")) -> JEUDI | C3: St Basile | D3: =IF(WEEKDAY($A3,2)<>1,"",_xlfn.ISOWEEKNUM($A3)) | E3: =IFERROR(INDEX(Lune!$A:$A,MATCH($A3,Lune!$C:$C,0)),"") | F3: =IFERROR(UPPER(INDEX(Feuil13!$B:$B,MATCH(A3,Feuil13!$C:$C,0))),"")
A4: =IF(EOMONTH($A3,0)>$A3,$A3+1,"") -> 43833 | B4: =UPPER(TEXT($A4,"jjjj")) -> VENDREDI | C4: Ste Geneviève | D4: =IF(WEEKDAY($A4,2)<>1,"",_xlfn.ISOWEEKNUM($A4)) | E4: =IFERROR(INDEX(Lune!$A:$A,MATCH($A4,Lune!$C:$C,0)),"") -> ‚ | F4: =IFERROR(UPPER(INDEX(Feuil13!$B:$B,MATCH(A4,Feuil13!$C:$C,0))),"")
A5: =IF(EOMONTH($A4,0)>$A4,$A4+1,"") -> 43834 | B5: =UPPER(TEXT($A5,"jjjj")) -> SAMEDI | C5: St Odilon | D5: =IF(WEEKDAY($A5,2)<>1,"",_xlfn.ISOWEEKNUM($A5)) | E5: =IFERROR(INDEX(Lune!$A:$A,MATCH($A5,Lune!$C:$C,0)),"") | F5: =IFERROR(UPPER(INDEX(Feuil13!$B:$B,MATCH(A5,Feuil13!$C:$C,0))),"")
A6: =IF(EOMONTH($A5,0)>$A5,$A5+1,"") -> 43835 | B6: =UPPER(TEXT($A6,"jjjj")) -> DIMANCHE | C6: St Edouard | D6: =IF(WEEKDAY($A6,2)<>1,"",_xlfn.ISOWEEKNUM($A6)) | E6: =IFERROR(INDEX(Lune!$A:$A,MATCH($A6,Lune!$C:$C,0)),"") | F6: =IFERROR(UPPER(INDEX(Feuil13!$B:$B,MATCH(A6,Feuil13!$C:$C,0))),"")
A7: =IF(EOMONTH($A6,0)>$A6,$A6+1,"") -> 43836 | B7: =UPPER(TEXT($A7,"jjjj")) -> LUNDI | C7: Ste Tiphaine | D7: =IF(WEEKDAY($A7,2)<>1,"",_xlfn.ISOWEEKNUM($A7)) -> 2 | E7: =IFERROR(INDEX(Lune!$A:$A,MATCH($A7,Lune!$C:$C,0)),"") | F7: =IFERROR(UPPER(INDEX(Feuil13!$B:$B,MATCH(A7,Feuil13!$C:$C,0))),"") -> ÉPIPHANIE
A8: =IF(EOMONTH($A7,0)>$A7,$A7+1,"") -> 43837 | B8: =UPPER(TEXT($A8,"jjjj")) -> MARDI | C8: St Raymond | D8: =IF(WEEKDAY($A8,2)<>1,"",_xlfn.ISOWEEKNUM($A8)) | E8: =IFERROR(INDEX(Lune!$A:$A,MATCH($A8,Lune!$C:$C,0)),"") | F8: =IFERROR(UPPER(INDEX(Feuil13!$B:$B,MATCH(A8,Feuil13!$C:$C,0))),"")
A9: =IF(EOMONTH($A8,0)>$A8,$A8+1,"") -> 43838 | B9: =UPPER(TEXT($A9,"jjjj")) -> MERCREDI | C9: St Lucien | D9: =IF(WEEKDAY($A9,2)<>1,"",_xlfn.ISOWEEKNUM($A9)) | E9: =IFERROR(INDEX(Lune!$A:$A,MATCH($A9,Lune!$C:$C,0)),"") | F9: =IFERROR(UPPER(INDEX(Feuil13!$B:$B,MATCH(A9,Feuil13!$C:$C,0))),"")
A10: =IF(EOMONTH($A9,0)>$A9,$A9+1,"") -> 43839 | B10: =UPPER(TEXT($A10,"jjjj")) -> JEUDI | C10: Ste Alix | D10: =IF(WEEKDAY($A10,2)<>1,"",_xlfn.ISOWEEKNUM($A10)) | E10: =IFERROR(INDEX(Lune!$A:$A,MATCH($A10,Lune!$C:$C,0)),"") | F10: =IFERROR(UPPER(INDEX(Feuil13!$B:$B,MATCH(A10,Feuil13!$C:$C,0))),"")
A11: =IF(EOMONTH($A10,0)>$A10,$A10+1,"") -> 43840 | B11: =UPPER(TEXT($A11,"jjjj")) -> VENDREDI | C11: St Guillaume | D11: =IF(WEEKDAY($A11,2)<>1,"",_xlfn.ISOWEEKNUM($A11)) | E11: =IFERROR(INDEX(Lune!$A:$A,MATCH($A11,Lune!$C:$C,0)),"") ->  | F11: =IFERROR(UPPER(INDEX(Feuil13!$B:$B,MATCH(A11,Feuil13!$C:$C,0))),"")
A12: =IF(EOMONTH($A11,0)>$A11,$A11+1,"") -> 43841 | B12: =UPPER(TEXT($A12,"jjjj")) -> SAMEDI | C12: St Paulin | D12: =IF(WEEKDAY($A12,2)<>1,"",_xlfn.ISOWEEKNUM($A12)) | E12: =IFERROR(INDEX(Lune!$A:$A,MATCH($A12,Lune!$C:$C,0)),"") | F12: =IFERROR(UPPER(INDEX(Feuil13!$B:$B,MATCH(A12,Feuil13!$C:$C,0))),"")
A13: =IF(EOMONTH($A12,0)>$A12,$A12+1,"") -> 43842 | B13: =UPPER(TEXT($A13,"jjjj")) -> DIMANCHE | C13: Ste Tatiana | D13: =IF(WEEKDAY($A13,2)<>1,"",_xlfn.ISOWEEKNUM($A13)) | E13: =IFERROR(INDEX(Lune!$A:$A,MATCH($A13,Lune!$C:$C,0)),"") | F13: =IFERROR(UPPER(INDEX(Feuil13!$B:$B,MATCH(A13,Feuil13!$C:$C,0))),"")
A14: =IF(EOMONTH($A13,0)>$A13,$A13+1,"") -> 43843 | B14: =UPPER(TEXT($A14,"jjjj")) -> LUNDI | C14: Ste Yvette | D14: =IF(WEEKDAY($A14,2)<>1,"",_xlfn.ISOWEEKNUM($A14)) -> 3 | E14: =IFERROR(INDEX(Lune!$A:$A,MATCH($A14,Lune!$C:$C,0)),"") | F14: =IFERROR(UPPER(INDEX(Feuil13!$B:$B,MATCH(A14,Feuil13!$C:$C,0))),"")
... A32: =IF(EOMONTH($A31,0)>$A31,$A31+1,"") -> 43861 | B32: =UPPER(TEXT($A32,"jjjj")) -> VENDREDI | C32: Ste Marcelle | D32: =IF(WEEKDAY($A32,2)<>1,"",_xlfn.ISOWEEKNUM($A32)) | E32: =IFERROR(INDEX(Lune!$A:$A,MATCH($A32,Lune!$C:$C,0)),"") | F32: =IFERROR(UPPER(INDEX(Feuil13!$B:$B,MATCH(A32,Feuil13!$C:$C,0))),"")

Sheet Février
A1: =IF(Feuil13!C2<>"",UPPER(TEXT(DATE(Feuil13!C2,2,1),"mmmm")),"") -> FÉVRIER
A2: =DATE(Feuil13!C2,2,1) -> 43862 | B2: =UPPER(TEXT($A2,"jjjj")) -> SAMEDI | C2: Ste Ella | D2: =IF(WEEKDAY($A2,2)<>1,"",_xlfn.ISOWEEKNUM($A2)) | E2: =IFERROR(INDEX(Lune!$A:$A,MATCH($A2,Lune!$C:$C,0)),"") -> ‚ | F2: =IFERROR(UPPER(INDEX(Feuil13!$B:$B,MATCH(A2,Feuil13!$C:$C,0))),"")
A3: =IF(EOMONTH($A2,0)>$A2,$A2+1,"") -> 43863 | B3: =UPPER(TEXT($A3,"jjjj")) -> DIMANCHE | C3: Ste Theophanie | D3: =IF(WEEKDAY($A3,2)<>1,"",_xlfn.ISOWEEKNUM($A3)) | E3: =IFERROR(INDEX(Lune!$A:$A,MATCH($A3,Lune!$C:$C,0)),"") | F3: =IFERROR(UPPER(INDEX(Feuil13!$B:$B,MATCH(A3,Feuil13!$C:$C,0))),"") -> CHANDELEUR
A4: =IF(EOMONTH($A3,0)>$A3,$A3+1,"") -> 43864 | B4: =UPPER(TEXT($A4,"jjjj")) -> LUNDI | C4: St Blaise | D4: =IF(WEEKDAY($A4,2)<>1,"",_xlfn.ISOWEEKNUM($A4)) -> 6 | E4: =IFERROR(INDEX(Lune!$A:$A,MATCH($A4,Lune!$C:$C,0)),"") | F4: =IFERROR(UPPER(INDEX(Feuil13!$B:$B,MATCH(A4,Feuil13!$C:$C,0))),"")
A5: =IF(EOMONTH($A4,0)>$A4,$A4+1,"") -> 43865 | B5: =UPPER(TEXT($A5,"jjjj")) -> MARDI | C5: Ste Véronique | D5: =IF(WEEKDAY($A5,2)<>1,"",_xlfn.ISOWEEKNUM($A5)) | E5: =IFERROR(INDEX(Lune!$A:$A,MATCH($A5,Lune!$C:$C,0)),"") | F5: =IFERROR(UPPER(INDEX(Feuil13!$B:$B,MATCH(A5,Feuil13!$C:$C,0))),"")
A6: =IF(EOMONTH($A5,0)>$A5,$A5+1,"") -> 43866 | B6: =UPPER(TEXT($A6,"jjjj")) -> MERCREDI | C6: Ste Agathe | D6: =IF(WEEKDAY($A6,2)<>1,"",_xlfn.ISOWEEKNUM($A6)) | E6: =IFERROR(INDEX(Lune!$A:$A,MATCH($A6,Lune!$C:$C,0)),"") | F6: =IFERROR(UPPER(INDEX(Feuil13!$B:$B,MATCH(A6,Feuil13!$C:$C,0))),"")
A7: =IF(EOMONTH($A6,0)>$A6,$A6+1,"") -> 43867 | B7: =UPPER(TEXT($A7,"jjjj")) -> JEUDI | C7: St Gaston | D7: =IF(WEEKDAY($A7,2)<>1,"",_xlfn.ISOWEEKNUM($A7)) | E7: =IFERROR(INDEX(Lune!$A:$A,MATCH($A7,Lune!$C:$C,0)),"") | F7: =IFERROR(UPPER(INDEX(Feuil13!$B:$B,MATCH(A7,Feuil13!$C:$C,0))),"")
A8: =IF(EOMONTH($A7,0)>$A7,$A7+1,"") -> 43868 | B8: =UPPER(TEXT($A8,"jjjj")) -> VENDREDI | C8: Ste Eugénie | D8: =IF(WEEKDAY($A8,2)<>1,"",_xlfn.ISOWEEKNUM($A8)) | E8: =IFERROR(INDEX(Lune!$A:$A,MATCH($A8,Lune!$C:$C,0)),"") | F8: =IFERROR(UPPER(INDEX(Feuil13!$B:$B,MATCH(A8,Feuil13!$C:$C,0))),"")
A9: =IF(EOMONTH($A8,0)>$A8,$A8+1,"") -> 43869 | B9: =UPPER(TEXT($A9,"jjjj")) -> SAMEDI | C9: Ste Jacqueline | D9: =IF(WEEKDAY($A9,2)<>1,"",_xlfn.ISOWEEKNUM($A9)) | E9: =IFERROR(INDEX(Lune!$A:$A,MATCH($A9,Lune!$C:$C,0)),"") | F9: =IFERROR(UPPER(INDEX(Feuil13!$B:$B,MATCH(A9,Feuil13!$C:$C,0))),"")
A10: =IF(EOMONTH($A9,0)>$A9,$A9+1,"") -> 43870 | B10: =UPPER(TEXT($A10,"jjjj")) -> DIMANCHE | C10: Ste Appoline | D10: =IF(WEEKDAY($A10,2)<>1,"",_xlfn.ISOWEEKNUM($A10)) | E10: =IFERROR(INDEX(Lune!$A:$A,MATCH($A10,Lune!$C:$C,0)),"") ->  | F10: =IFERROR(UPPER(INDEX(Feuil13!$B:$B,MATCH(A10,Feuil13!$C:$C,0))),"")
A11: =IF(EOMONTH($A10,0)>$A10,$A10+1,"") -> 43871 | B11: =UPPER(TEXT($A11,"jjjj")) -> LUNDI | C11: St Arnaud | D11: =IF(WEEKDAY($A11,2)<>1,"",_xlfn.ISOWEEKNUM($A11)) -> 7 | E11: =IFERROR(INDEX(Lune!$A:$A,MATCH($A11,Lune!$C:$C,0)),"") | F11: =IFERROR(UPPER(INDEX(Feuil13!$B:$B,MATCH(A11,Feuil13!$C:$C,0))),"")
A12: =IF(EOMONTH($A11,0)>$A11,$A11+1,"") -> 43872 | B12: =UPPER(TEXT($A12,"jjjj")) -> MARDI | C12: N-D Lourdes | D12: =IF(WEEKDAY($A12,2)<>1,"",_xlfn.ISOWEEKNUM($A12)) | E12: =IFERROR(INDEX(Lune!$A:$A,MATCH($A12,Lune!$C:$C,0)),"") | F12: =IFERROR(UPPER(INDEX(Feuil13!$B:$B,MATCH(A12,Feuil13!$C:$C,0))),"")
A13: =IF(EOMONTH($A12,0)>$A12,$A12+1,"") -> 43873 | B13: =UPPER(TEXT($A13,"jjjj")) -> MERCREDI | C13: St Felix | D13: =IF(WEEKDAY($A13,2)<>1,"",_xlfn.ISOWEEKNUM($A13)) | E13: =IFERROR(INDEX(Lune!$A:$A,MATCH($A13,Lune!$C:$C,0)),"") | F13: =IFERROR(UPPER(INDEX(Feuil13!$B:$B,MATCH(A13,Feuil13!$C:$C,0))),"")
A14: =IF(EOMONTH($A13,0)>$A13,$A13+1,"") -> 43874 | B14: =UPPER(TEXT($A14,"jjjj")) -> JEUDI | C14: Ste Béatrice | D14: =IF(WEEKDAY($A14,2)<>1,"",_xlfn.ISOWEEKNUM($A14)) | E14: =IFERROR(INDEX(Lune!$A:$A,MATCH($A14,Lune!$C:$C,0)),"") | F14: =IFERROR(UPPER(INDEX(Feuil13!$B:$B,MATCH(A14,Feuil13!$C:$C,0))),"")
... A30: =IF(EOMONTH($A29,0)>$A29,$A29+1,"") -> 43890 | B30: =UPPER(TEXT($A30,"jjjj")) -> SAMEDI | C30: St Auguste | D30: =IF(WEEKDAY($A30,2)<>1,"",_xlfn.ISOWEEKNUM($A30)) | E30: =IFERROR(INDEX(Lune!$A:$A,MATCH($A30,Lune!$C:$C,0)),"") | F30: =IFERROR(UPPER(INDEX(Feuil13!$B:$B,MATCH(A30,Feuil13!$C:$C,0))),"")

Sheet Mars
A1: =IF(Feuil13!C2<>"",UPPER(TEXT(DATE(Feuil13!C2,3,1),"mmmm")),"") -> MARS
A2: =DATE(Feuil13!C2,3,1) -> 43891 | B2: =UPPER(TEXT($A2,"jjjj")) -> DIMANCHE | C2: St Aubin | D2: =IF(WEEKDAY($A2,2)<>1,"",_xlfn.ISOWEEKNUM($A2)) | E2: =IFERROR(INDEX(Lune!$A:$A,MATCH($A2,Lune!$C:$C,0)),"") | F2: =IFERROR(UPPER(INDEX(Feuil13!$B:$B,MATCH(A2,Feuil13!$C:$C,0))),"") & IF($A2=LEFT(INDEX(Feuil13!K:K,MATCH(Feuil13!$C$2,Feuil13!J:J,0)),5)*1,"PRINTEMPS","") -> FÊTE DES GRANDS-MÈRES | G2: =IFERROR(INDEX(Feuil13!K:K,MATCH(Feuil13!C2,Feuil13!J:J,0)),"") -> 43910.128 | H2: =IF($A2=LEFT(INDEX(Feuil13!K:K,MATCH(Feuil13!$C$2,Feuil13!J:J,0)),5)*1,"PRINTEMPS","") | I2: =IFERROR(UPPER(INDEX(Feuil13!$B:$B,MATCH(A2,Feuil13!$C:$C,0))),"") -> FÊTE DES GRANDS-MÈRES | M2: =OR(IFERROR(UPPER(INDEX(Feuil13!$B:$B,MATCH(A2,Feuil13!$C:$C,0))),""),IFERROR(UPPER(INDEX(Feuil13!$K:$K,MATCH(A2,Feuil13!$J:$J,0))),"")) -> #VALUE!
A3: =IF(EOMONTH($A2,0)>$A2,$A2+1,"") -> 43892 | B3: =UPPER(TEXT($A3,"jjjj")) -> LUNDI | C3: St Charles le Bon | D3: =IF(WEEKDAY($A3,2)<>1,"",_xlfn.ISOWEEKNUM($A3)) -> 10 | E3: =IFERROR(INDEX(Lune!$A:$A,MATCH($A3,Lune!$C:$C,0)),"") -> ‚ | F3: =IFERROR(UPPER(INDEX(Feuil13!$B:$B,MATCH(A3,Feuil13!$C:$C,0))),"") & IF($A3=LEFT(INDEX(Feuil13!K:K,MATCH(Feuil13!$C$2,Feuil13!J:J,0)),5)*1,"PRINTEMPS","") | G3: =IFERROR(INDEX(Feuil13!K:K,MATCH(Feuil13!C3,Feuil13!J:J,0)),"") | H3: =IF($A3=LEFT(INDEX(Feuil13!K:K,MATCH(Feuil13!$C$2,Feuil13!J:J,0)),5)*1,"PRINTEMPS","")
A4: =IF(EOMONTH($A3,0)>$A3,$A3+1,"") -> 43893 | B4: =UPPER(TEXT($A4,"jjjj")) -> MARDI | C4: St Guénolé | D4: =IF(WEEKDAY($A4,2)<>1,"",_xlfn.ISOWEEKNUM($A4)) | E4: =IFERROR(INDEX(Lune!$A:$A,MATCH($A4,Lune!$C:$C,0)),"") | F4: =IFERROR(UPPER(INDEX(Feuil13!$B:$B,MATCH(A4,Feuil13!$C:$C,0))),"") & IF($A4=LEFT(INDEX(Feuil13!K:K,MATCH(Feuil13!$C$2,Feuil13!J:J,0)),5)*1,"PRINTEMPS","") | G4: =IFERROR(INDEX(Feuil13!K:K,MATCH(Feuil13!C4,Feuil13!J:J,0)),"") | H4: =IF($A4=LEFT(INDEX(Feuil13!K:K,MATCH(Feuil13!$C$2,Feuil13!J:J,0)),5)*1,"PRINTEMPS","")
A5: =IF(EOMONTH($A4,0)>$A4,$A4+1,"") -> 43894 | B5: =UPPER(TEXT($A5,"jjjj")) -> MERCREDI | C5: St Casimir | D5: =IF(WEEKDAY($A5,2)<>1,"",_xlfn.ISOWEEKNUM($A5)) | E5: =IFERROR(INDEX(Lune!$A:$A,MATCH($A5,Lune!$C:$C,0)),"") | F5: =IFERROR(UPPER(INDEX(Feuil13!$B:$B,MATCH(A5,Feuil13!$C:$C,0))),"") & IF($A5=LEFT(INDEX(Feuil13!K:K,MATCH(Feuil13!$C$2,Feuil13!J:J,0)),5)*1,"PRINTEMPS","") | G5: =IFERROR(INDEX(Feuil13!K:K,MATCH(Feuil13!C5,Feuil13!J:J,0)),"") | H5: =IF($A5=LEFT(INDEX(Feuil13!K:K,MATCH(Feuil13!$C$2,Feuil13!J:J,0)),5)*1,"PRINTEMPS","")
A6: =IF(EOMONTH($A5,0)>$A5,$A5+1,"") -> 43895 | B6: =UPPER(TEXT($A6,"jjjj")) -> JEUDI | C6: Ste Olive | D6: =IF(WEEKDAY($A6,2)<>1,"",_xlfn.ISOWEEKNUM($A6)) | E6: =IFERROR(INDEX(Lune!$A:$A,MATCH($A6,Lune!$C:$C,0)),"") | F6: =IFERROR(UPPER(INDEX(Feuil13!$B:$B,MATCH(A6,Feuil13!$C:$C,0))),"") & IF($A6=LEFT(INDEX(Feuil13!K:K,MATCH(Feuil13!$C$2,Feuil13!J:J,0)),5)*1,"PRINTEMPS","") | G6: =IFERROR(INDEX(Feuil13!K:K,MATCH(Feuil13!C6,Feuil13!J:J,0)),"") | H6: =IF($A6=LEFT(INDEX(Feuil13!K:K,MATCH(Feuil13!$C$2,Feuil13!J:J,0)),5)*1,"PRINTEMPS","") | I6: =IF(INDEX(Feuil13!K:K,MATCH(Feuil13!C2,Feuil13!J:J,0))<>"","PRINTEMPS","") -> PRINTEMPS
A7: =IF(EOMONTH($A6,0)>$A6,$A6+1,"") -> 43896 | B7: =UPPER(TEXT($A7,"jjjj")) -> VENDREDI | C7: Ste Colette | D7: =IF(WEEKDAY($A7,2)<>1,"",_xlfn.ISOWEEKNUM($A7)) | E7: =IFERROR(INDEX(Lune!$A:$A,MATCH($A7,Lune!$C:$C,0)),"") | F7: =IFERROR(UPPER(INDEX(Feuil13!$B:$B,MATCH(A7,Feuil13!$C:$C,0))),"") & IF($A7=LEFT(INDEX(Feuil13!K:K,MATCH(Feuil13!$C$2,Feuil13!J:J,0)),5)*1,"PRINTEMPS","") | G7: =IFERROR(INDEX(Feuil13!K:K,MATCH(Feuil13!C7,Feuil13!J:J,0)),"") | H7: =IF($A7=LEFT(INDEX(Feuil13!K:K,MATCH(Feuil13!$C$2,Feuil13!J:J,0)),5)*1,"PRINTEMPS","")
A8: =IF(EOMONTH($A7,0)>$A7,$A7+1,"") -> 43897 | B8: =UPPER(TEXT($A8,"jjjj")) -> SAMEDI | C8: Ste Félicité | D8: =IF(WEEKDAY($A8,2)<>1,"",_xlfn.ISOWEEKNUM($A8)) | E8: =IFERROR(INDEX(Lune!$A:$A,MATCH($A8,Lune!$C:$C,0)),"") | F8: =IFERROR(UPPER(INDEX(Feuil13!$B:$B,MATCH(A8,Feuil13!$C:$C,0))),"") & IF($A8=LEFT(INDEX(Feuil13!K:K,MATCH(Feuil13!$C$2,Feuil13!J:J,0)),5)*1,"PRINTEMPS","") | G8: =IFERROR(INDEX(Feuil13!K:K,MATCH(Feuil13!C8,Feuil13!J:J,0)),"") | H8: =IF($A8=LEFT(INDEX(Feuil13!K:K,MATCH(Feuil13!$C$2,Feuil13!J:J,0)),5)*1,"PRINTEMPS","")
A9: =IF(EOMONTH($A8,0)>$A8,$A8+1,"") -> 43898 | B9: =UPPER(TEXT($A9,"jjjj")) -> DIMANCHE | C9: St Jean de Dieu | D9: =IF(WEEKDAY($A9,2)<>1,"",_xlfn.ISOWEEKNUM($A9)) | E9: =IFERROR(INDEX(Lune!$A:$A,MATCH($A9,Lune!$C:$C,0)),"") | F9: =IFERROR(UPPER(INDEX(Feuil13!$B:$B,MATCH(A9,Feuil13!$C:$C,0))),"") & IF($A9=LEFT(INDEX(Feuil13!K:K,MATCH(Feuil13!$C$2,Feuil13!J:J,0)),5)*1,"PRINTEMPS","") | G9: =IFERROR(INDEX(Feuil13!K:K,MATCH(Feuil13!C9,Feuil13!J:J,0)),"") | H9: =IF($A9=LEFT(INDEX(Feuil13!K:K,MATCH(Feuil13!$C$2,Feuil13!J:J,0)),5)*1,"PRINTEMPS","") | I9: ="Printemps "&INDEX(Feuil13!K:K,MATCH(Feuil13!C2,Feuil13!J:J,0)) -> Printemps 43910,1277777778
A10: =IF(EOMONTH($A9,0)>$A9,$A9+1,"") -> 43899 | B10: =UPPER(TEXT($A10,"jjjj")) -> LUNDI | C10: St Françoise | D10: =IF(WEEKDAY($A10,2)<>1,"",_xlfn.ISOWEEKNUM($A10)) -> 11 | E10: =IFERROR(INDEX(Lune!$A:$A,MATCH($A10,Lune!$C:$C,0)),"") ->  | F10: =IFERROR(UPPER(INDEX(Feuil13!$B:$B,MATCH(A10,Feuil13!$C:$C,0))),"") & IF($A10=LEFT(INDEX(Feuil13!K:K,MATCH(Feuil13!$C$2,Feuil13!J:J,0)),5)*1,"PRINTEMPS","") | G10: =IFERROR(INDEX(Feuil13!K:K,MATCH(Feuil13!C10,Feuil13!J:J,0)),"") | H10: =IF($A10=LEFT(INDEX(Feuil13!K:K,MATCH(Feuil13!$C$2,Feuil13!J:J,0)),5)*1,"PRINTEMPS","")
A11: =IF(EOMONTH($A10,0)>$A10,$A10+1,"") -> 43900 | B11: =UPPER(TEXT($A11,"jjjj")) -> MARDI | C11: St Vivien | D11: =IF(WEEKDAY($A11,2)<>1,"",_xlfn.ISOWEEKNUM($A11)) | E11: =IFERROR(INDEX(Lune!$A:$A,MATCH($A11,Lune!$C:$C,0)),"") | F11: =IFERROR(UPPER(INDEX(Feuil13!$B:$B,MATCH(A11,Feuil13!$C:$C,0))),"") & IF($A11=LEFT(INDEX(Feuil13!K:K,MATCH(Feuil13!$C$2,Feuil13!J:J,0)),5)*1,"PRINTEMPS","") | G11: =IFERROR(INDEX(Feuil13!K:K,MATCH(Feuil13!C11,Feuil13!J:J,0)),"") | H11: =IF($A11=LEFT(INDEX(Feuil13!K:K,MATCH(Feuil13!$C$2,Feuil13!J:J,0)),5)*1,"PRINTEMPS","")
A12: =IF(EOMONTH($A11,0)>$A11,$A11+1,"") -> 43901 | B12: =UPPER(TEXT($A12,"jjjj")) -> MERCREDI | C12: Ste Rosine | D12: =IF(WEEKDAY($A12,2)<>1,"",_xlfn.ISOWEEKNUM($A12)) | E12: =IFERROR(INDEX(Lune!$A:$A,MATCH($A12,Lune!$C:$C,0)),"") | F12: =IFERROR(UPPER(INDEX(Feuil13!$B:$B,MATCH(A12,Feuil13!$C:$C,0))),"") & IF($A12=LEFT(INDEX(Feuil13!K:K,MATCH(Feuil13!$C$2,Feuil13!J:J,0)),5)*1,"PRINTEMPS","") | G12: =IFERROR(INDEX(Feuil13!K:K,MATCH(Feuil13!C12,Feuil13!J:J,0)),"") | H12: =IF($A12=LEFT(INDEX(Feuil13!K:K,MATCH(Feuil13!$C$2,Feuil13!J:J,0)),5)*1,"PRINTEMPS","")
A13: =IF(EOMONTH($A12,0)>$A12,$A12+1,"") -> 43902 | B13: =UPPER(TEXT($A13,"jjjj")) -> JEUDI | C13: Ste Justine | D13: =IF(WEEKDAY($A13,2)<>1,"",_xlfn.ISOWEEKNUM($A13)) | E13: =IFERROR(INDEX(Lune!$A:$A,MATCH($A13,Lune!$C:$C,0)),"") | F13: =IFERROR(UPPER(INDEX(Feuil13!$B:$B,MATCH(A13,Feuil13!$C:$C,0))),"") & IF($A13=LEFT(INDEX(Feuil13!K:K,MATCH(Feuil13!$C$2,Feuil13!J:J,0)),5)*1,"PRINTEMPS","") | G13: =IFERROR(INDEX(Feuil13!K:K,MATCH(Feuil13!C13,Feuil13!J:J,0)),"") | H13: =IF($A13=LEFT(INDEX(Feuil13!K:K,MATCH(Feuil13!$C$2,Feuil13!J:J,0)),5)*1,"PRINTEMPS","") | I13: =INDEX(Feuil13!K:K,MATCH(Feuil13!C2,Feuil13!J:J,0)) -> 43910.128
A14: =IF(EOMONTH($A13,0)>$A13,$A13+1,"") -> 43903 | B14: =UPPER(TEXT($A14,"jjjj")) -> VENDREDI | C14: St Rodrigue | D14: =IF(WEEKDAY($A14,2)<>1,"",_xlfn.ISOWEEKNUM($A14)) | E14: =IFERROR(INDEX(Lune!$A:$A,MATCH($A14,Lune!$C:$C,0)),"") | F14: =IFERROR(UPPER(INDEX(Feuil13!$B:$B,MATCH(A14,Feuil13!$C:$C,0))),"") & IF($A14=LEFT(INDEX(Feuil13!K:K,MATCH(Feuil13!$C$2,Feuil13!J:J,0)),5)*1,"PRINTEMPS","") | G14: =IFERROR(INDEX(Feuil13!K:K,MATCH(Feuil13!C14,Feuil13!J:J,0)),"") | H14: =IF($A14=LEFT(INDEX(Feuil13!K:K,MATCH(Feuil13!$C$2,Feuil13!J:J,0)),5)*1,"PRINTEMPS","")
A15: =IF(EOMONTH($A14,0)>$A14,$A14+1,"") -> 43904 | B15: =UPPER(TEXT($A15,"jjjj")) -> SAMEDI | C15: Ste Mathilde | D15: =IF(WEEKDAY($A15,2)<>1,"",_xlfn.ISOWEEKNUM($A15)) | E15: =IFERROR(INDEX(Lune!$A:$A,MATCH($A15,Lune!$C:$C,0)),"") | F15: =IFERROR(UPPER(INDEX(Feuil13!$B:$B,MATCH(A15,Feuil13!$C:$C,0))),"") & IF($A15=LEFT(INDEX(Feuil13!K:K,MATCH(Feuil13!$C$2,Feuil13!J:J,0)),5)*1,"PRINTEMPS","") | G15: =IFERROR(INDEX(Feuil13!K:K,MATCH(Feuil13!C15,Feuil13!J:J,0)),"") | H15: =IF($A15=LEFT(INDEX(Feuil13!K:K,MATCH(Feuil13!$C$2,Feuil13!J:J,0)),5)*1,"PRINTEMPS","")
A16: =IF(EOMONTH($A15,0)>$A15,$A15+1,"") -> 43905 | B16: =UPPER(TEXT($A16,"jjjj")) -> DIMANCHE | C16: St Louise | D16: =IF(WEEKDAY($A16,2)<>1,"",_xlfn.ISOWEEKNUM($A16)) | E16: =IFERROR(INDEX(Lune!$A:$A,MATCH($A16,Lune!$C:$C,0)),"") | F16: =IFERROR(UPPER(INDEX(Feuil13!$B:$B,MATCH(A16,Feuil13!$C:$C,0))),"") & IF($A16=LEFT(INDEX(Feuil13!K:K,MATCH(Feuil13!$C$2,Feuil13!J:J,0)),5)*1,"PRINTEMPS","") | G16: =IFERROR(INDEX(Feuil13!K:K,MATCH(Feuil13!C16,Feuil13!J:J,0)),"") | H16: =IF($A16=LEFT(INDEX(Feuil13!K:K,MATCH(Feuil13!$C$2,Feuil13!J:J,0)),5)*1,"PRINTEMPS","")
A17: =IF(EOMONTH($A16,0)>$A16,$A16+1,"") -> 43906 | B17: =UPPER(TEXT($A17,"jjjj")) -> LUNDI | C17: Ste Bénédicte | D17: =IF(WEEKDAY($A17,2)<>1,"",_xlfn.ISOWEEKNUM($A17)) -> 12 | E17: =IFERROR(INDEX(Lune!$A:$A,MATCH($A17,Lune!$C:$C,0)),"") -> ƒ | F17: =IFERROR(UPPER(INDEX(Feuil13!$B:$B,MATCH(A17,Feuil13!$C:$C,0))),"") & IF($A17=LEFT(INDEX(Feuil13!K:K,MATCH(Feuil13!$C$2,Feuil13!J:J,0)),5)*1,"PRINTEMPS","") | G17: =IFERROR(INDEX(Feuil13!K:K,MATCH(Feuil13!C17,Feuil13!J:J,0)),"") | H17: =IF($A17=LEFT(INDEX(Feuil13!K:K,MATCH(Feuil13!$C$2,Feuil13!J:J,0)),5)*1,"PRINTEMPS","")
A18: =IF(EOMONTH($A17,0)>$A17,$A17+1,"") -> 43907 | B18: =UPPER(TEXT($A18,"jjjj")) -> MARDI | C18: St Patrice | D18: =IF(WEEKDAY($A18,2)<>1,"",_xlfn.ISOWEEKNUM($A18)) | E18: =IFERROR(INDEX(Lune!$A:$A,MATCH($A18,Lune!$C:$C,0)),"") | F18: =IFERROR(UPPER(INDEX(Feuil13!$B:$B,MATCH(A18,Feuil13!$C:$C,0))),"") & IF($A18=LEFT(INDEX(Feuil13!K:K,MATCH(Feuil13!$C$2,Feuil13!J:J,0)),5)*1,"PRINTEMPS","") | G18: =IFERROR(INDEX(Feuil13!K:K,MATCH(Feuil13!C18,Feuil13!J:J,0)),"") | H18: =IF($A18=LEFT(INDEX(Feuil13!K:K,MATCH(Feuil13!$C$2,Feuil13!J:J,0)),5)*1,"PRINTEMPS","")
A19: =IF(EOMONTH($A18,0)>$A18,$A18+1,"") -> 43908 | B19: =UPPER(TEXT($A19,"jjjj")) -> MERCREDI | C19: Ste Cyrille | D19: =IF(WEEKDAY($A19,2)<>1,"",_xlfn.ISOWEEKNUM($A19)) | E19: =IFERROR(INDEX(Lune!$A:$A,MATCH($A19,Lune!$C:$C,0)),"") | F19: =IFERROR(UPPER(INDEX(Feuil13!$B:$B,MATCH(A19,Feuil13!$C:$C,0))),"") & IF($A19=LEFT(INDEX(Feuil13!K:K,MATCH(Feuil13!$C$2,Feuil13!J:J,0)),5)*1,"PRINTEMPS","") | G19: =IFERROR(INDEX(Feuil13!K:K,MATCH(Feuil13!C19,Feuil13!J:J,0)),"") | H19: =IF($A19=LEFT(INDEX(Feuil13!K:K,MATCH(Feuil13!$C$2,Feuil13!J:J,0)),5)*1,"PRINTEMPS","")
A20: =IF(EOMONTH($A19,0)>$A19,$A19+1,"") -> 43909 | B20: =UPPER(TEXT($A20,"jjjj")) -> JEUDI | C20: St Joseph | D20: =IF(WEEKDAY($A20,2)<>1,"",_xlfn.ISOWEEKNUM($A20)) | E20: =IFERROR(INDEX(Lune!$A:$A,MATCH($A20,Lune!$C:$C,0)),"") | F20: =IFERROR(UPPER(INDEX(Feuil13!$B:$B,MATCH(A20,Feuil13!$C:$C,0))),"") & IF($A20=LEFT(INDEX(Feuil13!K:K,MATCH(Feuil13!$C$2,Feuil13!J:J,0)),5)*1,"PRINTEMPS","") | G20: =IFERROR(INDEX(Feuil13!K:K,MATCH(Feuil13!C20,Feuil13!J:J,0)),"") | H20: =IF($A20=LEFT(INDEX(Feuil13!K:K,MATCH(Feuil13!$C$2,Feuil13!J:J,0)),5)*1,"PRINTEMPS","")
A21: =IF(EOMONTH($A20,0)>$A20,$A20+1,"") -> 43910 | B21: =UPPER(TEXT($A21,"jjjj")) -> VENDREDI | C21: Ste Alessandra | D21: =IF(WEEKDAY($A21,2)<>1,"",_xlfn.ISOWEEKNUM($A21)) | E21: =IFERROR(INDEX(Lune!$A:$A,MATCH($A21,Lune!$C:$C,0)),"") | F21: =IFERROR(UPPER(INDEX(Feuil13!$B:$B,MATCH(A21,Feuil13!$C:$C,0))),"") & IF($A21=LEFT(INDEX(Feuil13!K:K,MATCH(Feuil13!$C$2,Feuil13!J:J,0)),5)*1,"PRINTEMPS","") -> PRINTEMPS | G21: =IFERROR(INDEX(Feuil13!K:K,MATCH(Feuil13!C21,Feuil13!J:J,0)),"")
A22: =IF(EOMONTH($A21,0)>$A21,$A21+1,"") -> 43911 | B22: =UPPER(TEXT($A22,"jjjj")) -> SAMEDI | C22: Ste Clémence | D22: =IF(WEEKDAY($A22,2)<>1,"",_xlfn.ISOWEEKNUM($A22)) | E22: =IFERROR(INDEX(Lune!$A:$A,MATCH($A22,Lune!$C:$C,0)),"") | F22: =IFERROR(UPPER(INDEX(Feuil13!$B:$B,MATCH(A22,Feuil13!$C:$C,0))),"") & IF($A22=LEFT(INDEX(Feuil13!K:K,MATCH(Feuil13!$C$2,Feuil13!J:J,0)),5)*1,"PRINTEMPS","") | G22: =IFERROR(INDEX(Feuil13!K:K,MATCH(Feuil13!C22,Feuil13!J:J,0)),"")
A23: =IF(EOMONTH($A22,0)>$A22,$A22+1,"") -> 43912 | B23: =UPPER(TEXT($A23,"jjjj")) -> DIMANCHE | C23: Ste Léa | D23: =IF(WEEKDAY($A23,2)<>1,"",_xlfn.ISOWEEKNUM($A23)) | E23: =IFERROR(INDEX(Lune!$A:$A,MATCH($A23,Lune!$C:$C,0)),"") | F23: =IFERROR(UPPER(INDEX(Feuil13!$B:$B,MATCH(A23,Feuil13!$C:$C,0))),"") & IF($A23=LEFT(INDEX(Feuil13!K:K,MATCH(Feuil13!$C$2,Feuil13!J:J,0)),5)*1,"PRINTEMPS","") | G23: =IFERROR(INDEX(Feuil13!K:K,MATCH(Feuil13!C23,Feuil13!J:J,0)),"")
A24: =IF(EOMONTH($A23,0)>$A23,$A23+1,"") -> 43913 | B24: =UPPER(TEXT($A24,"jjjj")) -> LUNDI | C24: St Victorien | D24: =IF(WEEKDAY($A24,2)<>1,"",_xlfn.ISOWEEKNUM($A24)) -> 13 | E24: =IFERROR(INDEX(Lune!$A:$A,MATCH($A24,Lune!$C:$C,0)),"") | F24: =IFERROR(UPPER(INDEX(Feuil13!$B:$B,MATCH(A24,Feuil13!$C:$C,0))),"") & IF($A24=LEFT(INDEX(Feuil13!K:K,MATCH(Feuil13!$C$2,Feuil13!J:J,0)),5)*1,"PRINTEMPS","") | G24: =IFERROR(INDEX(Feuil13!K:K,MATCH(Feuil13!C24,Feuil13!J:J,0)),"") | H24: =IF($A24=LEFT(INDEX(Feuil13!K:K,MATCH(Feuil13!$C$2,Feuil13!J:J,0)),5)*1,"PRINTEMPS","")
A25: =IF(EOMONTH($A24,0)>$A24,$A24+1,"") -> 43914 | B25: =UPPER(TEXT($A25,"jjjj")) -> MARDI | C25: Ste Cath. De Suède | D25: =IF(WEEKDAY($A25,2)<>1,"",_xlfn.ISOWEEKNUM($A25)) | E25: =IFERROR(INDEX(Lune!$A:$A,MATCH($A25,Lune!$C:$C,0)),"") ->  | F25: =IFERROR(UPPER(INDEX(Feuil13!$B:$B,MATCH(A25,Feuil13!$C:$C,0))),"") & IF($A25=LEFT(INDEX(Feuil13!K:K,MATCH(Feuil13!$C$2,Feuil13!J:J,0)),5)*1,"PRINTEMPS","") | G25: =IFERROR(INDEX(Feuil13!K:K,MATCH(Feuil13!C25,Feuil13!J:J,0)),"") | H25: =IF($A25=LEFT(INDEX(Feuil13!K:K,MATCH(Feuil13!$C$2,Feuil13!J:J,0)),5)*1,"PRINTEMPS","")
A26: =IF(EOMONTH($A25,0)>$A25,$A25+1,"") -> 43915 | B26: =UPPER(TEXT($A26,"jjjj")) -> MERCREDI | C26: Annonciation | D26: =IF(WEEKDAY($A26,2)<>1,"",_xlfn.ISOWEEKNUM($A26)) | E26: =IFERROR(INDEX(Lune!$A:$A,MATCH($A26,Lune!$C:$C,0)),"") | F26: =IFERROR(UPPER(INDEX(Feuil13!$B:$B,MATCH(A26,Feuil13!$C:$C,0))),"") & IF($A26=LEFT(INDEX(Feuil13!K:K,MATCH(Feuil13!$C$2,Feuil13!J:J,0)),5)*1,"PRINTEMPS","") | G26: =IFERROR(INDEX(Feuil13!K:K,MATCH(Feuil13!C26,Feuil13!J:J,0)),"") | H26: =IF($A26=LEFT(INDEX(Feuil13!K:K,MATCH(Feuil13!$C$2,Feuil13!J:J,0)),5)*1,"PRINTEMPS","")
A27: =IF(EOMONTH($A26,0)>$A26,$A26+1,"") -> 43916 | B27: =UPPER(TEXT($A27,"jjjj")) -> JEUDI | C27: Ste Larissa | D27: =IF(WEEKDAY($A27,2)<>1,"",_xlfn.ISOWEEKNUM($A27)) | E27: =IFERROR(INDEX(Lune!$A:$A,MATCH($A27,Lune!$C:$C,0)),"") | F27: =IFERROR(UPPER(INDEX(Feuil13!$B:$B,MATCH(A27,Feuil13!$C:$C,0))),"") & IF($A27=LEFT(INDEX(Feuil13!K:K,MATCH(Feuil13!$C$2,Feuil13!J:J,0)),5)*1,"PRINTEMPS","") | G27: =IFERROR(INDEX(Feuil13!K:K,MATCH(Feuil13!C27,Feuil13!J:J,0)),"") | H27: =IF($A27=LEFT(INDEX(Feuil13!K:K,MATCH(Feuil13!$C$2,Feuil13!J:J,0)),5)*1,"PRINTEMPS","")
A28: =IF(EOMONTH($A27,0)>$A27,$A27+1,"") -> 43917 | B28: =UPPER(TEXT($A28,"jjjj")) -> VENDREDI | C28: St Habib | D28: =IF(WEEKDAY($A28,2)<>1,"",_xlfn.ISOWEEKNUM($A28)) | E28: =IFERROR(INDEX(Lune!$A:$A,MATCH($A28,Lune!$C:$C,0)),"") | F28: =IFERROR(UPPER(INDEX(Feuil13!$B:$B,MATCH(A28,Feuil13!$C:$C,0))),"") & IF($A28=LEFT(INDEX(Feuil13!K:K,MATCH(Feuil13!$C$2,Feuil13!J:J,0)),5)*1,"PRINTEMPS","") | G28: =IFERROR(INDEX(Feuil13!K:K,MATCH(Feuil13!C28,Feuil13!J:J,0)),"") | H28: =IF($A28=LEFT(INDEX(Feuil13!K:K,MATCH(Feuil13!$C$2,Feuil13!J:J,0)),5)*1,"PRINTEMPS","")
A29: =IF(EOMONTH($A28,0)>$A28,$A28+1,"") -> 43918 | B29: =UPPER(TEXT($A29,"jjjj")) -> SAMEDI | C29: Rameaux | D29: =IF(WEEKDAY($A29,2)<>1,"",_xlfn.ISOWEEKNUM($A29)) | E29: =IFERROR(INDEX(Lune!$A:$A,MATCH($A29,Lune!$C:$C,0)),"") | F29: =IFERROR(UPPER(INDEX(Feuil13!$B:$B,MATCH(A29,Feuil13!$C:$C,0))),"") & IF($A29=LEFT(INDEX(Feuil13!K:K,MATCH(Feuil13!$C$2,Feuil13!J:J,0)),5)*1,"PRINTEMPS","") | G29: =IFERROR(INDEX(Feuil13!K:K,MATCH(Feuil13!C29,Feuil13!J:J,0)),"") | H29: =IF($A29=LEFT(INDEX(Feuil13!K:K,MATCH(Feuil13!$C$2,Feuil13!J:J,0)),5)*1,"PRINTEMPS","")
A30: =IF(EOMONTH($A29,0)>$A29,$A29+1,"") -> 43919 | B30: =UPPER(TEXT($A30,"jjjj")) -> DIMANCHE | C30: Ste Gwladys | D30: =IF(WEEKDAY($A30,2)<>1,"",_xlfn.ISOWEEKNUM($A30)) | E30: =IFERROR(INDEX(Lune!$A:$A,MATCH($A30,Lune!$C:$C,0)),"") | F30: =IFERROR(UPPER(INDEX(Feuil13!$B:$B,MATCH(A30,Feuil13!$C:$C,0))),"") & IF($A30=LEFT(INDEX(Feuil13!K:K,MATCH(Feuil13!$C$2,Feuil13!J:J,0)),5)*1,"PRINTEMPS","") | G30: =IFERROR(INDEX(Feuil13!K:K,MATCH(Feuil13!C30,Feuil13!J:J,0)),"") | H30: =IF($A30=LEFT(INDEX(Feuil13!K:K,MATCH(Feuil13!$C$2,Feuil13!J:J,0)),5)*1,"PRINTEMPS","")
A31: =IF(EOMONTH($A30,0)>$A30,$A30+1,"") -> 43920 | B31: =UPPER(TEXT($A31,"jjjj")) -> LUNDI | C31: Ste Amédée | D31: =IF(WEEKDAY($A31,2)<>1,"",_xlfn.ISOWEEKNUM($A31)) -> 14 | E31: =IFERROR(INDEX(Lune!$A:$A,MATCH($A31,Lune!$C:$C,0)),"") | F31: =IFERROR(UPPER(INDEX(Feuil13!$B:$B,MATCH(A31,Feuil13!$C:$C,0))),"") & IF($A31=LEFT(INDEX(Feuil13!K:K,MATCH(Feuil13!$C$2,Feuil13!J:J,0)),5)*1,"PRINTEMPS","") | G31: =IFERROR(INDEX(Feuil13!K:K,MATCH(Feuil13!C31,Feuil13!J:J,0)),"") | H31: =IF($A31=LEFT(INDEX(Feuil13!K:K,MATCH(Feuil13!$C$2,Feuil13!J:J,0)),5)*1,"PRINTEMPS","")
A32: =IF(EOMONTH($A31,0)>$A31,$A31+1,"") -> 43921 | B32: =UPPER(TEXT($A32,"jjjj")) -> MARDI | C32: St Benjamin | D32: =IF(WEEKDAY($A32,2)<>1,"",_xlfn.ISOWEEKNUM($A32)) | E32: =IFERROR(INDEX(Lune!$A:$A,MATCH($A32,Lune!$C:$C,0)),"") | F32: =IFERROR(UPPER(INDEX(Feuil13!$B:$B,MATCH(A32,Feuil13!$C:$C,0))),"") & IF($A32=LEFT(INDEX(Feuil13!K:K,MATCH(Feuil13!$C$2,Feuil13!J:J,0)),5)*1,"PRINTEMPS","") | G32: =IFERROR(INDEX(Feuil13!K:K,MATCH(Feuil13!C32,Feuil13!J:J,0)),"") | H32: =IF($A32=LEFT(INDEX(Feuil13!K:K,MATCH(Feuil13!$C$2,Feuil13!J:J,0)),5)*1,"PRINTEMPS","")

Sheet Avril
A1: =IF(Feuil13!C2<>"",UPPER(TEXT(DATE(Feuil13!C2,4,1),"mmmm")),"") -> AVRIL
A2: =DATE(Feuil13!C2,4,1) -> 43922 | B2: =UPPER(TEXT($A2,"jjjj")) -> MERCREDI | C2: St Hugues | D2: =IF(WEEKDAY($A2,2)<>1,"",_xlfn.ISOWEEKNUM($A2)) | E2: =IFERROR(INDEX(Lune!$A:$A,MATCH($A2,Lune!$C:$C,0)),"") -> ‚ | F2: =IFERROR(UPPER(INDEX(Feuil13!$B:$B,MATCH(A2,Feuil13!$C:$C,0))),"")
A3: =IF(EOMONTH($A2,0)>$A2,$A2+1,"") -> 43923 | B3: =UPPER(TEXT($A3,"jjjj")) -> JEUDI | C3: Ste Sandrine | D3: =IF(WEEKDAY($A3,2)<>1,"",_xlfn.ISOWEEKNUM($A3)) | E3: =IFERROR(INDEX(Lune!$A:$A,MATCH($A3,Lune!$C:$C,0)),"") | F3: =IFERROR(UPPER(INDEX(Feuil13!$B:$B,MATCH(A3,Feuil13!$C:$C,0))),"")
A4: =IF(EOMONTH($A3,0)>$A3,$A3+1,"") -> 43924 | B4: =UPPER(TEXT($A4,"jjjj")) -> VENDREDI | C4: St Richard | D4: =IF(WEEKDAY($A4,2)<>1,"",_xlfn.ISOWEEKNUM($A4)) | E4: =IFERROR(INDEX(Lune!$A:$A,MATCH($A4,Lune!$C:$C,0)),"") | F4: =IFERROR(UPPER(INDEX(Feuil13!$B:$B,MATCH(A4,Feuil13!$C:$C,0))),"")
A5: =IF(EOMONTH($A4,0)>$A4,$A4+1,"") -> 43925 | B5: =UPPER(TEXT($A5,"jjjj")) -> SAMEDI | C5: St Isidore | D5: =IF(WEEKDAY($A5,2)<>1,"",_xlfn.ISOWEEKNUM($A5)) | E5: =IFERROR(INDEX(Lune!$A:$A,MATCH($A5,Lune!$C:$C,0)),"") | F5: =IFERROR(UPPER(INDEX(Feuil13!$B:$B,MATCH(A5,Feuil13!$C:$C,0))),"")
A6: =IF(EOMONTH($A5,0)>$A5,$A5+1,"") -> 43926 | B6: =UPPER(TEXT($A6,"jjjj")) -> DIMANCHE | C6: Ste Irene | D6: =IF(WEEKDAY($A6,2)<>1,"",_xlfn.ISOWEEKNUM($A6)) | E6: =IFERROR(INDEX(Lune!$A:$A,MATCH($A6,Lune!$C:$C,0)),"") | F6: =IFERROR(UPPER(INDEX(Feuil13!$B:$B,MATCH(A6,Feuil13!$C:$C,0))),"") -> RAMEAUX
A7: =IF(EOMONTH($A6,0)>$A6,$A6+1,"") -> 43927 | B7: =UPPER(TEXT($A7,"jjjj")) -> LUNDI | C7: St Marcellin | D7: =IF(WEEKDAY($A7,2)<>1,"",_xlfn.ISOWEEKNUM($A7)) -> 15 | E7: =IFERROR(INDEX(Lune!$A:$A,MATCH($A7,Lune!$C:$C,0)),"") | F7: =IFERROR(UPPER(INDEX(Feuil13!$B:$B,MATCH(A7,Feuil13!$C:$C,0))),"")
A8: =IF(EOMONTH($A7,0)>$A7,$A7+1,"") -> 43928 | B8: =UPPER(TEXT($A8,"jjjj")) -> MARDI | C8: St J. B de la Salle | D8: =IF(WEEKDAY($A8,2)<>1,"",_xlfn.ISOWEEKNUM($A8)) | E8: =IFERROR(INDEX(Lune!$A:$A,MATCH($A8,Lune!$C:$C,0)),"") | F8: =IFERROR(UPPER(INDEX(Feuil13!$B:$B,MATCH(A8,Feuil13!$C:$C,0))),"")
A9: =IF(EOMONTH($A8,0)>$A8,$A8+1,"") -> 43929 | B9: =UPPER(TEXT($A9,"jjjj")) -> MERCREDI | C9: Ste Julie | D9: =IF(WEEKDAY($A9,2)<>1,"",_xlfn.ISOWEEKNUM($A9)) | E9: =IFERROR(INDEX(Lune!$A:$A,MATCH($A9,Lune!$C:$C,0)),"") ->  | F9: =IFERROR(UPPER(INDEX(Feuil13!$B:$B,MATCH(A9,Feuil13!$C:$C,0))),"")
A10: =IF(EOMONTH($A9,0)>$A9,$A9+1,"") -> 43930 | B10: =UPPER(TEXT($A10,"jjjj")) -> JEUDI | C10: St Gauthier | D10: =IF(WEEKDAY($A10,2)<>1,"",_xlfn.ISOWEEKNUM($A10)) | E10: =IFERROR(INDEX(Lune!$A:$A,MATCH($A10,Lune!$C:$C,0)),"") | F10: =IFERROR(UPPER(INDEX(Feuil13!$B:$B,MATCH(A10,Feuil13!$C:$C,0))),"")
A11: =IF(EOMONTH($A10,0)>$A10,$A10+1,"") -> 43931 | B11: =UPPER(TEXT($A11,"jjjj")) -> VENDREDI | C11: St Fulbert | D11: =IF(WEEKDAY($A11,2)<>1,"",_xlfn.ISOWEEKNUM($A11)) | E11: =IFERROR(INDEX(Lune!$A:$A,MATCH($A11,Lune!$C:$C,0)),"") | F11: =IFERROR(UPPER(INDEX(Feuil13!$B:$B,MATCH(A11,Feuil13!$C:$C,0))),"") -> VENDREDI SAINT
A12: =IF(EOMONTH($A11,0)>$A11,$A11+1,"") -> 43932 | B12: =UPPER(TEXT($A12,"jjjj")) -> SAMEDI | C12: St Stanislas | D12: =IF(WEEKDAY($A12,2)<>1,"",_xlfn.ISOWEEKNUM($A12)) | E12: =IFERROR(INDEX(Lune!$A:$A,MATCH($A12,Lune!$C:$C,0)),"") | F12: =IFERROR(UPPER(INDEX(Feuil13!$B:$B,MATCH(A12,Feuil13!$C:$C,0))),"")
A13: =IF(EOMONTH($A12,0)>$A12,$A12+1,"") -> 43933 | B13: =UPPER(TEXT($A13,"jjjj")) -> DIMANCHE | C13: St Jules | D13: =IF(WEEKDAY($A13,2)<>1,"",_xlfn.ISOWEEKNUM($A13)) | E13: =IFERROR(INDEX(Lune!$A:$A,MATCH($A13,Lune!$C:$C,0)),"") | F13: =IFERROR(UPPER(INDEX(Feuil13!$B:$B,MATCH(A13,Feuil13!$C:$C,0))),"") -> PÂQUES
A14: =IF(EOMONTH($A13,0)>$A13,$A13+1,"") -> 43934 | B14: =UPPER(TEXT($A14,"jjjj")) -> LUNDI | C14: St Ida | D14: =IF(WEEKDAY($A14,2)<>1,"",_xlfn.ISOWEEKNUM($A14)) -> 16 | E14: =IFERROR(INDEX(Lune!$A:$A,MATCH($A14,Lune!$C:$C,0)),"") | F14: =IFERROR(UPPER(INDEX(Feuil13!$B:$B,MATCH(A14,Feuil13!$C:$C,0))),"") -> LUNDI DE PÂQUES
... A31: =IF(EOMONTH($A30,0)>$A30,$A30+1,"") -> 43951 | B31: =UPPER(TEXT($A31,"jjjj")) -> JEUDI | C31: St Robert | D31: =IF(WEEKDAY($A31,2)<>1,"",_xlfn.ISOWEEKNUM($A31)) | E31: =IFERROR(INDEX(Lune!$A:$A,MATCH($A31,Lune!$C:$C,0)),"") -> ‚ | F31: =IFERROR(UPPER(INDEX(Feuil13!$B:$B,MATCH(A31,Feuil13!$C:$C,0))),"")

Sheet Mai
A1: =IF(Feuil13!C2<>"",UPPER(TEXT(DATE(Feuil13!C2,5,1),"mmmm")),"") -> MAI
A2: =DATE(Feuil13!C2,5,1) -> 43952 | B2: =UPPER(TEXT($A2,"jjjj")) -> VENDREDI | C2: St Jérémy | D2: =IF(WEEKDAY($A2,2)<>1,"",_xlfn.ISOWEEKNUM($A2)) | E2: =IFERROR(INDEX(Lune!$A:$A,MATCH($A2,Lune!$C:$C,0)),"") | F2: =IFERROR(UPPER(INDEX(Feuil13!$B:$B,MATCH(A2,Feuil13!$C:$C,0))),"") -> FÊTE DU TRAVAIL
A3: =IF(EOMONTH($A2,0)>$A2,$A2+1,"") -> 43953 | B3: =UPPER(TEXT($A3,"jjjj")) -> SAMEDI | C3: St Boris | D3: =IF(WEEKDAY($A3,2)<>1,"",_xlfn.ISOWEEKNUM($A3)) | E3: =IFERROR(INDEX(Lune!$A:$A,MATCH($A3,Lune!$C:$C,0)),"") | F3: =IFERROR(UPPER(INDEX(Feuil13!$B:$B,MATCH(A3,Feuil13!$C:$C,0))),"")
A4: =IF(EOMONTH($A3,0)>$A3,$A3+1,"") -> 43954 | B4: =UPPER(TEXT($A4,"jjjj")) -> DIMANCHE | C4: St Philippe/Jacques | D4: =IF(WEEKDAY($A4,2)<>1,"",_xlfn.ISOWEEKNUM($A4)) | E4: =IFERROR(INDEX(Lune!$A:$A,MATCH($A4,Lune!$C:$C,0)),"") | F4: =IFERROR(UPPER(INDEX(Feuil13!$B:$B,MATCH(A4,Feuil13!$C:$C,0))),"")
A5: =IF(EOMONTH($A4,0)>$A4,$A4+1,"") -> 43955 | B5: =UPPER(TEXT($A5,"jjjj")) -> LUNDI | C5: St Sylvain | D5: =IF(WEEKDAY($A5,2)<>1,"",_xlfn.ISOWEEKNUM($A5)) -> 19 | E5: =IFERROR(INDEX(Lune!$A:$A,MATCH($A5,Lune!$C:$C,0)),"") | F5: =IFERROR(UPPER(INDEX(Feuil13!$B:$B,MATCH(A5,Feuil13!$C:$C,0))),"")
A6: =IF(EOMONTH($A5,0)>$A5,$A5+1,"") -> 43956 | B6: =UPPER(TEXT($A6,"jjjj")) -> MARDI | C6: Ste Judith | D6: =IF(WEEKDAY($A6,2)<>1,"",_xlfn.ISOWEEKNUM($A6)) | E6: =IFERROR(INDEX(Lune!$A:$A,MATCH($A6,Lune!$C:$C,0)),"") | F6: =IFERROR(UPPER(INDEX(Feuil13!$B:$B,MATCH(A6,Feuil13!$C:$C,0))),"")
A7: =IF(EOMONTH($A6,0)>$A6,$A6+1,"") -> 43957 | B7: =UPPER(TEXT($A7,"jjjj")) -> MERCREDI | C7: Ste Prudence | D7: =IF(WEEKDAY($A7,2)<>1,"",_xlfn.ISOWEEKNUM($A7)) | E7: =IFERROR(INDEX(Lune!$A:$A,MATCH($A7,Lune!$C:$C,0)),"") | F7: =IFERROR(UPPER(INDEX(Feuil13!$B:$B,MATCH(A7,Feuil13!$C:$C,0))),"")
A8: =IF(EOMONTH($A7,0)>$A7,$A7+1,"") -> 43958 | B8: =UPPER(TEXT($A8,"jjjj")) -> JEUDI | C8: Ste Gisèle | D8: =IF(WEEKDAY($A8,2)<>1,"",_xlfn.ISOWEEKNUM($A8)) | E8: =IFERROR(INDEX(Lune!$A:$A,MATCH($A8,Lune!$C:$C,0)),"") ->  | F8: =IFERROR(UPPER(INDEX(Feuil13!$B:$B,MATCH(A8,Feuil13!$C:$C,0))),"")
A9: =IF(EOMONTH($A8,0)>$A8,$A8+1,"") -> 43959 | B9: =UPPER(TEXT($A9,"jjjj")) -> VENDREDI | C9: St Désiré(e) | D9: =IF(WEEKDAY($A9,2)<>1,"",_xlfn.ISOWEEKNUM($A9)) | E9: =IFERROR(INDEX(Lune!$A:$A,MATCH($A9,Lune!$C:$C,0)),"") | F9: =IFERROR(UPPER(INDEX(Feuil13!$B:$B,MATCH(A9,Feuil13!$C:$C,0))),"") -> VICTOIRE 1945
A10: =IF(EOMONTH($A9,0)>$A9,$A9+1,"") -> 43960 | B10: =UPPER(TEXT($A10,"jjjj")) -> SAMEDI | C10: St Pacôme | D10: =IF(WEEKDAY($A10,2)<>1,"",_xlfn.ISOWEEKNUM($A10)) | E10: =IFERROR(INDEX(Lune!$A:$A,MATCH($A10,Lune!$C:$C,0)),"") | F10: =IFERROR(UPPER(INDEX(Feuil13!$B:$B,MATCH(A10,Feuil13!$C:$C,0))),"")
A11: =IF(EOMONTH($A10,0)>$A10,$A10+1,"") -> 43961 | B11: =UPPER(TEXT($A11,"jjjj")) -> DIMANCHE | C11: Ste Solange | D11: =IF(WEEKDAY($A11,2)<>1,"",_xlfn.ISOWEEKNUM($A11)) | E11: =IFERROR(INDEX(Lune!$A:$A,MATCH($A11,Lune!$C:$C,0)),"") | F11: =IFERROR(UPPER(INDEX(Feuil13!$B:$B,MATCH(A11,Feuil13!$C:$C,0))),"")
A12: =IF(EOMONTH($A11,0)>$A11,$A11+1,"") -> 43962 | B12: =UPPER(TEXT($A12,"jjjj")) -> LUNDI | C12: Ste Estelle | D12: =IF(WEEKDAY($A12,2)<>1,"",_xlfn.ISOWEEKNUM($A12)) -> 20 | E12: =IFERROR(INDEX(Lune!$A:$A,MATCH($A12,Lune!$C:$C,0)),"") | F12: =IFERROR(UPPER(INDEX(Feuil13!$B:$B,MATCH(A12,Feuil13!$C:$C,0))),"")
A13: =IF(EOMONTH($A12,0)>$A12,$A12+1,"") -> 43963 | B13: =UPPER(TEXT($A13,"jjjj")) -> MARDI | C13: St Achille | D13: =IF(WEEKDAY($A13,2)<>1,"",_xlfn.ISOWEEKNUM($A13)) | E13: =IFERROR(INDEX(Lune!$A:$A,MATCH($A13,Lune!$C:$C,0)),"") | F13: =IFERROR(UPPER(INDEX(Feuil13!$B:$B,MATCH(A13,Feuil13!$C:$C,0))),"")
A14: =IF(EOMONTH($A13,0)>$A13,$A13+1,"") -> 43964 | B14: =UPPER(TEXT($A14,"jjjj")) -> MERCREDI | C14: Ste Rolande | D14: =IF(WEEKDAY($A14,2)<>1,"",_xlfn.ISOWEEKNUM($A14)) | E14: =IFERROR(INDEX(Lune!$A:$A,MATCH($A14,Lune!$C:$C,0)),"") | F14: =IFERROR(UPPER(INDEX(Feuil13!$B:$B,MATCH(A14,Feuil13!$C:$C,0))),"")
... A32: =IF(EOMONTH($A31,0)>$A31,$A31+1,"") -> 43982 | B32: =UPPER(TEXT($A32,"jjjj")) -> DIMANCHE | C32: Ste Marie-Lise | D32: =IF(WEEKDAY($A32,2)<>1,"",_xlfn.ISOWEEKNUM($A32)) | E32: =IFERROR(INDEX(Lune!$A:$A,MATCH($A32,Lune!$C:$C,0)),"") | F32: =IFERROR(UPPER(INDEX(Feuil13!$B:$B,MATCH(A32,Feuil13!$C:$C,0))),"") -> PENTECÔTE

Sheet Juin
A1: =IF(Feuil13!C2<>"",UPPER(TEXT(DATE(Feuil13!C2,6,1),"mmmm")),"") -> JUIN
A2: =DATE(Feuil13!C2,6,1) -> 43983 | B2: =UPPER(TEXT($A2,"jjjj")) -> LUNDI | C2: St Justin | D2: =IF(WEEKDAY($A2,2)<>1,"",_xlfn.ISOWEEKNUM($A2)) -> 23 | E2: =IFERROR(INDEX(Lune!$A:$A,MATCH($A2,Lune!$C:$C,0)),"") | F2: =IFERROR(UPPER(INDEX(Feuil13!$B:$B,MATCH(A2,Feuil13!$C:$C,0))),"") -> LUNDI DE PENTECÔTE
A3: =IF(EOMONTH($A2,0)>$A2,$A2+1,"") -> 43984 | B3: =UPPER(TEXT($A3,"jjjj")) -> MARDI | C3: St Blandine | D3: =IF(WEEKDAY($A3,2)<>1,"",_xlfn.ISOWEEKNUM($A3)) | E3: =IFERROR(INDEX(Lune!$A:$A,MATCH($A3,Lune!$C:$C,0)),"") | F3: =IFERROR(UPPER(INDEX(Feuil13!$B:$B,MATCH(A3,Feuil13!$C:$C,0))),"")
A4: =IF(EOMONTH($A3,0)>$A3,$A3+1,"") -> 43985 | B4: =UPPER(TEXT($A4,"jjjj")) -> MERCREDI | C4: St Kévin | D4: =IF(WEEKDAY($A4,2)<>1,"",_xlfn.ISOWEEKNUM($A4)) | E4: =IFERROR(INDEX(Lune!$A:$A,MATCH($A4,Lune!$C:$C,0)),"") | F4: =IFERROR(UPPER(INDEX(Feuil13!$B:$B,MATCH(A4,Feuil13!$C:$C,0))),"")
A5: =IF(EOMONTH($A4,0)>$A4,$A4+1,"") -> 43986 | B5: =UPPER(TEXT($A5,"jjjj")) -> JEUDI | C5: Ste Clotilde | D5: =IF(WEEKDAY($A5,2)<>1,"",_xlfn.ISOWEEKNUM($A5)) | E5: =IFERROR(INDEX(Lune!$A:$A,MATCH($A5,Lune!$C:$C,0)),"") | F5: =IFERROR(UPPER(INDEX(Feuil13!$B:$B,MATCH(A5,Feuil13!$C:$C,0))),"")
A6: =IF(EOMONTH($A5,0)>$A5,$A5+1,"") -> 43987 | B6: =UPPER(TEXT($A6,"jjjj")) -> VENDREDI | C6: St Igor | D6: =IF(WEEKDAY($A6,2)<>1,"",_xlfn.ISOWEEKNUM($A6)) | E6: =IFERROR(INDEX(Lune!$A:$A,MATCH($A6,Lune!$C:$C,0)),"") ->  | F6: =IFERROR(UPPER(INDEX(Feuil13!$B:$B,MATCH(A6,Feuil13!$C:$C,0))),"")
A7: =IF(EOMONTH($A6,0)>$A6,$A6+1,"") -> 43988 | B7: =UPPER(TEXT($A7,"jjjj")) -> SAMEDI | C7: St Norbert | D7: =IF(WEEKDAY($A7,2)<>1,"",_xlfn.ISOWEEKNUM($A7)) | E7: =IFERROR(INDEX(Lune!$A:$A,MATCH($A7,Lune!$C:$C,0)),"") | F7: =IFERROR(UPPER(INDEX(Feuil13!$B:$B,MATCH(A7,Feuil13!$C:$C,0))),"")
A8: =IF(EOMONTH($A7,0)>$A7,$A7+1,"") -> 43989 | B8: =UPPER(TEXT($A8,"jjjj")) -> DIMANCHE | C8: St Gilbert | D8: =IF(WEEKDAY($A8,2)<>1,"",_xlfn.ISOWEEKNUM($A8)) | E8: =IFERROR(INDEX(Lune!$A:$A,MATCH($A8,Lune!$C:$C,0)),"") | F8: =IFERROR(UPPER(INDEX(Feuil13!$B:$B,MATCH(A8,Feuil13!$C:$C,0))),"") -> FÊTE DES MÈRES
A9: =IF(EOMONTH($A8,0)>$A8,$A8+1,"") -> 43990 | B9: =UPPER(TEXT($A9,"jjjj")) -> LUNDI | C9: St Médard | D9: =IF(WEEKDAY($A9,2)<>1,"",_xlfn.ISOWEEKNUM($A9)) -> 24 | E9: =IFERROR(INDEX(Lune!$A:$A,MATCH($A9,Lune!$C:$C,0)),"") | F9: =IFERROR(UPPER(INDEX(Feuil13!$B:$B,MATCH(A9,Feuil13!$C:$C,0))),"")
A10: =IF(EOMONTH($A9,0)>$A9,$A9+1,"") -> 43991 | B10: =UPPER(TEXT($A10,"jjjj")) -> MARDI | C10: Ste Diane | D10: =IF(WEEKDAY($A10,2)<>1,"",_xlfn.ISOWEEKNUM($A10)) | E10: =IFERROR(INDEX(Lune!$A:$A,MATCH($A10,Lune!$C:$C,0)),"") | F10: =IFERROR(UPPER(INDEX(Feuil13!$B:$B,MATCH(A10,Feuil13!$C:$C,0))),"")
A11: =IF(EOMONTH($A10,0)>$A10,$A10+1,"") -> 43992 | B11: =UPPER(TEXT($A11,"jjjj")) -> MERCREDI | C11: St Landry | D11: =IF(WEEKDAY($A11,2)<>1,"",_xlfn.ISOWEEKNUM($A11)) | E11: =IFERROR(INDEX(Lune!$A:$A,MATCH($A11,Lune!$C:$C,0)),"") | F11: =IFERROR(UPPER(INDEX(Feuil13!$B:$B,MATCH(A11,Feuil13!$C:$C,0))),"")
A12: =IF(EOMONTH($A11,0)>$A11,$A11+1,"") -> 43993 | B12: =UPPER(TEXT($A12,"jjjj")) -> JEUDI | C12: St Barnabé | D12: =IF(WEEKDAY($A12,2)<>1,"",_xlfn.ISOWEEKNUM($A12)) | E12: =IFERROR(INDEX(Lune!$A:$A,MATCH($A12,Lune!$C:$C,0)),"") | F12: =IFERROR(UPPER(INDEX(Feuil13!$B:$B,MATCH(A12,Feuil13!$C:$C,0))),"")
A13: =IF(EOMONTH($A12,0)>$A12,$A12+1,"") -> 43994 | B13: =UPPER(TEXT($A13,"jjjj")) -> VENDREDI | C13: St Guy | D13: =IF(WEEKDAY($A13,2)<>1,"",_xlfn.ISOWEEKNUM($A13)) | E13: =IFERROR(INDEX(Lune!$A:$A,MATCH($A13,Lune!$C:$C,0)),"") | F13: =IFERROR(UPPER(INDEX(Feuil13!$B:$B,MATCH(A13,Feuil13!$C:$C,0))),"")
A14: =IF(EOMONTH($A13,0)>$A13,$A13+1,"") -> 43995 | B14: =UPPER(TEXT($A14,"jjjj")) -> SAMEDI | C14: St Antoine | D14: =IF(WEEKDAY($A14,2)<>1,"",_xlfn.ISOWEEKNUM($A14)) | E14: =IFERROR(INDEX(Lune!$A:$A,MATCH($A14,Lune!$C:$C,0)),"") -> ƒ | F14: =IFERROR(UPPER(INDEX(Feuil13!$B:$B,MATCH(A14,Feuil13!$C:$C,0))),"")
... A31: =IF(EOMONTH($A30,0)>$A30,$A30+1,"") -> 44012 | B31: =UPPER(TEXT($A31,"jjjj")) -> MARDI | C31: St Martial | D31: =IF(WEEKDAY($A31,2)<>1,"",_xlfn.ISOWEEKNUM($A31)) | E31: =IFERROR(INDEX(Lune!$A:$A,MATCH($A31,Lune!$C:$C,0)),"") | F31: =IFERROR(UPPER(INDEX(Feuil13!$B:$B,MATCH(A31,Feuil13!$C:$C,0))),"")

Sheet Juillet
A1: =IF(Feuil13!C2<>"",UPPER(TEXT(DATE(Feuil13!C2,7,1),"mmmm")),"") -> JUILLET
A2: =DATE(Feuil13!C2,7,1) -> 44013 | B2: =UPPER(TEXT($A2,"jjjj")) -> MERCREDI | C2: St Thierry | D2: =IF(WEEKDAY($A2,2)<>1,"",_xlfn.ISOWEEKNUM($A2)) | E2: =IFERROR(INDEX(Lune!$A:$A,MATCH($A2,Lune!$C:$C,0)),"") | F2: =IFERROR(UPPER(INDEX(Feuil13!$B:$B,MATCH(A2,Feuil13!$C:$C,0))),"")
A3: =IF(EOMONTH($A2,0)>$A2,$A2+1,"") -> 44014 | B3: =UPPER(TEXT($A3,"jjjj")) -> JEUDI | C3: St Martinien | D3: =IF(WEEKDAY($A3,2)<>1,"",_xlfn.ISOWEEKNUM($A3)) | E3: =IFERROR(INDEX(Lune!$A:$A,MATCH($A3,Lune!$C:$C,0)),"") | F3: =IFERROR(UPPER(INDEX(Feuil13!$B:$B,MATCH(A3,Feuil13!$C:$C,0))),"")
A4: =IF(EOMONTH($A3,0)>$A3,$A3+1,"") -> 44015 | B4: =UPPER(TEXT($A4,"jjjj")) -> VENDREDI | C4: St Thomas | D4: =IF(WEEKDAY($A4,2)<>1,"",_xlfn.ISOWEEKNUM($A4)) | E4: =IFERROR(INDEX(Lune!$A:$A,MATCH($A4,Lune!$C:$C,0)),"") | F4: =IFERROR(UPPER(INDEX(Feuil13!$B:$B,MATCH(A4,Feuil13!$C:$C,0))),"")
A5: =IF(EOMONTH($A4,0)>$A4,$A4+1,"") -> 44016 | B5: =UPPER(TEXT($A5,"jjjj")) -> SAMEDI | C5: St Florent | D5: =IF(WEEKDAY($A5,2)<>1,"",_xlfn.ISOWEEKNUM($A5)) | E5: =IFERROR(INDEX(Lune!$A:$A,MATCH($A5,Lune!$C:$C,0)),"") | F5: =IFERROR(UPPER(INDEX(Feuil13!$B:$B,MATCH(A5,Feuil13!$C:$C,0))),"")
A6: =IF(EOMONTH($A5,0)>$A5,$A5+1,"") -> 44017 | B6: =UPPER(TEXT($A6,"jjjj")) -> DIMANCHE | C6: St Antoine-Marie | D6: =IF(WEEKDAY($A6,2)<>1,"",_xlfn.ISOWEEKNUM($A6)) | E6: =IFERROR(INDEX(Lune!$A:$A,MATCH($A6,Lune!$C:$C,0)),"") ->  | F6: =IFERROR(UPPER(INDEX(Feuil13!$B:$B,MATCH(A6,Feuil13!$C:$C,0))),"")
A7: =IF(EOMONTH($A6,0)>$A6,$A6+1,"") -> 44018 | B7: =UPPER(TEXT($A7,"jjjj")) -> LUNDI | C7: Ste Mariette | D7: =IF(WEEKDAY($A7,2)<>1,"",_xlfn.ISOWEEKNUM($A7)) -> 28 | E7: =IFERROR(INDEX(Lune!$A:$A,MATCH($A7,Lune!$C:$C,0)),"") | F7: =IFERROR(UPPER(INDEX(Feuil13!$B:$B,MATCH(A7,Feuil13!$C:$C,0))),"")
A8: =IF(EOMONTH($A7,0)>$A7,$A7+1,"") -> 44019 | B8: =UPPER(TEXT($A8,"jjjj")) -> MARDI | C8: St Raoul | D8: =IF(WEEKDAY($A8,2)<>1,"",_xlfn.ISOWEEKNUM($A8)) | E8: =IFERROR(INDEX(Lune!$A:$A,MATCH($A8,Lune!$C:$C,0)),"") | F8: =IFERROR(UPPER(INDEX(Feuil13!$B:$B,MATCH(A8,Feuil13!$C:$C,0))),"")
A9: =IF(EOMONTH($A8,0)>$A8,$A8+1,"") -> 44020 | B9: =UPPER(TEXT($A9,"jjjj")) -> MERCREDI | C9: St Thibault | D9: =IF(WEEKDAY($A9,2)<>1,"",_xlfn.ISOWEEKNUM($A9)) | E9: =IFERROR(INDEX(Lune!$A:$A,MATCH($A9,Lune!$C:$C,0)),"") | F9: =IFERROR(UPPER(INDEX(Feuil13!$B:$B,MATCH(A9,Feuil13!$C:$C,0))),"")
A10: =IF(EOMONTH($A9,0)>$A9,$A9+1,"") -> 44021 | B10: =UPPER(TEXT($A10,"jjjj")) -> JEUDI | C10: Ste Amandine | D10: =IF(WEEKDAY($A10,2)<>1,"",_xlfn.ISOWEEKNUM($A10)) | E10: =IFERROR(INDEX(Lune!$A:$A,MATCH($A10,Lune!$C:$C,0)),"") | F10: =IFERROR(UPPER(INDEX(Feuil13!$B:$B,MATCH(A10,Feuil13!$C:$C,0))),"")
A11: =IF(EOMONTH($A10,0)>$A10,$A10+1,"") -> 44022 | B11: =UPPER(TEXT($A11,"jjjj")) -> VENDREDI | C11: St Ulrich | D11: =IF(WEEKDAY($A11,2)<>1,"",_xlfn.ISOWEEKNUM($A11)) | E11: =IFERROR(INDEX(Lune!$A:$A,MATCH($A11,Lune!$C:$C,0)),"") | F11: =IFERROR(UPPER(INDEX(Feuil13!$B:$B,MATCH(A11,Feuil13!$C:$C,0))),"")
A12: =IF(EOMONTH($A11,0)>$A11,$A11+1,"") -> 44023 | B12: =UPPER(TEXT($A12,"jjjj")) -> SAMEDI | C12: St Benoît | D12: =IF(WEEKDAY($A12,2)<>1,"",_xlfn.ISOWEEKNUM($A12)) | E12: =IFERROR(INDEX(Lune!$A:$A,MATCH($A12,Lune!$C:$C,0)),"") | F12: =IFERROR(UPPER(INDEX(Feuil13!$B:$B,MATCH(A12,Feuil13!$C:$C,0))),"")
A13: =IF(EOMONTH($A12,0)>$A12,$A12+1,"") -> 44024 | B13: =UPPER(TEXT($A13,"jjjj")) -> DIMANCHE | C13: St Olivier | D13: =IF(WEEKDAY($A13,2)<>1,"",_xlfn.ISOWEEKNUM($A13)) | E13: =IFERROR(INDEX(Lune!$A:$A,MATCH($A13,Lune!$C:$C,0)),"") -> ƒ | F13: =IFERROR(UPPER(INDEX(Feuil13!$B:$B,MATCH(A13,Feuil13!$C:$C,0))),"")
A14: =IF(EOMONTH($A13,0)>$A13,$A13+1,"") -> 44025 | B14: =UPPER(TEXT($A14,"jjjj")) -> LUNDI | C14: St Henri-Joël | D14: =IF(WEEKDAY($A14,2)<>1,"",_xlfn.ISOWEEKNUM($A14)) -> 29 | E14: =IFERROR(INDEX(Lune!$A:$A,MATCH($A14,Lune!$C:$C,0)),"") | F14: =IFERROR(UPPER(INDEX(Feuil13!$B:$B,MATCH(A14,Feuil13!$C:$C,0))),"")
... A32: =IF(EOMONTH($A31,0)>$A31,$A31+1,"") -> 44043 | B32: =UPPER(TEXT($A32,"jjjj")) -> VENDREDI | C32: St Ignace de L. | D32: =IF(WEEKDAY($A32,2)<>1,"",_xlfn.ISOWEEKNUM($A32)) | E32: =IFERROR(INDEX(Lune!$A:$A,MATCH($A32,Lune!$C:$C,0)),"") | F32: =IFERROR(UPPER(INDEX(Feuil13!$B:$B,MATCH(A32,Feuil13!$C:$C,0))),"")

Sheet Août
A1: =IF(Feuil13!C2<>"",UPPER(TEXT(DATE(Feuil13!C2,8,1),"mmmm")),"") -> AOÛT
A2: =DATE(Feuil13!C2,8,1) -> 44044 | B2: =UPPER(TEXT($A2,"jjjj")) -> SAMEDI | C2: St Alphonse | D2: =IF(WEEKDAY($A2,2)<>1,"",_xlfn.ISOWEEKNUM($A2)) | E2: =IFERROR(INDEX(Lune!$A:$A,MATCH($A2,Lune!$C:$C,0)),"") | F2: =IFERROR(UPPER(INDEX(Feuil13!$B:$B,MATCH(A2,Feuil13!$C:$C,0))),"")
A3: =IF(EOMONTH($A2,0)>$A2,$A2+1,"") -> 44045 | B3: =UPPER(TEXT($A3,"jjjj")) -> DIMANCHE | C3: St Julien | D3: =IF(WEEKDAY($A3,2)<>1,"",_xlfn.ISOWEEKNUM($A3)) | E3: =IFERROR(INDEX(Lune!$A:$A,MATCH($A3,Lune!$C:$C,0)),"") | F3: =IFERROR(UPPER(INDEX(Feuil13!$B:$B,MATCH(A3,Feuil13!$C:$C,0))),"")
A4: =IF(EOMONTH($A3,0)>$A3,$A3+1,"") -> 44046 | B4: =UPPER(TEXT($A4,"jjjj")) -> LUNDI | C4: Ste Lydie | D4: =IF(WEEKDAY($A4,2)<>1,"",_xlfn.ISOWEEKNUM($A4)) -> 32 | E4: =IFERROR(INDEX(Lune!$A:$A,MATCH($A4,Lune!$C:$C,0)),"") ->  | F4: =IFERROR(UPPER(INDEX(Feuil13!$B:$B,MATCH(A4,Feuil13!$C:$C,0))),"")
A5: =IF(EOMONTH($A4,0)>$A4,$A4+1,"") -> 44047 | B5: =UPPER(TEXT($A5,"jjjj")) -> MARDI | C5: St J. M. Vianney | D5: =IF(WEEKDAY($A5,2)<>1,"",_xlfn.ISOWEEKNUM($A5)) | E5: =IFERROR(INDEX(Lune!$A:$A,MATCH($A5,Lune!$C:$C,0)),"") | F5: =IFERROR(UPPER(INDEX(Feuil13!$B:$B,MATCH(A5,Feuil13!$C:$C,0))),"")
A6: =IF(EOMONTH($A5,0)>$A5,$A5+1,"") -> 44048 | B6: =UPPER(TEXT($A6,"jjjj")) -> MERCREDI | C6: St Abel | D6: =IF(WEEKDAY($A6,2)<>1,"",_xlfn.ISOWEEKNUM($A6)) | E6: =IFERROR(INDEX(Lune!$A:$A,MATCH($A6,Lune!$C:$C,0)),"") | F6: =IFERROR(UPPER(INDEX(Feuil13!$B:$B,MATCH(A6,Feuil13!$C:$C,0))),"")
A7: =IF(EOMONTH($A6,0)>$A6,$A6+1,"") -> 44049 | B7: =UPPER(TEXT($A7,"jjjj")) -> JEUDI | C7: Transfiguration | D7: =IF(WEEKDAY($A7,2)<>1,"",_xlfn.ISOWEEKNUM($A7)) | E7: =IFERROR(INDEX(Lune!$A:$A,MATCH($A7,Lune!$C:$C,0)),"") | F7: =IFERROR(UPPER(INDEX(Feuil13!$B:$B,MATCH(A7,Feuil13!$C:$C,0))),"")
A8: =IF(EOMONTH($A7,0)>$A7,$A7+1,"") -> 44050 | B8: =UPPER(TEXT($A8,"jjjj")) -> VENDREDI | C8: St Gaétan | D8: =IF(WEEKDAY($A8,2)<>1,"",_xlfn.ISOWEEKNUM($A8)) | E8: =IFERROR(INDEX(Lune!$A:$A,MATCH($A8,Lune!$C:$C,0)),"") | F8: =IFERROR(UPPER(INDEX(Feuil13!$B:$B,MATCH(A8,Feuil13!$C:$C,0))),"")
A9: =IF(EOMONTH($A8,0)>$A8,$A8+1,"") -> 44051 | B9: =UPPER(TEXT($A9,"jjjj")) -> SAMEDI | C9: St Dominique | D9: =IF(WEEKDAY($A9,2)<>1,"",_xlfn.ISOWEEKNUM($A9)) | E9: =IFERROR(INDEX(Lune!$A:$A,MATCH($A9,Lune!$C:$C,0)),"") | F9: =IFERROR(UPPER(INDEX(Feuil13!$B:$B,MATCH(A9,Feuil13!$C:$C,0))),"")
A10: =IF(EOMONTH($A9,0)>$A9,$A9+1,"") -> 44052 | B10: =UPPER(TEXT($A10,"jjjj")) -> DIMANCHE | C10: St Amour | D10: =IF(WEEKDAY($A10,2)<>1,"",_xlfn.ISOWEEKNUM($A10)) | E10: =IFERROR(INDEX(Lune!$A:$A,MATCH($A10,Lune!$C:$C,0)),"") | F10: =IFERROR(UPPER(INDEX(Feuil13!$B:$B,MATCH(A10,Feuil13!$C:$C,0))),"")
A11: =IF(EOMONTH($A10,0)>$A10,$A10+1,"") -> 44053 | B11: =UPPER(TEXT($A11,"jjjj")) -> LUNDI | C11: St Laurent | D11: =IF(WEEKDAY($A11,2)<>1,"",_xlfn.ISOWEEKNUM($A11)) -> 33 | E11: =IFERROR(INDEX(Lune!$A:$A,MATCH($A11,Lune!$C:$C,0)),"") | F11: =IFERROR(UPPER(INDEX(Feuil13!$B:$B,MATCH(A11,Feuil13!$C:$C,0))),"")
A12: =IF(EOMONTH($A11,0)>$A11,$A11+1,"") -> 44054 | B12: =UPPER(TEXT($A12,"jjjj")) -> MARDI | C12: Ste Claire | D12: =IF(WEEKDAY($A12,2)<>1,"",_xlfn.ISOWEEKNUM($A12)) | E12: =IFERROR(INDEX(Lune!$A:$A,MATCH($A12,Lune!$C:$C,0)),"") -> ƒ | F12: =IFERROR(UPPER(INDEX(Feuil13!$B:$B,MATCH(A12,Feuil13!$C:$C,0))),"")
A13: =IF(EOMONTH($A12,0)>$A12,$A12+1,"") -> 44055 | B13: =UPPER(TEXT($A13,"jjjj")) -> MERCREDI | C13: Ste Clarisse | D13: =IF(WEEKDAY($A13,2)<>1,"",_xlfn.ISOWEEKNUM($A13)) | E13: =IFERROR(INDEX(Lune!$A:$A,MATCH($A13,Lune!$C:$C,0)),"") | F13: =IFERROR(UPPER(INDEX(Feuil13!$B:$B,MATCH(A13,Feuil13!$C:$C,0))),"")
A14: =IF(EOMONTH($A13,0)>$A13,$A13+1,"") -> 44056 | B14: =UPPER(TEXT($A14,"jjjj")) -> JEUDI | C14: St Hippolyte | D14: =IF(WEEKDAY($A14,2)<>1,"",_xlfn.ISOWEEKNUM($A14)) | E14: =IFERROR(INDEX(Lune!$A:$A,MATCH($A14,Lune!$C:$C,0)),"") | F14: =IFERROR(UPPER(INDEX(Feuil13!$B:$B,MATCH(A14,Feuil13!$C:$C,0))),"")
... A31: =IF(EOMONTH($A30,0)>$A30,$A30+1,"") -> 44073 | B31: =UPPER(TEXT($A31,"jjjj")) -> DIMANCHE | C31: St Fiacre | D31: =IF(WEEKDAY($A31,2)<>1,"",_xlfn.ISOWEEKNUM($A31)) | E31: =IFERROR(INDEX(Lune!$A:$A,MATCH($A31,Lune!$C:$C,0)),"") | F31: =IFERROR(UPPER(INDEX(Feuil13!$B:$B,MATCH(A31,Feuil13!$C:$C,0))),"")
A32: =IF(EOMONTH($A31,0)>$A31,$A31+1,"") -> 44074 | B32: =UPPER(TEXT($A32,"jjjj")) -> LUNDI | C32: St Aristide | D32: =IF(WEEKDAY($A32,2)<>1,"",_xlfn.ISOWEEKNUM($A32)) -> 36 | E32: =IFERROR(INDEX(Lune!$A:$A,MATCH($A32,Lune!$C:$C,0)),"") | F32: =IFERROR(INDEX(Feuil13!$B:$B,MATCH(A32,Feuil13!$C:$C,0)),"")

Sheet Septembre
A1: =IF(Feuil13!C2<>"",UPPER(TEXT(DATE(Feuil13!C2,9,1),"mmmm")),"") -> SEPTEMBRE
A2: =DATE(Feuil13!C2,9,1) -> 44075 | B2: =UPPER(TEXT($A2,"jjjj")) -> MARDI | C2: St Gilles | D2: =IF(WEEKDAY($A2,2)<>1,"",_xlfn.ISOWEEKNUM($A2)) | E2: =IFERROR(INDEX(Lune!$A:$A,MATCH($A2,Lune!$C:$C,0)),"") | F2: =IFERROR(UPPER(INDEX(Feuil13!$B:$B,MATCH(A2,Feuil13!$C:$C,0))),"")
A3: =IF(EOMONTH($A2,0)>$A2,$A2+1,"") -> 44076 | B3: =UPPER(TEXT($A3,"jjjj")) -> MERCREDI | C3: Ste Ingrid | D3: =IF(WEEKDAY($A3,2)<>1,"",_xlfn.ISOWEEKNUM($A3)) | E3: =IFERROR(INDEX(Lune!$A:$A,MATCH($A3,Lune!$C:$C,0)),"") ->  | F3: =IFERROR(UPPER(INDEX(Feuil13!$B:$B,MATCH(A3,Feuil13!$C:$C,0))),"")
A4: =IF(EOMONTH($A3,0)>$A3,$A3+1,"") -> 44077 | B4: =UPPER(TEXT($A4,"jjjj")) -> JEUDI | C4: St Grégoire | D4: =IF(WEEKDAY($A4,2)<>1,"",_xlfn.ISOWEEKNUM($A4)) | E4: =IFERROR(INDEX(Lune!$A:$A,MATCH($A4,Lune!$C:$C,0)),"") | F4: =IFERROR(UPPER(INDEX(Feuil13!$B:$B,MATCH(A4,Feuil13!$C:$C,0))),"")
A5: =IF(EOMONTH($A4,0)>$A4,$A4+1,"") -> 44078 | B5: =UPPER(TEXT($A5,"jjjj")) -> VENDREDI | C5: Ste Rosalie | D5: =IF(WEEKDAY($A5,2)<>1,"",_xlfn.ISOWEEKNUM($A5)) | E5: =IFERROR(INDEX(Lune!$A:$A,MATCH($A5,Lune!$C:$C,0)),"") | F5: =IFERROR(UPPER(INDEX(Feuil13!$B:$B,MATCH(A5,Feuil13!$C:$C,0))),"")
A6: =IF(EOMONTH($A5,0)>$A5,$A5+1,"") -> 44079 | B6: =UPPER(TEXT($A6,"jjjj")) -> SAMEDI | C6: Ste Raïssa | D6: =IF(WEEKDAY($A6,2)<>1,"",_xlfn.ISOWEEKNUM($A6)) | E6: =IFERROR(INDEX(Lune!$A:$A,MATCH($A6,Lune!$C:$C,0)),"") | F6: =IFERROR(UPPER(INDEX(Feuil13!$B:$B,MATCH(A6,Feuil13!$C:$C,0))),"")
A7: =IF(EOMONTH($A6,0)>$A6,$A6+1,"") -> 44080 | B7: =UPPER(TEXT($A7,"jjjj")) -> DIMANCHE | C7: St Bertrand | D7: =IF(WEEKDAY($A7,2)<>1,"",_xlfn.ISOWEEKNUM($A7)) | E7: =IFERROR(INDEX(Lune!$A:$A,MATCH($A7,Lune!$C:$C,0)),"") | F7: =IFERROR(UPPER(INDEX(Feuil13!$B:$B,MATCH(A7,Feuil13!$C:$C,0))),"")
A8: =IF(EOMONTH($A7,0)>$A7,$A7+1,"") -> 44081 | B8: =UPPER(TEXT($A8,"jjjj")) -> LUNDI | C8: Ste Reine | D8: =IF(WEEKDAY($A8,2)<>1,"",_xlfn.ISOWEEKNUM($A8)) -> 37 | E8: =IFERROR(INDEX(Lune!$A:$A,MATCH($A8,Lune!$C:$C,0)),"") | F8: =IFERROR(UPPER(INDEX(Feuil13!$B:$B,MATCH(A8,Feuil13!$C:$C,0))),"")
A9: =IF(EOMONTH($A8,0)>$A8,$A8+1,"") -> 44082 | B9: =UPPER(TEXT($A9,"jjjj")) -> MARDI | C9: St Nativite N. D. | D9: =IF(WEEKDAY($A9,2)<>1,"",_xlfn.ISOWEEKNUM($A9)) | E9: =IFERROR(INDEX(Lune!$A:$A,MATCH($A9,Lune!$C:$C,0)),"") | F9: =IFERROR(UPPER(INDEX(Feuil13!$B:$B,MATCH(A9,Feuil13!$C:$C,0))),"")
A10: =IF(EOMONTH($A9,0)>$A9,$A9+1,"") -> 44083 | B10: =UPPER(TEXT($A10,"jjjj")) -> MERCREDI | C10: St Alain | D10: =IF(WEEKDAY($A10,2)<>1,"",_xlfn.ISOWEEKNUM($A10)) | E10: =IFERROR(INDEX(Lune!$A:$A,MATCH($A10,Lune!$C:$C,0)),"") | F10: =IFERROR(UPPER(INDEX(Feuil13!$B:$B,MATCH(A10,Feuil13!$C:$C,0))),"")
A11: =IF(EOMONTH($A10,0)>$A10,$A10+1,"") -> 44084 | B11: =UPPER(TEXT($A11,"jjjj")) -> JEUDI | C11: Ste Inès | D11: =IF(WEEKDAY($A11,2)<>1,"",_xlfn.ISOWEEKNUM($A11)) | E11: =IFERROR(INDEX(Lune!$A:$A,MATCH($A11,Lune!$C:$C,0)),"") -> ƒ | F11: =IFERROR(UPPER(INDEX(Feuil13!$B:$B,MATCH(A11,Feuil13!$C:$C,0))),"")
A12: =IF(EOMONTH($A11,0)>$A11,$A11+1,"") -> 44085 | B12: =UPPER(TEXT($A12,"jjjj")) -> VENDREDI | C12: St Adelphe | D12: =IF(WEEKDAY($A12,2)<>1,"",_xlfn.ISOWEEKNUM($A12)) | E12: =IFERROR(INDEX(Lune!$A:$A,MATCH($A12,Lune!$C:$C,0)),"") | F12: =IFERROR(UPPER(INDEX(Feuil13!$B:$B,MATCH(A12,Feuil13!$C:$C,0))),"")
A13: =IF(EOMONTH($A12,0)>$A12,$A12+1,"") -> 44086 | B13: =UPPER(TEXT($A13,"jjjj")) -> SAMEDI | C13: St Apollinaire | D13: =IF(WEEKDAY($A13,2)<>1,"",_xlfn.ISOWEEKNUM($A13)) | E13: =IFERROR(INDEX(Lune!$A:$A,MATCH($A13,Lune!$C:$C,0)),"") | F13: =IFERROR(UPPER(INDEX(Feuil13!$B:$B,MATCH(A13,Feuil13!$C:$C,0))),"")
A14: =IF(EOMONTH($A13,0)>$A13,$A13+1,"") -> 44087 | B14: =UPPER(TEXT($A14,"jjjj")) -> DIMANCHE | C14: St Aimé | D14: =IF(WEEKDAY($A14,2)<>1,"",_xlfn.ISOWEEKNUM($A14)) | E14: =IFERROR(INDEX(Lune!$A:$A,MATCH($A14,Lune!$C:$C,0)),"") | F14: =IFERROR(UPPER(INDEX(Feuil13!$B:$B,MATCH(A14,Feuil13!$C:$C,0))),"")
... A31: =IF(EOMONTH($A30,0)>$A30,$A30+1,"") -> 44104 | B31: =UPPER(TEXT($A31,"jjjj")) -> MERCREDI | C31: St Jérôme | D31: =IF(WEEKDAY($A31,2)<>1,"",_xlfn.ISOWEEKNUM($A31)) | E31: =IFERROR(INDEX(Lune!$A:$A,MATCH($A31,Lune!$C:$C,0)),"") | F31: =IFERROR(UPPER(INDEX(Feuil13!$B:$B,MATCH(A31,Feuil13!$C:$C,0))),"")

Sheet Octobre
A1: =IF(Feuil13!C2<>"",UPPER(TEXT(DATE(Feuil13!C2,10,1),"mmmm")),"") -> OCTOBRE
A2: =DATE(Feuil13!C2,10,1) -> 44105 | B2: =UPPER(TEXT($A2,"jjjj")) -> JEUDI | C2: Ste Thérèse de l' E.J. | D2: =IF(WEEKDAY($A2,2)<>1,"",_xlfn.ISOWEEKNUM($A2)) | E2: =IFERROR(INDEX(Lune!$A:$A,MATCH($A2,Lune!$C:$C,0)),"") ->  | F2: =IFERROR(UPPER(INDEX(Feuil13!$B:$B,MATCH(A2,Feuil13!$C:$C,0))),"")
A3: =IF(EOMONTH($A2,0)>$A2,$A2+1,"") -> 44106 | B3: =UPPER(TEXT($A3,"jjjj")) -> VENDREDI | C3: St Léger | D3: =IF(WEEKDAY($A3,2)<>1,"",_xlfn.ISOWEEKNUM($A3)) | E3: =IFERROR(INDEX(Lune!$A:$A,MATCH($A3,Lune!$C:$C,0)),"") | F3: =IFERROR(UPPER(INDEX(Feuil13!$B:$B,MATCH(A3,Feuil13!$C:$C,0))),"")
A4: =IF(EOMONTH($A3,0)>$A3,$A3+1,"") -> 44107 | B4: =UPPER(TEXT($A4,"jjjj")) -> SAMEDI | C4: St Gérard | D4: =IF(WEEKDAY($A4,2)<>1,"",_xlfn.ISOWEEKNUM($A4)) | E4: =IFERROR(INDEX(Lune!$A:$A,MATCH($A4,Lune!$C:$C,0)),"") | F4: =IFERROR(UPPER(INDEX(Feuil13!$B:$B,MATCH(A4,Feuil13!$C:$C,0))),"")
A5: =IF(EOMONTH($A4,0)>$A4,$A4+1,"") -> 44108 | B5: =UPPER(TEXT($A5,"jjjj")) -> DIMANCHE | C5: St François d'Assise | D5: =IF(WEEKDAY($A5,2)<>1,"",_xlfn.ISOWEEKNUM($A5)) | E5: =IFERROR(INDEX(Lune!$A:$A,MATCH($A5,Lune!$C:$C,0)),"") | F5: =IFERROR(UPPER(INDEX(Feuil13!$B:$B,MATCH(A5,Feuil13!$C:$C,0))),"") -> FÊTE DES GRANDS-PÈRES
A6: =IF(EOMONTH($A5,0)>$A5,$A5+1,"") -> 44109 | B6: =UPPER(TEXT($A6,"jjjj")) -> LUNDI | C6: Ste Fleur | D6: =IF(WEEKDAY($A6,2)<>1,"",_xlfn.ISOWEEKNUM($A6)) -> 41 | E6: =IFERROR(INDEX(Lune!$A:$A,MATCH($A6,Lune!$C:$C,0)),"") | F6: =IFERROR(UPPER(INDEX(Feuil13!$B:$B,MATCH(A6,Feuil13!$C:$C,0))),"")
A7: =IF(EOMONTH($A6,0)>$A6,$A6+1,"") -> 44110 | B7: =UPPER(TEXT($A7,"jjjj")) -> MARDI | C7: St Bruno | D7: =IF(WEEKDAY($A7,2)<>1,"",_xlfn.ISOWEEKNUM($A7)) | E7: =IFERROR(INDEX(Lune!$A:$A,MATCH($A7,Lune!$C:$C,0)),"") | F7: =IFERROR(UPPER(INDEX(Feuil13!$B:$B,MATCH(A7,Feuil13!$C:$C,0))),"")
A8: =IF(EOMONTH($A7,0)>$A7,$A7+1,"") -> 44111 | B8: =UPPER(TEXT($A8,"jjjj")) -> MERCREDI | C8: St Serge | D8: =IF(WEEKDAY($A8,2)<>1,"",_xlfn.ISOWEEKNUM($A8)) | E8: =IFERROR(INDEX(Lune!$A:$A,MATCH($A8,Lune!$C:$C,0)),"") | F8: =IFERROR(UPPER(INDEX(Feuil13!$B:$B,MATCH(A8,Feuil13!$C:$C,0))),"")
A9: =IF(EOMONTH($A8,0)>$A8,$A8+1,"") -> 44112 | B9: =UPPER(TEXT($A9,"jjjj")) -> JEUDI | C9: Ste Pélagie | D9: =IF(WEEKDAY($A9,2)<>1,"",_xlfn.ISOWEEKNUM($A9)) | E9: =IFERROR(INDEX(Lune!$A:$A,MATCH($A9,Lune!$C:$C,0)),"") | F9: =IFERROR(UPPER(INDEX(Feuil13!$B:$B,MATCH(A9,Feuil13!$C:$C,0))),"")
A10: =IF(EOMONTH($A9,0)>$A9,$A9+1,"") -> 44113 | B10: =UPPER(TEXT($A10,"jjjj")) -> VENDREDI | C10: St Denis | D10: =IF(WEEKDAY($A10,2)<>1,"",_xlfn.ISOWEEKNUM($A10)) | E10: =IFERROR(INDEX(Lune!$A:$A,MATCH($A10,Lune!$C:$C,0)),"") -> ƒ | F10: =IFERROR(UPPER(INDEX(Feuil13!$B:$B,MATCH(A10,Feuil13!$C:$C,0))),"")
A11: =IF(EOMONTH($A10,0)>$A10,$A10+1,"") -> 44114 | B11: =UPPER(TEXT($A11,"jjjj")) -> SAMEDI | C11: St Ghislain | D11: =IF(WEEKDAY($A11,2)<>1,"",_xlfn.ISOWEEKNUM($A11)) | E11: =IFERROR(INDEX(Lune!$A:$A,MATCH($A11,Lune!$C:$C,0)),"") | F11: =IFERROR(UPPER(INDEX(Feuil13!$B:$B,MATCH(A11,Feuil13!$C:$C,0))),"")
A12: =IF(EOMONTH($A11,0)>$A11,$A11+1,"") -> 44115 | B12: =UPPER(TEXT($A12,"jjjj")) -> DIMANCHE | C12: St Firmin | D12: =IF(WEEKDAY($A12,2)<>1,"",_xlfn.ISOWEEKNUM($A12)) | E12: =IFERROR(INDEX(Lune!$A:$A,MATCH($A12,Lune!$C:$C,0)),"") | F12: =IFERROR(UPPER(INDEX(Feuil13!$B:$B,MATCH(A12,Feuil13!$C:$C,0))),"")
A13: =IF(EOMONTH($A12,0)>$A12,$A12+1,"") -> 44116 | B13: =UPPER(TEXT($A13,"jjjj")) -> LUNDI | C13: St Wilfried | D13: =IF(WEEKDAY($A13,2)<>1,"",_xlfn.ISOWEEKNUM($A13)) -> 42 | E13: =IFERROR(INDEX(Lune!$A:$A,MATCH($A13,Lune!$C:$C,0)),"") | F13: =IFERROR(UPPER(INDEX(Feuil13!$B:$B,MATCH(A13,Feuil13!$C:$C,0))),"")
A14: =IF(EOMONTH($A13,0)>$A13,$A13+1,"") -> 44117 | B14: =UPPER(TEXT($A14,"jjjj")) -> MARDI | C14: St Géraud | D14: =IF(WEEKDAY($A14,2)<>1,"",_xlfn.ISOWEEKNUM($A14)) | E14: =IFERROR(INDEX(Lune!$A:$A,MATCH($A14,Lune!$C:$C,0)),"") | F14: =IFERROR(UPPER(INDEX(Feuil13!$B:$B,MATCH(A14,Feuil13!$C:$C,0))),"")
... A32: =IF(EOMONTH($A31,0)>$A31,$A31+1,"") -> 44135 | B32: =UPPER(TEXT($A32,"jjjj")) -> SAMEDI | C32: St Quentin | D32: =IF(WEEKDAY($A32,2)<>1,"",_xlfn.ISOWEEKNUM($A32)) | E32: =IFERROR(INDEX(Lune!$A:$A,MATCH($A32,Lune!$C:$C,0)),"") ->  | F32: =IFERROR(UPPER(INDEX(Feuil13!$B:$B,MATCH(A32,Feuil13!$C:$C,0))),"") -> HALLOWEEN

Sheet Novembre
A1: =IF(Feuil13!C2<>"",UPPER(TEXT(DATE(Feuil13!C2,11,1),"mmmm")),"") -> NOVEMBRE
A2: =DATE(Feuil13!C2,11,1) -> 44136 | B2: =UPPER(TEXT($A2,"jjjj")) -> DIMANCHE | C2: Toussaint | D2: =IF(WEEKDAY($A2,2)<>1,"",_xlfn.ISOWEEKNUM($A2)) | E2: =IFERROR(INDEX(Lune!$A:$A,MATCH($A2,Lune!$C:$C,0)),"") | F2: =IFERROR(UPPER(INDEX(Feuil13!$B:$B,MATCH(A2,Feuil13!$C:$C,0))),"") -> TOUSSAINT
A3: =IF(EOMONTH($A2,0)>$A2,$A2+1,"") -> 44137 | B3: =UPPER(TEXT($A3,"jjjj")) -> LUNDI | C3: St Défunt | D3: =IF(WEEKDAY($A3,2)<>1,"",_xlfn.ISOWEEKNUM($A3)) -> 45 | E3: =IFERROR(INDEX(Lune!$A:$A,MATCH($A3,Lune!$C:$C,0)),"") | F3: =IFERROR(UPPER(INDEX(Feuil13!$B:$B,MATCH(A3,Feuil13!$C:$C,0))),"")
A4: =IF(EOMONTH($A3,0)>$A3,$A3+1,"") -> 44138 | B4: =UPPER(TEXT($A4,"jjjj")) -> MARDI | C4: St Hubert | D4: =IF(WEEKDAY($A4,2)<>1,"",_xlfn.ISOWEEKNUM($A4)) | E4: =IFERROR(INDEX(Lune!$A:$A,MATCH($A4,Lune!$C:$C,0)),"") | F4: =IFERROR(UPPER(INDEX(Feuil13!$B:$B,MATCH(A4,Feuil13!$C:$C,0))),"")
A5: =IF(EOMONTH($A4,0)>$A4,$A4+1,"") -> 44139 | B5: =UPPER(TEXT($A5,"jjjj")) -> MERCREDI | C5: St Charles | D5: =IF(WEEKDAY($A5,2)<>1,"",_xlfn.ISOWEEKNUM($A5)) | E5: =IFERROR(INDEX(Lune!$A:$A,MATCH($A5,Lune!$C:$C,0)),"") | F5: =IFERROR(UPPER(INDEX(Feuil13!$B:$B,MATCH(A5,Feuil13!$C:$C,0))),"")
A6: =IF(EOMONTH($A5,0)>$A5,$A5+1,"") -> 44140 | B6: =UPPER(TEXT($A6,"jjjj")) -> JEUDI | C6: Ste Sylvie | D6: =IF(WEEKDAY($A6,2)<>1,"",_xlfn.ISOWEEKNUM($A6)) | E6: =IFERROR(INDEX(Lune!$A:$A,MATCH($A6,Lune!$C:$C,0)),"") | F6: =IFERROR(UPPER(INDEX(Feuil13!$B:$B,MATCH(A6,Feuil13!$C:$C,0))),"")
A7: =IF(EOMONTH($A6,0)>$A6,$A6+1,"") -> 44141 | B7: =UPPER(TEXT($A7,"jjjj")) -> VENDREDI | C7: Ste Bertille | D7: =IF(WEEKDAY($A7,2)<>1,"",_xlfn.ISOWEEKNUM($A7)) | E7: =IFERROR(INDEX(Lune!$A:$A,MATCH($A7,Lune!$C:$C,0)),"") | F7: =IFERROR(UPPER(INDEX(Feuil13!$B:$B,MATCH(A7,Feuil13!$C:$C,0))),"")
A8: =IF(EOMONTH($A7,0)>$A7,$A7+1,"") -> 44142 | B8: =UPPER(TEXT($A8,"jjjj")) -> SAMEDI | C8: Ste Carine | D8: =IF(WEEKDAY($A8,2)<>1,"",_xlfn.ISOWEEKNUM($A8)) | E8: =IFERROR(INDEX(Lune!$A:$A,MATCH($A8,Lune!$C:$C,0)),"") | F8: =IFERROR(UPPER(INDEX(Feuil13!$B:$B,MATCH(A8,Feuil13!$C:$C,0))),"")
A9: =IF(EOMONTH($A8,0)>$A8,$A8+1,"") -> 44143 | B9: =UPPER(TEXT($A9,"jjjj")) -> DIMANCHE | C9: Ste Geoffroy | D9: =IF(WEEKDAY($A9,2)<>1,"",_xlfn.ISOWEEKNUM($A9)) | E9: =IFERROR(INDEX(Lune!$A:$A,MATCH($A9,Lune!$C:$C,0)),"") -> ƒ | F9: =IFERROR(UPPER(INDEX(Feuil13!$B:$B,MATCH(A9,Feuil13!$C:$C,0))),"")
A10: =IF(EOMONTH($A9,0)>$A9,$A9+1,"") -> 44144 | B10: =UPPER(TEXT($A10,"jjjj")) -> LUNDI | C10: St Théodore | D10: =IF(WEEKDAY($A10,2)<>1,"",_xlfn.ISOWEEKNUM($A10)) -> 46 | E10: =IFERROR(INDEX(Lune!$A:$A,MATCH($A10,Lune!$C:$C,0)),"") | F10: =IFERROR(UPPER(INDEX(Feuil13!$B:$B,MATCH(A10,Feuil13!$C:$C,0))),"")
A11: =IF(EOMONTH($A10,0)>$A10,$A10+1,"") -> 44145 | B11: =UPPER(TEXT($A11,"jjjj")) -> MARDI | C11: St Léon | D11: =IF(WEEKDAY($A11,2)<>1,"",_xlfn.ISOWEEKNUM($A11)) | E11: =IFERROR(INDEX(Lune!$A:$A,MATCH($A11,Lune!$C:$C,0)),"") | F11: =IFERROR(UPPER(INDEX(Feuil13!$B:$B,MATCH(A11,Feuil13!$C:$C,0))),"")
A12: =IF(EOMONTH($A11,0)>$A11,$A11+1,"") -> 44146 | B12: =UPPER(TEXT($A12,"jjjj")) -> MERCREDI | C12: St Martin | D12: =IF(WEEKDAY($A12,2)<>1,"",_xlfn.ISOWEEKNUM($A12)) | E12: =IFERROR(INDEX(Lune!$A:$A,MATCH($A12,Lune!$C:$C,0)),"") | F12: =IFERROR(UPPER(INDEX(Feuil13!$B:$B,MATCH(A12,Feuil13!$C:$C,0))),"") -> ARMISTICE 1918
A13: =IF(EOMONTH($A12,0)>$A12,$A12+1,"") -> 44147 | B13: =UPPER(TEXT($A13,"jjjj")) -> JEUDI | C13: Ste Christian | D13: =IF(WEEKDAY($A13,2)<>1,"",_xlfn.ISOWEEKNUM($A13)) | E13: =IFERROR(INDEX(Lune!$A:$A,MATCH($A13,Lune!$C:$C,0)),"") | F13: =IFERROR(UPPER(INDEX(Feuil13!$B:$B,MATCH(A13,Feuil13!$C:$C,0))),"")
A14: =IF(EOMONTH($A13,0)>$A13,$A13+1,"") -> 44148 | B14: =UPPER(TEXT($A14,"jjjj")) -> VENDREDI | C14: St Brice | D14: =IF(WEEKDAY($A14,2)<>1,"",_xlfn.ISOWEEKNUM($A14)) | E14: =IFERROR(INDEX(Lune!$A:$A,MATCH($A14,Lune!$C:$C,0)),"") | F14: =IFERROR(UPPER(INDEX(Feuil13!$B:$B,MATCH(A14,Feuil13!$C:$C,0))),"")
... A31: =IF(EOMONTH($A30,0)>$A30,$A30+1,"") -> 44165 | B31: =UPPER(TEXT($A31,"jjjj")) -> LUNDI | C31: St André | D31: =IF(WEEKDAY($A31,2)<>1,"",_xlfn.ISOWEEKNUM($A31)) -> 49 | E31: =IFERROR(INDEX(Lune!$A:$A,MATCH($A31,Lune!$C:$C,0)),"") ->  | F31: =IFERROR(UPPER(INDEX(Feuil13!$B:$B,MATCH(A31,Feuil13!$C:$C,0))),"")

Sheet Décembre
A1: =IF(Feuil13!C2<>"",UPPER(TEXT(DATE(Feuil13!C2,12,1),"mmmm")),"") -> DÉCEMBRE
A2: =DATE(Feuil13!C2,12,1) -> 44166 | B2: =UPPER(TEXT($A2,"jjjj")) -> MARDI | C2: Ste Florence | D2: =IF(WEEKDAY($A2,2)<>1,"",_xlfn.ISOWEEKNUM($A2)) | E2: =IFERROR(INDEX(Lune!$A:$A,MATCH(Décembre!A2,Lune!$C:$C,0)),"") | F2: =IFERROR(UPPER(INDEX(Feuil13!$B:$B,MATCH(A2,Feuil13!$C:$C,0))),"")
A3: =IF(EOMONTH($A2,0)>$A2,$A2+1,"") -> 44167 | B3: =UPPER(TEXT($A3,"jjjj")) -> MERCREDI | C3: Ste Viviane | D3: =IF(WEEKDAY($A3,2)<>1,"",_xlfn.ISOWEEKNUM($A3)) | E3: =IFERROR(INDEX(Lune!$A:$A,MATCH(Décembre!A3,Lune!$C:$C,0)),"") | F3: =IFERROR(UPPER(INDEX(Feuil13!$B:$B,MATCH(A3,Feuil13!$C:$C,0))),"")
A4: =IF(EOMONTH($A3,0)>$A3,$A3+1,"") -> 44168 | B4: =UPPER(TEXT($A4,"jjjj")) -> JEUDI | C4: St Xavier | D4: =IF(WEEKDAY($A4,2)<>1,"",_xlfn.ISOWEEKNUM($A4)) | E4: =IFERROR(INDEX(Lune!$A:$A,MATCH(Décembre!A4,Lune!$C:$C,0)),"") | F4: =IFERROR(UPPER(INDEX(Feuil13!$B:$B,MATCH(A4,Feuil13!$C:$C,0))),"")
A5: =IF(EOMONTH($A4,0)>$A4,$A4+1,"") -> 44169 | B5: =UPPER(TEXT($A5,"jjjj")) -> VENDREDI | C5: Ste Barbara | D5: =IF(WEEKDAY($A5,2)<>1,"",_xlfn.ISOWEEKNUM($A5)) | E5: =IFERROR(INDEX(Lune!$A:$A,MATCH(Décembre!A5,Lune!$C:$C,0)),"") | F5: =IFERROR(UPPER(INDEX(Feuil13!$B:$B,MATCH(A5,Feuil13!$C:$C,0))),"")
A6: =IF(EOMONTH($A5,0)>$A5,$A5+1,"") -> 44170 | B6: =UPPER(TEXT($A6,"jjjj")) -> SAMEDI | C6: St Gérald | D6: =IF(WEEKDAY($A6,2)<>1,"",_xlfn.ISOWEEKNUM($A6)) | E6: =IFERROR(INDEX(Lune!$A:$A,MATCH(Décembre!A6,Lune!$C:$C,0)),"") | F6: =IFERROR(UPPER(INDEX(Feuil13!$B:$B,MATCH(A6,Feuil13!$C:$C,0))),"")
A7: =IF(EOMONTH($A6,0)>$A6,$A6+1,"") -> 44171 | B7: =UPPER(TEXT($A7,"jjjj")) -> DIMANCHE | C7: St Nicolas | D7: =IF(WEEKDAY($A7,2)<>1,"",_xlfn.ISOWEEKNUM($A7)) | E7: =IFERROR(INDEX(Lune!$A:$A,MATCH(Décembre!A7,Lune!$C:$C,0)),"") | F7: =IFERROR(UPPER(INDEX(Feuil13!$B:$B,MATCH(A7,Feuil13!$C:$C,0))),"")
A8: =IF(EOMONTH($A7,0)>$A7,$A7+1,"") -> 44172 | B8: =UPPER(TEXT($A8,"jjjj")) -> LUNDI | C8: Ste Ambroise | D8: =IF(WEEKDAY($A8,2)<>1,"",_xlfn.ISOWEEKNUM($A8)) -> 50 | E8: =IFERROR(INDEX(Lune!$A:$A,MATCH(Décembre!A8,Lune!$C:$C,0)),"") -> ƒ | F8: =IFERROR(UPPER(INDEX(Feuil13!$B:$B,MATCH(A8,Feuil13!$C:$C,0))),"")
A9: =IF(EOMONTH($A8,0)>$A8,$A8+1,"") -> 44173 | B9: =UPPER(TEXT($A9,"jjjj")) -> MARDI | C9: Ste Im. Conception | D9: =IF(WEEKDAY($A9,2)<>1,"",_xlfn.ISOWEEKNUM($A9)) | E9: =IFERROR(INDEX(Lune!$A:$A,MATCH(Décembre!A9,Lune!$C:$C,0)),"") | F9: =IFERROR(UPPER(INDEX(Feuil13!$B:$B,MATCH(A9,Feuil13!$C:$C,0))),"")
A10: =IF(EOMONTH($A9,0)>$A9,$A9+1,"") -> 44174 | B10: =UPPER(TEXT($A10,"jjjj")) -> MERCREDI | C10: St Pierre Fourier | D10: =IF(WEEKDAY($A10,2)<>1,"",_xlfn.ISOWEEKNUM($A10)) | E10: =IFERROR(INDEX(Lune!$A:$A,MATCH(Décembre!A10,Lune!$C:$C,0)),"") | F10: =IFERROR(UPPER(INDEX(Feuil13!$B:$B,MATCH(A10,Feuil13!$C:$C,0))),"")
A11: =IF(EOMONTH($A10,0)>$A10,$A10+1,"") -> 44175 | B11: =UPPER(TEXT($A11,"jjjj")) -> JEUDI | C11: St Romaric | D11: =IF(WEEKDAY($A11,2)<>1,"",_xlfn.ISOWEEKNUM($A11)) | E11: =IFERROR(INDEX(Lune!$A:$A,MATCH(Décembre!A11,Lune!$C:$C,0)),"") | F11: =IFERROR(UPPER(INDEX(Feuil13!$B:$B,MATCH(A11,Feuil13!$C:$C,0))),"")
A12: =IF(EOMONTH($A11,0)>$A11,$A11+1,"") -> 44176 | B12: =UPPER(TEXT($A12,"jjjj")) -> VENDREDI | C12: St Daniel | D12: =IF(WEEKDAY($A12,2)<>1,"",_xlfn.ISOWEEKNUM($A12)) | E12: =IFERROR(INDEX(Lune!$A:$A,MATCH(Décembre!A12,Lune!$C:$C,0)),"") | F12: =IFERROR(UPPER(INDEX(Feuil13!$B:$B,MATCH(A12,Feuil13!$C:$C,0))),"")
A13: =IF(EOMONTH($A12,0)>$A12,$A12+1,"") -> 44177 | B13: =UPPER(TEXT($A13,"jjjj")) -> SAMEDI | C13: St Jean. Fr-Ch | D13: =IF(WEEKDAY($A13,2)<>1,"",_xlfn.ISOWEEKNUM($A13)) | E13: =IFERROR(INDEX(Lune!$A:$A,MATCH(Décembre!A13,Lune!$C:$C,0)),"") | F13: =IFERROR(UPPER(INDEX(Feuil13!$B:$B,MATCH(A13,Feuil13!$C:$C,0))),"")
A14: =IF(EOMONTH($A13,0)>$A13,$A13+1,"") -> 44178 | B14: =UPPER(TEXT($A14,"jjjj")) -> DIMANCHE | C14: Ste Lucie | D14: =IF(WEEKDAY($A14,2)<>1,"",_xlfn.ISOWEEKNUM($A14)) | E14: =IFERROR(INDEX(Lune!$A:$A,MATCH(Décembre!A14,Lune!$C:$C,0)),"") | F14: =IFERROR(UPPER(INDEX(Feuil13!$B:$B,MATCH(A14,Feuil13!$C:$C,0))),"")
... A32: =IF(EOMONTH($A31,0)>$A31,$A31+1,"") -> 44196 | B32: =UPPER(TEXT($A32,"jjjj")) -> JEUDI | C32: St Sylvestre | D32: =IF(WEEKDAY($A32,2)<>1,"",_xlfn.ISOWEEKNUM($A32)) | E32: =IFERROR(INDEX(Lune!$A:$A,MATCH(Décembre!A32,Lune!$C:$C,0)),"") | F32: =IFERROR(UPPER(INDEX(Feuil13!$B:$B,MATCH(A32,Feuil13!$C:$C,0))),"")

Sheet Feuil13
B2: Année | C2: 2020
B4: Jours Fériés | C4: Dates | F4: Périodes | G4: Date de début | H4: Date de fin | J4: Année | K4: Printemps | L4: Été | M4: Automne | N4: Hiver
B5: Jours de l'An | C5: =DATE($C$2,1,1) -> 43831 | F5: Vacances de Noël | G5: 43831 | H5: 43836 | J5: 2000 | K5: 20 mars 07h03 | L5: 21 juin 01h04 | M5: 22 septembre 01h02 | N5: 21 décembre 01h03
B6: Lundi de Pâques | C6: =C19+1 -> 43934 | F6: Vacances d'Hiver | G6: 43883 | H6: 43899 | J6: 2001 | K6: 20 mars 01h03 | L6: 21 juin 07h03 | M6: 22 septembre 02h04 | N6: 21 décembre 01h02
B7: Fête du travail | C7: =DATE($C$2,5,1) -> 43952 | F7: Vacances de Printemps | G7: 43939 | H7: 43955 | J7: 2002 | K7: 20 mars 01h01 | L7: 21 juin 01h02 | M7: 23 septembre 04h05 | N7: 22 décembre 01h01
B8: Victoire 1945 | C8: =DATE($C$2,5,8) -> 43959 | F8: Pont de l'Ascension | G8: 43971 | H8: 43976 | J8: 2003 | K8: 21 mars 01h00 | L8: 21 juin 01h01 | M8: 23 septembre 01h04 | N8: 22 décembre 07h04
B9: Ascension | C9: =C19+39 -> 43972 | F9: Vacances d'Été | G9: 44016 | H9: 44075 | J9: 2004 | K9: 20 mars 06h04 | L9: 21 juin 00h05 | M9: 22 septembre 01h03 | N9: 21 décembre 01h04
B10: Lundi de Pentecôte | C10: =C19+50 -> 43983 | F10: Vacances de la Toussaint | G10: 44121 | H10: 44137 | J10: 2005 | K10: 20 mars 01h03 | L10: 21 juin 06h04 | M10: 22 septembre 02h02 | N10: 21 décembre 01h03
B11: Fête nationale | C11: =DATE($C$2,7,14) -> 44026 | F11: Vacances de Noël | G11: 44184 | H11: 44200 | J11: 2006 | K11: 20 mars 01h02 | L11: 21 juin 01h02 | M11: 23 septembre 04h03 | N11: 22 décembre 00h02
B12: Assomption | C12: =DATE($C$2,8,15) -> 44058 | F12: Vacances d'Hiver | G12: 44233 | H12: 44249 | J12: 2007 | K12: 21 mars 00h07 | L12: 21 juin 01h06 | M12: 23 septembre 09h05 | N12: 22 décembre 06h07
B13: Toussaint | C13: =DATE($C$2,11,1) -> 44136 | F13: Vacances de Printemps | G13: 44296 | H13: 44312 | J13: 2008 | K13: 20 mars 05h04 | L13: 20 juin 02h05 | M13: 22 septembre 01h04 | N13: 21 décembre 01h03
B14: Armistice 1918 | C14: =DATE($C$2,11,11) -> 44146 | F14: Pont de l'Ascension | G14: 44329 | H14: 44333 | J14: 2009 | K14: 20 mars 01h04 | L14: 21 juin 05h04 | M14: 22 septembre 02h01 | N14: 21 décembre 01h04
B15: Noël | C15: =DATE($C$2,12,25) -> 44190 | F15: Vacances d'Été | G15: 44382 | H15: 44440 | J15: 2010 | K15: 20 mars 01h03 | L15: 21 juin 01h02 | M15: 23 septembre 03h09 | N15: 21 décembre 02h03
F16: Vacances de la Toussaint | G16: 44485 | H16: 44500 | J16: 2011 | K16: 20 mars 02h02 | L16: 21 juin 01h01 | M16: 23 septembre 09h04 | N16: 22 décembre 05h02
F17: Vacances de Noël | G17: 44548 | H17: 44563 | J17: 2012 | K17: 20 mars 05h01 | L17: 20 juin 02h08 | M17: 22 septembre 01h04 | N17: 21 décembre 01h01
B18: Autres fètes | C18: Dates | F18: Vacances d'Hiver | G18: 44604 | H18: 44619 | J18: 2013 | K18: 20 mars 01h01 | L18: 21 juin 05h04 | M18: 22 septembre 02h04 | N18: 21 décembre 01h01
B19: Pâques | C19: =ROUND(DATE($C$2,4,MOD(234-11*MOD($C$2,19),30))/7,)*7-6 -> 43933 | F19: Vacances de Printemps | G19: 44660 | H19: 44675 | J19: 2014 | K19: 20 mars 01h05 | L19: 21 juin 01h05 | M19: 23 septembre 02h02 | N19: 21 décembre 02h02
B20: Pentecôte | C20: =C19+49 -> 43982 | F20: Pont de l'Ascension | G20: 44707 | H20: 44710 | J20: 2015 | K20: 20 mars 02h04 | L20: 21 juin 01h03 | M20: 23 septembre 08h02 | N20: 22 décembre 04h04
B21: Épiphanie | C21: =DATE($C$2,1,6) -> 43836 | F21: Vacances d'Été | G21: 44744 | J21: 2016 | K21: 20 mars 04h03 | L21: 20 juin 02h03 | M21: 22 septembre 01h02 | N21: 21 décembre 01h04
B22: Chandeleur | C22: =DATE($C$2,2,2) -> 43863 | J22: 2017 | K22: 20 mars 01h02 | L22: 21 juin 04h02 | M22: 22 septembre 02h01 | N22: 21 décembre 01h02
B23: Saint Valentin | C23: =DATE($C$2,2,14) -> 43875 | J23: 2018 | K23: 20 mars 01h01 | L23: 21 juin 01h07 | M23: 23 septembre 01h05 | N23: 21 décembre 02h02
B24: Mardi-Gras | C24: =C6-47 -> 43887 | J24: 2019 | K24: 20 mars 02h05 | L24: 21 juin 01h05 | M24: 23 septembre 07h04 | N24: 22 décembre 04h01
B25: Fête des Grands-mères | C25: =DATE($C$2,3,0)-WEEKDAY(DATE($C$2,3,0),1)+1+(7*1) -> 43891 | J25: 2020 | K25: 43910.128 | L25: 20 juin 02h04 | M25: 22 septembre 01h03 | N25: 21 décembre 01h02
B26: Rameaux | C26: =C19-7 -> 43926 | J26: 2021 | K26: 20 mars 09h03 | L26: 21 juin 03h03 | M26: 22 septembre 01h02 | N26: 21 décembre 01h05
B27: Vendredi Saint | C27: =C19-2 -> 43931 | J27: 2022 | K27: 20 mars 01h03 | L27: 21 juin 09h01 | M27: 23 septembre 01h03 | N27: 21 décembre 02h04
B28: Fête des mères | C28: =IF(DATE(($C$2),5+1,1)-WEEKDAY(DATE(($C$2),5+1,7))=C20,DATE(($C$2),5+1,1)-WEEKDAY(DATE(($C$2),5+1,7))+7,DATE(($C$2),5+1,1)-WEEKDAY(DATE(($C$2),5+1,7))) -> 43989 | J28: 2023 | K28: 20 mars 02h02 | L28: 21 juin 01h05 | M28: 23 septembre 06h04 | N28: 22 décembre 03h02
B29: Fête des père | C29: =("22/6/"&$C$2)-WEEKDAY("1/6/"&$C$2,2) -> 44003 | J29: 2024 | K29: 20 mars 03h06 | L29: 20 juin 02h05 | M29: 22 septembre 01h04 | N29: 21 décembre 09h02
B30: Fête de la musique | C30: =DATE($C$2,6,21) -> 44003 | J30: 2025 | K30: 20 mars 09h01 | L30: 21 juin 02h04 | M30: 22 septembre 01h01 | N30: 21 décembre 01h02
B31: Fête des grands-pères | C31: =DATE($C$2,10,0)-WEEKDAY(DATE($C$2,10,0),1)+1+(7*1) -> 44108 | J31: 2026 | K31: 20 mars 01h04 | L31: 21 juin 08h02 | M31: 23 septembre 00h05 | N31: 21 décembre 02h04
B32: Halloween | C32: =DATE($C$2,10,31) -> 44135 | J32: 2027 | K32: 20 mars 02h02 | L32: 21 juin 01h01 | M32: 23 septembre 06h01 | N32: 22 décembre 02h04
J33: 2028 | K33: 20 mars 02h01 | L33: 20 juin 02h01 | M33: 22 septembre 01h04 | N33: 21 décembre 08h01
J34: 2029 | K34: 20 mars 08h00 | L34: 21 juin 01h04 | M34: 22 septembre 01h03 | N34: 21 décembre 01h01
J35: 2030 | K35: 20 mars 01h05 | L35: 21 juin 07h03 | M35: 22 septembre 02h02 | N35: 21 décembre 02h09
J36: 2031 | K36: 20 mars 01h04 | L36: 21 juin 01h01 | M36: 23 septembre 05h01 | N36: 22 décembre 01h05
J37: 2032 | K37: 20 mars 01h02 | L37: 20 juin 01h08 | M37: 22 septembre 01h01 | N37: 21 décembre 07h05
J38: 2033 | K38: 20 mars 07h02 | L38: 21 juin 01h00 | M38: 22 septembre 01h05 | N38: 21 décembre 01h04
J39: 2034 | K39: 20 mars 01h01 | L39: 21 juin 06h04 | M39: 22 septembre 02h03 | N39: 21 décembre 01h03
J40: 2035 | K40: 20 mars 01h03 | L40: 21 juin 01h03 | M40: 23 septembre 04h03 | N40: 22 décembre 01h03
J41: 2036 | K41: 20 mars 01h02 | L41: 20 juin 01h03 | M41: 22 septembre 01h02 | N41: 21 décembre 07h01
J42: 2037 | K42: 20 mars 06h04 | L42: 21 juin 00h02 | M42: 22 septembre 01h01 | N42: 21 décembre 01h07
J43: 2038 | K43: 20 mars 01h04 | L43: 21 juin 06h09 | M43: 22 septembre 02h01 | N43: 21 décembre 01h01
J44: 2039 | K44: 20 mars 01h03 | L44: 21 juin 01h05 | M44: 23 septembre 03h04 | N44: 22 décembre 00h04
... J104: 2099 | K104: 20 mars 07h01 | L104: 20 juin 02h04 | M104: 22 septembre 01h01 | N104: 21 décembre 01h04

Sheet Lune
B1: =Feuil13!C2 -> 2020 | C1: Date | D1: Phase | E1: J | F1: M | G1: A | H1: Comput | N1: Jour Julien | O1: J | P1: M | S1: A | T1: H | U1: M | V1: S
B2: =DATE(B1,1,1) -> 43831 | C2: =DATE(S2,P2,O2) -> 43825 | E2: =DAY(B2) -> 1 | F2: =MONTH(B2) -> 1 | G2: =YEAR(B2) -> 2020 | H2: =ROUND((G2+(INT(275*F2/9)-IF(OR(AND(G2<1583,G2/4 -INT(G2/4)=0),AND(G2>1582,G2/4-INT(G2/4)=0,G2/400-INT(G2/400)<>0)),1,2)*INT((F2+9)/12)+E2-30) / 365.25 - 1900)*12.3685,0) -> 1484 | I2: =H2/1236.85 -> 1.1998221 | J2: =2415020.75933+29.53058868*H2+0.0001178*I2^2 -0.000000155*I2^3+0.00033*SIN(2.9070204+2.31901898*I2-0.0001601*I2^2) -> 2458844.2 | K2: =6.26964504+0.50798429*H2-0.0000005812*I2^2 -0.0000000606*I2^3 -> 760.11833 | L2: =5.34114908+6.73377553*H2+0.00018728*I2^2+0.0000002157*I2^3 -> 9998.2643 | M2: =0.3716923+6.81848663*H2-0.000028847*I2^2-0.00000004171*I2^3 -> 10119.006 | N2: =J2+0.0021*SIN(2*K2)-0.0004*SIN(3*L2)-0.0004*SIN(2*M2-K2) - 0.0006*SIN(2*M2+L2)+(0.1734-0.000393*I2)*SIN(K2) -0.4068*SIN(L2)+0.0161*SIN(2*L2)+0.0104*SIN(M2*2)- 0.0051*SIN(K2+L2)-0.0074*SIN(K2 -L2)+0.0004*SIN(2*M2+K2)+0.001*SIN(2*M2-L2)+0.0005*SIN(K2+2*L2) -> 2458843.7 | O2: =IF(INT(N2+0.5)<2299161,INT(N2+0.5),INT(N2+0.5)+1+INT((INT(N2+0.5)-1867216.25)/36524.25) -INT(INT((INT(N2+0.5) -1867216.25)/36524.25)/4))+1524 -INT(365.25*INT((IF(INT(N2+0.5)<2299161,INT(N2+0.5),INT(N2+0.5)+1+INT((INT(N2+0.5)-1867216.25)/36524.25) -INT(INT((INT(N2+0.5)-1867216.25)/36524.25)/4))+1524-122.1)/365.25)) -INT(30.6001*INT((IF(INT(N2+0.5)<2299161,INT(N2+0.5),INT(N2+0.5)+1+INT((INT(N2+0.5)-1867216.25)/36524.25)-INT(INT((INT(N2+0.5)-1867216.25)/36524.25)/4))+1524 -INT(365.25*INT((IF(INT(N2+0.5)<2299161,INT(N2+0.5),INT(N2+0.5)+1+INT((INT(N2+0.5)-1867216.25)/36524.25)-INT(INT((INT(N2+0.5) -1867216.25)/36524.25)/4))+1524-122.1)/365.25)))/30.6001)) -> 26 | P2: =IF(INT((IF(INT(N2+0.5)<2299161,INT(N2+0.5),INT(N2+0.5)+1+INT((INT(N2+0.5) -1867216.25)/36524.25)-INT(INT((INT(N2+0.5)-1867216.25)/36524.25)/4))+1524 -INT(365.25*INT((IF(INT(N2+0.5)<2299161,INT(N2+0.5),INT(N2+0.5)+1+INT((INT(N2+0.5)-1867216.25)/36524.25) -INT(INT((INT(N2+0.5)-1867216.25)/36524.25)/4))+1524 -122.1)/365.25)))/30.6001)<13.5,Q2,R2) -> 12 | Q2: =INT((IF(INT(N2+0.5)<2299161,INT(N2+0.5),INT(N2+0.5)+1+INT((INT(N2+0.5) -1867216.25)/36524.25)-INT(INT((INT(N2+0.5)-1867216.25)/36524.25)/4))+1524 -INT(365.25*INT((IF(INT(N2+0.5)<2299161,INT(N2+0.5),INT(N2+0.5)+1+INT((INT(N2+0.5)-1867216.25)/36524.25) -INT(INT((INT(N2+0.5)-1867216.25)/36524.25)/4))+1524-122.1)/365.25)))/30.6001) -1 -> 12 | R2: =INT((IF(INT(N2+0.5)<2299161,INT(N2+0.5),INT(N2+0.5)+1+INT((INT(N2+0.5)-1867216.25)/36524.25) -INT(INT((INT(N2+0.5)-1867216.25)/36524.25)/4))+1524 -INT(365.25*INT((IF(INT(N2+0.5)<2299161,INT(N2+0.5),INT(N2+0.5)+1+INT((INT(N2+0.5)-1867216.25)/36524.25) -INT(INT((INT(N2+0.5)-1867216.25)/36524.25)/4))+1524-122.1)/365.25)))/30.6001)-13 -> 0 | S2: =IF(P2>2.5,INT((IF(INT(N2+0.5)<2299161,INT(N2+0.5),INT(N2+0.5)+1+INT((INT(N2+0.5) -1867216.25)/36524.25)-INT(INT((INT(N2+0.5)-1867216.25)/36524.25)/4))+1524-122.1)/365.25) -4716,INT((IF(INT(N2+0.5)<2299161,INT(N2+0.5),INT(N2+0.5)+1 +INT((INT(N2+0.5)-1867216.25)/36524.25)-INT(INT((INT(N2+0.5)-1867216.25)/36524.25)/4))+1524-122.1) /365.25)-4715) -> 2019 | T2: =INT((N2+0.5-INT(N2+0.5))*24) -> 5 | U2: =INT((N2+0.5-INT(N2+0.5))*1440-INT(T2*60)) -> 15 | V2: =(N2+0.5-INT(N2+0.5))*86400-T2*3600-U2*60 -> 31.365591
A3: =IF(D3=0,"",IF(D3=0.25,"‚",IF(D3=0.5,"","ƒ"))) -> ‚ | B3: =IF(YEAR(C2)<B1,B2,IF(C2-B2>=14,B2-15,B2)) -> 43831 | C3: =DATE(S3,P3,O3) -> 43833 | D3: =IF(DAY(C2)<7,0,IF(DAY(C2)<15,-0.25,IF(DAY(C2)<24,0.5,0.25))) -> 0.25 | E3: =DAY(B3) -> 1 | F3: =MONTH(B3) -> 1 | G3: =YEAR(B3) -> 2020 | H3: =ROUND((G3+(INT(275*F3/9)-IF(OR(AND(G3<1583,G3/4 -INT(G3/4)=0),AND(G3>1582,G3/4-INT(G3/4)=0,G3/400-INT(G3/400)<>0)),1,2)*INT((F3+9)/12)+E3-30) / 365.25 - 1900)*12.3685,0)+D3 -> 1484.25 | I3: =H3/1236.85 -> 1.2000243 | J3: =2415020.75933+29.53058868*H3+0.0001178*I3^2 -0.000000155*I3^3+0.00033*SIN(2.9070204+2.31901898*I3-0.0001601*I3^2) -> 2458851.5 | K3: =6.26964504+0.50798429*H3-0.0000005812*I3^2 -0.0000000606*I3^3 -> 760.24533 | L3: =5.34114908+6.73377553*H3+0.00018728*I3^2+0.0000002157*I3^3 -> 9999.9477 | M3: =0.3716923+6.81848663*H3-0.000028847*I3^2-0.00000004171*I3^3 -> 10120.71 | N3: =J3+0.0021*SIN(2*K3)-0.0004*SIN(3*L3)-0.0004*SIN(2*M3-K3) - 0.0006*SIN(2*M3+L3)+(0.1734-0.000393*I3)*SIN(K3) -0.4068*SIN(L3)+0.0161*SIN(2*L3)+0.0104*SIN(M3*2)- 0.0051*SIN(K3+L3)-0.0074*SIN(K3 -L3)+0.0004*SIN(2*M3+K3)+0.001*SIN(2*M3-L3)+0.0005*SIN(K3+2*L3) -> 2458851.6 | O3: =IF(INT(N3+0.5)<2299161,INT(N3+0.5),INT(N3+0.5)+1+INT((INT(N3+0.5)-1867216.25)/36524.25) -INT(INT((INT(N3+0.5) -1867216.25)/36524.25)/4))+1524 -INT(365.25*INT((IF(INT(N3+0.5)<2299161,INT(N3+0.5),INT(N3+0.5)+1+INT((INT(N3+0.5)-1867216.25)/36524.25) -INT(INT((INT(N3+0.5)-1867216.25)/36524.25)/4))+1524-122.1)/365.25)) -INT(30.6001*INT((IF(INT(N3+0.5)<2299161,INT(N3+0.5),INT(N3+0.5)+1+INT((INT(N3+0.5)-1867216.25)/36524.25)-INT(INT((INT(N3+0.5)-1867216.25)/36524.25)/4))+1524 -INT(365.25*INT((IF(INT(N3+0.5)<2299161,INT(N3+0.5),INT(N3+0.5)+1+INT((INT(N3+0.5)-1867216.25)/36524.25)-INT(INT((INT(N3+0.5) -1867216.25)/36524.25)/4))+1524-122.1)/365.25)))/30.6001)) -> 3 | P3: =IF(INT((IF(INT(N3+0.5)<2299161,INT(N3+0.5),INT(N3+0.5)+1+INT((INT(N3+0.5) -1867216.25)/36524.25)-INT(INT((INT(N3+0.5)-1867216.25)/36524.25)/4))+1524 -INT(365.25*INT((IF(INT(N3+0.5)<2299161,INT(N3+0.5),INT(N3+0.5)+1+INT((INT(N3+0.5)-1867216.25)/36524.25) -INT(INT((INT(N3+0.5)-1867216.25)/36524.25)/4))+1524 -122.1)/365.25)))/30.6001)<13.5,Q3,R3) -> 1 | Q3: =INT((IF(INT(N3+0.5)<2299161,INT(N3+0.5),INT(N3+0.5)+1+INT((INT(N3+0.5) -1867216.25)/36524.25)-INT(INT((INT(N3+0.5)-1867216.25)/36524.25)/4))+1524 -INT(365.25*INT((IF(INT(N3+0.5)<2299161,INT(N3+0.5),INT(N3+0.5)+1+INT((INT(N3+0.5)-1867216.25)/36524.25) -INT(INT((INT(N3+0.5)-1867216.25)/36524.25)/4))+1524-122.1)/365.25)))/30.6001) -1 -> 13 | R3: =INT((IF(INT(N3+0.5)<2299161,INT(N3+0.5),INT(N3+0.5)+1+INT((INT(N3+0.5)-1867216.25)/36524.25) -INT(INT((INT(N3+0.5)-1867216.25)/36524.25)/4))+1524 -INT(365.25*INT((IF(INT(N3+0.5)<2299161,INT(N3+0.5),INT(N3+0.5)+1+INT((INT(N3+0.5)-1867216.25)/36524.25) -INT(INT((INT(N3+0.5)-1867216.25)/36524.25)/4))+1524-122.1)/365.25)))/30.6001)-13 -> 1 | S3: =IF(P3>2.5,INT((IF(INT(N3+0.5)<2299161,INT(N3+0.5),INT(N3+0.5)+1+INT((INT(N3+0.5) -1867216.25)/36524.25)-INT(INT((INT(N3+0.5)-1867216.25)/36524.25)/4))+1524-122.1)/365.25) -4716,INT((IF(INT(N3+0.5)<2299161,INT(N3+0.5),INT(N3+0.5)+1 +INT((INT(N3+0.5)-1867216.25)/36524.25)-INT(INT((INT(N3+0.5)-1867216.25)/36524.25)/4))+1524-122.1) /365.25)-4715) -> 2020 | T3: =INT((N3+0.5-INT(N3+0.5))*24) -> 3 | U3: =INT((N3+0.5-INT(N3+0.5))*1440-INT(T3*60)) -> 24 | V3: =(N3+0.5-INT(N3+0.5))*86400-T3*3600-U3*60 -> 10.61945
A4: =IF(D4=0,"",IF(D4=0.25,"‚",IF(D4=0.5,"","ƒ"))) ->  | B4: =IF(D4<>0,B3,C3) -> 43831 | C4: =DATE(S4,P4,O4) -> 43840 | D4: =IF(D3<0.75,D3+0.25,0) -> 0.5 | E4: =DAY(B4) -> 1 | F4: =MONTH(B4) -> 1 | G4: =YEAR(B4) -> 2020 | H4: =ROUND((G4+(INT(275*F4/9)-IF(OR(AND(G4<1583,G4/4 -INT(G4/4)=0),AND(G4>1582,G4/4-INT(G4/4)=0,G4/400-INT(G4/400)<>0)),1,2)*INT((F4+9)/12)+E4-30) / 365.25 - 1900)*12.3685,0)+D4 -> 1484.5 | I4: =H4/1236.85 -> 1.2002264 | J4: =2415020.75933+29.53058868*H4+0.0001178*I4^2 -0.000000155*I4^3+0.00033*SIN(2.9070204+2.31901898*I4-0.0001601*I4^2) -> 2458858.9 | K4: =6.26964504+0.50798429*H4-0.0000005812*I4^2 -0.0000000606*I4^3 -> 760.37232 | L4: =5.34114908+6.73377553*H4+0.00018728*I4^2+0.0000002157*I4^3 -> 10001.631 | M4: =0.3716923+6.81848663*H4-0.000028847*I4^2-0.00000004171*I4^3 -> 10122.415 | N4: =J4+0.0021*SIN(2*K4)-0.0004*SIN(3*L4)-0.0004*SIN(2*M4-K4) - 0.0006*SIN(2*M4+L4)+(0.1734-0.000393*I4)*SIN(K4) -0.4068*SIN(L4)+0.0161*SIN(2*L4)+0.0104*SIN(M4*2)- 0.0051*SIN(K4+L4)-0.0074*SIN(K4 -L4)+0.0004*SIN(2*M4+K4)+0.001*SIN(2*M4-L4)+0.0005*SIN(K4+2*L4) -> 2458859.3 | O4: =IF(INT(N4+0.5)<2299161,INT(N4+0.5),INT(N4+0.5)+1+INT((INT(N4+0.5)-1867216.25)/36524.25) -INT(INT((INT(N4+0.5) -1867216.25)/36524.25)/4))+1524 -INT(365.25*INT((IF(INT(N4+0.5)<2299161,INT(N4+0.5),INT(N4+0.5)+1+INT((INT(N4+0.5)-1867216.25)/36524.25) -INT(INT((INT(N4+0.5)-1867216.25)/36524.25)/4))+1524-122.1)/365.25)) -INT(30.6001*INT((IF(INT(N4+0.5)<2299161,INT(N4+0.5),INT(N4+0.5)+1+INT((INT(N4+0.5)-1867216.25)/36524.25)-INT(INT((INT(N4+0.5)-1867216.25)/36524.25)/4))+1524 -INT(365.25*INT((IF(INT(N4+0.5)<2299161,INT(N4+0.5),INT(N4+0.5)+1+INT((INT(N4+0.5)-1867216.25)/36524.25)-INT(INT((INT(N4+0.5) -1867216.25)/36524.25)/4))+1524-122.1)/365.25)))/30.6001)) -> 10 | P4: =IF(INT((IF(INT(N4+0.5)<2299161,INT(N4+0.5),INT(N4+0.5)+1+INT((INT(N4+0.5) -1867216.25)/36524.25)-INT(INT((INT(N4+0.5)-1867216.25)/36524.25)/4))+1524 -INT(365.25*INT((IF(INT(N4+0.5)<2299161,INT(N4+0.5),INT(N4+0.5)+1+INT((INT(N4+0.5)-1867216.25)/36524.25) -INT(INT((INT(N4+0.5)-1867216.25)/36524.25)/4))+1524 -122.1)/365.25)))/30.6001)<13.5,Q4,R4) -> 1 | Q4: =INT((IF(INT(N4+0.5)<2299161,INT(N4+0.5),INT(N4+0.5)+1+INT((INT(N4+0.5) -1867216.25)/36524.25)-INT(INT((INT(N4+0.5)-1867216.25)/36524.25)/4))+1524 -INT(365.25*INT((IF(INT(N4+0.5)<2299161,INT(N4+0.5),INT(N4+0.5)+1+INT((INT(N4+0.5)-1867216.25)/36524.25) -INT(INT((INT(N4+0.5)-1867216.25)/36524.25)/4))+1524-122.1)/365.25)))/30.6001) -1 -> 13 | R4: =INT((IF(INT(N4+0.5)<2299161,INT(N4+0.5),INT(N4+0.5)+1+INT((INT(N4+0.5)-1867216.25)/36524.25) -INT(INT((INT(N4+0.5)-1867216.25)/36524.25)/4))+1524 -INT(365.25*INT((IF(INT(N4+0.5)<2299161,INT(N4+0.5),INT(N4+0.5)+1+INT((INT(N4+0.5)-1867216.25)/36524.25) -INT(INT((INT(N4+0.5)-1867216.25)/36524.25)/4))+1524-122.1)/365.25)))/30.6001)-13 -> 1 | S4: =IF(P4>2.5,INT((IF(INT(N4+0.5)<2299161,INT(N4+0.5),INT(N4+0.5)+1+INT((INT(N4+0.5) -1867216.25)/36524.25)-INT(INT((INT(N4+0.5)-1867216.25)/36524.25)/4))+1524-122.1)/365.25) -4716,INT((IF(INT(N4+0.5)<2299161,INT(N4+0.5),INT(N4+0.5)+1 +INT((INT(N4+0.5)-1867216.25)/36524.25)-INT(INT((INT(N4+0.5)-1867216.25)/36524.25)/4))+1524-122.1) /365.25)-4715) -> 2020 | T4: =INT((N4+0.5-INT(N4+0.5))*24) -> 19 | U4: =INT((N4+0.5-INT(N4+0.5))*1440-INT(T4*60)) -> 23 | V4: =(N4+0.5-INT(N4+0.5))*86400-T4*3600-U4*60 -> 14.739032
A5: =IF(D5=0,"",IF(D5=0.25,"‚",IF(D5=0.5,"","ƒ"))) -> ƒ | B5: =IF(D5<>0,B4,C4) -> 43831 | C5: =DATE(S5,P5,O5) -> 43847 | D5: =IF(D4<0.75,D4+0.25,0) -> 0.75 | E5: =DAY(B5) -> 1 | F5: =MONTH(B5) -> 1 | G5: =YEAR(B5) -> 2020 | H5: =ROUND((G5+(INT(275*F5/9)-IF(OR(AND(G5<1583,G5/4 -INT(G5/4)=0),AND(G5>1582,G5/4-INT(G5/4)=0,G5/400-INT(G5/400)<>0)),1,2)*INT((F5+9)/12)+E5-30) / 365.25 - 1900)*12.3685,0)+D5 -> 1484.75 | I5: =H5/1236.85 -> 1.2004285 | J5: =2415020.75933+29.53058868*H5+0.0001178*I5^2 -0.000000155*I5^3+0.00033*SIN(2.9070204+2.31901898*I5-0.0001601*I5^2) -> 2458866.3 | K5: =6.26964504+0.50798429*H5-0.0000005812*I5^2 -0.0000000606*I5^3 -> 760.49932 | L5: =5.34114908+6.73377553*H5+0.00018728*I5^2+0.0000002157*I5^3 -> 10003.315 | M5: =0.3716923+6.81848663*H5-0.000028847*I5^2-0.00000004171*I5^3 -> 10124.12 | N5: =J5+0.0021*SIN(2*K5)-0.0004*SIN(3*L5)-0.0004*SIN(2*M5-K5) - 0.0006*SIN(2*M5+L5)+(0.1734-0.000393*I5)*SIN(K5) -0.4068*SIN(L5)+0.0161*SIN(2*L5)+0.0104*SIN(M5*2)- 0.0051*SIN(K5+L5)-0.0074*SIN(K5 -L5)+0.0004*SIN(2*M5+K5)+0.001*SIN(2*M5-L5)+0.0005*SIN(K5+2*L5) -> 2458866.2 | O5: =IF(INT(N5+0.5)<2299161,INT(N5+0.5),INT(N5+0.5)+1+INT((INT(N5+0.5)-1867216.25)/36524.25) -INT(INT((INT(N5+0.5) -1867216.25)/36524.25)/4))+1524 -INT(365.25*INT((IF(INT(N5+0.5)<2299161,INT(N5+0.5),INT(N5+0.5)+1+INT((INT(N5+0.5)-1867216.25)/36524.25) -INT(INT((INT(N5+0.5)-1867216.25)/36524.25)/4))+1524-122.1)/365.25)) -INT(30.6001*INT((IF(INT(N5+0.5)<2299161,INT(N5+0.5),INT(N5+0.5)+1+INT((INT(N5+0.5)-1867216.25)/36524.25)-INT(INT((INT(N5+0.5)-1867216.25)/36524.25)/4))+1524 -INT(365.25*INT((IF(INT(N5+0.5)<2299161,INT(N5+0.5),INT(N5+0.5)+1+INT((INT(N5+0.5)-1867216.25)/36524.25)-INT(INT((INT(N5+0.5) -1867216.25)/36524.25)/4))+1524-122.1)/365.25)))/30.6001)) -> 17 | P5: =IF(INT((IF(INT(N5+0.5)<2299161,INT(N5+0.5),INT(N5+0.5)+1+INT((INT(N5+0.5) -1867216.25)/36524.25)-INT(INT((INT(N5+0.5)-1867216.25)/36524.25)/4))+1524 -INT(365.25*INT((IF(INT(N5+0.5)<2299161,INT(N5+0.5),INT(N5+0.5)+1+INT((INT(N5+0.5)-1867216.25)/36524.25) -INT(INT((INT(N5+0.5)-1867216.25)/36524.25)/4))+1524 -122.1)/365.25)))/30.6001)<13.5,Q5,R5) -> 1 | Q5: =INT((IF(INT(N5+0.5)<2299161,INT(N5+0.5),INT(N5+0.5)+1+INT((INT(N5+0.5) -1867216.25)/36524.25)-INT(INT((INT(N5+0.5)-1867216.25)/36524.25)/4))+1524 -INT(365.25*INT((IF(INT(N5+0.5)<2299161,INT(N5+0.5),INT(N5+0.5)+1+INT((INT(N5+0.5)-1867216.25)/36524.25) -INT(INT((INT(N5+0.5)-1867216.25)/36524.25)/4))+1524-122.1)/365.25)))/30.6001) -1 -> 13 | R5: =INT((IF(INT(N5+0.5)<2299161,INT(N5+0.5),INT(N5+0.5)+1+INT((INT(N5+0.5)-1867216.25)/36524.25) -INT(INT((INT(N5+0.5)-1867216.25)/36524.25)/4))+1524 -INT(365.25*INT((IF(INT(N5+0.5)<2299161,INT(N5+0.5),INT(N5+0.5)+1+INT((INT(N5+0.5)-1867216.25)/36524.25) -INT(INT((INT(N5+0.5)-1867216.25)/36524.25)/4))+1524-122.1)/365.25)))/30.6001)-13 -> 1 | S5: =IF(P5>2.5,INT((IF(INT(N5+0.5)<2299161,INT(N5+0.5),INT(N5+0.5)+1+INT((INT(N5+0.5) -1867216.25)/36524.25)-INT(INT((INT(N5+0.5)-1867216.25)/36524.25)/4))+1524-122.1)/365.25) -4716,INT((IF(INT(N5+0.5)<2299161,INT(N5+0.5),INT(N5+0.5)+1 +INT((INT(N5+0.5)-1867216.25)/36524.25)-INT(INT((INT(N5+0.5)-1867216.25)/36524.25)/4))+1524-122.1) /365.25)-4715) -> 2020 | T5: =INT((N5+0.5-INT(N5+0.5))*24) -> 15 | U5: =INT((N5+0.5-INT(N5+0.5))*1440-INT(T5*60)) -> 47 | V5: =(N5+0.5-INT(N5+0.5))*86400-T5*3600-U5*60 -> 52.21524
A6: =IF(D6=0,"",IF(D6=0.25,"‚",IF(D6=0.5,"","ƒ"))) ->  | B6: =IF(D6<>0,B5,C5) -> 43847 | C6: =DATE(S6,P6,O6) -> 43854 | D6: =IF(D5<0.75,D5+0.25,0) -> 0 | E6: =DAY(B6) -> 17 | F6: =MONTH(B6) -> 1 | G6: =YEAR(B6) -> 2020 | H6: =ROUND((G6+(INT(275*F6/9)-IF(OR(AND(G6<1583,G6/4 -INT(G6/4)=0),AND(G6>1582,G6/4-INT(G6/4)=0,G6/400-INT(G6/400)<>0)),1,2)*INT((F6+9)/12)+E6-30) / 365.25 - 1900)*12.3685,0)+D6 -> 1485 | I6: =H6/1236.85 -> 1.2006306 | J6: =2415020.75933+29.53058868*H6+0.0001178*I6^2 -0.000000155*I6^3+0.00033*SIN(2.9070204+2.31901898*I6-0.0001601*I6^2) -> 2458873.7 | K6: =6.26964504+0.50798429*H6-0.0000005812*I6^2 -0.0000000606*I6^3 -> 760.62631 | L6: =5.34114908+6.73377553*H6+0.00018728*I6^2+0.0000002157*I6^3 -> 10004.998 | M6: =0.3716923+6.81848663*H6-0.000028847*I6^2-0.00000004171*I6^3 -> 10125.824 | N6: =J6+0.0021*SIN(2*K6)-0.0004*SIN(3*L6)-0.0004*SIN(2*M6-K6) - 0.0006*SIN(2*M6+L6)+(0.1734-0.000393*I6)*SIN(K6) -0.4068*SIN(L6)+0.0161*SIN(2*L6)+0.0104*SIN(M6*2)- 0.0051*SIN(K6+L6)-0.0074*SIN(K6 -L6)+0.0004*SIN(2*M6+K6)+0.001*SIN(2*M6-L6)+0.0005*SIN(K6+2*L6) -> 2458873.4 | O6: =IF(INT(N6+0.5)<2299161,INT(N6+0.5),INT(N6+0.5)+1+INT((INT(N6+0.5)-1867216.25)/36524.25) -INT(INT((INT(N6+0.5) -1867216.25)/36524.25)/4))+1524 -INT(365.25*INT((IF(INT(N6+0.5)<2299161,INT(N6+0.5),INT(N6+0.5)+1+INT((INT(N6+0.5)-1867216.25)/36524.25) -INT(INT((INT(N6+0.5)-1867216.25)/36524.25)/4))+1524-122.1)/365.25)) -INT(30.6001*INT((IF(INT(N6+0.5)<2299161,INT(N6+0.5),INT(N6+0.5)+1+INT((INT(N6+0.5)-1867216.25)/36524.25)-INT(INT((INT(N6+0.5)-1867216.25)/36524.25)/4))+1524 -INT(365.25*INT((IF(INT(N6+0.5)<2299161,INT(N6+0.5),INT(N6+0.5)+1+INT((INT(N6+0.5)-1867216.25)/36524.25)-INT(INT((INT(N6+0.5) -1867216.25)/36524.25)/4))+1524-122.1)/365.25)))/30.6001)) -> 24 | P6: =IF(INT((IF(INT(N6+0.5)<2299161,INT(N6+0.5),INT(N6+0.5)+1+INT((INT(N6+0.5) -1867216.25)/36524.25)-INT(INT((INT(N6+0.5)-1867216.25)/36524.25)/4))+1524 -INT(365.25*INT((IF(INT(N6+0.5)<2299161,INT(N6+0.5),INT(N6+0.5)+1+INT((INT(N6+0.5)-1867216.25)/36524.25) -INT(INT((INT(N6+0.5)-1867216.25)/36524.25)/4))+1524 -122.1)/365.25)))/30.6001)<13.5,Q6,R6) -> 1 | Q6: =INT((IF(INT(N6+0.5)<2299161,INT(N6+0.5),INT(N6+0.5)+1+INT((INT(N6+0.5) -1867216.25)/36524.25)-INT(INT((INT(N6+0.5)-1867216.25)/36524.25)/4))+1524 -INT(365.25*INT((IF(INT(N6+0.5)<2299161,INT(N6+0.5),INT(N6+0.5)+1+INT((INT(N6+0.5)-1867216.25)/36524.25) -INT(INT((INT(N6+0.5)-1867216.25)/36524.25)/4))+1524-122.1)/365.25)))/30.6001) -1 -> 13 | R6: =INT((IF(INT(N6+0.5)<2299161,INT(N6+0.5),INT(N6+0.5)+1+INT((INT(N6+0.5)-1867216.25)/36524.25) -INT(INT((INT(N6+0.5)-1867216.25)/36524.25)/4))+1524 -INT(365.25*INT((IF(INT(N6+0.5)<2299161,INT(N6+0.5),INT(N6+0.5)+1+INT((INT(N6+0.5)-1867216.25)/36524.25) -INT(INT((INT(N6+0.5)-1867216.25)/36524.25)/4))+1524-122.1)/365.25)))/30.6001)-13 -> 1 | S6: =IF(P6>2.5,INT((IF(INT(N6+0.5)<2299161,INT(N6+0.5),INT(N6+0.5)+1+INT((INT(N6+0.5) -1867216.25)/36524.25)-INT(INT((INT(N6+0.5)-1867216.25)/36524.25)/4))+1524-122.1)/365.25) -4716,INT((IF(INT(N6+0.5)<2299161,INT(N6+0.5),INT(N6+0.5)+1 +INT((INT(N6+0.5)-1867216.25)/36524.25)-INT(INT((INT(N6+0.5)-1867216.25)/36524.25)/4))+1524-122.1) /365.25)-4715) -> 2020 | T6: =INT((N6+0.5-INT(N6+0.5))*24) -> 21 | U6: =INT((N6+0.5-INT(N6+0.5))*1440-INT(T6*60)) -> 44 | V6: =(N6+0.5-INT(N6+0.5))*86400-T6*3600-U6*60 -> 11.226617
A7: =IF(D7=0,"",IF(D7=0.25,"‚",IF(D7=0.5,"","ƒ"))) -> ‚ | B7: =IF(D7<>0,B6,C6) -> 43847 | C7: =DATE(S7,P7,O7) -> 43862 | D7: =IF(D6<0.75,D6+0.25,0) -> 0.25 | E7: =DAY(B7) -> 17 | F7: =MONTH(B7) -> 1 | G7: =YEAR(B7) -> 2020 | H7: =ROUND((G7+(INT(275*F7/9)-IF(OR(AND(G7<1583,G7/4 -INT(G7/4)=0),AND(G7>1582,G7/4-INT(G7/4)=0,G7/400-INT(G7/400)<>0)),1,2)*INT((F7+9)/12)+E7-30) / 365.25 - 1900)*12.3685,0)+D7 -> 1485.25 | I7: =H7/1236.85 -> 1.2008328 | J7: =2415020.75933+29.53058868*H7+0.0001178*I7^2 -0.000000155*I7^3+0.00033*SIN(2.9070204+2.31901898*I7-0.0001601*I7^2) -> 2458881.1 | K7: =6.26964504+0.50798429*H7-0.0000005812*I7^2 -0.0000000606*I7^3 -> 760.75331 | L7: =5.34114908+6.73377553*H7+0.00018728*I7^2+0.0000002157*I7^3 -> 10006.682 | M7: =0.3716923+6.81848663*H7-0.000028847*I7^2-0.00000004171*I7^3 -> 10127.529 | N7: =J7+0.0021*SIN(2*K7)-0.0004*SIN(3*L7)-0.0004*SIN(2*M7-K7) - 0.0006*SIN(2*M7+L7)+(0.1734-0.000393*I7)*SIN(K7) -0.4068*SIN(L7)+0.0161*SIN(2*L7)+0.0104*SIN(M7*2)- 0.0051*SIN(K7+L7)-0.0074*SIN(K7 -L7)+0.0004*SIN(2*M7+K7)+0.001*SIN(2*M7-L7)+0.0005*SIN(K7+2*L7) -> 2458881.4 | O7: =IF(INT(N7+0.5)<2299161,INT(N7+0.5),INT(N7+0.5)+1+INT((INT(N7+0.5)-1867216.25)/36524.25) -INT(INT((INT(N7+0.5) -1867216.25)/36524.25)/4))+1524 -INT(365.25*INT((IF(INT(N7+0.5)<2299161,INT(N7+0.5),INT(N7+0.5)+1+INT((INT(N7+0.5)-1867216.25)/36524.25) -INT(INT((INT(N7+0.5)-1867216.25)/36524.25)/4))+1524-122.1)/365.25)) -INT(30.6001*INT((IF(INT(N7+0.5)<2299161,INT(N7+0.5),INT(N7+0.5)+1+INT((INT(N7+0.5)-1867216.25)/36524.25)-INT(INT((INT(N7+0.5)-1867216.25)/36524.25)/4))+1524 -INT(365.25*INT((IF(INT(N7+0.5)<2299161,INT(N7+0.5),INT(N7+0.5)+1+INT((INT(N7+0.5)-1867216.25)/36524.25)-INT(INT((INT(N7+0.5) -1867216.25)/36524.25)/4))+1524-122.1)/365.25)))/30.6001)) -> 1 | P7: =IF(INT((IF(INT(N7+0.5)<2299161,INT(N7+0.5),INT(N7+0.5)+1+INT((INT(N7+0.5) -1867216.25)/36524.25)-INT(INT((INT(N7+0.5)-1867216.25)/36524.25)/4))+1524 -INT(365.25*INT((IF(INT(N7+0.5)<2299161,INT(N7+0.5),INT(N7+0.5)+1+INT((INT(N7+0.5)-1867216.25)/36524.25) -INT(INT((INT(N7+0.5)-1867216.25)/36524.25)/4))+1524 -122.1)/365.25)))/30.6001)<13.5,Q7,R7) -> 2 | Q7: =INT((IF(INT(N7+0.5)<2299161,INT(N7+0.5),INT(N7+0.5)+1+INT((INT(N7+0.5) -1867216.25)/36524.25)-INT(INT((INT(N7+0.5)-1867216.25)/36524.25)/4))+1524 -INT(365.25*INT((IF(INT(N7+0.5)<2299161,INT(N7+0.5),INT(N7+0.5)+1+INT((INT(N7+0.5)-1867216.25)/36524.25) -INT(INT((INT(N7+0.5)-1867216.25)/36524.25)/4))+1524-122.1)/365.25)))/30.6001) -1 -> 14 | R7: =INT((IF(INT(N7+0.5)<2299161,INT(N7+0.5),INT(N7+0.5)+1+INT((INT(N7+0.5)-1867216.25)/36524.25) -INT(INT((INT(N7+0.5)-1867216.25)/36524.25)/4))+1524 -INT(365.25*INT((IF(INT(N7+0.5)<2299161,INT(N7+0.5),INT(N7+0.5)+1+INT((INT(N7+0.5)-1867216.25)/36524.25) -INT(INT((INT(N7+0.5)-1867216.25)/36524.25)/4))+1524-122.1)/365.25)))/30.6001)-13 -> 2 | S7: =IF(P7>2.5,INT((IF(INT(N7+0.5)<2299161,INT(N7+0.5),INT(N7+0.5)+1+INT((INT(N7+0.5) -1867216.25)/36524.25)-INT(INT((INT(N7+0.5)-1867216.25)/36524.25)/4))+1524-122.1)/365.25) -4716,INT((IF(INT(N7+0.5)<2299161,INT(N7+0.5),INT(N7+0.5)+1 +INT((INT(N7+0.5)-1867216.25)/36524.25)-INT(INT((INT(N7+0.5)-1867216.25)/36524.25)/4))+1524-122.1) /365.25)-4715) -> 2020 | T7: =INT((N7+0.5-INT(N7+0.5))*24) -> 22 | U7: =INT((N7+0.5-INT(N7+0.5))*1440-INT(T7*60)) -> 10 | V7: =(N7+0.5-INT(N7+0.5))*86400-T7*3600-U7*60 -> 6.834434
A8: =IF(D8=0,"",IF(D8=0.25,"‚",IF(D8=0.5,"","ƒ"))) ->  | B8: =IF(D8<>0,B7,C7) -> 43847 | C8: =DATE(S8,P8,O8) -> 43870 | D8: =IF(D7<0.75,D7+0.25,0) -> 0.5 | E8: =DAY(B8) -> 17 | F8: =MONTH(B8) -> 1 | G8: =YEAR(B8) -> 2020 | H8: =ROUND((G8+(INT(275*F8/9)-IF(OR(AND(G8<1583,G8/4 -INT(G8/4)=0),AND(G8>1582,G8/4-INT(G8/4)=0,G8/400-INT(G8/400)<>0)),1,2)*INT((F8+9)/12)+E8-30) / 365.25 - 1900)*12.3685,0)+D8 -> 1485.5 | I8: =H8/1236.85 -> 1.2010349 | J8: =2415020.75933+29.53058868*H8+0.0001178*I8^2 -0.000000155*I8^3+0.00033*SIN(2.9070204+2.31901898*I8-0.0001601*I8^2) -> 2458888.4 | K8: =6.26964504+0.50798429*H8-0.0000005812*I8^2 -0.0000000606*I8^3 -> 760.88031 | L8: =5.34114908+6.73377553*H8+0.00018728*I8^2+0.0000002157*I8^3 -> 10008.365 | M8: =0.3716923+6.81848663*H8-0.000028847*I8^2-0.00000004171*I8^3 -> 10129.234 | N8: =J8+0.0021*SIN(2*K8)-0.0004*SIN(3*L8)-0.0004*SIN(2*M8-K8) - 0.0006*SIN(2*M8+L8)+(0.1734-0.000393*I8)*SIN(K8) -0.4068*SIN(L8)+0.0161*SIN(2*L8)+0.0104*SIN(M8*2)- 0.0051*SIN(K8+L8)-0.0074*SIN(K8 -L8)+0.0004*SIN(2*M8+K8)+0.001*SIN(2*M8-L8)+0.0005*SIN(K8+2*L8) -> 2458888.8 | O8: =IF(INT(N8+0.5)<2299161,INT(N8+0.5),INT(N8+0.5)+1+INT((INT(N8+0.5)-1867216.25)/36524.25) -INT(INT((INT(N8+0.5) -1867216.25)/36524.25)/4))+1524 -INT(365.25*INT((IF(INT(N8+0.5)<2299161,INT(N8+0.5),INT(N8+0.5)+1+INT((INT(N8+0.5)-1867216.25)/36524.25) -INT(INT((INT(N8+0.5)-1867216.25)/36524.25)/4))+1524-122.1)/365.25)) -INT(30.6001*INT((IF(INT(N8+0.5)<2299161,INT(N8+0.5),INT(N8+0.5)+1+INT((INT(N8+0.5)-1867216.25)/36524.25)-INT(INT((INT(N8+0.5)-1867216.25)/36524.25)/4))+1524 -INT(365.25*INT((IF(INT(N8+0.5)<2299161,INT(N8+0.5),INT(N8+0.5)+1+INT((INT(N8+0.5)-1867216.25)/36524.25)-INT(INT((INT(N8+0.5) -1867216.25)/36524.25)/4))+1524-122.1)/365.25)))/30.6001)) -> 9 | P8: =IF(INT((IF(INT(N8+0.5)<2299161,INT(N8+0.5),INT(N8+0.5)+1+INT((INT(N8+0.5) -1867216.25)/36524.25)-INT(INT((INT(N8+0.5)-1867216.25)/36524.25)/4))+1524 -INT(365.25*INT((IF(INT(N8+0.5)<2299161,INT(N8+0.5),INT(N8+0.5)+1+INT((INT(N8+0.5)-1867216.25)/36524.25) -INT(INT((INT(N8+0.5)-1867216.25)/36524.25)/4))+1524 -122.1)/365.25)))/30.6001)<13.5,Q8,R8) -> 2 | Q8: =INT((IF(INT(N8+0.5)<2299161,INT(N8+0.5),INT(N8+0.5)+1+INT((INT(N8+0.5) -1867216.25)/36524.25)-INT(INT((INT(N8+0.5)-1867216.25)/36524.25)/4))+1524 -INT(365.25*INT((IF(INT(N8+0.5)<2299161,INT(N8+0.5),INT(N8+0.5)+1+INT((INT(N8+0.5)-1867216.25)/36524.25) -INT(INT((INT(N8+0.5)-1867216.25)/36524.25)/4))+1524-122.1)/365.25)))/30.6001) -1 -> 14 | R8: =INT((IF(INT(N8+0.5)<2299161,INT(N8+0.5),INT(N8+0.5)+1+INT((INT(N8+0.5)-1867216.25)/36524.25) -INT(INT((INT(N8+0.5)-1867216.25)/36524.25)/4))+1524 -INT(365.25*INT((IF(INT(N8+0.5)<2299161,INT(N8+0.5),INT(N8+0.5)+1+INT((INT(N8+0.5)-1867216.25)/36524.25) -INT(INT((INT(N8+0.5)-1867216.25)/36524.25)/4))+1524-122.1)/365.25)))/30.6001)-13 -> 2 | S8: =IF(P8>2.5,INT((IF(INT(N8+0.5)<2299161,INT(N8+0.5),INT(N8+0.5)+1+INT((INT(N8+0.5) -1867216.25)/36524.25)-INT(INT((INT(N8+0.5)-1867216.25)/36524.25)/4))+1524-122.1)/365.25) -4716,INT((IF(INT(N8+0.5)<2299161,INT(N8+0.5),INT(N8+0.5)+1 +INT((INT(N8+0.5)-1867216.25)/36524.25)-INT(INT((INT(N8+0.5)-1867216.25)/36524.25)/4))+1524-122.1) /365.25)-4715) -> 2020 | T8: =INT((N8+0.5-INT(N8+0.5))*24) -> 7 | U8: =INT((N8+0.5-INT(N8+0.5))*1440-INT(T8*60)) -> 34 | V8: =(N8+0.5-INT(N8+0.5))*86400-T8*3600-U8*60 -> 35.928175
A9: =IF(D9=0,"",IF(D9=0.25,"‚",IF(D9=0.5,"","ƒ"))) -> ƒ | B9: =IF(D9<>0,B8,C8) -> 43847 | C9: =DATE(S9,P9,O9) -> 43877 | D9: =IF(D8<0.75,D8+0.25,0) -> 0.75 | E9: =DAY(B9) -> 17 | F9: =MONTH(B9) -> 1 | G9: =YEAR(B9) -> 2020 | H9: =ROUND((G9+(INT(275*F9/9)-IF(OR(AND(G9<1583,G9/4 -INT(G9/4)=0),AND(G9>1582,G9/4-INT(G9/4)=0,G9/400-INT(G9/400)<>0)),1,2)*INT((F9+9)/12)+E9-30) / 365.25 - 1900)*12.3685,0)+D9 -> 1485.75 | I9: =H9/1236.85 -> 1.201237 | J9: =2415020.75933+29.53058868*H9+0.0001178*I9^2 -0.000000155*I9^3+0.00033*SIN(2.9070204+2.31901898*I9-0.0001601*I9^2) -> 2458895.8 | K9: =6.26964504+0.50798429*H9-0.0000005812*I9^2 -0.0000000606*I9^3 -> 761.0073 | L9: =5.34114908+6.73377553*H9+0.00018728*I9^2+0.0000002157*I9^3 -> 10010.048 | M9: =0.3716923+6.81848663*H9-0.000028847*I9^2-0.00000004171*I9^3 -> 10130.938 | N9: =J9+0.0021*SIN(2*K9)-0.0004*SIN(3*L9)-0.0004*SIN(2*M9-K9) - 0.0006*SIN(2*M9+L9)+(0.1734-0.000393*I9)*SIN(K9) -0.4068*SIN(L9)+0.0161*SIN(2*L9)+0.0104*SIN(M9*2)- 0.0051*SIN(K9+L9)-0.0074*SIN(K9 -L9)+0.0004*SIN(2*M9+K9)+0.001*SIN(2*M9-L9)+0.0005*SIN(K9+2*L9) -> 2458895.6 | O9: =IF(INT(N9+0.5)<2299161,INT(N9+0.5),INT(N9+0.5)+1+INT((INT(N9+0.5)-1867216.25)/36524.25) -INT(INT((INT(N9+0.5) -1867216.25)/36524.25)/4))+1524 -INT(365.25*INT((IF(INT(N9+0.5)<2299161,INT(N9+0.5),INT(N9+0.5)+1+INT((INT(N9+0.5)-1867216.25)/36524.25) -INT(INT((INT(N9+0.5)-1867216.25)/36524.25)/4))+1524-122.1)/365.25)) -INT(30.6001*INT((IF(INT(N9+0.5)<2299161,INT(N9+0.5),INT(N9+0.5)+1+INT((INT(N9+0.5)-1867216.25)/36524.25)-INT(INT((INT(N9+0.5)-1867216.25)/36524.25)/4))+1524 -INT(365.25*INT((IF(INT(N9+0.5)<2299161,INT(N9+0.5),INT(N9+0.5)+1+INT((INT(N9+0.5)-1867216.25)/36524.25)-INT(INT((INT(N9+0.5) -1867216.25)/36524.25)/4))+1524-122.1)/365.25)))/30.6001)) -> 16 | P9: =IF(INT((IF(INT(N9+0.5)<2299161,INT(N9+0.5),INT(N9+0.5)+1+INT((INT(N9+0.5) -1867216.25)/36524.25)-INT(INT((INT(N9+0.5)-1867216.25)/36524.25)/4))+1524 -INT(365.25*INT((IF(INT(N9+0.5)<2299161,INT(N9+0.5),INT(N9+0.5)+1+INT((INT(N9+0.5)-1867216.25)/36524.25) -INT(INT((INT(N9+0.5)-1867216.25)/36524.25)/4))+1524 -122.1)/365.25)))/30.6001)<13.5,Q9,R9) -> 2 | Q9: =INT((IF(INT(N9+0.5)<2299161,INT(N9+0.5),INT(N9+0.5)+1+INT((INT(N9+0.5) -1867216.25)/36524.25)-INT(INT((INT(N9+0.5)-1867216.25)/36524.25)/4))+1524 -INT(365.25*INT((IF(INT(N9+0.5)<2299161,INT(N9+0.5),INT(N9+0.5)+1+INT((INT(N9+0.5)-1867216.25)/36524.25) -INT(INT((INT(N9+0.5)-1867216.25)/36524.25)/4))+1524-122.1)/365.25)))/30.6001) -1 -> 14 | R9: =INT((IF(INT(N9+0.5)<2299161,INT(N9+0.5),INT(N9+0.5)+1+INT((INT(N9+0.5)-1867216.25)/36524.25) -INT(INT((INT(N9+0.5)-1867216.25)/36524.25)/4))+1524 -INT(365.25*INT((IF(INT(N9+0.5)<2299161,INT(N9+0.5),INT(N9+0.5)+1+INT((INT(N9+0.5)-1867216.25)/36524.25) -INT(INT((INT(N9+0.5)-1867216.25)/36524.25)/4))+1524-122.1)/365.25)))/30.6001)-13 -> 2 | S9: =IF(P9>2.5,INT((IF(INT(N9+0.5)<2299161,INT(N9+0.5),INT(N9+0.5)+1+INT((INT(N9+0.5) -1867216.25)/36524.25)-INT(INT((INT(N9+0.5)-1867216.25)/36524.25)/4))+1524-122.1)/365.25) -4716,INT((IF(INT(N9+0.5)<2299161,INT(N9+0.5),INT(N9+0.5)+1 +INT((INT(N9+0.5)-1867216.25)/36524.25)-INT(INT((INT(N9+0.5)-1867216.25)/36524.25)/4))+1524-122.1) /365.25)-4715) -> 2020 | T9: =INT((N9+0.5-INT(N9+0.5))*24) -> 2 | U9: =INT((N9+0.5-INT(N9+0.5))*1440-INT(T9*60)) -> 59 | V9: =(N9+0.5-INT(N9+0.5))*86400-T9*3600-U9*60 -> 17.643239
A10: =IF(D10=0,"",IF(D10=0.25,"‚",IF(D10=0.5,"","ƒ"))) ->  | B10: =IF(D10<>0,B9,C9) -> 43877 | C10: =DATE(S10,P10,O10) -> 43884 | D10: =IF(D9<0.75,D9+0.25,0) -> 0 | E10: =DAY(B10) -> 16 | F10: =MONTH(B10) -> 2 | G10: =YEAR(B10) -> 2020 | H10: =ROUND((G10+(INT(275*F10/9)-IF(OR(AND(G10<1583,G10/4 -INT(G10/4)=0),AND(G10>1582,G10/4-INT(G10/4)=0,G10/400-INT(G10/400)<>0)),1,2)*INT((F10+9)/12)+E10-30) / 365.25 - 1900)*12.3685,0)+D10 -> 1486 | I10: =H10/1236.85 -> 1.2014391 | J10: =2415020.75933+29.53058868*H10+0.0001178*I10^2 -0.000000155*I10^3+0.00033*SIN(2.9070204+2.31901898*I10-0.0001601*I10^2) -> 2458903.2 | K10: =6.26964504+0.50798429*H10-0.0000005812*I10^2 -0.0000000606*I10^3 -> 761.1343 | L10: =5.34114908+6.73377553*H10+0.00018728*I10^2+0.0000002157*I10^3 -> 10011.732 | M10: =0.3716923+6.81848663*H10-0.000028847*I10^2-0.00000004171*I10^3 -> 10132.643 | N10: =J10+0.0021*SIN(2*K10)-0.0004*SIN(3*L10)-0.0004*SIN(2*M10-K10) - 0.0006*SIN(2*M10+L10)+(0.1734-0.000393*I10)*SIN(K10) -0.4068*SIN(L10)+0.0161*SIN(2*L10)+0.0104*SIN(M10*2)- 0.0051*SIN(K10+L10)-0.0074*SIN(K10 -L10)+0.0004*SIN(2*M10+K10)+0.001*SIN(2*M10-L10)+0.0005*SIN(K10+2*L10) -> 2458903.1 | O10: =IF(INT(N10+0.5)<2299161,INT(N10+0.5),INT(N10+0.5)+1+INT((INT(N10+0.5)-1867216.25)/36524.25) -INT(INT((INT(N10+0.5) -1867216.25)/36524.25)/4))+1524 -INT(365.25*INT((IF(INT(N10+0.5)<2299161,INT(N10+0.5),INT(N10+0.5)+1+INT((INT(N10+0.5)-1867216.25)/36524.25) -INT(INT((INT(N10+0.5)-1867216.25)/36524.25)/4))+1524-122.1)/365.25)) -INT(30.6001*INT((IF(INT(N10+0.5)<2299161,INT(N10+0.5),INT(N10+0.5)+1+INT((INT(N10+0.5)-1867216.25)/36524.25)-INT(INT((INT(N10+0.5)-1867216.25)/36524.25)/4))+1524 -INT(365.25*INT((IF(INT(N10+0.5)<2299161,INT(N10+0.5),INT(N10+0.5)+1+INT((INT(N10+0.5)-1867216.25)/36524.25)-INT(INT((INT(N10+0.5) -1867216.25)/36524.25)/4))+1524-122.1)/365.25)))/30.6001)) -> 23 | P10: =IF(INT((IF(INT(N10+0.5)<2299161,INT(N10+0.5),INT(N10+0.5)+1+INT((INT(N10+0.5) -1867216.25)/36524.25)-INT(INT((INT(N10+0.5)-1867216.25)/36524.25)/4))+1524 -INT(365.25*INT((IF(INT(N10+0.5)<2299161,INT(N10+0.5),INT(N10+0.5)+1+INT((INT(N10+0.5)-1867216.25)/36524.25) -INT(INT((INT(N10+0.5)-1867216.25)/36524.25)/4))+1524 -122.1)/365.25)))/30.6001)<13.5,Q10,R10) -> 2 | Q10: =INT((IF(INT(N10+0.5)<2299161,INT(N10+0.5),INT(N10+0.5)+1+INT((INT(N10+0.5) -1867216.25)/36524.25)-INT(INT((INT(N10+0.5)-1867216.25)/36524.25)/4))+1524 -INT(365.25*INT((IF(INT(N10+0.5)<2299161,INT(N10+0.5),INT(N10+0.5)+1+INT((INT(N10+0.5)-1867216.25)/36524.25) -INT(INT((INT(N10+0.5)-1867216.25)/36524.25)/4))+1524-122.1)/365.25)))/30.6001) -1 -> 14 | R10: =INT((IF(INT(N10+0.5)<2299161,INT(N10+0.5),INT(N10+0.5)+1+INT((INT(N10+0.5)-1867216.25)/36524.25) -INT(INT((INT(N10+0.5)-1867216.25)/36524.25)/4))+1524 -INT(365.25*INT((IF(INT(N10+0.5)<2299161,INT(N10+0.5),INT(N10+0.5)+1+INT((INT(N10+0.5)-1867216.25)/36524.25) -INT(INT((INT(N10+0.5)-1867216.25)/36524.25)/4))+1524-122.1)/365.25)))/30.6001)-13 -> 2 | S10: =IF(P10>2.5,INT((IF(INT(N10+0.5)<2299161,INT(N10+0.5),INT(N10+0.5)+1+INT((INT(N10+0.5) -1867216.25)/36524.25)-INT(INT((INT(N10+0.5)-1867216.25)/36524.25)/4))+1524-122.1)/365.25) -4716,INT((IF(INT(N10+0.5)<2299161,INT(N10+0.5),INT(N10+0.5)+1 +INT((INT(N10+0.5)-1867216.25)/36524.25)-INT(INT((INT(N10+0.5)-1867216.25)/36524.25)/4))+1524-122.1) /365.25)-4715) -> 2020 | T10: =INT((N10+0.5-INT(N10+0.5))*24) -> 15 | U10: =INT((N10+0.5-INT(N10+0.5))*1440-INT(T10*60)) -> 33 | V10: =(N10+0.5-INT(N10+0.5))*86400-T10*3600-U10*60 -> 44.826716
A11: =IF(D11=0,"",IF(D11=0.25,"‚",IF(D11=0.5,"","ƒ"))) -> ‚ | B11: =IF(D11<>0,B10,C10) -> 43877 | C11: =DATE(S11,P11,O11) -> 43892 | D11: =IF(D10<0.75,D10+0.25,0) -> 0.25 | E11: =DAY(B11) -> 16 | F11: =MONTH(B11) -> 2 | G11: =YEAR(B11) -> 2020 | H11: =ROUND((G11+(INT(275*F11/9)-IF(OR(AND(G11<1583,G11/4 -INT(G11/4)=0),AND(G11>1582,G11/4-INT(G11/4)=0,G11/400-INT(G11/400)<>0)),1,2)*INT((F11+9)/12)+E11-30) / 365.25 - 1900)*12.3685,0)+D11 -> 1486.25 | I11: =H11/1236.85 -> 1.2016413 | J11: =2415020.75933+29.53058868*H11+0.0001178*I11^2 -0.000000155*I11^3+0.00033*SIN(2.9070204+2.31901898*I11-0.0001601*I11^2) -> 2458910.6 | K11: =6.26964504+0.50798429*H11-0.0000005812*I11^2 -0.0000000606*I11^3 -> 761.2613 | L11: =5.34114908+6.73377553*H11+0.00018728*I11^2+0.0000002157*I11^3 -> 10013.415 | M11: =0.3716923+6.81848663*H11-0.000028847*I11^2-0.00000004171*I11^3 -> 10134.347 | N11: =J11+0.0021*SIN(2*K11)-0.0004*SIN(3*L11)-0.0004*SIN(2*M11-K11) - 0.0006*SIN(2*M11+L11)+(0.1734-0.000393*I11)*SIN(K11) -0.4068*SIN(L11)+0.0161*SIN(2*L11)+0.0104*SIN(M11*2)- 0.0051*SIN(K11+L11)-0.0074*SIN(K11 -L11)+0.0004*SIN(2*M11+K11)+0.001*SIN(2*M11-L11)+0.0005*SIN(K11+2*L11) -> 2458911.1 | O11: =IF(INT(N11+0.5)<2299161,INT(N11+0.5),INT(N11+0.5)+1+INT((INT(N11+0.5)-1867216.25)/36524.25) -INT(INT((INT(N11+0.5) -1867216.25)/36524.25)/4))+1524 -INT(365.25*INT((IF(INT(N11+0.5)<2299161,INT(N11+0.5),INT(N11+0.5)+1+INT((INT(N11+0.5)-1867216.25)/36524.25) -INT(INT((INT(N11+0.5)-1867216.25)/36524.25)/4))+1524-122.1)/365.25)) -INT(30.6001*INT((IF(INT(N11+0.5)<2299161,INT(N11+0.5),INT(N11+0.5)+1+INT((INT(N11+0.5)-1867216.25)/36524.25)-INT(INT((INT(N11+0.5)-1867216.25)/36524.25)/4))+1524 -INT(365.25*INT((IF(INT(N11+0.5)<2299161,INT(N11+0.5),INT(N11+0.5)+1+INT((INT(N11+0.5)-1867216.25)/36524.25)-INT(INT((INT(N11+0.5) -1867216.25)/36524.25)/4))+1524-122.1)/365.25)))/30.6001)) -> 2 | P11: =IF(INT((IF(INT(N11+0.5)<2299161,INT(N11+0.5),INT(N11+0.5)+1+INT((INT(N11+0.5) -1867216.25)/36524.25)-INT(INT((INT(N11+0.5)-1867216.25)/36524.25)/4))+1524 -INT(365.25*INT((IF(INT(N11+0.5)<2299161,INT(N11+0.5),INT(N11+0.5)+1+INT((INT(N11+0.5)-1867216.25)/36524.25) -INT(INT((INT(N11+0.5)-1867216.25)/36524.25)/4))+1524 -122.1)/365.25)))/30.6001)<13.5,Q11,R11) -> 3 | Q11: =INT((IF(INT(N11+0.5)<2299161,INT(N11+0.5),INT(N11+0.5)+1+INT((INT(N11+0.5) -1867216.25)/36524.25)-INT(INT((INT(N11+0.5)-1867216.25)/36524.25)/4))+1524 -INT(365.25*INT((IF(INT(N11+0.5)<2299161,INT(N11+0.5),INT(N11+0.5)+1+INT((INT(N11+0.5)-1867216.25)/36524.25) -INT(INT((INT(N11+0.5)-1867216.25)/36524.25)/4))+1524-122.1)/365.25)))/30.6001) -1 -> 3 | R11: =INT((IF(INT(N11+0.5)<2299161,INT(N11+0.5),INT(N11+0.5)+1+INT((INT(N11+0.5)-1867216.25)/36524.25) -INT(INT((INT(N11+0.5)-1867216.25)/36524.25)/4))+1524 -INT(365.25*INT((IF(INT(N11+0.5)<2299161,INT(N11+0.5),INT(N11+0.5)+1+INT((INT(N11+0.5)-1867216.25)/36524.25) -INT(INT((INT(N11+0.5)-1867216.25)/36524.25)/4))+1524-122.1)/365.25)))/30.6001)-13 -> -9 | S11: =IF(P11>2.5,INT((IF(INT(N11+0.5)<2299161,INT(N11+0.5),INT(N11+0.5)+1+INT((INT(N11+0.5) -1867216.25)/36524.25)-INT(INT((INT(N11+0.5)-1867216.25)/36524.25)/4))+1524-122.1)/365.25) -4716,INT((IF(INT(N11+0.5)<2299161,INT(N11+0.5),INT(N11+0.5)+1 +INT((INT(N11+0.5)-1867216.25)/36524.25)-INT(INT((INT(N11+0.5)-1867216.25)/36524.25)/4))+1524-122.1) /365.25)-4715) -> 2020 | T11: =INT((N11+0.5-INT(N11+0.5))*24) -> 14 | U11: =INT((N11+0.5-INT(N11+0.5))*1440-INT(T11*60)) -> 59 | V11: =(N11+0.5-INT(N11+0.5))*86400-T11*3600-U11*60 -> 52.824139
A12: =IF(D12=0,"",IF(D12=0.25,"‚",IF(D12=0.5,"","ƒ"))) ->  | B12: =IF(D12<>0,B11,C11) -> 43877 | C12: =DATE(S12,P12,O12) -> 43899 | D12: =IF(D11<0.75,D11+0.25,0) -> 0.5 | E12: =DAY(B12) -> 16 | F12: =MONTH(B12) -> 2 | G12: =YEAR(B12) -> 2020 | H12: =ROUND((G12+(INT(275*F12/9)-IF(OR(AND(G12<1583,G12/4 -INT(G12/4)=0),AND(G12>1582,G12/4-INT(G12/4)=0,G12/400-INT(G12/400)<>0)),1,2)*INT((F12+9)/12)+E12-30) / 365.25 - 1900)*12.3685,0)+D12 -> 1486.5 | I12: =H12/1236.85 -> 1.2018434 | J12: =2415020.75933+29.53058868*H12+0.0001178*I12^2 -0.000000155*I12^3+0.00033*SIN(2.9070204+2.31901898*I12-0.0001601*I12^2) -> 2458918 | K12: =6.26964504+0.50798429*H12-0.0000005812*I12^2 -0.0000000606*I12^3 -> 761.38829 | L12: =5.34114908+6.73377553*H12+0.00018728*I12^2+0.0000002157*I12^3 -> 10015.099 | M12: =0.3716923+6.81848663*H12-0.000028847*I12^2-0.00000004171*I12^3 -> 10136.052 | N12: =J12+0.0021*SIN(2*K12)-0.0004*SIN(3*L12)-0.0004*SIN(2*M12-K12) - 0.0006*SIN(2*M12+L12)+(0.1734-0.000393*I12)*SIN(K12) -0.4068*SIN(L12)+0.0161*SIN(2*L12)+0.0104*SIN(M12*2)- 0.0051*SIN(K12+L12)-0.0074*SIN(K12 -L12)+0.0004*SIN(2*M12+K12)+0.001*SIN(2*M12-L12)+0.0005*SIN(K12+2*L12) -> 2458918.2 | O12: =IF(INT(N12+0.5)<2299161,INT(N12+0.5),INT(N12+0.5)+1+INT((INT(N12+0.5)-1867216.25)/36524.25) -INT(INT((INT(N12+0.5) -1867216.25)/36524.25)/4))+1524 -INT(365.25*INT((IF(INT(N12+0.5)<2299161,INT(N12+0.5),INT(N12+0.5)+1+INT((INT(N12+0.5)-1867216.25)/36524.25) -INT(INT((INT(N12+0.5)-1867216.25)/36524.25)/4))+1524-122.1)/365.25)) -INT(30.6001*INT((IF(INT(N12+0.5)<2299161,INT(N12+0.5),INT(N12+0.5)+1+INT((INT(N12+0.5)-1867216.25)/36524.25)-INT(INT((INT(N12+0.5)-1867216.25)/36524.25)/4))+1524 -INT(365.25*INT((IF(INT(N12+0.5)<2299161,INT(N12+0.5),INT(N12+0.5)+1+INT((INT(N12+0.5)-1867216.25)/36524.25)-INT(INT((INT(N12+0.5) -1867216.25)/36524.25)/4))+1524-122.1)/365.25)))/30.6001)) -> 9 | P12: =IF(INT((IF(INT(N12+0.5)<2299161,INT(N12+0.5),INT(N12+0.5)+1+INT((INT(N12+0.5) -1867216.25)/36524.25)-INT(INT((INT(N12+0.5)-1867216.25)/36524.25)/4))+1524 -INT(365.25*INT((IF(INT(N12+0.5)<2299161,INT(N12+0.5),INT(N12+0.5)+1+INT((INT(N12+0.5)-1867216.25)/36524.25) -INT(INT((INT(N12+0.5)-1867216.25)/36524.25)/4))+1524 -122.1)/365.25)))/30.6001)<13.5,Q12,R12) -> 3 | Q12: =INT((IF(INT(N12+0.5)<2299161,INT(N12+0.5),INT(N12+0.5)+1+INT((INT(N12+0.5) -1867216.25)/36524.25)-INT(INT((INT(N12+0.5)-1867216.25)/36524.25)/4))+1524 -INT(365.25*INT((IF(INT(N12+0.5)<2299161,INT(N12+0.5),INT(N12+0.5)+1+INT((INT(N12+0.5)-1867216.25)/36524.25) -INT(INT((INT(N12+0.5)-1867216.25)/36524.25)/4))+1524-122.1)/365.25)))/30.6001) -1 -> 3 | R12: =INT((IF(INT(N12+0.5)<2299161,INT(N12+0.5),INT(N12+0.5)+1+INT((INT(N12+0.5)-1867216.25)/36524.25) -INT(INT((INT(N12+0.5)-1867216.25)/36524.25)/4))+1524 -INT(365.25*INT((IF(INT(N12+0.5)<2299161,INT(N12+0.5),INT(N12+0.5)+1+INT((INT(N12+0.5)-1867216.25)/36524.25) -INT(INT((INT(N12+0.5)-1867216.25)/36524.25)/4))+1524-122.1)/365.25)))/30.6001)-13 -> -9 | S12: =IF(P12>2.5,INT((IF(INT(N12+0.5)<2299161,INT(N12+0.5),INT(N12+0.5)+1+INT((INT(N12+0.5) -1867216.25)/36524.25)-INT(INT((INT(N12+0.5)-1867216.25)/36524.25)/4))+1524-122.1)/365.25) -4716,INT((IF(INT(N12+0.5)<2299161,INT(N12+0.5),INT(N12+0.5)+1 +INT((INT(N12+0.5)-1867216.25)/36524.25)-INT(INT((INT(N12+0.5)-1867216.25)/36524.25)/4))+1524-122.1) /365.25)-4715) -> 2020 | T12: =INT((N12+0.5-INT(N12+0.5))*24) -> 17 | U12: =INT((N12+0.5-INT(N12+0.5))*1440-INT(T12*60)) -> 48 | V12: =(N12+0.5-INT(N12+0.5))*86400-T12*3600-U12*60 -> 34.985208
A13: =IF(D13=0,"",IF(D13=0.25,"‚",IF(D13=0.5,"","ƒ"))) -> ƒ | B13: =IF(D13<>0,B12,C12) -> 43877 | C13: =DATE(S13,P13,O13) -> 43906 | D13: =IF(D12<0.75,D12+0.25,0) -> 0.75 | E13: =DAY(B13) -> 16 | F13: =MONTH(B13) -> 2 | G13: =YEAR(B13) -> 2020 | H13: =ROUND((G13+(INT(275*F13/9)-IF(OR(AND(G13<1583,G13/4 -INT(G13/4)=0),AND(G13>1582,G13/4-INT(G13/4)=0,G13/400-INT(G13/400)<>0)),1,2)*INT((F13+9)/12)+E13-30) / 365.25 - 1900)*12.3685,0)+D13 -> 1486.75 | I13: =H13/1236.85 -> 1.2020455 | J13: =2415020.75933+29.53058868*H13+0.0001178*I13^2 -0.000000155*I13^3+0.00033*SIN(2.9070204+2.31901898*I13-0.0001601*I13^2) -> 2458925.4 | K13: =6.26964504+0.50798429*H13-0.0000005812*I13^2 -0.0000000606*I13^3 -> 761.51529 | L13: =5.34114908+6.73377553*H13+0.00018728*I13^2+0.0000002157*I13^3 -> 10016.782 | M13: =0.3716923+6.81848663*H13-0.000028847*I13^2-0.00000004171*I13^3 -> 10137.757 | N13: =J13+0.0021*SIN(2*K13)-0.0004*SIN(3*L13)-0.0004*SIN(2*M13-K13) - 0.0006*SIN(2*M13+L13)+(0.1734-0.000393*I13)*SIN(K13) -0.4068*SIN(L13)+0.0161*SIN(2*L13)+0.0104*SIN(M13*2)- 0.0051*SIN(K13+L13)-0.0074*SIN(K13 -L13)+0.0004*SIN(2*M13+K13)+0.001*SIN(2*M13-L13)+0.0005*SIN(K13+2*L13) -> 2458925.1 | O13: =IF(INT(N13+0.5)<2299161,INT(N13+0.5),INT(N13+0.5)+1+INT((INT(N13+0.5)-1867216.25)/36524.25) -INT(INT((INT(N13+0.5) -1867216.25)/36524.25)/4))+1524 -INT(365.25*INT((IF(INT(N13+0.5)<2299161,INT(N13+0.5),INT(N13+0.5)+1+INT((INT(N13+0.5)-1867216.25)/36524.25) -INT(INT((INT(N13+0.5)-1867216.25)/36524.25)/4))+1524-122.1)/365.25)) -INT(30.6001*INT((IF(INT(N13+0.5)<2299161,INT(N13+0.5),INT(N13+0.5)+1+INT((INT(N13+0.5)-1867216.25)/36524.25)-INT(INT((INT(N13+0.5)-1867216.25)/36524.25)/4))+1524 -INT(365.25*INT((IF(INT(N13+0.5)<2299161,INT(N13+0.5),INT(N13+0.5)+1+INT((INT(N13+0.5)-1867216.25)/36524.25)-INT(INT((INT(N13+0.5) -1867216.25)/36524.25)/4))+1524-122.1)/365.25)))/30.6001)) -> 16 | P13: =IF(INT((IF(INT(N13+0.5)<2299161,INT(N13+0.5),INT(N13+0.5)+1+INT((INT(N13+0.5) -1867216.25)/36524.25)-INT(INT((INT(N13+0.5)-1867216.25)/36524.25)/4))+1524 -INT(365.25*INT((IF(INT(N13+0.5)<2299161,INT(N13+0.5),INT(N13+0.5)+1+INT((INT(N13+0.5)-1867216.25)/36524.25) -INT(INT((INT(N13+0.5)-1867216.25)/36524.25)/4))+1524 -122.1)/365.25)))/30.6001)<13.5,Q13,R13) -> 3 | Q13: =INT((IF(INT(N13+0.5)<2299161,INT(N13+0.5),INT(N13+0.5)+1+INT((INT(N13+0.5) -1867216.25)/36524.25)-INT(INT((INT(N13+0.5)-1867216.25)/36524.25)/4))+1524 -INT(365.25*INT((IF(INT(N13+0.5)<2299161,INT(N13+0.5),INT(N13+0.5)+1+INT((INT(N13+0.5)-1867216.25)/36524.25) -INT(INT((INT(N13+0.5)-1867216.25)/36524.25)/4))+1524-122.1)/365.25)))/30.6001) -1 -> 3 | R13: =INT((IF(INT(N13+0.5)<2299161,INT(N13+0.5),INT(N13+0.5)+1+INT((INT(N13+0.5)-1867216.25)/36524.25) -INT(INT((INT(N13+0.5)-1867216.25)/36524.25)/4))+1524 -INT(365.25*INT((IF(INT(N13+0.5)<2299161,INT(N13+0.5),INT(N13+0.5)+1+INT((INT(N13+0.5)-1867216.25)/36524.25) -INT(INT((INT(N13+0.5)-1867216.25)/36524.25)/4))+1524-122.1)/365.25)))/30.6001)-13 -> -9 | S13: =IF(P13>2.5,INT((IF(INT(N13+0.5)<2299161,INT(N13+0.5),INT(N13+0.5)+1+INT((INT(N13+0.5) -1867216.25)/36524.25)-INT(INT((INT(N13+0.5)-1867216.25)/36524.25)/4))+1524-122.1)/365.25) -4716,INT((IF(INT(N13+0.5)<2299161,INT(N13+0.5),INT(N13+0.5)+1 +INT((INT(N13+0.5)-1867216.25)/36524.25)-INT(INT((INT(N13+0.5)-1867216.25)/36524.25)/4))+1524-122.1) /365.25)-4715) -> 2020 | T13: =INT((N13+0.5-INT(N13+0.5))*24) -> 15 | U13: =INT((N13+0.5-INT(N13+0.5))*1440-INT(T13*60)) -> 4 | V13: =(N13+0.5-INT(N13+0.5))*86400-T13*3600-U13*60 -> 2.9386139
A14: =IF(D14=0,"",IF(D14=0.25,"‚",IF(D14=0.5,"","ƒ"))) ->  | B14: =IF(D14<>0,B13,C13) -> 43906 | C14: =DATE(S14,P14,O14) -> 43914 | D14: =IF(D13<0.75,D13+0.25,0) -> 0 | E14: =DAY(B14) -> 16 | F14: =MONTH(B14) -> 3 | G14: =YEAR(B14) -> 2020 | H14: =ROUND((G14+(INT(275*F14/9)-IF(OR(AND(G14<1583,G14/4 -INT(G14/4)=0),AND(G14>1582,G14/4-INT(G14/4)=0,G14/400-INT(G14/400)<>0)),1,2)*INT((F14+9)/12)+E14-30) / 365.25 - 1900)*12.3685,0)+D14 -> 1487 | I14: =H14/1236.85 -> 1.2022476 | J14: =2415020.75933+29.53058868*H14+0.0001178*I14^2 -0.000000155*I14^3+0.00033*SIN(2.9070204+2.31901898*I14-0.0001601*I14^2) -> 2458932.7 | K14: =6.26964504+0.50798429*H14-0.0000005812*I14^2 -0.0000000606*I14^3 -> 761.64228 | L14: =5.34114908+6.73377553*H14+0.00018728*I14^2+0.0000002157*I14^3 -> 10018.466 | M14: =0.3716923+6.81848663*H14-0.000028847*I14^2-0.00000004171*I14^3 -> 10139.461 | N14: =J14+0.0021*SIN(2*K14)-0.0004*SIN(3*L14)-0.0004*SIN(2*M14-K14) - 0.0006*SIN(2*M14+L14)+(0.1734-0.000393*I14)*SIN(K14) -0.4068*SIN(L14)+0.0161*SIN(2*L14)+0.0104*SIN(M14*2)- 0.0051*SIN(K14+L14)-0.0074*SIN(K14 -L14)+0.0004*SIN(2*M14+K14)+0.001*SIN(2*M14-L14)+0.0005*SIN(K14+2*L14) -> 2458932.9 | O14: =IF(INT(N14+0.5)<2299161,INT(N14+0.5),INT(N14+0.5)+1+INT((INT(N14+0.5)-1867216.25)/36524.25) -INT(INT((INT(N14+0.5) -1867216.25)/36524.25)/4))+1524 -INT(365.25*INT((IF(INT(N14+0.5)<2299161,INT(N14+0.5),INT(N14+0.5)+1+INT((INT(N14+0.5)-1867216.25)/36524.25) -INT(INT((INT(N14+0.5)-1867216.25)/36524.25)/4))+1524-122.1)/365.25)) -INT(30.6001*INT((IF(INT(N14+0.5)<2299161,INT(N14+0.5),INT(N14+0.5)+1+INT((INT(N14+0.5)-1867216.25)/36524.25)-INT(INT((INT(N14+0.5)-1867216.25)/36524.25)/4))+1524 -INT(365.25*INT((IF(INT(N14+0.5)<2299161,INT(N14+0.5),INT(N14+0.5)+1+INT((INT(N14+0.5)-1867216.25)/36524.25)-INT(INT((INT(N14+0.5) -1867216.25)/36524.25)/4))+1524-122.1)/365.25)))/30.6001)) -> 24 | P14: =IF(INT((IF(INT(N14+0.5)<2299161,INT(N14+0.5),INT(N14+0.5)+1+INT((INT(N14+0.5) -1867216.25)/36524.25)-INT(INT((INT(N14+0.5)-1867216.25)/36524.25)/4))+1524 -INT(365.25*INT((IF(INT(N14+0.5)<2299161,INT(N14+0.5),INT(N14+0.5)+1+INT((INT(N14+0.5)-1867216.25)/36524.25) -INT(INT((INT(N14+0.5)-1867216.25)/36524.25)/4))+1524 -122.1)/365.25)))/30.6001)<13.5,Q14,R14) -> 3 | Q14: =INT((IF(INT(N14+0.5)<2299161,INT(N14+0.5),INT(N14+0.5)+1+INT((INT(N14+0.5) -1867216.25)/36524.25)-INT(INT((INT(N14+0.5)-1867216.25)/36524.25)/4))+1524 -INT(365.25*INT((IF(INT(N14+0.5)<2299161,INT(N14+0.5),INT(N14+0.5)+1+INT((INT(N14+0.5)-1867216.25)/36524.25) -INT(INT((INT(N14+0.5)-1867216.25)/36524.25)/4))+1524-122.1)/365.25)))/30.6001) -1 -> 3 | R14: =INT((IF(INT(N14+0.5)<2299161,INT(N14+0.5),INT(N14+0.5)+1+INT((INT(N14+0.5)-1867216.25)/36524.25) -INT(INT((INT(N14+0.5)-1867216.25)/36524.25)/4))+1524 -INT(365.25*INT((IF(INT(N14+0.5)<2299161,INT(N14+0.5),INT(N14+0.5)+1+INT((INT(N14+0.5)-1867216.25)/36524.25) -INT(INT((INT(N14+0.5)-1867216.25)/36524.25)/4))+1524-122.1)/365.25)))/30.6001)-13 -> -9 | S14: =IF(P14>2.5,INT((IF(INT(N14+0.5)<2299161,INT(N14+0.5),INT(N14+0.5)+1+INT((INT(N14+0.5) -1867216.25)/36524.25)-INT(INT((INT(N14+0.5)-1867216.25)/36524.25)/4))+1524-122.1)/365.25) -4716,INT((IF(INT(N14+0.5)<2299161,INT(N14+0.5),INT(N14+0.5)+1 +INT((INT(N14+0.5)-1867216.25)/36524.25)-INT(INT((INT(N14+0.5)-1867216.25)/36524.25)/4))+1524-122.1) /365.25)-4715) -> 2020 | T14: =INT((N14+0.5-INT(N14+0.5))*24) -> 9 | U14: =INT((N14+0.5-INT(N14+0.5))*1440-INT(T14*60)) -> 29 | V14: =(N14+0.5-INT(N14+0.5))*86400-T14*3600-U14*60 -> 36.90201
A15: =IF(D15=0,"",IF(D15=0.25,"‚",IF(D15=0.5,"","ƒ"))) -> ‚ | B15: =IF(D15<>0,B14,C14) -> 43906 | C15: =DATE(S15,P15,O15) -> 43922 | D15: =IF(D14<0.75,D14+0.25,0) -> 0.25 | E15: =DAY(B15) -> 16 | F15: =MONTH(B15) -> 3 | G15: =YEAR(B15) -> 2020 | H15: =ROUND((G15+(INT(275*F15/9)-IF(OR(AND(G15<1583,G15/4 -INT(G15/4)=0),AND(G15>1582,G15/4-INT(G15/4)=0,G15/400-INT(G15/400)<>0)),1,2)*INT((F15+9)/12)+E15-30) / 365.25 - 1900)*12.3685,0)+D15 -> 1487.25 | I15: =H15/1236.85 -> 1.2024498 | J15: =2415020.75933+29.53058868*H15+0.0001178*I15^2 -0.000000155*I15^3+0.00033*SIN(2.9070204+2.31901898*I15-0.0001601*I15^2) -> 2458940.1 | K15: =6.26964504+0.50798429*H15-0.0000005812*I15^2 -0.0000000606*I15^3 -> 761.76928 | L15: =5.34114908+6.73377553*H15+0.00018728*I15^2+0.0000002157*I15^3 -> 10020.149 | M15: =0.3716923+6.81848663*H15-0.000028847*I15^2-0.00000004171*I15^3 -> 10141.166 | N15: =J15+0.0021*SIN(2*K15)-0.0004*SIN(3*L15)-0.0004*SIN(2*M15-K15) - 0.0006*SIN(2*M15+L15)+(0.1734-0.000393*I15)*SIN(K15) -0.4068*SIN(L15)+0.0161*SIN(2*L15)+0.0104*SIN(M15*2)- 0.0051*SIN(K15+L15)-0.0074*SIN(K15 -L15)+0.0004*SIN(2*M15+K15)+0.001*SIN(2*M15-L15)+0.0005*SIN(K15+2*L15) -> 2458940.7 | O15: =IF(INT(N15+0.5)<2299161,INT(N15+0.5),INT(N15+0.5)+1+INT((INT(N15+0.5)-1867216.25)/36524.25) -INT(INT((INT(N15+0.5) -1867216.25)/36524.25)/4))+1524 -INT(365.25*INT((IF(INT(N15+0.5)<2299161,INT(N15+0.5),INT(N15+0.5)+1+INT((INT(N15+0.5)-1867216.25)/36524.25) -INT(INT((INT(N15+0.5)-1867216.25)/36524.25)/4))+1524-122.1)/365.25)) -INT(30.6001*INT((IF(INT(N15+0.5)<2299161,INT(N15+0.5),INT(N15+0.5)+1+INT((INT(N15+0.5)-1867216.25)/36524.25)-INT(INT((INT(N15+0.5)-1867216.25)/36524.25)/4))+1524 -INT(365.25*INT((IF(INT(N15+0.5)<2299161,INT(N15+0.5),INT(N15+0.5)+1+INT((INT(N15+0.5)-1867216.25)/36524.25)-INT(INT((INT(N15+0.5) -1867216.25)/36524.25)/4))+1524-122.1)/365.25)))/30.6001)) -> 1 | P15: =IF(INT((IF(INT(N15+0.5)<2299161,INT(N15+0.5),INT(N15+0.5)+1+INT((INT(N15+0.5) -1867216.25)/36524.25)-INT(INT((INT(N15+0.5)-1867216.25)/36524.25)/4))+1524 -INT(365.25*INT((IF(INT(N15+0.5)<2299161,INT(N15+0.5),INT(N15+0.5)+1+INT((INT(N15+0.5)-1867216.25)/36524.25) -INT(INT((INT(N15+0.5)-1867216.25)/36524.25)/4))+1524 -122.1)/365.25)))/30.6001)<13.5,Q15,R15) -> 4 | Q15: =INT((IF(INT(N15+0.5)<2299161,INT(N15+0.5),INT(N15+0.5)+1+INT((INT(N15+0.5) -1867216.25)/36524.25)-INT(INT((INT(N15+0.5)-1867216.25)/36524.25)/4))+1524 -INT(365.25*INT((IF(INT(N15+0.5)<2299161,INT(N15+0.5),INT(N15+0.5)+1+INT((INT(N15+0.5)-1867216.25)/36524.25) -INT(INT((INT(N15+0.5)-1867216.25)/36524.25)/4))+1524-122.1)/365.25)))/30.6001) -1 -> 4 | R15: =INT((IF(INT(N15+0.5)<2299161,INT(N15+0.5),INT(N15+0.5)+1+INT((INT(N15+0.5)-1867216.25)/36524.25) -INT(INT((INT(N15+0.5)-1867216.25)/36524.25)/4))+1524 -INT(365.25*INT((IF(INT(N15+0.5)<2299161,INT(N15+0.5),INT(N15+0.5)+1+INT((INT(N15+0.5)-1867216.25)/36524.25) -INT(INT((INT(N15+0.5)-1867216.25)/36524.25)/4))+1524-122.1)/365.25)))/30.6001)-13 -> -8 | S15: =IF(P15>2.5,INT((IF(INT(N15+0.5)<2299161,INT(N15+0.5),INT(N15+0.5)+1+INT((INT(N15+0.5) -1867216.25)/36524.25)-INT(INT((INT(N15+0.5)-1867216.25)/36524.25)/4))+1524-122.1)/365.25) -4716,INT((IF(INT(N15+0.5)<2299161,INT(N15+0.5),INT(N15+0.5)+1 +INT((INT(N15+0.5)-1867216.25)/36524.25)-INT(INT((INT(N15+0.5)-1867216.25)/36524.25)/4))+1524-122.1) /365.25)-4715) -> 2020 | T15: =INT((N15+0.5-INT(N15+0.5))*24) -> 5 | U15: =INT((N15+0.5-INT(N15+0.5))*1440-INT(T15*60)) -> 0 | V15: =(N15+0.5-INT(N15+0.5))*86400-T15*3600-U15*60 -> 0.91246068
... A55: =IF(D55=0,"",IF(D55=0.25,"‚",IF(D55=0.5,"","ƒ"))) -> ‚ | B55: =IF(D55<>0,B54,C54) -> 44202 | C55: =DATE(S55,P55,O55) -> 44216 | D55: =IF(D54<0.75,D54+0.25,0) -> 0.25 | E55: =DAY(B55) -> 6 | F55: =MONTH(B55) -> 1 | G55: =YEAR(B55) -> 2021 | H55: =ROUND((G55+(INT(275*F55/9)-IF(OR(AND(G55<1583,G55/4 -INT(G55/4)=0),AND(G55>1582,G55/4-INT(G55/4)=0,G55/400-INT(G55/400)<>0)),1,2)*INT((F55+9)/12)+E55-30) / 365.25 - 1900)*12.3685,0)+D55 -> 1497.25 | I55: =H55/1236.85 -> 1.2105348 | J55: =2415020.75933+29.53058868*H55+0.0001178*I55^2 -0.000000155*I55^3+0.00033*SIN(2.9070204+2.31901898*I55-0.0001601*I55^2) -> 2459235.4 | K55: =6.26964504+0.50798429*H55-0.0000005812*I55^2 -0.0000000606*I55^3 -> 766.84912 | L55: =5.34114908+6.73377553*H55+0.00018728*I55^2+0.0000002157*I55^3 -> 10087.487 | M55: =0.3716923+6.81848663*H55-0.000028847*I55^2-0.00000004171*I55^3 -> 10209.351 | N55: =J55+0.0021*SIN(2*K55)-0.0004*SIN(3*L55)-0.0004*SIN(2*M55-K55) - 0.0006*SIN(2*M55+L55)+(0.1734-0.000393*I55)*SIN(K55) -0.4068*SIN(L55)+0.0161*SIN(2*L55)+0.0104*SIN(M55*2)- 0.0051*SIN(K55+L55)-0.0074*SIN(K55 -L55)+0.0004*SIN(2*M55+K55)+0.001*SIN(2*M55-L55)+0.0005*SIN(K55+2*L55) -> 2459235.4 | O55: =IF(INT(N55+0.5)<2299161,INT(N55+0.5),INT(N55+0.5)+1+INT((INT(N55+0.5)-1867216.25)/36524.25) -INT(INT((INT(N55+0.5) -1867216.25)/36524.25)/4))+1524 -INT(365.25*INT((IF(INT(N55+0.5)<2299161,INT(N55+0.5),INT(N55+0.5)+1+INT((INT(N55+0.5)-1867216.25)/36524.25) -INT(INT((INT(N55+0.5)-1867216.25)/36524.25)/4))+1524-122.1)/365.25)) -INT(30.6001*INT((IF(INT(N55+0.5)<2299161,INT(N55+0.5),INT(N55+0.5)+1+INT((INT(N55+0.5)-1867216.25)/36524.25)-INT(INT((INT(N55+0.5)-1867216.25)/36524.25)/4))+1524 -INT(365.25*INT((IF(INT(N55+0.5)<2299161,INT(N55+0.5),INT(N55+0.5)+1+INT((INT(N55+0.5)-1867216.25)/36524.25)-INT(INT((INT(N55+0.5) -1867216.25)/36524.25)/4))+1524-122.1)/365.25)))/30.6001)) -> 20 | P55: =IF(INT((IF(INT(N55+0.5)<2299161,INT(N55+0.5),INT(N55+0.5)+1+INT((INT(N55+0.5) -1867216.25)/36524.25)-INT(INT((INT(N55+0.5)-1867216.25)/36524.25)/4))+1524 -INT(365.25*INT((IF(INT(N55+0.5)<2299161,INT(N55+0.5),INT(N55+0.5)+1+INT((INT(N55+0.5)-1867216.25)/36524.25) -INT(INT((INT(N55+0.5)-1867216.25)/36524.25)/4))+1524 -122.1)/365.25)))/30.6001)<13.5,Q55,R55) -> 1 | Q55: =INT((IF(INT(N55+0.5)<2299161,INT(N55+0.5),INT(N55+0.5)+1+INT((INT(N55+0.5) -1867216.25)/36524.25)-INT(INT((INT(N55+0.5)-1867216.25)/36524.25)/4))+1524 -INT(365.25*INT((IF(INT(N55+0.5)<2299161,INT(N55+0.5),INT(N55+0.5)+1+INT((INT(N55+0.5)-1867216.25)/36524.25) -INT(INT((INT(N55+0.5)-1867216.25)/36524.25)/4))+1524-122.1)/365.25)))/30.6001) -1 -> 13 | R55: =INT((IF(INT(N55+0.5)<2299161,INT(N55+0.5),INT(N55+0.5)+1+INT((INT(N55+0.5)-1867216.25)/36524.25) -INT(INT((INT(N55+0.5)-1867216.25)/36524.25)/4))+1524 -INT(365.25*INT((IF(INT(N55+0.5)<2299161,INT(N55+0.5),INT(N55+0.5)+1+INT((INT(N55+0.5)-1867216.25)/36524.25) -INT(INT((INT(N55+0.5)-1867216.25)/36524.25)/4))+1524-122.1)/365.25)))/30.6001)-13 -> 1 | S55: =IF(P55>2.5,INT((IF(INT(N55+0.5)<2299161,INT(N55+0.5),INT(N55+0.5)+1+INT((INT(N55+0.5) -1867216.25)/36524.25)-INT(INT((INT(N55+0.5)-1867216.25)/36524.25)/4))+1524-122.1)/365.25) -4716,INT((IF(INT(N55+0.5)<2299161,INT(N55+0.5),INT(N55+0.5)+1 +INT((INT(N55+0.5)-1867216.25)/36524.25)-INT(INT((INT(N55+0.5)-1867216.25)/36524.25)/4))+1524-122.1) /365.25)-4715) -> 2021 | T55: =INT((N55+0.5-INT(N55+0.5))*24) -> 21 | U55: =INT((N55+0.5-INT(N55+0.5))*1440-INT(T55*60)) -> 45 | V55: =(N55+0.5-INT(N55+0.5))*86400-T55*3600-U55*60 -> 18.223357
