Workbook

Sheet ENGAGEMENT
A2: DATE TRANSFERT | B2: DATE DEBUT PROMO | C2: DATE FIN PROMO | D2: LIBELLE PROMO | E2: SA | F2: CODE PUB | G2: N° ENGAGEMENT
A3: 44202 | B3: 44259 | C3: 44286 | D3: PARTIE 1 | E3: ZONE 1 | F3: 175200 | G3: 245000
A4: 44201 | B4: 44330 | C4: =+B4+20 -> 44350 | D4: PARTIE 2 | E4: ZONE 2 | F4: =+F3+1 -> 175201 | G4: =+G3+1 -> 245001
A5: 44230 | B5: 44369 | C5: =+B5+10 -> 44379 | D5: PARTIE 3 | E5: ZONE 3 | F5: =+F4+1 -> 175202 | G5: =+G4+1 -> 245002
A6: 44202 | B6: 44259 | C6: 44286 | D6: PARTIE 4 | E6: ZONE 4 | F6: =+F5+1 -> 175203 | G6: =+G5+1 -> 245003

Sheet TRANSFERT AUTRES ENGAGEMENTS
H1: DATE TRANSFERT
A2: GRILLE DE DEMANDE ENGAGEMENTS | H2: 44202
A4: PROMO | B4: DATES PROMO | D4: SA | E4: CODES PUB | F4: N° ENGAGEMENT
B5: Début | C5: Fin
A6: {=IF(ROWS($1:1)<=COUNTIF(ENGAGEMENT!$A:$A,$H$2),INDEX(ENGAGEMENT!$D:$D,SMALL(IF(ENGAGEMENT!$A:$A=$H$2,ROW(INDIRECT("1:"&ROWS(ENGAGEMENT!A:A)))),ROWS($1:1))),"")} -> PARTIE 1 | B6: {=IF(ROWS($1:1)<=COUNTIF(ENGAGEMENT!$A:$A,$H$2),INDEX(ENGAGEMENT!$B:$B,SMALL(IF(ENGAGEMENT!$A:$A=$H$2,ROW(INDIRECT("1:"&ROWS(ENGAGEMENT!A:A)))),ROWS($1:1))),"")} -> 44259 | C6: {=IF(ROWS($1:1)<=COUNTIF(ENGAGEMENT!$A:$A,$H$2),INDEX(ENGAGEMENT!$C:$C,SMALL(IF(ENGAGEMENT!$A:$A=$H$2,ROW(INDIRECT("1:"&ROWS(ENGAGEMENT!A:A)))),ROWS($1:1))),"")} -> 44286 | D6: {=IF(ROWS($1:1)<=COUNTIF(ENGAGEMENT!$A:$A,$H$2),INDEX(ENGAGEMENT!$E:$E,SMALL(IF(ENGAGEMENT!$A:$A=$H$2,ROW(INDIRECT("1:"&ROWS(ENGAGEMENT!A:A)))),ROWS($1:1))),"")} -> ZONE 1 | E6: {=IF(ROWS($1:1)<=COUNTIF(ENGAGEMENT!$A:$A,$H$2),INDEX(ENGAGEMENT!$F:$F,SMALL(IF(ENGAGEMENT!$A:$A=$H$2,ROW(INDIRECT("1:"&ROWS(ENGAGEMENT!B:B)))),ROWS($1:1))),"")} -> 175200 | F6: {=IF(ROWS($1:1)<=COUNTIF(ENGAGEMENT!$A:$A,$H$2),INDEX(ENGAGEMENT!$G:$G,SMALL(IF(ENGAGEMENT!$A:$A=$H$2,ROW(INDIRECT("1:"&ROWS(ENGAGEMENT!C:C)))),ROWS($1:1))),"")} -> 245000
A7: {=IF(ROWS($1:2)<=COUNTIF(ENGAGEMENT!$A:$A,$H$2),INDEX(ENGAGEMENT!$D:$D,SMALL(IF(ENGAGEMENT!$A:$A=$H$2,ROW(INDIRECT("1:"&ROWS(ENGAGEMENT!A:A)))),ROWS($1:2))),"")} -> PARTIE 4 | B7: {=IF(ROWS($1:2)<=COUNTIF(ENGAGEMENT!$A:$A,$H$2),INDEX(ENGAGEMENT!$B:$B,SMALL(IF(ENGAGEMENT!$A:$A=$H$2,ROW(INDIRECT("1:"&ROWS(ENGAGEMENT!A:A)))),ROWS($1:2))),"")} -> 44259 | C7: {=IF(ROWS($1:2)<=COUNTIF(ENGAGEMENT!$A:$A,$H$2),INDEX(ENGAGEMENT!$C:$C,SMALL(IF(ENGAGEMENT!$A:$A=$H$2,ROW(INDIRECT("1:"&ROWS(ENGAGEMENT!A:A)))),ROWS($1:2))),"")} -> 44286 | D7: {=IF(ROWS($1:2)<=COUNTIF(ENGAGEMENT!$A:$A,$H$2),INDEX(ENGAGEMENT!$E:$E,SMALL(IF(ENGAGEMENT!$A:$A=$H$2,ROW(INDIRECT("1:"&ROWS(ENGAGEMENT!A:A)))),ROWS($1:2))),"")} -> ZONE 4 | E7: {=IF(ROWS($1:2)<=COUNTIF(ENGAGEMENT!$A:$A,$H$2),INDEX(ENGAGEMENT!$F:$F,SMALL(IF(ENGAGEMENT!$A:$A=$H$2,ROW(INDIRECT("1:"&ROWS(ENGAGEMENT!B:B)))),ROWS($1:2))),"")} -> 175203 | F7: {=IF(ROWS($1:2)<=COUNTIF(ENGAGEMENT!$A:$A,$H$2),INDEX(ENGAGEMENT!$G:$G,SMALL(IF(ENGAGEMENT!$A:$A=$H$2,ROW(INDIRECT("1:"&ROWS(ENGAGEMENT!C:C)))),ROWS($1:2))),"")} -> 245003
A8: {=IF(ROWS($1:3)<=COUNTIF(ENGAGEMENT!$A:$A,$H$2),INDEX(ENGAGEMENT!$D:$D,SMALL(IF(ENGAGEMENT!$A:$A=$H$2,ROW(INDIRECT("1:"&ROWS(ENGAGEMENT!A:A)))),ROWS($1:3))),"")} | B8: {=IF(ROWS($1:3)<=COUNTIF(ENGAGEMENT!$A:$A,$H$2),INDEX(ENGAGEMENT!$B:$B,SMALL(IF(ENGAGEMENT!$A:$A=$H$2,ROW(INDIRECT("1:"&ROWS(ENGAGEMENT!A:A)))),ROWS($1:3))),"")} | C8: {=IF(ROWS($1:3)<=COUNTIF(ENGAGEMENT!$A:$A,$H$2),INDEX(ENGAGEMENT!$C:$C,SMALL(IF(ENGAGEMENT!$A:$A=$H$2,ROW(INDIRECT("1:"&ROWS(ENGAGEMENT!A:A)))),ROWS($1:3))),"")} | D8: {=IF(ROWS($1:3)<=COUNTIF(ENGAGEMENT!$A:$A,$H$2),INDEX(ENGAGEMENT!$E:$E,SMALL(IF(ENGAGEMENT!$A:$A=$H$2,ROW(INDIRECT("1:"&ROWS(ENGAGEMENT!A:A)))),ROWS($1:3))),"")} | E8: {=IF(ROWS($1:3)<=COUNTIF(ENGAGEMENT!$A:$A,$H$2),INDEX(ENGAGEMENT!$F:$F,SMALL(IF(ENGAGEMENT!$A:$A=$H$2,ROW(INDIRECT("1:"&ROWS(ENGAGEMENT!B:B)))),ROWS($1:3))),"")} | F8: {=IF(ROWS($1:3)<=COUNTIF(ENGAGEMENT!$A:$A,$H$2),INDEX(ENGAGEMENT!$G:$G,SMALL(IF(ENGAGEMENT!$A:$A=$H$2,ROW(INDIRECT("1:"&ROWS(ENGAGEMENT!C:C)))),ROWS($1:3))),"")}
A9: {=IF(ROWS($1:4)<=COUNTIF(ENGAGEMENT!$A:$A,$H$2),INDEX(ENGAGEMENT!$D:$D,SMALL(IF(ENGAGEMENT!$A:$A=$H$2,ROW(INDIRECT("1:"&ROWS(ENGAGEMENT!A:A)))),ROWS($1:4))),"")} | B9: {=IF(ROWS($1:4)<=COUNTIF(ENGAGEMENT!$A:$A,$H$2),INDEX(ENGAGEMENT!$B:$B,SMALL(IF(ENGAGEMENT!$A:$A=$H$2,ROW(INDIRECT("1:"&ROWS(ENGAGEMENT!A:A)))),ROWS($1:4))),"")} | C9: {=IF(ROWS($1:4)<=COUNTIF(ENGAGEMENT!$A:$A,$H$2),INDEX(ENGAGEMENT!$C:$C,SMALL(IF(ENGAGEMENT!$A:$A=$H$2,ROW(INDIRECT("1:"&ROWS(ENGAGEMENT!A:A)))),ROWS($1:4))),"")} | D9: {=IF(ROWS($1:4)<=COUNTIF(ENGAGEMENT!$A:$A,$H$2),INDEX(ENGAGEMENT!$E:$E,SMALL(IF(ENGAGEMENT!$A:$A=$H$2,ROW(INDIRECT("1:"&ROWS(ENGAGEMENT!A:A)))),ROWS($1:4))),"")} | E9: {=IF(ROWS($1:4)<=COUNTIF(ENGAGEMENT!$A:$A,$H$2),INDEX(ENGAGEMENT!$F:$F,SMALL(IF(ENGAGEMENT!$A:$A=$H$2,ROW(INDIRECT("1:"&ROWS(ENGAGEMENT!B:B)))),ROWS($1:4))),"")} | F9: {=IF(ROWS($1:4)<=COUNTIF(ENGAGEMENT!$A:$A,$H$2),INDEX(ENGAGEMENT!$G:$G,SMALL(IF(ENGAGEMENT!$A:$A=$H$2,ROW(INDIRECT("1:"&ROWS(ENGAGEMENT!C:C)))),ROWS($1:4))),"")}
A10: {=IF(ROWS($1:5)<=COUNTIF(ENGAGEMENT!$A:$A,$H$2),INDEX(ENGAGEMENT!$D:$D,SMALL(IF(ENGAGEMENT!$A:$A=$H$2,ROW(INDIRECT("1:"&ROWS(ENGAGEMENT!A:A)))),ROWS($1:5))),"")} | B10: {=IF(ROWS($1:5)<=COUNTIF(ENGAGEMENT!$A:$A,$H$2),INDEX(ENGAGEMENT!$B:$B,SMALL(IF(ENGAGEMENT!$A:$A=$H$2,ROW(INDIRECT("1:"&ROWS(ENGAGEMENT!A:A)))),ROWS($1:5))),"")} | C10: {=IF(ROWS($1:5)<=COUNTIF(ENGAGEMENT!$A:$A,$H$2),INDEX(ENGAGEMENT!$C:$C,SMALL(IF(ENGAGEMENT!$A:$A=$H$2,ROW(INDIRECT("1:"&ROWS(ENGAGEMENT!A:A)))),ROWS($1:5))),"")} | D10: {=IF(ROWS($1:5)<=COUNTIF(ENGAGEMENT!$A:$A,$H$2),INDEX(ENGAGEMENT!$E:$E,SMALL(IF(ENGAGEMENT!$A:$A=$H$2,ROW(INDIRECT("1:"&ROWS(ENGAGEMENT!A:A)))),ROWS($1:5))),"")} | E10: {=IF(ROWS($1:5)<=COUNTIF(ENGAGEMENT!$A:$A,$H$2),INDEX(ENGAGEMENT!$F:$F,SMALL(IF(ENGAGEMENT!$A:$A=$H$2,ROW(INDIRECT("1:"&ROWS(ENGAGEMENT!B:B)))),ROWS($1:5))),"")} | F10: {=IF(ROWS($1:5)<=COUNTIF(ENGAGEMENT!$A:$A,$H$2),INDEX(ENGAGEMENT!$G:$G,SMALL(IF(ENGAGEMENT!$A:$A=$H$2,ROW(INDIRECT("1:"&ROWS(ENGAGEMENT!C:C)))),ROWS($1:5))),"")}
A11: {=IF(ROWS($1:6)<=COUNTIF(ENGAGEMENT!$A:$A,$H$2),INDEX(ENGAGEMENT!$D:$D,SMALL(IF(ENGAGEMENT!$A:$A=$H$2,ROW(INDIRECT("1:"&ROWS(ENGAGEMENT!A:A)))),ROWS($1:6))),"")} | B11: {=IF(ROWS($1:6)<=COUNTIF(ENGAGEMENT!$A:$A,$H$2),INDEX(ENGAGEMENT!$B:$B,SMALL(IF(ENGAGEMENT!$A:$A=$H$2,ROW(INDIRECT("1:"&ROWS(ENGAGEMENT!A:A)))),ROWS($1:6))),"")} | C11: {=IF(ROWS($1:6)<=COUNTIF(ENGAGEMENT!$A:$A,$H$2),INDEX(ENGAGEMENT!$C:$C,SMALL(IF(ENGAGEMENT!$A:$A=$H$2,ROW(INDIRECT("1:"&ROWS(ENGAGEMENT!A:A)))),ROWS($1:6))),"")} | D11: {=IF(ROWS($1:6)<=COUNTIF(ENGAGEMENT!$A:$A,$H$2),INDEX(ENGAGEMENT!$E:$E,SMALL(IF(ENGAGEMENT!$A:$A=$H$2,ROW(INDIRECT("1:"&ROWS(ENGAGEMENT!A:A)))),ROWS($1:6))),"")} | E11: {=IF(ROWS($1:6)<=COUNTIF(ENGAGEMENT!$A:$A,$H$2),INDEX(ENGAGEMENT!$F:$F,SMALL(IF(ENGAGEMENT!$A:$A=$H$2,ROW(INDIRECT("1:"&ROWS(ENGAGEMENT!B:B)))),ROWS($1:6))),"")} | F11: {=IF(ROWS($1:6)<=COUNTIF(ENGAGEMENT!$A:$A,$H$2),INDEX(ENGAGEMENT!$G:$G,SMALL(IF(ENGAGEMENT!$A:$A=$H$2,ROW(INDIRECT("1:"&ROWS(ENGAGEMENT!C:C)))),ROWS($1:6))),"")}
A12: {=IF(ROWS($1:7)<=COUNTIF(ENGAGEMENT!$A:$A,$H$2),INDEX(ENGAGEMENT!$D:$D,SMALL(IF(ENGAGEMENT!$A:$A=$H$2,ROW(INDIRECT("1:"&ROWS(ENGAGEMENT!A:A)))),ROWS($1:7))),"")} | B12: {=IF(ROWS($1:7)<=COUNTIF(ENGAGEMENT!$A:$A,$H$2),INDEX(ENGAGEMENT!$B:$B,SMALL(IF(ENGAGEMENT!$A:$A=$H$2,ROW(INDIRECT("1:"&ROWS(ENGAGEMENT!A:A)))),ROWS($1:7))),"")} | C12: {=IF(ROWS($1:7)<=COUNTIF(ENGAGEMENT!$A:$A,$H$2),INDEX(ENGAGEMENT!$C:$C,SMALL(IF(ENGAGEMENT!$A:$A=$H$2,ROW(INDIRECT("1:"&ROWS(ENGAGEMENT!A:A)))),ROWS($1:7))),"")} | D12: {=IF(ROWS($1:7)<=COUNTIF(ENGAGEMENT!$A:$A,$H$2),INDEX(ENGAGEMENT!$E:$E,SMALL(IF(ENGAGEMENT!$A:$A=$H$2,ROW(INDIRECT("1:"&ROWS(ENGAGEMENT!A:A)))),ROWS($1:7))),"")} | E12: {=IF(ROWS($1:7)<=COUNTIF(ENGAGEMENT!$A:$A,$H$2),INDEX(ENGAGEMENT!$F:$F,SMALL(IF(ENGAGEMENT!$A:$A=$H$2,ROW(INDIRECT("1:"&ROWS(ENGAGEMENT!B:B)))),ROWS($1:7))),"")} | F12: {=IF(ROWS($1:7)<=COUNTIF(ENGAGEMENT!$A:$A,$H$2),INDEX(ENGAGEMENT!$G:$G,SMALL(IF(ENGAGEMENT!$A:$A=$H$2,ROW(INDIRECT("1:"&ROWS(ENGAGEMENT!C:C)))),ROWS($1:7))),"")}
