Workbook
Name Boissons: Liste!$B$2:$B$20
Name Lieux: Liste!$A$2:$A$10
Name Points: Liste!$C:$C

Sheet Argent C
C1: René | G1: CASINO BARRIERE
A3: LIEUX | B3: DATES | D3: Points statuts | F3: Acquis | G3: POINTS RECOMPENSES | I3: Acquis | J3: SOLDE | K3: BOISSONS | L3: Points | M3: NOMBRE | N3: TOTAL
B5: DEPART | D5: 1000 | N5: =SUM(L5*M5) -> 0
A6: MENTON | B6: 44049 | D6: 1500 | F6: =SUM(D6-D5) -> 500 | G6: 1500 | I6: =SUM(G6-G5) -> 1500 | J6: =IFERROR(SUM(G6-N6),"") -> 1500 | K6: Sandwich | L6: =IFERROR(INDEX(Tableau1[POINTS],MATCH('Argent C'!K6,Tableau1[BOISSONS],0)),"") -> 1300 | N6: =IFERROR(SUM(L6*M6),"") -> 0
G7: 1800 | I7: =SUM(G7-G6) -> 300 | J7: =IFERROR(SUM(G7-N7),"") | L7: =IFERROR(INDEX(Tableau1[POINTS],MATCH('Argent C'!K7,Tableau1[BOISSONS],0)),"") | N7: =IFERROR(SUM(L7*M7),"")
F8: =SUM(D8-D7) -> 0 | I8: =SUM(G8-G7) -> -1800 | J8: =IFERROR(SUM(G8-N8),"") | L8: =IFERROR(INDEX(Tableau1[POINTS],MATCH('Argent C'!K8,Tableau1[BOISSONS],0)),"") | N8: =IFERROR(SUM(L8*M8),"")
F9: =SUM(D9-D8) -> 0 | I9: =SUM(G9-G8) -> 0 | J9: =IFERROR(SUM(G9-N9),"") | L9: =IFERROR(INDEX(Tableau1[POINTS],MATCH('Argent C'!K9,Tableau1[BOISSONS],0)),"") | N9: =IFERROR(SUM(L9*M9),"")
F10: =SUM(D10-D9) -> 0 | I10: =SUM(G10-G9) -> 0 | J10: =IFERROR(SUM(G10-N10),"") | L10: =IFERROR(INDEX(Tableau1[POINTS],MATCH('Argent C'!K10,Tableau1[BOISSONS],0)),"") | N10: =IFERROR(SUM(L10*M10),"")
F11: =SUM(D11-D10) -> 0 | I11: =SUM(G11-G10) -> 0 | J11: =IFERROR(SUM(G11-N11),"") | L11: =IFERROR(INDEX(Tableau1[POINTS],MATCH('Argent C'!K11,Tableau1[BOISSONS],0)),"") | N11: =IFERROR(SUM(L11*M11),"")
F12: =SUM(D12-D11) -> 0 | I12: =SUM(G12-G11) -> 0 | J12: =IFERROR(SUM(G12-N12),"") | L12: =IFERROR(INDEX(Tableau1[POINTS],MATCH('Argent C'!K12,Tableau1[BOISSONS],0)),"") | N12: =IFERROR(SUM(L12*M12),"")
F13: =SUM(D13-D12) -> 0 | I13: =SUM(G13-G12) -> 0 | J13: =IFERROR(SUM(G13-N13),"") | L13: =IFERROR(INDEX(Tableau1[POINTS],MATCH('Argent C'!K13,Tableau1[BOISSONS],0)),"") | N13: =IFERROR(SUM(L13*M13),"")
F14: =SUM(D14-D13) -> 0 | I14: =SUM(G14-G13) -> 0 | J14: =IFERROR(SUM(G14-N14),"") | L14: =IFERROR(INDEX(Tableau1[POINTS],MATCH('Argent C'!K14,Tableau1[BOISSONS],0)),"") | N14: =IFERROR(SUM(L14*M14),"")
F15: =SUM(D15-D14) -> 0 | I15: =SUM(G15-G14) -> 0 | J15: =IFERROR(SUM(G15-N15),"") | L15: =IFERROR(INDEX(Tableau1[POINTS],MATCH('Argent C'!K15,Tableau1[BOISSONS],0)),"") | N15: =IFERROR(SUM(L15*M15),"")
F16: =SUM(D16-D15) -> 0 | I16: =SUM(G16-G15) -> 0 | J16: =IFERROR(SUM(G16-N16),"") | L16: =IFERROR(INDEX(Tableau1[POINTS],MATCH('Argent C'!K16,Tableau1[BOISSONS],0)),"") | N16: =IFERROR(SUM(L16*M16),"")
F17: =SUM(D17-D16) -> 0 | I17: =SUM(G17-G16) -> 0 | J17: =IFERROR(SUM(G17-N17),"") | L17: =IFERROR(INDEX(Tableau1[POINTS],MATCH('Argent C'!K17,Tableau1[BOISSONS],0)),"") | N17: =IFERROR(SUM(L17*M17),"")
F18: =SUM(D18-D17) -> 0 | I18: =SUM(G18-G17) -> 0 | J18: =IFERROR(SUM(G18-N18),"") | L18: =IFERROR(INDEX(Tableau1[POINTS],MATCH('Argent C'!K18,Tableau1[BOISSONS],0)),"") | N18: =IFERROR(SUM(L18*M18),"")
F19: =SUM(D19-D18) -> 0 | I19: =SUM(G19-G18) -> 0 | J19: =IFERROR(SUM(G19-N19),"") | L19: =IFERROR(INDEX(Tableau1[POINTS],MATCH('Argent C'!K19,Tableau1[BOISSONS],0)),"") | N19: =IFERROR(SUM(L19*M19),"")
F20: =SUM(D20-D19) -> 0 | I20: =SUM(G20-G19) -> 0 | J20: =IFERROR(SUM(G20-N20),"") | L20: =IFERROR(INDEX(Tableau1[POINTS],MATCH('Argent C'!K20,Tableau1[BOISSONS],0)),"") | N20: =IFERROR(SUM(L20*M20),"")
B21: TOTAL | D21: =SUM(D5:D19) -> 2500
B23: RESTE | D23: =SUM(10000-D21) -> 7500

Sheet Liste
A1: Lieux | B1: BOISSONS | C1: POINTS
A2: CANNE | B2: Cocktail | C2: 1300
A3: MENTON | B3: Parrainage | C3: 6100
A4: NICE | B4: Sandwich | C4: 1300
A5: NIEDERBRONN | B5: coca | C5: 600
A6: RIBEAUVILLE | B6: pizza | C6: 3100
B7: Coupe | C7: 4000
