Workbook

Sheet Achats
B2: Client | C2: Fournisseur | D2: Janvier-Décembre | E2: Janvier | F2: Février | G2: Mars | H2: Avril | I2: Mai | J2: Juin | K2: Juillet | L2: Août | M2: Septembre | N2: Octobre | O2: Novembre | P2: Décembre
B3: CITROEN | C3: GOOGLE | D3: =SUM(E3:P3) -> 2530 | E3: 2530
B4: CITROEN | C4: YAHOO | D4: =SUM(E4:P4) -> 0
B5: CITROEN | C5: YOUTUBE | D5: =SUM(E5:P5) -> 5000 | E5: 5000
B6: PEUGEOT | C6: AMAZON | D6: =SUM(E6:P6) -> 9852 | E6: 9852
B7: PEUGEOT | C7: CDISCOUNT | D7: =SUM(E7:P7) -> 3520 | E7: 3520
B8: PEUGEOT | C8: GOOGLE | D8: =SUM(E8:P8) -> 0
B9: PEUGEOT | C9: YAHOO | D9: =SUM(E9:P9) -> 10000 | E9: 10000
B10: PEUGEOT | C10: YOUTUBE | D10: =SUM(E10:P10) -> 5410 | E10: 5410
B11: RENAULT | C11: AMAZON | D11: =SUM(E11:P11) -> 3620 | E11: 3620
B12: RENAULT | C12: YOUTUBE | D12: =SUM(E12:P12) -> 2525 | E12: 2525

Sheet Consolidation
E1: Janvier
B2: Client | C2: Fournisseur | D2: Janvier-Décembre | E2: Extraction commerciaux | F2: Extraction réelle | G2: Différence
B3: PEUGEOT | C3: AMAZON | F3: {=INDEX(Achats!$E$3:$E$12,MATCH(Consolidation!B3&Consolidation!C3,Achats!$B$3:$B$12&Achats!$C$3:$C$12,0))} -> 9852
B4: PEUGEOT | C4: CDISCOUNT | F4: {=INDEX(Achats!$E$3:$E$12,MATCH(Consolidation!B4&Consolidation!C4,Achats!$B$3:$B$12&Achats!$C$3:$C$12,0))} -> 3520
B5: PEUGEOT | C5: GOOGLE | F5: {=INDEX(Achats!$E$3:$E$12,MATCH(Consolidation!B5&Consolidation!C5,Achats!$B$3:$B$12&Achats!$C$3:$C$12,0))} -> 0
B6: PEUGEOT | C6: YAHOO | F6: {=INDEX(Achats!$E$3:$E$12,MATCH(Consolidation!B6&Consolidation!C6,Achats!$B$3:$B$12&Achats!$C$3:$C$12,0))} -> 10000
B7: PEUGEOT | C7: YOUTUBE | F7: {=INDEX(Achats!$E$3:$E$12,MATCH(Consolidation!B7&Consolidation!C7,Achats!$B$3:$B$12&Achats!$C$3:$C$12,0))} -> 5410
B8: RENAULT | C8: AMAZON | F8: {=INDEX(Achats!$E$3:$E$12,MATCH(Consolidation!B8&Consolidation!C8,Achats!$B$3:$B$12&Achats!$C$3:$C$12,0))} -> 3620
B9: RENAULT | C9: YOUTUBE | F9: {=INDEX(Achats!$E$3:$E$12,MATCH(Consolidation!B9&Consolidation!C9,Achats!$B$3:$B$12&Achats!$C$3:$C$12,0))} -> 2525
B10: CITROEN | C10: GOOGLE | F10: {=INDEX(Achats!$E$3:$E$12,MATCH(Consolidation!B10&Consolidation!C10,Achats!$B$3:$B$12&Achats!$C$3:$C$12,0))} -> 2530
B11: CITROEN | C11: YAHOO | F11: {=INDEX(Achats!$E$3:$E$12,MATCH(Consolidation!B11&Consolidation!C11,Achats!$B$3:$B$12&Achats!$C$3:$C$12,0))} -> 0
B12: CITROEN | C12: YOUTUBE | F12: {=INDEX(Achats!$E$3:$E$12,MATCH(Consolidation!B12&Consolidation!C12,Achats!$B$3:$B$12&Achats!$C$3:$C$12,0))} -> 5000
D14: =SUM(D3:D12) -> 0 | E14: =SUM(E3:E12) -> 0 | F14: =SUM(F3:F12) -> 42457 | G14: =SUM(G3:G12) -> 0
