Workbook
Name Arrêt: Param!$I$2:$I$5
Name Début: Param!$F$2:$F$5
Name Ferier: Param!#REF!
Name Fériés: Param!$B$2:$B$14
Name Fin: Param!$G$2:$G$5
Name Journée: Param!$E$2:$E$5
Name Journée2: Param!$E$2:$E$6
Name Jours: Param!$A$2:$A$14
Name Mois: Param!$C$2:$C$13

Sheet Feuil1
E1: =TODAY() -> 42743 | I1: 0.29166667
B2: 42736 | C2: Type de Journée | E2: Heure d'Arrivee | F2: Heure de Fin | G2: Total/Hrs Journée | H2: Heure/Sup 25% | I2: Heure de Nuit | J2: Heure/Sup 50% | K2: Arrêt
B3: =B2 -> 42736 | C3: Journée/Normal | E3: =INDEX(Param!F2:F5,MATCH($C3,Journée,0),1) -> 0.3125 | F3: =INDEX(Param!G2:G5,MATCH($C3,Journée,0),1) -> 0.64583333 | G3: =IF(E3="","",(MOD(F3-E3,1))) -> 0.33333333 | H3: =IF(G3="","",G3-$I$1) -> 0.041666667 | I3: =MOD(F3-E3,1)-IF(F3>E3,MAX(0,MIN(F3,22/24)-MAX(E3,6/24)),MAX(0,22/24-MAX(E3,6/24))+MAX(0,MIN(F3,22/24)-6/24)) -> 0
B4: =IF(MONTH(B$3+ROWS([1]Parametres!$1:1))=MONTH(B$2),B$3+ROWS([1]Parametres!$1:1),"") -> 42737 | C4: Matin | E4: =INDEX(Param!F2:F5,MATCH($C4,Journée,0),1) -> 0.20833333 | F4: =INDEX(Param!G2:G5,MATCH($C4,Journée,0),1) -> 0.54166667 | G4: =IF(E4="","",(MOD(F4-E4,1))) -> 0.33333333 | H4: =IF(G4="","",G4-$I$1) -> 0.041666667 | I4: =MOD(F4-E4,1)-IF(F4>E4,MAX(0,MIN(F4,22/24)-MAX(E4,6/24)),MAX(0,22/24-MAX(E4,6/24))+MAX(0,MIN(F4,22/24)-6/24)) -> 0.041666667
B5: =IF(MONTH(B$3+ROWS([1]Parametres!$1:2))=MONTH(B$2),B$3+ROWS([1]Parametres!$1:2),"") -> 42738 | C5: Nuit | E5: =INDEX(Param!F2:F5,MATCH($C5,Journée,0),1) -> 0.875 | F5: =INDEX(Param!G2:G5,MATCH($C5,Journée,0),1) -> 0.20833333 | G5: =IF(E5="","",(MOD(F5-E5,1))) -> 0.33333333 | H5: =IF(G5="","",G5-$I$1) -> 0.041666667 | I5: =MOD(F5-E5,1)-IF(F5>E5,MAX(0,MIN(F5,22/24)-MAX(E5,6/24)),MAX(0,22/24-MAX(E5,6/24))+MAX(0,MIN(F5,22/24)-6/24)) -> 0.29166667
B6: =IF(MONTH(B$3+ROWS([1]Parametres!$1:3))=MONTH(B$2),B$3+ROWS([1]Parametres!$1:3),"") -> 42739 | C6: Nuit + | E6: =INDEX(Param!F2:F5,MATCH($C6,Journée,0),1) -> 0.79166667 | F6: =INDEX(Param!G2:G5,MATCH($C6,Journée,0),1) -> 0.20833333 | G6: =IF(E6="","",(MOD(F6-E6,1))) -> 0.41666667 | H6: =IF(G6="","",G6-$I$1) -> 0.125 | I6: =MOD(F6-E6,1)-IF(F6>E6,MAX(0,MIN(F6,22/24)-MAX(E6,6/24)),MAX(0,22/24-MAX(E6,6/24))+MAX(0,MIN(F6,22/24)-6/24)) -> 0.29166667
B7: =IF(MONTH(B$3+ROWS([1]Parametres!$1:4))=MONTH(B$2),B$3+ROWS([1]Parametres!$1:4),"") -> 42740 | C7: Matin | E7: =INDEX(Param!F2:F5,MATCH($C7,Journée,0),1) -> 0.20833333 | F7: =INDEX(Param!G2:G5,MATCH($C7,Journée,0),1) -> 0.54166667 | G7: =IF(E7="","",(MOD(F7-E7,1))) -> 0.33333333 | H7: =IF(G7="","",G7-$I$1) -> 0.041666667 | I7: =MOD(F7-E7,1)-IF(F7>E7,MAX(0,MIN(F7,22/24)-MAX(E7,6/24)),MAX(0,22/24-MAX(E7,6/24))+MAX(0,MIN(F7,22/24)-6/24)) -> 0.041666667
B8: =IF(MONTH(B$3+ROWS([1]Parametres!$1:5))=MONTH(B$2),B$3+ROWS([1]Parametres!$1:5),"") -> 42741 | C8: Journée/Normal | E8: =INDEX(Param!F2:F5,MATCH($C8,Journée,0),1) -> 0.3125 | F8: =INDEX(Param!G2:G5,MATCH($C8,Journée,0),1) -> 0.64583333 | G8: =IF(E8="","",(MOD(F8-E8,1))) -> 0.33333333 | H8: =IF(G8="","",G8-$I$1) -> 0.041666667 | I8: =MOD(F8-E8,1)-IF(F8>E8,MAX(0,MIN(F8,22/24)-MAX(E8,6/24)),MAX(0,22/24-MAX(E8,6/24))+MAX(0,MIN(F8,22/24)-6/24)) -> 0
F11: Bonjour,
F12: Comment faire pour que les plages horaires change de couleur
F13: Comme décrit le menu déroulant ?
F14: J’ais chercher sur condition mais pas trouvez ou mal chercher ?

Sheet Param
A1: Jours | B1: =YEAR('[2]Suivi mensuel'!B2) -> 2017 | C1: Mois | E1: Journée | F1: Début | G1: Fin | I1: Arrêt
A2: Jour de l'an | B2: =DATE(B1,1,1) -> 42736 | C2: 42736 | E2: Journée/Normal | F2: 0.3125 | G2: 0.64583333 | I2: Maladie
A3: Pâques | B3: =DATE(B1,3,29.56+0.979*MOD(204-11*MOD(B1,19),30)-WEEKDAY(DATE(B1,3,28.56+0.979*MOD(204-11*MOD(B1,19),30)))) -> 42841 | C3: =EDATE($C2,1) -> 42767 | E3: Matin | F3: 0.20833333 | G3: 0.54166667 | I3: Accident/Travail
A4: L. de Pâques | B4: =B3+1 -> 42842 | C4: =EDATE($C3,1) -> 42795 | E4: Nuit | F4: 0.875 | G4: 0.20833333 | I4: Conjé/Payer
A5: Fête du Travail | B5: =DATE(B1,5,1) -> 42856 | C5: =EDATE($C4,1) -> 42826 | E5: Nuit + | F5: 0.79166667 | G5: 0.20833333 | I5: Autre
A6: Armistice 45 | B6: =DATE(B1,5,8) -> 42863 | C6: =EDATE($C5,1) -> 42856 | E6: Autre
A7: Ascension | B7: =IF(B5=B4+38,,B4+38) -> 42880 | C7: =EDATE($C6,1) -> 42887
A8: Pentecôte | B8: =B3+49 -> 42890 | C8: =EDATE($C7,1) -> 42917
A9: L. de Pentecôte | B9: =B8+1 -> 42891 | C9: =EDATE($C8,1) -> 42948
A10: Fête Nationale | B10: =DATE(B1,7,14) -> 42930 | C10: =EDATE($C9,1) -> 42979
A11: Assomption | B11: =DATE(B1,8,15) -> 42962 | C11: =EDATE($C10,1) -> 43009
A12: Toussaint | B12: =DATE(B1,11,1) -> 43040 | C12: =EDATE($C11,1) -> 43040
A13: Armistice 18 | B13: =DATE(B1,11,11) -> 43050 | C13: =EDATE($C12,1) -> 43070
A14: Noël | B14: =DATE(B1,12,25) -> 43094
