Workbook
Name Code: detail[Code]
Name TAG: detail[TAG]

Sheet Det0031
A1: TAG | B1: Tablette | C1: Code | D1: Code-Prix | E1: Description | F1: Prix | G1: Quantite | H1: Date | I1: Heure
A2: 6001 | B2: 1 | C2: 10113472 | D2: 10113472-000799 | E2: Planche décorative murale Le Chef… | F2: 7.99 | G2: 10 | H2: 42823 | I2: 0.51445602
A3: 6013 | B3: 1 | C3: 10113472 | D3: 10113472-000799 | E3: Planche décorative murale Le Chef… | F3: 7.99 | G3: 10 | H3: 42823 | I3: 0.51445602
A4: 6009 | B4: 1 | C4: 10143854 | D4: 10143854-001299 | E4: Ens. de vaisselle Pat'Patrouille | F4: 12.99 | G4: 4 | H4: 42823 | I4: 0.51274306
A5: 6001 | B5: 1 | C5: 10144106 | D5: 10144106-001299 | E5: Boite à lunch - Pat'Patrouille | F5: 12.99 | G5: 6 | H5: 42823 | I5: 0.51450231
A6: 6016 | B6: 1 | C6: 10144106 | D6: 10144106-001299 | E6: Boite à lunch - Pat'Patrouille | F6: 12.99 | G6: 6 | H6: 42823 | I6: 0.51450231
A7: 6001 | B7: 2 | C7: 10642814 | D7: 10642814-002199 | E7: T-shirt Fender noir XL | F7: 21.99 | G7: 1 | H7: 42823 | I7: 0.5159375
A8: 6004 | B8: 2 | C8: 10642983 | D8: 10642983-002199 | E8: T-shirt Fender Amp logo gris XL | F8: 21.99 | G8: 2 | H8: 42823 | I8: 0.51614583
A9: 6008 | B9: 2 | C9: 10646716 | D9: 10646716-001099 | E9: BOITE MUSIQUE LA VIE EN ROSE | F9: 10.99 | G9: 13 | H9: 42823 | I9: 0.5162037
A10: 6009 | B10: 2 | C10: 10646727 | D10: 10646727-001099 | E10: BOITE MUSIQUE LA BOHÈME | F10: 10.99 | G10: 2 | H10: 42823 | I10: 0.51622685
A11: 6001 | B11: 2 | C11: 10646738 | D11: 10646738-001099 | E11: BOITE MUSIQUE AU CLAIR DE LA L | F11: 10.99 | G11: 15 | H11: 42823 | I11: 0.51604167
A12: 6001 | B12: 2 | C12: 10646749 | D12: 10646749-001099 | E12: BOITE MUSIQUE LETTRE À ELISE | F12: 10.99 | G12: 7 | H12: 42823 | I12: 0.51603009
A13: 6003 | B13: 2 | C13: 10646750 | D13: 10646750-001099 | E13: BOITE MUSIQUE STAR WARS | F13: 10.99 | G13: 5 | H13: 42823 | I13: 0.51612269
... A130: 6007 | B130: 1 | C130: 902902283 | D130: 902902283-001299 | E130: Hozier | F130: 19.99 | G130: 1 | H130: 42823 | I130: 0.51269676

Sheet Inventaire
A1: ID | B1: Section | C1: Code-RB | D1: Titre | E1: Ancien stock | F1: Compte | G1: Diff. | H1: Colonne1 | I1: Colonne2 | J1: Colonne3 | K1: Nouvelle quantité | L1: tag 1 | M1: tag2 | N1: tag3
A2: 110 | C2: 11816667 | D2: Après un rêve: A Fauré Recital Vol.1 | E2: 4 | F2: 1 | G2: -3 | L2: {=IF(COLUMNS('Det0031'!$C:C)<=COUNTIF(Code,$C2),INDEX(TAG,SMALL(IF(Code=$C2,ROW(INDIRECT("1:"&ROWS(TAG)))),COLUMNS($C:C))),"")} -> 6001 | M2: {=IF(COLUMNS('Det0031'!$C:D)<=COUNTIF(Code,$C2),INDEX(TAG,SMALL(IF(Code=$C2,ROW(INDIRECT("1:"&ROWS(TAG)))),COLUMNS($C:D))),"")} | N2: {=IF(COLUMNS('Det0031'!$C:E)<=COUNTIF(Code,$C2),INDEX(TAG,SMALL(IF(Code=$C2,ROW(INDIRECT("1:"&ROWS(TAG)))),COLUMNS($C:E))),"")}
A3: 160 | C3: 10113472 | D3: Route Infinie (La) | E3: 8 | F3: 10 | G3: 2 | L3: {=IF(COLUMNS('Det0031'!$C:C)<=COUNTIF(Code,$C3),INDEX(TAG,SMALL(IF(Code=$C3,ROW(INDIRECT("1:"&ROWS(TAG)))),COLUMNS($C:C))),"")} -> 6001 | M3: {=IF(COLUMNS('Det0031'!$C:D)<=COUNTIF(Code,$C3),INDEX(TAG,SMALL(IF(Code=$C3,ROW(INDIRECT("1:"&ROWS(TAG)))),COLUMNS($C:D))),"")} -> 6013 | N3: {=IF(COLUMNS('Det0031'!$C:E)<=COUNTIF(Code,$C3),INDEX(TAG,SMALL(IF(Code=$C3,ROW(INDIRECT("1:"&ROWS(TAG)))),COLUMNS($C:E))),"")}
A4: 160 | C4: 11004201 | D4: Femme | E4: 12 | F4: 14 | G4: 2 | L4: {=IF(COLUMNS('Det0031'!$C:C)<=COUNTIF(Code,$C4),INDEX(TAG,SMALL(IF(Code=$C4,ROW(INDIRECT("1:"&ROWS(TAG)))),COLUMNS($C:C))),"")} -> 6004 | M4: {=IF(COLUMNS('Det0031'!$C:D)<=COUNTIF(Code,$C4),INDEX(TAG,SMALL(IF(Code=$C4,ROW(INDIRECT("1:"&ROWS(TAG)))),COLUMNS($C:D))),"")} -> 6005 | N4: {=IF(COLUMNS('Det0031'!$C:E)<=COUNTIF(Code,$C4),INDEX(TAG,SMALL(IF(Code=$C4,ROW(INDIRECT("1:"&ROWS(TAG)))),COLUMNS($C:E))),"")} -> 6005
A5: 110 | C5: 11881597 | D5: Bruckner 2: Symphony No.2 | E5: 1 | F5: 8 | G5: 7 | L5: {=IF(COLUMNS('Det0031'!$C:C)<=COUNTIF(Code,$C5),INDEX(TAG,SMALL(IF(Code=$C5,ROW(INDIRECT("1:"&ROWS(TAG)))),COLUMNS($C:C))),"")} -> 6001 | M5: {=IF(COLUMNS('Det0031'!$C:D)<=COUNTIF(Code,$C5),INDEX(TAG,SMALL(IF(Code=$C5,ROW(INDIRECT("1:"&ROWS(TAG)))),COLUMNS($C:D))),"")} | N5: {=IF(COLUMNS('Det0031'!$C:E)<=COUNTIF(Code,$C5),INDEX(TAG,SMALL(IF(Code=$C5,ROW(INDIRECT("1:"&ROWS(TAG)))),COLUMNS($C:E))),"")}
A6: 110 | C6: 810000414 | D6: Dompierre - Concertango Grosso | E6: 2 | F6: 9 | G6: 7 | L6: {=IF(COLUMNS('Det0031'!$C:C)<=COUNTIF(Code,$C6),INDEX(TAG,SMALL(IF(Code=$C6,ROW(INDIRECT("1:"&ROWS(TAG)))),COLUMNS($C:C))),"")} -> 6001 | M6: {=IF(COLUMNS('Det0031'!$C:D)<=COUNTIF(Code,$C6),INDEX(TAG,SMALL(IF(Code=$C6,ROW(INDIRECT("1:"&ROWS(TAG)))),COLUMNS($C:D))),"")} | N6: {=IF(COLUMNS('Det0031'!$C:E)<=COUNTIF(Code,$C6),INDEX(TAG,SMALL(IF(Code=$C6,ROW(INDIRECT("1:"&ROWS(TAG)))),COLUMNS($C:E))),"")}
A7: 110 | C7: 11800249 | D7: Intégrale des concertos pour violon de Saint-Saëns | E7: 4 | F7: 1 | G7: -3 | L7: {=IF(COLUMNS('Det0031'!$C:C)<=COUNTIF(Code,$C7),INDEX(TAG,SMALL(IF(Code=$C7,ROW(INDIRECT("1:"&ROWS(TAG)))),COLUMNS($C:C))),"")} -> 6003 | M7: {=IF(COLUMNS('Det0031'!$C:D)<=COUNTIF(Code,$C7),INDEX(TAG,SMALL(IF(Code=$C7,ROW(INDIRECT("1:"&ROWS(TAG)))),COLUMNS($C:D))),"")} | N7: {=IF(COLUMNS('Det0031'!$C:E)<=COUNTIF(Code,$C7),INDEX(TAG,SMALL(IF(Code=$C7,ROW(INDIRECT("1:"&ROWS(TAG)))),COLUMNS($C:E))),"")}
A8: 110 | C8: 11800216 | D8: Cello Concertos Nos 1 & 2, The Carnaval Of The Animals, Africa, Wedding-cake | E8: 6 | F8: 4 | G8: -2 | L8: {=IF(COLUMNS('Det0031'!$C:C)<=COUNTIF(Code,$C8),INDEX(TAG,SMALL(IF(Code=$C8,ROW(INDIRECT("1:"&ROWS(TAG)))),COLUMNS($C:C))),"")} -> 6004 | M8: {=IF(COLUMNS('Det0031'!$C:D)<=COUNTIF(Code,$C8),INDEX(TAG,SMALL(IF(Code=$C8,ROW(INDIRECT("1:"&ROWS(TAG)))),COLUMNS($C:D))),"")} | N8: {=IF(COLUMNS('Det0031'!$C:E)<=COUNTIF(Code,$C8),INDEX(TAG,SMALL(IF(Code=$C8,ROW(INDIRECT("1:"&ROWS(TAG)))),COLUMNS($C:E))),"")}
A9: 110 | C9: 634100120 | D9: Quintette à cordes D 956 | E9: 4 | F9: 2 | G9: -2 | L9: {=IF(COLUMNS('Det0031'!$C:C)<=COUNTIF(Code,$C9),INDEX(TAG,SMALL(IF(Code=$C9,ROW(INDIRECT("1:"&ROWS(TAG)))),COLUMNS($C:C))),"")} -> 6005 | M9: {=IF(COLUMNS('Det0031'!$C:D)<=COUNTIF(Code,$C9),INDEX(TAG,SMALL(IF(Code=$C9,ROW(INDIRECT("1:"&ROWS(TAG)))),COLUMNS($C:D))),"")} | N9: {=IF(COLUMNS('Det0031'!$C:E)<=COUNTIF(Code,$C9),INDEX(TAG,SMALL(IF(Code=$C9,ROW(INDIRECT("1:"&ROWS(TAG)))),COLUMNS($C:E))),"")}
A10: 110 | C10: 11803822 | D10: Praetorius | E10: 3 | F10: 1 | G10: -2 | L10: {=IF(COLUMNS('Det0031'!$C:C)<=COUNTIF(Code,$C10),INDEX(TAG,SMALL(IF(Code=$C10,ROW(INDIRECT("1:"&ROWS(TAG)))),COLUMNS($C:C))),"")} -> 6006 | M10: {=IF(COLUMNS('Det0031'!$C:D)<=COUNTIF(Code,$C10),INDEX(TAG,SMALL(IF(Code=$C10,ROW(INDIRECT("1:"&ROWS(TAG)))),COLUMNS($C:D))),"")} | N10: {=IF(COLUMNS('Det0031'!$C:E)<=COUNTIF(Code,$C10),INDEX(TAG,SMALL(IF(Code=$C10,ROW(INDIRECT("1:"&ROWS(TAG)))),COLUMNS($C:E))),"")}
A11: TOTAL | D11: TOTAL | E11: 24 | F11: 26 | G11: 2 | L11: {=IF(COLUMNS('Det0031'!$C:C)<=COUNTIF(Code,$C11),INDEX(TAG,SMALL(IF(Code=$C11,ROW(INDIRECT("1:"&ROWS(TAG)))),COLUMNS($C:C))),"")} | M11: {=IF(COLUMNS('Det0031'!$C:D)<=COUNTIF(Code,$C11),INDEX(TAG,SMALL(IF(Code=$C11,ROW(INDIRECT("1:"&ROWS(TAG)))),COLUMNS($C:D))),"")} | N11: {=IF(COLUMNS('Det0031'!$C:E)<=COUNTIF(Code,$C11),INDEX(TAG,SMALL(IF(Code=$C11,ROW(INDIRECT("1:"&ROWS(TAG)))),COLUMNS($C:E))),"")}
A12: 120 | C12: 11803833 | D12: Acte III | E12: 6 | F12: 11 | G12: 5 | L12: {=IF(COLUMNS('Det0031'!$C:C)<=COUNTIF(Code,$C12),INDEX(TAG,SMALL(IF(Code=$C12,ROW(INDIRECT("1:"&ROWS(TAG)))),COLUMNS($C:C))),"")} -> 6008 | M12: {=IF(COLUMNS('Det0031'!$C:D)<=COUNTIF(Code,$C12),INDEX(TAG,SMALL(IF(Code=$C12,ROW(INDIRECT("1:"&ROWS(TAG)))),COLUMNS($C:D))),"")} | N12: {=IF(COLUMNS('Det0031'!$C:E)<=COUNTIF(Code,$C12),INDEX(TAG,SMALL(IF(Code=$C12,ROW(INDIRECT("1:"&ROWS(TAG)))),COLUMNS($C:E))),"")}
A13: 120 | C13: 10929796 | D13: So Many Things | E13: 1 | F13: 4 | G13: 3 | L13: {=IF(COLUMNS('Det0031'!$C:C)<=COUNTIF(Code,$C13),INDEX(TAG,SMALL(IF(Code=$C13,ROW(INDIRECT("1:"&ROWS(TAG)))),COLUMNS($C:C))),"")} -> 6009 | M13: {=IF(COLUMNS('Det0031'!$C:D)<=COUNTIF(Code,$C13),INDEX(TAG,SMALL(IF(Code=$C13,ROW(INDIRECT("1:"&ROWS(TAG)))),COLUMNS($C:D))),"")} | N13: {=IF(COLUMNS('Det0031'!$C:E)<=COUNTIF(Code,$C13),INDEX(TAG,SMALL(IF(Code=$C13,ROW(INDIRECT("1:"&ROWS(TAG)))),COLUMNS($C:E))),"")}
A14: TOTAL | D14: TOTAL | E14: 7 | F14: 15 | G14: 8 | L14: {=IF(COLUMNS('Det0031'!$C:C)<=COUNTIF(Code,$C14),INDEX(TAG,SMALL(IF(Code=$C14,ROW(INDIRECT("1:"&ROWS(TAG)))),COLUMNS($C:C))),"")} | M14: {=IF(COLUMNS('Det0031'!$C:D)<=COUNTIF(Code,$C14),INDEX(TAG,SMALL(IF(Code=$C14,ROW(INDIRECT("1:"&ROWS(TAG)))),COLUMNS($C:D))),"")} | N14: {=IF(COLUMNS('Det0031'!$C:E)<=COUNTIF(Code,$C14),INDEX(TAG,SMALL(IF(Code=$C14,ROW(INDIRECT("1:"&ROWS(TAG)))),COLUMNS($C:E))),"")}
A15: 130 | C15: 443102001 | D15: Stradivarius à L'Opéra | E15: 2 | F15: 0 | G15: -2 | L15: {=IF(COLUMNS('Det0031'!$C:C)<=COUNTIF(Code,$C15),INDEX(TAG,SMALL(IF(Code=$C15,ROW(INDIRECT("1:"&ROWS(TAG)))),COLUMNS($C:C))),"")} -> 6001 | M15: {=IF(COLUMNS('Det0031'!$C:D)<=COUNTIF(Code,$C15),INDEX(TAG,SMALL(IF(Code=$C15,ROW(INDIRECT("1:"&ROWS(TAG)))),COLUMNS($C:D))),"")} | N15: {=IF(COLUMNS('Det0031'!$C:E)<=COUNTIF(Code,$C15),INDEX(TAG,SMALL(IF(Code=$C15,ROW(INDIRECT("1:"&ROWS(TAG)))),COLUMNS($C:E))),"")}
A16: TOTAL | D16: TOTAL | E16: 2 | F16: 0 | G16: -2 | L16: {=IF(COLUMNS('Det0031'!$C:C)<=COUNTIF(Code,$C16),INDEX(TAG,SMALL(IF(Code=$C16,ROW(INDIRECT("1:"&ROWS(TAG)))),COLUMNS($C:C))),"")} | M16: {=IF(COLUMNS('Det0031'!$C:D)<=COUNTIF(Code,$C16),INDEX(TAG,SMALL(IF(Code=$C16,ROW(INDIRECT("1:"&ROWS(TAG)))),COLUMNS($C:D))),"")} | N16: {=IF(COLUMNS('Det0031'!$C:E)<=COUNTIF(Code,$C16),INDEX(TAG,SMALL(IF(Code=$C16,ROW(INDIRECT("1:"&ROWS(TAG)))),COLUMNS($C:E))),"")}
A17: 150 | C17: 10698230 | D17: Simphonies des Noëls | E17: -5 | F17: 0 | G17: 5 | L17: {=IF(COLUMNS('Det0031'!$C:C)<=COUNTIF(Code,$C17),INDEX(TAG,SMALL(IF(Code=$C17,ROW(INDIRECT("1:"&ROWS(TAG)))),COLUMNS($C:C))),"")} -> 6001 | M17: {=IF(COLUMNS('Det0031'!$C:D)<=COUNTIF(Code,$C17),INDEX(TAG,SMALL(IF(Code=$C17,ROW(INDIRECT("1:"&ROWS(TAG)))),COLUMNS($C:D))),"")} | N17: {=IF(COLUMNS('Det0031'!$C:E)<=COUNTIF(Code,$C17),INDEX(TAG,SMALL(IF(Code=$C17,ROW(INDIRECT("1:"&ROWS(TAG)))),COLUMNS($C:E))),"")}
A18: TOTAL | D18: TOTAL | E18: -5 | F18: 0 | G18: 5 | L18: {=IF(COLUMNS('Det0031'!$C:C)<=COUNTIF(Code,$C18),INDEX(TAG,SMALL(IF(Code=$C18,ROW(INDIRECT("1:"&ROWS(TAG)))),COLUMNS($C:C))),"")} | M18: {=IF(COLUMNS('Det0031'!$C:D)<=COUNTIF(Code,$C18),INDEX(TAG,SMALL(IF(Code=$C18,ROW(INDIRECT("1:"&ROWS(TAG)))),COLUMNS($C:D))),"")} | N18: {=IF(COLUMNS('Det0031'!$C:E)<=COUNTIF(Code,$C18),INDEX(TAG,SMALL(IF(Code=$C18,ROW(INDIRECT("1:"&ROWS(TAG)))),COLUMNS($C:E))),"")}
A19: 160 | C19: 10676905 | D19: Horizons nouveaux (Les) | E19: 5 | F19: 0 | G19: -5 | L19: {=IF(COLUMNS('Det0031'!$C:C)<=COUNTIF(Code,$C19),INDEX(TAG,SMALL(IF(Code=$C19,ROW(INDIRECT("1:"&ROWS(TAG)))),COLUMNS($C:C))),"")} -> 6001 | M19: {=IF(COLUMNS('Det0031'!$C:D)<=COUNTIF(Code,$C19),INDEX(TAG,SMALL(IF(Code=$C19,ROW(INDIRECT("1:"&ROWS(TAG)))),COLUMNS($C:D))),"")} | N19: {=IF(COLUMNS('Det0031'!$C:E)<=COUNTIF(Code,$C19),INDEX(TAG,SMALL(IF(Code=$C19,ROW(INDIRECT("1:"&ROWS(TAG)))),COLUMNS($C:E))),"")}
A20: 160 | C20: 10676803 | D20: CAFÉ PARISIEN (2DC) | E20: 2 | F20: 0 | G20: -2 | L20: {=IF(COLUMNS('Det0031'!$C:C)<=COUNTIF(Code,$C20),INDEX(TAG,SMALL(IF(Code=$C20,ROW(INDIRECT("1:"&ROWS(TAG)))),COLUMNS($C:C))),"")} -> 6001 | M20: {=IF(COLUMNS('Det0031'!$C:D)<=COUNTIF(Code,$C20),INDEX(TAG,SMALL(IF(Code=$C20,ROW(INDIRECT("1:"&ROWS(TAG)))),COLUMNS($C:D))),"")} | N20: {=IF(COLUMNS('Det0031'!$C:E)<=COUNTIF(Code,$C20),INDEX(TAG,SMALL(IF(Code=$C20,ROW(INDIRECT("1:"&ROWS(TAG)))),COLUMNS($C:E))),"")}
A21: 160 | C21: 790007667 | D21: Libérer l'animal -(Édition Deluxe) | E21: 5 | F21: 3 | G21: -2 | L21: {=IF(COLUMNS('Det0031'!$C:C)<=COUNTIF(Code,$C21),INDEX(TAG,SMALL(IF(Code=$C21,ROW(INDIRECT("1:"&ROWS(TAG)))),COLUMNS($C:C))),"")} -> 6001 | M21: {=IF(COLUMNS('Det0031'!$C:D)<=COUNTIF(Code,$C21),INDEX(TAG,SMALL(IF(Code=$C21,ROW(INDIRECT("1:"&ROWS(TAG)))),COLUMNS($C:D))),"")} -> 6001 | N21: {=IF(COLUMNS('Det0031'!$C:E)<=COUNTIF(Code,$C21),INDEX(TAG,SMALL(IF(Code=$C21,ROW(INDIRECT("1:"&ROWS(TAG)))),COLUMNS($C:E))),"")} -> 6024
A22: 160 | C22: 790000079 | D22: Encore un soir | E22: 28 | F22: 25 | G22: -3 | L22: {=IF(COLUMNS('Det0031'!$C:C)<=COUNTIF(Code,$C22),INDEX(TAG,SMALL(IF(Code=$C22,ROW(INDIRECT("1:"&ROWS(TAG)))),COLUMNS($C:C))),"")} -> 6002 | M22: {=IF(COLUMNS('Det0031'!$C:D)<=COUNTIF(Code,$C22),INDEX(TAG,SMALL(IF(Code=$C22,ROW(INDIRECT("1:"&ROWS(TAG)))),COLUMNS($C:D))),"")} -> 6003 | N22: {=IF(COLUMNS('Det0031'!$C:E)<=COUNTIF(Code,$C22),INDEX(TAG,SMALL(IF(Code=$C22,ROW(INDIRECT("1:"&ROWS(TAG)))),COLUMNS($C:E))),"")} -> 6025
A23: 160 | C23: 10972540 | D23: Caroline Savoie | E23: 2 | F23: 4 | G23: 2 | L23: {=IF(COLUMNS('Det0031'!$C:C)<=COUNTIF(Code,$C23),INDEX(TAG,SMALL(IF(Code=$C23,ROW(INDIRECT("1:"&ROWS(TAG)))),COLUMNS($C:C))),"")} -> 6005 | M23: {=IF(COLUMNS('Det0031'!$C:D)<=COUNTIF(Code,$C23),INDEX(TAG,SMALL(IF(Code=$C23,ROW(INDIRECT("1:"&ROWS(TAG)))),COLUMNS($C:D))),"")} -> 6006 | N23: {=IF(COLUMNS('Det0031'!$C:E)<=COUNTIF(Code,$C23),INDEX(TAG,SMALL(IF(Code=$C23,ROW(INDIRECT("1:"&ROWS(TAG)))),COLUMNS($C:E))),"")} -> 6006
A24: 160 | C24: 10676892 | D24: 1.L.K. | E24: 5 | F24: 7 | G24: 2 | L24: {=IF(COLUMNS('Det0031'!$C:C)<=COUNTIF(Code,$C24),INDEX(TAG,SMALL(IF(Code=$C24,ROW(INDIRECT("1:"&ROWS(TAG)))),COLUMNS($C:C))),"")} -> 6007 | M24: {=IF(COLUMNS('Det0031'!$C:D)<=COUNTIF(Code,$C24),INDEX(TAG,SMALL(IF(Code=$C24,ROW(INDIRECT("1:"&ROWS(TAG)))),COLUMNS($C:D))),"")} | N24: {=IF(COLUMNS('Det0031'!$C:E)<=COUNTIF(Code,$C24),INDEX(TAG,SMALL(IF(Code=$C24,ROW(INDIRECT("1:"&ROWS(TAG)))),COLUMNS($C:E))),"")}
A25: 160 | C25: 10676778 | D25: Décibels et des silences (2CD) | E25: 16 | F25: 18 | G25: 2 | L25: {=IF(COLUMNS('Det0031'!$C:C)<=COUNTIF(Code,$C25),INDEX(TAG,SMALL(IF(Code=$C25,ROW(INDIRECT("1:"&ROWS(TAG)))),COLUMNS($C:C))),"")} -> 6008 | M25: {=IF(COLUMNS('Det0031'!$C:D)<=COUNTIF(Code,$C25),INDEX(TAG,SMALL(IF(Code=$C25,ROW(INDIRECT("1:"&ROWS(TAG)))),COLUMNS($C:D))),"")} | N25: {=IF(COLUMNS('Det0031'!$C:E)<=COUNTIF(Code,$C25),INDEX(TAG,SMALL(IF(Code=$C25,ROW(INDIRECT("1:"&ROWS(TAG)))),COLUMNS($C:E))),"")}
A26: 160 | C26: 10677097 | D26: Heptade (L') (XL) (2 Black Vinyl) | E26: 0 | F26: 2 | G26: 2 | L26: {=IF(COLUMNS('Det0031'!$C:C)<=COUNTIF(Code,$C26),INDEX(TAG,SMALL(IF(Code=$C26,ROW(INDIRECT("1:"&ROWS(TAG)))),COLUMNS($C:C))),"")} -> 6009 | M26: {=IF(COLUMNS('Det0031'!$C:D)<=COUNTIF(Code,$C26),INDEX(TAG,SMALL(IF(Code=$C26,ROW(INDIRECT("1:"&ROWS(TAG)))),COLUMNS($C:D))),"")} | N26: {=IF(COLUMNS('Det0031'!$C:E)<=COUNTIF(Code,$C26),INDEX(TAG,SMALL(IF(Code=$C26,ROW(INDIRECT("1:"&ROWS(TAG)))),COLUMNS($C:E))),"")}
A27: 160 | C27: 10659493 | D27: Comme dans un film | E27: 4 | F27: 6 | G27: 2 | L27: {=IF(COLUMNS('Det0031'!$C:C)<=COUNTIF(Code,$C27),INDEX(TAG,SMALL(IF(Code=$C27,ROW(INDIRECT("1:"&ROWS(TAG)))),COLUMNS($C:C))),"")} -> 6010 | M27: {=IF(COLUMNS('Det0031'!$C:D)<=COUNTIF(Code,$C27),INDEX(TAG,SMALL(IF(Code=$C27,ROW(INDIRECT("1:"&ROWS(TAG)))),COLUMNS($C:D))),"")} | N27: {=IF(COLUMNS('Det0031'!$C:E)<=COUNTIF(Code,$C27),INDEX(TAG,SMALL(IF(Code=$C27,ROW(INDIRECT("1:"&ROWS(TAG)))),COLUMNS($C:E))),"")}
A28: 160 | C28: 10659506 | D28: Album monstre (L'): 3ème partie: Feu-Vol-Vandalisme | E28: 9 | F28: 5 | G28: -4 | L28: {=IF(COLUMNS('Det0031'!$C:C)<=COUNTIF(Code,$C28),INDEX(TAG,SMALL(IF(Code=$C28,ROW(INDIRECT("1:"&ROWS(TAG)))),COLUMNS($C:C))),"")} -> 6011 | M28: {=IF(COLUMNS('Det0031'!$C:D)<=COUNTIF(Code,$C28),INDEX(TAG,SMALL(IF(Code=$C28,ROW(INDIRECT("1:"&ROWS(TAG)))),COLUMNS($C:D))),"")} | N28: {=IF(COLUMNS('Det0031'!$C:E)<=COUNTIF(Code,$C28),INDEX(TAG,SMALL(IF(Code=$C28,ROW(INDIRECT("1:"&ROWS(TAG)))),COLUMNS($C:E))),"")}
A29: 160 | C29: 10659517 | D29: Le temps d'une chanson... le temps de dire je t'aime Claude Léveillée | E29: 9 | F29: 12 | G29: 3 | L29: {=IF(COLUMNS('Det0031'!$C:C)<=COUNTIF(Code,$C29),INDEX(TAG,SMALL(IF(Code=$C29,ROW(INDIRECT("1:"&ROWS(TAG)))),COLUMNS($C:C))),"")} -> 6012 | M29: {=IF(COLUMNS('Det0031'!$C:D)<=COUNTIF(Code,$C29),INDEX(TAG,SMALL(IF(Code=$C29,ROW(INDIRECT("1:"&ROWS(TAG)))),COLUMNS($C:D))),"")} | N29: {=IF(COLUMNS('Det0031'!$C:E)<=COUNTIF(Code,$C29),INDEX(TAG,SMALL(IF(Code=$C29,ROW(INDIRECT("1:"&ROWS(TAG)))),COLUMNS($C:E))),"")}
A30: 160 | C30: 10663466 | D30: Zaz | E30: 4 | F30: 11 | G30: 7 | L30: {=IF(COLUMNS('Det0031'!$C:C)<=COUNTIF(Code,$C30),INDEX(TAG,SMALL(IF(Code=$C30,ROW(INDIRECT("1:"&ROWS(TAG)))),COLUMNS($C:C))),"")} -> 6013 | M30: {=IF(COLUMNS('Det0031'!$C:D)<=COUNTIF(Code,$C30),INDEX(TAG,SMALL(IF(Code=$C30,ROW(INDIRECT("1:"&ROWS(TAG)))),COLUMNS($C:D))),"")} | N30: {=IF(COLUMNS('Det0031'!$C:E)<=COUNTIF(Code,$C30),INDEX(TAG,SMALL(IF(Code=$C30,ROW(INDIRECT("1:"&ROWS(TAG)))),COLUMNS($C:E))),"")}
... A41: 160 | C41: 790007667 | D41: Patsy Cline (Hommage à Patsy Cline) | E41: 11 | F41: 15 | G41: 4 | L41: {=IF(COLUMNS('Det0031'!$C:C)<=COUNTIF(Code,$C41),INDEX(TAG,SMALL(IF(Code=$C41,ROW(INDIRECT("1:"&ROWS(TAG)))),COLUMNS($C:C))),"")} -> 6001 | M41: {=IF(COLUMNS('Det0031'!$C:D)<=COUNTIF(Code,$C41),INDEX(TAG,SMALL(IF(Code=$C41,ROW(INDIRECT("1:"&ROWS(TAG)))),COLUMNS($C:D))),"")} -> 6001 | N41: {=IF(COLUMNS('Det0031'!$C:E)<=COUNTIF(Code,$C41),INDEX(TAG,SMALL(IF(Code=$C41,ROW(INDIRECT("1:"&ROWS(TAG)))),COLUMNS($C:E))),"")} -> 6024
A42: TOTAL | D42: TOTAL | E42: 179 | F42: 190 | G42: 11 | L42: {=IF(COLUMNS('Det0031'!$C:C)<=COUNTIF(Code,$C42),INDEX(TAG,SMALL(IF(Code=$C42,ROW(INDIRECT("1:"&ROWS(TAG)))),COLUMNS($C:C))),"")} | M42: {=IF(COLUMNS('Det0031'!$C:D)<=COUNTIF(Code,$C42),INDEX(TAG,SMALL(IF(Code=$C42,ROW(INDIRECT("1:"&ROWS(TAG)))),COLUMNS($C:D))),"")} | N42: {=IF(COLUMNS('Det0031'!$C:E)<=COUNTIF(Code,$C42),INDEX(TAG,SMALL(IF(Code=$C42,ROW(INDIRECT("1:"&ROWS(TAG)))),COLUMNS($C:E))),"")}
A43: 170 | C43: 11453384 | D43: This Is What The Truth Feels Like (Deluxe Ed.) | E43: 19 | F43: 31 | G43: 12 | L43: {=IF(COLUMNS('Det0031'!$C:C)<=COUNTIF(Code,$C43),INDEX(TAG,SMALL(IF(Code=$C43,ROW(INDIRECT("1:"&ROWS(TAG)))),COLUMNS($C:C))),"")} -> 6003 | M43: {=IF(COLUMNS('Det0031'!$C:D)<=COUNTIF(Code,$C43),INDEX(TAG,SMALL(IF(Code=$C43,ROW(INDIRECT("1:"&ROWS(TAG)))),COLUMNS($C:D))),"")} -> 6004 | N43: {=IF(COLUMNS('Det0031'!$C:E)<=COUNTIF(Code,$C43),INDEX(TAG,SMALL(IF(Code=$C43,ROW(INDIRECT("1:"&ROWS(TAG)))),COLUMNS($C:E))),"")} -> 6026
A44: 170 | C44: 11004201 | D44: This Is What The Truth Feels Like | E44: 20 | F44: 8 | G44: -12 | L44: {=IF(COLUMNS('Det0031'!$C:C)<=COUNTIF(Code,$C44),INDEX(TAG,SMALL(IF(Code=$C44,ROW(INDIRECT("1:"&ROWS(TAG)))),COLUMNS($C:C))),"")} -> 6004 | M44: {=IF(COLUMNS('Det0031'!$C:D)<=COUNTIF(Code,$C44),INDEX(TAG,SMALL(IF(Code=$C44,ROW(INDIRECT("1:"&ROWS(TAG)))),COLUMNS($C:D))),"")} -> 6005 | N44: {=IF(COLUMNS('Det0031'!$C:E)<=COUNTIF(Code,$C44),INDEX(TAG,SMALL(IF(Code=$C44,ROW(INDIRECT("1:"&ROWS(TAG)))),COLUMNS($C:E))),"")} -> 6005
A45: 170 | C45: 10972540 | D45: Kill 'Em All (Remasterisé) | E45: 2 | F45: 5 | G45: 3 | L45: {=IF(COLUMNS('Det0031'!$C:C)<=COUNTIF(Code,$C45),INDEX(TAG,SMALL(IF(Code=$C45,ROW(INDIRECT("1:"&ROWS(TAG)))),COLUMNS($C:C))),"")} -> 6005 | M45: {=IF(COLUMNS('Det0031'!$C:D)<=COUNTIF(Code,$C45),INDEX(TAG,SMALL(IF(Code=$C45,ROW(INDIRECT("1:"&ROWS(TAG)))),COLUMNS($C:D))),"")} -> 6006 | N45: {=IF(COLUMNS('Det0031'!$C:E)<=COUNTIF(Code,$C45),INDEX(TAG,SMALL(IF(Code=$C45,ROW(INDIRECT("1:"&ROWS(TAG)))),COLUMNS($C:E))),"")} -> 6006
A46: 170 | C46: 510101007 | D46: Hitnrun Phase Two | E46: 17 | F46: 20 | G46: 3 | L46: {=IF(COLUMNS('Det0031'!$C:C)<=COUNTIF(Code,$C46),INDEX(TAG,SMALL(IF(Code=$C46,ROW(INDIRECT("1:"&ROWS(TAG)))),COLUMNS($C:C))),"")} -> 6007 | M46: {=IF(COLUMNS('Det0031'!$C:D)<=COUNTIF(Code,$C46),INDEX(TAG,SMALL(IF(Code=$C46,ROW(INDIRECT("1:"&ROWS(TAG)))),COLUMNS($C:D))),"")} | N46: {=IF(COLUMNS('Det0031'!$C:E)<=COUNTIF(Code,$C46),INDEX(TAG,SMALL(IF(Code=$C46,ROW(INDIRECT("1:"&ROWS(TAG)))),COLUMNS($C:E))),"")}
A47: 170 | C47: 11133978 | D47: CHEATING THE POLYGRAPH (2DC) | E47: 2 | F47: 4 | G47: 2 | L47: {=IF(COLUMNS('Det0031'!$C:C)<=COUNTIF(Code,$C47),INDEX(TAG,SMALL(IF(Code=$C47,ROW(INDIRECT("1:"&ROWS(TAG)))),COLUMNS($C:C))),"")} -> 6008 | M47: {=IF(COLUMNS('Det0031'!$C:D)<=COUNTIF(Code,$C47),INDEX(TAG,SMALL(IF(Code=$C47,ROW(INDIRECT("1:"&ROWS(TAG)))),COLUMNS($C:D))),"")} | N47: {=IF(COLUMNS('Det0031'!$C:E)<=COUNTIF(Code,$C47),INDEX(TAG,SMALL(IF(Code=$C47,ROW(INDIRECT("1:"&ROWS(TAG)))),COLUMNS($C:E))),"")}
A48: 170 | C48: 510100952 | D48: A/B | E48: -1 | F48: 4 | G48: 5 | L48: {=IF(COLUMNS('Det0031'!$C:C)<=COUNTIF(Code,$C48),INDEX(TAG,SMALL(IF(Code=$C48,ROW(INDIRECT("1:"&ROWS(TAG)))),COLUMNS($C:C))),"")} -> 6009 | M48: {=IF(COLUMNS('Det0031'!$C:D)<=COUNTIF(Code,$C48),INDEX(TAG,SMALL(IF(Code=$C48,ROW(INDIRECT("1:"&ROWS(TAG)))),COLUMNS($C:D))),"")} | N48: {=IF(COLUMNS('Det0031'!$C:E)<=COUNTIF(Code,$C48),INDEX(TAG,SMALL(IF(Code=$C48,ROW(INDIRECT("1:"&ROWS(TAG)))),COLUMNS($C:E))),"")}
A49: 170 | C49: 11764095 | D49: Kanji | E49: 5 | F49: 2 | G49: -3 | L49: {=IF(COLUMNS('Det0031'!$C:C)<=COUNTIF(Code,$C49),INDEX(TAG,SMALL(IF(Code=$C49,ROW(INDIRECT("1:"&ROWS(TAG)))),COLUMNS($C:C))),"")} -> 6001 | M49: {=IF(COLUMNS('Det0031'!$C:D)<=COUNTIF(Code,$C49),INDEX(TAG,SMALL(IF(Code=$C49,ROW(INDIRECT("1:"&ROWS(TAG)))),COLUMNS($C:D))),"")} -> 6010 | N49: {=IF(COLUMNS('Det0031'!$C:E)<=COUNTIF(Code,$C49),INDEX(TAG,SMALL(IF(Code=$C49,ROW(INDIRECT("1:"&ROWS(TAG)))),COLUMNS($C:E))),"")}
A50: 170 | C50: 510100966 | D50: Bends (The) | E50: 6 | F50: 1 | G50: -5 | L50: {=IF(COLUMNS('Det0031'!$C:C)<=COUNTIF(Code,$C50),INDEX(TAG,SMALL(IF(Code=$C50,ROW(INDIRECT("1:"&ROWS(TAG)))),COLUMNS($C:C))),"")} -> 6001 | M50: {=IF(COLUMNS('Det0031'!$C:D)<=COUNTIF(Code,$C50),INDEX(TAG,SMALL(IF(Code=$C50,ROW(INDIRECT("1:"&ROWS(TAG)))),COLUMNS($C:D))),"")} -> 6011 | N50: {=IF(COLUMNS('Det0031'!$C:E)<=COUNTIF(Code,$C50),INDEX(TAG,SMALL(IF(Code=$C50,ROW(INDIRECT("1:"&ROWS(TAG)))),COLUMNS($C:E))),"")}
...
