Workbook
Name Segment_Mois: #N/A

Sheet Absences élèves
C1: Ma | D1: Me | E1: Je | F1: Ve | G1: Sa | H1: Di | I1: Lu | J1: Ma | K1: Me | L1: Je | M1: Ve | N1: Sa | O1: Di | P1: Lu | Q1: Ma | R1: Me | S1: Je | T1: Ve | U1: Sa | V1: Di | W1: Lu | X1: Ma | Y1: Me | Z1: Je | AA1: Ve | AB1: Sa | AC1: Di | AD1: Lu | AE1: Ma | AF1: Me | AG1: Je | AH1: Ve | AI1: Sa | AJ1: Di | AK1: Lu | AL1: Ma | AM1: Me | AN1: Je | AO1: Ve | AP1: Sa | AQ1: Di | AR1: Lu | AS1: Ma | AT1: Me | AU1: Je | AV1: Ve | AW1: Sa | AX1: Di | AY1: Lu | AZ1: Ma | BA1: Me | BB1: Je | BC1: Ve | BD1: Sa | BE1: Di | BF1: Lu | BG1: Ma | BH1: Me | BI1: Je | BJ1: Ve | BK1: Sa | BL1: Di | BM1: Lu | BN1: Ma | BO1: Me | BP1: Je | BQ1: Ve | BR1: Sa | BS1: Di | BT1: Lu | BU1: Ma | BV1: Me | BW1: Je | BX1: Ve | BY1: Sa | BZ1: Di | CA1: Lu | CB1: Ma | CC1: Me | CD1: Je | CE1: Ve | CF1: Sa | CG1: Di | CH1: Lu | CI1: Ma | CJ1: Me | CK1: Je | CL1: Ve | CM1: Sa | CN1: Di | CO1: Lu | CP1: Ma | CQ1: Me | CR1: Je | CS1: Ve | CT1: Sa | CU1: Di | CV1: Lu | CW1: Ma | CX1: Me | CY1: Je | CZ1: Ve | DA1: Sa | DB1: Di | DC1: Lu | DD1: Ma | DE1: Me | DF1: Je | DG1: Ve | DH1: Sa | DI1: Di | DJ1: Lu | DK1: Ma | DL1: Me | DM1: Je | DN1: Ve | DO1: Sa | DP1: Di | DQ1: Lu | DR1: Ma | DS1: Me | DT1: Je | DU1: Ve | DV1: Sa | DW1: Di | DX1: Lu | DY1: Ma | DZ1: Me | EA1: Je | EB1: Ve | EC1: Sa | ED1: Di | EE1: Lu | EF1: Ma | EG1: Me | EH1: Je | EI1: Ve | EJ1: Sa | EK1: Di | EL1: Lu | EM1: Ma | EN1: Me | EO1: Je | EP1: Ve | EQ1: Sa | ER1: Di | ES1: Lu | ET1: Ma | EU1: Me | EV1: Je | EW1: Ve | EX1: Sa | EY1: Di | EZ1: Lu | FA1: Ma | FB1: Me | FC1: Je | FD1: Ve | FE1: Sa | FF1: Di | FG1: Lu | FH1: Ma | FI1: Me | FJ1: Je | FK1: Ve | FL1: Sa | FM1: Di | FN1: Lu | FO1: Ma | FP1: Me | FQ1: Je | FR1: Ve | FS1: Sa | FT1: Di | FU1: Lu | FV1: Ma | FW1: Me | FX1: Je | FY1: Ve | FZ1: Sa | GA1: Di | GB1: Lu | GC1: Ma | GD1: Me | GE1: Je | GF1: Ve | GG1: Sa | GH1: Di | GI1: Lu | GJ1: Ma | GK1: Me | GL1: Je | GM1: Ve | GN1: Sa | GO1: Di | GP1: Lu | GQ1: Ma | GR1: Me | GS1: Je | GT1: Ve | GU1: Sa | GV1: Di | GW1: Lu | GX1: Ma | GY1: Me | GZ1: Je | HA1: Ve | HB1: Sa | HC1: Di | HD1: Lu | HE1: Ma | HF1: Me | HG1: Je | HH1: Ve | HI1: Sa | HJ1: Di | HK1: Lu | HL1: Ma | HM1: Me | HN1: Je | HO1: Ve | HP1: Sa | HQ1: Di | HR1: Lu | HS1: Ma | HT1: Me | HU1: Je | HV1: Ve | HW1: Sa | HX1: Di | HY1: Lu | HZ1: Ma | IA1: Me | IB1: Je | IC1: Ve | ID1: Sa | IE1: Di | IF1: Lu | IG1: Ma | IH1: Me | II1: Je | IJ1: Ve | IK1: Sa | IL1: Di | IM1: Lu | IN1: Ma | IO1: Me | IP1: Je | IQ1: Ve | IR1: Sa | IS1: Di | IT1: Lu | IU1: Ma | IV1: Me | IW1: Je | IX1: Ve | IY1: Sa | IZ1: Di | JA1: Lu | JB1: Ma | JC1: Me | JD1: Je | JE1: Ve | JF1: Sa | JG1: Di | JH1: Lu | JI1: Ma | JJ1: Me | JK1: Je | JL1: Ve | JM1: Sa | JN1: Di | JO1: Lu | JP1: Ma | JQ1: Me | JR1: Je | JS1: Ve | JT1: Sa | JU1: Di | JV1: Lu | JW1: Ma | JX1: Me | JY1: Je | JZ1: Ve | KA1: Sa | KB1: Di | KC1: Lu | KD1: Ma | KE1: Me | KF1: Je | KG1: Ve | KH1: Sa | KI1: Di | KJ1: Lu | KK1: Ma | KL1: Me | KM1: Je | KN1: Ve | KO1: Sa | KP1: Di
A2: NOM | C2: 43347 | D2: 43348 | E2: 43349 | F2: 43350 | G2: 43351 | H2: 43352 | I2: 43353 | J2: 43354 | K2: 43355 | L2: 43356 | M2: 43357 | N2: 43358 | O2: 43359 | P2: 43360 | Q2: 43361 | R2: 43362 | S2: 43363 | T2: 43364 | U2: 43365 | V2: 43366 | W2: 43367 | X2: 43368 | Y2: 43369 | Z2: 43370 | AA2: 43371 | AB2: 43372 | AC2: 43373 | AD2: 43374 | AE2: 43375 | AF2: 43376 | AG2: 43377 | AH2: 43378 | AI2: 43379 | AJ2: 43380 | AK2: 43381 | AL2: 43382 | AM2: 43383 | AN2: 43384 | AO2: 43385 | AP2: 43386 | AQ2: 43387 | AR2: 43388 | AS2: 43389 | AT2: 43390 | AU2: 43391 | AV2: 43392 | AW2: 43393 | AX2: 43394 | AY2: 43395 | AZ2: 43396 | BA2: 43397 | BB2: 43398 | BC2: 43399 | BD2: 43400 | BE2: 43401 | BF2: 43402 | BG2: 43403 | BH2: 43404 | BI2: 43405 | BJ2: 43406 | BK2: 43407 | BL2: 43408 | BM2: 43409 | BN2: 43410 | BO2: 43411 | BP2: 43412 | BQ2: 43413 | BR2: 43414 | BS2: 43415 | BT2: 43416 | BU2: 43417 | BV2: 43418 | BW2: 43419 | BX2: 43420 | BY2: 43421 | BZ2: 43422 | CA2: 43423 | CB2: 43424 | CC2: 43425 | CD2: 43426 | CE2: 43427 | CF2: 43428 | CG2: 43429 | CH2: 43430 | CI2: 43431 | CJ2: 43432 | CK2: 43433 | CL2: 43434 | CM2: 43435 | CN2: 43436 | CO2: 43437 | CP2: 43438 | CQ2: 43439 | CR2: 43440 | CS2: 43441 | CT2: 43442 | CU2: 43443 | CV2: 43444 | CW2: 43445 | CX2: 43446 | CY2: 43447 | CZ2: 43448 | DA2: 43449 | DB2: 43450 | DC2: 43451 | DD2: 43452 | DE2: 43453 | DF2: 43454 | DG2: 43455 | DH2: 43456 | DI2: 43457 | DJ2: 43458 | DK2: 43459 | DL2: 43460 | DM2: 43461 | DN2: 43462 | DO2: 43463 | DP2: 43464 | DQ2: 43465 | DR2: 43466 | DS2: 43467 | DT2: 43468 | DU2: 43469 | DV2: 43470 | DW2: 43471 | DX2: 43472 | DY2: 43473 | DZ2: 43474 | EA2: 43475 | EB2: 43476 | EC2: 43477 | ED2: 43478 | EE2: 43479 | EF2: 43480 | EG2: 43481 | EH2: 43482 | EI2: 43483 | EJ2: 43484 | EK2: 43485 | EL2: 43486 | EM2: 43487 | EN2: 43488 | EO2: 43489 | EP2: 43490 | EQ2: 43491 | ER2: 43492 | ES2: 43493 | ET2: 43494 | EU2: 43495 | EV2: 43496 | EW2: 43497 | EX2: 43498 | EY2: 43499 | EZ2: 43500 | FA2: 43501 | FB2: 43502 | FC2: 43503 | FD2: 43504 | FE2: 43505 | FF2: 43506 | FG2: 43507 | FH2: 43508 | FI2: 43509 | FJ2: 43510 | FK2: 43511 | FL2: 43512 | FM2: 43513 | FN2: 43514 | FO2: 43515 | FP2: 43516 | FQ2: 43517 | FR2: 43518 | FS2: 43519 | FT2: 43520 | FU2: 43521 | FV2: 43522 | FW2: 43523 | FX2: 43524 | FY2: 43525 | FZ2: 43526 | GA2: 43527 | GB2: 43528 | GC2: 43529 | GD2: 43530 | GE2: 43531 | GF2: 43532 | GG2: 43533 | GH2: 43534 | GI2: 43535 | GJ2: 43536 | GK2: 43537 | GL2: 43538 | GM2: 43539 | GN2: 43540 | GO2: 43541 | GP2: 43542 | GQ2: 43543 | GR2: 43544 | GS2: 43545 | GT2: 43546 | GU2: 43547 | GV2: 43548 | GW2: 43549 | GX2: 43550 | GY2: 43551 | GZ2: 43552 | HA2: 43553 | HB2: 43554 | HC2: 43555 | HD2: 43556 | HE2: 43557 | HF2: 43558 | HG2: 43559 | HH2: 43560 | HI2: 43561 | HJ2: 43562 | HK2: 43563 | HL2: 43564 | HM2: 43565 | HN2: 43566 | HO2: 43567 | HP2: 43568 | HQ2: 43569 | HR2: 43570 | HS2: 43571 | HT2: 43572 | HU2: 43573 | HV2: 43574 | HW2: 43575 | HX2: 43576 | HY2: 43577 | HZ2: 43578 | IA2: 43579 | IB2: 43580 | IC2: 43581 | ID2: 43582 | IE2: 43583 | IF2: 43584 | IG2: 43585 | IH2: 43586 | II2: 43587 | IJ2: 43588 | IK2: 43589 | IL2: 43590 | IM2: 43591 | IN2: 43592 | IO2: 43593 | IP2: 43594 | IQ2: 43595 | IR2: 43596 | IS2: 43597 | IT2: 43598 | IU2: 43599 | IV2: 43600 | IW2: 43601 | IX2: 43602 | IY2: 43603 | IZ2: 43604 | JA2: 43605 | JB2: 43606 | JC2: 43607 | JD2: 43608 | JE2: 43609 | JF2: 43610 | JG2: 43611 | JH2: 43612 | JI2: 43613 | JJ2: 43614 | JK2: 43615 | JL2: 43616 | JM2: 43617 | JN2: 43618 | JO2: 43619 | JP2: 43620 | JQ2: 43621 | JR2: 43622 | JS2: 43623 | JT2: 43624 | JU2: 43625 | JV2: 43626 | JW2: 43627 | JX2: 43628 | JY2: 43629 | JZ2: 43630 | KA2: 43631 | KB2: 43632 | KC2: 43633 | KD2: 43634 | KE2: 43635 | KF2: 43636 | KG2: 43637 | KH2: 43638 | KI2: 43639 | KJ2: 43640 | KK2: 43641 | KL2: 43642 | KM2: 43643 | KN2: 43644 | KO2: 43645 | KP2: 43646 | KQ2: Total des absences | KR2: NOM
A3: Nom de famille | B3: Prénom | KQ3: =SUM(C3:KP3) -> 0 | KR3: Antonietti | KS3: Marco
A4: Nom de famille | B4: Prénom | D4: d | KQ4: =SUM(C4:KP4) -> 0 | KR4: Antonietti | KS4: Charles
A5: Nom de famille | B5: Prénom | KQ5: =SUM(C5:KP5) -> 0 | KR5: Antonietti | KS5: Sofia
A6: Nom de famille | B6: Prénom | KQ6: =SUM(C6:KP6) -> 0 | KR6: Arena | KS6: Valentina
A7: Nom de famille | B7: Prénom | KQ7: =SUM(C7:KP7) -> 0 | KR7: Aung | KS7: William
A8: Nom de famille | B8: Prénom | KQ8: =SUM(C8:KP8) -> 0 | KR8: Aung | KS8: Juliette
A9: Nom de famille | B9: Prénom | KQ9: =SUM(C9:KP9) -> 0 | KR9: Bernardi | KS9: Luca
A10: Nom de famille | B10: Prénom | KQ10: =SUM(C10:KP10) -> 0 | KR10: Bonzon | KS10: Seyan
A11: Nom de famille | B11: Prénom | KQ11: =SUM(C11:KP11) -> 0 | KR11: Brugger | KS11: Fabien
A12: Nom de famille | B12: Prénom | KQ12: =SUM(C12:KP12) -> 0 | KR12: Cherubini | KS12: Max Tiger
A13: Nom de famille | B13: Prénom | KQ13: =SUM(C13:KP13) -> 0 | KR13: Chougny | KS13: Léa
A14: Nom de famille | B14: Prénom | KQ14: =SUM(C14:KP14) -> 0 | KR14: Dekoninck | KS14: Mathis
A15: Nom de famille | B15: Prénom | KQ15: =SUM(C15:KP15) -> 0 | KR15: Dietrich | KS15: Jill
A16: Nom de famille | B16: Prénom | KQ16: =SUM(C16:KP16) -> 0 | KR16: Dietrich | KS16: Léo
... A50: Nom de famille | B50: Prénom | KQ50: =SUM(C50:KP50) -> 0 | KR50: Shortt | KS50: Erika
A51: Nom de famille | B51: Prénom | DZ51: d | EA51: m | KQ51: =SUM(C51:KP51) -> 0 | KR51: Shortt | KS51: Zachary
A52: Nom de famille | B52: Prénom | KQ52: =SUM(C52:KP52) -> 0 | KR52: Tison | KS52: Emilien
A53: Nom de famille | B53: Prénom | KQ53: =SUM(C53:KP53) -> 0 | KR53: Tison | KS53: Lucien
A54: Nom de famille | B54: Prénom | KQ54: =SUM(C54:KP54) -> 0 | KR54: Touloumtzoglou | KS54: Gisèle
A55: Nom de famille | B55: Prénom | KQ55: =SUM(C55:KP55) -> 0 | KR55: Touloumtzoglou | KS55: Léonidas
A56: Nom de famille | B56: Prénom | KQ56: =SUM(C56:KP56) -> 0 | KR56: Wohlwend | KS56: Clémence
B59: D | C59: Devoirs surveillés (15h15 - 17h30) | K59: =2950/36/4 -> 20.486111
B60: G | C60: Garderie (17h30 - 18h30 | K60: =1800/36/4 -> 12.5
B61: M | C61: Mercredi après-midi | K61: =5000/36 -> 138.88889

Sheet Récap
A1: Mois | B1: D | C1: G | D1: M
A2: =DATE(YEAR(TODAY())+1,ROW()-1,1) -> 43466 | B2: =SUMPRODUCT((MONTH('Absences élèves'!$C$2:$KP$2)=MONTH($A2))*('Absences élèves'!$C$3:$KP$56="D"))*'Absences élèves'!$K$59 -> 20.486111 | C2: =SUMPRODUCT((MONTH('Absences élèves'!$C$2:$KP$2)=MONTH($A2))*('Absences élèves'!$C$3:$KP$56="G"))*'Absences élèves'!$K$60 -> 0 | D2: =SUMPRODUCT((MONTH('Absences élèves'!$C$2:$KP$2)=MONTH($A2))*('Absences élèves'!$C$3:$KP$56="M"))*'Absences élèves'!$K$61 -> 138.88889
A3: =DATE(YEAR(TODAY())+1,ROW()-1,1) -> 43497 | B3: =SUMPRODUCT((MONTH('Absences élèves'!$C$2:$KP$2)=MONTH($A3))*('Absences élèves'!$C$3:$KP$56="D"))*'Absences élèves'!$K$59 -> 0 | C3: =SUMPRODUCT((MONTH('Absences élèves'!$C$2:$KP$2)=MONTH($A3))*('Absences élèves'!$C$3:$KP$56="G"))*'Absences élèves'!$K$60 -> 0 | D3: =SUMPRODUCT((MONTH('Absences élèves'!$C$2:$KP$2)=MONTH($A3))*('Absences élèves'!$C$3:$KP$56="M"))*'Absences élèves'!$K$61 -> 0
A4: =DATE(YEAR(TODAY())+1,ROW()-1,1) -> 43525 | B4: =SUMPRODUCT((MONTH('Absences élèves'!$C$2:$KP$2)=MONTH($A4))*('Absences élèves'!$C$3:$KP$56="D"))*'Absences élèves'!$K$59 -> 0 | C4: =SUMPRODUCT((MONTH('Absences élèves'!$C$2:$KP$2)=MONTH($A4))*('Absences élèves'!$C$3:$KP$56="G"))*'Absences élèves'!$K$60 -> 0 | D4: =SUMPRODUCT((MONTH('Absences élèves'!$C$2:$KP$2)=MONTH($A4))*('Absences élèves'!$C$3:$KP$56="M"))*'Absences élèves'!$K$61 -> 0
A5: =DATE(YEAR(TODAY())+1,ROW()-1,1) -> 43556 | B5: =SUMPRODUCT((MONTH('Absences élèves'!$C$2:$KP$2)=MONTH($A5))*('Absences élèves'!$C$3:$KP$56="D"))*'Absences élèves'!$K$59 -> 0 | C5: =SUMPRODUCT((MONTH('Absences élèves'!$C$2:$KP$2)=MONTH($A5))*('Absences élèves'!$C$3:$KP$56="G"))*'Absences élèves'!$K$60 -> 0 | D5: =SUMPRODUCT((MONTH('Absences élèves'!$C$2:$KP$2)=MONTH($A5))*('Absences élèves'!$C$3:$KP$56="M"))*'Absences élèves'!$K$61 -> 0
A6: =DATE(YEAR(TODAY())+1,ROW()-1,1) -> 43586 | B6: =SUMPRODUCT((MONTH('Absences élèves'!$C$2:$KP$2)=MONTH($A6))*('Absences élèves'!$C$3:$KP$56="D"))*'Absences élèves'!$K$59 -> 0 | C6: =SUMPRODUCT((MONTH('Absences élèves'!$C$2:$KP$2)=MONTH($A6))*('Absences élèves'!$C$3:$KP$56="G"))*'Absences élèves'!$K$60 -> 0 | D6: =SUMPRODUCT((MONTH('Absences élèves'!$C$2:$KP$2)=MONTH($A6))*('Absences élèves'!$C$3:$KP$56="M"))*'Absences élèves'!$K$61 -> 0
A7: =DATE(YEAR(TODAY())+1,ROW()-1,1) -> 43617 | B7: =SUMPRODUCT((MONTH('Absences élèves'!$C$2:$KP$2)=MONTH($A7))*('Absences élèves'!$C$3:$KP$56="D"))*'Absences élèves'!$K$59 -> 0 | C7: =SUMPRODUCT((MONTH('Absences élèves'!$C$2:$KP$2)=MONTH($A7))*('Absences élèves'!$C$3:$KP$56="G"))*'Absences élèves'!$K$60 -> 0 | D7: =SUMPRODUCT((MONTH('Absences élèves'!$C$2:$KP$2)=MONTH($A7))*('Absences élèves'!$C$3:$KP$56="M"))*'Absences élèves'!$K$61 -> 0
A8: =DATE(YEAR(TODAY())+1,ROW()-1,1) -> 43647 | B8: =SUMPRODUCT((MONTH('Absences élèves'!$C$2:$KP$2)=MONTH($A8))*('Absences élèves'!$C$3:$KP$56="D"))*'Absences élèves'!$K$59 -> 0 | C8: =SUMPRODUCT((MONTH('Absences élèves'!$C$2:$KP$2)=MONTH($A8))*('Absences élèves'!$C$3:$KP$56="G"))*'Absences élèves'!$K$60 -> 0 | D8: =SUMPRODUCT((MONTH('Absences élèves'!$C$2:$KP$2)=MONTH($A8))*('Absences élèves'!$C$3:$KP$56="M"))*'Absences élèves'!$K$61 -> 0
A9: =DATE(YEAR(TODAY())+1,ROW()-1,1) -> 43678 | B9: =SUMPRODUCT((MONTH('Absences élèves'!$C$2:$KP$2)=MONTH($A9))*('Absences élèves'!$C$3:$KP$56="D"))*'Absences élèves'!$K$59 -> 0 | C9: =SUMPRODUCT((MONTH('Absences élèves'!$C$2:$KP$2)=MONTH($A9))*('Absences élèves'!$C$3:$KP$56="G"))*'Absences élèves'!$K$60 -> 0 | D9: =SUMPRODUCT((MONTH('Absences élèves'!$C$2:$KP$2)=MONTH($A9))*('Absences élèves'!$C$3:$KP$56="M"))*'Absences élèves'!$K$61 -> 0
A10: =DATE(YEAR(TODAY())+1,ROW()-1,1) -> 43709 | B10: =SUMPRODUCT((MONTH('Absences élèves'!$C$2:$KP$2)=MONTH($A10))*('Absences élèves'!$C$3:$KP$56="D"))*'Absences élèves'!$K$59 -> 20.486111 | C10: =SUMPRODUCT((MONTH('Absences élèves'!$C$2:$KP$2)=MONTH($A10))*('Absences élèves'!$C$3:$KP$56="G"))*'Absences élèves'!$K$60 -> 0 | D10: =SUMPRODUCT((MONTH('Absences élèves'!$C$2:$KP$2)=MONTH($A10))*('Absences élèves'!$C$3:$KP$56="M"))*'Absences élèves'!$K$61 -> 0
A11: =DATE(YEAR(TODAY())+1,ROW()-1,1) -> 43739 | B11: =SUMPRODUCT((MONTH('Absences élèves'!$C$2:$KP$2)=MONTH($A11))*('Absences élèves'!$C$3:$KP$56="D"))*'Absences élèves'!$K$59 -> 0 | C11: =SUMPRODUCT((MONTH('Absences élèves'!$C$2:$KP$2)=MONTH($A11))*('Absences élèves'!$C$3:$KP$56="G"))*'Absences élèves'!$K$60 -> 0 | D11: =SUMPRODUCT((MONTH('Absences élèves'!$C$2:$KP$2)=MONTH($A11))*('Absences élèves'!$C$3:$KP$56="M"))*'Absences élèves'!$K$61 -> 0
A12: =DATE(YEAR(TODAY())+1,ROW()-1,1) -> 43770 | B12: =SUMPRODUCT((MONTH('Absences élèves'!$C$2:$KP$2)=MONTH($A12))*('Absences élèves'!$C$3:$KP$56="D"))*'Absences élèves'!$K$59 -> 0 | C12: =SUMPRODUCT((MONTH('Absences élèves'!$C$2:$KP$2)=MONTH($A12))*('Absences élèves'!$C$3:$KP$56="G"))*'Absences élèves'!$K$60 -> 0 | D12: =SUMPRODUCT((MONTH('Absences élèves'!$C$2:$KP$2)=MONTH($A12))*('Absences élèves'!$C$3:$KP$56="M"))*'Absences élèves'!$K$61 -> 0
A13: =DATE(YEAR(TODAY())+1,ROW()-1,1) -> 43800 | B13: =SUMPRODUCT((MONTH('Absences élèves'!$C$2:$KP$2)=MONTH($A13))*('Absences élèves'!$C$3:$KP$56="D"))*'Absences élèves'!$K$59 -> 0 | C13: =SUMPRODUCT((MONTH('Absences élèves'!$C$2:$KP$2)=MONTH($A13))*('Absences élèves'!$C$3:$KP$56="G"))*'Absences élèves'!$K$60 -> 0 | D13: =SUMPRODUCT((MONTH('Absences élèves'!$C$2:$KP$2)=MONTH($A13))*('Absences élèves'!$C$3:$KP$56="M"))*'Absences élèves'!$K$61 -> 0
A14: 1er Trimestre | B14: =SUM(B2:B4) -> 20.486111 | C14: =SUM(C2:C4) -> 0 | D14: =SUM(D2:D4) -> 138.88889
A15: 2e Trimestre | B15: =SUM(B5:B7) -> 0 | C15: =SUM(C5:C7) -> 0 | D15: =SUM(D5:D7) -> 0
A16: 3e Trimestre | B16: =SUM(B8:B10) -> 20.486111 | C16: =SUM(C8:C10) -> 0 | D16: =SUM(D8:D10) -> 0
A17: 4e Trimestre | B17: =SUM(B11:B13) -> 0 | C17: =SUM(C11:C13) -> 0 | D17: =SUM(D11:D13) -> 0
A18: 1er Semestre | B18: =SUM(B14:B15) -> 20.486111 | C18: =SUM(C14:C15) -> 0 | D18: =SUM(D14:D15) -> 138.88889
A19: 2e Semestre | B19: =SUM(B16:B17) -> 20.486111 | C19: =SUM(C16:C17) -> 0 | D19: =SUM(D16:D17) -> 0
A20: Année | B20: =SUM(B18:B19) -> 40.972222 | C20: =SUM(C18:C19) -> 0 | D20: =SUM(D18:D19) -> 138.88889
