Workbook

Sheet Roulement 
B1: Semaine 01 | W1: Semaine 02 | AR1: Semaine 03 | BM1: Semaine 04 | CH1: Semaine 05 | DC1: Semaine 06 | DX1: Semaine 07
B2: Lundi | E2: Mardi | H2: Mercredi | K2: Jeudi | N2: Vendredi | Q2: Samedi | T2: Dimanche | W2: Lundi | Z2: Mardi | AC2: Mercredi | AF2: Jeudi | AI2: Vendredi | AL2: Samedi | AO2: Dimanche | AR2: Lundi | AU2: Mardi | AX2: Mercredi | BA2: Jeudi | BD2: Vendredi | BG2: Samedi | BJ2: Dimanche | BM2: Lundi | BP2: Mardi | BS2: Mercredi | BV2: Jeudi | BY2: Vendredi | CB2: Samedi | CE2: Dimanche | CH2: Lundi | CK2: Mardi | CN2: Mercredi | CQ2: Jeudi | CT2: Vendredi | CW2: Samedi | CZ2: Dimanche | DC2: Lundi | DF2: Mardi | DI2: Mercredi | DL2: Jeudi | DO2: Vendredi | DR2: Samedi | DU2: Dimanche | DX2: Lundi | EA2: Mardi | ED2: Mercredi | EG2: Jeudi | EJ2: Vendredi | EM2: Samedi | EP2: Dimanche
A3: Myriame | B3: 0.29166667 | C3: 0.58333333 | D3: =C3-B3 -> 0.29166667 | E3: 0.29166667 | F3: 0.58333333 | G3: =F3-E3 -> 0.29166667 | H3: 0 | I3: 0 | J3: =I3-H3 -> 0 | K3: 0.29166667 | L3: 0.58333333 | M3: =L3-K3 -> 0.29166667 | N3: 0.29166667 | O3: 0.58333333 | P3: =O3-N3 -> 0.29166667 | Q3: 0.29166667 | R3: 0.58333333 | S3: =R3-Q3 -> 0.29166667 | T3: 0.29166667 | U3: 0.58333333 | V3: =U3-T3 -> 0.29166667 | W3: 0.29166667 | X3: 0.58333333 | Y3: =X3-W3 -> 0.29166667 | Z3: 0 | AA3: 0 | AB3: =AA3-Z3 -> 0 | AC3: 0.58333333 | AD3: 0.875 | AE3: =AD3-AC3 -> 0.29166667 | AF3: 0.58333333 | AG3: 0.875 | AH3: =AG3-AF3 -> 0.29166667 | AI3: 0.58333333 | AJ3: 0.875 | AK3: =AJ3-AI3 -> 0.29166667 | AL3: 0 | AM3: 0 | AN3: =AM3-AL3 -> 0 | AO3: 0 | AP3: 0 | AQ3: =AP3-AO3 -> 0 | AR3: 0.58333333 | AS3: 0.875 | AT3: =AS3-AR3 -> 0.29166667 | AU3: 0.58333333 | AV3: 0.875 | AW3: =AV3-AU3 -> 0.29166667 | AX3: 0.58333333 | AY3: 0.875 | AZ3: =AY3-AX3 -> 0.29166667 | BA3: 0 | BB3: 0 | BC3: =BB3-BA3 -> 0 | BD3: 0.58333333 | BE3: 0.875 | BF3: =BE3-BD3 -> 0.29166667 | BG3: 0.58333333 | BH3: 0.875 | BI3: =BH3-BG3 -> 0.29166667 | BJ3: 0.58333333 | BK3: 0.875 | BL3: =BK3-BJ3 -> 0.29166667 | BM3: 0 | BN3: 0 | BO3: =BN3-BM3 -> 0 | BP3: 0.29166667 | BQ3: 0.58333333 | BR3: =BQ3-BP3 -> 0.29166667 | BS3: 0.29166667 | BT3: 0.58333333 | BU3: =BT3-BS3 -> 0.29166667 | BV3: 0.29166667 | BW3: 0.58333333 | BX3: =BW3-BV3 -> 0.29166667 | BY3: 0.29166667 | BZ3: 0.58333333 | CA3: =BZ3-BY3 -> 0.29166667 | CB3: 0 | CC3: 0 | CD3: =CC3-CB3 -> 0 | CE3: 0 | CF3: 0 | CG3: =CF3-CE3 -> 0 | CH3: 0.58333333 | CI3: 0.875 | CJ3: =CI3-CH3 -> 0.29166667 | CK3: 0.58333333 | CL3: 0.875 | CM3: =CL3-CK3 -> 0.29166667 | CN3: 0 | CO3: 0 | CP3: =CO3-CN3 -> 0 | CQ3: 0.58333333 | CR3: 0.875 | CS3: =CR3-CQ3 -> 0.29166667 | CT3: 0.58333333 | CU3: 0.875 | CV3: =CU3-CT3 -> 0.29166667 | CW3: 0.58333333 | CX3: 0.875 | CY3: =CX3-CW3 -> 0.29166667 | CZ3: 0.58333333 | DA3: 0.875 | DB3: =DA3-CZ3 -> 0.29166667 | DC3: 0 | DD3: 0 | DE3: =DD3-DC3 -> 0 | DF3: 0.29166667 | DG3: 0.58333333 | DH3: =DG3-DF3 -> 0.29166667 | DI3: 0.29166667 | DJ3: 0.58333333 | DK3: =DJ3-DI3 -> 0.29166667 | DL3: 0.29166667 | DM3: 0.58333333 | DN3: =DM3-DL3 -> 0.29166667 | DO3: 0.29166667 | DP3: 0.58333333 | DQ3: =DP3-DO3 -> 0.29166667 | DR3: 0 | DS3: 0 | DT3: =DS3-DR3 -> 0 | DU3: 0 | DV3: 0 | DW3: =DV3-DU3 -> 0 | DX3: 0.29166667 | DY3: 0.58333333 | DZ3: =DY3-DX3 -> 0.29166667 | EA3: 0.29166667 | EB3: 0.58333333 | EC3: =EB3-EA3 -> 0.29166667 | ED3: 0.29166667 | EE3: 0.58333333 | EF3: =EE3-ED3 -> 0.29166667 | EG3: 0 | EH3: 0 | EI3: =EH3-EG3 -> 0 | EJ3: 0 | EK3: 0 | EL3: =EK3-EJ3 -> 0 | EM3: 0.29166667 | EN3: 0.58333333 | EO3: =EN3-EM3 -> 0.29166667 | EP3: 0.29166667 | EQ3: 0.58333333 | ER3: =EQ3-EP3 -> 0.29166667
A4: Stéphane | B4: 0.29166667 | C4: 0.58333333 | D4: =C4-B4 -> 0.29166667 | E4: 0 | F4: 0 | G4: =F4-E4 -> 0 | H4: 0.58333333 | I4: 0.875 | J4: =I4-H4 -> 0.29166667 | K4: 0.58333333 | L4: 0.875 | M4: =L4-K4 -> 0.29166667 | N4: 0.58333333 | O4: 0.875 | P4: =O4-N4 -> 0.29166667 | Q4: 0 | R4: 0 | S4: =R4-Q4 -> 0 | T4: 0 | U4: 0 | V4: =U4-T4 -> 0 | W4: 0.58333333 | X4: 0.875 | Y4: =X4-W4 -> 0.29166667 | Z4: 0.58333333 | AA4: 0.875 | AB4: =AA4-Z4 -> 0.29166667 | AC4: 0.58333333 | AD4: 0.875 | AE4: =AD4-AC4 -> 0.29166667 | AF4: 0 | AG4: 0 | AH4: =AG4-AF4 -> 0 | AI4: 0.58333333 | AJ4: 0.875 | AK4: =AJ4-AI4 -> 0.29166667 | AL4: 0.58333333 | AM4: 0.875 | AN4: =AM4-AL4 -> 0.29166667 | AO4: 0.58333333 | AP4: 0.875 | AQ4: =AP4-AO4 -> 0.29166667 | AR4: 0 | AS4: 0 | AT4: =AS4-AR4 -> 0 | AU4: 0.29166667 | AV4: 0.58333333 | AW4: =AV4-AU4 -> 0.29166667 | AX4: 0.29166667 | AY4: 0.58333333 | AZ4: =AY4-AX4 -> 0.29166667 | BA4: 0.29166667 | BB4: 0.58333333 | BC4: =BB4-BA4 -> 0.29166667 | BD4: 0.29166667 | BE4: 0.58333333 | BF4: =BE4-BD4 -> 0.29166667 | BG4: 0 | BH4: 0 | BI4: =BH4-BG4 -> 0 | BJ4: 0 | BK4: 0 | BL4: =BK4-BJ4 -> 0 | BM4: 0.58333333 | BN4: 0.875 | BO4: =BN4-BM4 -> 0.29166667 | BP4: 0.58333333 | BQ4: 0.875 | BR4: =BQ4-BP4 -> 0.29166667 | BS4: 0 | BT4: 0 | BU4: =BT4-BS4 -> 0 | BV4: 0.58333333 | BW4: 0.875 | BX4: =BW4-BV4 -> 0.29166667 | BY4: 0.58333333 | BZ4: 0.875 | CA4: =BZ4-BY4 -> 0.29166667 | CB4: 0.58333333 | CC4: 0.875 | CD4: =CC4-CB4 -> 0.29166667 | CE4: 0.58333333 | CF4: 0.875 | CG4: =CF4-CE4 -> 0.29166667 | CH4: 0 | CI4: 0 | CJ4: =CI4-CH4 -> 0 | CK4: 0.29166667 | CL4: 0.58333333 | CM4: =CL4-CK4 -> 0.29166667 | CN4: 0.29166667 | CO4: 0.58333333 | CP4: =CO4-CN4 -> 0.29166667 | CQ4: 0.29166667 | CR4: 0.58333333 | CS4: =CR4-CQ4 -> 0.29166667 | CT4: 0.29166667 | CU4: 0.58333333 | CV4: =CU4-CT4 -> 0.29166667 | CW4: 0 | CX4: 0 | CY4: =CX4-CW4 -> 0 | CZ4: 0 | DA4: 0 | DB4: =DA4-CZ4 -> 0 | DC4: 0.29166667 | DD4: 0.58333333 | DE4: =DD4-DC4 -> 0.29166667 | DF4: 0.29166667 | DG4: 0.58333333 | DH4: =DG4-DF4 -> 0.29166667 | DI4: 0.29166667 | DJ4: 0.58333333 | DK4: =DJ4-DI4 -> 0.29166667 | DL4: 0 | DM4: 0 | DN4: =DM4-DL4 -> 0 | DO4: 0 | DP4: 0 | DQ4: =DP4-DO4 -> 0 | DR4: 0.29166667 | DS4: 0.58333333 | DT4: =DS4-DR4 -> 0.29166667 | DU4: 0.29166667 | DV4: 0.58333333 | DW4: =DV4-DU4 -> 0.29166667 | DX4: 0.29166667 | DY4: 0.58333333 | DZ4: =DY4-DX4 -> 0.29166667 | EA4: 0.29166667 | EB4: 0.58333333 | EC4: =EB4-EA4 -> 0.29166667 | ED4: 0 | EE4: 0 | EF4: =EE4-ED4 -> 0 | EG4: 0.29166667 | EH4: 0.58333333 | EI4: =EH4-EG4 -> 0.29166667 | EJ4: 0.29166667 | EK4: 0.58333333 | EL4: =EK4-EJ4 -> 0.29166667 | EM4: 0.29166667 | EN4: 0.58333333 | EO4: =EN4-EM4 -> 0.29166667 | EP4: 0.29166667 | EQ4: 0.58333333 | ER4: =EQ4-EP4 -> 0.29166667
A5: Marie Claude | B5: 0.58333333 | C5: 0.875 | D5: =C5-B5 -> 0.29166667 | E5: 0.58333333 | F5: 0.875 | G5: =F5-E5 -> 0.29166667 | H5: 0.58333333 | I5: 0.875 | J5: =I5-H5 -> 0.29166667 | K5: 0 | L5: 0 | M5: =L5-K5 -> 0 | N5: 0.58333333 | O5: 0.875 | P5: =O5-N5 -> 0.29166667 | Q5: 0.58333333 | R5: 0.875 | S5: =R5-Q5 -> 0.29166667 | T5: 0.58333333 | U5: 0.875 | V5: =U5-T5 -> 0.29166667 | W5: 0 | X5: 0 | Y5: =X5-W5 -> 0 | Z5: 0.29166667 | AA5: 0.58333333 | AB5: =AA5-Z5 -> 0.29166667 | AC5: 0.29166667 | AD5: 0.58333333 | AE5: =AD5-AC5 -> 0.29166667 | AF5: 0.29166667 | AG5: 0.58333333 | AH5: =AG5-AF5 -> 0.29166667 | AI5: 0.29166667 | AJ5: 0.58333333 | AK5: =AJ5-AI5 -> 0.29166667 | AL5: 0 | AM5: 0 | AN5: =AM5-AL5 -> 0 | AO5: 0 | AP5: 0 | AQ5: =AP5-AO5 -> 0 | AR5: 0.58333333 | AS5: 0.875 | AT5: =AS5-AR5 -> 0.29166667 | AU5: 0.58333333 | AV5: 0.875 | AW5: =AV5-AU5 -> 0.29166667 | AX5: 0 | AY5: 0 | AZ5: =AY5-AX5 -> 0 | BA5: 0.58333333 | BB5: 0.875 | BC5: =BB5-BA5 -> 0.29166667 | BD5: 0.58333333 | BE5: 0.875 | BF5: =BE5-BD5 -> 0.29166667 | BG5: 0.58333333 | BH5: 0.875 | BI5: =BH5-BG5 -> 0.29166667 | BJ5: 0.58333333 | BK5: 0.875 | BL5: =BK5-BJ5 -> 0.29166667 | BM5: 0 | BN5: 0 | BO5: =BN5-BM5 -> 0 | BP5: 0.29166667 | BQ5: 0.58333333 | BR5: =BQ5-BP5 -> 0.29166667 | BS5: 0.29166667 | BT5: 0.58333333 | BU5: =BT5-BS5 -> 0.29166667 | BV5: 0.29166667 | BW5: 0.58333333 | BX5: =BW5-BV5 -> 0.29166667 | BY5: 0.29166667 | BZ5: 0.58333333 | CA5: =BZ5-BY5 -> 0.29166667 | CB5: 0 | CC5: 0 | CD5: =CC5-CB5 -> 0 | CE5: 0 | CF5: 0 | CG5: =CF5-CE5 -> 0 | CH5: 0.29166667 | CI5: 0.58333333 | CJ5: =CI5-CH5 -> 0.29166667 | CK5: 0.29166667 | CL5: 0.58333333 | CM5: =CL5-CK5 -> 0.29166667 | CN5: 0.29166667 | CO5: 0.58333333 | CP5: =CO5-CN5 -> 0.29166667 | CQ5: 0 | CR5: 0 | CS5: =CR5-CQ5 -> 0 | CT5: 0 | CU5: 0 | CV5: =CU5-CT5 -> 0 | CW5: 0.29166667 | CX5: 0.58333333 | CY5: =CX5-CW5 -> 0.29166667 | CZ5: 0.29166667 | DA5: 0.58333333 | DB5: =DA5-CZ5 -> 0.29166667 | DC5: 0.29166667 | DD5: 0.58333333 | DE5: =DD5-DC5 -> 0.29166667 | DF5: 0.29166667 | DG5: 0.58333333 | DH5: =DG5-DF5 -> 0.29166667 | DI5: 0 | DJ5: 0 | DK5: =DJ5-DI5 -> 0 | DL5: 0.29166667 | DM5: 0.58333333 | DN5: =DM5-DL5 -> 0.29166667 | DO5: 0.29166667 | DP5: 0.58333333 | DQ5: =DP5-DO5 -> 0.29166667 | DR5: 0.29166667 | DS5: 0.58333333 | DT5: =DS5-DR5 -> 0.29166667 | DU5: 0.29166667 | DV5: 0.58333333 | DW5: =DV5-DU5 -> 0.29166667 | DX5: 0.29166667 | DY5: 0.58333333 | DZ5: =DY5-DX5 -> 0.29166667 | EA5: 0 | EB5: 0 | EC5: =EB5-EA5 -> 0 | ED5: 0.58333333 | EE5: 0.875 | EF5: =EE5-ED5 -> 0.29166667 | EG5: 0.58333333 | EH5: 0.875 | EI5: =EH5-EG5 -> 0.29166667 | EJ5: 0.58333333 | EK5: 0.875 | EL5: =EK5-EJ5 -> 0.29166667 | EM5: 0 | EN5: 0 | EO5: =EN5-EM5 -> 0 | EP5: 0 | EQ5: 0 | ER5: =EQ5-EP5 -> 0
A6: Eddy | B6: 0 | C6: 0 | D6: =C6-B6 -> 0 | E6: 0.29166667 | F6: 0.58333333 | G6: =F6-E6 -> 0.29166667 | H6: 0.29166667 | I6: 0.58333333 | J6: =I6-H6 -> 0.29166667 | K6: 0.29166667 | L6: 0.58333333 | M6: =L6-K6 -> 0.29166667 | N6: 0.29166667 | O6: 0.58333333 | P6: =O6-N6 -> 0.29166667 | Q6: 0 | R6: 0 | S6: =R6-Q6 -> 0 | T6: 0 | U6: 0 | V6: =U6-T6 -> 0 | W6: 0.58333333 | X6: 0.875 | Y6: =X6-W6 -> 0.29166667 | Z6: 0.58333333 | AA6: 0.875 | AB6: =AA6-Z6 -> 0.29166667 | AC6: 0 | AD6: 0 | AE6: =AD6-AC6 -> 0 | AF6: 0.58333333 | AG6: 0.875 | AH6: =AG6-AF6 -> 0.29166667 | AI6: 0.58333333 | AJ6: 0.875 | AK6: =AJ6-AI6 -> 0.29166667 | AL6: 0.58333333 | AM6: 0.875 | AN6: =AM6-AL6 -> 0.29166667 | AO6: 0.58333333 | AP6: 0.875 | AQ6: =AP6-AO6 -> 0.29166667 | AR6: 0 | AS6: 0 | AT6: =AS6-AR6 -> 0 | AU6: 0.29166667 | AV6: 0.58333333 | AW6: =AV6-AU6 -> 0.29166667 | AX6: 0.29166667 | AY6: 0.58333333 | AZ6: =AY6-AX6 -> 0.29166667 | BA6: 0.29166667 | BB6: 0.58333333 | BC6: =BB6-BA6 -> 0.29166667 | BD6: 0.29166667 | BE6: 0.58333333 | BF6: =BE6-BD6 -> 0.29166667 | BG6: 0 | BH6: 0 | BI6: =BH6-BG6 -> 0 | BJ6: 0 | BK6: 0 | BL6: =BK6-BJ6 -> 0 | BM6: 0.29166667 | BN6: 0.58333333 | BO6: =BN6-BM6 -> 0.29166667 | BP6: 0.29166667 | BQ6: 0.58333333 | BR6: =BQ6-BP6 -> 0.29166667 | BS6: 0.29166667 | BT6: 0.58333333 | BU6: =BT6-BS6 -> 0.29166667 | BV6: 0 | BW6: 0 | BX6: =BW6-BV6 -> 0 | BY6: 0 | BZ6: 0 | CA6: =BZ6-BY6 -> 0 | CB6: 0.29166667 | CC6: 0.58333333 | CD6: =CC6-CB6 -> 0.29166667 | CE6: 0.29166667 | CF6: 0.58333333 | CG6: =CF6-CE6 -> 0.29166667 | CH6: 0.29166667 | CI6: 0.58333333 | CJ6: =CI6-CH6 -> 0.29166667 | CK6: 0.29166667 | CL6: 0.58333333 | CM6: =CL6-CK6 -> 0.29166667 | CN6: 0 | CO6: 0 | CP6: =CO6-CN6 -> 0 | CQ6: 0.29166667 | CR6: 0.58333333 | CS6: =CR6-CQ6 -> 0.29166667 | CT6: 0.29166667 | CU6: 0.58333333 | CV6: =CU6-CT6 -> 0.29166667 | CW6: 0.29166667 | CX6: 0.58333333 | CY6: =CX6-CW6 -> 0.29166667 | CZ6: 0.29166667 | DA6: 0.58333333 | DB6: =DA6-CZ6 -> 0.29166667 | DC6: 0.29166667 | DD6: 0.58333333 | DE6: =DD6-DC6 -> 0.29166667 | DF6: 0 | DG6: 0 | DH6: =DG6-DF6 -> 0 | DI6: 0.58333333 | DJ6: 0.875 | DK6: =DJ6-DI6 -> 0.29166667 | DL6: 0.58333333 | DM6: 0.875 | DN6: =DM6-DL6 -> 0.29166667 | DO6: 0.58333333 | DP6: 0.875 | DQ6: =DP6-DO6 -> 0.29166667 | DR6: 0 | DS6: 0 | DT6: =DS6-DR6 -> 0 | DU6: 0 | DV6: 0 | DW6: =DV6-DU6 -> 0 | DX6: 0.58333333 | DY6: 0.875 | DZ6: =DY6-DX6 -> 0.29166667 | EA6: 0.58333333 | EB6: 0.875 | EC6: =EB6-EA6 -> 0.29166667 | ED6: 0.58333333 | EE6: 0.875 | EF6: =EE6-ED6 -> 0.29166667 | EG6: 0 | EH6: 0 | EI6: =EH6-EG6 -> 0 | EJ6: 0.58333333 | EK6: 0.875 | EL6: =EK6-EJ6 -> 0.29166667 | EM6: 0.58333333 | EN6: 0.875 | EO6: =EN6-EM6 -> 0.29166667 | EP6: 0.58333333 | EQ6: 0.875 | ER6: =EQ6-EP6 -> 0.29166667
A7: Patricia | B7: 0.58333333 | C7: 0.875 | D7: =C7-B7 -> 0.29166667 | E7: 0.58333333 | F7: 0.875 | G7: =F7-E7 -> 0.29166667 | H7: 0 | I7: 0 | J7: =I7-H7 -> 0 | K7: 0.58333333 | L7: 0.875 | M7: =L7-K7 -> 0.29166667 | N7: 0.58333333 | O7: 0.875 | P7: =O7-N7 -> 0.29166667 | Q7: 0.58333333 | R7: 0.875 | S7: =R7-Q7 -> 0.29166667 | T7: 0.58333333 | U7: 0.875 | V7: =U7-T7 -> 0.29166667 | W7: 0 | X7: 0 | Y7: =X7-W7 -> 0 | Z7: 0.29166667 | AA7: 0.58333333 | AB7: =AA7-Z7 -> 0.29166667 | AC7: 0.29166667 | AD7: 0.58333333 | AE7: =AD7-AC7 -> 0.29166667 | AF7: 0.29166667 | AG7: 0.58333333 | AH7: =AG7-AF7 -> 0.29166667 | AI7: 0.29166667 | AJ7: 0.58333333 | AK7: =AJ7-AI7 -> 0.29166667 | AL7: 0 | AM7: 0 | AN7: =AM7-AL7 -> 0 | AO7: 0 | AP7: 0 | AQ7: =AP7-AO7 -> 0 | AR7: 0.29166667 | AS7: 0.58333333 | AT7: =AS7-AR7 -> 0.29166667 | AU7: 0.29166667 | AV7: 0.58333333 | AW7: =AV7-AU7 -> 0.29166667 | AX7: 0.29166667 | AY7: 0.58333333 | AZ7: =AY7-AX7 -> 0.29166667 | BA7: 0 | BB7: 0 | BC7: =BB7-BA7 -> 0 | BD7: 0 | BE7: 0 | BF7: =BE7-BD7 -> 0 | BG7: 0.29166667 | BH7: 0.58333333 | BI7: =BH7-BG7 -> 0.29166667 | BJ7: 0.29166667 | BK7: 0.58333333 | BL7: =BK7-BJ7 -> 0.29166667 | BM7: 0.29166667 | BN7: 0.58333333 | BO7: =BN7-BM7 -> 0.29166667 | BP7: 0.29166667 | BQ7: 0.58333333 | BR7: =BQ7-BP7 -> 0.29166667 | BS7: 0 | BT7: 0 | BU7: =BT7-BS7 -> 0 | BV7: 0.29166667 | BW7: 0.58333333 | BX7: =BW7-BV7 -> 0.29166667 | BY7: 0.29166667 | BZ7: 0.58333333 | CA7: =BZ7-BY7 -> 0.29166667 | CB7: 0.29166667 | CC7: 0.58333333 | CD7: =CC7-CB7 -> 0.29166667 | CE7: 0.29166667 | CF7: 0.58333333 | CG7: =CF7-CE7 -> 0.29166667 | CH7: 0.29166667 | CI7: 0.58333333 | CJ7: =CI7-CH7 -> 0.29166667 | CK7: 0 | CL7: 0 | CM7: =CL7-CK7 -> 0 | CN7: 0.58333333 | CO7: 0.875 | CP7: =CO7-CN7 -> 0.29166667 | CQ7: 0.58333333 | CR7: 0.875 | CS7: =CR7-CQ7 -> 0.29166667 | CT7: 0.58333333 | CU7: 0.875 | CV7: =CU7-CT7 -> 0.29166667 | CW7: 0 | CX7: 0 | CY7: =CX7-CW7 -> 0 | CZ7: 0 | DA7: 0 | DB7: =DA7-CZ7 -> 0 | DC7: 0.58333333 | DD7: 0.875 | DE7: =DD7-DC7 -> 0.29166667 | DF7: 0.58333333 | DG7: 0.875 | DH7: =DG7-DF7 -> 0.29166667 | DI7: 0.58333333 | DJ7: 0.875 | DK7: =DJ7-DI7 -> 0.29166667 | DL7: 0 | DM7: 0 | DN7: =DM7-DL7 -> 0 | DO7: 0.58333333 | DP7: 0.875 | DQ7: =DP7-DO7 -> 0.29166667 | DR7: 0.58333333 | DS7: 0.875 | DT7: =DS7-DR7 -> 0.29166667 | DU7: 0.58333333 | DV7: 0.875 | DW7: =DV7-DU7 -> 0.29166667 | DX7: 0 | DY7: 0 | DZ7: =DY7-DX7 -> 0 | EA7: 0.29166667 | EB7: 0.58333333 | EC7: =EB7-EA7 -> 0.29166667 | ED7: 0.29166667 | EE7: 0.58333333 | EF7: =EE7-ED7 -> 0.29166667 | EG7: 0.29166667 | EH7: 0.58333333 | EI7: =EH7-EG7 -> 0.29166667 | EJ7: 0.29166667 | EK7: 0.58333333 | EL7: =EK7-EJ7 -> 0.29166667 | EM7: 0 | EN7: 0 | EO7: =EN7-EM7 -> 0 | EP7: 0 | EQ7: 0 | ER7: =EQ7-EP7 -> 0
A8: Kathy | B8: 0 | C8: 0 | D8: =C8-B8 -> 0 | E8: 0.29166667 | F8: 0.58333333 | G8: =F8-E8 -> 0.29166667 | H8: 0.29166667 | I8: 0.58333333 | J8: =I8-H8 -> 0.29166667 | K8: 0.29166667 | L8: 0.58333333 | M8: =L8-K8 -> 0.29166667 | N8: 0.29166667 | O8: 0.58333333 | P8: =O8-N8 -> 0.29166667 | Q8: 0 | R8: 0 | S8: =R8-Q8 -> 0 | T8: 0 | U8: 0 | V8: =U8-T8 -> 0 | W8: 0.29166667 | X8: 0.58333333 | Y8: =X8-W8 -> 0.29166667 | Z8: 0.29166667 | AA8: 0.58333333 | AB8: =AA8-Z8 -> 0.29166667 | AC8: 0.29166667 | AD8: 0.58333333 | AE8: =AD8-AC8 -> 0.29166667 | AF8: 0 | AG8: 0 | AH8: =AG8-AF8 -> 0 | AI8: 0 | AJ8: 0 | AK8: =AJ8-AI8 -> 0 | AL8: 0.29166667 | AM8: 0.58333333 | AN8: =AM8-AL8 -> 0.29166667 | AO8: 0.29166667 | AP8: 0.58333333 | AQ8: =AP8-AO8 -> 0.29166667 | AR8: 0.29166667 | AS8: 0.58333333 | AT8: =AS8-AR8 -> 0.29166667 | AU8: 0.29166667 | AV8: 0.58333333 | AW8: =AV8-AU8 -> 0.29166667 | AX8: 0 | AY8: 0 | AZ8: =AY8-AX8 -> 0 | BA8: 0.29166667 | BB8: 0.58333333 | BC8: =BB8-BA8 -> 0.29166667 | BD8: 0.29166667 | BE8: 0.58333333 | BF8: =BE8-BD8 -> 0.29166667 | BG8: 0.29166667 | BH8: 0.58333333 | BI8: =BH8-BG8 -> 0.29166667 | BJ8: 0.29166667 | BK8: 0.58333333 | BL8: =BK8-BJ8 -> 0.29166667 | BM8: 0.29166667 | BN8: 0.58333333 | BO8: =BN8-BM8 -> 0.29166667 | BP8: 0 | BQ8: 0 | BR8: =BQ8-BP8 -> 0 | BS8: 0.58333333 | BT8: 0.875 | BU8: =BT8-BS8 -> 0.29166667 | BV8: 0.58333333 | BW8: 0.875 | BX8: =BW8-BV8 -> 0.29166667 | BY8: 0.58333333 | BZ8: 0.875 | CA8: =BZ8-BY8 -> 0.29166667 | CB8: 0 | CC8: 0 | CD8: =CC8-CB8 -> 0 | CE8: 0 | CF8: 0 | CG8: =CF8-CE8 -> 0 | CH8: 0.58333333 | CI8: 0.875 | CJ8: =CI8-CH8 -> 0.29166667 | CK8: 0.58333333 | CL8: 0.875 | CM8: =CL8-CK8 -> 0.29166667 | CN8: 0.58333333 | CO8: 0.875 | CP8: =CO8-CN8 -> 0.29166667 | CQ8: 0 | CR8: 0 | CS8: =CR8-CQ8 -> 0 | CT8: 0.58333333 | CU8: 0.875 | CV8: =CU8-CT8 -> 0.29166667 | CW8: 0.58333333 | CX8: 0.875 | CY8: =CX8-CW8 -> 0.29166667 | CZ8: 0.58333333 | DA8: 0.875 | DB8: 0.29166667 | DC8: 0 | DD8: 0 | DE8: =DD8-DC8 -> 0 | DF8: 0.29166667 | DG8: 0.58333333 | DH8: =DG8-DF8 -> 0.29166667 | DI8: 0.29166667 | DJ8: 0.58333333 | DK8: =DJ8-DI8 -> 0.29166667 | DL8: 0.29166667 | DM8: 0.58333333 | DN8: =DM8-DL8 -> 0.29166667 | DO8: 0.29166667 | DP8: 0.58333333 | DQ8: =DP8-DO8 -> 0.29166667 | DR8: 0 | DS8: 0 | DT8: =DS8-DR8 -> 0 | DU8: 0 | DV8: 0 | DW8: =DV8-DU8 -> 0 | DX8: 0.58333333 | DY8: 0.875 | DZ8: =DY8-DX8 -> 0.29166667 | EA8: 0.58333333 | EB8: 0.875 | EC8: =EB8-EA8 -> 0.29166667 | ED8: 0 | EE8: 0 | EF8: =EE8-ED8 -> 0 | EG8: 0.58333333 | EH8: 0.875 | EI8: =EH8-EG8 -> 0.29166667 | EJ8: 0.58333333 | EK8: 0.875 | EL8: =EK8-EJ8 -> 0.29166667 | EM8: 0.58333333 | EN8: 0.875 | EO8: =EN8-EM8 -> 0.29166667 | EP8: 0.58333333 | EQ8: 0.875 | ER8: =EQ8-EP8 -> 0.29166667
A9: Sarah | B9: 0.29166667 | C9: 0.58333333 | D9: =C9-B9 -> 0.29166667 | E9: 0.29166667 | F9: 0.58333333 | G9: =F9-E9 -> 0.29166667 | H9: 0.29166667 | I9: 0.58333333 | J9: =I9-H9 -> 0.29166667 | K9: 0 | L9: 0 | M9: =L9-K9 -> 0 | N9: 0 | O9: 0 | P9: =O9-N9 -> 0 | Q9: 0.29166667 | R9: 0.58333333 | S9: =R9-Q9 -> 0.29166667 | T9: 0.29166667 | U9: 0.58333333 | V9: =U9-T9 -> 0.29166667 | W9: 0.29166667 | X9: 0.58333333 | Y9: =X9-W9 -> 0.29166667 | Z9: 0.29166667 | AA9: 0.58333333 | AB9: =AA9-Z9 -> 0.29166667 | AC9: 0 | AD9: 0 | AE9: =AD9-AC9 -> 0 | AF9: 0.29166667 | AG9: 0.58333333 | AH9: =AG9-AF9 -> 0.29166667 | AI9: 0.29166667 | AJ9: 0.58333333 | AK9: =AJ9-AI9 -> 0.29166667 | AL9: 0.29166667 | AM9: 0.58333333 | AN9: =AM9-AL9 -> 0.29166667 | AO9: 0.29166667 | AP9: 0.58333333 | AQ9: =AP9-AO9 -> 0.29166667 | AR9: 0.29166667 | AS9: 0.58333333 | AT9: =AS9-AR9 -> 0.29166667 | AU9: 0 | AV9: 0 | AW9: =AV9-AU9 -> 0 | AX9: 0.58333333 | AY9: 0.875 | AZ9: =AY9-AX9 -> 0.29166667 | BA9: 0.58333333 | BB9: 0.875 | BC9: =BB9-BA9 -> 0.29166667 | BD9: 0.58333333 | BE9: 0.875 | BF9: =BE9-BD9 -> 0.29166667 | BG9: 0 | BH9: 0 | BI9: =BH9-BG9 -> 0 | BJ9: 0 | BK9: 0 | BL9: =BK9-BJ9 -> 0 | BM9: 0.58333333 | BN9: 0.875 | BO9: =BN9-BM9 -> 0.29166667 | BP9: 0.58333333 | BQ9: 0.875 | BR9: =BQ9-BP9 -> 0.29166667 | BS9: 0.58333333 | BT9: 0.875 | BU9: =BT9-BS9 -> 0.29166667 | BV9: 0 | BW9: 0 | BX9: =BW9-BV9 -> 0 | BY9: 0.58333333 | BZ9: 0.875 | CA9: =BZ9-BY9 -> 0.29166667 | CB9: 0.58333333 | CC9: 0.875 | CD9: =CC9-CB9 -> 0.29166667 | CE9: 0.58333333 | CF9: 0.875 | CG9: =CF9-CE9 -> 0.29166667 | CH9: 0 | CI9: 0 | CJ9: =CI9-CH9 -> 0 | CK9: 0.29166667 | CL9: 0.58333333 | CM9: =CL9-CK9 -> 0.29166667 | CN9: 0.29166667 | CO9: 0.58333333 | CP9: =CO9-CN9 -> 0.29166667 | CQ9: 0.29166667 | CR9: 0.58333333 | CS9: =CR9-CQ9 -> 0.29166667 | CT9: 0.29166667 | CU9: 0.58333333 | CV9: =CU9-CT9 -> 0.29166667 | CW9: 0 | CX9: 0 | CY9: =CX9-CW9 -> 0 | CZ9: 0 | DA9: 0 | DB9: =DA9-CZ9 -> 0 | DC9: 0.58333333 | DD9: 0.875 | DE9: =DD9-DC9 -> 0.29166667 | DF9: 0.58333333 | DG9: 0.875 | DH9: =DG9-DF9 -> 0.29166667 | DI9: 0 | DJ9: 0 | DK9: =DJ9-DI9 -> 0 | DL9: 0.58333333 | DM9: 0.875 | DN9: =DM9-DL9 -> 0.29166667 | DO9: 0.58333333 | DP9: 0.875 | DQ9: =DP9-DO9 -> 0.29166667 | DR9: 0.58333333 | DS9: 0.875 | DT9: =DS9-DR9 -> 0.29166667 | DU9: 0.58333333 | DV9: 0.875 | DW9: =DV9-DU9 -> 0.29166667 | DX9: 0 | DY9: 0 | DZ9: =DY9-DX9 -> 0 | EA9: 0.29166667 | EB9: 0.58333333 | EC9: =EB9-EA9 -> 0.29166667 | ED9: 0.29166667 | EE9: 0.58333333 | EF9: =EE9-ED9 -> 0.29166667 | EG9: 0.29166667 | EH9: 0.58333333 | EI9: =EH9-EG9 -> 0.29166667 | EJ9: 0.29166667 | EK9: 0.58333333 | EL9: =EK9-EJ9 -> 0.29166667 | EM9: 0 | EN9: 0 | EO9: =EN9-EM9 -> 0 | EP9: 0 | EQ9: 0 | ER9: =EQ9-EP9 -> 0

Sheet Myriam
A1: Semaine 01 | V1: Semaine 02 | AQ1: Semaine 03 | BL1: Semaine 04 | CG1: Semaine 05 | DB1: Semaine 06 | DW1: Semaine 07
A2: 42737 | D2: 42738 | G2: 42739 | J2: 42740 | M2: 42741 | P2: 42742 | S2: 42743 | V2: 42744 | Y2: 42745 | AB2: 42746 | AE2: 42747 | AH2: 42748 | AK2: 42749 | AN2: 42750 | AQ2: 42751 | AT2: 42752 | AW2: 42753 | AZ2: 42754 | BC2: 42755 | BF2: 42756 | BI2: 42757 | BL2: 42758 | BO2: 42759 | BR2: 42760 | BU2: 42761 | BX2: 42762 | CA2: 42763 | CD2: 42764 | CG2: 42765 | CJ2: 42766 | CM2: 42767 | CP2: 42768 | CS2: 42769 | CV2: 42770 | CY2: 42771 | DB2: 42772 | DE2: 42773 | DH2: 42774 | DK2: 42775 | DN2: 42776 | DQ2: 42777 | DT2: 42778 | DW2: 42779 | DZ2: 42780 | EC2: 42781 | EF2: 42782 | EI2: 42783 | EL2: 42784 | EO2: 42785
A3: 0.29166667 | B3: 0.58333333 | C3: =B3-A3 -> 0.29166667 | D3: 0.29166667 | E3: 0.58333333 | F3: =E3-D3 -> 0.29166667 | G3: 0 | H3: 0 | I3: =H3-G3 -> 0 | J3: 0.29166667 | K3: 0.58333333 | L3: =K3-J3 -> 0.29166667 | M3: 0.29166667 | N3: 0.58333333 | O3: =N3-M3 -> 0.29166667 | P3: 0.29166667 | Q3: 0.58333333 | R3: =Q3-P3 -> 0.29166667 | S3: 0.29166667 | T3: 0.58333333 | U3: =T3-S3 -> 0.29166667 | V3: 0.29166667 | W3: 0.58333333 | X3: =W3-V3 -> 0.29166667 | Y3: 0 | Z3: 0 | AA3: =Z3-Y3 -> 0 | AB3: 0.58333333 | AC3: 0.875 | AD3: =AC3-AB3 -> 0.29166667 | AE3: 0.58333333 | AF3: 0.875 | AG3: =AF3-AE3 -> 0.29166667 | AH3: 0.58333333 | AI3: 0.875 | AJ3: =AI3-AH3 -> 0.29166667 | AK3: 0 | AL3: 0 | AM3: =AL3-AK3 -> 0 | AN3: 0 | AO3: 0 | AP3: =AO3-AN3 -> 0 | AQ3: 0.58333333 | AR3: 0.875 | AS3: =AR3-AQ3 -> 0.29166667 | AT3: 0.58333333 | AU3: 0.875 | AV3: =AU3-AT3 -> 0.29166667 | AW3: 0.58333333 | AX3: 0.875 | AY3: =AX3-AW3 -> 0.29166667 | AZ3: 0 | BA3: 0 | BB3: =BA3-AZ3 -> 0 | BC3: 0.58333333 | BD3: 0.875 | BE3: 0.29166667 | BF3: 0.58333333 | BG3: 0.875 | BH3: 0.29166667 | BI3: 0.58333333 | BJ3: 0.875 | BK3: 0.29166667 | BL3: 0 | BM3: 0 | BN3: =BM3-BL3 -> 0 | BO3: 0.29166667 | BP3: 0.58333333 | BQ3: =BP3-BO3 -> 0.29166667 | BR3: 0.29166667 | BS3: 0.58333333 | BT3: =BS3-BR3 -> 0.29166667 | BU3: 0.29166667 | BV3: 0.58333333 | BW3: =BV3-BU3 -> 0.29166667 | BX3: 0.29166667 | BY3: 0.58333333 | BZ3: =BY3-BX3 -> 0.29166667 | CA3: 0 | CB3: 0 | CC3: =CB3-CA3 -> 0 | CD3: 0 | CE3: 0 | CF3: =CE3-CD3 -> 0 | CG3: 0.58333333 | CH3: 0.875 | CI3: =CH3-CG3 -> 0.29166667 | CJ3: 0.58333333 | CK3: 0.875 | CL3: =CK3-CJ3 -> 0.29166667 | CM3: 0 | CN3: 0 | CO3: =CN3-CM3 -> 0 | CP3: 0.58333333 | CQ3: 0.875 | CR3: =CQ3-CP3 -> 0.29166667 | CS3: 0.58333333 | CT3: 0.875 | CU3: =CT3-CS3 -> 0.29166667 | CV3: 0.58333333 | CW3: 0.875 | CX3: =CW3-CV3 -> 0.29166667 | CY3: 0.58333333 | CZ3: 0.875 | DA3: =CZ3-CY3 -> 0.29166667 | DB3: 0 | DC3: 0 | DD3: =DC3-DB3 -> 0 | DE3: 0.29166667 | DF3: 0.58333333 | DG3: =DF3-DE3 -> 0.29166667 | DH3: 0.29166667 | DI3: 0.58333333 | DJ3: =DI3-DH3 -> 0.29166667 | DK3: 0.29166667 | DL3: 0.58333333 | DM3: =DL3-DK3 -> 0.29166667 | DN3: 0.29166667 | DO3: 0.58333333 | DP3: =DO3-DN3 -> 0.29166667 | DQ3: 0 | DR3: 0 | DS3: =DR3-DQ3 -> 0 | DT3: 0 | DU3: 0 | DV3: =DU3-DT3 -> 0 | DW3: 0.29166667 | DX3: 0.58333333 | DY3: =DX3-DW3 -> 0.29166667 | DZ3: 0.29166667 | EA3: 0.58333333 | EB3: =EA3-DZ3 -> 0.29166667 | EC3: 0.29166667 | ED3: 0.58333333 | EE3: =ED3-EC3 -> 0.29166667 | EF3: 0 | EG3: 0 | EH3: =EG3-EF3 -> 0 | EI3: 0 | EJ3: 0 | EK3: =EJ3-EI3 -> 0 | EL3: 0.29166667 | EM3: 0.58333333 | EN3: =EM3-EL3 -> 0.29166667 | EO3: 0.29166667 | EP3: 0.58333333 | EQ3: =EP3-EO3 -> 0.29166667

Sheet Stéphane
A1: Semaine 01 | V1: Semaine 02 | AQ1: Semaine 03 | BL1: Semaine 04 | CG1: Semaine 05 | DB1: Semaine 06 | DW1: Semaine 07
A2: 42737 | D2: 42738 | G2: 42739 | J2: 42740 | M2: 42741 | P2: 42742 | S2: 42743 | V2: 42744 | Y2: 42745 | AB2: 42746 | AE2: 42747 | AH2: 42748 | AK2: 42749 | AN2: 42750 | AQ2: 42751 | AT2: 42752 | AW2: 42753 | AZ2: 42754 | BC2: 42755 | BF2: 42756 | BI2: 42757 | BL2: 42758 | BO2: 42759 | BR2: 42760 | BU2: 42761 | BX2: 42762 | CA2: 42763 | CD2: 42764 | CG2: 42765 | CJ2: 42766 | CM2: 42767 | CP2: 42768 | CS2: 42769 | CV2: 42770 | CY2: 42771 | DB2: 42772 | DE2: 42773 | DH2: 42774 | DK2: 42775 | DN2: 42776 | DQ2: 42777 | DT2: 42778 | DW2: 42779 | DZ2: 42780 | EC2: 42781 | EF2: 42782 | EI2: 42783 | EL2: 42784 | EO2: 42785
A3: 0.29166667 | B3: 0.58333333 | C3: =B3-A3 -> 0.29166667 | D3: 0 | E3: 0 | F3: =E3-D3 -> 0 | G3: 0.58333333 | H3: 0.875 | I3: =H3-G3 -> 0.29166667 | J3: 0.58333333 | K3: 0.875 | L3: =K3-J3 -> 0.29166667 | M3: 0.58333333 | N3: 0.875 | O3: =N3-M3 -> 0.29166667 | P3: 0 | Q3: 0 | R3: =Q3-P3 -> 0 | S3: 0 | T3: 0 | U3: =T3-S3 -> 0 | V3: 0.58333333 | W3: 0.875 | X3: =W3-V3 -> 0.29166667 | Y3: 0.58333333 | Z3: 0.875 | AA3: =Z3-Y3 -> 0.29166667 | AB3: 0.58333333 | AC3: 0.875 | AD3: =AC3-AB3 -> 0.29166667 | AE3: 0 | AF3: 0 | AG3: =AF3-AE3 -> 0 | AH3: 0.58333333 | AI3: 0.875 | AJ3: 0.29166667 | AK3: 0.58333333 | AL3: 0.875 | AM3: 0.29166667 | AN3: 0.58333333 | AO3: 0.875 | AP3: 0.29166667 | AQ3: 0 | AR3: 0 | AS3: =AR3-AQ3 -> 0 | AT3: 0.29166667 | AU3: 0.58333333 | AV3: =AU3-AT3 -> 0.29166667 | AW3: 0.29166667 | AX3: 0.58333333 | AY3: =AX3-AW3 -> 0.29166667 | AZ3: 0.29166667 | BA3: 0.58333333 | BB3: =BA3-AZ3 -> 0.29166667 | BC3: 0.29166667 | BD3: 0.58333333 | BE3: =BD3-BC3 -> 0.29166667 | BF3: 0 | BG3: 0 | BH3: =BG3-BF3 -> 0 | BI3: 0 | BJ3: 0 | BK3: =BJ3-BI3 -> 0 | BL3: 0.58333333 | BM3: 0.875 | BN3: =BM3-BL3 -> 0.29166667 | BO3: 0.58333333 | BP3: 0.875 | BQ3: =BP3-BO3 -> 0.29166667 | BR3: 0 | BS3: 0 | BT3: =BS3-BR3 -> 0 | BU3: 0.58333333 | BV3: 0.875 | BW3: =BV3-BU3 -> 0.29166667 | BX3: 0.58333333 | BY3: 0.875 | BZ3: =BY3-BX3 -> 0.29166667 | CA3: 0.58333333 | CB3: 0.875 | CC3: =CB3-CA3 -> 0.29166667 | CD3: 0.58333333 | CE3: 0.875 | CF3: =CE3-CD3 -> 0.29166667 | CG3: 0 | CH3: 0 | CI3: =CH3-CG3 -> 0 | CJ3: 0.29166667 | CK3: 0.58333333 | CL3: =CK3-CJ3 -> 0.29166667 | CM3: 0.29166667 | CN3: 0.58333333 | CO3: =CN3-CM3 -> 0.29166667 | CP3: 0.29166667 | CQ3: 0.58333333 | CR3: =CQ3-CP3 -> 0.29166667 | CS3: 0.29166667 | CT3: 0.58333333 | CU3: =CT3-CS3 -> 0.29166667 | CV3: 0 | CW3: 0 | CX3: =CW3-CV3 -> 0 | CY3: 0 | CZ3: 0 | DA3: =CZ3-CY3 -> 0 | DB3: 0.29166667 | DC3: 0.58333333 | DD3: =DC3-DB3 -> 0.29166667 | DE3: 0.29166667 | DF3: 0.58333333 | DG3: =DF3-DE3 -> 0.29166667 | DH3: 0.29166667 | DI3: 0.58333333 | DJ3: =DI3-DH3 -> 0.29166667 | DK3: 0 | DL3: 0 | DM3: =DL3-DK3 -> 0 | DN3: 0 | DO3: 0 | DP3: =DO3-DN3 -> 0 | DQ3: 0.29166667 | DR3: 0.58333333 | DS3: =DR3-DQ3 -> 0.29166667 | DT3: 0.29166667 | DU3: 0.58333333 | DV3: =DU3-DT3 -> 0.29166667 | DW3: 0.29166667 | DX3: 0.58333333 | DY3: =DX3-DW3 -> 0.29166667 | DZ3: 0.29166667 | EA3: 0.58333333 | EB3: =EA3-DZ3 -> 0.29166667 | EC3: 0 | ED3: 0 | EE3: =ED3-EC3 -> 0 | EF3: 0.29166667 | EG3: 0.58333333 | EH3: =EG3-EF3 -> 0.29166667 | EI3: 0.29166667 | EJ3: 0.58333333 | EK3: =EJ3-EI3 -> 0.29166667 | EL3: 0.29166667 | EM3: 0.58333333 | EN3: =EM3-EL3 -> 0.29166667 | EO3: 0.29166667 | EP3: 0.58333333 | EQ3: =EP3-EO3 -> 0.29166667

Sheet Marie Claude
A1: Semaine 01 | V1: Semaine 02 | AQ1: Semaine 03 | BL1: Semaine 04 | CG1: Semaine 05 | DB1: Semaine 06 | DW1: Semaine 07
A2: 42737 | D2: 42738 | G2: 42739 | J2: 42740 | M2: 42741 | P2: 42742 | S2: 42743 | V2: 42744 | Y2: 42745 | AB2: 42746 | AE2: 42747 | AH2: 42748 | AK2: 42749 | AN2: 42750 | AQ2: 42751 | AT2: 42752 | AW2: 42753 | AZ2: 42754 | BC2: 42755 | BF2: 42756 | BI2: 42757 | BL2: 42758 | BO2: 42759 | BR2: 42760 | BU2: 42761 | BX2: 42762 | CA2: 42763 | CD2: 42764 | CG2: 42765 | CJ2: 42766 | CM2: 42767 | CP2: 42768 | CS2: 42769 | CV2: 42770 | CY2: 42771 | DB2: 42772 | DE2: 42773 | DH2: 42774 | DK2: 42775 | DN2: 42776 | DQ2: 42777 | DT2: 42778 | DW2: 42779 | DZ2: 42780 | EC2: 42781 | EF2: 42782 | EI2: 42783 | EL2: 42784 | EO2: 42785
A3: 0.58333333 | B3: 0.875 | C3: =B3-A3 -> 0.29166667 | D3: 0.58333333 | E3: 0.875 | F3: =E3-D3 -> 0.29166667 | G3: 0.58333333 | H3: 0.875 | I3: =H3-G3 -> 0.29166667 | J3: 0 | K3: 0 | L3: =K3-J3 -> 0 | M3: 0.58333333 | N3: 0.875 | O3: 0.29166667 | P3: 0.58333333 | Q3: 0.875 | R3: 0.29166667 | S3: 0.58333333 | T3: 0.875 | U3: 0.29166667 | V3: 0 | W3: 0 | X3: =W3-V3 -> 0 | Y3: 0.29166667 | Z3: 0.58333333 | AA3: =Z3-Y3 -> 0.29166667 | AB3: 0.29166667 | AC3: 0.58333333 | AD3: =AC3-AB3 -> 0.29166667 | AE3: 0.29166667 | AF3: 0.58333333 | AG3: =AF3-AE3 -> 0.29166667 | AH3: 0.29166667 | AI3: 0.58333333 | AJ3: =AI3-AH3 -> 0.29166667 | AK3: 0 | AL3: 0 | AM3: =AL3-AK3 -> 0 | AN3: 0 | AO3: 0 | AP3: =AO3-AN3 -> 0 | AQ3: 0.58333333 | AR3: 0.875 | AS3: =AR3-AQ3 -> 0.29166667 | AT3: 0.58333333 | AU3: 0.875 | AV3: =AU3-AT3 -> 0.29166667 | AW3: 0 | AX3: 0 | AY3: =AX3-AW3 -> 0 | AZ3: 0.58333333 | BA3: 0.875 | BB3: =BA3-AZ3 -> 0.29166667 | BC3: 0.58333333 | BD3: 0.875 | BE3: =BD3-BC3 -> 0.29166667 | BF3: 0.58333333 | BG3: 0.875 | BH3: =BG3-BF3 -> 0.29166667 | BI3: 0.58333333 | BJ3: 0.875 | BK3: =BJ3-BI3 -> 0.29166667 | BL3: 0 | BM3: 0 | BN3: =BM3-BL3 -> 0 | BO3: 0.29166667 | BP3: 0.58333333 | BQ3: =BP3-BO3 -> 0.29166667 | BR3: 0.29166667 | BS3: 0.58333333 | BT3: =BS3-BR3 -> 0.29166667 | BU3: 0.29166667 | BV3: 0.58333333 | BW3: =BV3-BU3 -> 0.29166667 | BX3: 0.29166667 | BY3: 0.58333333 | BZ3: =BY3-BX3 -> 0.29166667 | CA3: 0 | CB3: 0 | CC3: =CB3-CA3 -> 0 | CD3: 0 | CE3: 0 | CF3: =CE3-CD3 -> 0 | CG3: 0.29166667 | CH3: 0.58333333 | CI3: =CH3-CG3 -> 0.29166667 | CJ3: 0.29166667 | CK3: 0.58333333 | CL3: =CK3-CJ3 -> 0.29166667 | CM3: 0.29166667 | CN3: 0.58333333 | CO3: =CN3-CM3 -> 0.29166667 | CP3: 0 | CQ3: 0 | CR3: =CQ3-CP3 -> 0 | CS3: 0 | CT3: 0 | CU3: =CT3-CS3 -> 0 | CV3: 0.29166667 | CW3: 0.58333333 | CX3: =CW3-CV3 -> 0.29166667 | CY3: 0.29166667 | CZ3: 0.58333333 | DA3: =CZ3-CY3 -> 0.29166667 | DB3: 0.29166667 | DC3: 0.58333333 | DD3: =DC3-DB3 -> 0.29166667 | DE3: 0.29166667 | DF3: 0.58333333 | DG3: =DF3-DE3 -> 0.29166667 | DH3: 0 | DI3: 0 | DJ3: =DI3-DH3 -> 0 | DK3: 0.29166667 | DL3: 0.58333333 | DM3: =DL3-DK3 -> 0.29166667 | DN3: 0.29166667 | DO3: 0.58333333 | DP3: =DO3-DN3 -> 0.29166667 | DQ3: 0.29166667 | DR3: 0.58333333 | DS3: =DR3-DQ3 -> 0.29166667 | DT3: 0.29166667 | DU3: 0.58333333 | DV3: =DU3-DT3 -> 0.29166667 | DW3: 0.29166667 | DX3: 0.58333333 | DY3: =DX3-DW3 -> 0.29166667 | DZ3: 0 | EA3: 0 | EB3: =EA3-DZ3 -> 0 | EC3: 0.58333333 | ED3: 0.875 | EE3: =ED3-EC3 -> 0.29166667 | EF3: 0.58333333 | EG3: 0.875 | EH3: =EG3-EF3 -> 0.29166667 | EI3: 0.58333333 | EJ3: 0.875 | EK3: =EJ3-EI3 -> 0.29166667 | EL3: 0 | EM3: 0 | EN3: =EM3-EL3 -> 0 | EO3: 0 | EP3: 0 | EQ3: =EP3-EO3 -> 0

Sheet Eddy
A1: Semaine 01 | V1: Semaine 02 | AQ1: Semaine 03 | BL1: Semaine 04 | CG1: Semaine 05 | DB1: Semaine 06 | DW1: Semaine 07
A2: 42737 | D2: 42738 | G2: 42739 | J2: 42740 | M2: 42741 | P2: 42742 | S2: 42743 | V2: 42744 | Y2: 42745 | AB2: 42746 | AE2: 42747 | AH2: 42748 | AK2: 42749 | AN2: 42750 | AQ2: 42751 | AT2: 42752 | AW2: 42753 | AZ2: 42754 | BC2: 42755 | BF2: 42756 | BI2: 42757 | BL2: 42758 | BO2: 42759 | BR2: 42760 | BU2: 42761 | BX2: 42762 | CA2: 42763 | CD2: 42764 | CG2: 42765 | CJ2: 42766 | CM2: 42767 | CP2: 42768 | CS2: 42769 | CV2: 42770 | CY2: 42771 | DB2: 42772 | DE2: 42773 | DH2: 42774 | DK2: 42775 | DN2: 42776 | DQ2: 42777 | DT2: 42778 | DW2: 42779 | DZ2: 42780 | EC2: 42781 | EF2: 42782 | EI2: 42783 | EL2: 42784 | EO2: 42785
A3: 0 | B3: 0 | C3: =B3-A3 -> 0 | D3: 0.29166667 | E3: 0.58333333 | F3: =E3-D3 -> 0.29166667 | G3: 0.29166667 | H3: 0.58333333 | I3: =H3-G3 -> 0.29166667 | J3: 0.29166667 | K3: 0.58333333 | L3: =K3-J3 -> 0.29166667 | M3: 0.29166667 | N3: 0.58333333 | O3: =N3-M3 -> 0.29166667 | P3: 0 | Q3: 0 | R3: =Q3-P3 -> 0 | S3: 0 | T3: 0 | U3: =T3-S3 -> 0 | V3: 0.58333333 | W3: 0.875 | X3: =W3-V3 -> 0.29166667 | Y3: 0.58333333 | Z3: 0.875 | AA3: =Z3-Y3 -> 0.29166667 | AB3: 0 | AC3: 0 | AD3: =AC3-AB3 -> 0 | AE3: 0.58333333 | AF3: 0.875 | AG3: =AF3-AE3 -> 0.29166667 | AH3: 0.58333333 | AI3: 0.875 | AJ3: =AI3-AH3 -> 0.29166667 | AK3: 0.58333333 | AL3: 0.875 | AM3: =AL3-AK3 -> 0.29166667 | AN3: 0.58333333 | AO3: 0.875 | AP3: =AO3-AN3 -> 0.29166667 | AQ3: 0 | AR3: 0 | AS3: =AR3-AQ3 -> 0 | AT3: 0.29166667 | AU3: 0.58333333 | AV3: =AU3-AT3 -> 0.29166667 | AW3: 0.29166667 | AX3: 0.58333333 | AY3: =AX3-AW3 -> 0.29166667 | AZ3: 0.29166667 | BA3: 0.58333333 | BB3: =BA3-AZ3 -> 0.29166667 | BC3: 0.29166667 | BD3: 0.58333333 | BE3: =BD3-BC3 -> 0.29166667 | BF3: 0 | BG3: 0 | BH3: =BG3-BF3 -> 0 | BI3: 0 | BJ3: 0 | BK3: =BJ3-BI3 -> 0 | BL3: 0.29166667 | BM3: 0.58333333 | BN3: =BM3-BL3 -> 0.29166667 | BO3: 0.29166667 | BP3: 0.58333333 | BQ3: =BP3-BO3 -> 0.29166667 | BR3: 0.29166667 | BS3: 0.58333333 | BT3: =BS3-BR3 -> 0.29166667 | BU3: 0 | BV3: 0 | BW3: =BV3-BU3 -> 0 | BX3: 0 | BY3: 0 | BZ3: =BY3-BX3 -> 0 | CA3: 0.29166667 | CB3: 0.58333333 | CC3: =CB3-CA3 -> 0.29166667 | CD3: 0.29166667 | CE3: 0.58333333 | CF3: =CE3-CD3 -> 0.29166667 | CG3: 0.29166667 | CH3: 0.58333333 | CI3: =CH3-CG3 -> 0.29166667 | CJ3: 0.29166667 | CK3: 0.58333333 | CL3: =CK3-CJ3 -> 0.29166667 | CM3: 0 | CN3: 0 | CO3: =CN3-CM3 -> 0 | CP3: 0.29166667 | CQ3: 0.58333333 | CR3: =CQ3-CP3 -> 0.29166667 | CS3: 0.29166667 | CT3: 0.58333333 | CU3: =CT3-CS3 -> 0.29166667 | CV3: 0.29166667 | CW3: 0.58333333 | CX3: =CW3-CV3 -> 0.29166667 | CY3: 0.29166667 | CZ3: 0.58333333 | DA3: =CZ3-CY3 -> 0.29166667 | DB3: 0.29166667 | DC3: 0.58333333 | DD3: =DC3-DB3 -> 0.29166667 | DE3: 0 | DF3: 0 | DG3: =DF3-DE3 -> 0 | DH3: 0.58333333 | DI3: 0.875 | DJ3: =DI3-DH3 -> 0.29166667 | DK3: 0.58333333 | DL3: 0.875 | DM3: =DL3-DK3 -> 0.29166667 | DN3: 0.58333333 | DO3: 0.875 | DP3: =DO3-DN3 -> 0.29166667 | DQ3: 0 | DR3: 0 | DS3: =DR3-DQ3 -> 0 | DT3: 0 | DU3: 0 | DV3: =DU3-DT3 -> 0 | DW3: 0.58333333 | DX3: 0.875 | DY3: =DX3-DW3 -> 0.29166667 | DZ3: 0.58333333 | EA3: 0.875 | EB3: =EA3-DZ3 -> 0.29166667 | EC3: 0.58333333 | ED3: 0.875 | EE3: =ED3-EC3 -> 0.29166667 | EF3: 0 | EG3: 0 | EH3: =EG3-EF3 -> 0 | EI3: 0.58333333 | EJ3: 0.875 | EK3: 0.29166667 | EL3: 0.58333333 | EM3: 0.875 | EN3: 0.29166667 | EO3: 0.58333333 | EP3: 0.875 | EQ3: 0.29166667

Sheet Patricia
A1: Semaine 01 | V1: Semaine 02 | AQ1: Semaine 03 | BL1: Semaine 04 | CG1: Semaine 05 | DB1: Semaine 06 | DW1: Semaine 07
A2: 42737 | D2: 42738 | G2: 42739 | J2: 42740 | M2: 42741 | P2: 42742 | S2: 42743 | V2: 42744 | Y2: 42745 | AB2: 42746 | AE2: 42747 | AH2: 42748 | AK2: 42749 | AN2: 42750 | AQ2: 42751 | AT2: 42752 | AW2: 42753 | AZ2: 42754 | BC2: 42755 | BF2: 42756 | BI2: 42757 | BL2: 42758 | BO2: 42759 | BR2: 42760 | BU2: 42761 | BX2: 42762 | CA2: 42763 | CD2: 42764 | CG2: 42765 | CJ2: 42766 | CM2: 42767 | CP2: 42768 | CS2: 42769 | CV2: 42770 | CY2: 42771 | DB2: 42772 | DE2: 42773 | DH2: 42774 | DK2: 42775 | DN2: 42776 | DQ2: 42777 | DT2: 42778 | DW2: 42779 | DZ2: 42780 | EC2: 42781 | EF2: 42782 | EI2: 42783 | EL2: 42784 | EO2: 42785
A3: 0.58333333 | B3: 0.875 | C3: =B3-A3 -> 0.29166667 | D3: 0.58333333 | E3: 0.875 | F3: =E3-D3 -> 0.29166667 | G3: 0 | H3: 0 | I3: =H3-G3 -> 0 | J3: 0.58333333 | K3: 0.875 | L3: =K3-J3 -> 0.29166667 | M3: 0.58333333 | N3: 0.875 | O3: =N3-M3 -> 0.29166667 | P3: 0.58333333 | Q3: 0.875 | R3: =Q3-P3 -> 0.29166667 | S3: 0.58333333 | T3: 0.875 | U3: =T3-S3 -> 0.29166667 | V3: 0 | W3: 0 | X3: =W3-V3 -> 0 | Y3: 0.29166667 | Z3: 0.58333333 | AA3: =Z3-Y3 -> 0.29166667 | AB3: 0.29166667 | AC3: 0.58333333 | AD3: =AC3-AB3 -> 0.29166667 | AE3: 0.29166667 | AF3: 0.58333333 | AG3: =AF3-AE3 -> 0.29166667 | AH3: 0.29166667 | AI3: 0.58333333 | AJ3: =AI3-AH3 -> 0.29166667 | AK3: 0 | AL3: 0 | AM3: =AL3-AK3 -> 0 | AN3: 0 | AO3: 0 | AP3: =AO3-AN3 -> 0 | AQ3: 0.29166667 | AR3: 0.58333333 | AS3: =AR3-AQ3 -> 0.29166667 | AT3: 0.29166667 | AU3: 0.58333333 | AV3: =AU3-AT3 -> 0.29166667 | AW3: 0.29166667 | AX3: 0.58333333 | AY3: =AX3-AW3 -> 0.29166667 | AZ3: 0 | BA3: 0 | BB3: =BA3-AZ3 -> 0 | BC3: 0 | BD3: 0 | BE3: =BD3-BC3 -> 0 | BF3: 0.29166667 | BG3: 0.58333333 | BH3: =BG3-BF3 -> 0.29166667 | BI3: 0.29166667 | BJ3: 0.58333333 | BK3: =BJ3-BI3 -> 0.29166667 | BL3: 0.29166667 | BM3: 0.58333333 | BN3: =BM3-BL3 -> 0.29166667 | BO3: 0.29166667 | BP3: 0.58333333 | BQ3: =BP3-BO3 -> 0.29166667 | BR3: 0 | BS3: 0 | BT3: =BS3-BR3 -> 0 | BU3: 0.29166667 | BV3: 0.58333333 | BW3: =BV3-BU3 -> 0.29166667 | BX3: 0.29166667 | BY3: 0.58333333 | BZ3: =BY3-BX3 -> 0.29166667 | CA3: 0.29166667 | CB3: 0.58333333 | CC3: =CB3-CA3 -> 0.29166667 | CD3: 0.29166667 | CE3: 0.58333333 | CF3: =CE3-CD3 -> 0.29166667 | CG3: 0.29166667 | CH3: 0.58333333 | CI3: =CH3-CG3 -> 0.29166667 | CJ3: 0 | CK3: 0 | CL3: =CK3-CJ3 -> 0 | CM3: 0.58333333 | CN3: 0.875 | CO3: =CN3-CM3 -> 0.29166667 | CP3: 0.58333333 | CQ3: 0.875 | CR3: =CQ3-CP3 -> 0.29166667 | CS3: 0.58333333 | CT3: 0.875 | CU3: =CT3-CS3 -> 0.29166667 | CV3: 0 | CW3: 0 | CX3: =CW3-CV3 -> 0 | CY3: 0 | CZ3: 0 | DA3: =CZ3-CY3 -> 0 | DB3: 0.58333333 | DC3: 0.875 | DD3: =DC3-DB3 -> 0.29166667 | DE3: 0.58333333 | DF3: 0.875 | DG3: =DF3-DE3 -> 0.29166667 | DH3: 0.58333333 | DI3: 0.875 | DJ3: =DI3-DH3 -> 0.29166667 | DK3: 0 | DL3: 0 | DM3: =DL3-DK3 -> 0 | DN3: 0.58333333 | DO3: 0.875 | DP3: 0.29166667 | DQ3: 0.58333333 | DR3: 0.875 | DS3: 0.29166667 | DT3: 0.58333333 | DU3: 0.875 | DV3: 0.29166667 | DW3: 0 | DX3: 0 | DY3: =DX3-DW3 -> 0 | DZ3: 0.29166667 | EA3: 0.58333333 | EB3: =EA3-DZ3 -> 0.29166667 | EC3: 0.29166667 | ED3: 0.58333333 | EE3: =ED3-EC3 -> 0.29166667 | EF3: 0.29166667 | EG3: 0.58333333 | EH3: =EG3-EF3 -> 0.29166667 | EI3: 0.29166667 | EJ3: 0.58333333 | EK3: =EJ3-EI3 -> 0.29166667 | EL3: 0 | EM3: 0 | EN3: =EM3-EL3 -> 0 | EO3: 0 | EP3: 0 | EQ3: =EP3-EO3 -> 0

Sheet Kathy
A1: Semaine 01 | V1: Semaine 02 | AQ1: Semaine 03 | BL1: Semaine 04 | CG1: Semaine 05 | DB1: Semaine 06 | DW1: Semaine 07
A2: 42737 | D2: 42738 | G2: 42739 | J2: 42740 | M2: 42741 | P2: 42742 | S2: 42743 | V2: 42744 | Y2: 42745 | AB2: 42746 | AE2: 42747 | AH2: 42748 | AK2: 42749 | AN2: 42750 | AQ2: 42751 | AT2: 42752 | AW2: 42753 | AZ2: 42754 | BC2: 42755 | BF2: 42756 | BI2: 42757 | BL2: 42758 | BO2: 42759 | BR2: 42760 | BU2: 42761 | BX2: 42762 | CA2: 42763 | CD2: 42764 | CG2: 42765 | CJ2: 42766 | CM2: 42767 | CP2: 42768 | CS2: 42769 | CV2: 42770 | CY2: 42771 | DB2: 42772 | DE2: 42773 | DH2: 42774 | DK2: 42775 | DN2: 42776 | DQ2: 42777 | DT2: 42778 | DW2: 42779 | DZ2: 42780 | EC2: 42781 | EF2: 42782 | EI2: 42783 | EL2: 42784 | EO2: 42785
A3: 0 | B3: 0 | C3: =B3-A3 -> 0 | D3: 0.29166667 | E3: 0.58333333 | F3: =E3-D3 -> 0.29166667 | G3: 0.29166667 | H3: 0.58333333 | I3: =H3-G3 -> 0.29166667 | J3: 0.29166667 | K3: 0.58333333 | L3: =K3-J3 -> 0.29166667 | M3: 0.29166667 | N3: 0.58333333 | O3: =N3-M3 -> 0.29166667 | P3: 0 | Q3: 0 | R3: =Q3-P3 -> 0 | S3: 0 | T3: 0 | U3: =T3-S3 -> 0 | V3: 0.29166667 | W3: 0.58333333 | X3: =W3-V3 -> 0.29166667 | Y3: 0.29166667 | Z3: 0.58333333 | AA3: =Z3-Y3 -> 0.29166667 | AB3: 0.29166667 | AC3: 0.58333333 | AD3: =AC3-AB3 -> 0.29166667 | AE3: 0 | AF3: 0 | AG3: =AF3-AE3 -> 0 | AH3: 0 | AI3: 0 | AJ3: =AI3-AH3 -> 0 | AK3: 0.29166667 | AL3: 0.58333333 | AM3: =AL3-AK3 -> 0.29166667 | AN3: 0.29166667 | AO3: 0.58333333 | AP3: =AO3-AN3 -> 0.29166667 | AQ3: 0.29166667 | AR3: 0.58333333 | AS3: =AR3-AQ3 -> 0.29166667 | AT3: 0.29166667 | AU3: 0.58333333 | AV3: =AU3-AT3 -> 0.29166667 | AW3: 0 | AX3: 0 | AY3: =AX3-AW3 -> 0 | AZ3: 0.29166667 | BA3: 0.58333333 | BB3: =BA3-AZ3 -> 0.29166667 | BC3: 0.29166667 | BD3: 0.58333333 | BE3: =BD3-BC3 -> 0.29166667 | BF3: 0.29166667 | BG3: 0.58333333 | BH3: =BG3-BF3 -> 0.29166667 | BI3: 0.29166667 | BJ3: 0.58333333 | BK3: =BJ3-BI3 -> 0.29166667 | BL3: 0.29166667 | BM3: 0.58333333 | BN3: =BM3-BL3 -> 0.29166667 | BO3: 0 | BP3: 0 | BQ3: =BP3-BO3 -> 0 | BR3: 0.58333333 | BS3: 0.875 | BT3: =BS3-BR3 -> 0.29166667 | BU3: 0.58333333 | BV3: 0.875 | BW3: =BV3-BU3 -> 0.29166667 | BX3: 0.58333333 | BY3: 0.875 | BZ3: =BY3-BX3 -> 0.29166667 | CA3: 0 | CB3: 0 | CC3: =CB3-CA3 -> 0 | CD3: 0 | CE3: 0 | CF3: =CE3-CD3 -> 0 | CG3: 0.58333333 | CH3: 0.875 | CI3: =CH3-CG3 -> 0.29166667 | CJ3: 0.58333333 | CK3: 0.875 | CL3: =CK3-CJ3 -> 0.29166667 | CM3: 0.58333333 | CN3: 0.875 | CO3: =CN3-CM3 -> 0.29166667 | CP3: 0 | CQ3: 0 | CR3: =CQ3-CP3 -> 0 | CS3: 0.58333333 | CT3: 0.875 | CU3: 0.29166667 | CV3: 0.58333333 | CW3: 0.875 | CX3: 0.29166667 | CY3: 0.58333333 | CZ3: 0.875 | DA3: 0.29166667 | DB3: 0 | DC3: 0 | DD3: =DC3-DB3 -> 0 | DE3: 0.29166667 | DF3: 0.58333333 | DG3: =DF3-DE3 -> 0.29166667 | DH3: 0.29166667 | DI3: 0.58333333 | DJ3: =DI3-DH3 -> 0.29166667 | DK3: 0.29166667 | DL3: 0.58333333 | DM3: =DL3-DK3 -> 0.29166667 | DN3: 0.29166667 | DO3: 0.58333333 | DP3: =DO3-DN3 -> 0.29166667 | DQ3: 0 | DR3: 0 | DS3: =DR3-DQ3 -> 0 | DT3: 0 | DU3: 0 | DV3: =DU3-DT3 -> 0 | DW3: 0.58333333 | DX3: 0.875 | DY3: =DX3-DW3 -> 0.29166667 | DZ3: 0.58333333 | EA3: 0.875 | EB3: =EA3-DZ3 -> 0.29166667 | EC3: 0 | ED3: 0 | EE3: =ED3-EC3 -> 0 | EF3: 0.58333333 | EG3: 0.875 | EH3: =EG3-EF3 -> 0.29166667 | EI3: 0.58333333 | EJ3: 0.875 | EK3: =EJ3-EI3 -> 0.29166667 | EL3: 0.58333333 | EM3: 0.875 | EN3: =EM3-EL3 -> 0.29166667 | EO3: 0.58333333 | EP3: 0.875 | EQ3: =EP3-EO3 -> 0.29166667

Sheet Sarah
A1: Semaine 01 | V1: Semaine 02 | AQ1: Semaine 03 | BL1: Semaine 04 | CG1: Semaine 05 | DB1: Semaine 06 | DW1: Semaine 07
A2: 42737 | D2: 42738 | G2: 42739 | J2: 42740 | M2: 42741 | P2: 42742 | S2: 42743 | V2: 42744 | Y2: 42745 | AB2: 42746 | AE2: 42747 | AH2: 42748 | AK2: 42749 | AN2: 42750 | AQ2: 42751 | AT2: 42752 | AW2: 42753 | AZ2: 42754 | BC2: 42755 | BF2: 42756 | BI2: 42757 | BL2: 42758 | BO2: 42759 | BR2: 42760 | BU2: 42761 | BX2: 42762 | CA2: 42763 | CD2: 42764 | CG2: 42765 | CJ2: 42766 | CM2: 42767 | CP2: 42768 | CS2: 42769 | CV2: 42770 | CY2: 42771 | DB2: 42772 | DE2: 42773 | DH2: 42774 | DK2: 42775 | DN2: 42776 | DQ2: 42777 | DT2: 42778 | DW2: 42779 | DZ2: 42780 | EC2: 42781 | EF2: 42782 | EI2: 42783 | EL2: 42784 | EO2: 42785
A3: 0.29166667 | B3: 0.58333333 | C3: =B3-A3 -> 0.29166667 | D3: 0.29166667 | E3: 0.58333333 | F3: =E3-D3 -> 0.29166667 | G3: 0.29166667 | H3: 0.58333333 | I3: =H3-G3 -> 0.29166667 | J3: 0 | K3: 0 | L3: =K3-J3 -> 0 | M3: 0 | N3: 0 | O3: =N3-M3 -> 0 | P3: 0.29166667 | Q3: 0.58333333 | R3: =Q3-P3 -> 0.29166667 | S3: 0.29166667 | T3: 0.58333333 | U3: =T3-S3 -> 0.29166667 | V3: 0.29166667 | W3: 0.58333333 | X3: =W3-V3 -> 0.29166667 | Y3: 0.29166667 | Z3: 0.58333333 | AA3: =Z3-Y3 -> 0.29166667 | AB3: 0 | AC3: 0 | AD3: =AC3-AB3 -> 0 | AE3: 0.29166667 | AF3: 0.58333333 | AG3: =AF3-AE3 -> 0.29166667 | AH3: 0.29166667 | AI3: 0.58333333 | AJ3: =AI3-AH3 -> 0.29166667 | AK3: 0.29166667 | AL3: 0.58333333 | AM3: =AL3-AK3 -> 0.29166667 | AN3: 0.29166667 | AO3: 0.58333333 | AP3: =AO3-AN3 -> 0.29166667 | AQ3: 0.29166667 | AR3: 0.58333333 | AS3: =AR3-AQ3 -> 0.29166667 | AT3: 0 | AU3: 0 | AV3: =AU3-AT3 -> 0 | AW3: 0.58333333 | AX3: 0.875 | AY3: =AX3-AW3 -> 0.29166667 | AZ3: 0.58333333 | BA3: 0.875 | BB3: =BA3-AZ3 -> 0.29166667 | BC3: 0.58333333 | BD3: 0.875 | BE3: =BD3-BC3 -> 0.29166667 | BF3: 0 | BG3: 0 | BH3: =BG3-BF3 -> 0 | BI3: 0 | BJ3: 0 | BK3: =BJ3-BI3 -> 0 | BL3: 0.58333333 | BM3: 0.875 | BN3: =BM3-BL3 -> 0.29166667 | BO3: 0.58333333 | BP3: 0.875 | BQ3: =BP3-BO3 -> 0.29166667 | BR3: 0.58333333 | BS3: 0.875 | BT3: =BS3-BR3 -> 0.29166667 | BU3: 0 | BV3: 0 | BW3: =BV3-BU3 -> 0 | BX3: 0.58333333 | BY3: 0.875 | BZ3: 0.29166667 | CA3: 0.58333333 | CB3: 0.875 | CC3: 0.29166667 | CD3: 0.58333333 | CE3: 0.875 | CF3: 0.29166667 | CG3: 0 | CH3: 0 | CI3: =CH3-CG3 -> 0 | CJ3: 0.29166667 | CK3: 0.58333333 | CL3: =CK3-CJ3 -> 0.29166667 | CM3: 0.29166667 | CN3: 0.58333333 | CO3: =CN3-CM3 -> 0.29166667 | CP3: 0.29166667 | CQ3: 0.58333333 | CR3: =CQ3-CP3 -> 0.29166667 | CS3: 0.29166667 | CT3: 0.58333333 | CU3: =CT3-CS3 -> 0.29166667 | CV3: 0 | CW3: 0 | CX3: =CW3-CV3 -> 0 | CY3: 0 | CZ3: 0 | DA3: =CZ3-CY3 -> 0 | DB3: 0.58333333 | DC3: 0.875 | DD3: =DC3-DB3 -> 0.29166667 | DE3: 0.58333333 | DF3: 0.875 | DG3: =DF3-DE3 -> 0.29166667 | DH3: 0 | DI3: 0 | DJ3: =DI3-DH3 -> 0 | DK3: 0.58333333 | DL3: 0.875 | DM3: =DL3-DK3 -> 0.29166667 | DN3: 0.58333333 | DO3: 0.875 | DP3: =DO3-DN3 -> 0.29166667 | DQ3: 0.58333333 | DR3: 0.875 | DS3: =DR3-DQ3 -> 0.29166667 | DT3: 0.58333333 | DU3: 0.875 | DV3: =DU3-DT3 -> 0.29166667 | DW3: 0 | DX3: 0 | DY3: =DX3-DW3 -> 0 | DZ3: 0.29166667 | EA3: 0.58333333 | EB3: =EA3-DZ3 -> 0.29166667 | EC3: 0.29166667 | ED3: 0.58333333 | EE3: =ED3-EC3 -> 0.29166667 | EF3: 0.29166667 | EG3: 0.58333333 | EH3: =EG3-EF3 -> 0.29166667 | EI3: 0.29166667 | EJ3: 0.58333333 | EK3: =EJ3-EI3 -> 0.29166667 | EL3: 0 | EM3: 0 | EN3: =EM3-EL3 -> 0 | EO3: 0 | EP3: 0 | EQ3: =EP3-EO3 -> 0

Sheet Nbre d'H X avec Y
B2: Semaine 01 | W2: Semaine 02 | AR2: Semaine 03 | BM2: Semaine 04 | CH2: Semaine 05 | DC2: Semaine 06 | DX2: Semaine 07
B3: Lundi | E3: Mardi | H3: Mercredi | K3: Jeudi | N3: Vendredi | Q3: Samedi | T3: Dimanche | W3: Lundi | Z3: Mardi | AC3: Mercredi | AF3: Jeudi | AI3: Vendredi | AL3: Samedi | AO3: Dimanche | AR3: Lundi | AU3: Mardi | AX3: Mercredi | BA3: Jeudi | BD3: Vendredi | BG3: Samedi | BJ3: Dimanche | BM3: Lundi | BP3: Mardi | BS3: Mercredi | BV3: Jeudi | BY3: Vendredi | CB3: Samedi | CE3: Dimanche | CH3: Lundi | CK3: Mardi | CN3: Mercredi | CQ3: Jeudi | CT3: Vendredi | CW3: Samedi | CZ3: Dimanche | DC3: Lundi | DF3: Mardi | DI3: Mercredi | DL3: Jeudi | DO3: Vendredi | DR3: Samedi | DU3: Dimanche | DX3: Lundi | EA3: Mardi | ED3: Mercredi | EG3: Jeudi | EJ3: Vendredi | EM3: Samedi | EP3: Dimanche
A4: Myriame avec : | ES4: =A4&" "&"TOTAL" -> Myriame avec : TOTAL
A5: Stéphane | B5: =IF(_xlfn.ISFORMULA('Roulement '!B3)=TRUE,"",IF(A5=0.291666666666667,"",IF(AND('Roulement '!B$3>0,SUMPRODUCT(('Roulement '!$A$3:$A$9=$A5)*('Roulement '!B$3:B$9='Roulement '!B$3))=1),0.291666666666667,""))) -> 0.29166667 | C5: =IF(_xlfn.ISFORMULA('Roulement '!C3)=TRUE,"",IF(B5=0.291666666666667,"",IF(AND('Roulement '!C$3>0,SUMPRODUCT(('Roulement '!$A$3:$A$9=$A5)*('Roulement '!C$3:C$9='Roulement '!C$3))=1),0.291666666666667,""))) | D5: =IF(_xlfn.ISFORMULA('Roulement '!D3)=TRUE,"",IF(C5=0.291666666666667,"",IF(AND('Roulement '!D$3>0,SUMPRODUCT(('Roulement '!$A$3:$A$9=$A5)*('Roulement '!D$3:D$9='Roulement '!D$3))=1),0.291666666666667,""))) | E5: =IF(_xlfn.ISFORMULA('Roulement '!E3)=TRUE,"",IF(D5=0.291666666666667,"",IF(AND('Roulement '!E$3>0,SUMPRODUCT(('Roulement '!$A$3:$A$9=$A5)*('Roulement '!E$3:E$9='Roulement '!E$3))=1),0.291666666666667,""))) | F5: =IF(_xlfn.ISFORMULA('Roulement '!F3)=TRUE,"",IF(E5=0.291666666666667,"",IF(AND('Roulement '!F$3>0,SUMPRODUCT(('Roulement '!$A$3:$A$9=$A5)*('Roulement '!F$3:F$9='Roulement '!F$3))=1),0.291666666666667,""))) | G5: =IF(_xlfn.ISFORMULA('Roulement '!G3)=TRUE,"",IF(F5=0.291666666666667,"",IF(AND('Roulement '!G$3>0,SUMPRODUCT(('Roulement '!$A$3:$A$9=$A5)*('Roulement '!G$3:G$9='Roulement '!G$3))=1),0.291666666666667,""))) | H5: =IF(_xlfn.ISFORMULA('Roulement '!H3)=TRUE,"",IF(G5=0.291666666666667,"",IF(AND('Roulement '!H$3>0,SUMPRODUCT(('Roulement '!$A$3:$A$9=$A5)*('Roulement '!H$3:H$9='Roulement '!H$3))=1),0.291666666666667,""))) | I5: =IF(_xlfn.ISFORMULA('Roulement '!I3)=TRUE,"",IF(H5=0.291666666666667,"",IF(AND('Roulement '!I$3>0,SUMPRODUCT(('Roulement '!$A$3:$A$9=$A5)*('Roulement '!I$3:I$9='Roulement '!I$3))=1),0.291666666666667,""))) | ... ER5: =IF(_xlfn.ISFORMULA('Roulement '!ER3)=TRUE,"",IF(EQ5=0.291666666666667,"",IF(AND('Roulement '!ER$3>0,SUMPRODUCT(('Roulement '!$A$3:$A$9=$A5)*('Roulement '!ER$3:ER$9='Roulement '!ER$3))=1),0.291666666666667,""))) | ES5: =SUM(B5:ER5) -> 2.625 | ET5: =A5 -> Stéphane
A6: Marie Claude | B6: =IF(_xlfn.ISFORMULA('Roulement '!B4)=TRUE,"",IF(A6=0.291666666666667,"",IF(AND('Roulement '!B$3>0,SUMPRODUCT(('Roulement '!$A$3:$A$9=$A6)*('Roulement '!B$3:B$9='Roulement '!B$3))=1),0.291666666666667,""))) | C6: =IF(_xlfn.ISFORMULA('Roulement '!C4)=TRUE,"",IF(B6=0.291666666666667,"",IF(AND('Roulement '!C$3>0,SUMPRODUCT(('Roulement '!$A$3:$A$9=$A6)*('Roulement '!C$3:C$9='Roulement '!C$3))=1),0.291666666666667,""))) | D6: =IF(_xlfn.ISFORMULA('Roulement '!D4)=TRUE,"",IF(C6=0.291666666666667,"",IF(AND('Roulement '!D$3>0,SUMPRODUCT(('Roulement '!$A$3:$A$9=$A6)*('Roulement '!D$3:D$9='Roulement '!D$3))=1),0.291666666666667,""))) | E6: =IF(_xlfn.ISFORMULA('Roulement '!E4)=TRUE,"",IF(D6=0.291666666666667,"",IF(AND('Roulement '!E$3>0,SUMPRODUCT(('Roulement '!$A$3:$A$9=$A6)*('Roulement '!E$3:E$9='Roulement '!E$3))=1),0.291666666666667,""))) | F6: =IF(_xlfn.ISFORMULA('Roulement '!F4)=TRUE,"",IF(E6=0.291666666666667,"",IF(AND('Roulement '!F$3>0,SUMPRODUCT(('Roulement '!$A$3:$A$9=$A6)*('Roulement '!F$3:F$9='Roulement '!F$3))=1),0.291666666666667,""))) | G6: =IF(_xlfn.ISFORMULA('Roulement '!G4)=TRUE,"",IF(F6=0.291666666666667,"",IF(AND('Roulement '!G$3>0,SUMPRODUCT(('Roulement '!$A$3:$A$9=$A6)*('Roulement '!G$3:G$9='Roulement '!G$3))=1),0.291666666666667,""))) | H6: =IF(_xlfn.ISFORMULA('Roulement '!H4)=TRUE,"",IF(G6=0.291666666666667,"",IF(AND('Roulement '!H$3>0,SUMPRODUCT(('Roulement '!$A$3:$A$9=$A6)*('Roulement '!H$3:H$9='Roulement '!H$3))=1),0.291666666666667,""))) | I6: =IF(_xlfn.ISFORMULA('Roulement '!I4)=TRUE,"",IF(H6=0.291666666666667,"",IF(AND('Roulement '!I$3>0,SUMPRODUCT(('Roulement '!$A$3:$A$9=$A6)*('Roulement '!I$3:I$9='Roulement '!I$3))=1),0.291666666666667,""))) | ... ER6: =IF(_xlfn.ISFORMULA('Roulement '!ER4)=TRUE,"",IF(EQ6=0.291666666666667,"",IF(AND('Roulement '!ER$3>0,SUMPRODUCT(('Roulement '!$A$3:$A$9=$A6)*('Roulement '!ER$3:ER$9='Roulement '!ER$3))=1),0.291666666666667,""))) | ES6: =SUM(B6:ER6) -> 3.7916667 | ET6: =A6 -> Marie Claude
A7: Eddy | B7: =IF(_xlfn.ISFORMULA('Roulement '!B5)=TRUE,"",IF(A7=0.291666666666667,"",IF(AND('Roulement '!B$3>0,SUMPRODUCT(('Roulement '!$A$3:$A$9=$A7)*('Roulement '!B$3:B$9='Roulement '!B$3))=1),0.291666666666667,""))) | C7: =IF(_xlfn.ISFORMULA('Roulement '!C5)=TRUE,"",IF(B7=0.291666666666667,"",IF(AND('Roulement '!C$3>0,SUMPRODUCT(('Roulement '!$A$3:$A$9=$A7)*('Roulement '!C$3:C$9='Roulement '!C$3))=1),0.291666666666667,""))) | D7: =IF(_xlfn.ISFORMULA('Roulement '!D5)=TRUE,"",IF(C7=0.291666666666667,"",IF(AND('Roulement '!D$3>0,SUMPRODUCT(('Roulement '!$A$3:$A$9=$A7)*('Roulement '!D$3:D$9='Roulement '!D$3))=1),0.291666666666667,""))) | E7: =IF(_xlfn.ISFORMULA('Roulement '!E5)=TRUE,"",IF(D7=0.291666666666667,"",IF(AND('Roulement '!E$3>0,SUMPRODUCT(('Roulement '!$A$3:$A$9=$A7)*('Roulement '!E$3:E$9='Roulement '!E$3))=1),0.291666666666667,""))) -> 0.29166667 | F7: =IF(_xlfn.ISFORMULA('Roulement '!F5)=TRUE,"",IF(E7=0.291666666666667,"",IF(AND('Roulement '!F$3>0,SUMPRODUCT(('Roulement '!$A$3:$A$9=$A7)*('Roulement '!F$3:F$9='Roulement '!F$3))=1),0.291666666666667,""))) | G7: =IF(_xlfn.ISFORMULA('Roulement '!G5)=TRUE,"",IF(F7=0.291666666666667,"",IF(AND('Roulement '!G$3>0,SUMPRODUCT(('Roulement '!$A$3:$A$9=$A7)*('Roulement '!G$3:G$9='Roulement '!G$3))=1),0.291666666666667,""))) | H7: =IF(_xlfn.ISFORMULA('Roulement '!H5)=TRUE,"",IF(G7=0.291666666666667,"",IF(AND('Roulement '!H$3>0,SUMPRODUCT(('Roulement '!$A$3:$A$9=$A7)*('Roulement '!H$3:H$9='Roulement '!H$3))=1),0.291666666666667,""))) | I7: =IF(_xlfn.ISFORMULA('Roulement '!I5)=TRUE,"",IF(H7=0.291666666666667,"",IF(AND('Roulement '!I$3>0,SUMPRODUCT(('Roulement '!$A$3:$A$9=$A7)*('Roulement '!I$3:I$9='Roulement '!I$3))=1),0.291666666666667,""))) | ... ER7: =IF(_xlfn.ISFORMULA('Roulement '!ER5)=TRUE,"",IF(EQ7=0.291666666666667,"",IF(AND('Roulement '!ER$3>0,SUMPRODUCT(('Roulement '!$A$3:$A$9=$A7)*('Roulement '!ER$3:ER$9='Roulement '!ER$3))=1),0.291666666666667,""))) | ES7: =SUM(B7:ER7) -> 2.0416667 | ET7: =A7 -> Eddy
A8: Patricia | B8: =IF(_xlfn.ISFORMULA('Roulement '!B6)=TRUE,"",IF(A8=0.291666666666667,"",IF(AND('Roulement '!B$3>0,SUMPRODUCT(('Roulement '!$A$3:$A$9=$A8)*('Roulement '!B$3:B$9='Roulement '!B$3))=1),0.291666666666667,""))) | C8: =IF(_xlfn.ISFORMULA('Roulement '!C6)=TRUE,"",IF(B8=0.291666666666667,"",IF(AND('Roulement '!C$3>0,SUMPRODUCT(('Roulement '!$A$3:$A$9=$A8)*('Roulement '!C$3:C$9='Roulement '!C$3))=1),0.291666666666667,""))) | D8: =IF(_xlfn.ISFORMULA('Roulement '!D6)=TRUE,"",IF(C8=0.291666666666667,"",IF(AND('Roulement '!D$3>0,SUMPRODUCT(('Roulement '!$A$3:$A$9=$A8)*('Roulement '!D$3:D$9='Roulement '!D$3))=1),0.291666666666667,""))) | E8: =IF(_xlfn.ISFORMULA('Roulement '!E6)=TRUE,"",IF(D8=0.291666666666667,"",IF(AND('Roulement '!E$3>0,SUMPRODUCT(('Roulement '!$A$3:$A$9=$A8)*('Roulement '!E$3:E$9='Roulement '!E$3))=1),0.291666666666667,""))) | F8: =IF(_xlfn.ISFORMULA('Roulement '!F6)=TRUE,"",IF(E8=0.291666666666667,"",IF(AND('Roulement '!F$3>0,SUMPRODUCT(('Roulement '!$A$3:$A$9=$A8)*('Roulement '!F$3:F$9='Roulement '!F$3))=1),0.291666666666667,""))) | G8: =IF(_xlfn.ISFORMULA('Roulement '!G6)=TRUE,"",IF(F8=0.291666666666667,"",IF(AND('Roulement '!G$3>0,SUMPRODUCT(('Roulement '!$A$3:$A$9=$A8)*('Roulement '!G$3:G$9='Roulement '!G$3))=1),0.291666666666667,""))) | H8: =IF(_xlfn.ISFORMULA('Roulement '!H6)=TRUE,"",IF(G8=0.291666666666667,"",IF(AND('Roulement '!H$3>0,SUMPRODUCT(('Roulement '!$A$3:$A$9=$A8)*('Roulement '!H$3:H$9='Roulement '!H$3))=1),0.291666666666667,""))) | I8: =IF(_xlfn.ISFORMULA('Roulement '!I6)=TRUE,"",IF(H8=0.291666666666667,"",IF(AND('Roulement '!I$3>0,SUMPRODUCT(('Roulement '!$A$3:$A$9=$A8)*('Roulement '!I$3:I$9='Roulement '!I$3))=1),0.291666666666667,""))) | ... ER8: =IF(_xlfn.ISFORMULA('Roulement '!ER6)=TRUE,"",IF(EQ8=0.291666666666667,"",IF(AND('Roulement '!ER$3>0,SUMPRODUCT(('Roulement '!$A$3:$A$9=$A8)*('Roulement '!ER$3:ER$9='Roulement '!ER$3))=1),0.291666666666667,""))) | ES8: =SUM(B8:ER8) -> 2.0416667 | ET8: =A8 -> Patricia
A9: Kathy | B9: =IF(_xlfn.ISFORMULA('Roulement '!B7)=TRUE,"",IF(A9=0.291666666666667,"",IF(AND('Roulement '!B$3>0,SUMPRODUCT(('Roulement '!$A$3:$A$9=$A9)*('Roulement '!B$3:B$9='Roulement '!B$3))=1),0.291666666666667,""))) | C9: =IF(_xlfn.ISFORMULA('Roulement '!C7)=TRUE,"",IF(B9=0.291666666666667,"",IF(AND('Roulement '!C$3>0,SUMPRODUCT(('Roulement '!$A$3:$A$9=$A9)*('Roulement '!C$3:C$9='Roulement '!C$3))=1),0.291666666666667,""))) | D9: =IF(_xlfn.ISFORMULA('Roulement '!D7)=TRUE,"",IF(C9=0.291666666666667,"",IF(AND('Roulement '!D$3>0,SUMPRODUCT(('Roulement '!$A$3:$A$9=$A9)*('Roulement '!D$3:D$9='Roulement '!D$3))=1),0.291666666666667,""))) | E9: =IF(_xlfn.ISFORMULA('Roulement '!E7)=TRUE,"",IF(D9=0.291666666666667,"",IF(AND('Roulement '!E$3>0,SUMPRODUCT(('Roulement '!$A$3:$A$9=$A9)*('Roulement '!E$3:E$9='Roulement '!E$3))=1),0.291666666666667,""))) -> 0.29166667 | F9: =IF(_xlfn.ISFORMULA('Roulement '!F7)=TRUE,"",IF(E9=0.291666666666667,"",IF(AND('Roulement '!F$3>0,SUMPRODUCT(('Roulement '!$A$3:$A$9=$A9)*('Roulement '!F$3:F$9='Roulement '!F$3))=1),0.291666666666667,""))) | G9: =IF(_xlfn.ISFORMULA('Roulement '!G7)=TRUE,"",IF(F9=0.291666666666667,"",IF(AND('Roulement '!G$3>0,SUMPRODUCT(('Roulement '!$A$3:$A$9=$A9)*('Roulement '!G$3:G$9='Roulement '!G$3))=1),0.291666666666667,""))) | H9: =IF(_xlfn.ISFORMULA('Roulement '!H7)=TRUE,"",IF(G9=0.291666666666667,"",IF(AND('Roulement '!H$3>0,SUMPRODUCT(('Roulement '!$A$3:$A$9=$A9)*('Roulement '!H$3:H$9='Roulement '!H$3))=1),0.291666666666667,""))) | I9: =IF(_xlfn.ISFORMULA('Roulement '!I7)=TRUE,"",IF(H9=0.291666666666667,"",IF(AND('Roulement '!I$3>0,SUMPRODUCT(('Roulement '!$A$3:$A$9=$A9)*('Roulement '!I$3:I$9='Roulement '!I$3))=1),0.291666666666667,""))) | ... ER9: =IF(_xlfn.ISFORMULA('Roulement '!ER7)=TRUE,"",IF(EQ9=0.291666666666667,"",IF(AND('Roulement '!ER$3>0,SUMPRODUCT(('Roulement '!$A$3:$A$9=$A9)*('Roulement '!ER$3:ER$9='Roulement '!ER$3))=1),0.291666666666667,""))) | ES9: =SUM(B9:ER9) -> 3.7916667 | ET9: =A9 -> Kathy
A10: Sarah | B10: =IF(_xlfn.ISFORMULA('Roulement '!B8)=TRUE,"",IF(A10=0.291666666666667,"",IF(AND('Roulement '!B$3>0,SUMPRODUCT(('Roulement '!$A$3:$A$9=$A10)*('Roulement '!B$3:B$9='Roulement '!B$3))=1),0.291666666666667,""))) -> 0.29166667 | C10: =IF(_xlfn.ISFORMULA('Roulement '!C8)=TRUE,"",IF(B10=0.291666666666667,"",IF(AND('Roulement '!C$3>0,SUMPRODUCT(('Roulement '!$A$3:$A$9=$A10)*('Roulement '!C$3:C$9='Roulement '!C$3))=1),0.291666666666667,""))) | D10: =IF(_xlfn.ISFORMULA('Roulement '!D8)=TRUE,"",IF(C10=0.291666666666667,"",IF(AND('Roulement '!D$3>0,SUMPRODUCT(('Roulement '!$A$3:$A$9=$A10)*('Roulement '!D$3:D$9='Roulement '!D$3))=1),0.291666666666667,""))) | E10: =IF(_xlfn.ISFORMULA('Roulement '!E8)=TRUE,"",IF(D10=0.291666666666667,"",IF(AND('Roulement '!E$3>0,SUMPRODUCT(('Roulement '!$A$3:$A$9=$A10)*('Roulement '!E$3:E$9='Roulement '!E$3))=1),0.291666666666667,""))) -> 0.29166667 | F10: =IF(_xlfn.ISFORMULA('Roulement '!F8)=TRUE,"",IF(E10=0.291666666666667,"",IF(AND('Roulement '!F$3>0,SUMPRODUCT(('Roulement '!$A$3:$A$9=$A10)*('Roulement '!F$3:F$9='Roulement '!F$3))=1),0.291666666666667,""))) | G10: =IF(_xlfn.ISFORMULA('Roulement '!G8)=TRUE,"",IF(F10=0.291666666666667,"",IF(AND('Roulement '!G$3>0,SUMPRODUCT(('Roulement '!$A$3:$A$9=$A10)*('Roulement '!G$3:G$9='Roulement '!G$3))=1),0.291666666666667,""))) | H10: =IF(_xlfn.ISFORMULA('Roulement '!H8)=TRUE,"",IF(G10=0.291666666666667,"",IF(AND('Roulement '!H$3>0,SUMPRODUCT(('Roulement '!$A$3:$A$9=$A10)*('Roulement '!H$3:H$9='Roulement '!H$3))=1),0.291666666666667,""))) | I10: =IF(_xlfn.ISFORMULA('Roulement '!I8)=TRUE,"",IF(H10=0.291666666666667,"",IF(AND('Roulement '!I$3>0,SUMPRODUCT(('Roulement '!$A$3:$A$9=$A10)*('Roulement '!I$3:I$9='Roulement '!I$3))=1),0.291666666666667,""))) | ... ER10: =IF(_xlfn.ISFORMULA('Roulement '!ER8)=TRUE,"",IF(EQ10=0.291666666666667,"",IF(AND('Roulement '!ER$3>0,SUMPRODUCT(('Roulement '!$A$3:$A$9=$A10)*('Roulement '!ER$3:ER$9='Roulement '!ER$3))=1),0.291666666666667,""))) | ES10: =SUM(B10:ER10) -> 2.625 | ET10: =A10 -> Sarah
B12: Lundi | E12: Mardi | H12: Mercredi | K12: Jeudi | N12: Vendredi | Q12: Samedi | T12: Dimanche | W12: Lundi | Z12: Mardi | AC12: Mercredi | AF12: Jeudi | AI12: Vendredi | AL12: Samedi | AO12: Dimanche | AR12: Lundi | AU12: Mardi | AX12: Mercredi | BA12: Jeudi | BD12: Vendredi | BG12: Samedi | BJ12: Dimanche | BM12: Lundi | BP12: Mardi | BS12: Mercredi | BV12: Jeudi | BY12: Vendredi | CB12: Samedi | CE12: Dimanche | CH12: Lundi | CK12: Mardi | CN12: Mercredi | CQ12: Jeudi | CT12: Vendredi | CW12: Samedi | CZ12: Dimanche | DC12: Lundi | DF12: Mardi | DI12: Mercredi | DL12: Jeudi | DO12: Vendredi | DR12: Samedi | DU12: Dimanche | DX12: Lundi | EA12: Mardi | ED12: Mercredi | EG12: Jeudi | EJ12: Vendredi | EM12: Samedi | EP12: Dimanche
A13: Stéphane avec : | ES13: =A13&" "&"TOTAL" -> Stéphane avec : TOTAL
A14: Myriame | B14: =IF(_xlfn.ISFORMULA('Roulement '!B3)=TRUE,"",IF(A14=0.291666666666667,"",IF(AND('Roulement '!B$4>0,SUMPRODUCT(('Roulement '!$A$3:$A$9=$A14)*('Roulement '!B$3:B$9='Roulement '!B$4))=1),0.291666666666667,""))) -> 0.29166667 | C14: =IF(_xlfn.ISFORMULA('Roulement '!C3)=TRUE,"",IF(B14=0.291666666666667,"",IF(AND('Roulement '!C$4>0,SUMPRODUCT(('Roulement '!$A$3:$A$9=$A14)*('Roulement '!C$3:C$9='Roulement '!C$4))=1),0.291666666666667,""))) | D14: =IF(_xlfn.ISFORMULA('Roulement '!D3)=TRUE,"",IF(C14=0.291666666666667,"",IF(AND('Roulement '!D$4>0,SUMPRODUCT(('Roulement '!$A$3:$A$9=$A14)*('Roulement '!D$3:D$9='Roulement '!D$4))=1),0.291666666666667,""))) | E14: =IF(_xlfn.ISFORMULA('Roulement '!E3)=TRUE,"",IF(D14=0.291666666666667,"",IF(AND('Roulement '!E$4>0,SUMPRODUCT(('Roulement '!$A$3:$A$9=$A14)*('Roulement '!E$3:E$9='Roulement '!E$4))=1),0.291666666666667,""))) | F14: =IF(_xlfn.ISFORMULA('Roulement '!F3)=TRUE,"",IF(E14=0.291666666666667,"",IF(AND('Roulement '!F$4>0,SUMPRODUCT(('Roulement '!$A$3:$A$9=$A14)*('Roulement '!F$3:F$9='Roulement '!F$4))=1),0.291666666666667,""))) | G14: =IF(_xlfn.ISFORMULA('Roulement '!G3)=TRUE,"",IF(F14=0.291666666666667,"",IF(AND('Roulement '!G$4>0,SUMPRODUCT(('Roulement '!$A$3:$A$9=$A14)*('Roulement '!G$3:G$9='Roulement '!G$4))=1),0.291666666666667,""))) | H14: =IF(_xlfn.ISFORMULA('Roulement '!H3)=TRUE,"",IF(G14=0.291666666666667,"",IF(AND('Roulement '!H$4>0,SUMPRODUCT(('Roulement '!$A$3:$A$9=$A14)*('Roulement '!H$3:H$9='Roulement '!H$4))=1),0.291666666666667,""))) | I14: =IF(_xlfn.ISFORMULA('Roulement '!I3)=TRUE,"",IF(H14=0.291666666666667,"",IF(AND('Roulement '!I$4>0,SUMPRODUCT(('Roulement '!$A$3:$A$9=$A14)*('Roulement '!I$3:I$9='Roulement '!I$4))=1),0.291666666666667,""))) | ... ER14: =IF(_xlfn.ISFORMULA('Roulement '!ER3)=TRUE,"",IF(EQ14=0.291666666666667,"",IF(AND('Roulement '!ER$4>0,SUMPRODUCT(('Roulement '!$A$3:$A$9=$A14)*('Roulement '!ER$3:ER$9='Roulement '!ER$4))=1),0.291666666666667,""))) | ES14: =SUM(B14:ER14) -> 2.625 | ET14: =A14 -> Myriame
A15: Marie Claude | B15: =IF(_xlfn.ISFORMULA('Roulement '!B4)=TRUE,"",IF(A15=0.291666666666667,"",IF(AND('Roulement '!B$4>0,SUMPRODUCT(('Roulement '!$A$3:$A$9=$A15)*('Roulement '!B$3:B$9='Roulement '!B$4))=1),0.291666666666667,""))) | C15: =IF(_xlfn.ISFORMULA('Roulement '!C4)=TRUE,"",IF(B15=0.291666666666667,"",IF(AND('Roulement '!C$4>0,SUMPRODUCT(('Roulement '!$A$3:$A$9=$A15)*('Roulement '!C$3:C$9='Roulement '!C$4))=1),0.291666666666667,""))) | D15: =IF(_xlfn.ISFORMULA('Roulement '!D4)=TRUE,"",IF(C15=0.291666666666667,"",IF(AND('Roulement '!D$4>0,SUMPRODUCT(('Roulement '!$A$3:$A$9=$A15)*('Roulement '!D$3:D$9='Roulement '!D$4))=1),0.291666666666667,""))) | E15: =IF(_xlfn.ISFORMULA('Roulement '!E4)=TRUE,"",IF(D15=0.291666666666667,"",IF(AND('Roulement '!E$4>0,SUMPRODUCT(('Roulement '!$A$3:$A$9=$A15)*('Roulement '!E$3:E$9='Roulement '!E$4))=1),0.291666666666667,""))) | F15: =IF(_xlfn.ISFORMULA('Roulement '!F4)=TRUE,"",IF(E15=0.291666666666667,"",IF(AND('Roulement '!F$4>0,SUMPRODUCT(('Roulement '!$A$3:$A$9=$A15)*('Roulement '!F$3:F$9='Roulement '!F$4))=1),0.291666666666667,""))) | G15: =IF(_xlfn.ISFORMULA('Roulement '!G4)=TRUE,"",IF(F15=0.291666666666667,"",IF(AND('Roulement '!G$4>0,SUMPRODUCT(('Roulement '!$A$3:$A$9=$A15)*('Roulement '!G$3:G$9='Roulement '!G$4))=1),0.291666666666667,""))) | H15: =IF(_xlfn.ISFORMULA('Roulement '!H4)=TRUE,"",IF(G15=0.291666666666667,"",IF(AND('Roulement '!H$4>0,SUMPRODUCT(('Roulement '!$A$3:$A$9=$A15)*('Roulement '!H$3:H$9='Roulement '!H$4))=1),0.291666666666667,""))) -> 0.29166667 | I15: =IF(_xlfn.ISFORMULA('Roulement '!I4)=TRUE,"",IF(H15=0.291666666666667,"",IF(AND('Roulement '!I$4>0,SUMPRODUCT(('Roulement '!$A$3:$A$9=$A15)*('Roulement '!I$3:I$9='Roulement '!I$4))=1),0.291666666666667,""))) | ... ER15: =IF(_xlfn.ISFORMULA('Roulement '!ER4)=TRUE,"",IF(EQ15=0.291666666666667,"",IF(AND('Roulement '!ER$4>0,SUMPRODUCT(('Roulement '!$A$3:$A$9=$A15)*('Roulement '!ER$3:ER$9='Roulement '!ER$4))=1),0.291666666666667,""))) | ES15: =SUM(B15:ER15) -> 2.625 | ET15: =A15 -> Marie Claude
A16: Eddy | B16: =IF(_xlfn.ISFORMULA('Roulement '!B5)=TRUE,"",IF(A16=0.291666666666667,"",IF(AND('Roulement '!B$4>0,SUMPRODUCT(('Roulement '!$A$3:$A$9=$A16)*('Roulement '!B$3:B$9='Roulement '!B$4))=1),0.291666666666667,""))) | C16: =IF(_xlfn.ISFORMULA('Roulement '!C5)=TRUE,"",IF(B16=0.291666666666667,"",IF(AND('Roulement '!C$4>0,SUMPRODUCT(('Roulement '!$A$3:$A$9=$A16)*('Roulement '!C$3:C$9='Roulement '!C$4))=1),0.291666666666667,""))) | D16: =IF(_xlfn.ISFORMULA('Roulement '!D5)=TRUE,"",IF(C16=0.291666666666667,"",IF(AND('Roulement '!D$4>0,SUMPRODUCT(('Roulement '!$A$3:$A$9=$A16)*('Roulement '!D$3:D$9='Roulement '!D$4))=1),0.291666666666667,""))) | E16: =IF(_xlfn.ISFORMULA('Roulement '!E5)=TRUE,"",IF(D16=0.291666666666667,"",IF(AND('Roulement '!E$4>0,SUMPRODUCT(('Roulement '!$A$3:$A$9=$A16)*('Roulement '!E$3:E$9='Roulement '!E$4))=1),0.291666666666667,""))) | F16: =IF(_xlfn.ISFORMULA('Roulement '!F5)=TRUE,"",IF(E16=0.291666666666667,"",IF(AND('Roulement '!F$4>0,SUMPRODUCT(('Roulement '!$A$3:$A$9=$A16)*('Roulement '!F$3:F$9='Roulement '!F$4))=1),0.291666666666667,""))) | G16: =IF(_xlfn.ISFORMULA('Roulement '!G5)=TRUE,"",IF(F16=0.291666666666667,"",IF(AND('Roulement '!G$4>0,SUMPRODUCT(('Roulement '!$A$3:$A$9=$A16)*('Roulement '!G$3:G$9='Roulement '!G$4))=1),0.291666666666667,""))) | H16: =IF(_xlfn.ISFORMULA('Roulement '!H5)=TRUE,"",IF(G16=0.291666666666667,"",IF(AND('Roulement '!H$4>0,SUMPRODUCT(('Roulement '!$A$3:$A$9=$A16)*('Roulement '!H$3:H$9='Roulement '!H$4))=1),0.291666666666667,""))) | I16: =IF(_xlfn.ISFORMULA('Roulement '!I5)=TRUE,"",IF(H16=0.291666666666667,"",IF(AND('Roulement '!I$4>0,SUMPRODUCT(('Roulement '!$A$3:$A$9=$A16)*('Roulement '!I$3:I$9='Roulement '!I$4))=1),0.291666666666667,""))) | ... ER16: =IF(_xlfn.ISFORMULA('Roulement '!ER5)=TRUE,"",IF(EQ16=0.291666666666667,"",IF(AND('Roulement '!ER$4>0,SUMPRODUCT(('Roulement '!$A$3:$A$9=$A16)*('Roulement '!ER$3:ER$9='Roulement '!ER$4))=1),0.291666666666667,""))) | ES16: =SUM(B16:ER16) -> 3.7916667 | ET16: =A16 -> Eddy
A17: Patricia | B17: =IF(_xlfn.ISFORMULA('Roulement '!B6)=TRUE,"",IF(A17=0.291666666666667,"",IF(AND('Roulement '!B$4>0,SUMPRODUCT(('Roulement '!$A$3:$A$9=$A17)*('Roulement '!B$3:B$9='Roulement '!B$4))=1),0.291666666666667,""))) | C17: =IF(_xlfn.ISFORMULA('Roulement '!C6)=TRUE,"",IF(B17=0.291666666666667,"",IF(AND('Roulement '!C$4>0,SUMPRODUCT(('Roulement '!$A$3:$A$9=$A17)*('Roulement '!C$3:C$9='Roulement '!C$4))=1),0.291666666666667,""))) | D17: =IF(_xlfn.ISFORMULA('Roulement '!D6)=TRUE,"",IF(C17=0.291666666666667,"",IF(AND('Roulement '!D$4>0,SUMPRODUCT(('Roulement '!$A$3:$A$9=$A17)*('Roulement '!D$3:D$9='Roulement '!D$4))=1),0.291666666666667,""))) | E17: =IF(_xlfn.ISFORMULA('Roulement '!E6)=TRUE,"",IF(D17=0.291666666666667,"",IF(AND('Roulement '!E$4>0,SUMPRODUCT(('Roulement '!$A$3:$A$9=$A17)*('Roulement '!E$3:E$9='Roulement '!E$4))=1),0.291666666666667,""))) | F17: =IF(_xlfn.ISFORMULA('Roulement '!F6)=TRUE,"",IF(E17=0.291666666666667,"",IF(AND('Roulement '!F$4>0,SUMPRODUCT(('Roulement '!$A$3:$A$9=$A17)*('Roulement '!F$3:F$9='Roulement '!F$4))=1),0.291666666666667,""))) | G17: =IF(_xlfn.ISFORMULA('Roulement '!G6)=TRUE,"",IF(F17=0.291666666666667,"",IF(AND('Roulement '!G$4>0,SUMPRODUCT(('Roulement '!$A$3:$A$9=$A17)*('Roulement '!G$3:G$9='Roulement '!G$4))=1),0.291666666666667,""))) | H17: =IF(_xlfn.ISFORMULA('Roulement '!H6)=TRUE,"",IF(G17=0.291666666666667,"",IF(AND('Roulement '!H$4>0,SUMPRODUCT(('Roulement '!$A$3:$A$9=$A17)*('Roulement '!H$3:H$9='Roulement '!H$4))=1),0.291666666666667,""))) | I17: =IF(_xlfn.ISFORMULA('Roulement '!I6)=TRUE,"",IF(H17=0.291666666666667,"",IF(AND('Roulement '!I$4>0,SUMPRODUCT(('Roulement '!$A$3:$A$9=$A17)*('Roulement '!I$3:I$9='Roulement '!I$4))=1),0.291666666666667,""))) | ... ER17: =IF(_xlfn.ISFORMULA('Roulement '!ER6)=TRUE,"",IF(EQ17=0.291666666666667,"",IF(AND('Roulement '!ER$4>0,SUMPRODUCT(('Roulement '!$A$3:$A$9=$A17)*('Roulement '!ER$3:ER$9='Roulement '!ER$4))=1),0.291666666666667,""))) | ES17: =SUM(B17:ER17) -> 2.0416667 | ET17: =A17 -> Patricia
A18: Kathy | B18: =IF(_xlfn.ISFORMULA('Roulement '!B7)=TRUE,"",IF(A18=0.291666666666667,"",IF(AND('Roulement '!B$4>0,SUMPRODUCT(('Roulement '!$A$3:$A$9=$A18)*('Roulement '!B$3:B$9='Roulement '!B$4))=1),0.291666666666667,""))) | C18: =IF(_xlfn.ISFORMULA('Roulement '!C7)=TRUE,"",IF(B18=0.291666666666667,"",IF(AND('Roulement '!C$4>0,SUMPRODUCT(('Roulement '!$A$3:$A$9=$A18)*('Roulement '!C$3:C$9='Roulement '!C$4))=1),0.291666666666667,""))) | D18: =IF(_xlfn.ISFORMULA('Roulement '!D7)=TRUE,"",IF(C18=0.291666666666667,"",IF(AND('Roulement '!D$4>0,SUMPRODUCT(('Roulement '!$A$3:$A$9=$A18)*('Roulement '!D$3:D$9='Roulement '!D$4))=1),0.291666666666667,""))) | E18: =IF(_xlfn.ISFORMULA('Roulement '!E7)=TRUE,"",IF(D18=0.291666666666667,"",IF(AND('Roulement '!E$4>0,SUMPRODUCT(('Roulement '!$A$3:$A$9=$A18)*('Roulement '!E$3:E$9='Roulement '!E$4))=1),0.291666666666667,""))) | F18: =IF(_xlfn.ISFORMULA('Roulement '!F7)=TRUE,"",IF(E18=0.291666666666667,"",IF(AND('Roulement '!F$4>0,SUMPRODUCT(('Roulement '!$A$3:$A$9=$A18)*('Roulement '!F$3:F$9='Roulement '!F$4))=1),0.291666666666667,""))) | G18: =IF(_xlfn.ISFORMULA('Roulement '!G7)=TRUE,"",IF(F18=0.291666666666667,"",IF(AND('Roulement '!G$4>0,SUMPRODUCT(('Roulement '!$A$3:$A$9=$A18)*('Roulement '!G$3:G$9='Roulement '!G$4))=1),0.291666666666667,""))) | H18: =IF(_xlfn.ISFORMULA('Roulement '!H7)=TRUE,"",IF(G18=0.291666666666667,"",IF(AND('Roulement '!H$4>0,SUMPRODUCT(('Roulement '!$A$3:$A$9=$A18)*('Roulement '!H$3:H$9='Roulement '!H$4))=1),0.291666666666667,""))) | I18: =IF(_xlfn.ISFORMULA('Roulement '!I7)=TRUE,"",IF(H18=0.291666666666667,"",IF(AND('Roulement '!I$4>0,SUMPRODUCT(('Roulement '!$A$3:$A$9=$A18)*('Roulement '!I$3:I$9='Roulement '!I$4))=1),0.291666666666667,""))) | ... ER18: =IF(_xlfn.ISFORMULA('Roulement '!ER7)=TRUE,"",IF(EQ18=0.291666666666667,"",IF(AND('Roulement '!ER$4>0,SUMPRODUCT(('Roulement '!$A$3:$A$9=$A18)*('Roulement '!ER$3:ER$9='Roulement '!ER$4))=1),0.291666666666667,""))) | ES18: =SUM(B18:ER18) -> 2.0416667 | ET18: =A18 -> Kathy
A19: Sarah | B19: =IF(_xlfn.ISFORMULA('Roulement '!B8)=TRUE,"",IF(A19=0.291666666666667,"",IF(AND('Roulement '!B$4>0,SUMPRODUCT(('Roulement '!$A$3:$A$9=$A19)*('Roulement '!B$3:B$9='Roulement '!B$4))=1),0.291666666666667,""))) -> 0.29166667 | C19: =IF(_xlfn.ISFORMULA('Roulement '!C8)=TRUE,"",IF(B19=0.291666666666667,"",IF(AND('Roulement '!C$4>0,SUMPRODUCT(('Roulement '!$A$3:$A$9=$A19)*('Roulement '!C$3:C$9='Roulement '!C$4))=1),0.291666666666667,""))) | D19: =IF(_xlfn.ISFORMULA('Roulement '!D8)=TRUE,"",IF(C19=0.291666666666667,"",IF(AND('Roulement '!D$4>0,SUMPRODUCT(('Roulement '!$A$3:$A$9=$A19)*('Roulement '!D$3:D$9='Roulement '!D$4))=1),0.291666666666667,""))) | E19: =IF(_xlfn.ISFORMULA('Roulement '!E8)=TRUE,"",IF(D19=0.291666666666667,"",IF(AND('Roulement '!E$4>0,SUMPRODUCT(('Roulement '!$A$3:$A$9=$A19)*('Roulement '!E$3:E$9='Roulement '!E$4))=1),0.291666666666667,""))) | F19: =IF(_xlfn.ISFORMULA('Roulement '!F8)=TRUE,"",IF(E19=0.291666666666667,"",IF(AND('Roulement '!F$4>0,SUMPRODUCT(('Roulement '!$A$3:$A$9=$A19)*('Roulement '!F$3:F$9='Roulement '!F$4))=1),0.291666666666667,""))) | G19: =IF(_xlfn.ISFORMULA('Roulement '!G8)=TRUE,"",IF(F19=0.291666666666667,"",IF(AND('Roulement '!G$4>0,SUMPRODUCT(('Roulement '!$A$3:$A$9=$A19)*('Roulement '!G$3:G$9='Roulement '!G$4))=1),0.291666666666667,""))) | H19: =IF(_xlfn.ISFORMULA('Roulement '!H8)=TRUE,"",IF(G19=0.291666666666667,"",IF(AND('Roulement '!H$4>0,SUMPRODUCT(('Roulement '!$A$3:$A$9=$A19)*('Roulement '!H$3:H$9='Roulement '!H$4))=1),0.291666666666667,""))) | I19: =IF(_xlfn.ISFORMULA('Roulement '!I8)=TRUE,"",IF(H19=0.291666666666667,"",IF(AND('Roulement '!I$4>0,SUMPRODUCT(('Roulement '!$A$3:$A$9=$A19)*('Roulement '!I$3:I$9='Roulement '!I$4))=1),0.291666666666667,""))) | ... ER19: =IF(_xlfn.ISFORMULA('Roulement '!ER8)=TRUE,"",IF(EQ19=0.291666666666667,"",IF(AND('Roulement '!ER$4>0,SUMPRODUCT(('Roulement '!$A$3:$A$9=$A19)*('Roulement '!ER$3:ER$9='Roulement '!ER$4))=1),0.291666666666667,""))) | ES19: =SUM(B19:ER19) -> 3.7916667 | ET19: =A19 -> Sarah
B21: Semaine 01 | W21: Semaine 02 | AR21: Semaine 03 | BM21: Semaine 04 | CH21: Semaine 05 | DC21: Semaine 06 | DX21: Semaine 07
B22: Lundi | E22: Mardi | H22: Mercredi | K22: Jeudi | N22: Vendredi | Q22: Samedi | T22: Dimanche | W22: Lundi | Z22: Mardi | AC22: Mercredi | AF22: Jeudi | AI22: Vendredi | AL22: Samedi | AO22: Dimanche | AR22: Lundi | AU22: Mardi | AX22: Mercredi | BA22: Jeudi | BD22: Vendredi | BG22: Samedi | BJ22: Dimanche | BM22: Lundi | BP22: Mardi | BS22: Mercredi | BV22: Jeudi | BY22: Vendredi | CB22: Samedi | CE22: Dimanche | CH22: Lundi | CK22: Mardi | CN22: Mercredi | CQ22: Jeudi | CT22: Vendredi | CW22: Samedi | CZ22: Dimanche | DC22: Lundi | DF22: Mardi | DI22: Mercredi | DL22: Jeudi | DO22: Vendredi | DR22: Samedi | DU22: Dimanche | DX22: Lundi | EA22: Mardi | ED22: Mercredi | EG22: Jeudi | EJ22: Vendredi | EM22: Samedi | EP22: Dimanche
A23: Marie Claude avec : | ES23: =A23&" "&"TOTAL" -> Marie Claude avec : TOTAL
A24: Myriame | B24: =IF(_xlfn.ISFORMULA('Roulement '!B3)=TRUE,"",IF(A24=0.291666666666667,"",IF(AND('Roulement '!B$5>0,SUMPRODUCT(('Roulement '!$A$3:$A$9=$A24)*('Roulement '!B$3:B$9='Roulement '!B$5))=1),0.291666666666667,""))) | C24: =IF(_xlfn.ISFORMULA('Roulement '!C3)=TRUE,"",IF(B24=0.291666666666667,"",IF(AND('Roulement '!C$5>0,SUMPRODUCT(('Roulement '!$A$3:$A$9=$A24)*('Roulement '!C$3:C$9='Roulement '!C$5))=1),0.291666666666667,""))) | D24: =IF(_xlfn.ISFORMULA('Roulement '!D3)=TRUE,"",IF(C24=0.291666666666667,"",IF(AND('Roulement '!D$5>0,SUMPRODUCT(('Roulement '!$A$3:$A$9=$A24)*('Roulement '!D$3:D$9='Roulement '!D$5))=1),0.291666666666667,""))) | E24: =IF(_xlfn.ISFORMULA('Roulement '!E3)=TRUE,"",IF(D24=0.291666666666667,"",IF(AND('Roulement '!E$5>0,SUMPRODUCT(('Roulement '!$A$3:$A$9=$A24)*('Roulement '!E$3:E$9='Roulement '!E$5))=1),0.291666666666667,""))) | F24: =IF(_xlfn.ISFORMULA('Roulement '!F3)=TRUE,"",IF(E24=0.291666666666667,"",IF(AND('Roulement '!F$5>0,SUMPRODUCT(('Roulement '!$A$3:$A$9=$A24)*('Roulement '!F$3:F$9='Roulement '!F$5))=1),0.291666666666667,""))) | G24: =IF(_xlfn.ISFORMULA('Roulement '!G3)=TRUE,"",IF(F24=0.291666666666667,"",IF(AND('Roulement '!G$5>0,SUMPRODUCT(('Roulement '!$A$3:$A$9=$A24)*('Roulement '!G$3:G$9='Roulement '!G$5))=1),0.291666666666667,""))) | H24: =IF(_xlfn.ISFORMULA('Roulement '!H3)=TRUE,"",IF(G24=0.291666666666667,"",IF(AND('Roulement '!H$5>0,SUMPRODUCT(('Roulement '!$A$3:$A$9=$A24)*('Roulement '!H$3:H$9='Roulement '!H$5))=1),0.291666666666667,""))) | I24: =IF(_xlfn.ISFORMULA('Roulement '!I3)=TRUE,"",IF(H24=0.291666666666667,"",IF(AND('Roulement '!I$5>0,SUMPRODUCT(('Roulement '!$A$3:$A$9=$A24)*('Roulement '!I$3:I$9='Roulement '!I$5))=1),0.291666666666667,""))) | ... ER24: =IF(_xlfn.ISFORMULA('Roulement '!ER3)=TRUE,"",IF(EQ24=0.291666666666667,"",IF(AND('Roulement '!ER$5>0,SUMPRODUCT(('Roulement '!$A$3:$A$9=$A24)*('Roulement '!ER$3:ER$9='Roulement '!ER$5))=1),0.291666666666667,""))) | ES24: =SUM(B24:ER24) -> 3.7916667 | ET24: =A24 -> Myriame
A25: Stéphane | B25: =IF(_xlfn.ISFORMULA('Roulement '!B4)=TRUE,"",IF(A25=0.291666666666667,"",IF(AND('Roulement '!B$5>0,SUMPRODUCT(('Roulement '!$A$3:$A$9=$A25)*('Roulement '!B$3:B$9='Roulement '!B$5))=1),0.291666666666667,""))) | C25: =IF(_xlfn.ISFORMULA('Roulement '!C4)=TRUE,"",IF(B25=0.291666666666667,"",IF(AND('Roulement '!C$5>0,SUMPRODUCT(('Roulement '!$A$3:$A$9=$A25)*('Roulement '!C$3:C$9='Roulement '!C$5))=1),0.291666666666667,""))) | D25: =IF(_xlfn.ISFORMULA('Roulement '!D4)=TRUE,"",IF(C25=0.291666666666667,"",IF(AND('Roulement '!D$5>0,SUMPRODUCT(('Roulement '!$A$3:$A$9=$A25)*('Roulement '!D$3:D$9='Roulement '!D$5))=1),0.291666666666667,""))) | E25: =IF(_xlfn.ISFORMULA('Roulement '!E4)=TRUE,"",IF(D25=0.291666666666667,"",IF(AND('Roulement '!E$5>0,SUMPRODUCT(('Roulement '!$A$3:$A$9=$A25)*('Roulement '!E$3:E$9='Roulement '!E$5))=1),0.291666666666667,""))) | F25: =IF(_xlfn.ISFORMULA('Roulement '!F4)=TRUE,"",IF(E25=0.291666666666667,"",IF(AND('Roulement '!F$5>0,SUMPRODUCT(('Roulement '!$A$3:$A$9=$A25)*('Roulement '!F$3:F$9='Roulement '!F$5))=1),0.291666666666667,""))) | G25: =IF(_xlfn.ISFORMULA('Roulement '!G4)=TRUE,"",IF(F25=0.291666666666667,"",IF(AND('Roulement '!G$5>0,SUMPRODUCT(('Roulement '!$A$3:$A$9=$A25)*('Roulement '!G$3:G$9='Roulement '!G$5))=1),0.291666666666667,""))) | H25: =IF(_xlfn.ISFORMULA('Roulement '!H4)=TRUE,"",IF(G25=0.291666666666667,"",IF(AND('Roulement '!H$5>0,SUMPRODUCT(('Roulement '!$A$3:$A$9=$A25)*('Roulement '!H$3:H$9='Roulement '!H$5))=1),0.291666666666667,""))) -> 0.29166667 | I25: =IF(_xlfn.ISFORMULA('Roulement '!I4)=TRUE,"",IF(H25=0.291666666666667,"",IF(AND('Roulement '!I$5>0,SUMPRODUCT(('Roulement '!$A$3:$A$9=$A25)*('Roulement '!I$3:I$9='Roulement '!I$5))=1),0.291666666666667,""))) | ... ER25: =IF(_xlfn.ISFORMULA('Roulement '!ER4)=TRUE,"",IF(EQ25=0.291666666666667,"",IF(AND('Roulement '!ER$5>0,SUMPRODUCT(('Roulement '!$A$3:$A$9=$A25)*('Roulement '!ER$3:ER$9='Roulement '!ER$5))=1),0.291666666666667,""))) | ES25: =SUM(B25:ER25) -> 2.625 | ET25: =A25 -> Stéphane
A26: Eddy | B26: =IF(_xlfn.ISFORMULA('Roulement '!B5)=TRUE,"",IF(A26=0.291666666666667,"",IF(AND('Roulement '!B$5>0,SUMPRODUCT(('Roulement '!$A$3:$A$9=$A26)*('Roulement '!B$3:B$9='Roulement '!B$5))=1),0.291666666666667,""))) | C26: =IF(_xlfn.ISFORMULA('Roulement '!C5)=TRUE,"",IF(B26=0.291666666666667,"",IF(AND('Roulement '!C$5>0,SUMPRODUCT(('Roulement '!$A$3:$A$9=$A26)*('Roulement '!C$3:C$9='Roulement '!C$5))=1),0.291666666666667,""))) | D26: =IF(_xlfn.ISFORMULA('Roulement '!D5)=TRUE,"",IF(C26=0.291666666666667,"",IF(AND('Roulement '!D$5>0,SUMPRODUCT(('Roulement '!$A$3:$A$9=$A26)*('Roulement '!D$3:D$9='Roulement '!D$5))=1),0.291666666666667,""))) | E26: =IF(_xlfn.ISFORMULA('Roulement '!E5)=TRUE,"",IF(D26=0.291666666666667,"",IF(AND('Roulement '!E$5>0,SUMPRODUCT(('Roulement '!$A$3:$A$9=$A26)*('Roulement '!E$3:E$9='Roulement '!E$5))=1),0.291666666666667,""))) | F26: =IF(_xlfn.ISFORMULA('Roulement '!F5)=TRUE,"",IF(E26=0.291666666666667,"",IF(AND('Roulement '!F$5>0,SUMPRODUCT(('Roulement '!$A$3:$A$9=$A26)*('Roulement '!F$3:F$9='Roulement '!F$5))=1),0.291666666666667,""))) | G26: =IF(_xlfn.ISFORMULA('Roulement '!G5)=TRUE,"",IF(F26=0.291666666666667,"",IF(AND('Roulement '!G$5>0,SUMPRODUCT(('Roulement '!$A$3:$A$9=$A26)*('Roulement '!G$3:G$9='Roulement '!G$5))=1),0.291666666666667,""))) | H26: =IF(_xlfn.ISFORMULA('Roulement '!H5)=TRUE,"",IF(G26=0.291666666666667,"",IF(AND('Roulement '!H$5>0,SUMPRODUCT(('Roulement '!$A$3:$A$9=$A26)*('Roulement '!H$3:H$9='Roulement '!H$5))=1),0.291666666666667,""))) | I26: =IF(_xlfn.ISFORMULA('Roulement '!I5)=TRUE,"",IF(H26=0.291666666666667,"",IF(AND('Roulement '!I$5>0,SUMPRODUCT(('Roulement '!$A$3:$A$9=$A26)*('Roulement '!I$3:I$9='Roulement '!I$5))=1),0.291666666666667,""))) | ... ER26: =IF(_xlfn.ISFORMULA('Roulement '!ER5)=TRUE,"",IF(EQ26=0.291666666666667,"",IF(AND('Roulement '!ER$5>0,SUMPRODUCT(('Roulement '!$A$3:$A$9=$A26)*('Roulement '!ER$3:ER$9='Roulement '!ER$5))=1),0.291666666666667,""))) | ES26: =SUM(B26:ER26) -> 2.625 | ET26: =A26 -> Eddy
A27: Patricia | B27: =IF(_xlfn.ISFORMULA('Roulement '!B6)=TRUE,"",IF(A27=0.291666666666667,"",IF(AND('Roulement '!B$5>0,SUMPRODUCT(('Roulement '!$A$3:$A$9=$A27)*('Roulement '!B$3:B$9='Roulement '!B$5))=1),0.291666666666667,""))) -> 0.29166667 | C27: =IF(_xlfn.ISFORMULA('Roulement '!C6)=TRUE,"",IF(B27=0.291666666666667,"",IF(AND('Roulement '!C$5>0,SUMPRODUCT(('Roulement '!$A$3:$A$9=$A27)*('Roulement '!C$3:C$9='Roulement '!C$5))=1),0.291666666666667,""))) | D27: =IF(_xlfn.ISFORMULA('Roulement '!D6)=TRUE,"",IF(C27=0.291666666666667,"",IF(AND('Roulement '!D$5>0,SUMPRODUCT(('Roulement '!$A$3:$A$9=$A27)*('Roulement '!D$3:D$9='Roulement '!D$5))=1),0.291666666666667,""))) | E27: =IF(_xlfn.ISFORMULA('Roulement '!E6)=TRUE,"",IF(D27=0.291666666666667,"",IF(AND('Roulement '!E$5>0,SUMPRODUCT(('Roulement '!$A$3:$A$9=$A27)*('Roulement '!E$3:E$9='Roulement '!E$5))=1),0.291666666666667,""))) -> 0.29166667 | F27: =IF(_xlfn.ISFORMULA('Roulement '!F6)=TRUE,"",IF(E27=0.291666666666667,"",IF(AND('Roulement '!F$5>0,SUMPRODUCT(('Roulement '!$A$3:$A$9=$A27)*('Roulement '!F$3:F$9='Roulement '!F$5))=1),0.291666666666667,""))) | G27: =IF(_xlfn.ISFORMULA('Roulement '!G6)=TRUE,"",IF(F27=0.291666666666667,"",IF(AND('Roulement '!G$5>0,SUMPRODUCT(('Roulement '!$A$3:$A$9=$A27)*('Roulement '!G$3:G$9='Roulement '!G$5))=1),0.291666666666667,""))) | H27: =IF(_xlfn.ISFORMULA('Roulement '!H6)=TRUE,"",IF(G27=0.291666666666667,"",IF(AND('Roulement '!H$5>0,SUMPRODUCT(('Roulement '!$A$3:$A$9=$A27)*('Roulement '!H$3:H$9='Roulement '!H$5))=1),0.291666666666667,""))) | I27: =IF(_xlfn.ISFORMULA('Roulement '!I6)=TRUE,"",IF(H27=0.291666666666667,"",IF(AND('Roulement '!I$5>0,SUMPRODUCT(('Roulement '!$A$3:$A$9=$A27)*('Roulement '!I$3:I$9='Roulement '!I$5))=1),0.291666666666667,""))) | ... ER27: =IF(_xlfn.ISFORMULA('Roulement '!ER6)=TRUE,"",IF(EQ27=0.291666666666667,"",IF(AND('Roulement '!ER$5>0,SUMPRODUCT(('Roulement '!$A$3:$A$9=$A27)*('Roulement '!ER$3:ER$9='Roulement '!ER$5))=1),0.291666666666667,""))) | ES27: =SUM(B27:ER27) -> 3.7916667 | ET27: =A27 -> Patricia
A28: Kathy | B28: =IF(_xlfn.ISFORMULA('Roulement '!B7)=TRUE,"",IF(A28=0.291666666666667,"",IF(AND('Roulement '!B$5>0,SUMPRODUCT(('Roulement '!$A$3:$A$9=$A28)*('Roulement '!B$3:B$9='Roulement '!B$5))=1),0.291666666666667,""))) | C28: =IF(_xlfn.ISFORMULA('Roulement '!C7)=TRUE,"",IF(B28=0.291666666666667,"",IF(AND('Roulement '!C$5>0,SUMPRODUCT(('Roulement '!$A$3:$A$9=$A28)*('Roulement '!C$3:C$9='Roulement '!C$5))=1),0.291666666666667,""))) | D28: =IF(_xlfn.ISFORMULA('Roulement '!D7)=TRUE,"",IF(C28=0.291666666666667,"",IF(AND('Roulement '!D$5>0,SUMPRODUCT(('Roulement '!$A$3:$A$9=$A28)*('Roulement '!D$3:D$9='Roulement '!D$5))=1),0.291666666666667,""))) | E28: =IF(_xlfn.ISFORMULA('Roulement '!E7)=TRUE,"",IF(D28=0.291666666666667,"",IF(AND('Roulement '!E$5>0,SUMPRODUCT(('Roulement '!$A$3:$A$9=$A28)*('Roulement '!E$3:E$9='Roulement '!E$5))=1),0.291666666666667,""))) | F28: =IF(_xlfn.ISFORMULA('Roulement '!F7)=TRUE,"",IF(E28=0.291666666666667,"",IF(AND('Roulement '!F$5>0,SUMPRODUCT(('Roulement '!$A$3:$A$9=$A28)*('Roulement '!F$3:F$9='Roulement '!F$5))=1),0.291666666666667,""))) | G28: =IF(_xlfn.ISFORMULA('Roulement '!G7)=TRUE,"",IF(F28=0.291666666666667,"",IF(AND('Roulement '!G$5>0,SUMPRODUCT(('Roulement '!$A$3:$A$9=$A28)*('Roulement '!G$3:G$9='Roulement '!G$5))=1),0.291666666666667,""))) | H28: =IF(_xlfn.ISFORMULA('Roulement '!H7)=TRUE,"",IF(G28=0.291666666666667,"",IF(AND('Roulement '!H$5>0,SUMPRODUCT(('Roulement '!$A$3:$A$9=$A28)*('Roulement '!H$3:H$9='Roulement '!H$5))=1),0.291666666666667,""))) | I28: =IF(_xlfn.ISFORMULA('Roulement '!I7)=TRUE,"",IF(H28=0.291666666666667,"",IF(AND('Roulement '!I$5>0,SUMPRODUCT(('Roulement '!$A$3:$A$9=$A28)*('Roulement '!I$3:I$9='Roulement '!I$5))=1),0.291666666666667,""))) | ... ER28: =IF(_xlfn.ISFORMULA('Roulement '!ER7)=TRUE,"",IF(EQ28=0.291666666666667,"",IF(AND('Roulement '!ER$5>0,SUMPRODUCT(('Roulement '!$A$3:$A$9=$A28)*('Roulement '!ER$3:ER$9='Roulement '!ER$5))=1),0.291666666666667,""))) | ES28: =SUM(B28:ER28) -> 2.0416667 | ET28: =A28 -> Kathy
A29: Sarah | B29: =IF(_xlfn.ISFORMULA('Roulement '!B8)=TRUE,"",IF(A29=0.291666666666667,"",IF(AND('Roulement '!B$5>0,SUMPRODUCT(('Roulement '!$A$3:$A$9=$A29)*('Roulement '!B$3:B$9='Roulement '!B$5))=1),0.291666666666667,""))) | C29: =IF(_xlfn.ISFORMULA('Roulement '!C8)=TRUE,"",IF(B29=0.291666666666667,"",IF(AND('Roulement '!C$5>0,SUMPRODUCT(('Roulement '!$A$3:$A$9=$A29)*('Roulement '!C$3:C$9='Roulement '!C$5))=1),0.291666666666667,""))) | D29: =IF(_xlfn.ISFORMULA('Roulement '!D8)=TRUE,"",IF(C29=0.291666666666667,"",IF(AND('Roulement '!D$5>0,SUMPRODUCT(('Roulement '!$A$3:$A$9=$A29)*('Roulement '!D$3:D$9='Roulement '!D$5))=1),0.291666666666667,""))) | E29: =IF(_xlfn.ISFORMULA('Roulement '!E8)=TRUE,"",IF(D29=0.291666666666667,"",IF(AND('Roulement '!E$5>0,SUMPRODUCT(('Roulement '!$A$3:$A$9=$A29)*('Roulement '!E$3:E$9='Roulement '!E$5))=1),0.291666666666667,""))) | F29: =IF(_xlfn.ISFORMULA('Roulement '!F8)=TRUE,"",IF(E29=0.291666666666667,"",IF(AND('Roulement '!F$5>0,SUMPRODUCT(('Roulement '!$A$3:$A$9=$A29)*('Roulement '!F$3:F$9='Roulement '!F$5))=1),0.291666666666667,""))) | G29: =IF(_xlfn.ISFORMULA('Roulement '!G8)=TRUE,"",IF(F29=0.291666666666667,"",IF(AND('Roulement '!G$5>0,SUMPRODUCT(('Roulement '!$A$3:$A$9=$A29)*('Roulement '!G$3:G$9='Roulement '!G$5))=1),0.291666666666667,""))) | H29: =IF(_xlfn.ISFORMULA('Roulement '!H8)=TRUE,"",IF(G29=0.291666666666667,"",IF(AND('Roulement '!H$5>0,SUMPRODUCT(('Roulement '!$A$3:$A$9=$A29)*('Roulement '!H$3:H$9='Roulement '!H$5))=1),0.291666666666667,""))) | I29: =IF(_xlfn.ISFORMULA('Roulement '!I8)=TRUE,"",IF(H29=0.291666666666667,"",IF(AND('Roulement '!I$5>0,SUMPRODUCT(('Roulement '!$A$3:$A$9=$A29)*('Roulement '!I$3:I$9='Roulement '!I$5))=1),0.291666666666667,""))) | ... ER29: =IF(_xlfn.ISFORMULA('Roulement '!ER8)=TRUE,"",IF(EQ29=0.291666666666667,"",IF(AND('Roulement '!ER$5>0,SUMPRODUCT(('Roulement '!$A$3:$A$9=$A29)*('Roulement '!ER$3:ER$9='Roulement '!ER$5))=1),0.291666666666667,""))) | ES29: =SUM(B29:ER29) -> 2.0416667 | ET29: =A29 -> Sarah
B31: Semaine 01 | W31: Semaine 02 | AR31: Semaine 03 | BM31: Semaine 04 | CH31: Semaine 05 | DC31: Semaine 06 | DX31: Semaine 07
B32: Lundi | E32: Mardi | H32: Mercredi | K32: Jeudi | N32: Vendredi | Q32: Samedi | T32: Dimanche | W32: Lundi | Z32: Mardi | AC32: Mercredi | AF32: Jeudi | AI32: Vendredi | AL32: Samedi | AO32: Dimanche | AR32: Lundi | AU32: Mardi | AX32: Mercredi | BA32: Jeudi | BD32: Vendredi | BG32: Samedi | BJ32: Dimanche | BM32: Lundi | BP32: Mardi | BS32: Mercredi | BV32: Jeudi | BY32: Vendredi | CB32: Samedi | CE32: Dimanche | CH32: Lundi | CK32: Mardi | CN32: Mercredi | CQ32: Jeudi | CT32: Vendredi | CW32: Samedi | CZ32: Dimanche | DC32: Lundi | DF32: Mardi | DI32: Mercredi | DL32: Jeudi | DO32: Vendredi | DR32: Samedi | DU32: Dimanche | DX32: Lundi | EA32: Mardi | ED32: Mercredi | EG32: Jeudi | EJ32: Vendredi | EM32: Samedi | EP32: Dimanche
A33: Eddy avec : | ES33: =A33&" "&"TOTAL" -> Eddy avec : TOTAL
A34: Myriame | B34: =IF(_xlfn.ISFORMULA('Roulement '!B3)=TRUE,"",IF(A34=0.291666666666667,"",IF(AND('Roulement '!B$6>0,SUMPRODUCT(('Roulement '!$A$3:$A$9=$A34)*('Roulement '!B$3:B$9='Roulement '!B$6))=1),0.291666666666667,""))) | C34: =IF(_xlfn.ISFORMULA('Roulement '!C3)=TRUE,"",IF(B34=0.291666666666667,"",IF(AND('Roulement '!C$6>0,SUMPRODUCT(('Roulement '!$A$3:$A$9=$A34)*('Roulement '!C$3:C$9='Roulement '!C$6))=1),0.291666666666667,""))) | D34: =IF(_xlfn.ISFORMULA('Roulement '!D3)=TRUE,"",IF(C34=0.291666666666667,"",IF(AND('Roulement '!D$6>0,SUMPRODUCT(('Roulement '!$A$3:$A$9=$A34)*('Roulement '!D$3:D$9='Roulement '!D$6))=1),0.291666666666667,""))) | E34: =IF(_xlfn.ISFORMULA('Roulement '!E3)=TRUE,"",IF(D34=0.291666666666667,"",IF(AND('Roulement '!E$6>0,SUMPRODUCT(('Roulement '!$A$3:$A$9=$A34)*('Roulement '!E$3:E$9='Roulement '!E$6))=1),0.291666666666667,""))) -> 0.29166667 | F34: =IF(_xlfn.ISFORMULA('Roulement '!F3)=TRUE,"",IF(E34=0.291666666666667,"",IF(AND('Roulement '!F$6>0,SUMPRODUCT(('Roulement '!$A$3:$A$9=$A34)*('Roulement '!F$3:F$9='Roulement '!F$6))=1),0.291666666666667,""))) | G34: =IF(_xlfn.ISFORMULA('Roulement '!G3)=TRUE,"",IF(F34=0.291666666666667,"",IF(AND('Roulement '!G$6>0,SUMPRODUCT(('Roulement '!$A$3:$A$9=$A34)*('Roulement '!G$3:G$9='Roulement '!G$6))=1),0.291666666666667,""))) | H34: =IF(_xlfn.ISFORMULA('Roulement '!H3)=TRUE,"",IF(G34=0.291666666666667,"",IF(AND('Roulement '!H$6>0,SUMPRODUCT(('Roulement '!$A$3:$A$9=$A34)*('Roulement '!H$3:H$9='Roulement '!H$6))=1),0.291666666666667,""))) | I34: =IF(_xlfn.ISFORMULA('Roulement '!I3)=TRUE,"",IF(H34=0.291666666666667,"",IF(AND('Roulement '!I$6>0,SUMPRODUCT(('Roulement '!$A$3:$A$9=$A34)*('Roulement '!I$3:I$9='Roulement '!I$6))=1),0.291666666666667,""))) | ... ER34: =IF(_xlfn.ISFORMULA('Roulement '!ER3)=TRUE,"",IF(EQ34=0.291666666666667,"",IF(AND('Roulement '!ER$6>0,SUMPRODUCT(('Roulement '!$A$3:$A$9=$A34)*('Roulement '!ER$3:ER$9='Roulement '!ER$6))=1),0.291666666666667,""))) | ES34: =SUM(B34:ER34) -> 2.0416667 | ET34: =A34 -> Myriame
A35: Stéphane | B35: =IF(_xlfn.ISFORMULA('Roulement '!B4)=TRUE,"",IF(A35=0.291666666666667,"",IF(AND('Roulement '!B$6>0,SUMPRODUCT(('Roulement '!$A$3:$A$9=$A35)*('Roulement '!B$3:B$9='Roulement '!B$6))=1),0.291666666666667,""))) | C35: =IF(_xlfn.ISFORMULA('Roulement '!C4)=TRUE,"",IF(B35=0.291666666666667,"",IF(AND('Roulement '!C$6>0,SUMPRODUCT(('Roulement '!$A$3:$A$9=$A35)*('Roulement '!C$3:C$9='Roulement '!C$6))=1),0.291666666666667,""))) | D35: =IF(_xlfn.ISFORMULA('Roulement '!D4)=TRUE,"",IF(C35=0.291666666666667,"",IF(AND('Roulement '!D$6>0,SUMPRODUCT(('Roulement '!$A$3:$A$9=$A35)*('Roulement '!D$3:D$9='Roulement '!D$6))=1),0.291666666666667,""))) | E35: =IF(_xlfn.ISFORMULA('Roulement '!E4)=TRUE,"",IF(D35=0.291666666666667,"",IF(AND('Roulement '!E$6>0,SUMPRODUCT(('Roulement '!$A$3:$A$9=$A35)*('Roulement '!E$3:E$9='Roulement '!E$6))=1),0.291666666666667,""))) | F35: =IF(_xlfn.ISFORMULA('Roulement '!F4)=TRUE,"",IF(E35=0.291666666666667,"",IF(AND('Roulement '!F$6>0,SUMPRODUCT(('Roulement '!$A$3:$A$9=$A35)*('Roulement '!F$3:F$9='Roulement '!F$6))=1),0.291666666666667,""))) | G35: =IF(_xlfn.ISFORMULA('Roulement '!G4)=TRUE,"",IF(F35=0.291666666666667,"",IF(AND('Roulement '!G$6>0,SUMPRODUCT(('Roulement '!$A$3:$A$9=$A35)*('Roulement '!G$3:G$9='Roulement '!G$6))=1),0.291666666666667,""))) | H35: =IF(_xlfn.ISFORMULA('Roulement '!H4)=TRUE,"",IF(G35=0.291666666666667,"",IF(AND('Roulement '!H$6>0,SUMPRODUCT(('Roulement '!$A$3:$A$9=$A35)*('Roulement '!H$3:H$9='Roulement '!H$6))=1),0.291666666666667,""))) | I35: =IF(_xlfn.ISFORMULA('Roulement '!I4)=TRUE,"",IF(H35=0.291666666666667,"",IF(AND('Roulement '!I$6>0,SUMPRODUCT(('Roulement '!$A$3:$A$9=$A35)*('Roulement '!I$3:I$9='Roulement '!I$6))=1),0.291666666666667,""))) | ... ER35: =IF(_xlfn.ISFORMULA('Roulement '!ER4)=TRUE,"",IF(EQ35=0.291666666666667,"",IF(AND('Roulement '!ER$6>0,SUMPRODUCT(('Roulement '!$A$3:$A$9=$A35)*('Roulement '!ER$3:ER$9='Roulement '!ER$6))=1),0.291666666666667,""))) | ES35: =SUM(B35:ER35) -> 3.7916667 | ET35: =A35 -> Stéphane
A36: Marie Claude | B36: =IF(_xlfn.ISFORMULA('Roulement '!B5)=TRUE,"",IF(A36=0.291666666666667,"",IF(AND('Roulement '!B$6>0,SUMPRODUCT(('Roulement '!$A$3:$A$9=$A36)*('Roulement '!B$3:B$9='Roulement '!B$6))=1),0.291666666666667,""))) | C36: =IF(_xlfn.ISFORMULA('Roulement '!C5)=TRUE,"",IF(B36=0.291666666666667,"",IF(AND('Roulement '!C$6>0,SUMPRODUCT(('Roulement '!$A$3:$A$9=$A36)*('Roulement '!C$3:C$9='Roulement '!C$6))=1),0.291666666666667,""))) | D36: =IF(_xlfn.ISFORMULA('Roulement '!D5)=TRUE,"",IF(C36=0.291666666666667,"",IF(AND('Roulement '!D$6>0,SUMPRODUCT(('Roulement '!$A$3:$A$9=$A36)*('Roulement '!D$3:D$9='Roulement '!D$6))=1),0.291666666666667,""))) | E36: =IF(_xlfn.ISFORMULA('Roulement '!E5)=TRUE,"",IF(D36=0.291666666666667,"",IF(AND('Roulement '!E$6>0,SUMPRODUCT(('Roulement '!$A$3:$A$9=$A36)*('Roulement '!E$3:E$9='Roulement '!E$6))=1),0.291666666666667,""))) | F36: =IF(_xlfn.ISFORMULA('Roulement '!F5)=TRUE,"",IF(E36=0.291666666666667,"",IF(AND('Roulement '!F$6>0,SUMPRODUCT(('Roulement '!$A$3:$A$9=$A36)*('Roulement '!F$3:F$9='Roulement '!F$6))=1),0.291666666666667,""))) | G36: =IF(_xlfn.ISFORMULA('Roulement '!G5)=TRUE,"",IF(F36=0.291666666666667,"",IF(AND('Roulement '!G$6>0,SUMPRODUCT(('Roulement '!$A$3:$A$9=$A36)*('Roulement '!G$3:G$9='Roulement '!G$6))=1),0.291666666666667,""))) | H36: =IF(_xlfn.ISFORMULA('Roulement '!H5)=TRUE,"",IF(G36=0.291666666666667,"",IF(AND('Roulement '!H$6>0,SUMPRODUCT(('Roulement '!$A$3:$A$9=$A36)*('Roulement '!H$3:H$9='Roulement '!H$6))=1),0.291666666666667,""))) | I36: =IF(_xlfn.ISFORMULA('Roulement '!I5)=TRUE,"",IF(H36=0.291666666666667,"",IF(AND('Roulement '!I$6>0,SUMPRODUCT(('Roulement '!$A$3:$A$9=$A36)*('Roulement '!I$3:I$9='Roulement '!I$6))=1),0.291666666666667,""))) | ... ER36: =IF(_xlfn.ISFORMULA('Roulement '!ER5)=TRUE,"",IF(EQ36=0.291666666666667,"",IF(AND('Roulement '!ER$6>0,SUMPRODUCT(('Roulement '!$A$3:$A$9=$A36)*('Roulement '!ER$3:ER$9='Roulement '!ER$6))=1),0.291666666666667,""))) | ES36: =SUM(B36:ER36) -> 2.625 | ET36: =A36 -> Marie Claude
A37: Patricia | B37: =IF(_xlfn.ISFORMULA('Roulement '!B6)=TRUE,"",IF(A37=0.291666666666667,"",IF(AND('Roulement '!B$6>0,SUMPRODUCT(('Roulement '!$A$3:$A$9=$A37)*('Roulement '!B$3:B$9='Roulement '!B$6))=1),0.291666666666667,""))) | C37: =IF(_xlfn.ISFORMULA('Roulement '!C6)=TRUE,"",IF(B37=0.291666666666667,"",IF(AND('Roulement '!C$6>0,SUMPRODUCT(('Roulement '!$A$3:$A$9=$A37)*('Roulement '!C$3:C$9='Roulement '!C$6))=1),0.291666666666667,""))) | D37: =IF(_xlfn.ISFORMULA('Roulement '!D6)=TRUE,"",IF(C37=0.291666666666667,"",IF(AND('Roulement '!D$6>0,SUMPRODUCT(('Roulement '!$A$3:$A$9=$A37)*('Roulement '!D$3:D$9='Roulement '!D$6))=1),0.291666666666667,""))) | E37: =IF(_xlfn.ISFORMULA('Roulement '!E6)=TRUE,"",IF(D37=0.291666666666667,"",IF(AND('Roulement '!E$6>0,SUMPRODUCT(('Roulement '!$A$3:$A$9=$A37)*('Roulement '!E$3:E$9='Roulement '!E$6))=1),0.291666666666667,""))) | F37: =IF(_xlfn.ISFORMULA('Roulement '!F6)=TRUE,"",IF(E37=0.291666666666667,"",IF(AND('Roulement '!F$6>0,SUMPRODUCT(('Roulement '!$A$3:$A$9=$A37)*('Roulement '!F$3:F$9='Roulement '!F$6))=1),0.291666666666667,""))) | G37: =IF(_xlfn.ISFORMULA('Roulement '!G6)=TRUE,"",IF(F37=0.291666666666667,"",IF(AND('Roulement '!G$6>0,SUMPRODUCT(('Roulement '!$A$3:$A$9=$A37)*('Roulement '!G$3:G$9='Roulement '!G$6))=1),0.291666666666667,""))) | H37: =IF(_xlfn.ISFORMULA('Roulement '!H6)=TRUE,"",IF(G37=0.291666666666667,"",IF(AND('Roulement '!H$6>0,SUMPRODUCT(('Roulement '!$A$3:$A$9=$A37)*('Roulement '!H$3:H$9='Roulement '!H$6))=1),0.291666666666667,""))) | I37: =IF(_xlfn.ISFORMULA('Roulement '!I6)=TRUE,"",IF(H37=0.291666666666667,"",IF(AND('Roulement '!I$6>0,SUMPRODUCT(('Roulement '!$A$3:$A$9=$A37)*('Roulement '!I$3:I$9='Roulement '!I$6))=1),0.291666666666667,""))) | ... ER37: =IF(_xlfn.ISFORMULA('Roulement '!ER6)=TRUE,"",IF(EQ37=0.291666666666667,"",IF(AND('Roulement '!ER$6>0,SUMPRODUCT(('Roulement '!$A$3:$A$9=$A37)*('Roulement '!ER$3:ER$9='Roulement '!ER$6))=1),0.291666666666667,""))) | ES37: =SUM(B37:ER37) -> 2.625 | ET37: =A37 -> Patricia
A38: Kathy | B38: =IF(_xlfn.ISFORMULA('Roulement '!B7)=TRUE,"",IF(A38=0.291666666666667,"",IF(AND('Roulement '!B$6>0,SUMPRODUCT(('Roulement '!$A$3:$A$9=$A38)*('Roulement '!B$3:B$9='Roulement '!B$6))=1),0.291666666666667,""))) | C38: =IF(_xlfn.ISFORMULA('Roulement '!C7)=TRUE,"",IF(B38=0.291666666666667,"",IF(AND('Roulement '!C$6>0,SUMPRODUCT(('Roulement '!$A$3:$A$9=$A38)*('Roulement '!C$3:C$9='Roulement '!C$6))=1),0.291666666666667,""))) | D38: =IF(_xlfn.ISFORMULA('Roulement '!D7)=TRUE,"",IF(C38=0.291666666666667,"",IF(AND('Roulement '!D$6>0,SUMPRODUCT(('Roulement '!$A$3:$A$9=$A38)*('Roulement '!D$3:D$9='Roulement '!D$6))=1),0.291666666666667,""))) | E38: =IF(_xlfn.ISFORMULA('Roulement '!E7)=TRUE,"",IF(D38=0.291666666666667,"",IF(AND('Roulement '!E$6>0,SUMPRODUCT(('Roulement '!$A$3:$A$9=$A38)*('Roulement '!E$3:E$9='Roulement '!E$6))=1),0.291666666666667,""))) -> 0.29166667 | F38: =IF(_xlfn.ISFORMULA('Roulement '!F7)=TRUE,"",IF(E38=0.291666666666667,"",IF(AND('Roulement '!F$6>0,SUMPRODUCT(('Roulement '!$A$3:$A$9=$A38)*('Roulement '!F$3:F$9='Roulement '!F$6))=1),0.291666666666667,""))) | G38: =IF(_xlfn.ISFORMULA('Roulement '!G7)=TRUE,"",IF(F38=0.291666666666667,"",IF(AND('Roulement '!G$6>0,SUMPRODUCT(('Roulement '!$A$3:$A$9=$A38)*('Roulement '!G$3:G$9='Roulement '!G$6))=1),0.291666666666667,""))) | H38: =IF(_xlfn.ISFORMULA('Roulement '!H7)=TRUE,"",IF(G38=0.291666666666667,"",IF(AND('Roulement '!H$6>0,SUMPRODUCT(('Roulement '!$A$3:$A$9=$A38)*('Roulement '!H$3:H$9='Roulement '!H$6))=1),0.291666666666667,""))) -> 0.29166667 | I38: =IF(_xlfn.ISFORMULA('Roulement '!I7)=TRUE,"",IF(H38=0.291666666666667,"",IF(AND('Roulement '!I$6>0,SUMPRODUCT(('Roulement '!$A$3:$A$9=$A38)*('Roulement '!I$3:I$9='Roulement '!I$6))=1),0.291666666666667,""))) | ... ER38: =IF(_xlfn.ISFORMULA('Roulement '!ER7)=TRUE,"",IF(EQ38=0.291666666666667,"",IF(AND('Roulement '!ER$6>0,SUMPRODUCT(('Roulement '!$A$3:$A$9=$A38)*('Roulement '!ER$3:ER$9='Roulement '!ER$6))=1),0.291666666666667,""))) | ES38: =SUM(B38:ER38) -> 3.7916667 | ET38: =A38 -> Kathy
A39: Sarah | B39: =IF(_xlfn.ISFORMULA('Roulement '!B8)=TRUE,"",IF(A39=0.291666666666667,"",IF(AND('Roulement '!B$6>0,SUMPRODUCT(('Roulement '!$A$3:$A$9=$A39)*('Roulement '!B$3:B$9='Roulement '!B$6))=1),0.291666666666667,""))) | C39: =IF(_xlfn.ISFORMULA('Roulement '!C8)=TRUE,"",IF(B39=0.291666666666667,"",IF(AND('Roulement '!C$6>0,SUMPRODUCT(('Roulement '!$A$3:$A$9=$A39)*('Roulement '!C$3:C$9='Roulement '!C$6))=1),0.291666666666667,""))) | D39: =IF(_xlfn.ISFORMULA('Roulement '!D8)=TRUE,"",IF(C39=0.291666666666667,"",IF(AND('Roulement '!D$6>0,SUMPRODUCT(('Roulement '!$A$3:$A$9=$A39)*('Roulement '!D$3:D$9='Roulement '!D$6))=1),0.291666666666667,""))) | E39: =IF(_xlfn.ISFORMULA('Roulement '!E8)=TRUE,"",IF(D39=0.291666666666667,"",IF(AND('Roulement '!E$6>0,SUMPRODUCT(('Roulement '!$A$3:$A$9=$A39)*('Roulement '!E$3:E$9='Roulement '!E$6))=1),0.291666666666667,""))) -> 0.29166667 | F39: =IF(_xlfn.ISFORMULA('Roulement '!F8)=TRUE,"",IF(E39=0.291666666666667,"",IF(AND('Roulement '!F$6>0,SUMPRODUCT(('Roulement '!$A$3:$A$9=$A39)*('Roulement '!F$3:F$9='Roulement '!F$6))=1),0.291666666666667,""))) | G39: =IF(_xlfn.ISFORMULA('Roulement '!G8)=TRUE,"",IF(F39=0.291666666666667,"",IF(AND('Roulement '!G$6>0,SUMPRODUCT(('Roulement '!$A$3:$A$9=$A39)*('Roulement '!G$3:G$9='Roulement '!G$6))=1),0.291666666666667,""))) | H39: =IF(_xlfn.ISFORMULA('Roulement '!H8)=TRUE,"",IF(G39=0.291666666666667,"",IF(AND('Roulement '!H$6>0,SUMPRODUCT(('Roulement '!$A$3:$A$9=$A39)*('Roulement '!H$3:H$9='Roulement '!H$6))=1),0.291666666666667,""))) -> 0.29166667 | I39: =IF(_xlfn.ISFORMULA('Roulement '!I8)=TRUE,"",IF(H39=0.291666666666667,"",IF(AND('Roulement '!I$6>0,SUMPRODUCT(('Roulement '!$A$3:$A$9=$A39)*('Roulement '!I$3:I$9='Roulement '!I$6))=1),0.291666666666667,""))) | ... ER39: =IF(_xlfn.ISFORMULA('Roulement '!ER8)=TRUE,"",IF(EQ39=0.291666666666667,"",IF(AND('Roulement '!ER$6>0,SUMPRODUCT(('Roulement '!$A$3:$A$9=$A39)*('Roulement '!ER$3:ER$9='Roulement '!ER$6))=1),0.291666666666667,""))) | ES39: =SUM(B39:ER39) -> 2.0416667 | ET39: =A39 -> Sarah
B41: Semaine 01 | W41: Semaine 02 | AR41: Semaine 03 | BM41: Semaine 04 | CH41: Semaine 05 | DC41: Semaine 06 | DX41: Semaine 07
B42: Lundi | E42: Mardi | H42: Mercredi | K42: Jeudi | N42: Vendredi | Q42: Samedi | T42: Dimanche | W42: Lundi | Z42: Mardi | AC42: Mercredi | AF42: Jeudi | AI42: Vendredi | AL42: Samedi | AO42: Dimanche | AR42: Lundi | AU42: Mardi | AX42: Mercredi | BA42: Jeudi | BD42: Vendredi | BG42: Samedi | BJ42: Dimanche | BM42: Lundi | BP42: Mardi | BS42: Mercredi | BV42: Jeudi | BY42: Vendredi | CB42: Samedi | CE42: Dimanche | CH42: Lundi | CK42: Mardi | CN42: Mercredi | CQ42: Jeudi | CT42: Vendredi | CW42: Samedi | CZ42: Dimanche | DC42: Lundi | DF42: Mardi | DI42: Mercredi | DL42: Jeudi | DO42: Vendredi | DR42: Samedi | DU42: Dimanche | DX42: Lundi | EA42: Mardi | ED42: Mercredi | EG42: Jeudi | EJ42: Vendredi | EM42: Samedi | EP42: Dimanche
A43: Patricia avec : | ES43: =A43&" "&"TOTAL" -> Patricia avec : TOTAL
A44: Myriame | B44: =IF(_xlfn.ISFORMULA('Roulement '!B3)=TRUE,"",IF(A44=0.291666666666667,"",IF(AND('Roulement '!B$7>0,SUMPRODUCT(('Roulement '!$A$3:$A$9=$A44)*('Roulement '!B$3:B$9='Roulement '!B$7))=1),0.291666666666667,""))) | C44: =IF(_xlfn.ISFORMULA('Roulement '!C3)=TRUE,"",IF(B44=0.291666666666667,"",IF(AND('Roulement '!C$7>0,SUMPRODUCT(('Roulement '!$A$3:$A$9=$A44)*('Roulement '!C$3:C$9='Roulement '!C$7))=1),0.291666666666667,""))) | D44: =IF(_xlfn.ISFORMULA('Roulement '!D3)=TRUE,"",IF(C44=0.291666666666667,"",IF(AND('Roulement '!D$7>0,SUMPRODUCT(('Roulement '!$A$3:$A$9=$A44)*('Roulement '!D$3:D$9='Roulement '!D$7))=1),0.291666666666667,""))) | E44: =IF(_xlfn.ISFORMULA('Roulement '!E3)=TRUE,"",IF(D44=0.291666666666667,"",IF(AND('Roulement '!E$7>0,SUMPRODUCT(('Roulement '!$A$3:$A$9=$A44)*('Roulement '!E$3:E$9='Roulement '!E$7))=1),0.291666666666667,""))) | F44: =IF(_xlfn.ISFORMULA('Roulement '!F3)=TRUE,"",IF(E44=0.291666666666667,"",IF(AND('Roulement '!F$7>0,SUMPRODUCT(('Roulement '!$A$3:$A$9=$A44)*('Roulement '!F$3:F$9='Roulement '!F$7))=1),0.291666666666667,""))) | G44: =IF(_xlfn.ISFORMULA('Roulement '!G3)=TRUE,"",IF(F44=0.291666666666667,"",IF(AND('Roulement '!G$7>0,SUMPRODUCT(('Roulement '!$A$3:$A$9=$A44)*('Roulement '!G$3:G$9='Roulement '!G$7))=1),0.291666666666667,""))) | H44: =IF(_xlfn.ISFORMULA('Roulement '!H3)=TRUE,"",IF(G44=0.291666666666667,"",IF(AND('Roulement '!H$7>0,SUMPRODUCT(('Roulement '!$A$3:$A$9=$A44)*('Roulement '!H$3:H$9='Roulement '!H$7))=1),0.291666666666667,""))) | I44: =IF(_xlfn.ISFORMULA('Roulement '!I3)=TRUE,"",IF(H44=0.291666666666667,"",IF(AND('Roulement '!I$7>0,SUMPRODUCT(('Roulement '!$A$3:$A$9=$A44)*('Roulement '!I$3:I$9='Roulement '!I$7))=1),0.291666666666667,""))) | ... ER44: =IF(_xlfn.ISFORMULA('Roulement '!ER3)=TRUE,"",IF(EQ44=0.291666666666667,"",IF(AND('Roulement '!ER$7>0,SUMPRODUCT(('Roulement '!$A$3:$A$9=$A44)*('Roulement '!ER$3:ER$9='Roulement '!ER$7))=1),0.291666666666667,""))) | ES44: =SUM(B44:ER44) -> 2.0416667 | ET44: =A44 -> Myriame
A45: Stéphane | B45: =IF(_xlfn.ISFORMULA('Roulement '!B4)=TRUE,"",IF(A45=0.291666666666667,"",IF(AND('Roulement '!B$7>0,SUMPRODUCT(('Roulement '!$A$3:$A$9=$A45)*('Roulement '!B$3:B$9='Roulement '!B$7))=1),0.291666666666667,""))) | C45: =IF(_xlfn.ISFORMULA('Roulement '!C4)=TRUE,"",IF(B45=0.291666666666667,"",IF(AND('Roulement '!C$7>0,SUMPRODUCT(('Roulement '!$A$3:$A$9=$A45)*('Roulement '!C$3:C$9='Roulement '!C$7))=1),0.291666666666667,""))) | D45: =IF(_xlfn.ISFORMULA('Roulement '!D4)=TRUE,"",IF(C45=0.291666666666667,"",IF(AND('Roulement '!D$7>0,SUMPRODUCT(('Roulement '!$A$3:$A$9=$A45)*('Roulement '!D$3:D$9='Roulement '!D$7))=1),0.291666666666667,""))) | E45: =IF(_xlfn.ISFORMULA('Roulement '!E4)=TRUE,"",IF(D45=0.291666666666667,"",IF(AND('Roulement '!E$7>0,SUMPRODUCT(('Roulement '!$A$3:$A$9=$A45)*('Roulement '!E$3:E$9='Roulement '!E$7))=1),0.291666666666667,""))) | F45: =IF(_xlfn.ISFORMULA('Roulement '!F4)=TRUE,"",IF(E45=0.291666666666667,"",IF(AND('Roulement '!F$7>0,SUMPRODUCT(('Roulement '!$A$3:$A$9=$A45)*('Roulement '!F$3:F$9='Roulement '!F$7))=1),0.291666666666667,""))) | G45: =IF(_xlfn.ISFORMULA('Roulement '!G4)=TRUE,"",IF(F45=0.291666666666667,"",IF(AND('Roulement '!G$7>0,SUMPRODUCT(('Roulement '!$A$3:$A$9=$A45)*('Roulement '!G$3:G$9='Roulement '!G$7))=1),0.291666666666667,""))) | H45: =IF(_xlfn.ISFORMULA('Roulement '!H4)=TRUE,"",IF(G45=0.291666666666667,"",IF(AND('Roulement '!H$7>0,SUMPRODUCT(('Roulement '!$A$3:$A$9=$A45)*('Roulement '!H$3:H$9='Roulement '!H$7))=1),0.291666666666667,""))) | I45: =IF(_xlfn.ISFORMULA('Roulement '!I4)=TRUE,"",IF(H45=0.291666666666667,"",IF(AND('Roulement '!I$7>0,SUMPRODUCT(('Roulement '!$A$3:$A$9=$A45)*('Roulement '!I$3:I$9='Roulement '!I$7))=1),0.291666666666667,""))) | ... ER45: =IF(_xlfn.ISFORMULA('Roulement '!ER4)=TRUE,"",IF(EQ45=0.291666666666667,"",IF(AND('Roulement '!ER$7>0,SUMPRODUCT(('Roulement '!$A$3:$A$9=$A45)*('Roulement '!ER$3:ER$9='Roulement '!ER$7))=1),0.291666666666667,""))) | ES45: =SUM(B45:ER45) -> 2.0416667 | ET45: =A45 -> Stéphane
A46: Eddy | B46: =IF(_xlfn.ISFORMULA('Roulement '!B5)=TRUE,"",IF(A46=0.291666666666667,"",IF(AND('Roulement '!B$7>0,SUMPRODUCT(('Roulement '!$A$3:$A$9=$A46)*('Roulement '!B$3:B$9='Roulement '!B$7))=1),0.291666666666667,""))) | C46: =IF(_xlfn.ISFORMULA('Roulement '!C5)=TRUE,"",IF(B46=0.291666666666667,"",IF(AND('Roulement '!C$7>0,SUMPRODUCT(('Roulement '!$A$3:$A$9=$A46)*('Roulement '!C$3:C$9='Roulement '!C$7))=1),0.291666666666667,""))) | D46: =IF(_xlfn.ISFORMULA('Roulement '!D5)=TRUE,"",IF(C46=0.291666666666667,"",IF(AND('Roulement '!D$7>0,SUMPRODUCT(('Roulement '!$A$3:$A$9=$A46)*('Roulement '!D$3:D$9='Roulement '!D$7))=1),0.291666666666667,""))) | E46: =IF(_xlfn.ISFORMULA('Roulement '!E5)=TRUE,"",IF(D46=0.291666666666667,"",IF(AND('Roulement '!E$7>0,SUMPRODUCT(('Roulement '!$A$3:$A$9=$A46)*('Roulement '!E$3:E$9='Roulement '!E$7))=1),0.291666666666667,""))) | F46: =IF(_xlfn.ISFORMULA('Roulement '!F5)=TRUE,"",IF(E46=0.291666666666667,"",IF(AND('Roulement '!F$7>0,SUMPRODUCT(('Roulement '!$A$3:$A$9=$A46)*('Roulement '!F$3:F$9='Roulement '!F$7))=1),0.291666666666667,""))) | G46: =IF(_xlfn.ISFORMULA('Roulement '!G5)=TRUE,"",IF(F46=0.291666666666667,"",IF(AND('Roulement '!G$7>0,SUMPRODUCT(('Roulement '!$A$3:$A$9=$A46)*('Roulement '!G$3:G$9='Roulement '!G$7))=1),0.291666666666667,""))) | H46: =IF(_xlfn.ISFORMULA('Roulement '!H5)=TRUE,"",IF(G46=0.291666666666667,"",IF(AND('Roulement '!H$7>0,SUMPRODUCT(('Roulement '!$A$3:$A$9=$A46)*('Roulement '!H$3:H$9='Roulement '!H$7))=1),0.291666666666667,""))) | I46: =IF(_xlfn.ISFORMULA('Roulement '!I5)=TRUE,"",IF(H46=0.291666666666667,"",IF(AND('Roulement '!I$7>0,SUMPRODUCT(('Roulement '!$A$3:$A$9=$A46)*('Roulement '!I$3:I$9='Roulement '!I$7))=1),0.291666666666667,""))) | ... ER46: =IF(_xlfn.ISFORMULA('Roulement '!ER5)=TRUE,"",IF(EQ46=0.291666666666667,"",IF(AND('Roulement '!ER$7>0,SUMPRODUCT(('Roulement '!$A$3:$A$9=$A46)*('Roulement '!ER$3:ER$9='Roulement '!ER$7))=1),0.291666666666667,""))) | ES46: =SUM(B46:ER46) -> 2.625 | ET46: =A46 -> Eddy
A47: Marie Claude | B47: =IF(_xlfn.ISFORMULA('Roulement '!B6)=TRUE,"",IF(A47=0.291666666666667,"",IF(AND('Roulement '!B$7>0,SUMPRODUCT(('Roulement '!$A$3:$A$9=$A47)*('Roulement '!B$3:B$9='Roulement '!B$7))=1),0.291666666666667,""))) -> 0.29166667 | C47: =IF(_xlfn.ISFORMULA('Roulement '!C6)=TRUE,"",IF(B47=0.291666666666667,"",IF(AND('Roulement '!C$7>0,SUMPRODUCT(('Roulement '!$A$3:$A$9=$A47)*('Roulement '!C$3:C$9='Roulement '!C$7))=1),0.291666666666667,""))) | D47: =IF(_xlfn.ISFORMULA('Roulement '!D6)=TRUE,"",IF(C47=0.291666666666667,"",IF(AND('Roulement '!D$7>0,SUMPRODUCT(('Roulement '!$A$3:$A$9=$A47)*('Roulement '!D$3:D$9='Roulement '!D$7))=1),0.291666666666667,""))) | E47: =IF(_xlfn.ISFORMULA('Roulement '!E6)=TRUE,"",IF(D47=0.291666666666667,"",IF(AND('Roulement '!E$7>0,SUMPRODUCT(('Roulement '!$A$3:$A$9=$A47)*('Roulement '!E$3:E$9='Roulement '!E$7))=1),0.291666666666667,""))) -> 0.29166667 | F47: =IF(_xlfn.ISFORMULA('Roulement '!F6)=TRUE,"",IF(E47=0.291666666666667,"",IF(AND('Roulement '!F$7>0,SUMPRODUCT(('Roulement '!$A$3:$A$9=$A47)*('Roulement '!F$3:F$9='Roulement '!F$7))=1),0.291666666666667,""))) | G47: =IF(_xlfn.ISFORMULA('Roulement '!G6)=TRUE,"",IF(F47=0.291666666666667,"",IF(AND('Roulement '!G$7>0,SUMPRODUCT(('Roulement '!$A$3:$A$9=$A47)*('Roulement '!G$3:G$9='Roulement '!G$7))=1),0.291666666666667,""))) | H47: =IF(_xlfn.ISFORMULA('Roulement '!H6)=TRUE,"",IF(G47=0.291666666666667,"",IF(AND('Roulement '!H$7>0,SUMPRODUCT(('Roulement '!$A$3:$A$9=$A47)*('Roulement '!H$3:H$9='Roulement '!H$7))=1),0.291666666666667,""))) | I47: =IF(_xlfn.ISFORMULA('Roulement '!I6)=TRUE,"",IF(H47=0.291666666666667,"",IF(AND('Roulement '!I$7>0,SUMPRODUCT(('Roulement '!$A$3:$A$9=$A47)*('Roulement '!I$3:I$9='Roulement '!I$7))=1),0.291666666666667,""))) | ... ER47: =IF(_xlfn.ISFORMULA('Roulement '!ER6)=TRUE,"",IF(EQ47=0.291666666666667,"",IF(AND('Roulement '!ER$7>0,SUMPRODUCT(('Roulement '!$A$3:$A$9=$A47)*('Roulement '!ER$3:ER$9='Roulement '!ER$7))=1),0.291666666666667,""))) | ES47: =SUM(B47:ER47) -> 3.7916667 | ET47: =A47 -> Marie Claude
A48: Kathy | B48: =IF(_xlfn.ISFORMULA('Roulement '!B7)=TRUE,"",IF(A48=0.291666666666667,"",IF(AND('Roulement '!B$7>0,SUMPRODUCT(('Roulement '!$A$3:$A$9=$A48)*('Roulement '!B$3:B$9='Roulement '!B$7))=1),0.291666666666667,""))) | C48: =IF(_xlfn.ISFORMULA('Roulement '!C7)=TRUE,"",IF(B48=0.291666666666667,"",IF(AND('Roulement '!C$7>0,SUMPRODUCT(('Roulement '!$A$3:$A$9=$A48)*('Roulement '!C$3:C$9='Roulement '!C$7))=1),0.291666666666667,""))) | D48: =IF(_xlfn.ISFORMULA('Roulement '!D7)=TRUE,"",IF(C48=0.291666666666667,"",IF(AND('Roulement '!D$7>0,SUMPRODUCT(('Roulement '!$A$3:$A$9=$A48)*('Roulement '!D$3:D$9='Roulement '!D$7))=1),0.291666666666667,""))) | E48: =IF(_xlfn.ISFORMULA('Roulement '!E7)=TRUE,"",IF(D48=0.291666666666667,"",IF(AND('Roulement '!E$7>0,SUMPRODUCT(('Roulement '!$A$3:$A$9=$A48)*('Roulement '!E$3:E$9='Roulement '!E$7))=1),0.291666666666667,""))) | F48: =IF(_xlfn.ISFORMULA('Roulement '!F7)=TRUE,"",IF(E48=0.291666666666667,"",IF(AND('Roulement '!F$7>0,SUMPRODUCT(('Roulement '!$A$3:$A$9=$A48)*('Roulement '!F$3:F$9='Roulement '!F$7))=1),0.291666666666667,""))) | G48: =IF(_xlfn.ISFORMULA('Roulement '!G7)=TRUE,"",IF(F48=0.291666666666667,"",IF(AND('Roulement '!G$7>0,SUMPRODUCT(('Roulement '!$A$3:$A$9=$A48)*('Roulement '!G$3:G$9='Roulement '!G$7))=1),0.291666666666667,""))) | H48: =IF(_xlfn.ISFORMULA('Roulement '!H7)=TRUE,"",IF(G48=0.291666666666667,"",IF(AND('Roulement '!H$7>0,SUMPRODUCT(('Roulement '!$A$3:$A$9=$A48)*('Roulement '!H$3:H$9='Roulement '!H$7))=1),0.291666666666667,""))) | I48: =IF(_xlfn.ISFORMULA('Roulement '!I7)=TRUE,"",IF(H48=0.291666666666667,"",IF(AND('Roulement '!I$7>0,SUMPRODUCT(('Roulement '!$A$3:$A$9=$A48)*('Roulement '!I$3:I$9='Roulement '!I$7))=1),0.291666666666667,""))) | ... ER48: =IF(_xlfn.ISFORMULA('Roulement '!ER7)=TRUE,"",IF(EQ48=0.291666666666667,"",IF(AND('Roulement '!ER$7>0,SUMPRODUCT(('Roulement '!$A$3:$A$9=$A48)*('Roulement '!ER$3:ER$9='Roulement '!ER$7))=1),0.291666666666667,""))) | ES48: =SUM(B48:ER48) -> 2.625 | ET48: =A48 -> Kathy
A49: Sarah | B49: =IF(_xlfn.ISFORMULA('Roulement '!B8)=TRUE,"",IF(A49=0.291666666666667,"",IF(AND('Roulement '!B$7>0,SUMPRODUCT(('Roulement '!$A$3:$A$9=$A49)*('Roulement '!B$3:B$9='Roulement '!B$7))=1),0.291666666666667,""))) | C49: =IF(_xlfn.ISFORMULA('Roulement '!C8)=TRUE,"",IF(B49=0.291666666666667,"",IF(AND('Roulement '!C$7>0,SUMPRODUCT(('Roulement '!$A$3:$A$9=$A49)*('Roulement '!C$3:C$9='Roulement '!C$7))=1),0.291666666666667,""))) | D49: =IF(_xlfn.ISFORMULA('Roulement '!D8)=TRUE,"",IF(C49=0.291666666666667,"",IF(AND('Roulement '!D$7>0,SUMPRODUCT(('Roulement '!$A$3:$A$9=$A49)*('Roulement '!D$3:D$9='Roulement '!D$7))=1),0.291666666666667,""))) | E49: =IF(_xlfn.ISFORMULA('Roulement '!E8)=TRUE,"",IF(D49=0.291666666666667,"",IF(AND('Roulement '!E$7>0,SUMPRODUCT(('Roulement '!$A$3:$A$9=$A49)*('Roulement '!E$3:E$9='Roulement '!E$7))=1),0.291666666666667,""))) | F49: =IF(_xlfn.ISFORMULA('Roulement '!F8)=TRUE,"",IF(E49=0.291666666666667,"",IF(AND('Roulement '!F$7>0,SUMPRODUCT(('Roulement '!$A$3:$A$9=$A49)*('Roulement '!F$3:F$9='Roulement '!F$7))=1),0.291666666666667,""))) | G49: =IF(_xlfn.ISFORMULA('Roulement '!G8)=TRUE,"",IF(F49=0.291666666666667,"",IF(AND('Roulement '!G$7>0,SUMPRODUCT(('Roulement '!$A$3:$A$9=$A49)*('Roulement '!G$3:G$9='Roulement '!G$7))=1),0.291666666666667,""))) | H49: =IF(_xlfn.ISFORMULA('Roulement '!H8)=TRUE,"",IF(G49=0.291666666666667,"",IF(AND('Roulement '!H$7>0,SUMPRODUCT(('Roulement '!$A$3:$A$9=$A49)*('Roulement '!H$3:H$9='Roulement '!H$7))=1),0.291666666666667,""))) | I49: =IF(_xlfn.ISFORMULA('Roulement '!I8)=TRUE,"",IF(H49=0.291666666666667,"",IF(AND('Roulement '!I$7>0,SUMPRODUCT(('Roulement '!$A$3:$A$9=$A49)*('Roulement '!I$3:I$9='Roulement '!I$7))=1),0.291666666666667,""))) | ... ER49: =IF(_xlfn.ISFORMULA('Roulement '!ER8)=TRUE,"",IF(EQ49=0.291666666666667,"",IF(AND('Roulement '!ER$7>0,SUMPRODUCT(('Roulement '!$A$3:$A$9=$A49)*('Roulement '!ER$3:ER$9='Roulement '!ER$7))=1),0.291666666666667,""))) | ES49: =SUM(B49:ER49) -> 3.7916667 | ET49: =A49 -> Sarah
B51: Semaine 01 | W51: Semaine 02 | AR51: Semaine 03 | BM51: Semaine 04 | CH51: Semaine 05 | DC51: Semaine 06 | DX51: Semaine 07
B52: Lundi | E52: Mardi | H52: Mercredi | K52: Jeudi | N52: Vendredi | Q52: Samedi | T52: Dimanche | W52: Lundi | Z52: Mardi | AC52: Mercredi | AF52: Jeudi | AI52: Vendredi | AL52: Samedi | AO52: Dimanche | AR52: Lundi | AU52: Mardi | AX52: Mercredi | BA52: Jeudi | BD52: Vendredi | BG52: Samedi | BJ52: Dimanche | BM52: Lundi | BP52: Mardi | BS52: Mercredi | BV52: Jeudi | BY52: Vendredi | CB52: Samedi | CE52: Dimanche | CH52: Lundi | CK52: Mardi | CN52: Mercredi | CQ52: Jeudi | CT52: Vendredi | CW52: Samedi | CZ52: Dimanche | DC52: Lundi | DF52: Mardi | DI52: Mercredi | DL52: Jeudi | DO52: Vendredi | DR52: Samedi | DU52: Dimanche | DX52: Lundi | EA52: Mardi | ED52: Mercredi | EG52: Jeudi | EJ52: Vendredi | EM52: Samedi | EP52: Dimanche
A53: Kathy avec : | ES53: =A53&" "&"TOTAL" -> Kathy avec : TOTAL
A54: Myriame | B54: =IF(_xlfn.ISFORMULA('Roulement '!B3)=TRUE,"",IF(A54=0.291666666666667,"",IF(AND('Roulement '!B$8>0,SUMPRODUCT(('Roulement '!$A$3:$A$9=$A54)*('Roulement '!B$3:B$9='Roulement '!B$8))=1),0.291666666666667,""))) | C54: =IF(_xlfn.ISFORMULA('Roulement '!C3)=TRUE,"",IF(B54=0.291666666666667,"",IF(AND('Roulement '!C$8>0,SUMPRODUCT(('Roulement '!$A$3:$A$9=$A54)*('Roulement '!C$3:C$9='Roulement '!C$8))=1),0.291666666666667,""))) | D54: =IF(_xlfn.ISFORMULA('Roulement '!D3)=TRUE,"",IF(C54=0.291666666666667,"",IF(AND('Roulement '!D$8>0,SUMPRODUCT(('Roulement '!$A$3:$A$9=$A54)*('Roulement '!D$3:D$9='Roulement '!D$8))=1),0.291666666666667,""))) | E54: =IF(_xlfn.ISFORMULA('Roulement '!E3)=TRUE,"",IF(D54=0.291666666666667,"",IF(AND('Roulement '!E$8>0,SUMPRODUCT(('Roulement '!$A$3:$A$9=$A54)*('Roulement '!E$3:E$9='Roulement '!E$8))=1),0.291666666666667,""))) -> 0.29166667 | F54: =IF(_xlfn.ISFORMULA('Roulement '!F3)=TRUE,"",IF(E54=0.291666666666667,"",IF(AND('Roulement '!F$8>0,SUMPRODUCT(('Roulement '!$A$3:$A$9=$A54)*('Roulement '!F$3:F$9='Roulement '!F$8))=1),0.291666666666667,""))) | G54: =IF(_xlfn.ISFORMULA('Roulement '!G3)=TRUE,"",IF(F54=0.291666666666667,"",IF(AND('Roulement '!G$8>0,SUMPRODUCT(('Roulement '!$A$3:$A$9=$A54)*('Roulement '!G$3:G$9='Roulement '!G$8))=1),0.291666666666667,""))) | H54: =IF(_xlfn.ISFORMULA('Roulement '!H3)=TRUE,"",IF(G54=0.291666666666667,"",IF(AND('Roulement '!H$8>0,SUMPRODUCT(('Roulement '!$A$3:$A$9=$A54)*('Roulement '!H$3:H$9='Roulement '!H$8))=1),0.291666666666667,""))) | I54: =IF(_xlfn.ISFORMULA('Roulement '!I3)=TRUE,"",IF(H54=0.291666666666667,"",IF(AND('Roulement '!I$8>0,SUMPRODUCT(('Roulement '!$A$3:$A$9=$A54)*('Roulement '!I$3:I$9='Roulement '!I$8))=1),0.291666666666667,""))) | ... ER54: =IF(_xlfn.ISFORMULA('Roulement '!ER3)=TRUE,"",IF(EQ54=0.291666666666667,"",IF(AND('Roulement '!ER$8>0,SUMPRODUCT(('Roulement '!$A$3:$A$9=$A54)*('Roulement '!ER$3:ER$9='Roulement '!ER$8))=1),0.291666666666667,""))) | ES54: =SUM(B54:ER54) -> 3.7916667 | ET54: =A54 -> Myriame
A55: Stéphane | B55: =IF(_xlfn.ISFORMULA('Roulement '!B4)=TRUE,"",IF(A55=0.291666666666667,"",IF(AND('Roulement '!B$8>0,SUMPRODUCT(('Roulement '!$A$3:$A$9=$A55)*('Roulement '!B$3:B$9='Roulement '!B$8))=1),0.291666666666667,""))) | C55: =IF(_xlfn.ISFORMULA('Roulement '!C4)=TRUE,"",IF(B55=0.291666666666667,"",IF(AND('Roulement '!C$8>0,SUMPRODUCT(('Roulement '!$A$3:$A$9=$A55)*('Roulement '!C$3:C$9='Roulement '!C$8))=1),0.291666666666667,""))) | D55: =IF(_xlfn.ISFORMULA('Roulement '!D4)=TRUE,"",IF(C55=0.291666666666667,"",IF(AND('Roulement '!D$8>0,SUMPRODUCT(('Roulement '!$A$3:$A$9=$A55)*('Roulement '!D$3:D$9='Roulement '!D$8))=1),0.291666666666667,""))) | E55: =IF(_xlfn.ISFORMULA('Roulement '!E4)=TRUE,"",IF(D55=0.291666666666667,"",IF(AND('Roulement '!E$8>0,SUMPRODUCT(('Roulement '!$A$3:$A$9=$A55)*('Roulement '!E$3:E$9='Roulement '!E$8))=1),0.291666666666667,""))) | F55: =IF(_xlfn.ISFORMULA('Roulement '!F4)=TRUE,"",IF(E55=0.291666666666667,"",IF(AND('Roulement '!F$8>0,SUMPRODUCT(('Roulement '!$A$3:$A$9=$A55)*('Roulement '!F$3:F$9='Roulement '!F$8))=1),0.291666666666667,""))) | G55: =IF(_xlfn.ISFORMULA('Roulement '!G4)=TRUE,"",IF(F55=0.291666666666667,"",IF(AND('Roulement '!G$8>0,SUMPRODUCT(('Roulement '!$A$3:$A$9=$A55)*('Roulement '!G$3:G$9='Roulement '!G$8))=1),0.291666666666667,""))) | H55: =IF(_xlfn.ISFORMULA('Roulement '!H4)=TRUE,"",IF(G55=0.291666666666667,"",IF(AND('Roulement '!H$8>0,SUMPRODUCT(('Roulement '!$A$3:$A$9=$A55)*('Roulement '!H$3:H$9='Roulement '!H$8))=1),0.291666666666667,""))) | I55: =IF(_xlfn.ISFORMULA('Roulement '!I4)=TRUE,"",IF(H55=0.291666666666667,"",IF(AND('Roulement '!I$8>0,SUMPRODUCT(('Roulement '!$A$3:$A$9=$A55)*('Roulement '!I$3:I$9='Roulement '!I$8))=1),0.291666666666667,""))) | ... ER55: =IF(_xlfn.ISFORMULA('Roulement '!ER4)=TRUE,"",IF(EQ55=0.291666666666667,"",IF(AND('Roulement '!ER$8>0,SUMPRODUCT(('Roulement '!$A$3:$A$9=$A55)*('Roulement '!ER$3:ER$9='Roulement '!ER$8))=1),0.291666666666667,""))) | ES55: =SUM(B55:ER55) -> 2.0416667 | ET55: =A55 -> Stéphane
A56: Marie Claude | B56: =IF(_xlfn.ISFORMULA('Roulement '!B5)=TRUE,"",IF(A56=0.291666666666667,"",IF(AND('Roulement '!B$8>0,SUMPRODUCT(('Roulement '!$A$3:$A$9=$A56)*('Roulement '!B$3:B$9='Roulement '!B$8))=1),0.291666666666667,""))) | C56: =IF(_xlfn.ISFORMULA('Roulement '!C5)=TRUE,"",IF(B56=0.291666666666667,"",IF(AND('Roulement '!C$8>0,SUMPRODUCT(('Roulement '!$A$3:$A$9=$A56)*('Roulement '!C$3:C$9='Roulement '!C$8))=1),0.291666666666667,""))) | D56: =IF(_xlfn.ISFORMULA('Roulement '!D5)=TRUE,"",IF(C56=0.291666666666667,"",IF(AND('Roulement '!D$8>0,SUMPRODUCT(('Roulement '!$A$3:$A$9=$A56)*('Roulement '!D$3:D$9='Roulement '!D$8))=1),0.291666666666667,""))) | E56: =IF(_xlfn.ISFORMULA('Roulement '!E5)=TRUE,"",IF(D56=0.291666666666667,"",IF(AND('Roulement '!E$8>0,SUMPRODUCT(('Roulement '!$A$3:$A$9=$A56)*('Roulement '!E$3:E$9='Roulement '!E$8))=1),0.291666666666667,""))) | F56: =IF(_xlfn.ISFORMULA('Roulement '!F5)=TRUE,"",IF(E56=0.291666666666667,"",IF(AND('Roulement '!F$8>0,SUMPRODUCT(('Roulement '!$A$3:$A$9=$A56)*('Roulement '!F$3:F$9='Roulement '!F$8))=1),0.291666666666667,""))) | G56: =IF(_xlfn.ISFORMULA('Roulement '!G5)=TRUE,"",IF(F56=0.291666666666667,"",IF(AND('Roulement '!G$8>0,SUMPRODUCT(('Roulement '!$A$3:$A$9=$A56)*('Roulement '!G$3:G$9='Roulement '!G$8))=1),0.291666666666667,""))) | H56: =IF(_xlfn.ISFORMULA('Roulement '!H5)=TRUE,"",IF(G56=0.291666666666667,"",IF(AND('Roulement '!H$8>0,SUMPRODUCT(('Roulement '!$A$3:$A$9=$A56)*('Roulement '!H$3:H$9='Roulement '!H$8))=1),0.291666666666667,""))) | I56: =IF(_xlfn.ISFORMULA('Roulement '!I5)=TRUE,"",IF(H56=0.291666666666667,"",IF(AND('Roulement '!I$8>0,SUMPRODUCT(('Roulement '!$A$3:$A$9=$A56)*('Roulement '!I$3:I$9='Roulement '!I$8))=1),0.291666666666667,""))) | ... ER56: =IF(_xlfn.ISFORMULA('Roulement '!ER5)=TRUE,"",IF(EQ56=0.291666666666667,"",IF(AND('Roulement '!ER$8>0,SUMPRODUCT(('Roulement '!$A$3:$A$9=$A56)*('Roulement '!ER$3:ER$9='Roulement '!ER$8))=1),0.291666666666667,""))) | ES56: =SUM(B56:ER56) -> 2.0416667 | ET56: =A56 -> Marie Claude
A57: Eddy | B57: =IF(_xlfn.ISFORMULA('Roulement '!B6)=TRUE,"",IF(A57=0.291666666666667,"",IF(AND('Roulement '!B$8>0,SUMPRODUCT(('Roulement '!$A$3:$A$9=$A57)*('Roulement '!B$3:B$9='Roulement '!B$8))=1),0.291666666666667,""))) | C57: =IF(_xlfn.ISFORMULA('Roulement '!C6)=TRUE,"",IF(B57=0.291666666666667,"",IF(AND('Roulement '!C$8>0,SUMPRODUCT(('Roulement '!$A$3:$A$9=$A57)*('Roulement '!C$3:C$9='Roulement '!C$8))=1),0.291666666666667,""))) | D57: =IF(_xlfn.ISFORMULA('Roulement '!D6)=TRUE,"",IF(C57=0.291666666666667,"",IF(AND('Roulement '!D$8>0,SUMPRODUCT(('Roulement '!$A$3:$A$9=$A57)*('Roulement '!D$3:D$9='Roulement '!D$8))=1),0.291666666666667,""))) | E57: =IF(_xlfn.ISFORMULA('Roulement '!E6)=TRUE,"",IF(D57=0.291666666666667,"",IF(AND('Roulement '!E$8>0,SUMPRODUCT(('Roulement '!$A$3:$A$9=$A57)*('Roulement '!E$3:E$9='Roulement '!E$8))=1),0.291666666666667,""))) -> 0.29166667 | F57: =IF(_xlfn.ISFORMULA('Roulement '!F6)=TRUE,"",IF(E57=0.291666666666667,"",IF(AND('Roulement '!F$8>0,SUMPRODUCT(('Roulement '!$A$3:$A$9=$A57)*('Roulement '!F$3:F$9='Roulement '!F$8))=1),0.291666666666667,""))) | G57: =IF(_xlfn.ISFORMULA('Roulement '!G6)=TRUE,"",IF(F57=0.291666666666667,"",IF(AND('Roulement '!G$8>0,SUMPRODUCT(('Roulement '!$A$3:$A$9=$A57)*('Roulement '!G$3:G$9='Roulement '!G$8))=1),0.291666666666667,""))) | H57: =IF(_xlfn.ISFORMULA('Roulement '!H6)=TRUE,"",IF(G57=0.291666666666667,"",IF(AND('Roulement '!H$8>0,SUMPRODUCT(('Roulement '!$A$3:$A$9=$A57)*('Roulement '!H$3:H$9='Roulement '!H$8))=1),0.291666666666667,""))) -> 0.29166667 | I57: =IF(_xlfn.ISFORMULA('Roulement '!I6)=TRUE,"",IF(H57=0.291666666666667,"",IF(AND('Roulement '!I$8>0,SUMPRODUCT(('Roulement '!$A$3:$A$9=$A57)*('Roulement '!I$3:I$9='Roulement '!I$8))=1),0.291666666666667,""))) | ... ER57: =IF(_xlfn.ISFORMULA('Roulement '!ER6)=TRUE,"",IF(EQ57=0.291666666666667,"",IF(AND('Roulement '!ER$8>0,SUMPRODUCT(('Roulement '!$A$3:$A$9=$A57)*('Roulement '!ER$3:ER$9='Roulement '!ER$8))=1),0.291666666666667,""))) | ES57: =SUM(B57:ER57) -> 3.7916667 | ET57: =A57 -> Eddy
A58: Patricia | B58: =IF(_xlfn.ISFORMULA('Roulement '!B7)=TRUE,"",IF(A58=0.291666666666667,"",IF(AND('Roulement '!B$8>0,SUMPRODUCT(('Roulement '!$A$3:$A$9=$A58)*('Roulement '!B$3:B$9='Roulement '!B$8))=1),0.291666666666667,""))) | C58: =IF(_xlfn.ISFORMULA('Roulement '!C7)=TRUE,"",IF(B58=0.291666666666667,"",IF(AND('Roulement '!C$8>0,SUMPRODUCT(('Roulement '!$A$3:$A$9=$A58)*('Roulement '!C$3:C$9='Roulement '!C$8))=1),0.291666666666667,""))) | D58: =IF(_xlfn.ISFORMULA('Roulement '!D7)=TRUE,"",IF(C58=0.291666666666667,"",IF(AND('Roulement '!D$8>0,SUMPRODUCT(('Roulement '!$A$3:$A$9=$A58)*('Roulement '!D$3:D$9='Roulement '!D$8))=1),0.291666666666667,""))) | E58: =IF(_xlfn.ISFORMULA('Roulement '!E7)=TRUE,"",IF(D58=0.291666666666667,"",IF(AND('Roulement '!E$8>0,SUMPRODUCT(('Roulement '!$A$3:$A$9=$A58)*('Roulement '!E$3:E$9='Roulement '!E$8))=1),0.291666666666667,""))) | F58: =IF(_xlfn.ISFORMULA('Roulement '!F7)=TRUE,"",IF(E58=0.291666666666667,"",IF(AND('Roulement '!F$8>0,SUMPRODUCT(('Roulement '!$A$3:$A$9=$A58)*('Roulement '!F$3:F$9='Roulement '!F$8))=1),0.291666666666667,""))) | G58: =IF(_xlfn.ISFORMULA('Roulement '!G7)=TRUE,"",IF(F58=0.291666666666667,"",IF(AND('Roulement '!G$8>0,SUMPRODUCT(('Roulement '!$A$3:$A$9=$A58)*('Roulement '!G$3:G$9='Roulement '!G$8))=1),0.291666666666667,""))) | H58: =IF(_xlfn.ISFORMULA('Roulement '!H7)=TRUE,"",IF(G58=0.291666666666667,"",IF(AND('Roulement '!H$8>0,SUMPRODUCT(('Roulement '!$A$3:$A$9=$A58)*('Roulement '!H$3:H$9='Roulement '!H$8))=1),0.291666666666667,""))) | I58: =IF(_xlfn.ISFORMULA('Roulement '!I7)=TRUE,"",IF(H58=0.291666666666667,"",IF(AND('Roulement '!I$8>0,SUMPRODUCT(('Roulement '!$A$3:$A$9=$A58)*('Roulement '!I$3:I$9='Roulement '!I$8))=1),0.291666666666667,""))) | ... ER58: =IF(_xlfn.ISFORMULA('Roulement '!ER7)=TRUE,"",IF(EQ58=0.291666666666667,"",IF(AND('Roulement '!ER$8>0,SUMPRODUCT(('Roulement '!$A$3:$A$9=$A58)*('Roulement '!ER$3:ER$9='Roulement '!ER$8))=1),0.291666666666667,""))) | ES58: =SUM(B58:ER58) -> 2.625 | ET58: =A58 -> Patricia
A59: Sarah | B59: =IF(_xlfn.ISFORMULA('Roulement '!B8)=TRUE,"",IF(A59=0.291666666666667,"",IF(AND('Roulement '!B$8>0,SUMPRODUCT(('Roulement '!$A$3:$A$9=$A59)*('Roulement '!B$3:B$9='Roulement '!B$8))=1),0.291666666666667,""))) | C59: =IF(_xlfn.ISFORMULA('Roulement '!C8)=TRUE,"",IF(B59=0.291666666666667,"",IF(AND('Roulement '!C$8>0,SUMPRODUCT(('Roulement '!$A$3:$A$9=$A59)*('Roulement '!C$3:C$9='Roulement '!C$8))=1),0.291666666666667,""))) | D59: =IF(_xlfn.ISFORMULA('Roulement '!D8)=TRUE,"",IF(C59=0.291666666666667,"",IF(AND('Roulement '!D$8>0,SUMPRODUCT(('Roulement '!$A$3:$A$9=$A59)*('Roulement '!D$3:D$9='Roulement '!D$8))=1),0.291666666666667,""))) | E59: =IF(_xlfn.ISFORMULA('Roulement '!E8)=TRUE,"",IF(D59=0.291666666666667,"",IF(AND('Roulement '!E$8>0,SUMPRODUCT(('Roulement '!$A$3:$A$9=$A59)*('Roulement '!E$3:E$9='Roulement '!E$8))=1),0.291666666666667,""))) -> 0.29166667 | F59: =IF(_xlfn.ISFORMULA('Roulement '!F8)=TRUE,"",IF(E59=0.291666666666667,"",IF(AND('Roulement '!F$8>0,SUMPRODUCT(('Roulement '!$A$3:$A$9=$A59)*('Roulement '!F$3:F$9='Roulement '!F$8))=1),0.291666666666667,""))) | G59: =IF(_xlfn.ISFORMULA('Roulement '!G8)=TRUE,"",IF(F59=0.291666666666667,"",IF(AND('Roulement '!G$8>0,SUMPRODUCT(('Roulement '!$A$3:$A$9=$A59)*('Roulement '!G$3:G$9='Roulement '!G$8))=1),0.291666666666667,""))) | H59: =IF(_xlfn.ISFORMULA('Roulement '!H8)=TRUE,"",IF(G59=0.291666666666667,"",IF(AND('Roulement '!H$8>0,SUMPRODUCT(('Roulement '!$A$3:$A$9=$A59)*('Roulement '!H$3:H$9='Roulement '!H$8))=1),0.291666666666667,""))) -> 0.29166667 | I59: =IF(_xlfn.ISFORMULA('Roulement '!I8)=TRUE,"",IF(H59=0.291666666666667,"",IF(AND('Roulement '!I$8>0,SUMPRODUCT(('Roulement '!$A$3:$A$9=$A59)*('Roulement '!I$3:I$9='Roulement '!I$8))=1),0.291666666666667,""))) | ... ER59: =IF(_xlfn.ISFORMULA('Roulement '!ER8)=TRUE,"",IF(EQ59=0.291666666666667,"",IF(AND('Roulement '!ER$8>0,SUMPRODUCT(('Roulement '!$A$3:$A$9=$A59)*('Roulement '!ER$3:ER$9='Roulement '!ER$8))=1),0.291666666666667,""))) | ES59: =SUM(B59:ER59) -> 2.625 | ET59: =A59 -> Sarah
B61: Semaine 01 | W61: Semaine 02 | AR61: Semaine 03 | BM61: Semaine 04 | CH61: Semaine 05 | DC61: Semaine 06 | DX61: Semaine 07
B62: Lundi | E62: Mardi | H62: Mercredi | K62: Jeudi | N62: Vendredi | Q62: Samedi | T62: Dimanche | W62: Lundi | Z62: Mardi | AC62: Mercredi | AF62: Jeudi | AI62: Vendredi | AL62: Samedi | AO62: Dimanche | AR62: Lundi | AU62: Mardi | AX62: Mercredi | BA62: Jeudi | BD62: Vendredi | BG62: Samedi | BJ62: Dimanche | BM62: Lundi | BP62: Mardi | BS62: Mercredi | BV62: Jeudi | BY62: Vendredi | CB62: Samedi | CE62: Dimanche | CH62: Lundi | CK62: Mardi | CN62: Mercredi | CQ62: Jeudi | CT62: Vendredi | CW62: Samedi | CZ62: Dimanche | DC62: Lundi | DF62: Mardi | DI62: Mercredi | DL62: Jeudi | DO62: Vendredi | DR62: Samedi | DU62: Dimanche | DX62: Lundi | EA62: Mardi | ED62: Mercredi | EG62: Jeudi | EJ62: Vendredi | EM62: Samedi | EP62: Dimanche
A63: Sarah avec : | ES63: =A63&" "&"TOTAL" -> Sarah avec : TOTAL
A64: Myriame | B64: =IF(_xlfn.ISFORMULA('Roulement '!B3)=TRUE,"",IF(A64=0.291666666666667,"",IF(AND('Roulement '!B$9>0,SUMPRODUCT(('Roulement '!$A$3:$A$9=$A64)*('Roulement '!B$3:B$9='Roulement '!B$9))=1),0.291666666666667,""))) -> 0.29166667 | C64: =IF(_xlfn.ISFORMULA('Roulement '!C3)=TRUE,"",IF(B64=0.291666666666667,"",IF(AND('Roulement '!C$9>0,SUMPRODUCT(('Roulement '!$A$3:$A$9=$A64)*('Roulement '!C$3:C$9='Roulement '!C$9))=1),0.291666666666667,""))) | D64: =IF(_xlfn.ISFORMULA('Roulement '!D3)=TRUE,"",IF(C64=0.291666666666667,"",IF(AND('Roulement '!D$9>0,SUMPRODUCT(('Roulement '!$A$3:$A$9=$A64)*('Roulement '!D$3:D$9='Roulement '!D$9))=1),0.291666666666667,""))) | E64: =IF(_xlfn.ISFORMULA('Roulement '!E3)=TRUE,"",IF(D64=0.291666666666667,"",IF(AND('Roulement '!E$9>0,SUMPRODUCT(('Roulement '!$A$3:$A$9=$A64)*('Roulement '!E$3:E$9='Roulement '!E$9))=1),0.291666666666667,""))) -> 0.29166667 | F64: =IF(_xlfn.ISFORMULA('Roulement '!F3)=TRUE,"",IF(E64=0.291666666666667,"",IF(AND('Roulement '!F$9>0,SUMPRODUCT(('Roulement '!$A$3:$A$9=$A64)*('Roulement '!F$3:F$9='Roulement '!F$9))=1),0.291666666666667,""))) | G64: =IF(_xlfn.ISFORMULA('Roulement '!G3)=TRUE,"",IF(F64=0.291666666666667,"",IF(AND('Roulement '!G$9>0,SUMPRODUCT(('Roulement '!$A$3:$A$9=$A64)*('Roulement '!G$3:G$9='Roulement '!G$9))=1),0.291666666666667,""))) | H64: =IF(_xlfn.ISFORMULA('Roulement '!H3)=TRUE,"",IF(G64=0.291666666666667,"",IF(AND('Roulement '!H$9>0,SUMPRODUCT(('Roulement '!$A$3:$A$9=$A64)*('Roulement '!H$3:H$9='Roulement '!H$9))=1),0.291666666666667,""))) | I64: =IF(_xlfn.ISFORMULA('Roulement '!I3)=TRUE,"",IF(H64=0.291666666666667,"",IF(AND('Roulement '!I$9>0,SUMPRODUCT(('Roulement '!$A$3:$A$9=$A64)*('Roulement '!I$3:I$9='Roulement '!I$9))=1),0.291666666666667,""))) | ... ER64: =IF(_xlfn.ISFORMULA('Roulement '!ER3)=TRUE,"",IF(EQ64=0.291666666666667,"",IF(AND('Roulement '!ER$9>0,SUMPRODUCT(('Roulement '!$A$3:$A$9=$A64)*('Roulement '!ER$3:ER$9='Roulement '!ER$9))=1),0.291666666666667,""))) | ES64: =SUM(B64:ER64) -> 2.625 | ET64: =A64 -> Myriame
A65: Stéphane | B65: =IF(_xlfn.ISFORMULA('Roulement '!B4)=TRUE,"",IF(A65=0.291666666666667,"",IF(AND('Roulement '!B$9>0,SUMPRODUCT(('Roulement '!$A$3:$A$9=$A65)*('Roulement '!B$3:B$9='Roulement '!B$9))=1),0.291666666666667,""))) -> 0.29166667 | C65: =IF(_xlfn.ISFORMULA('Roulement '!C4)=TRUE,"",IF(B65=0.291666666666667,"",IF(AND('Roulement '!C$9>0,SUMPRODUCT(('Roulement '!$A$3:$A$9=$A65)*('Roulement '!C$3:C$9='Roulement '!C$9))=1),0.291666666666667,""))) | D65: =IF(_xlfn.ISFORMULA('Roulement '!D4)=TRUE,"",IF(C65=0.291666666666667,"",IF(AND('Roulement '!D$9>0,SUMPRODUCT(('Roulement '!$A$3:$A$9=$A65)*('Roulement '!D$3:D$9='Roulement '!D$9))=1),0.291666666666667,""))) | E65: =IF(_xlfn.ISFORMULA('Roulement '!E4)=TRUE,"",IF(D65=0.291666666666667,"",IF(AND('Roulement '!E$9>0,SUMPRODUCT(('Roulement '!$A$3:$A$9=$A65)*('Roulement '!E$3:E$9='Roulement '!E$9))=1),0.291666666666667,""))) | F65: =IF(_xlfn.ISFORMULA('Roulement '!F4)=TRUE,"",IF(E65=0.291666666666667,"",IF(AND('Roulement '!F$9>0,SUMPRODUCT(('Roulement '!$A$3:$A$9=$A65)*('Roulement '!F$3:F$9='Roulement '!F$9))=1),0.291666666666667,""))) | G65: =IF(_xlfn.ISFORMULA('Roulement '!G4)=TRUE,"",IF(F65=0.291666666666667,"",IF(AND('Roulement '!G$9>0,SUMPRODUCT(('Roulement '!$A$3:$A$9=$A65)*('Roulement '!G$3:G$9='Roulement '!G$9))=1),0.291666666666667,""))) | H65: =IF(_xlfn.ISFORMULA('Roulement '!H4)=TRUE,"",IF(G65=0.291666666666667,"",IF(AND('Roulement '!H$9>0,SUMPRODUCT(('Roulement '!$A$3:$A$9=$A65)*('Roulement '!H$3:H$9='Roulement '!H$9))=1),0.291666666666667,""))) | I65: =IF(_xlfn.ISFORMULA('Roulement '!I4)=TRUE,"",IF(H65=0.291666666666667,"",IF(AND('Roulement '!I$9>0,SUMPRODUCT(('Roulement '!$A$3:$A$9=$A65)*('Roulement '!I$3:I$9='Roulement '!I$9))=1),0.291666666666667,""))) | ... ER65: =IF(_xlfn.ISFORMULA('Roulement '!ER4)=TRUE,"",IF(EQ65=0.291666666666667,"",IF(AND('Roulement '!ER$9>0,SUMPRODUCT(('Roulement '!$A$3:$A$9=$A65)*('Roulement '!ER$3:ER$9='Roulement '!ER$9))=1),0.291666666666667,""))) | ES65: =SUM(B65:ER65) -> 3.7916667 | ET65: =A65 -> Stéphane
A66: Marie Claude | B66: =IF(_xlfn.ISFORMULA('Roulement '!B5)=TRUE,"",IF(A66=0.291666666666667,"",IF(AND('Roulement '!B$9>0,SUMPRODUCT(('Roulement '!$A$3:$A$9=$A66)*('Roulement '!B$3:B$9='Roulement '!B$9))=1),0.291666666666667,""))) | C66: =IF(_xlfn.ISFORMULA('Roulement '!C5)=TRUE,"",IF(B66=0.291666666666667,"",IF(AND('Roulement '!C$9>0,SUMPRODUCT(('Roulement '!$A$3:$A$9=$A66)*('Roulement '!C$3:C$9='Roulement '!C$9))=1),0.291666666666667,""))) | D66: =IF(_xlfn.ISFORMULA('Roulement '!D5)=TRUE,"",IF(C66=0.291666666666667,"",IF(AND('Roulement '!D$9>0,SUMPRODUCT(('Roulement '!$A$3:$A$9=$A66)*('Roulement '!D$3:D$9='Roulement '!D$9))=1),0.291666666666667,""))) | E66: =IF(_xlfn.ISFORMULA('Roulement '!E5)=TRUE,"",IF(D66=0.291666666666667,"",IF(AND('Roulement '!E$9>0,SUMPRODUCT(('Roulement '!$A$3:$A$9=$A66)*('Roulement '!E$3:E$9='Roulement '!E$9))=1),0.291666666666667,""))) | F66: =IF(_xlfn.ISFORMULA('Roulement '!F5)=TRUE,"",IF(E66=0.291666666666667,"",IF(AND('Roulement '!F$9>0,SUMPRODUCT(('Roulement '!$A$3:$A$9=$A66)*('Roulement '!F$3:F$9='Roulement '!F$9))=1),0.291666666666667,""))) | G66: =IF(_xlfn.ISFORMULA('Roulement '!G5)=TRUE,"",IF(F66=0.291666666666667,"",IF(AND('Roulement '!G$9>0,SUMPRODUCT(('Roulement '!$A$3:$A$9=$A66)*('Roulement '!G$3:G$9='Roulement '!G$9))=1),0.291666666666667,""))) | H66: =IF(_xlfn.ISFORMULA('Roulement '!H5)=TRUE,"",IF(G66=0.291666666666667,"",IF(AND('Roulement '!H$9>0,SUMPRODUCT(('Roulement '!$A$3:$A$9=$A66)*('Roulement '!H$3:H$9='Roulement '!H$9))=1),0.291666666666667,""))) | I66: =IF(_xlfn.ISFORMULA('Roulement '!I5)=TRUE,"",IF(H66=0.291666666666667,"",IF(AND('Roulement '!I$9>0,SUMPRODUCT(('Roulement '!$A$3:$A$9=$A66)*('Roulement '!I$3:I$9='Roulement '!I$9))=1),0.291666666666667,""))) | ... ER66: =IF(_xlfn.ISFORMULA('Roulement '!ER5)=TRUE,"",IF(EQ66=0.291666666666667,"",IF(AND('Roulement '!ER$9>0,SUMPRODUCT(('Roulement '!$A$3:$A$9=$A66)*('Roulement '!ER$3:ER$9='Roulement '!ER$9))=1),0.291666666666667,""))) | ES66: =SUM(B66:ER66) -> 2.0416667 | ET66: =A66 -> Marie Claude
A67: Eddy | B67: =IF(_xlfn.ISFORMULA('Roulement '!B6)=TRUE,"",IF(A67=0.291666666666667,"",IF(AND('Roulement '!B$9>0,SUMPRODUCT(('Roulement '!$A$3:$A$9=$A67)*('Roulement '!B$3:B$9='Roulement '!B$9))=1),0.291666666666667,""))) | C67: =IF(_xlfn.ISFORMULA('Roulement '!C6)=TRUE,"",IF(B67=0.291666666666667,"",IF(AND('Roulement '!C$9>0,SUMPRODUCT(('Roulement '!$A$3:$A$9=$A67)*('Roulement '!C$3:C$9='Roulement '!C$9))=1),0.291666666666667,""))) | D67: =IF(_xlfn.ISFORMULA('Roulement '!D6)=TRUE,"",IF(C67=0.291666666666667,"",IF(AND('Roulement '!D$9>0,SUMPRODUCT(('Roulement '!$A$3:$A$9=$A67)*('Roulement '!D$3:D$9='Roulement '!D$9))=1),0.291666666666667,""))) | E67: =IF(_xlfn.ISFORMULA('Roulement '!E6)=TRUE,"",IF(D67=0.291666666666667,"",IF(AND('Roulement '!E$9>0,SUMPRODUCT(('Roulement '!$A$3:$A$9=$A67)*('Roulement '!E$3:E$9='Roulement '!E$9))=1),0.291666666666667,""))) -> 0.29166667 | F67: =IF(_xlfn.ISFORMULA('Roulement '!F6)=TRUE,"",IF(E67=0.291666666666667,"",IF(AND('Roulement '!F$9>0,SUMPRODUCT(('Roulement '!$A$3:$A$9=$A67)*('Roulement '!F$3:F$9='Roulement '!F$9))=1),0.291666666666667,""))) | G67: =IF(_xlfn.ISFORMULA('Roulement '!G6)=TRUE,"",IF(F67=0.291666666666667,"",IF(AND('Roulement '!G$9>0,SUMPRODUCT(('Roulement '!$A$3:$A$9=$A67)*('Roulement '!G$3:G$9='Roulement '!G$9))=1),0.291666666666667,""))) | H67: =IF(_xlfn.ISFORMULA('Roulement '!H6)=TRUE,"",IF(G67=0.291666666666667,"",IF(AND('Roulement '!H$9>0,SUMPRODUCT(('Roulement '!$A$3:$A$9=$A67)*('Roulement '!H$3:H$9='Roulement '!H$9))=1),0.291666666666667,""))) -> 0.29166667 | I67: =IF(_xlfn.ISFORMULA('Roulement '!I6)=TRUE,"",IF(H67=0.291666666666667,"",IF(AND('Roulement '!I$9>0,SUMPRODUCT(('Roulement '!$A$3:$A$9=$A67)*('Roulement '!I$3:I$9='Roulement '!I$9))=1),0.291666666666667,""))) | ... ER67: =IF(_xlfn.ISFORMULA('Roulement '!ER6)=TRUE,"",IF(EQ67=0.291666666666667,"",IF(AND('Roulement '!ER$9>0,SUMPRODUCT(('Roulement '!$A$3:$A$9=$A67)*('Roulement '!ER$3:ER$9='Roulement '!ER$9))=1),0.291666666666667,""))) | ES67: =SUM(B67:ER67) -> 2.0416667 | ET67: =A67 -> Eddy
A68: Patricia | B68: =IF(_xlfn.ISFORMULA('Roulement '!B7)=TRUE,"",IF(A68=0.291666666666667,"",IF(AND('Roulement '!B$9>0,SUMPRODUCT(('Roulement '!$A$3:$A$9=$A68)*('Roulement '!B$3:B$9='Roulement '!B$9))=1),0.291666666666667,""))) | C68: =IF(_xlfn.ISFORMULA('Roulement '!C7)=TRUE,"",IF(B68=0.291666666666667,"",IF(AND('Roulement '!C$9>0,SUMPRODUCT(('Roulement '!$A$3:$A$9=$A68)*('Roulement '!C$3:C$9='Roulement '!C$9))=1),0.291666666666667,""))) | D68: =IF(_xlfn.ISFORMULA('Roulement '!D7)=TRUE,"",IF(C68=0.291666666666667,"",IF(AND('Roulement '!D$9>0,SUMPRODUCT(('Roulement '!$A$3:$A$9=$A68)*('Roulement '!D$3:D$9='Roulement '!D$9))=1),0.291666666666667,""))) | E68: =IF(_xlfn.ISFORMULA('Roulement '!E7)=TRUE,"",IF(D68=0.291666666666667,"",IF(AND('Roulement '!E$9>0,SUMPRODUCT(('Roulement '!$A$3:$A$9=$A68)*('Roulement '!E$3:E$9='Roulement '!E$9))=1),0.291666666666667,""))) | F68: =IF(_xlfn.ISFORMULA('Roulement '!F7)=TRUE,"",IF(E68=0.291666666666667,"",IF(AND('Roulement '!F$9>0,SUMPRODUCT(('Roulement '!$A$3:$A$9=$A68)*('Roulement '!F$3:F$9='Roulement '!F$9))=1),0.291666666666667,""))) | G68: =IF(_xlfn.ISFORMULA('Roulement '!G7)=TRUE,"",IF(F68=0.291666666666667,"",IF(AND('Roulement '!G$9>0,SUMPRODUCT(('Roulement '!$A$3:$A$9=$A68)*('Roulement '!G$3:G$9='Roulement '!G$9))=1),0.291666666666667,""))) | H68: =IF(_xlfn.ISFORMULA('Roulement '!H7)=TRUE,"",IF(G68=0.291666666666667,"",IF(AND('Roulement '!H$9>0,SUMPRODUCT(('Roulement '!$A$3:$A$9=$A68)*('Roulement '!H$3:H$9='Roulement '!H$9))=1),0.291666666666667,""))) | I68: =IF(_xlfn.ISFORMULA('Roulement '!I7)=TRUE,"",IF(H68=0.291666666666667,"",IF(AND('Roulement '!I$9>0,SUMPRODUCT(('Roulement '!$A$3:$A$9=$A68)*('Roulement '!I$3:I$9='Roulement '!I$9))=1),0.291666666666667,""))) | ... ER68: =IF(_xlfn.ISFORMULA('Roulement '!ER7)=TRUE,"",IF(EQ68=0.291666666666667,"",IF(AND('Roulement '!ER$9>0,SUMPRODUCT(('Roulement '!$A$3:$A$9=$A68)*('Roulement '!ER$3:ER$9='Roulement '!ER$9))=1),0.291666666666667,""))) | ES68: =SUM(B68:ER68) -> 3.7916667 | ET68: =A68 -> Patricia
A69: Kathy | B69: =IF(_xlfn.ISFORMULA('Roulement '!B8)=TRUE,"",IF(A69=0.291666666666667,"",IF(AND('Roulement '!B$9>0,SUMPRODUCT(('Roulement '!$A$3:$A$9=$A69)*('Roulement '!B$3:B$9='Roulement '!B$9))=1),0.291666666666667,""))) | C69: =IF(_xlfn.ISFORMULA('Roulement '!C8)=TRUE,"",IF(B69=0.291666666666667,"",IF(AND('Roulement '!C$9>0,SUMPRODUCT(('Roulement '!$A$3:$A$9=$A69)*('Roulement '!C$3:C$9='Roulement '!C$9))=1),0.291666666666667,""))) | D69: =IF(_xlfn.ISFORMULA('Roulement '!D8)=TRUE,"",IF(C69=0.291666666666667,"",IF(AND('Roulement '!D$9>0,SUMPRODUCT(('Roulement '!$A$3:$A$9=$A69)*('Roulement '!D$3:D$9='Roulement '!D$9))=1),0.291666666666667,""))) | E69: =IF(_xlfn.ISFORMULA('Roulement '!E8)=TRUE,"",IF(D69=0.291666666666667,"",IF(AND('Roulement '!E$9>0,SUMPRODUCT(('Roulement '!$A$3:$A$9=$A69)*('Roulement '!E$3:E$9='Roulement '!E$9))=1),0.291666666666667,""))) -> 0.29166667 | F69: =IF(_xlfn.ISFORMULA('Roulement '!F8)=TRUE,"",IF(E69=0.291666666666667,"",IF(AND('Roulement '!F$9>0,SUMPRODUCT(('Roulement '!$A$3:$A$9=$A69)*('Roulement '!F$3:F$9='Roulement '!F$9))=1),0.291666666666667,""))) | G69: =IF(_xlfn.ISFORMULA('Roulement '!G8)=TRUE,"",IF(F69=0.291666666666667,"",IF(AND('Roulement '!G$9>0,SUMPRODUCT(('Roulement '!$A$3:$A$9=$A69)*('Roulement '!G$3:G$9='Roulement '!G$9))=1),0.291666666666667,""))) | H69: =IF(_xlfn.ISFORMULA('Roulement '!H8)=TRUE,"",IF(G69=0.291666666666667,"",IF(AND('Roulement '!H$9>0,SUMPRODUCT(('Roulement '!$A$3:$A$9=$A69)*('Roulement '!H$3:H$9='Roulement '!H$9))=1),0.291666666666667,""))) -> 0.29166667 | I69: =IF(_xlfn.ISFORMULA('Roulement '!I8)=TRUE,"",IF(H69=0.291666666666667,"",IF(AND('Roulement '!I$9>0,SUMPRODUCT(('Roulement '!$A$3:$A$9=$A69)*('Roulement '!I$3:I$9='Roulement '!I$9))=1),0.291666666666667,""))) | ... ER69: =IF(_xlfn.ISFORMULA('Roulement '!ER8)=TRUE,"",IF(EQ69=0.291666666666667,"",IF(AND('Roulement '!ER$9>0,SUMPRODUCT(('Roulement '!$A$3:$A$9=$A69)*('Roulement '!ER$3:ER$9='Roulement '!ER$9))=1),0.291666666666667,""))) | ES69: =SUM(B69:ER69) -> 2.625 | ET69: =A69 -> Kathy
