Workbook

Sheet General
A1: Adherent | B1: telephone | C1: mail | D1: Date d'adhesion | E1: Expo | F1: Atelier | G1: Stage | H1: Adhésion | I1: Don
L2: =IF(E:E=1,M2=3) -> FALSE
A3: Daniel Pezeril | B3: 644081800 | C3: dpezeril@gmail.com | D3: 42770 | G3: 1 | I3: 1
A4: Costa Ledormeur | B4: 674416225 | C4: costa.ledormeur.85@gmail.com | D4: 42770 | G4: 1 | H4: 1 | I4: 1
A5: Adrien Testas | B5: 789200542 | C5: adrien.testas@live.fr | D5: 42770 | E5: 1 | F5: 1 | G5: 1 | I5: 1
B6: 11111

Sheet Expo
A1: INTERESSE POUR EXPO : | C1: NOM | E1: MAIL | G1: TELEPHONE
C3: {=IF(ROWS($1:1)<=COUNTIF(General!$E$3:$E$103,1),INDEX(General!$A$3:$A$103,SMALL(IF(General!$E$3:$E$103=1,ROW(INDIRECT("1:"&ROWS(General!$A$3:$A$103)))),ROWS($1:1))),"")} -> Adrien Testas | E3: =IFERROR(INDEX(General!$C$3:$C$103,MATCH(Expo!C3,General!$A$3:$A$103,0)),"") -> adrien.testas@live.fr | G3: =IFERROR(INDEX(General!$B$3:$B$103,MATCH(Expo!C3,General!$A$3:$A$103,0)),"") -> 789200542
C4: {=IF(ROWS($1:2)<=COUNTIF(General!$E$3:$E$103,1),INDEX(General!$A$3:$A$103,SMALL(IF(General!$E$3:$E$103=1,ROW(INDIRECT("1:"&ROWS(General!$A$3:$A$103)))),ROWS($1:2))),"")} | E4: =IFERROR(INDEX(General!$C$3:$C$103,MATCH(Expo!C4,General!$A$3:$A$103,0)),"") | G4: =IFERROR(INDEX(General!$B$3:$B$103,MATCH(Expo!C4,General!$A$3:$A$103,0)),"")
C5: {=IF(ROWS($1:3)<=COUNTIF(General!$E$3:$E$103,1),INDEX(General!$A$3:$A$103,SMALL(IF(General!$E$3:$E$103=1,ROW(INDIRECT("1:"&ROWS(General!$A$3:$A$103)))),ROWS($1:3))),"")} | E5: =IFERROR(INDEX(General!$C$3:$C$103,MATCH(Expo!C5,General!$A$3:$A$103,0)),"") | G5: =IFERROR(INDEX(General!$B$3:$B$103,MATCH(Expo!C5,General!$A$3:$A$103,0)),"")
C6: {=IF(ROWS($1:4)<=COUNTIF(General!$E$3:$E$103,1),INDEX(General!$A$3:$A$103,SMALL(IF(General!$E$3:$E$103=1,ROW(INDIRECT("1:"&ROWS(General!$A$3:$A$103)))),ROWS($1:4))),"")} | E6: =IFERROR(INDEX(General!$C$3:$C$103,MATCH(Expo!C6,General!$A$3:$A$103,0)),"") | G6: =IFERROR(INDEX(General!$B$3:$B$103,MATCH(Expo!C6,General!$A$3:$A$103,0)),"")
C7: {=IF(ROWS($1:5)<=COUNTIF(General!$E$3:$E$103,1),INDEX(General!$A$3:$A$103,SMALL(IF(General!$E$3:$E$103=1,ROW(INDIRECT("1:"&ROWS(General!$A$3:$A$103)))),ROWS($1:5))),"")} | E7: =IFERROR(INDEX(General!$C$3:$C$103,MATCH(Expo!C7,General!$A$3:$A$103,0)),"") | G7: =IFERROR(INDEX(General!$B$3:$B$103,MATCH(Expo!C7,General!$A$3:$A$103,0)),"")
C8: {=IF(ROWS($1:6)<=COUNTIF(General!$E$3:$E$103,1),INDEX(General!$A$3:$A$103,SMALL(IF(General!$E$3:$E$103=1,ROW(INDIRECT("1:"&ROWS(General!$A$3:$A$103)))),ROWS($1:6))),"")} | E8: =IFERROR(INDEX(General!$C$3:$C$103,MATCH(Expo!C8,General!$A$3:$A$103,0)),"") | G8: =IFERROR(INDEX(General!$B$3:$B$103,MATCH(Expo!C8,General!$A$3:$A$103,0)),"")
C9: {=IF(ROWS($1:7)<=COUNTIF(General!$E$3:$E$103,1),INDEX(General!$A$3:$A$103,SMALL(IF(General!$E$3:$E$103=1,ROW(INDIRECT("1:"&ROWS(General!$A$3:$A$103)))),ROWS($1:7))),"")} | E9: =IFERROR(INDEX(General!$C$3:$C$103,MATCH(Expo!C9,General!$A$3:$A$103,0)),"") | G9: =IFERROR(INDEX(General!$B$3:$B$103,MATCH(Expo!C9,General!$A$3:$A$103,0)),"")
C10: {=IF(ROWS($1:8)<=COUNTIF(General!$E$3:$E$103,1),INDEX(General!$A$3:$A$103,SMALL(IF(General!$E$3:$E$103=1,ROW(INDIRECT("1:"&ROWS(General!$A$3:$A$103)))),ROWS($1:8))),"")} | E10: =IFERROR(INDEX(General!$C$3:$C$103,MATCH(Expo!C10,General!$A$3:$A$103,0)),"") | G10: =IFERROR(INDEX(General!$B$3:$B$103,MATCH(Expo!C10,General!$A$3:$A$103,0)),"")
C11: {=IF(ROWS($1:9)<=COUNTIF(General!$E$3:$E$103,1),INDEX(General!$A$3:$A$103,SMALL(IF(General!$E$3:$E$103=1,ROW(INDIRECT("1:"&ROWS(General!$A$3:$A$103)))),ROWS($1:9))),"")} | E11: =IFERROR(INDEX(General!$C$3:$C$103,MATCH(Expo!C11,General!$A$3:$A$103,0)),"") | G11: =IFERROR(INDEX(General!$B$3:$B$103,MATCH(Expo!C11,General!$A$3:$A$103,0)),"")
C12: {=IF(ROWS($1:10)<=COUNTIF(General!$E$3:$E$103,1),INDEX(General!$A$3:$A$103,SMALL(IF(General!$E$3:$E$103=1,ROW(INDIRECT("1:"&ROWS(General!$A$3:$A$103)))),ROWS($1:10))),"")} | E12: =IFERROR(INDEX(General!$C$3:$C$103,MATCH(Expo!C12,General!$A$3:$A$103,0)),"") | G12: =IFERROR(INDEX(General!$B$3:$B$103,MATCH(Expo!C12,General!$A$3:$A$103,0)),"")
C13: {=IF(ROWS($1:11)<=COUNTIF(General!$E$3:$E$103,1),INDEX(General!$A$3:$A$103,SMALL(IF(General!$E$3:$E$103=1,ROW(INDIRECT("1:"&ROWS(General!$A$3:$A$103)))),ROWS($1:11))),"")} | E13: =IFERROR(INDEX(General!$C$3:$C$103,MATCH(Expo!C13,General!$A$3:$A$103,0)),"") | G13: =IFERROR(INDEX(General!$B$3:$B$103,MATCH(Expo!C13,General!$A$3:$A$103,0)),"")
C14: {=IF(ROWS($1:12)<=COUNTIF(General!$E$3:$E$103,1),INDEX(General!$A$3:$A$103,SMALL(IF(General!$E$3:$E$103=1,ROW(INDIRECT("1:"&ROWS(General!$A$3:$A$103)))),ROWS($1:12))),"")} | E14: =IFERROR(INDEX(General!$C$3:$C$103,MATCH(Expo!C14,General!$A$3:$A$103,0)),"") | G14: =IFERROR(INDEX(General!$B$3:$B$103,MATCH(Expo!C14,General!$A$3:$A$103,0)),"")
C15: {=IF(ROWS($1:13)<=COUNTIF(General!$E$3:$E$103,1),INDEX(General!$A$3:$A$103,SMALL(IF(General!$E$3:$E$103=1,ROW(INDIRECT("1:"&ROWS(General!$A$3:$A$103)))),ROWS($1:13))),"")} | E15: =IFERROR(INDEX(General!$C$3:$C$103,MATCH(Expo!C15,General!$A$3:$A$103,0)),"") | G15: =IFERROR(INDEX(General!$B$3:$B$103,MATCH(Expo!C15,General!$A$3:$A$103,0)),"")
C16: {=IF(ROWS($1:14)<=COUNTIF(General!$E$3:$E$103,1),INDEX(General!$A$3:$A$103,SMALL(IF(General!$E$3:$E$103=1,ROW(INDIRECT("1:"&ROWS(General!$A$3:$A$103)))),ROWS($1:14))),"")} | E16: =IFERROR(INDEX(General!$C$3:$C$103,MATCH(Expo!C16,General!$A$3:$A$103,0)),"") | G16: =IFERROR(INDEX(General!$B$3:$B$103,MATCH(Expo!C16,General!$A$3:$A$103,0)),"")
C17: {=IF(ROWS($1:15)<=COUNTIF(General!$E$3:$E$103,1),INDEX(General!$A$3:$A$103,SMALL(IF(General!$E$3:$E$103=1,ROW(INDIRECT("1:"&ROWS(General!$A$3:$A$103)))),ROWS($1:15))),"")} | E17: =IFERROR(INDEX(General!$C$3:$C$103,MATCH(Expo!C17,General!$A$3:$A$103,0)),"") | G17: =IFERROR(INDEX(General!$B$3:$B$103,MATCH(Expo!C17,General!$A$3:$A$103,0)),"")
C18: {=IF(ROWS($1:16)<=COUNTIF(General!$E$3:$E$103,1),INDEX(General!$A$3:$A$103,SMALL(IF(General!$E$3:$E$103=1,ROW(INDIRECT("1:"&ROWS(General!$A$3:$A$103)))),ROWS($1:16))),"")} | E18: =IFERROR(INDEX(General!$C$3:$C$103,MATCH(Expo!C18,General!$A$3:$A$103,0)),"") | G18: =IFERROR(INDEX(General!$B$3:$B$103,MATCH(Expo!C18,General!$A$3:$A$103,0)),"")
C19: {=IF(ROWS($1:17)<=COUNTIF(General!$E$3:$E$103,1),INDEX(General!$A$3:$A$103,SMALL(IF(General!$E$3:$E$103=1,ROW(INDIRECT("1:"&ROWS(General!$A$3:$A$103)))),ROWS($1:17))),"")} | E19: =IFERROR(INDEX(General!$C$3:$C$103,MATCH(Expo!C19,General!$A$3:$A$103,0)),"") | G19: =IFERROR(INDEX(General!$B$3:$B$103,MATCH(Expo!C19,General!$A$3:$A$103,0)),"")
C20: {=IF(ROWS($1:18)<=COUNTIF(General!$E$3:$E$103,1),INDEX(General!$A$3:$A$103,SMALL(IF(General!$E$3:$E$103=1,ROW(INDIRECT("1:"&ROWS(General!$A$3:$A$103)))),ROWS($1:18))),"")} | E20: =IFERROR(INDEX(General!$C$3:$C$103,MATCH(Expo!C20,General!$A$3:$A$103,0)),"") | G20: =IFERROR(INDEX(General!$B$3:$B$103,MATCH(Expo!C20,General!$A$3:$A$103,0)),"")
C21: {=IF(ROWS($1:19)<=COUNTIF(General!$E$3:$E$103,1),INDEX(General!$A$3:$A$103,SMALL(IF(General!$E$3:$E$103=1,ROW(INDIRECT("1:"&ROWS(General!$A$3:$A$103)))),ROWS($1:19))),"")} | E21: =IFERROR(INDEX(General!$C$3:$C$103,MATCH(Expo!C21,General!$A$3:$A$103,0)),"") | G21: =IFERROR(INDEX(General!$B$3:$B$103,MATCH(Expo!C21,General!$A$3:$A$103,0)),"")
C22: {=IF(ROWS($1:20)<=COUNTIF(General!$E$3:$E$103,1),INDEX(General!$A$3:$A$103,SMALL(IF(General!$E$3:$E$103=1,ROW(INDIRECT("1:"&ROWS(General!$A$3:$A$103)))),ROWS($1:20))),"")} | E22: =IFERROR(INDEX(General!$C$3:$C$103,MATCH(Expo!C22,General!$A$3:$A$103,0)),"") | G22: =IFERROR(INDEX(General!$B$3:$B$103,MATCH(Expo!C22,General!$A$3:$A$103,0)),"")
C23: {=IF(ROWS($1:21)<=COUNTIF(General!$E$3:$E$103,1),INDEX(General!$A$3:$A$103,SMALL(IF(General!$E$3:$E$103=1,ROW(INDIRECT("1:"&ROWS(General!$A$3:$A$103)))),ROWS($1:21))),"")} | E23: =IFERROR(INDEX(General!$C$3:$C$103,MATCH(Expo!C23,General!$A$3:$A$103,0)),"") | G23: =IFERROR(INDEX(General!$B$3:$B$103,MATCH(Expo!C23,General!$A$3:$A$103,0)),"")
C24: {=IF(ROWS($1:22)<=COUNTIF(General!$E$3:$E$103,1),INDEX(General!$A$3:$A$103,SMALL(IF(General!$E$3:$E$103=1,ROW(INDIRECT("1:"&ROWS(General!$A$3:$A$103)))),ROWS($1:22))),"")} | E24: =IFERROR(INDEX(General!$C$3:$C$103,MATCH(Expo!C24,General!$A$3:$A$103,0)),"") | G24: =IFERROR(INDEX(General!$B$3:$B$103,MATCH(Expo!C24,General!$A$3:$A$103,0)),"")
C25: {=IF(ROWS($1:23)<=COUNTIF(General!$E$3:$E$103,1),INDEX(General!$A$3:$A$103,SMALL(IF(General!$E$3:$E$103=1,ROW(INDIRECT("1:"&ROWS(General!$A$3:$A$103)))),ROWS($1:23))),"")} | E25: =IFERROR(INDEX(General!$C$3:$C$103,MATCH(Expo!C25,General!$A$3:$A$103,0)),"") | G25: =IFERROR(INDEX(General!$B$3:$B$103,MATCH(Expo!C25,General!$A$3:$A$103,0)),"")
C26: {=IF(ROWS($1:24)<=COUNTIF(General!$E$3:$E$103,1),INDEX(General!$A$3:$A$103,SMALL(IF(General!$E$3:$E$103=1,ROW(INDIRECT("1:"&ROWS(General!$A$3:$A$103)))),ROWS($1:24))),"")} | E26: =IFERROR(INDEX(General!$C$3:$C$103,MATCH(Expo!C26,General!$A$3:$A$103,0)),"") | G26: =IFERROR(INDEX(General!$B$3:$B$103,MATCH(Expo!C26,General!$A$3:$A$103,0)),"")
C27: {=IF(ROWS($1:25)<=COUNTIF(General!$E$3:$E$103,1),INDEX(General!$A$3:$A$103,SMALL(IF(General!$E$3:$E$103=1,ROW(INDIRECT("1:"&ROWS(General!$A$3:$A$103)))),ROWS($1:25))),"")} | E27: =IFERROR(INDEX(General!$C$3:$C$103,MATCH(Expo!C27,General!$A$3:$A$103,0)),"") | G27: =IFERROR(INDEX(General!$B$3:$B$103,MATCH(Expo!C27,General!$A$3:$A$103,0)),"")
C28: {=IF(ROWS($1:26)<=COUNTIF(General!$E$3:$E$103,1),INDEX(General!$A$3:$A$103,SMALL(IF(General!$E$3:$E$103=1,ROW(INDIRECT("1:"&ROWS(General!$A$3:$A$103)))),ROWS($1:26))),"")} | E28: =IFERROR(INDEX(General!$C$3:$C$103,MATCH(Expo!C28,General!$A$3:$A$103,0)),"") | G28: =IFERROR(INDEX(General!$B$3:$B$103,MATCH(Expo!C28,General!$A$3:$A$103,0)),"")
C29: {=IF(ROWS($1:27)<=COUNTIF(General!$E$3:$E$103,1),INDEX(General!$A$3:$A$103,SMALL(IF(General!$E$3:$E$103=1,ROW(INDIRECT("1:"&ROWS(General!$A$3:$A$103)))),ROWS($1:27))),"")} | E29: =IFERROR(INDEX(General!$C$3:$C$103,MATCH(Expo!C29,General!$A$3:$A$103,0)),"") | G29: =IFERROR(INDEX(General!$B$3:$B$103,MATCH(Expo!C29,General!$A$3:$A$103,0)),"")
C30: {=IF(ROWS($1:28)<=COUNTIF(General!$E$3:$E$103,1),INDEX(General!$A$3:$A$103,SMALL(IF(General!$E$3:$E$103=1,ROW(INDIRECT("1:"&ROWS(General!$A$3:$A$103)))),ROWS($1:28))),"")} | E30: =IFERROR(INDEX(General!$C$3:$C$103,MATCH(Expo!C30,General!$A$3:$A$103,0)),"") | G30: =IFERROR(INDEX(General!$B$3:$B$103,MATCH(Expo!C30,General!$A$3:$A$103,0)),"")
C31: {=IF(ROWS($1:29)<=COUNTIF(General!$E$3:$E$103,1),INDEX(General!$A$3:$A$103,SMALL(IF(General!$E$3:$E$103=1,ROW(INDIRECT("1:"&ROWS(General!$A$3:$A$103)))),ROWS($1:29))),"")} | E31: =IFERROR(INDEX(General!$C$3:$C$103,MATCH(Expo!C31,General!$A$3:$A$103,0)),"") | G31: =IFERROR(INDEX(General!$B$3:$B$103,MATCH(Expo!C31,General!$A$3:$A$103,0)),"")
C32: {=IF(ROWS($1:30)<=COUNTIF(General!$E$3:$E$103,1),INDEX(General!$A$3:$A$103,SMALL(IF(General!$E$3:$E$103=1,ROW(INDIRECT("1:"&ROWS(General!$A$3:$A$103)))),ROWS($1:30))),"")} | E32: =IFERROR(INDEX(General!$C$3:$C$103,MATCH(Expo!C32,General!$A$3:$A$103,0)),"") | G32: =IFERROR(INDEX(General!$B$3:$B$103,MATCH(Expo!C32,General!$A$3:$A$103,0)),"")
C33: {=IF(ROWS($1:31)<=COUNTIF(General!$E$3:$E$103,1),INDEX(General!$A$3:$A$103,SMALL(IF(General!$E$3:$E$103=1,ROW(INDIRECT("1:"&ROWS(General!$A$3:$A$103)))),ROWS($1:31))),"")} | E33: =IFERROR(INDEX(General!$C$3:$C$103,MATCH(Expo!C33,General!$A$3:$A$103,0)),"") | G33: =IFERROR(INDEX(General!$B$3:$B$103,MATCH(Expo!C33,General!$A$3:$A$103,0)),"")
C34: {=IF(ROWS($1:32)<=COUNTIF(General!$E$3:$E$103,1),INDEX(General!$A$3:$A$103,SMALL(IF(General!$E$3:$E$103=1,ROW(INDIRECT("1:"&ROWS(General!$A$3:$A$103)))),ROWS($1:32))),"")} | E34: =IFERROR(INDEX(General!$C$3:$C$103,MATCH(Expo!C34,General!$A$3:$A$103,0)),"") | G34: =IFERROR(INDEX(General!$B$3:$B$103,MATCH(Expo!C34,General!$A$3:$A$103,0)),"")
C35: {=IF(ROWS($1:33)<=COUNTIF(General!$E$3:$E$103,1),INDEX(General!$A$3:$A$103,SMALL(IF(General!$E$3:$E$103=1,ROW(INDIRECT("1:"&ROWS(General!$A$3:$A$103)))),ROWS($1:33))),"")} | E35: =IFERROR(INDEX(General!$C$3:$C$103,MATCH(Expo!C35,General!$A$3:$A$103,0)),"") | G35: =IFERROR(INDEX(General!$B$3:$B$103,MATCH(Expo!C35,General!$A$3:$A$103,0)),"")
C36: {=IF(ROWS($1:34)<=COUNTIF(General!$E$3:$E$103,1),INDEX(General!$A$3:$A$103,SMALL(IF(General!$E$3:$E$103=1,ROW(INDIRECT("1:"&ROWS(General!$A$3:$A$103)))),ROWS($1:34))),"")} | E36: =IFERROR(INDEX(General!$C$3:$C$103,MATCH(Expo!C36,General!$A$3:$A$103,0)),"") | G36: =IFERROR(INDEX(General!$B$3:$B$103,MATCH(Expo!C36,General!$A$3:$A$103,0)),"")
C37: {=IF(ROWS($1:35)<=COUNTIF(General!$E$3:$E$103,1),INDEX(General!$A$3:$A$103,SMALL(IF(General!$E$3:$E$103=1,ROW(INDIRECT("1:"&ROWS(General!$A$3:$A$103)))),ROWS($1:35))),"")} | E37: =IFERROR(INDEX(General!$C$3:$C$103,MATCH(Expo!C37,General!$A$3:$A$103,0)),"") | G37: =IFERROR(INDEX(General!$B$3:$B$103,MATCH(Expo!C37,General!$A$3:$A$103,0)),"")
C38: {=IF(ROWS($1:36)<=COUNTIF(General!$E$3:$E$103,1),INDEX(General!$A$3:$A$103,SMALL(IF(General!$E$3:$E$103=1,ROW(INDIRECT("1:"&ROWS(General!$A$3:$A$103)))),ROWS($1:36))),"")} | E38: =IFERROR(INDEX(General!$C$3:$C$103,MATCH(Expo!C38,General!$A$3:$A$103,0)),"") | G38: =IFERROR(INDEX(General!$B$3:$B$103,MATCH(Expo!C38,General!$A$3:$A$103,0)),"")
C39: {=IF(ROWS($1:37)<=COUNTIF(General!$E$3:$E$103,1),INDEX(General!$A$3:$A$103,SMALL(IF(General!$E$3:$E$103=1,ROW(INDIRECT("1:"&ROWS(General!$A$3:$A$103)))),ROWS($1:37))),"")} | E39: =IFERROR(INDEX(General!$C$3:$C$103,MATCH(Expo!C39,General!$A$3:$A$103,0)),"") | G39: =IFERROR(INDEX(General!$B$3:$B$103,MATCH(Expo!C39,General!$A$3:$A$103,0)),"")
C40: {=IF(ROWS($1:38)<=COUNTIF(General!$E$3:$E$103,1),INDEX(General!$A$3:$A$103,SMALL(IF(General!$E$3:$E$103=1,ROW(INDIRECT("1:"&ROWS(General!$A$3:$A$103)))),ROWS($1:38))),"")} | E40: =IFERROR(INDEX(General!$C$3:$C$103,MATCH(Expo!C40,General!$A$3:$A$103,0)),"") | G40: =IFERROR(INDEX(General!$B$3:$B$103,MATCH(Expo!C40,General!$A$3:$A$103,0)),"")
C41: {=IF(ROWS($1:39)<=COUNTIF(General!$E$3:$E$103,1),INDEX(General!$A$3:$A$103,SMALL(IF(General!$E$3:$E$103=1,ROW(INDIRECT("1:"&ROWS(General!$A$3:$A$103)))),ROWS($1:39))),"")} | E41: =IFERROR(INDEX(General!$C$3:$C$103,MATCH(Expo!C41,General!$A$3:$A$103,0)),"") | G41: =IFERROR(INDEX(General!$B$3:$B$103,MATCH(Expo!C41,General!$A$3:$A$103,0)),"")
...

Sheet Atelier
A1: INTERESSE POUR ATELIER | C1: NOM | E1: MAIL | G1: TELEPHONE
C3: {=IF(ROWS($1:1)<=COUNTIF(General!$F$3:$F$103,1),INDEX(General!$A$3:$A$103,SMALL(IF(General!$F$3:$F$103=1,ROW(INDIRECT("1:"&ROWS(General!$A$3:$A$103)))),ROWS($1:1))),"")} -> Adrien Testas | E3: =IFERROR(INDEX(General!$C$3:$C$103,MATCH(Atelier!C3,General!$A$3:$A$103,0)),"") -> adrien.testas@live.fr | G3: =IFERROR(INDEX(General!$B$3:$B$103,MATCH(Atelier!C3,General!$A$3:$A$103,0)),"") -> 789200542
C4: {=IF(ROWS($1:2)<=COUNTIF(General!$F$3:$F$103,1),INDEX(General!$A$3:$A$103,SMALL(IF(General!$F$3:$F$103=1,ROW(INDIRECT("1:"&ROWS(General!$A$3:$A$103)))),ROWS($1:2))),"")} | E4: =IFERROR(INDEX(General!$C$3:$C$103,MATCH(Atelier!C4,General!$A$3:$A$103,0)),"") | G4: =IFERROR(INDEX(General!$B$3:$B$103,MATCH(Atelier!C4,General!$A$3:$A$103,0)),"")
C5: {=IF(ROWS($1:3)<=COUNTIF(General!$F$3:$F$103,1),INDEX(General!$A$3:$A$103,SMALL(IF(General!$F$3:$F$103=1,ROW(INDIRECT("1:"&ROWS(General!$A$3:$A$103)))),ROWS($1:3))),"")} | E5: =IFERROR(INDEX(General!$C$3:$C$103,MATCH(Atelier!C5,General!$A$3:$A$103,0)),"") | G5: =IFERROR(INDEX(General!$B$3:$B$103,MATCH(Atelier!C5,General!$A$3:$A$103,0)),"")
C6: {=IF(ROWS($1:4)<=COUNTIF(General!$F$3:$F$103,1),INDEX(General!$A$3:$A$103,SMALL(IF(General!$F$3:$F$103=1,ROW(INDIRECT("1:"&ROWS(General!$A$3:$A$103)))),ROWS($1:4))),"")} | E6: =IFERROR(INDEX(General!$C$3:$C$103,MATCH(Atelier!C6,General!$A$3:$A$103,0)),"") | G6: =IFERROR(INDEX(General!$B$3:$B$103,MATCH(Atelier!C6,General!$A$3:$A$103,0)),"")
C7: {=IF(ROWS($1:5)<=COUNTIF(General!$F$3:$F$103,1),INDEX(General!$A$3:$A$103,SMALL(IF(General!$F$3:$F$103=1,ROW(INDIRECT("1:"&ROWS(General!$A$3:$A$103)))),ROWS($1:5))),"")} | E7: =IFERROR(INDEX(General!$C$3:$C$103,MATCH(Atelier!C7,General!$A$3:$A$103,0)),"") | G7: =IFERROR(INDEX(General!$B$3:$B$103,MATCH(Atelier!C7,General!$A$3:$A$103,0)),"")
C8: {=IF(ROWS($1:6)<=COUNTIF(General!$F$3:$F$103,1),INDEX(General!$A$3:$A$103,SMALL(IF(General!$F$3:$F$103=1,ROW(INDIRECT("1:"&ROWS(General!$A$3:$A$103)))),ROWS($1:6))),"")} | E8: =IFERROR(INDEX(General!$C$3:$C$103,MATCH(Atelier!C8,General!$A$3:$A$103,0)),"") | G8: =IFERROR(INDEX(General!$B$3:$B$103,MATCH(Atelier!C8,General!$A$3:$A$103,0)),"")
C9: {=IF(ROWS($1:7)<=COUNTIF(General!$F$3:$F$103,1),INDEX(General!$A$3:$A$103,SMALL(IF(General!$F$3:$F$103=1,ROW(INDIRECT("1:"&ROWS(General!$A$3:$A$103)))),ROWS($1:7))),"")} | E9: =IFERROR(INDEX(General!$C$3:$C$103,MATCH(Atelier!C9,General!$A$3:$A$103,0)),"") | G9: =IFERROR(INDEX(General!$B$3:$B$103,MATCH(Atelier!C9,General!$A$3:$A$103,0)),"")
C10: {=IF(ROWS($1:8)<=COUNTIF(General!$F$3:$F$103,1),INDEX(General!$A$3:$A$103,SMALL(IF(General!$F$3:$F$103=1,ROW(INDIRECT("1:"&ROWS(General!$A$3:$A$103)))),ROWS($1:8))),"")} | E10: =IFERROR(INDEX(General!$C$3:$C$103,MATCH(Atelier!C10,General!$A$3:$A$103,0)),"") | G10: =IFERROR(INDEX(General!$B$3:$B$103,MATCH(Atelier!C10,General!$A$3:$A$103,0)),"")
C11: {=IF(ROWS($1:9)<=COUNTIF(General!$F$3:$F$103,1),INDEX(General!$A$3:$A$103,SMALL(IF(General!$F$3:$F$103=1,ROW(INDIRECT("1:"&ROWS(General!$A$3:$A$103)))),ROWS($1:9))),"")} | E11: =IFERROR(INDEX(General!$C$3:$C$103,MATCH(Atelier!C11,General!$A$3:$A$103,0)),"") | G11: =IFERROR(INDEX(General!$B$3:$B$103,MATCH(Atelier!C11,General!$A$3:$A$103,0)),"")
C12: {=IF(ROWS($1:10)<=COUNTIF(General!$F$3:$F$103,1),INDEX(General!$A$3:$A$103,SMALL(IF(General!$F$3:$F$103=1,ROW(INDIRECT("1:"&ROWS(General!$A$3:$A$103)))),ROWS($1:10))),"")} | E12: =IFERROR(INDEX(General!$C$3:$C$103,MATCH(Atelier!C12,General!$A$3:$A$103,0)),"") | G12: =IFERROR(INDEX(General!$B$3:$B$103,MATCH(Atelier!C12,General!$A$3:$A$103,0)),"")
C13: {=IF(ROWS($1:11)<=COUNTIF(General!$F$3:$F$103,1),INDEX(General!$A$3:$A$103,SMALL(IF(General!$F$3:$F$103=1,ROW(INDIRECT("1:"&ROWS(General!$A$3:$A$103)))),ROWS($1:11))),"")} | E13: =IFERROR(INDEX(General!$C$3:$C$103,MATCH(Atelier!C13,General!$A$3:$A$103,0)),"") | G13: =IFERROR(INDEX(General!$B$3:$B$103,MATCH(Atelier!C13,General!$A$3:$A$103,0)),"")
C14: {=IF(ROWS($1:12)<=COUNTIF(General!$F$3:$F$103,1),INDEX(General!$A$3:$A$103,SMALL(IF(General!$F$3:$F$103=1,ROW(INDIRECT("1:"&ROWS(General!$A$3:$A$103)))),ROWS($1:12))),"")} | E14: =IFERROR(INDEX(General!$C$3:$C$103,MATCH(Atelier!C14,General!$A$3:$A$103,0)),"") | G14: =IFERROR(INDEX(General!$B$3:$B$103,MATCH(Atelier!C14,General!$A$3:$A$103,0)),"")
C15: {=IF(ROWS($1:13)<=COUNTIF(General!$F$3:$F$103,1),INDEX(General!$A$3:$A$103,SMALL(IF(General!$F$3:$F$103=1,ROW(INDIRECT("1:"&ROWS(General!$A$3:$A$103)))),ROWS($1:13))),"")} | E15: =IFERROR(INDEX(General!$C$3:$C$103,MATCH(Atelier!C15,General!$A$3:$A$103,0)),"") | G15: =IFERROR(INDEX(General!$B$3:$B$103,MATCH(Atelier!C15,General!$A$3:$A$103,0)),"")
C16: {=IF(ROWS($1:14)<=COUNTIF(General!$F$3:$F$103,1),INDEX(General!$A$3:$A$103,SMALL(IF(General!$F$3:$F$103=1,ROW(INDIRECT("1:"&ROWS(General!$A$3:$A$103)))),ROWS($1:14))),"")} | E16: =IFERROR(INDEX(General!$C$3:$C$103,MATCH(Atelier!C16,General!$A$3:$A$103,0)),"") | G16: =IFERROR(INDEX(General!$B$3:$B$103,MATCH(Atelier!C16,General!$A$3:$A$103,0)),"")
C17: {=IF(ROWS($1:15)<=COUNTIF(General!$F$3:$F$103,1),INDEX(General!$A$3:$A$103,SMALL(IF(General!$F$3:$F$103=1,ROW(INDIRECT("1:"&ROWS(General!$A$3:$A$103)))),ROWS($1:15))),"")} | E17: =IFERROR(INDEX(General!$C$3:$C$103,MATCH(Atelier!C17,General!$A$3:$A$103,0)),"") | G17: =IFERROR(INDEX(General!$B$3:$B$103,MATCH(Atelier!C17,General!$A$3:$A$103,0)),"")
C18: {=IF(ROWS($1:16)<=COUNTIF(General!$F$3:$F$103,1),INDEX(General!$A$3:$A$103,SMALL(IF(General!$F$3:$F$103=1,ROW(INDIRECT("1:"&ROWS(General!$A$3:$A$103)))),ROWS($1:16))),"")} | E18: =IFERROR(INDEX(General!$C$3:$C$103,MATCH(Atelier!C18,General!$A$3:$A$103,0)),"") | G18: =IFERROR(INDEX(General!$B$3:$B$103,MATCH(Atelier!C18,General!$A$3:$A$103,0)),"")
C19: {=IF(ROWS($1:17)<=COUNTIF(General!$F$3:$F$103,1),INDEX(General!$A$3:$A$103,SMALL(IF(General!$F$3:$F$103=1,ROW(INDIRECT("1:"&ROWS(General!$A$3:$A$103)))),ROWS($1:17))),"")} | E19: =IFERROR(INDEX(General!$C$3:$C$103,MATCH(Atelier!C19,General!$A$3:$A$103,0)),"") | G19: =IFERROR(INDEX(General!$B$3:$B$103,MATCH(Atelier!C19,General!$A$3:$A$103,0)),"")
C20: {=IF(ROWS($1:18)<=COUNTIF(General!$F$3:$F$103,1),INDEX(General!$A$3:$A$103,SMALL(IF(General!$F$3:$F$103=1,ROW(INDIRECT("1:"&ROWS(General!$A$3:$A$103)))),ROWS($1:18))),"")} | E20: =IFERROR(INDEX(General!$C$3:$C$103,MATCH(Atelier!C20,General!$A$3:$A$103,0)),"") | G20: =IFERROR(INDEX(General!$B$3:$B$103,MATCH(Atelier!C20,General!$A$3:$A$103,0)),"")
C21: {=IF(ROWS($1:19)<=COUNTIF(General!$F$3:$F$103,1),INDEX(General!$A$3:$A$103,SMALL(IF(General!$F$3:$F$103=1,ROW(INDIRECT("1:"&ROWS(General!$A$3:$A$103)))),ROWS($1:19))),"")} | E21: =IFERROR(INDEX(General!$C$3:$C$103,MATCH(Atelier!C21,General!$A$3:$A$103,0)),"") | G21: =IFERROR(INDEX(General!$B$3:$B$103,MATCH(Atelier!C21,General!$A$3:$A$103,0)),"")
C22: {=IF(ROWS($1:20)<=COUNTIF(General!$F$3:$F$103,1),INDEX(General!$A$3:$A$103,SMALL(IF(General!$F$3:$F$103=1,ROW(INDIRECT("1:"&ROWS(General!$A$3:$A$103)))),ROWS($1:20))),"")} | E22: =IFERROR(INDEX(General!$C$3:$C$103,MATCH(Atelier!C22,General!$A$3:$A$103,0)),"") | G22: =IFERROR(INDEX(General!$B$3:$B$103,MATCH(Atelier!C22,General!$A$3:$A$103,0)),"")
C23: {=IF(ROWS($1:21)<=COUNTIF(General!$F$3:$F$103,1),INDEX(General!$A$3:$A$103,SMALL(IF(General!$F$3:$F$103=1,ROW(INDIRECT("1:"&ROWS(General!$A$3:$A$103)))),ROWS($1:21))),"")} | E23: =IFERROR(INDEX(General!$C$3:$C$103,MATCH(Atelier!C23,General!$A$3:$A$103,0)),"") | G23: =IFERROR(INDEX(General!$B$3:$B$103,MATCH(Atelier!C23,General!$A$3:$A$103,0)),"")
C24: {=IF(ROWS($1:22)<=COUNTIF(General!$F$3:$F$103,1),INDEX(General!$A$3:$A$103,SMALL(IF(General!$F$3:$F$103=1,ROW(INDIRECT("1:"&ROWS(General!$A$3:$A$103)))),ROWS($1:22))),"")} | E24: =IFERROR(INDEX(General!$C$3:$C$103,MATCH(Atelier!C24,General!$A$3:$A$103,0)),"") | G24: =IFERROR(INDEX(General!$B$3:$B$103,MATCH(Atelier!C24,General!$A$3:$A$103,0)),"")
C25: {=IF(ROWS($1:23)<=COUNTIF(General!$F$3:$F$103,1),INDEX(General!$A$3:$A$103,SMALL(IF(General!$F$3:$F$103=1,ROW(INDIRECT("1:"&ROWS(General!$A$3:$A$103)))),ROWS($1:23))),"")} | E25: =IFERROR(INDEX(General!$C$3:$C$103,MATCH(Atelier!C25,General!$A$3:$A$103,0)),"") | G25: =IFERROR(INDEX(General!$B$3:$B$103,MATCH(Atelier!C25,General!$A$3:$A$103,0)),"")
C26: {=IF(ROWS($1:24)<=COUNTIF(General!$F$3:$F$103,1),INDEX(General!$A$3:$A$103,SMALL(IF(General!$F$3:$F$103=1,ROW(INDIRECT("1:"&ROWS(General!$A$3:$A$103)))),ROWS($1:24))),"")} | E26: =IFERROR(INDEX(General!$C$3:$C$103,MATCH(Atelier!C26,General!$A$3:$A$103,0)),"") | G26: =IFERROR(INDEX(General!$B$3:$B$103,MATCH(Atelier!C26,General!$A$3:$A$103,0)),"")
C27: {=IF(ROWS($1:25)<=COUNTIF(General!$F$3:$F$103,1),INDEX(General!$A$3:$A$103,SMALL(IF(General!$F$3:$F$103=1,ROW(INDIRECT("1:"&ROWS(General!$A$3:$A$103)))),ROWS($1:25))),"")} | E27: =IFERROR(INDEX(General!$C$3:$C$103,MATCH(Atelier!C27,General!$A$3:$A$103,0)),"") | G27: =IFERROR(INDEX(General!$B$3:$B$103,MATCH(Atelier!C27,General!$A$3:$A$103,0)),"")
C28: {=IF(ROWS($1:26)<=COUNTIF(General!$F$3:$F$103,1),INDEX(General!$A$3:$A$103,SMALL(IF(General!$F$3:$F$103=1,ROW(INDIRECT("1:"&ROWS(General!$A$3:$A$103)))),ROWS($1:26))),"")} | E28: =IFERROR(INDEX(General!$C$3:$C$103,MATCH(Atelier!C28,General!$A$3:$A$103,0)),"") | G28: =IFERROR(INDEX(General!$B$3:$B$103,MATCH(Atelier!C28,General!$A$3:$A$103,0)),"")
C29: {=IF(ROWS($1:27)<=COUNTIF(General!$F$3:$F$103,1),INDEX(General!$A$3:$A$103,SMALL(IF(General!$F$3:$F$103=1,ROW(INDIRECT("1:"&ROWS(General!$A$3:$A$103)))),ROWS($1:27))),"")} | E29: =IFERROR(INDEX(General!$C$3:$C$103,MATCH(Atelier!C29,General!$A$3:$A$103,0)),"") | G29: =IFERROR(INDEX(General!$B$3:$B$103,MATCH(Atelier!C29,General!$A$3:$A$103,0)),"")
C30: {=IF(ROWS($1:28)<=COUNTIF(General!$F$3:$F$103,1),INDEX(General!$A$3:$A$103,SMALL(IF(General!$F$3:$F$103=1,ROW(INDIRECT("1:"&ROWS(General!$A$3:$A$103)))),ROWS($1:28))),"")} | E30: =IFERROR(INDEX(General!$C$3:$C$103,MATCH(Atelier!C30,General!$A$3:$A$103,0)),"") | G30: =IFERROR(INDEX(General!$B$3:$B$103,MATCH(Atelier!C30,General!$A$3:$A$103,0)),"")
C31: {=IF(ROWS($1:29)<=COUNTIF(General!$F$3:$F$103,1),INDEX(General!$A$3:$A$103,SMALL(IF(General!$F$3:$F$103=1,ROW(INDIRECT("1:"&ROWS(General!$A$3:$A$103)))),ROWS($1:29))),"")} | E31: =IFERROR(INDEX(General!$C$3:$C$103,MATCH(Atelier!C31,General!$A$3:$A$103,0)),"") | G31: =IFERROR(INDEX(General!$B$3:$B$103,MATCH(Atelier!C31,General!$A$3:$A$103,0)),"")
C32: {=IF(ROWS($1:30)<=COUNTIF(General!$F$3:$F$103,1),INDEX(General!$A$3:$A$103,SMALL(IF(General!$F$3:$F$103=1,ROW(INDIRECT("1:"&ROWS(General!$A$3:$A$103)))),ROWS($1:30))),"")} | E32: =IFERROR(INDEX(General!$C$3:$C$103,MATCH(Atelier!C32,General!$A$3:$A$103,0)),"") | G32: =IFERROR(INDEX(General!$B$3:$B$103,MATCH(Atelier!C32,General!$A$3:$A$103,0)),"")
C33: {=IF(ROWS($1:31)<=COUNTIF(General!$F$3:$F$103,1),INDEX(General!$A$3:$A$103,SMALL(IF(General!$F$3:$F$103=1,ROW(INDIRECT("1:"&ROWS(General!$A$3:$A$103)))),ROWS($1:31))),"")} | E33: =IFERROR(INDEX(General!$C$3:$C$103,MATCH(Atelier!C33,General!$A$3:$A$103,0)),"") | G33: =IFERROR(INDEX(General!$B$3:$B$103,MATCH(Atelier!C33,General!$A$3:$A$103,0)),"")
C34: {=IF(ROWS($1:32)<=COUNTIF(General!$F$3:$F$103,1),INDEX(General!$A$3:$A$103,SMALL(IF(General!$F$3:$F$103=1,ROW(INDIRECT("1:"&ROWS(General!$A$3:$A$103)))),ROWS($1:32))),"")} | E34: =IFERROR(INDEX(General!$C$3:$C$103,MATCH(Atelier!C34,General!$A$3:$A$103,0)),"") | G34: =IFERROR(INDEX(General!$B$3:$B$103,MATCH(Atelier!C34,General!$A$3:$A$103,0)),"")
C35: {=IF(ROWS($1:33)<=COUNTIF(General!$F$3:$F$103,1),INDEX(General!$A$3:$A$103,SMALL(IF(General!$F$3:$F$103=1,ROW(INDIRECT("1:"&ROWS(General!$A$3:$A$103)))),ROWS($1:33))),"")} | E35: =IFERROR(INDEX(General!$C$3:$C$103,MATCH(Atelier!C35,General!$A$3:$A$103,0)),"") | G35: =IFERROR(INDEX(General!$B$3:$B$103,MATCH(Atelier!C35,General!$A$3:$A$103,0)),"")
C36: {=IF(ROWS($1:34)<=COUNTIF(General!$F$3:$F$103,1),INDEX(General!$A$3:$A$103,SMALL(IF(General!$F$3:$F$103=1,ROW(INDIRECT("1:"&ROWS(General!$A$3:$A$103)))),ROWS($1:34))),"")} | E36: =IFERROR(INDEX(General!$C$3:$C$103,MATCH(Atelier!C36,General!$A$3:$A$103,0)),"") | G36: =IFERROR(INDEX(General!$B$3:$B$103,MATCH(Atelier!C36,General!$A$3:$A$103,0)),"")
C37: {=IF(ROWS($1:35)<=COUNTIF(General!$F$3:$F$103,1),INDEX(General!$A$3:$A$103,SMALL(IF(General!$F$3:$F$103=1,ROW(INDIRECT("1:"&ROWS(General!$A$3:$A$103)))),ROWS($1:35))),"")} | E37: =IFERROR(INDEX(General!$C$3:$C$103,MATCH(Atelier!C37,General!$A$3:$A$103,0)),"") | G37: =IFERROR(INDEX(General!$B$3:$B$103,MATCH(Atelier!C37,General!$A$3:$A$103,0)),"")
C38: {=IF(ROWS($1:36)<=COUNTIF(General!$F$3:$F$103,1),INDEX(General!$A$3:$A$103,SMALL(IF(General!$F$3:$F$103=1,ROW(INDIRECT("1:"&ROWS(General!$A$3:$A$103)))),ROWS($1:36))),"")} | E38: =IFERROR(INDEX(General!$C$3:$C$103,MATCH(Atelier!C38,General!$A$3:$A$103,0)),"") | G38: =IFERROR(INDEX(General!$B$3:$B$103,MATCH(Atelier!C38,General!$A$3:$A$103,0)),"")
C39: {=IF(ROWS($1:37)<=COUNTIF(General!$F$3:$F$103,1),INDEX(General!$A$3:$A$103,SMALL(IF(General!$F$3:$F$103=1,ROW(INDIRECT("1:"&ROWS(General!$A$3:$A$103)))),ROWS($1:37))),"")} | E39: =IFERROR(INDEX(General!$C$3:$C$103,MATCH(Atelier!C39,General!$A$3:$A$103,0)),"") | G39: =IFERROR(INDEX(General!$B$3:$B$103,MATCH(Atelier!C39,General!$A$3:$A$103,0)),"")
C40: {=IF(ROWS($1:38)<=COUNTIF(General!$F$3:$F$103,1),INDEX(General!$A$3:$A$103,SMALL(IF(General!$F$3:$F$103=1,ROW(INDIRECT("1:"&ROWS(General!$A$3:$A$103)))),ROWS($1:38))),"")} | E40: =IFERROR(INDEX(General!$C$3:$C$103,MATCH(Atelier!C40,General!$A$3:$A$103,0)),"") | G40: =IFERROR(INDEX(General!$B$3:$B$103,MATCH(Atelier!C40,General!$A$3:$A$103,0)),"")
C41: {=IF(ROWS($1:39)<=COUNTIF(General!$F$3:$F$103,1),INDEX(General!$A$3:$A$103,SMALL(IF(General!$F$3:$F$103=1,ROW(INDIRECT("1:"&ROWS(General!$A$3:$A$103)))),ROWS($1:39))),"")} | E41: =IFERROR(INDEX(General!$C$3:$C$103,MATCH(Atelier!C41,General!$A$3:$A$103,0)),"") | G41: =IFERROR(INDEX(General!$B$3:$B$103,MATCH(Atelier!C41,General!$A$3:$A$103,0)),"")
...

Sheet Stage
A1: INTERESSE POUR STAGE | C1: NOM | E1: MAIL | G1: TELEPHONE
C3: {=IF(ROWS($1:1)<=COUNTIF(General!$G$3:$G$103,1),INDEX(General!$A$3:$A$103,SMALL(IF(General!$G$3:$G$103=1,ROW(INDIRECT("1:"&ROWS(General!$A$3:$A$103)))),ROWS($1:1))),"")} -> Daniel Pezeril | E3: =IFERROR(INDEX(General!$C$3:$C$103,MATCH(Stage!C3,General!$A$3:$A$103,0)),"") -> dpezeril@gmail.com | G3: =IFERROR(INDEX(General!$B$3:$B$103,MATCH(Stage!C3,General!$A$3:$A$103,0)),"") -> 644081800
C4: {=IF(ROWS($1:2)<=COUNTIF(General!$G$3:$G$103,1),INDEX(General!$A$3:$A$103,SMALL(IF(General!$G$3:$G$103=1,ROW(INDIRECT("1:"&ROWS(General!$A$3:$A$103)))),ROWS($1:2))),"")} -> Costa Ledormeur | E4: =IFERROR(INDEX(General!$C$3:$C$103,MATCH(Stage!C4,General!$A$3:$A$103,0)),"") -> costa.ledormeur.85@gmail.com | G4: =IFERROR(INDEX(General!$B$3:$B$103,MATCH(Stage!C4,General!$A$3:$A$103,0)),"") -> 674416225
C5: {=IF(ROWS($1:3)<=COUNTIF(General!$G$3:$G$103,1),INDEX(General!$A$3:$A$103,SMALL(IF(General!$G$3:$G$103=1,ROW(INDIRECT("1:"&ROWS(General!$A$3:$A$103)))),ROWS($1:3))),"")} -> Adrien Testas | E5: =IFERROR(INDEX(General!$C$3:$C$103,MATCH(Stage!C5,General!$A$3:$A$103,0)),"") -> adrien.testas@live.fr | G5: =IFERROR(INDEX(General!$B$3:$B$103,MATCH(Stage!C5,General!$A$3:$A$103,0)),"") -> 789200542
C6: {=IF(ROWS($1:4)<=COUNTIF(General!$G$3:$G$103,1),INDEX(General!$A$3:$A$103,SMALL(IF(General!$G$3:$G$103=1,ROW(INDIRECT("1:"&ROWS(General!$A$3:$A$103)))),ROWS($1:4))),"")} | E6: =IFERROR(INDEX(General!$C$3:$C$103,MATCH(Stage!C6,General!$A$3:$A$103,0)),"") | G6: =IFERROR(INDEX(General!$B$3:$B$103,MATCH(Stage!C6,General!$A$3:$A$103,0)),"")
C7: {=IF(ROWS($1:5)<=COUNTIF(General!$G$3:$G$103,1),INDEX(General!$A$3:$A$103,SMALL(IF(General!$G$3:$G$103=1,ROW(INDIRECT("1:"&ROWS(General!$A$3:$A$103)))),ROWS($1:5))),"")} | E7: =IFERROR(INDEX(General!$C$3:$C$103,MATCH(Stage!C7,General!$A$3:$A$103,0)),"") | G7: =IFERROR(INDEX(General!$B$3:$B$103,MATCH(Stage!C7,General!$A$3:$A$103,0)),"")
C8: {=IF(ROWS($1:6)<=COUNTIF(General!$G$3:$G$103,1),INDEX(General!$A$3:$A$103,SMALL(IF(General!$G$3:$G$103=1,ROW(INDIRECT("1:"&ROWS(General!$A$3:$A$103)))),ROWS($1:6))),"")} | E8: =IFERROR(INDEX(General!$C$3:$C$103,MATCH(Stage!C8,General!$A$3:$A$103,0)),"") | G8: =IFERROR(INDEX(General!$B$3:$B$103,MATCH(Stage!C8,General!$A$3:$A$103,0)),"")
C9: {=IF(ROWS($1:7)<=COUNTIF(General!$G$3:$G$103,1),INDEX(General!$A$3:$A$103,SMALL(IF(General!$G$3:$G$103=1,ROW(INDIRECT("1:"&ROWS(General!$A$3:$A$103)))),ROWS($1:7))),"")} | E9: =IFERROR(INDEX(General!$C$3:$C$103,MATCH(Stage!C9,General!$A$3:$A$103,0)),"") | G9: =IFERROR(INDEX(General!$B$3:$B$103,MATCH(Stage!C9,General!$A$3:$A$103,0)),"")
C10: {=IF(ROWS($1:8)<=COUNTIF(General!$G$3:$G$103,1),INDEX(General!$A$3:$A$103,SMALL(IF(General!$G$3:$G$103=1,ROW(INDIRECT("1:"&ROWS(General!$A$3:$A$103)))),ROWS($1:8))),"")} | E10: =IFERROR(INDEX(General!$C$3:$C$103,MATCH(Stage!C10,General!$A$3:$A$103,0)),"") | G10: =IFERROR(INDEX(General!$B$3:$B$103,MATCH(Stage!C10,General!$A$3:$A$103,0)),"")
C11: {=IF(ROWS($1:9)<=COUNTIF(General!$G$3:$G$103,1),INDEX(General!$A$3:$A$103,SMALL(IF(General!$G$3:$G$103=1,ROW(INDIRECT("1:"&ROWS(General!$A$3:$A$103)))),ROWS($1:9))),"")} | E11: =IFERROR(INDEX(General!$C$3:$C$103,MATCH(Stage!C11,General!$A$3:$A$103,0)),"") | G11: =IFERROR(INDEX(General!$B$3:$B$103,MATCH(Stage!C11,General!$A$3:$A$103,0)),"")
C12: {=IF(ROWS($1:10)<=COUNTIF(General!$G$3:$G$103,1),INDEX(General!$A$3:$A$103,SMALL(IF(General!$G$3:$G$103=1,ROW(INDIRECT("1:"&ROWS(General!$A$3:$A$103)))),ROWS($1:10))),"")} | E12: =IFERROR(INDEX(General!$C$3:$C$103,MATCH(Stage!C12,General!$A$3:$A$103,0)),"") | G12: =IFERROR(INDEX(General!$B$3:$B$103,MATCH(Stage!C12,General!$A$3:$A$103,0)),"")
C13: {=IF(ROWS($1:11)<=COUNTIF(General!$G$3:$G$103,1),INDEX(General!$A$3:$A$103,SMALL(IF(General!$G$3:$G$103=1,ROW(INDIRECT("1:"&ROWS(General!$A$3:$A$103)))),ROWS($1:11))),"")} | E13: =IFERROR(INDEX(General!$C$3:$C$103,MATCH(Stage!C13,General!$A$3:$A$103,0)),"") | G13: =IFERROR(INDEX(General!$B$3:$B$103,MATCH(Stage!C13,General!$A$3:$A$103,0)),"")
C14: {=IF(ROWS($1:12)<=COUNTIF(General!$G$3:$G$103,1),INDEX(General!$A$3:$A$103,SMALL(IF(General!$G$3:$G$103=1,ROW(INDIRECT("1:"&ROWS(General!$A$3:$A$103)))),ROWS($1:12))),"")} | E14: =IFERROR(INDEX(General!$C$3:$C$103,MATCH(Stage!C14,General!$A$3:$A$103,0)),"") | G14: =IFERROR(INDEX(General!$B$3:$B$103,MATCH(Stage!C14,General!$A$3:$A$103,0)),"")
C15: {=IF(ROWS($1:13)<=COUNTIF(General!$G$3:$G$103,1),INDEX(General!$A$3:$A$103,SMALL(IF(General!$G$3:$G$103=1,ROW(INDIRECT("1:"&ROWS(General!$A$3:$A$103)))),ROWS($1:13))),"")} | E15: =IFERROR(INDEX(General!$C$3:$C$103,MATCH(Stage!C15,General!$A$3:$A$103,0)),"") | G15: =IFERROR(INDEX(General!$B$3:$B$103,MATCH(Stage!C15,General!$A$3:$A$103,0)),"")
C16: {=IF(ROWS($1:14)<=COUNTIF(General!$G$3:$G$103,1),INDEX(General!$A$3:$A$103,SMALL(IF(General!$G$3:$G$103=1,ROW(INDIRECT("1:"&ROWS(General!$A$3:$A$103)))),ROWS($1:14))),"")} | E16: =IFERROR(INDEX(General!$C$3:$C$103,MATCH(Stage!C16,General!$A$3:$A$103,0)),"") | G16: =IFERROR(INDEX(General!$B$3:$B$103,MATCH(Stage!C16,General!$A$3:$A$103,0)),"")
C17: {=IF(ROWS($1:15)<=COUNTIF(General!$G$3:$G$103,1),INDEX(General!$A$3:$A$103,SMALL(IF(General!$G$3:$G$103=1,ROW(INDIRECT("1:"&ROWS(General!$A$3:$A$103)))),ROWS($1:15))),"")} | E17: =IFERROR(INDEX(General!$C$3:$C$103,MATCH(Stage!C17,General!$A$3:$A$103,0)),"") | G17: =IFERROR(INDEX(General!$B$3:$B$103,MATCH(Stage!C17,General!$A$3:$A$103,0)),"")
C18: {=IF(ROWS($1:16)<=COUNTIF(General!$G$3:$G$103,1),INDEX(General!$A$3:$A$103,SMALL(IF(General!$G$3:$G$103=1,ROW(INDIRECT("1:"&ROWS(General!$A$3:$A$103)))),ROWS($1:16))),"")} | E18: =IFERROR(INDEX(General!$C$3:$C$103,MATCH(Stage!C18,General!$A$3:$A$103,0)),"") | G18: =IFERROR(INDEX(General!$B$3:$B$103,MATCH(Stage!C18,General!$A$3:$A$103,0)),"")
C19: {=IF(ROWS($1:17)<=COUNTIF(General!$G$3:$G$103,1),INDEX(General!$A$3:$A$103,SMALL(IF(General!$G$3:$G$103=1,ROW(INDIRECT("1:"&ROWS(General!$A$3:$A$103)))),ROWS($1:17))),"")} | E19: =IFERROR(INDEX(General!$C$3:$C$103,MATCH(Stage!C19,General!$A$3:$A$103,0)),"") | G19: =IFERROR(INDEX(General!$B$3:$B$103,MATCH(Stage!C19,General!$A$3:$A$103,0)),"")
C20: {=IF(ROWS($1:18)<=COUNTIF(General!$G$3:$G$103,1),INDEX(General!$A$3:$A$103,SMALL(IF(General!$G$3:$G$103=1,ROW(INDIRECT("1:"&ROWS(General!$A$3:$A$103)))),ROWS($1:18))),"")} | E20: =IFERROR(INDEX(General!$C$3:$C$103,MATCH(Stage!C20,General!$A$3:$A$103,0)),"") | G20: =IFERROR(INDEX(General!$B$3:$B$103,MATCH(Stage!C20,General!$A$3:$A$103,0)),"")
C21: {=IF(ROWS($1:19)<=COUNTIF(General!$G$3:$G$103,1),INDEX(General!$A$3:$A$103,SMALL(IF(General!$G$3:$G$103=1,ROW(INDIRECT("1:"&ROWS(General!$A$3:$A$103)))),ROWS($1:19))),"")} | E21: =IFERROR(INDEX(General!$C$3:$C$103,MATCH(Stage!C21,General!$A$3:$A$103,0)),"") | G21: =IFERROR(INDEX(General!$B$3:$B$103,MATCH(Stage!C21,General!$A$3:$A$103,0)),"")
C22: {=IF(ROWS($1:20)<=COUNTIF(General!$G$3:$G$103,1),INDEX(General!$A$3:$A$103,SMALL(IF(General!$G$3:$G$103=1,ROW(INDIRECT("1:"&ROWS(General!$A$3:$A$103)))),ROWS($1:20))),"")} | E22: =IFERROR(INDEX(General!$C$3:$C$103,MATCH(Stage!C22,General!$A$3:$A$103,0)),"") | G22: =IFERROR(INDEX(General!$B$3:$B$103,MATCH(Stage!C22,General!$A$3:$A$103,0)),"")
C23: {=IF(ROWS($1:21)<=COUNTIF(General!$G$3:$G$103,1),INDEX(General!$A$3:$A$103,SMALL(IF(General!$G$3:$G$103=1,ROW(INDIRECT("1:"&ROWS(General!$A$3:$A$103)))),ROWS($1:21))),"")} | E23: =IFERROR(INDEX(General!$C$3:$C$103,MATCH(Stage!C23,General!$A$3:$A$103,0)),"") | G23: =IFERROR(INDEX(General!$B$3:$B$103,MATCH(Stage!C23,General!$A$3:$A$103,0)),"")
C24: {=IF(ROWS($1:22)<=COUNTIF(General!$G$3:$G$103,1),INDEX(General!$A$3:$A$103,SMALL(IF(General!$G$3:$G$103=1,ROW(INDIRECT("1:"&ROWS(General!$A$3:$A$103)))),ROWS($1:22))),"")} | E24: =IFERROR(INDEX(General!$C$3:$C$103,MATCH(Stage!C24,General!$A$3:$A$103,0)),"") | G24: =IFERROR(INDEX(General!$B$3:$B$103,MATCH(Stage!C24,General!$A$3:$A$103,0)),"")
C25: {=IF(ROWS($1:23)<=COUNTIF(General!$G$3:$G$103,1),INDEX(General!$A$3:$A$103,SMALL(IF(General!$G$3:$G$103=1,ROW(INDIRECT("1:"&ROWS(General!$A$3:$A$103)))),ROWS($1:23))),"")} | E25: =IFERROR(INDEX(General!$C$3:$C$103,MATCH(Stage!C25,General!$A$3:$A$103,0)),"") | G25: =IFERROR(INDEX(General!$B$3:$B$103,MATCH(Stage!C25,General!$A$3:$A$103,0)),"")
C26: {=IF(ROWS($1:24)<=COUNTIF(General!$G$3:$G$103,1),INDEX(General!$A$3:$A$103,SMALL(IF(General!$G$3:$G$103=1,ROW(INDIRECT("1:"&ROWS(General!$A$3:$A$103)))),ROWS($1:24))),"")} | E26: =IFERROR(INDEX(General!$C$3:$C$103,MATCH(Stage!C26,General!$A$3:$A$103,0)),"") | G26: =IFERROR(INDEX(General!$B$3:$B$103,MATCH(Stage!C26,General!$A$3:$A$103,0)),"")
C27: {=IF(ROWS($1:25)<=COUNTIF(General!$G$3:$G$103,1),INDEX(General!$A$3:$A$103,SMALL(IF(General!$G$3:$G$103=1,ROW(INDIRECT("1:"&ROWS(General!$A$3:$A$103)))),ROWS($1:25))),"")} | E27: =IFERROR(INDEX(General!$C$3:$C$103,MATCH(Stage!C27,General!$A$3:$A$103,0)),"") | G27: =IFERROR(INDEX(General!$B$3:$B$103,MATCH(Stage!C27,General!$A$3:$A$103,0)),"")
C28: {=IF(ROWS($1:26)<=COUNTIF(General!$G$3:$G$103,1),INDEX(General!$A$3:$A$103,SMALL(IF(General!$G$3:$G$103=1,ROW(INDIRECT("1:"&ROWS(General!$A$3:$A$103)))),ROWS($1:26))),"")} | E28: =IFERROR(INDEX(General!$C$3:$C$103,MATCH(Stage!C28,General!$A$3:$A$103,0)),"") | G28: =IFERROR(INDEX(General!$B$3:$B$103,MATCH(Stage!C28,General!$A$3:$A$103,0)),"")
C29: {=IF(ROWS($1:27)<=COUNTIF(General!$G$3:$G$103,1),INDEX(General!$A$3:$A$103,SMALL(IF(General!$G$3:$G$103=1,ROW(INDIRECT("1:"&ROWS(General!$A$3:$A$103)))),ROWS($1:27))),"")} | E29: =IFERROR(INDEX(General!$C$3:$C$103,MATCH(Stage!C29,General!$A$3:$A$103,0)),"") | G29: =IFERROR(INDEX(General!$B$3:$B$103,MATCH(Stage!C29,General!$A$3:$A$103,0)),"")
C30: {=IF(ROWS($1:28)<=COUNTIF(General!$G$3:$G$103,1),INDEX(General!$A$3:$A$103,SMALL(IF(General!$G$3:$G$103=1,ROW(INDIRECT("1:"&ROWS(General!$A$3:$A$103)))),ROWS($1:28))),"")} | E30: =IFERROR(INDEX(General!$C$3:$C$103,MATCH(Stage!C30,General!$A$3:$A$103,0)),"") | G30: =IFERROR(INDEX(General!$B$3:$B$103,MATCH(Stage!C30,General!$A$3:$A$103,0)),"")
C31: {=IF(ROWS($1:29)<=COUNTIF(General!$G$3:$G$103,1),INDEX(General!$A$3:$A$103,SMALL(IF(General!$G$3:$G$103=1,ROW(INDIRECT("1:"&ROWS(General!$A$3:$A$103)))),ROWS($1:29))),"")} | E31: =IFERROR(INDEX(General!$C$3:$C$103,MATCH(Stage!C31,General!$A$3:$A$103,0)),"") | G31: =IFERROR(INDEX(General!$B$3:$B$103,MATCH(Stage!C31,General!$A$3:$A$103,0)),"")
C32: {=IF(ROWS($1:30)<=COUNTIF(General!$G$3:$G$103,1),INDEX(General!$A$3:$A$103,SMALL(IF(General!$G$3:$G$103=1,ROW(INDIRECT("1:"&ROWS(General!$A$3:$A$103)))),ROWS($1:30))),"")} | E32: =IFERROR(INDEX(General!$C$3:$C$103,MATCH(Stage!C32,General!$A$3:$A$103,0)),"") | G32: =IFERROR(INDEX(General!$B$3:$B$103,MATCH(Stage!C32,General!$A$3:$A$103,0)),"")
C33: {=IF(ROWS($1:31)<=COUNTIF(General!$G$3:$G$103,1),INDEX(General!$A$3:$A$103,SMALL(IF(General!$G$3:$G$103=1,ROW(INDIRECT("1:"&ROWS(General!$A$3:$A$103)))),ROWS($1:31))),"")} | E33: =IFERROR(INDEX(General!$C$3:$C$103,MATCH(Stage!C33,General!$A$3:$A$103,0)),"") | G33: =IFERROR(INDEX(General!$B$3:$B$103,MATCH(Stage!C33,General!$A$3:$A$103,0)),"")
C34: {=IF(ROWS($1:32)<=COUNTIF(General!$G$3:$G$103,1),INDEX(General!$A$3:$A$103,SMALL(IF(General!$G$3:$G$103=1,ROW(INDIRECT("1:"&ROWS(General!$A$3:$A$103)))),ROWS($1:32))),"")} | E34: =IFERROR(INDEX(General!$C$3:$C$103,MATCH(Stage!C34,General!$A$3:$A$103,0)),"") | G34: =IFERROR(INDEX(General!$B$3:$B$103,MATCH(Stage!C34,General!$A$3:$A$103,0)),"")
C35: {=IF(ROWS($1:33)<=COUNTIF(General!$G$3:$G$103,1),INDEX(General!$A$3:$A$103,SMALL(IF(General!$G$3:$G$103=1,ROW(INDIRECT("1:"&ROWS(General!$A$3:$A$103)))),ROWS($1:33))),"")} | E35: =IFERROR(INDEX(General!$C$3:$C$103,MATCH(Stage!C35,General!$A$3:$A$103,0)),"") | G35: =IFERROR(INDEX(General!$B$3:$B$103,MATCH(Stage!C35,General!$A$3:$A$103,0)),"")
C36: {=IF(ROWS($1:34)<=COUNTIF(General!$G$3:$G$103,1),INDEX(General!$A$3:$A$103,SMALL(IF(General!$G$3:$G$103=1,ROW(INDIRECT("1:"&ROWS(General!$A$3:$A$103)))),ROWS($1:34))),"")} | E36: =IFERROR(INDEX(General!$C$3:$C$103,MATCH(Stage!C36,General!$A$3:$A$103,0)),"") | G36: =IFERROR(INDEX(General!$B$3:$B$103,MATCH(Stage!C36,General!$A$3:$A$103,0)),"")
C37: {=IF(ROWS($1:35)<=COUNTIF(General!$G$3:$G$103,1),INDEX(General!$A$3:$A$103,SMALL(IF(General!$G$3:$G$103=1,ROW(INDIRECT("1:"&ROWS(General!$A$3:$A$103)))),ROWS($1:35))),"")} | E37: =IFERROR(INDEX(General!$C$3:$C$103,MATCH(Stage!C37,General!$A$3:$A$103,0)),"") | G37: =IFERROR(INDEX(General!$B$3:$B$103,MATCH(Stage!C37,General!$A$3:$A$103,0)),"")
C38: {=IF(ROWS($1:36)<=COUNTIF(General!$G$3:$G$103,1),INDEX(General!$A$3:$A$103,SMALL(IF(General!$G$3:$G$103=1,ROW(INDIRECT("1:"&ROWS(General!$A$3:$A$103)))),ROWS($1:36))),"")} | E38: =IFERROR(INDEX(General!$C$3:$C$103,MATCH(Stage!C38,General!$A$3:$A$103,0)),"") | G38: =IFERROR(INDEX(General!$B$3:$B$103,MATCH(Stage!C38,General!$A$3:$A$103,0)),"")
C39: {=IF(ROWS($1:37)<=COUNTIF(General!$G$3:$G$103,1),INDEX(General!$A$3:$A$103,SMALL(IF(General!$G$3:$G$103=1,ROW(INDIRECT("1:"&ROWS(General!$A$3:$A$103)))),ROWS($1:37))),"")} | E39: =IFERROR(INDEX(General!$C$3:$C$103,MATCH(Stage!C39,General!$A$3:$A$103,0)),"") | G39: =IFERROR(INDEX(General!$B$3:$B$103,MATCH(Stage!C39,General!$A$3:$A$103,0)),"")
C40: {=IF(ROWS($1:38)<=COUNTIF(General!$G$3:$G$103,1),INDEX(General!$A$3:$A$103,SMALL(IF(General!$G$3:$G$103=1,ROW(INDIRECT("1:"&ROWS(General!$A$3:$A$103)))),ROWS($1:38))),"")} | E40: =IFERROR(INDEX(General!$C$3:$C$103,MATCH(Stage!C40,General!$A$3:$A$103,0)),"") | G40: =IFERROR(INDEX(General!$B$3:$B$103,MATCH(Stage!C40,General!$A$3:$A$103,0)),"")
C41: {=IF(ROWS($1:39)<=COUNTIF(General!$G$3:$G$103,1),INDEX(General!$A$3:$A$103,SMALL(IF(General!$G$3:$G$103=1,ROW(INDIRECT("1:"&ROWS(General!$A$3:$A$103)))),ROWS($1:39))),"")} | E41: =IFERROR(INDEX(General!$C$3:$C$103,MATCH(Stage!C41,General!$A$3:$A$103,0)),"") | G41: =IFERROR(INDEX(General!$B$3:$B$103,MATCH(Stage!C41,General!$A$3:$A$103,0)),"")
...

Sheet Adhésion
A1: INTERESSE POUR ADHESION | C1: NOM | E1: MAIL | G1: TELEPHONE
C3: {=IF(ROWS($1:1)<=COUNTIF(General!$H$3:$H$103,1),INDEX(General!$A$3:$A$103,SMALL(IF(General!$H$3:$H$103=1,ROW(INDIRECT("1:"&ROWS(General!$A$3:$A$103)))),ROWS($1:1))),"")} -> Costa Ledormeur | E3: =IFERROR(INDEX(General!$C$3:$C$103,MATCH(Adhésion!C3,General!$A$3:$A$103,0)),"") -> costa.ledormeur.85@gmail.com | G3: =IFERROR(INDEX(General!$B$3:$B$103,MATCH(Adhésion!C3,General!$A$3:$A$103,0)),"") -> 674416225
C4: {=IF(ROWS($1:2)<=COUNTIF(General!$H$3:$H$103,1),INDEX(General!$A$3:$A$103,SMALL(IF(General!$H$3:$H$103=1,ROW(INDIRECT("1:"&ROWS(General!$A$3:$A$103)))),ROWS($1:2))),"")} | E4: =IFERROR(INDEX(General!$C$3:$C$103,MATCH(Adhésion!C4,General!$A$3:$A$103,0)),"") | G4: =IFERROR(INDEX(General!$B$3:$B$103,MATCH(Adhésion!C4,General!$A$3:$A$103,0)),"")
C5: {=IF(ROWS($1:3)<=COUNTIF(General!$H$3:$H$103,1),INDEX(General!$A$3:$A$103,SMALL(IF(General!$H$3:$H$103=1,ROW(INDIRECT("1:"&ROWS(General!$A$3:$A$103)))),ROWS($1:3))),"")} | E5: =IFERROR(INDEX(General!$C$3:$C$103,MATCH(Adhésion!C5,General!$A$3:$A$103,0)),"") | G5: =IFERROR(INDEX(General!$B$3:$B$103,MATCH(Adhésion!C5,General!$A$3:$A$103,0)),"")
C6: {=IF(ROWS($1:4)<=COUNTIF(General!$H$3:$H$103,1),INDEX(General!$A$3:$A$103,SMALL(IF(General!$H$3:$H$103=1,ROW(INDIRECT("1:"&ROWS(General!$A$3:$A$103)))),ROWS($1:4))),"")} | E6: =IFERROR(INDEX(General!$C$3:$C$103,MATCH(Adhésion!C6,General!$A$3:$A$103,0)),"") | G6: =IFERROR(INDEX(General!$B$3:$B$103,MATCH(Adhésion!C6,General!$A$3:$A$103,0)),"")
C7: {=IF(ROWS($1:5)<=COUNTIF(General!$H$3:$H$103,1),INDEX(General!$A$3:$A$103,SMALL(IF(General!$H$3:$H$103=1,ROW(INDIRECT("1:"&ROWS(General!$A$3:$A$103)))),ROWS($1:5))),"")} | E7: =IFERROR(INDEX(General!$C$3:$C$103,MATCH(Adhésion!C7,General!$A$3:$A$103,0)),"") | G7: =IFERROR(INDEX(General!$B$3:$B$103,MATCH(Adhésion!C7,General!$A$3:$A$103,0)),"")
C8: {=IF(ROWS($1:6)<=COUNTIF(General!$H$3:$H$103,1),INDEX(General!$A$3:$A$103,SMALL(IF(General!$H$3:$H$103=1,ROW(INDIRECT("1:"&ROWS(General!$A$3:$A$103)))),ROWS($1:6))),"")} | E8: =IFERROR(INDEX(General!$C$3:$C$103,MATCH(Adhésion!C8,General!$A$3:$A$103,0)),"") | G8: =IFERROR(INDEX(General!$B$3:$B$103,MATCH(Adhésion!C8,General!$A$3:$A$103,0)),"")
C9: {=IF(ROWS($1:7)<=COUNTIF(General!$H$3:$H$103,1),INDEX(General!$A$3:$A$103,SMALL(IF(General!$H$3:$H$103=1,ROW(INDIRECT("1:"&ROWS(General!$A$3:$A$103)))),ROWS($1:7))),"")} | E9: =IFERROR(INDEX(General!$C$3:$C$103,MATCH(Adhésion!C9,General!$A$3:$A$103,0)),"") | G9: =IFERROR(INDEX(General!$B$3:$B$103,MATCH(Adhésion!C9,General!$A$3:$A$103,0)),"")
C10: {=IF(ROWS($1:8)<=COUNTIF(General!$H$3:$H$103,1),INDEX(General!$A$3:$A$103,SMALL(IF(General!$H$3:$H$103=1,ROW(INDIRECT("1:"&ROWS(General!$A$3:$A$103)))),ROWS($1:8))),"")} | E10: =IFERROR(INDEX(General!$C$3:$C$103,MATCH(Adhésion!C10,General!$A$3:$A$103,0)),"") | G10: =IFERROR(INDEX(General!$B$3:$B$103,MATCH(Adhésion!C10,General!$A$3:$A$103,0)),"")
C11: {=IF(ROWS($1:9)<=COUNTIF(General!$H$3:$H$103,1),INDEX(General!$A$3:$A$103,SMALL(IF(General!$H$3:$H$103=1,ROW(INDIRECT("1:"&ROWS(General!$A$3:$A$103)))),ROWS($1:9))),"")} | E11: =IFERROR(INDEX(General!$C$3:$C$103,MATCH(Adhésion!C11,General!$A$3:$A$103,0)),"") | G11: =IFERROR(INDEX(General!$B$3:$B$103,MATCH(Adhésion!C11,General!$A$3:$A$103,0)),"")
C12: {=IF(ROWS($1:10)<=COUNTIF(General!$H$3:$H$103,1),INDEX(General!$A$3:$A$103,SMALL(IF(General!$H$3:$H$103=1,ROW(INDIRECT("1:"&ROWS(General!$A$3:$A$103)))),ROWS($1:10))),"")} | E12: =IFERROR(INDEX(General!$C$3:$C$103,MATCH(Adhésion!C12,General!$A$3:$A$103,0)),"") | G12: =IFERROR(INDEX(General!$B$3:$B$103,MATCH(Adhésion!C12,General!$A$3:$A$103,0)),"")
C13: {=IF(ROWS($1:11)<=COUNTIF(General!$H$3:$H$103,1),INDEX(General!$A$3:$A$103,SMALL(IF(General!$H$3:$H$103=1,ROW(INDIRECT("1:"&ROWS(General!$A$3:$A$103)))),ROWS($1:11))),"")} | E13: =IFERROR(INDEX(General!$C$3:$C$103,MATCH(Adhésion!C13,General!$A$3:$A$103,0)),"") | G13: =IFERROR(INDEX(General!$B$3:$B$103,MATCH(Adhésion!C13,General!$A$3:$A$103,0)),"")
C14: {=IF(ROWS($1:12)<=COUNTIF(General!$H$3:$H$103,1),INDEX(General!$A$3:$A$103,SMALL(IF(General!$H$3:$H$103=1,ROW(INDIRECT("1:"&ROWS(General!$A$3:$A$103)))),ROWS($1:12))),"")} | E14: =IFERROR(INDEX(General!$C$3:$C$103,MATCH(Adhésion!C14,General!$A$3:$A$103,0)),"") | G14: =IFERROR(INDEX(General!$B$3:$B$103,MATCH(Adhésion!C14,General!$A$3:$A$103,0)),"")
C15: {=IF(ROWS($1:13)<=COUNTIF(General!$H$3:$H$103,1),INDEX(General!$A$3:$A$103,SMALL(IF(General!$H$3:$H$103=1,ROW(INDIRECT("1:"&ROWS(General!$A$3:$A$103)))),ROWS($1:13))),"")} | E15: =IFERROR(INDEX(General!$C$3:$C$103,MATCH(Adhésion!C15,General!$A$3:$A$103,0)),"") | G15: =IFERROR(INDEX(General!$B$3:$B$103,MATCH(Adhésion!C15,General!$A$3:$A$103,0)),"")
C16: {=IF(ROWS($1:14)<=COUNTIF(General!$H$3:$H$103,1),INDEX(General!$A$3:$A$103,SMALL(IF(General!$H$3:$H$103=1,ROW(INDIRECT("1:"&ROWS(General!$A$3:$A$103)))),ROWS($1:14))),"")} | E16: =IFERROR(INDEX(General!$C$3:$C$103,MATCH(Adhésion!C16,General!$A$3:$A$103,0)),"") | G16: =IFERROR(INDEX(General!$B$3:$B$103,MATCH(Adhésion!C16,General!$A$3:$A$103,0)),"")
C17: {=IF(ROWS($1:15)<=COUNTIF(General!$H$3:$H$103,1),INDEX(General!$A$3:$A$103,SMALL(IF(General!$H$3:$H$103=1,ROW(INDIRECT("1:"&ROWS(General!$A$3:$A$103)))),ROWS($1:15))),"")} | E17: =IFERROR(INDEX(General!$C$3:$C$103,MATCH(Adhésion!C17,General!$A$3:$A$103,0)),"") | G17: =IFERROR(INDEX(General!$B$3:$B$103,MATCH(Adhésion!C17,General!$A$3:$A$103,0)),"")
C18: {=IF(ROWS($1:16)<=COUNTIF(General!$H$3:$H$103,1),INDEX(General!$A$3:$A$103,SMALL(IF(General!$H$3:$H$103=1,ROW(INDIRECT("1:"&ROWS(General!$A$3:$A$103)))),ROWS($1:16))),"")} | E18: =IFERROR(INDEX(General!$C$3:$C$103,MATCH(Adhésion!C18,General!$A$3:$A$103,0)),"") | G18: =IFERROR(INDEX(General!$B$3:$B$103,MATCH(Adhésion!C18,General!$A$3:$A$103,0)),"")
C19: {=IF(ROWS($1:17)<=COUNTIF(General!$H$3:$H$103,1),INDEX(General!$A$3:$A$103,SMALL(IF(General!$H$3:$H$103=1,ROW(INDIRECT("1:"&ROWS(General!$A$3:$A$103)))),ROWS($1:17))),"")} | E19: =IFERROR(INDEX(General!$C$3:$C$103,MATCH(Adhésion!C19,General!$A$3:$A$103,0)),"") | G19: =IFERROR(INDEX(General!$B$3:$B$103,MATCH(Adhésion!C19,General!$A$3:$A$103,0)),"")
C20: {=IF(ROWS($1:18)<=COUNTIF(General!$H$3:$H$103,1),INDEX(General!$A$3:$A$103,SMALL(IF(General!$H$3:$H$103=1,ROW(INDIRECT("1:"&ROWS(General!$A$3:$A$103)))),ROWS($1:18))),"")} | E20: =IFERROR(INDEX(General!$C$3:$C$103,MATCH(Adhésion!C20,General!$A$3:$A$103,0)),"") | G20: =IFERROR(INDEX(General!$B$3:$B$103,MATCH(Adhésion!C20,General!$A$3:$A$103,0)),"")
C21: {=IF(ROWS($1:19)<=COUNTIF(General!$H$3:$H$103,1),INDEX(General!$A$3:$A$103,SMALL(IF(General!$H$3:$H$103=1,ROW(INDIRECT("1:"&ROWS(General!$A$3:$A$103)))),ROWS($1:19))),"")} | E21: =IFERROR(INDEX(General!$C$3:$C$103,MATCH(Adhésion!C21,General!$A$3:$A$103,0)),"") | G21: =IFERROR(INDEX(General!$B$3:$B$103,MATCH(Adhésion!C21,General!$A$3:$A$103,0)),"")
C22: {=IF(ROWS($1:20)<=COUNTIF(General!$H$3:$H$103,1),INDEX(General!$A$3:$A$103,SMALL(IF(General!$H$3:$H$103=1,ROW(INDIRECT("1:"&ROWS(General!$A$3:$A$103)))),ROWS($1:20))),"")} | E22: =IFERROR(INDEX(General!$C$3:$C$103,MATCH(Adhésion!C22,General!$A$3:$A$103,0)),"") | G22: =IFERROR(INDEX(General!$B$3:$B$103,MATCH(Adhésion!C22,General!$A$3:$A$103,0)),"")
C23: {=IF(ROWS($1:21)<=COUNTIF(General!$H$3:$H$103,1),INDEX(General!$A$3:$A$103,SMALL(IF(General!$H$3:$H$103=1,ROW(INDIRECT("1:"&ROWS(General!$A$3:$A$103)))),ROWS($1:21))),"")} | E23: =IFERROR(INDEX(General!$C$3:$C$103,MATCH(Adhésion!C23,General!$A$3:$A$103,0)),"") | G23: =IFERROR(INDEX(General!$B$3:$B$103,MATCH(Adhésion!C23,General!$A$3:$A$103,0)),"")
C24: {=IF(ROWS($1:22)<=COUNTIF(General!$H$3:$H$103,1),INDEX(General!$A$3:$A$103,SMALL(IF(General!$H$3:$H$103=1,ROW(INDIRECT("1:"&ROWS(General!$A$3:$A$103)))),ROWS($1:22))),"")} | E24: =IFERROR(INDEX(General!$C$3:$C$103,MATCH(Adhésion!C24,General!$A$3:$A$103,0)),"") | G24: =IFERROR(INDEX(General!$B$3:$B$103,MATCH(Adhésion!C24,General!$A$3:$A$103,0)),"")
C25: {=IF(ROWS($1:23)<=COUNTIF(General!$H$3:$H$103,1),INDEX(General!$A$3:$A$103,SMALL(IF(General!$H$3:$H$103=1,ROW(INDIRECT("1:"&ROWS(General!$A$3:$A$103)))),ROWS($1:23))),"")} | E25: =IFERROR(INDEX(General!$C$3:$C$103,MATCH(Adhésion!C25,General!$A$3:$A$103,0)),"") | G25: =IFERROR(INDEX(General!$B$3:$B$103,MATCH(Adhésion!C25,General!$A$3:$A$103,0)),"")
C26: {=IF(ROWS($1:24)<=COUNTIF(General!$H$3:$H$103,1),INDEX(General!$A$3:$A$103,SMALL(IF(General!$H$3:$H$103=1,ROW(INDIRECT("1:"&ROWS(General!$A$3:$A$103)))),ROWS($1:24))),"")} | E26: =IFERROR(INDEX(General!$C$3:$C$103,MATCH(Adhésion!C26,General!$A$3:$A$103,0)),"") | G26: =IFERROR(INDEX(General!$B$3:$B$103,MATCH(Adhésion!C26,General!$A$3:$A$103,0)),"")
C27: {=IF(ROWS($1:25)<=COUNTIF(General!$H$3:$H$103,1),INDEX(General!$A$3:$A$103,SMALL(IF(General!$H$3:$H$103=1,ROW(INDIRECT("1:"&ROWS(General!$A$3:$A$103)))),ROWS($1:25))),"")} | E27: =IFERROR(INDEX(General!$C$3:$C$103,MATCH(Adhésion!C27,General!$A$3:$A$103,0)),"") | G27: =IFERROR(INDEX(General!$B$3:$B$103,MATCH(Adhésion!C27,General!$A$3:$A$103,0)),"")
C28: {=IF(ROWS($1:26)<=COUNTIF(General!$H$3:$H$103,1),INDEX(General!$A$3:$A$103,SMALL(IF(General!$H$3:$H$103=1,ROW(INDIRECT("1:"&ROWS(General!$A$3:$A$103)))),ROWS($1:26))),"")} | E28: =IFERROR(INDEX(General!$C$3:$C$103,MATCH(Adhésion!C28,General!$A$3:$A$103,0)),"") | G28: =IFERROR(INDEX(General!$B$3:$B$103,MATCH(Adhésion!C28,General!$A$3:$A$103,0)),"")
C29: {=IF(ROWS($1:27)<=COUNTIF(General!$H$3:$H$103,1),INDEX(General!$A$3:$A$103,SMALL(IF(General!$H$3:$H$103=1,ROW(INDIRECT("1:"&ROWS(General!$A$3:$A$103)))),ROWS($1:27))),"")} | E29: =IFERROR(INDEX(General!$C$3:$C$103,MATCH(Adhésion!C29,General!$A$3:$A$103,0)),"") | G29: =IFERROR(INDEX(General!$B$3:$B$103,MATCH(Adhésion!C29,General!$A$3:$A$103,0)),"")
C30: {=IF(ROWS($1:28)<=COUNTIF(General!$H$3:$H$103,1),INDEX(General!$A$3:$A$103,SMALL(IF(General!$H$3:$H$103=1,ROW(INDIRECT("1:"&ROWS(General!$A$3:$A$103)))),ROWS($1:28))),"")} | E30: =IFERROR(INDEX(General!$C$3:$C$103,MATCH(Adhésion!C30,General!$A$3:$A$103,0)),"") | G30: =IFERROR(INDEX(General!$B$3:$B$103,MATCH(Adhésion!C30,General!$A$3:$A$103,0)),"")
C31: {=IF(ROWS($1:29)<=COUNTIF(General!$H$3:$H$103,1),INDEX(General!$A$3:$A$103,SMALL(IF(General!$H$3:$H$103=1,ROW(INDIRECT("1:"&ROWS(General!$A$3:$A$103)))),ROWS($1:29))),"")} | E31: =IFERROR(INDEX(General!$C$3:$C$103,MATCH(Adhésion!C31,General!$A$3:$A$103,0)),"") | G31: =IFERROR(INDEX(General!$B$3:$B$103,MATCH(Adhésion!C31,General!$A$3:$A$103,0)),"")
C32: {=IF(ROWS($1:30)<=COUNTIF(General!$H$3:$H$103,1),INDEX(General!$A$3:$A$103,SMALL(IF(General!$H$3:$H$103=1,ROW(INDIRECT("1:"&ROWS(General!$A$3:$A$103)))),ROWS($1:30))),"")} | E32: =IFERROR(INDEX(General!$C$3:$C$103,MATCH(Adhésion!C32,General!$A$3:$A$103,0)),"") | G32: =IFERROR(INDEX(General!$B$3:$B$103,MATCH(Adhésion!C32,General!$A$3:$A$103,0)),"")
C33: {=IF(ROWS($1:31)<=COUNTIF(General!$H$3:$H$103,1),INDEX(General!$A$3:$A$103,SMALL(IF(General!$H$3:$H$103=1,ROW(INDIRECT("1:"&ROWS(General!$A$3:$A$103)))),ROWS($1:31))),"")} | E33: =IFERROR(INDEX(General!$C$3:$C$103,MATCH(Adhésion!C33,General!$A$3:$A$103,0)),"") | G33: =IFERROR(INDEX(General!$B$3:$B$103,MATCH(Adhésion!C33,General!$A$3:$A$103,0)),"")
C34: {=IF(ROWS($1:32)<=COUNTIF(General!$H$3:$H$103,1),INDEX(General!$A$3:$A$103,SMALL(IF(General!$H$3:$H$103=1,ROW(INDIRECT("1:"&ROWS(General!$A$3:$A$103)))),ROWS($1:32))),"")} | E34: =IFERROR(INDEX(General!$C$3:$C$103,MATCH(Adhésion!C34,General!$A$3:$A$103,0)),"") | G34: =IFERROR(INDEX(General!$B$3:$B$103,MATCH(Adhésion!C34,General!$A$3:$A$103,0)),"")
C35: {=IF(ROWS($1:33)<=COUNTIF(General!$H$3:$H$103,1),INDEX(General!$A$3:$A$103,SMALL(IF(General!$H$3:$H$103=1,ROW(INDIRECT("1:"&ROWS(General!$A$3:$A$103)))),ROWS($1:33))),"")} | E35: =IFERROR(INDEX(General!$C$3:$C$103,MATCH(Adhésion!C35,General!$A$3:$A$103,0)),"") | G35: =IFERROR(INDEX(General!$B$3:$B$103,MATCH(Adhésion!C35,General!$A$3:$A$103,0)),"")
C36: {=IF(ROWS($1:34)<=COUNTIF(General!$H$3:$H$103,1),INDEX(General!$A$3:$A$103,SMALL(IF(General!$H$3:$H$103=1,ROW(INDIRECT("1:"&ROWS(General!$A$3:$A$103)))),ROWS($1:34))),"")} | E36: =IFERROR(INDEX(General!$C$3:$C$103,MATCH(Adhésion!C36,General!$A$3:$A$103,0)),"") | G36: =IFERROR(INDEX(General!$B$3:$B$103,MATCH(Adhésion!C36,General!$A$3:$A$103,0)),"")
C37: {=IF(ROWS($1:35)<=COUNTIF(General!$H$3:$H$103,1),INDEX(General!$A$3:$A$103,SMALL(IF(General!$H$3:$H$103=1,ROW(INDIRECT("1:"&ROWS(General!$A$3:$A$103)))),ROWS($1:35))),"")} | E37: =IFERROR(INDEX(General!$C$3:$C$103,MATCH(Adhésion!C37,General!$A$3:$A$103,0)),"") | G37: =IFERROR(INDEX(General!$B$3:$B$103,MATCH(Adhésion!C37,General!$A$3:$A$103,0)),"")
C38: {=IF(ROWS($1:36)<=COUNTIF(General!$H$3:$H$103,1),INDEX(General!$A$3:$A$103,SMALL(IF(General!$H$3:$H$103=1,ROW(INDIRECT("1:"&ROWS(General!$A$3:$A$103)))),ROWS($1:36))),"")} | E38: =IFERROR(INDEX(General!$C$3:$C$103,MATCH(Adhésion!C38,General!$A$3:$A$103,0)),"") | G38: =IFERROR(INDEX(General!$B$3:$B$103,MATCH(Adhésion!C38,General!$A$3:$A$103,0)),"")
C39: {=IF(ROWS($1:37)<=COUNTIF(General!$H$3:$H$103,1),INDEX(General!$A$3:$A$103,SMALL(IF(General!$H$3:$H$103=1,ROW(INDIRECT("1:"&ROWS(General!$A$3:$A$103)))),ROWS($1:37))),"")} | E39: =IFERROR(INDEX(General!$C$3:$C$103,MATCH(Adhésion!C39,General!$A$3:$A$103,0)),"") | G39: =IFERROR(INDEX(General!$B$3:$B$103,MATCH(Adhésion!C39,General!$A$3:$A$103,0)),"")
C40: {=IF(ROWS($1:38)<=COUNTIF(General!$H$3:$H$103,1),INDEX(General!$A$3:$A$103,SMALL(IF(General!$H$3:$H$103=1,ROW(INDIRECT("1:"&ROWS(General!$A$3:$A$103)))),ROWS($1:38))),"")} | E40: =IFERROR(INDEX(General!$C$3:$C$103,MATCH(Adhésion!C40,General!$A$3:$A$103,0)),"") | G40: =IFERROR(INDEX(General!$B$3:$B$103,MATCH(Adhésion!C40,General!$A$3:$A$103,0)),"")
C41: {=IF(ROWS($1:39)<=COUNTIF(General!$H$3:$H$103,1),INDEX(General!$A$3:$A$103,SMALL(IF(General!$H$3:$H$103=1,ROW(INDIRECT("1:"&ROWS(General!$A$3:$A$103)))),ROWS($1:39))),"")} | E41: =IFERROR(INDEX(General!$C$3:$C$103,MATCH(Adhésion!C41,General!$A$3:$A$103,0)),"") | G41: =IFERROR(INDEX(General!$B$3:$B$103,MATCH(Adhésion!C41,General!$A$3:$A$103,0)),"")
...

Sheet Don
A1: INTERESSE POUR DON | C1: NOM | E1: MAIL | G1: TELEPHONE
C3: {=IF(ROWS($1:1)<=COUNTIF(General!$I$3:$I$103,1),INDEX(General!$A$3:$A$103,SMALL(IF(General!$I$3:$I$103=1,ROW(INDIRECT("1:"&ROWS(General!$A$3:$A$103)))),ROWS($1:1))),"")} -> Daniel Pezeril | E3: =IFERROR(INDEX(General!$C$3:$C$103,MATCH(Don!C3,General!$A$3:$A$103,0)),"") -> dpezeril@gmail.com | G3: =IFERROR(INDEX(General!$B$3:$B$103,MATCH(Don!C3,General!$A$3:$A$103,0)),"") -> 644081800
A4: =IF(General!E3,C:C=General!A3) -> FALSE | C4: {=IF(ROWS($1:2)<=COUNTIF(General!$I$3:$I$103,1),INDEX(General!$A$3:$A$103,SMALL(IF(General!$I$3:$I$103=1,ROW(INDIRECT("1:"&ROWS(General!$A$3:$A$103)))),ROWS($1:2))),"")} -> Costa Ledormeur | E4: =IFERROR(INDEX(General!$C$3:$C$103,MATCH(Don!C4,General!$A$3:$A$103,0)),"") -> costa.ledormeur.85@gmail.com | G4: =IFERROR(INDEX(General!$B$3:$B$103,MATCH(Don!C4,General!$A$3:$A$103,0)),"") -> 674416225
C5: {=IF(ROWS($1:3)<=COUNTIF(General!$I$3:$I$103,1),INDEX(General!$A$3:$A$103,SMALL(IF(General!$I$3:$I$103=1,ROW(INDIRECT("1:"&ROWS(General!$A$3:$A$103)))),ROWS($1:3))),"")} -> Adrien Testas | E5: =IFERROR(INDEX(General!$C$3:$C$103,MATCH(Don!C5,General!$A$3:$A$103,0)),"") -> adrien.testas@live.fr | G5: =IFERROR(INDEX(General!$B$3:$B$103,MATCH(Don!C5,General!$A$3:$A$103,0)),"") -> 789200542
C6: {=IF(ROWS($1:4)<=COUNTIF(General!$I$3:$I$103,1),INDEX(General!$A$3:$A$103,SMALL(IF(General!$I$3:$I$103=1,ROW(INDIRECT("1:"&ROWS(General!$A$3:$A$103)))),ROWS($1:4))),"")} | E6: =IFERROR(INDEX(General!$C$3:$C$103,MATCH(Don!C6,General!$A$3:$A$103,0)),"") | G6: =IFERROR(INDEX(General!$B$3:$B$103,MATCH(Don!C6,General!$A$3:$A$103,0)),"")
C7: {=IF(ROWS($1:5)<=COUNTIF(General!$I$3:$I$103,1),INDEX(General!$A$3:$A$103,SMALL(IF(General!$I$3:$I$103=1,ROW(INDIRECT("1:"&ROWS(General!$A$3:$A$103)))),ROWS($1:5))),"")} | E7: =IFERROR(INDEX(General!$C$3:$C$103,MATCH(Don!C7,General!$A$3:$A$103,0)),"") | G7: =IFERROR(INDEX(General!$B$3:$B$103,MATCH(Don!C7,General!$A$3:$A$103,0)),"")
C8: {=IF(ROWS($1:6)<=COUNTIF(General!$I$3:$I$103,1),INDEX(General!$A$3:$A$103,SMALL(IF(General!$I$3:$I$103=1,ROW(INDIRECT("1:"&ROWS(General!$A$3:$A$103)))),ROWS($1:6))),"")} | E8: =IFERROR(INDEX(General!$C$3:$C$103,MATCH(Don!C8,General!$A$3:$A$103,0)),"") | G8: =IFERROR(INDEX(General!$B$3:$B$103,MATCH(Don!C8,General!$A$3:$A$103,0)),"")
C9: {=IF(ROWS($1:7)<=COUNTIF(General!$I$3:$I$103,1),INDEX(General!$A$3:$A$103,SMALL(IF(General!$I$3:$I$103=1,ROW(INDIRECT("1:"&ROWS(General!$A$3:$A$103)))),ROWS($1:7))),"")} | E9: =IFERROR(INDEX(General!$C$3:$C$103,MATCH(Don!C9,General!$A$3:$A$103,0)),"") | G9: =IFERROR(INDEX(General!$B$3:$B$103,MATCH(Don!C9,General!$A$3:$A$103,0)),"")
C10: {=IF(ROWS($1:8)<=COUNTIF(General!$I$3:$I$103,1),INDEX(General!$A$3:$A$103,SMALL(IF(General!$I$3:$I$103=1,ROW(INDIRECT("1:"&ROWS(General!$A$3:$A$103)))),ROWS($1:8))),"")} | E10: =IFERROR(INDEX(General!$C$3:$C$103,MATCH(Don!C10,General!$A$3:$A$103,0)),"") | G10: =IFERROR(INDEX(General!$B$3:$B$103,MATCH(Don!C10,General!$A$3:$A$103,0)),"")
C11: {=IF(ROWS($1:9)<=COUNTIF(General!$I$3:$I$103,1),INDEX(General!$A$3:$A$103,SMALL(IF(General!$I$3:$I$103=1,ROW(INDIRECT("1:"&ROWS(General!$A$3:$A$103)))),ROWS($1:9))),"")} | E11: =IFERROR(INDEX(General!$C$3:$C$103,MATCH(Don!C11,General!$A$3:$A$103,0)),"") | G11: =IFERROR(INDEX(General!$B$3:$B$103,MATCH(Don!C11,General!$A$3:$A$103,0)),"")
C12: {=IF(ROWS($1:10)<=COUNTIF(General!$I$3:$I$103,1),INDEX(General!$A$3:$A$103,SMALL(IF(General!$I$3:$I$103=1,ROW(INDIRECT("1:"&ROWS(General!$A$3:$A$103)))),ROWS($1:10))),"")} | E12: =IFERROR(INDEX(General!$C$3:$C$103,MATCH(Don!C12,General!$A$3:$A$103,0)),"") | G12: =IFERROR(INDEX(General!$B$3:$B$103,MATCH(Don!C12,General!$A$3:$A$103,0)),"")
C13: {=IF(ROWS($1:11)<=COUNTIF(General!$I$3:$I$103,1),INDEX(General!$A$3:$A$103,SMALL(IF(General!$I$3:$I$103=1,ROW(INDIRECT("1:"&ROWS(General!$A$3:$A$103)))),ROWS($1:11))),"")} | E13: =IFERROR(INDEX(General!$C$3:$C$103,MATCH(Don!C13,General!$A$3:$A$103,0)),"") | G13: =IFERROR(INDEX(General!$B$3:$B$103,MATCH(Don!C13,General!$A$3:$A$103,0)),"")
