Workbook

Sheet General
A1: Adherent | B1: telephone | C1: mail | D1: Date d'adhesion | E1: Expo | F1: Atelier | G1: Stage | H1: Adhésion | I1: Don
L2: =IF(E:E=1,M2=3) -> FALSE
A3: Daniel Pezeril | B3: 644081800 | C3: dpezeril@gmail.com | D3: 42770 | G3: 1 | I3: 1
A4: Costa Ledormeur | B4: 674416225 | C4: costa.ledormeur.85@gmail.com | D4: 42770 | G4: 1 | H4: 1 | I4: 1
A5: Adrien Testas | B5: 789200542 | C5: adrien.testas@live.fr | D5: 42770 | E5: 1 | F5: 1 | G5: 1 | I5: 1
B6: 11111

Sheet Expo
A1: INTERESSE POUR EXPO : | C1: NOM | E1: MAIL | G1: TELEPHONE
C3: {=IF(ROWS($1:1)<=COUNTIF(General!$E$3:$E$103,1),INDEX(General!$A$3:$A$103,SMALL(IF(General!$E$3:$E$103=1,ROW(INDIRECT("1:"&ROWS(General!$A$3:$A$103)))),ROWS($1:1))),"")} -> Adrien Testas | E3: =IFERROR(INDEX(General!$C$3:$C$103,MATCH(Expo!C3,General!$A$3:$A$103,0)),"") -> adrien.testas@live.fr | G3: =IFERROR(INDEX(General!$B$3:$B$103,MATCH(Expo!C3,General!$A$3:$A$103,0)),"") -> 789200542
C4: {=IF(ROWS($1:2)<=COUNTIF(General!$E$3:$E$103,1),INDEX(General!$A$3:$A$103,SMALL(IF(General!$E$3:$E$103=1,ROW(INDIRECT("1:"&ROWS(General!$A$3:$A$103)))),ROWS($1:2))),"")} | E4: =IFERROR(INDEX(General!$C$3:$C$103,MATCH(Expo!C4,General!$A$3:$A$103,0)),"") | G4: =IFERROR(INDEX(General!$B$3:$B$103,MATCH(Expo!C4,General!$A$3:$A$103,0)),"")
C5: {=IF(ROWS($1:3)<=COUNTIF(General!$E$3:$E$103,1),INDEX(General!$A$3:$A$103,SMALL(IF(General!$E$3:$E$103=1,ROW(INDIRECT("1:"&ROWS(General!$A$3:$A$103)))),ROWS($1:3))),"")} | E5: =IFERROR(INDEX(General!$C$3:$C$103,MATCH(Expo!C5,General!$A$3:$A$103,0)),"") | G5: =IFERROR(INDEX(General!$B$3:$B$103,MATCH(Expo!C5,General!$A$3:$A$103,0)),"")
C6: {=IF(ROWS($1:4)<=COUNTIF(General!$E$3:$E$103,1),INDEX(General!$A$3:$A$103,SMALL(IF(General!$E$3:$E$103=1,ROW(INDIRECT("1:"&ROWS(General!$A$3:$A$103)))),ROWS($1:4))),"")} | E6: =IFERROR(INDEX(General!$C$3:$C$103,MATCH(Expo!C6,General!$A$3:$A$103,0)),"") | G6: =IFERROR(INDEX(General!$B$3:$B$103,MATCH(Expo!C6,General!$A$3:$A$103,0)),"")
C7: {=IF(ROWS($1:5)<=COUNTIF(General!$E$3:$E$103,1),INDEX(General!$A$3:$A$103,SMALL(IF(General!$E$3:$E$103=1,ROW(INDIRECT("1:"&ROWS(General!$A$3:$A$103)))),ROWS($1:5))),"")} | E7: =IFERROR(INDEX(General!$C$3:$C$103,MATCH(Expo!C7,General!$A$3:$A$103,0)),"") | G7: =IFERROR(INDEX(General!$B$3:$B$103,MATCH(Expo!C7,General!$A$3:$A$103,0)),"")
C8: {=IF(ROWS($1:6)<=COUNTIF(General!$E$3:$E$103,1),INDEX(General!$A$3:$A$103,SMALL(IF(General!$E$3:$E$103=1,ROW(INDIRECT("1:"&ROWS(General!$A$3:$A$103)))),ROWS($1:6))),"")} | E8: =IFERROR(INDEX(General!$C$3:$C$103,MATCH(Expo!C8,General!$A$3:$A$103,0)),"") | G8: =IFERROR(INDEX(General!$B$3:$B$103,MATCH(Expo!C8,General!$A$3:$A$103,0)),"")
C9: {=IF(ROWS($1:7)<=COUNTIF(General!$E$3:$E$103,1),INDEX(General!$A$3:$A$103,SMALL(IF(General!$E$3:$E$103=1,ROW(INDIRECT("1:"&ROWS(General!$A$3:$A$103)))),ROWS($1:7))),"")} | E9: =IFERROR(INDEX(General!$C$3:$C$103,MATCH(Expo!C9,General!$A$3:$A$103,0)),"") | G9: =IFERROR(INDEX(General!$B$3:$B$103,MATCH(Expo!C9,General!$A$3:$A$103,0)),"")
C10: {=IF(ROWS($1:8)<=COUNTIF(General!$E$3:$E$103,1),INDEX(General!$A$3:$A$103,SMALL(IF(General!$E$3:$E$103=1,ROW(INDIRECT("1:"&ROWS(General!$A$3:$A$103)))),ROWS($1:8))),"")} | E10: =IFERROR(INDEX(General!$C$3:$C$103,MATCH(Expo!C10,General!$A$3:$A$103,0)),"") | G10: =IFERROR(INDEX(General!$B$3:$B$103,MATCH(Expo!C10,General!$A$3:$A$103,0)),"")
C11: {=IF(ROWS($1:9)<=COUNTIF(General!$E$3:$E$103,1),INDEX(General!$A$3:$A$103,SMALL(IF(General!$E$3:$E$103=1,ROW(INDIRECT("1:"&ROWS(General!$A$3:$A$103)))),ROWS($1:9))),"")} | E11: =IFERROR(INDEX(General!$C$3:$C$103,MATCH(Expo!C11,General!$A$3:$A$103,0)),"") | G11: =IFERROR(INDEX(General!$B$3:$B$103,MATCH(Expo!C11,General!$A$3:$A$103,0)),"")
C12: {=IF(ROWS($1:10)<=COUNTIF(General!$E$3:$E$103,1),INDEX(General!$A$3:$A$103,SMALL(IF(General!$E$3:$E$103=1,ROW(INDIRECT("1:"&ROWS(General!$A$3:$A$103)))),ROWS($1:10))),"")} | E12: =IFERROR(INDEX(General!$C$3:$C$103,MATCH(Expo!C12,General!$A$3:$A$103,0)),"") | G12: =IFERROR(INDEX(General!$B$3:$B$103,MATCH(Expo!C12,General!$A$3:$A$103,0)),"")
C13: {=IF(ROWS($1:11)<=COUNTIF(General!$E$3:$E$103,1),INDEX(General!$A$3:$A$103,SMALL(IF(General!$E$3:$E$103=1,ROW(INDIRECT("1:"&ROWS(General!$A$3:$A$103)))),ROWS($1:11))),"")} | E13: =IFERROR(INDEX(General!$C$3:$C$103,MATCH(Expo!C13,General!$A$3:$A$103,0)),"") | G13: =IFERROR(INDEX(General!$B$3:$B$103,MATCH(Expo!C13,General!$A$3:$A$103,0)),"")
C14: {=IF(ROWS($1:12)<=COUNTIF(General!$E$3:$E$103,1),INDEX(General!$A$3:$A$103,SMALL(IF(General!$E$3:$E$103=1,ROW(INDIRECT("1:"&ROWS(General!$A$3:$A$103)))),ROWS($1:12))),"")} | E14: =IFERROR(INDEX(General!$C$3:$C$103,MATCH(Expo!C14,General!$A$3:$A$103,0)),"") | G14: =IFERROR(INDEX(General!$B$3:$B$103,MATCH(Expo!C14,General!$A$3:$A$103,0)),"")
C15: {=IF(ROWS($1:13)<=COUNTIF(General!$E$3:$E$103,1),INDEX(General!$A$3:$A$103,SMALL(IF(General!$E$3:$E$103=1,ROW(INDIRECT("1:"&ROWS(General!$A$3:$A$103)))),ROWS($1:13))),"")} | E15: =IFERROR(INDEX(General!$C$3:$C$103,MATCH(Expo!C15,General!$A$3:$A$103,0)),"") | G15: =IFERROR(INDEX(General!$B$3:$B$103,MATCH(Expo!C15,General!$A$3:$A$103,0)),"")
C16: {=IF(ROWS($1:14)<=COUNTIF(General!$E$3:$E$103,1),INDEX(General!$A$3:$A$103,SMALL(IF(General!$E$3:$E$103=1,ROW(INDIRECT("1:"&ROWS(General!$A$3:$A$103)))),ROWS($1:14))),"")} | E16: =IFERROR(INDEX(General!$C$3:$C$103,MATCH(Expo!C16,General!$A$3:$A$103,0)),"") | G16: =IFERROR(INDEX(General!$B$3:$B$103,MATCH(Expo!C16,General!$A$3:$A$103,0)),"")
C17: {=IF(ROWS($1:15)<=COUNTIF(General!$E$3:$E$103,1),INDEX(General!$A$3:$A$103,SMALL(IF(General!$E$3:$E$103=1,ROW(INDIRECT("1:"&ROWS(General!$A$3:$A$103)))),ROWS($1:15))),"")} | E17: =IFERROR(INDEX(General!$C$3:$C$103,MATCH(Expo!C17,General!$A$3:$A$103,0)),"") | G17: =IFERROR(INDEX(General!$B$3:$B$103,MATCH(Expo!C17,General!$A$3:$A$103,0)),"")
C18: {=IF(ROWS($1:16)<=COUNTIF(General!$E$3:$E$103,1),INDEX(General!$A$3:$A$103,SMALL(IF(General!$E$3:$E$103=1,ROW(INDIRECT("1:"&ROWS(General!$A$3:$A$103)))),ROWS($1:16))),"")} | E18: =IFERROR(INDEX(General!$C$3:$C$103,MATCH(Expo!C18,General!$A$3:$A$103,0)),"") | G18: =IFERROR(INDEX(General!$B$3:$B$103,MATCH(Expo!C18,General!$A$3:$A$103,0)),"")
C19: {=IF(ROWS($1:17)<=COUNTIF(General!$E$3:$E$103,1),INDEX(General!$A$3:$A$103,SMALL(IF(General!$E$3:$E$103=1,ROW(INDIRECT("1:"&ROWS(General!$A$3:$A$103)))),ROWS($1:17))),"")} | E19: =IFERROR(INDEX(General!$C$3:$C$103,MATCH(Expo!C19,General!$A$3:$A$103,0)),"") | G19: =IFERROR(INDEX(General!$B$3:$B$103,MATCH(Expo!C19,General!$A$3:$A$103,0)),"")
C20: {=IF(ROWS($1:18)<=COUNTIF(General!$E$3:$E$103,1),INDEX(General!$A$3:$A$103,SMALL(IF(General!$E$3:$E$103=1,ROW(INDIRECT("1:"&ROWS(General!$A$3:$A$103)))),ROWS($1:18))),"")} | E20: =IFERROR(INDEX(General!$C$3:$C$103,MATCH(Expo!C20,General!$A$3:$A$103,0)),"") | G20: =IFERROR(INDEX(General!$B$3:$B$103,MATCH(Expo!C20,General!$A$3:$A$103,0)),"")
C21: {=IF(ROWS($1:19)<=COUNTIF(General!$E$3:$E$103,1),INDEX(General!$A$3:$A$103,SMALL(IF(General!$E$3:$E$103=1,ROW(INDIRECT("1:"&ROWS(General!$A$3:$A$103)))),ROWS($1:19))),"")} | E21: =IFERROR(INDEX(General!$C$3:$C$103,MATCH(Expo!C21,General!$A$3:$A$103,0)),"") | G21: =IFERROR(INDEX(General!$B$3:$B$103,MATCH(Expo!C21,General!$A$3:$A$103,0)),"")
C22: {=IF(ROWS($1:20)<=COUNTIF(General!$E$3:$E$103,1),INDEX(General!$A$3:$A$103,SMALL(IF(General!$E$3:$E$103=1,ROW(INDIRECT("1:"&ROWS(General!$A$3:$A$103)))),ROWS($1:20))),"")} | E22: =IFERROR(INDEX(General!$C$3:$C$103,MATCH(Expo!C22,General!$A$3:$A$103,0)),"") | G22: =IFERROR(INDEX(General!$B$3:$B$103,MATCH(Expo!C22,General!$A$3:$A$103,0)),"")
C23: {=IF(ROWS($1:21)<=COUNTIF(General!$E$3:$E$103,1),INDEX(General!$A$3:$A$103,SMALL(IF(General!$E$3:$E$103=1,ROW(INDIRECT("1:"&ROWS(General!$A$3:$A$103)))),ROWS($1:21))),"")} | E23: =IFERROR(INDEX(General!$C$3:$C$103,MATCH(Expo!C23,General!$A$3:$A$103,0)),"") | G23: =IFERROR(INDEX(General!$B$3:$B$103,MATCH(Expo!C23,General!$A$3:$A$103,0)),"")
C24: {=IF(ROWS($1:22)<=COUNTIF(General!$E$3:$E$103,1),INDEX(General!$A$3:$A$103,SMALL(IF(General!$E$3:$E$103=1,ROW(INDIRECT("1:"&ROWS(General!$A$3:$A$103)))),ROWS($1:22))),"")} | E24: =IFERROR(INDEX(General!$C$3:$C$103,MATCH(Expo!C24,General!$A$3:$A$103,0)),"") | G24: =IFERROR(INDEX(General!$B$3:$B$103,MATCH(Expo!C24,General!$A$3:$A$103,0)),"")
C25: {=IF(ROWS($1:23)<=COUNTIF(General!$E$3:$E$103,1),INDEX(General!$A$3:$A$103,SMALL(IF(General!$E$3:$E$103=1,ROW(INDIRECT("1:"&ROWS(General!$A$3:$A$103)))),ROWS($1:23))),"")} | E25: =IFERROR(INDEX(General!$C$3:$C$103,MATCH(Expo!C25,General!$A$3:$A$103,0)),"") | G25: =IFERROR(INDEX(General!$B$3:$B$103,MATCH(Expo!C25,General!$A$3:$A$103,0)),"")
C26: {=IF(ROWS($1:24)<=COUNTIF(General!$E$3:$E$103,1),INDEX(General!$A$3:$A$103,SMALL(IF(General!$E$3:$E$103=1,ROW(INDIRECT("1:"&ROWS(General!$A$3:$A$103)))),ROWS($1:24))),"")} | E26: =IFERROR(INDEX(General!$C$3:$C$103,MATCH(Expo!C26,General!$A$3:$A$103,0)),"") | G26: =IFERROR(INDEX(General!$B$3:$B$103,MATCH(Expo!C26,General!$A$3:$A$103,0)),"")
C27: {=IF(ROWS($1:25)<=COUNTIF(General!$E$3:$E$103,1),INDEX(General!$A$3:$A$103,SMALL(IF(General!$E$3:$E$103=1,ROW(INDIRECT("1:"&ROWS(General!$A$3:$A$103)))),ROWS($1:25))),"")} | E27: =IFERROR(INDEX(General!$C$3:$C$103,MATCH(Expo!C27,General!$A$3:$A$103,0)),"") | G27: =IFERROR(INDEX(General!$B$3:$B$103,MATCH(Expo!C27,General!$A$3:$A$103,0)),"")
C28: {=IF(ROWS($1:26)<=COUNTIF(General!$E$3:$E$103,1),INDEX(General!$A$3:$A$103,SMALL(IF(General!$E$3:$E$103=1,ROW(INDIRECT("1:"&ROWS(General!$A$3:$A$103)))),ROWS($1:26))),"")} | E28: =IFERROR(INDEX(General!$C$3:$C$103,MATCH(Expo!C28,General!$A$3:$A$103,0)),"") | G28: =IFERROR(INDEX(General!$B$3:$B$103,MATCH(Expo!C28,General!$A$3:$A$103,0)),"")
C29: {=IF(ROWS($1:27)<=COUNTIF(General!$E$3:$E$103,1),INDEX(General!$A$3:$A$103,SMALL(IF(General!$E$3:$E$103=1,ROW(INDIRECT("1:"&ROWS(General!$A$3:$A$103)))),ROWS($1:27))),"")} | E29: =IFERROR(INDEX(General!$C$3:$C$103,MATCH(Expo!C29,General!$A$3:$A$103,0)),"") | G29: =IFERROR(INDEX(General!$B$3:$B$103,MATCH(Expo!C29,General!$A$3:$A$103,0)),"")
C30: {=IF(ROWS($1:28)<=COUNTIF(General!$E$3:$E$103,1),INDEX(General!$A$3:$A$103,SMALL(IF(General!$E$3:$E$103=1,ROW(INDIRECT("1:"&ROWS(General!$A$3:$A$103)))),ROWS($1:28))),"")} | E30: =IFERROR(INDEX(General!$C$3:$C$103,MATCH(Expo!C30,General!$A$3:$A$103,0)),"") | G30: =IFERROR(INDEX(General!$B$3:$B$103,MATCH(Expo!C30,General!$A$3:$A$103,0)),"")
C31: {=IF(ROWS($1:29)<=COUNTIF(General!$E$3:$E$103,1),INDEX(General!$A$3:$A$103,SMALL(IF(General!$E$3:$E$103=1,ROW(INDIRECT("1:"&ROWS(General!$A$3:$A$103)))),ROWS($1:29))),"")} | E31: =IFERROR(INDEX(General!$C$3:$C$103,MATCH(Expo!C31,General!$A$3:$A$103,0)),"") | G31: =IFERROR(INDEX(General!$B$3:$B$103,MATCH(Expo!C31,General!$A$3:$A$103,0)),"")
C32: {=IF(ROWS($1:30)<=COUNTIF(General!$E$3:$E$103,1),INDEX(General!$A$3:$A$103,SMALL(IF(General!$E$3:$E$103=1,ROW(INDIRECT("1:"&ROWS(General!$A$3:$A$103)))),ROWS($1:30))),"")} | E32: =IFERROR(INDEX(General!$C$3:$C$103,MATCH(Expo!C32,General!$A$3:$A$103,0)),"") | G32: =IFERROR(INDEX(General!$B$3:$B$103,MATCH(Expo!C32,General!$A$3:$A$103,0)),"")
C33: {=IF(ROWS($1:31)<=COUNTIF(General!$E$3:$E$103,1),INDEX(General!$A$3:$A$103,SMALL(IF(General!$E$3:$E$103=1,ROW(INDIRECT("1:"&ROWS(General!$A$3:$A$103)))),ROWS($1:31))),"")} | E33: =IFERROR(INDEX(General!$C$3:$C$103,MATCH(Expo!C33,General!$A$3:$A$103,0)),"") | G33: =IFERROR(INDEX(General!$B$3:$B$103,MATCH(Expo!C33,General!$A$3:$A$103,0)),"")
C34: {=IF(ROWS($1:32)<=COUNTIF(General!$E$3:$E$103,1),INDEX(General!$A$3:$A$103,SMALL(IF(General!$E$3:$E$103=1,ROW(INDIRECT("1:"&ROWS(General!$A$3:$A$103)))),ROWS($1:32))),"")} | E34: =IFERROR(INDEX(General!$C$3:$C$103,MATCH(Expo!C34,General!$A$3:$A$103,0)),"") | G34: =IFERROR(INDEX(General!$B$3:$B$103,MATCH(Expo!C34,General!$A$3:$A$103,0)),"")
C35: {=IF(ROWS($1:33)<=COUNTIF(General!$E$3:$E$103,1),INDEX(General!$A$3:$A$103,SMALL(IF(General!$E$3:$E$103=1,ROW(INDIRECT("1:"&ROWS(General!$A$3:$A$103)))),ROWS($1:33))),"")} | E35: =IFERROR(INDEX(General!$C$3:$C$103,MATCH(Expo!C35,General!$A$3:$A$103,0)),"") | G35: =IFERROR(INDEX(General!$B$3:$B$103,MATCH(Expo!C35,General!$A$3:$A$103,0)),"")
C36: {=IF(ROWS($1:34)<=COUNTIF(General!$E$3:$E$103,1),INDEX(General!$A$3:$A$103,SMALL(IF(General!$E$3:$E$103=1,ROW(INDIRECT("1:"&ROWS(General!$A$3:$A$103)))),ROWS($1:34))),"")} | E36: =IFERROR(INDEX(General!$C$3:$C$103,MATCH(Expo!C36,General!$A$3:$A$103,0)),"") | G36: =IFERROR(INDEX(General!$B$3:$B$103,MATCH(Expo!C36,General!$A$3:$A$103,0)),"")
C37: {=IF(ROWS($1:35)<=COUNTIF(General!$E$3:$E$103,1),INDEX(General!$A$3:$A$103,SMALL(IF(General!$E$3:$E$103=1,ROW(INDIRECT("1:"&ROWS(General!$A$3:$A$103)))),ROWS($1:35))),"")} | E37: =IFERROR(INDEX(General!$C$3:$C$103,MATCH(Expo!C37,General!$A$3:$A$103,0)),"") | G37: =IFERROR(INDEX(General!$B$3:$B$103,MATCH(Expo!C37,General!$A$3:$A$103,0)),"")
C38: {=IF(ROWS($1:36)<=COUNTIF(General!$E$3:$E$103,1),INDEX(General!$A$3:$A$103,SMALL(IF(General!$E$3:$E$103=1,ROW(INDIRECT("1:"&ROWS(General!$A$3:$A$103)))),ROWS($1:36))),"")} | E38: =IFERROR(INDEX(General!$C$3:$C$103,MATCH(Expo!C38,General!$A$3:$A$103,0)),"") | G38: =IFERROR(INDEX(General!$B$3:$B$103,MATCH(Expo!C38,General!$A$3:$A$103,0)),"")
C39: {=IF(ROWS($1:37)<=COUNTIF(General!$E$3:$E$103,1),INDEX(General!$A$3:$A$103,SMALL(IF(General!$E$3:$E$103=1,ROW(INDIRECT("1:"&ROWS(General!$A$3:$A$103)))),ROWS($1:37))),"")} | E39: =IFERROR(INDEX(General!$C$3:$C$103,MATCH(Expo!C39,General!$A$3:$A$103,0)),"") | G39: =IFERROR(INDEX(General!$B$3:$B$103,MATCH(Expo!C39,General!$A$3:$A$103,0)),"")
C40: {=IF(ROWS($1:38)<=COUNTIF(General!$E$3:$E$103,1),INDEX(General!$A$3:$A$103,SMALL(IF(General!$E$3:$E$103=1,ROW(INDIRECT("1:"&ROWS(General!$A$3:$A$103)))),ROWS($1:38))),"")} | E40: =IFERROR(INDEX(General!$C$3:$C$103,MATCH(Expo!C40,General!$A$3:$A$103,0)),"") | G40: =IFERROR(INDEX(General!$B$3:$B$103,MATCH(Expo!C40,General!$A$3:$A$103,0)),"")
C41: {=IF(ROWS($1:39)<=COUNTIF(General!$E$3:$E$103,1),INDEX(General!$A$3:$A$103,SMALL(IF(General!$E$3:$E$103=1,ROW(INDIRECT("1:"&ROWS(General!$A$3:$A$103)))),ROWS($1:39))),"")} | E41: =IFERROR(INDEX(General!$C$3:$C$103,MATCH(Expo!C41,General!$A$3:$A$103,0)),"") | G41: =IFERROR(INDEX(General!$B$3:$B$103,MATCH(Expo!C41,General!$A$3:$A$103,0)),"")
C42: {=IF(ROWS($1:40)<=COUNTIF(General!$E$3:$E$103,1),INDEX(General!$A$3:$A$103,SMALL(IF(General!$E$3:$E$103=1,ROW(INDIRECT("1:"&ROWS(General!$A$3:$A$103)))),ROWS($1:40))),"")} | E42: =IFERROR(INDEX(General!$C$3:$C$103,MATCH(Expo!C42,General!$A$3:$A$103,0)),"") | G42: =IFERROR(INDEX(General!$B$3:$B$103,MATCH(Expo!C42,General!$A$3:$A$103,0)),"")
C43: {=IF(ROWS($1:41)<=COUNTIF(General!$E$3:$E$103,1),INDEX(General!$A$3:$A$103,SMALL(IF(General!$E$3:$E$103=1,ROW(INDIRECT("1:"&ROWS(General!$A$3:$A$103)))),ROWS($1:41))),"")} | E43: =IFERROR(INDEX(General!$C$3:$C$103,MATCH(Expo!C43,General!$A$3:$A$103,0)),"") | G43: =IFERROR(INDEX(General!$B$3:$B$103,MATCH(Expo!C43,General!$A$3:$A$103,0)),"")
C44: {=IF(ROWS($1:42)<=COUNTIF(General!$E$3:$E$103,1),INDEX(General!$A$3:$A$103,SMALL(IF(General!$E$3:$E$103=1,ROW(INDIRECT("1:"&ROWS(General!$A$3:$A$103)))),ROWS($1:42))),"")} | E44: =IFERROR(INDEX(General!$C$3:$C$103,MATCH(Expo!C44,General!$A$3:$A$103,0)),"") | G44: =IFERROR(INDEX(General!$B$3:$B$103,MATCH(Expo!C44,General!$A$3:$A$103,0)),"")
C45: {=IF(ROWS($1:43)<=COUNTIF(General!$E$3:$E$103,1),INDEX(General!$A$3:$A$103,SMALL(IF(General!$E$3:$E$103=1,ROW(INDIRECT("1:"&ROWS(General!$A$3:$A$103)))),ROWS($1:43))),"")} | E45: =IFERROR(INDEX(General!$C$3:$C$103,MATCH(Expo!C45,General!$A$3:$A$103,0)),"") | G45: =IFERROR(INDEX(General!$B$3:$B$103,MATCH(Expo!C45,General!$A$3:$A$103,0)),"")
C46: {=IF(ROWS($1:44)<=COUNTIF(General!$E$3:$E$103,1),INDEX(General!$A$3:$A$103,SMALL(IF(General!$E$3:$E$103=1,ROW(INDIRECT("1:"&ROWS(General!$A$3:$A$103)))),ROWS($1:44))),"")} | E46: =IFERROR(INDEX(General!$C$3:$C$103,MATCH(Expo!C46,General!$A$3:$A$103,0)),"") | G46: =IFERROR(INDEX(General!$B$3:$B$103,MATCH(Expo!C46,General!$A$3:$A$103,0)),"")
C47: {=IF(ROWS($1:45)<=COUNTIF(General!$E$3:$E$103,1),INDEX(General!$A$3:$A$103,SMALL(IF(General!$E$3:$E$103=1,ROW(INDIRECT("1:"&ROWS(General!$A$3:$A$103)))),ROWS($1:45))),"")} | E47: =IFERROR(INDEX(General!$C$3:$C$103,MATCH(Expo!C47,General!$A$3:$A$103,0)),"") | G47: =IFERROR(INDEX(General!$B$3:$B$103,MATCH(Expo!C47,General!$A$3:$A$103,0)),"")
C48: {=IF(ROWS($1:46)<=COUNTIF(General!$E$3:$E$103,1),INDEX(General!$A$3:$A$103,SMALL(IF(General!$E$3:$E$103=1,ROW(INDIRECT("1:"&ROWS(General!$A$3:$A$103)))),ROWS($1:46))),"")} | E48: =IFERROR(INDEX(General!$C$3:$C$103,MATCH(Expo!C48,General!$A$3:$A$103,0)),"") | G48: =IFERROR(INDEX(General!$B$3:$B$103,MATCH(Expo!C48,General!$A$3:$A$103,0)),"")
C49: {=IF(ROWS($1:47)<=COUNTIF(General!$E$3:$E$103,1),INDEX(General!$A$3:$A$103,SMALL(IF(General!$E$3:$E$103=1,ROW(INDIRECT("1:"&ROWS(General!$A$3:$A$103)))),ROWS($1:47))),"")} | E49: =IFERROR(INDEX(General!$C$3:$C$103,MATCH(Expo!C49,General!$A$3:$A$103,0)),"") | G49: =IFERROR(INDEX(General!$B$3:$B$103,MATCH(Expo!C49,General!$A$3:$A$103,0)),"")
C50: {=IF(ROWS($1:48)<=COUNTIF(General!$E$3:$E$103,1),INDEX(General!$A$3:$A$103,SMALL(IF(General!$E$3:$E$103=1,ROW(INDIRECT("1:"&ROWS(General!$A$3:$A$103)))),ROWS($1:48))),"")} | E50: =IFERROR(INDEX(General!$C$3:$C$103,MATCH(Expo!C50,General!$A$3:$A$103,0)),"") | G50: =IFERROR(INDEX(General!$B$3:$B$103,MATCH(Expo!C50,General!$A$3:$A$103,0)),"")
C51: {=IF(ROWS($1:49)<=COUNTIF(General!$E$3:$E$103,1),INDEX(General!$A$3:$A$103,SMALL(IF(General!$E$3:$E$103=1,ROW(INDIRECT("1:"&ROWS(General!$A$3:$A$103)))),ROWS($1:49))),"")} | E51: =IFERROR(INDEX(General!$C$3:$C$103,MATCH(Expo!C51,General!$A$3:$A$103,0)),"") | G51: =IFERROR(INDEX(General!$B$3:$B$103,MATCH(Expo!C51,General!$A$3:$A$103,0)),"")
C52: {=IF(ROWS($1:50)<=COUNTIF(General!$E$3:$E$103,1),INDEX(General!$A$3:$A$103,SMALL(IF(General!$E$3:$E$103=1,ROW(INDIRECT("1:"&ROWS(General!$A$3:$A$103)))),ROWS($1:50))),"")} | E52: =IFERROR(INDEX(General!$C$3:$C$103,MATCH(Expo!C52,General!$A$3:$A$103,0)),"") | G52: =IFERROR(INDEX(General!$B$3:$B$103,MATCH(Expo!C52,General!$A$3:$A$103,0)),"")
C53: {=IF(ROWS($1:51)<=COUNTIF(General!$E$3:$E$103,1),INDEX(General!$A$3:$A$103,SMALL(IF(General!$E$3:$E$103=1,ROW(INDIRECT("1:"&ROWS(General!$A$3:$A$103)))),ROWS($1:51))),"")} | E53: =IFERROR(INDEX(General!$C$3:$C$103,MATCH(Expo!C53,General!$A$3:$A$103,0)),"") | G53: =IFERROR(INDEX(General!$B$3:$B$103,MATCH(Expo!C53,General!$A$3:$A$103,0)),"")
C54: {=IF(ROWS($1:52)<=COUNTIF(General!$E$3:$E$103,1),INDEX(General!$A$3:$A$103,SMALL(IF(General!$E$3:$E$103=1,ROW(INDIRECT("1:"&ROWS(General!$A$3:$A$103)))),ROWS($1:52))),"")} | E54: =IFERROR(INDEX(General!$C$3:$C$103,MATCH(Expo!C54,General!$A$3:$A$103,0)),"") | G54: =IFERROR(INDEX(General!$B$3:$B$103,MATCH(Expo!C54,General!$A$3:$A$103,0)),"")
C55: {=IF(ROWS($1:53)<=COUNTIF(General!$E$3:$E$103,1),INDEX(General!$A$3:$A$103,SMALL(IF(General!$E$3:$E$103=1,ROW(INDIRECT("1:"&ROWS(General!$A$3:$A$103)))),ROWS($1:53))),"")} | E55: =IFERROR(INDEX(General!$C$3:$C$103,MATCH(Expo!C55,General!$A$3:$A$103,0)),"") | G55: =IFERROR(INDEX(General!$B$3:$B$103,MATCH(Expo!C55,General!$A$3:$A$103,0)),"")
C56: {=IF(ROWS($1:54)<=COUNTIF(General!$E$3:$E$103,1),INDEX(General!$A$3:$A$103,SMALL(IF(General!$E$3:$E$103=1,ROW(INDIRECT("1:"&ROWS(General!$A$3:$A$103)))),ROWS($1:54))),"")} | E56: =IFERROR(INDEX(General!$C$3:$C$103,MATCH(Expo!C56,General!$A$3:$A$103,0)),"") | G56: =IFERROR(INDEX(General!$B$3:$B$103,MATCH(Expo!C56,General!$A$3:$A$103,0)),"")
C57: {=IF(ROWS($1:55)<=COUNTIF(General!$E$3:$E$103,1),INDEX(General!$A$3:$A$103,SMALL(IF(General!$E$3:$E$103=1,ROW(INDIRECT("1:"&ROWS(General!$A$3:$A$103)))),ROWS($1:55))),"")} | E57: =IFERROR(INDEX(General!$C$3:$C$103,MATCH(Expo!C57,General!$A$3:$A$103,0)),"") | G57: =IFERROR(INDEX(General!$B$3:$B$103,MATCH(Expo!C57,General!$A$3:$A$103,0)),"")
C58: {=IF(ROWS($1:56)<=COUNTIF(General!$E$3:$E$103,1),INDEX(General!$A$3:$A$103,SMALL(IF(General!$E$3:$E$103=1,ROW(INDIRECT("1:"&ROWS(General!$A$3:$A$103)))),ROWS($1:56))),"")} | E58: =IFERROR(INDEX(General!$C$3:$C$103,MATCH(Expo!C58,General!$A$3:$A$103,0)),"") | G58: =IFERROR(INDEX(General!$B$3:$B$103,MATCH(Expo!C58,General!$A$3:$A$103,0)),"")
C59: {=IF(ROWS($1:57)<=COUNTIF(General!$E$3:$E$103,1),INDEX(General!$A$3:$A$103,SMALL(IF(General!$E$3:$E$103=1,ROW(INDIRECT("1:"&ROWS(General!$A$3:$A$103)))),ROWS($1:57))),"")} | E59: =IFERROR(INDEX(General!$C$3:$C$103,MATCH(Expo!C59,General!$A$3:$A$103,0)),"") | G59: =IFERROR(INDEX(General!$B$3:$B$103,MATCH(Expo!C59,General!$A$3:$A$103,0)),"")
C60: {=IF(ROWS($1:58)<=COUNTIF(General!$E$3:$E$103,1),INDEX(General!$A$3:$A$103,SMALL(IF(General!$E$3:$E$103=1,ROW(INDIRECT("1:"&ROWS(General!$A$3:$A$103)))),ROWS($1:58))),"")} | E60: =IFERROR(INDEX(General!$C$3:$C$103,MATCH(Expo!C60,General!$A$3:$A$103,0)),"") | G60: =IFERROR(INDEX(General!$B$3:$B$103,MATCH(Expo!C60,General!$A$3:$A$103,0)),"")
C61: {=IF(ROWS($1:59)<=COUNTIF(General!$E$3:$E$103,1),INDEX(General!$A$3:$A$103,SMALL(IF(General!$E$3:$E$103=1,ROW(INDIRECT("1:"&ROWS(General!$A$3:$A$103)))),ROWS($1:59))),"")} | E61: =IFERROR(INDEX(General!$C$3:$C$103,MATCH(Expo!C61,General!$A$3:$A$103,0)),"") | G61: =IFERROR(INDEX(General!$B$3:$B$103,MATCH(Expo!C61,General!$A$3:$A$103,0)),"")
C62: {=IF(ROWS($1:60)<=COUNTIF(General!$E$3:$E$103,1),INDEX(General!$A$3:$A$103,SMALL(IF(General!$E$3:$E$103=1,ROW(INDIRECT("1:"&ROWS(General!$A$3:$A$103)))),ROWS($1:60))),"")} | E62: =IFERROR(INDEX(General!$C$3:$C$103,MATCH(Expo!C62,General!$A$3:$A$103,0)),"") | G62: =IFERROR(INDEX(General!$B$3:$B$103,MATCH(Expo!C62,General!$A$3:$A$103,0)),"")
C63: {=IF(ROWS($1:61)<=COUNTIF(General!$E$3:$E$103,1),INDEX(General!$A$3:$A$103,SMALL(IF(General!$E$3:$E$103=1,ROW(INDIRECT("1:"&ROWS(General!$A$3:$A$103)))),ROWS($1:61))),"")} | E63: =IFERROR(INDEX(General!$C$3:$C$103,MATCH(Expo!C63,General!$A$3:$A$103,0)),"") | G63: =IFERROR(INDEX(General!$B$3:$B$103,MATCH(Expo!C63,General!$A$3:$A$103,0)),"")
C64: {=IF(ROWS($1:62)<=COUNTIF(General!$E$3:$E$103,1),INDEX(General!$A$3:$A$103,SMALL(IF(General!$E$3:$E$103=1,ROW(INDIRECT("1:"&ROWS(General!$A$3:$A$103)))),ROWS($1:62))),"")} | E64: =IFERROR(INDEX(General!$C$3:$C$103,MATCH(Expo!C64,General!$A$3:$A$103,0)),"") | G64: =IFERROR(INDEX(General!$B$3:$B$103,MATCH(Expo!C64,General!$A$3:$A$103,0)),"")
C65: {=IF(ROWS($1:63)<=COUNTIF(General!$E$3:$E$103,1),INDEX(General!$A$3:$A$103,SMALL(IF(General!$E$3:$E$103=1,ROW(INDIRECT("1:"&ROWS(General!$A$3:$A$103)))),ROWS($1:63))),"")} | E65: =IFERROR(INDEX(General!$C$3:$C$103,MATCH(Expo!C65,General!$A$3:$A$103,0)),"") | G65: =IFERROR(INDEX(General!$B$3:$B$103,MATCH(Expo!C65,General!$A$3:$A$103,0)),"")
C66: {=IF(ROWS($1:64)<=COUNTIF(General!$E$3:$E$103,1),INDEX(General!$A$3:$A$103,SMALL(IF(General!$E$3:$E$103=1,ROW(INDIRECT("1:"&ROWS(General!$A$3:$A$103)))),ROWS($1:64))),"")} | E66: =IFERROR(INDEX(General!$C$3:$C$103,MATCH(Expo!C66,General!$A$3:$A$103,0)),"") | G66: =IFERROR(INDEX(General!$B$3:$B$103,MATCH(Expo!C66,General!$A$3:$A$103,0)),"")
C67: {=IF(ROWS($1:65)<=COUNTIF(General!$E$3:$E$103,1),INDEX(General!$A$3:$A$103,SMALL(IF(General!$E$3:$E$103=1,ROW(INDIRECT("1:"&ROWS(General!$A$3:$A$103)))),ROWS($1:65))),"")} | E67: =IFERROR(INDEX(General!$C$3:$C$103,MATCH(Expo!C67,General!$A$3:$A$103,0)),"") | G67: =IFERROR(INDEX(General!$B$3:$B$103,MATCH(Expo!C67,General!$A$3:$A$103,0)),"")
C68: {=IF(ROWS($1:66)<=COUNTIF(General!$E$3:$E$103,1),INDEX(General!$A$3:$A$103,SMALL(IF(General!$E$3:$E$103=1,ROW(INDIRECT("1:"&ROWS(General!$A$3:$A$103)))),ROWS($1:66))),"")} | E68: =IFERROR(INDEX(General!$C$3:$C$103,MATCH(Expo!C68,General!$A$3:$A$103,0)),"") | G68: =IFERROR(INDEX(General!$B$3:$B$103,MATCH(Expo!C68,General!$A$3:$A$103,0)),"")
C69: {=IF(ROWS($1:67)<=COUNTIF(General!$E$3:$E$103,1),INDEX(General!$A$3:$A$103,SMALL(IF(General!$E$3:$E$103=1,ROW(INDIRECT("1:"&ROWS(General!$A$3:$A$103)))),ROWS($1:67))),"")} | E69: =IFERROR(INDEX(General!$C$3:$C$103,MATCH(Expo!C69,General!$A$3:$A$103,0)),"") | G69: =IFERROR(INDEX(General!$B$3:$B$103,MATCH(Expo!C69,General!$A$3:$A$103,0)),"")
C70: {=IF(ROWS($1:68)<=COUNTIF(General!$E$3:$E$103,1),INDEX(General!$A$3:$A$103,SMALL(IF(General!$E$3:$E$103=1,ROW(INDIRECT("1:"&ROWS(General!$A$3:$A$103)))),ROWS($1:68))),"")} | E70: =IFERROR(INDEX(General!$C$3:$C$103,MATCH(Expo!C70,General!$A$3:$A$103,0)),"") | G70: =IFERROR(INDEX(General!$B$3:$B$103,MATCH(Expo!C70,General!$A$3:$A$103,0)),"")
C71: {=IF(ROWS($1:69)<=COUNTIF(General!$E$3:$E$103,1),INDEX(General!$A$3:$A$103,SMALL(IF(General!$E$3:$E$103=1,ROW(INDIRECT("1:"&ROWS(General!$A$3:$A$103)))),ROWS($1:69))),"")} | E71: =IFERROR(INDEX(General!$C$3:$C$103,MATCH(Expo!C71,General!$A$3:$A$103,0)),"") | G71: =IFERROR(INDEX(General!$B$3:$B$103,MATCH(Expo!C71,General!$A$3:$A$103,0)),"")
C72: {=IF(ROWS($1:70)<=COUNTIF(General!$E$3:$E$103,1),INDEX(General!$A$3:$A$103,SMALL(IF(General!$E$3:$E$103=1,ROW(INDIRECT("1:"&ROWS(General!$A$3:$A$103)))),ROWS($1:70))),"")} | E72: =IFERROR(INDEX(General!$C$3:$C$103,MATCH(Expo!C72,General!$A$3:$A$103,0)),"") | G72: =IFERROR(INDEX(General!$B$3:$B$103,MATCH(Expo!C72,General!$A$3:$A$103,0)),"")
C73: {=IF(ROWS($1:71)<=COUNTIF(General!$E$3:$E$103,1),INDEX(General!$A$3:$A$103,SMALL(IF(General!$E$3:$E$103=1,ROW(INDIRECT("1:"&ROWS(General!$A$3:$A$103)))),ROWS($1:71))),"")} | E73: =IFERROR(INDEX(General!$C$3:$C$103,MATCH(Expo!C73,General!$A$3:$A$103,0)),"") | G73: =IFERROR(INDEX(General!$B$3:$B$103,MATCH(Expo!C73,General!$A$3:$A$103,0)),"")
C74: {=IF(ROWS($1:72)<=COUNTIF(General!$E$3:$E$103,1),INDEX(General!$A$3:$A$103,SMALL(IF(General!$E$3:$E$103=1,ROW(INDIRECT("1:"&ROWS(General!$A$3:$A$103)))),ROWS($1:72))),"")} | E74: =IFERROR(INDEX(General!$C$3:$C$103,MATCH(Expo!C74,General!$A$3:$A$103,0)),"") | G74: =IFERROR(INDEX(General!$B$3:$B$103,MATCH(Expo!C74,General!$A$3:$A$103,0)),"")
C75: {=IF(ROWS($1:73)<=COUNTIF(General!$E$3:$E$103,1),INDEX(General!$A$3:$A$103,SMALL(IF(General!$E$3:$E$103=1,ROW(INDIRECT("1:"&ROWS(General!$A$3:$A$103)))),ROWS($1:73))),"")} | E75: =IFERROR(INDEX(General!$C$3:$C$103,MATCH(Expo!C75,General!$A$3:$A$103,0)),"") | G75: =IFERROR(INDEX(General!$B$3:$B$103,MATCH(Expo!C75,General!$A$3:$A$103,0)),"")
C76: {=IF(ROWS($1:74)<=COUNTIF(General!$E$3:$E$103,1),INDEX(General!$A$3:$A$103,SMALL(IF(General!$E$3:$E$103=1,ROW(INDIRECT("1:"&ROWS(General!$A$3:$A$103)))),ROWS($1:74))),"")} | E76: =IFERROR(INDEX(General!$C$3:$C$103,MATCH(Expo!C76,General!$A$3:$A$103,0)),"") | G76: =IFERROR(INDEX(General!$B$3:$B$103,MATCH(Expo!C76,General!$A$3:$A$103,0)),"")
C77: {=IF(ROWS($1:75)<=COUNTIF(General!$E$3:$E$103,1),INDEX(General!$A$3:$A$103,SMALL(IF(General!$E$3:$E$103=1,ROW(INDIRECT("1:"&ROWS(General!$A$3:$A$103)))),ROWS($1:75))),"")} | E77: =IFERROR(INDEX(General!$C$3:$C$103,MATCH(Expo!C77,General!$A$3:$A$103,0)),"") | G77: =IFERROR(INDEX(General!$B$3:$B$103,MATCH(Expo!C77,General!$A$3:$A$103,0)),"")
C78: {=IF(ROWS($1:76)<=COUNTIF(General!$E$3:$E$103,1),INDEX(General!$A$3:$A$103,SMALL(IF(General!$E$3:$E$103=1,ROW(INDIRECT("1:"&ROWS(General!$A$3:$A$103)))),ROWS($1:76))),"")} | E78: =IFERROR(INDEX(General!$C$3:$C$103,MATCH(Expo!C78,General!$A$3:$A$103,0)),"") | G78: =IFERROR(INDEX(General!$B$3:$B$103,MATCH(Expo!C78,General!$A$3:$A$103,0)),"")
C79: {=IF(ROWS($1:77)<=COUNTIF(General!$E$3:$E$103,1),INDEX(General!$A$3:$A$103,SMALL(IF(General!$E$3:$E$103=1,ROW(INDIRECT("1:"&ROWS(General!$A$3:$A$103)))),ROWS($1:77))),"")} | E79: =IFERROR(INDEX(General!$C$3:$C$103,MATCH(Expo!C79,General!$A$3:$A$103,0)),"") | G79: =IFERROR(INDEX(General!$B$3:$B$103,MATCH(Expo!C79,General!$A$3:$A$103,0)),"")
C80: {=IF(ROWS($1:78)<=COUNTIF(General!$E$3:$E$103,1),INDEX(General!$A$3:$A$103,SMALL(IF(General!$E$3:$E$103=1,ROW(INDIRECT("1:"&ROWS(General!$A$3:$A$103)))),ROWS($1:78))),"")} | E80: =IFERROR(INDEX(General!$C$3:$C$103,MATCH(Expo!C80,General!$A$3:$A$103,0)),"") | G80: =IFERROR(INDEX(General!$B$3:$B$103,MATCH(Expo!C80,General!$A$3:$A$103,0)),"")
C81: {=IF(ROWS($1:79)<=COUNTIF(General!$E$3:$E$103,1),INDEX(General!$A$3:$A$103,SMALL(IF(General!$E$3:$E$103=1,ROW(INDIRECT("1:"&ROWS(General!$A$3:$A$103)))),ROWS($1:79))),"")} | E81: =IFERROR(INDEX(General!$C$3:$C$103,MATCH(Expo!C81,General!$A$3:$A$103,0)),"") | G81: =IFERROR(INDEX(General!$B$3:$B$103,MATCH(Expo!C81,General!$A$3:$A$103,0)),"")
C82: {=IF(ROWS($1:80)<=COUNTIF(General!$E$3:$E$103,1),INDEX(General!$A$3:$A$103,SMALL(IF(General!$E$3:$E$103=1,ROW(INDIRECT("1:"&ROWS(General!$A$3:$A$103)))),ROWS($1:80))),"")} | E82: =IFERROR(INDEX(General!$C$3:$C$103,MATCH(Expo!C82,General!$A$3:$A$103,0)),"") | G82: =IFERROR(INDEX(General!$B$3:$B$103,MATCH(Expo!C82,General!$A$3:$A$103,0)),"")
C83: {=IF(ROWS($1:81)<=COUNTIF(General!$E$3:$E$103,1),INDEX(General!$A$3:$A$103,SMALL(IF(General!$E$3:$E$103=1,ROW(INDIRECT("1:"&ROWS(General!$A$3:$A$103)))),ROWS($1:81))),"")} | E83: =IFERROR(INDEX(General!$C$3:$C$103,MATCH(Expo!C83,General!$A$3:$A$103,0)),"") | G83: =IFERROR(INDEX(General!$B$3:$B$103,MATCH(Expo!C83,General!$A$3:$A$103,0)),"")
C84: {=IF(ROWS($1:82)<=COUNTIF(General!$E$3:$E$103,1),INDEX(General!$A$3:$A$103,SMALL(IF(General!$E$3:$E$103=1,ROW(INDIRECT("1:"&ROWS(General!$A$3:$A$103)))),ROWS($1:82))),"")} | E84: =IFERROR(INDEX(General!$C$3:$C$103,MATCH(Expo!C84,General!$A$3:$A$103,0)),"") | G84: =IFERROR(INDEX(General!$B$3:$B$103,MATCH(Expo!C84,General!$A$3:$A$103,0)),"")
C85: {=IF(ROWS($1:83)<=COUNTIF(General!$E$3:$E$103,1),INDEX(General!$A$3:$A$103,SMALL(IF(General!$E$3:$E$103=1,ROW(INDIRECT("1:"&ROWS(General!$A$3:$A$103)))),ROWS($1:83))),"")} | E85: =IFERROR(INDEX(General!$C$3:$C$103,MATCH(Expo!C85,General!$A$3:$A$103,0)),"") | G85: =IFERROR(INDEX(General!$B$3:$B$103,MATCH(Expo!C85,General!$A$3:$A$103,0)),"")
C86: {=IF(ROWS($1:84)<=COUNTIF(General!$E$3:$E$103,1),INDEX(General!$A$3:$A$103,SMALL(IF(General!$E$3:$E$103=1,ROW(INDIRECT("1:"&ROWS(General!$A$3:$A$103)))),ROWS($1:84))),"")} | E86: =IFERROR(INDEX(General!$C$3:$C$103,MATCH(Expo!C86,General!$A$3:$A$103,0)),"") | G86: =IFERROR(INDEX(General!$B$3:$B$103,MATCH(Expo!C86,General!$A$3:$A$103,0)),"")
C87: {=IF(ROWS($1:85)<=COUNTIF(General!$E$3:$E$103,1),INDEX(General!$A$3:$A$103,SMALL(IF(General!$E$3:$E$103=1,ROW(INDIRECT("1:"&ROWS(General!$A$3:$A$103)))),ROWS($1:85))),"")} | E87: =IFERROR(INDEX(General!$C$3:$C$103,MATCH(Expo!C87,General!$A$3:$A$103,0)),"") | G87: =IFERROR(INDEX(General!$B$3:$B$103,MATCH(Expo!C87,General!$A$3:$A$103,0)),"")
C88: {=IF(ROWS($1:86)<=COUNTIF(General!$E$3:$E$103,1),INDEX(General!$A$3:$A$103,SMALL(IF(General!$E$3:$E$103=1,ROW(INDIRECT("1:"&ROWS(General!$A$3:$A$103)))),ROWS($1:86))),"")} | E88: =IFERROR(INDEX(General!$C$3:$C$103,MATCH(Expo!C88,General!$A$3:$A$103,0)),"") | G88: =IFERROR(INDEX(General!$B$3:$B$103,MATCH(Expo!C88,General!$A$3:$A$103,0)),"")
C89: {=IF(ROWS($1:87)<=COUNTIF(General!$E$3:$E$103,1),INDEX(General!$A$3:$A$103,SMALL(IF(General!$E$3:$E$103=1,ROW(INDIRECT("1:"&ROWS(General!$A$3:$A$103)))),ROWS($1:87))),"")} | E89: =IFERROR(INDEX(General!$C$3:$C$103,MATCH(Expo!C89,General!$A$3:$A$103,0)),"") | G89: =IFERROR(INDEX(General!$B$3:$B$103,MATCH(Expo!C89,General!$A$3:$A$103,0)),"")
C90: {=IF(ROWS($1:88)<=COUNTIF(General!$E$3:$E$103,1),INDEX(General!$A$3:$A$103,SMALL(IF(General!$E$3:$E$103=1,ROW(INDIRECT("1:"&ROWS(General!$A$3:$A$103)))),ROWS($1:88))),"")} | E90: =IFERROR(INDEX(General!$C$3:$C$103,MATCH(Expo!C90,General!$A$3:$A$103,0)),"") | G90: =IFERROR(INDEX(General!$B$3:$B$103,MATCH(Expo!C90,General!$A$3:$A$103,0)),"")
C91: {=IF(ROWS($1:89)<=COUNTIF(General!$E$3:$E$103,1),INDEX(General!$A$3:$A$103,SMALL(IF(General!$E$3:$E$103=1,ROW(INDIRECT("1:"&ROWS(General!$A$3:$A$103)))),ROWS($1:89))),"")} | E91: =IFERROR(INDEX(General!$C$3:$C$103,MATCH(Expo!C91,General!$A$3:$A$103,0)),"") | G91: =IFERROR(INDEX(General!$B$3:$B$103,MATCH(Expo!C91,General!$A$3:$A$103,0)),"")
C92: {=IF(ROWS($1:90)<=COUNTIF(General!$E$3:$E$103,1),INDEX(General!$A$3:$A$103,SMALL(IF(General!$E$3:$E$103=1,ROW(INDIRECT("1:"&ROWS(General!$A$3:$A$103)))),ROWS($1:90))),"")} | E92: =IFERROR(INDEX(General!$C$3:$C$103,MATCH(Expo!C92,General!$A$3:$A$103,0)),"") | G92: =IFERROR(INDEX(General!$B$3:$B$103,MATCH(Expo!C92,General!$A$3:$A$103,0)),"")
C93: {=IF(ROWS($1:91)<=COUNTIF(General!$E$3:$E$103,1),INDEX(General!$A$3:$A$103,SMALL(IF(General!$E$3:$E$103=1,ROW(INDIRECT("1:"&ROWS(General!$A$3:$A$103)))),ROWS($1:91))),"")} | E93: =IFERROR(INDEX(General!$C$3:$C$103,MATCH(Expo!C93,General!$A$3:$A$103,0)),"") | G93: =IFERROR(INDEX(General!$B$3:$B$103,MATCH(Expo!C93,General!$A$3:$A$103,0)),"")
C94: {=IF(ROWS($1:92)<=COUNTIF(General!$E$3:$E$103,1),INDEX(General!$A$3:$A$103,SMALL(IF(General!$E$3:$E$103=1,ROW(INDIRECT("1:"&ROWS(General!$A$3:$A$103)))),ROWS($1:92))),"")} | E94: =IFERROR(INDEX(General!$C$3:$C$103,MATCH(Expo!C94,General!$A$3:$A$103,0)),"") | G94: =IFERROR(INDEX(General!$B$3:$B$103,MATCH(Expo!C94,General!$A$3:$A$103,0)),"")
C95: {=IF(ROWS($1:93)<=COUNTIF(General!$E$3:$E$103,1),INDEX(General!$A$3:$A$103,SMALL(IF(General!$E$3:$E$103=1,ROW(INDIRECT("1:"&ROWS(General!$A$3:$A$103)))),ROWS($1:93))),"")} | E95: =IFERROR(INDEX(General!$C$3:$C$103,MATCH(Expo!C95,General!$A$3:$A$103,0)),"") | G95: =IFERROR(INDEX(General!$B$3:$B$103,MATCH(Expo!C95,General!$A$3:$A$103,0)),"")
C96: {=IF(ROWS($1:94)<=COUNTIF(General!$E$3:$E$103,1),INDEX(General!$A$3:$A$103,SMALL(IF(General!$E$3:$E$103=1,ROW(INDIRECT("1:"&ROWS(General!$A$3:$A$103)))),ROWS($1:94))),"")} | E96: =IFERROR(INDEX(General!$C$3:$C$103,MATCH(Expo!C96,General!$A$3:$A$103,0)),"") | G96: =IFERROR(INDEX(General!$B$3:$B$103,MATCH(Expo!C96,General!$A$3:$A$103,0)),"")
C97: {=IF(ROWS($1:95)<=COUNTIF(General!$E$3:$E$103,1),INDEX(General!$A$3:$A$103,SMALL(IF(General!$E$3:$E$103=1,ROW(INDIRECT("1:"&ROWS(General!$A$3:$A$103)))),ROWS($1:95))),"")} | E97: =IFERROR(INDEX(General!$C$3:$C$103,MATCH(Expo!C97,General!$A$3:$A$103,0)),"") | G97: =IFERROR(INDEX(General!$B$3:$B$103,MATCH(Expo!C97,General!$A$3:$A$103,0)),"")
C98: {=IF(ROWS($1:96)<=COUNTIF(General!$E$3:$E$103,1),INDEX(General!$A$3:$A$103,SMALL(IF(General!$E$3:$E$103=1,ROW(INDIRECT("1:"&ROWS(General!$A$3:$A$103)))),ROWS($1:96))),"")} | E98: =IFERROR(INDEX(General!$C$3:$C$103,MATCH(Expo!C98,General!$A$3:$A$103,0)),"") | G98: =IFERROR(INDEX(General!$B$3:$B$103,MATCH(Expo!C98,General!$A$3:$A$103,0)),"")
C99: {=IF(ROWS($1:97)<=COUNTIF(General!$E$3:$E$103,1),INDEX(General!$A$3:$A$103,SMALL(IF(General!$E$3:$E$103=1,ROW(INDIRECT("1:"&ROWS(General!$A$3:$A$103)))),ROWS($1:97))),"")} | E99: =IFERROR(INDEX(General!$C$3:$C$103,MATCH(Expo!C99,General!$A$3:$A$103,0)),"") | G99: =IFERROR(INDEX(General!$B$3:$B$103,MATCH(Expo!C99,General!$A$3:$A$103,0)),"")
C100: {=IF(ROWS($1:98)<=COUNTIF(General!$E$3:$E$103,1),INDEX(General!$A$3:$A$103,SMALL(IF(General!$E$3:$E$103=1,ROW(INDIRECT("1:"&ROWS(General!$A$3:$A$103)))),ROWS($1:98))),"")} | E100: =IFERROR(INDEX(General!$C$3:$C$103,MATCH(Expo!C100,General!$A$3:$A$103,0)),"") | G100: =IFERROR(INDEX(General!$B$3:$B$103,MATCH(Expo!C100,General!$A$3:$A$103,0)),"")
C101: {=IF(ROWS($1:99)<=COUNTIF(General!$E$3:$E$103,1),INDEX(General!$A$3:$A$103,SMALL(IF(General!$E$3:$E$103=1,ROW(INDIRECT("1:"&ROWS(General!$A$3:$A$103)))),ROWS($1:99))),"")} | E101: =IFERROR(INDEX(General!$C$3:$C$103,MATCH(Expo!C101,General!$A$3:$A$103,0)),"") | G101: =IFERROR(INDEX(General!$B$3:$B$103,MATCH(Expo!C101,General!$A$3:$A$103,0)),"")
...

Sheet Atelier
A1: INTERESSE POUR ATELIER | C1: NOM | E1: MAIL | G1: TELEPHONE
C3: {=IF(ROWS($1:1)<=COUNTIF(General!$F$3:$F$103,1),INDEX(General!$A$3:$A$103,SMALL(IF(General!$F$3:$F$103=1,ROW(INDIRECT("1:"&ROWS(General!$A$3:$A$103)))),ROWS($1:1))),"")} -> Adrien Testas | E3: =IFERROR(INDEX(General!$C$3:$C$103,MATCH(Atelier!C3,General!$A$3:$A$103,0)),"") -> adrien.testas@live.fr | G3: =IFERROR(INDEX(General!$B$3:$B$103,MATCH(Atelier!C3,General!$A$3:$A$103,0)),"") -> 789200542
C4: {=IF(ROWS($1:2)<=COUNTIF(General!$F$3:$F$103,1),INDEX(General!$A$3:$A$103,SMALL(IF(General!$F$3:$F$103=1,ROW(INDIRECT("1:"&ROWS(General!$A$3:$A$103)))),ROWS($1:2))),"")} | E4: =IFERROR(INDEX(General!$C$3:$C$103,MATCH(Atelier!C4,General!$A$3:$A$103,0)),"") | G4: =IFERROR(INDEX(General!$B$3:$B$103,MATCH(Atelier!C4,General!$A$3:$A$103,0)),"")
C5: {=IF(ROWS($1:3)<=COUNTIF(General!$F$3:$F$103,1),INDEX(General!$A$3:$A$103,SMALL(IF(General!$F$3:$F$103=1,ROW(INDIRECT("1:"&ROWS(General!$A$3:$A$103)))),ROWS($1:3))),"")} | E5: =IFERROR(INDEX(General!$C$3:$C$103,MATCH(Atelier!C5,General!$A$3:$A$103,0)),"") | G5: =IFERROR(INDEX(General!$B$3:$B$103,MATCH(Atelier!C5,General!$A$3:$A$103,0)),"")
C6: {=IF(ROWS($1:4)<=COUNTIF(General!$F$3:$F$103,1),INDEX(General!$A$3:$A$103,SMALL(IF(General!$F$3:$F$103=1,ROW(INDIRECT("1:"&ROWS(General!$A$3:$A$103)))),ROWS($1:4))),"")} | E6: =IFERROR(INDEX(General!$C$3:$C$103,MATCH(Atelier!C6,General!$A$3:$A$103,0)),"") | G6: =IFERROR(INDEX(General!$B$3:$B$103,MATCH(Atelier!C6,General!$A$3:$A$103,0)),"")
C7: {=IF(ROWS($1:5)<=COUNTIF(General!$F$3:$F$103,1),INDEX(General!$A$3:$A$103,SMALL(IF(General!$F$3:$F$103=1,ROW(INDIRECT("1:"&ROWS(General!$A$3:$A$103)))),ROWS($1:5))),"")} | E7: =IFERROR(INDEX(General!$C$3:$C$103,MATCH(Atelier!C7,General!$A$3:$A$103,0)),"") | G7: =IFERROR(INDEX(General!$B$3:$B$103,MATCH(Atelier!C7,General!$A$3:$A$103,0)),"")
C8: {=IF(ROWS($1:6)<=COUNTIF(General!$F$3:$F$103,1),INDEX(General!$A$3:$A$103,SMALL(IF(General!$F$3:$F$103=1,ROW(INDIRECT("1:"&ROWS(General!$A$3:$A$103)))),ROWS($1:6))),"")} | E8: =IFERROR(INDEX(General!$C$3:$C$103,MATCH(Atelier!C8,General!$A$3:$A$103,0)),"") | G8: =IFERROR(INDEX(General!$B$3:$B$103,MATCH(Atelier!C8,General!$A$3:$A$103,0)),"")
C9: {=IF(ROWS($1:7)<=COUNTIF(General!$F$3:$F$103,1),INDEX(General!$A$3:$A$103,SMALL(IF(General!$F$3:$F$103=1,ROW(INDIRECT("1:"&ROWS(General!$A$3:$A$103)))),ROWS($1:7))),"")} | E9: =IFERROR(INDEX(General!$C$3:$C$103,MATCH(Atelier!C9,General!$A$3:$A$103,0)),"") | G9: =IFERROR(INDEX(General!$B$3:$B$103,MATCH(Atelier!C9,General!$A$3:$A$103,0)),"")
C10: {=IF(ROWS($1:8)<=COUNTIF(General!$F$3:$F$103,1),INDEX(General!$A$3:$A$103,SMALL(IF(General!$F$3:$F$103=1,ROW(INDIRECT("1:"&ROWS(General!$A$3:$A$103)))),ROWS($1:8))),"")} | E10: =IFERROR(INDEX(General!$C$3:$C$103,MATCH(Atelier!C10,General!$A$3:$A$103,0)),"") | G10: =IFERROR(INDEX(General!$B$3:$B$103,MATCH(Atelier!C10,General!$A$3:$A$103,0)),"")
C11: {=IF(ROWS($1:9)<=COUNTIF(General!$F$3:$F$103,1),INDEX(General!$A$3:$A$103,SMALL(IF(General!$F$3:$F$103=1,ROW(INDIRECT("1:"&ROWS(General!$A$3:$A$103)))),ROWS($1:9))),"")} | E11: =IFERROR(INDEX(General!$C$3:$C$103,MATCH(Atelier!C11,General!$A$3:$A$103,0)),"") | G11: =IFERROR(INDEX(General!$B$3:$B$103,MATCH(Atelier!C11,General!$A$3:$A$103,0)),"")
C12: {=IF(ROWS($1:10)<=COUNTIF(General!$F$3:$F$103,1),INDEX(General!$A$3:$A$103,SMALL(IF(General!$F$3:$F$103=1,ROW(INDIRECT("1:"&ROWS(General!$A$3:$A$103)))),ROWS($1:10))),"")} | E12: =IFERROR(INDEX(General!$C$3:$C$103,MATCH(Atelier!C12,General!$A$3:$A$103,0)),"") | G12: =IFERROR(INDEX(General!$B$3:$B$103,MATCH(Atelier!C12,General!$A$3:$A$103,0)),"")
C13: {=IF(ROWS($1:11)<=COUNTIF(General!$F$3:$F$103,1),INDEX(General!$A$3:$A$103,SMALL(IF(General!$F$3:$F$103=1,ROW(INDIRECT("1:"&ROWS(General!$A$3:$A$103)))),ROWS($1:11))),"")} | E13: =IFERROR(INDEX(General!$C$3:$C$103,MATCH(Atelier!C13,General!$A$3:$A$103,0)),"") | G13: =IFERROR(INDEX(General!$B$3:$B$103,MATCH(Atelier!C13,General!$A$3:$A$103,0)),"")
C14: {=IF(ROWS($1:12)<=COUNTIF(General!$F$3:$F$103,1),INDEX(General!$A$3:$A$103,SMALL(IF(General!$F$3:$F$103=1,ROW(INDIRECT("1:"&ROWS(General!$A$3:$A$103)))),ROWS($1:12))),"")} | E14: =IFERROR(INDEX(General!$C$3:$C$103,MATCH(Atelier!C14,General!$A$3:$A$103,0)),"") | G14: =IFERROR(INDEX(General!$B$3:$B$103,MATCH(Atelier!C14,General!$A$3:$A$103,0)),"")
C15: {=IF(ROWS($1:13)<=COUNTIF(General!$F$3:$F$103,1),INDEX(General!$A$3:$A$103,SMALL(IF(General!$F$3:$F$103=1,ROW(INDIRECT("1:"&ROWS(General!$A$3:$A$103)))),ROWS($1:13))),"")} | E15: =IFERROR(INDEX(General!$C$3:$C$103,MATCH(Atelier!C15,General!$A$3:$A$103,0)),"") | G15: =IFERROR(INDEX(General!$B$3:$B$103,MATCH(Atelier!C15,General!$A$3:$A$103,0)),"")
C16: {=IF(ROWS($1:14)<=COUNTIF(General!$F$3:$F$103,1),INDEX(General!$A$3:$A$103,SMALL(IF(General!$F$3:$F$103=1,ROW(INDIRECT("1:"&ROWS(General!$A$3:$A$103)))),ROWS($1:14))),"")} | E16: =IFERROR(INDEX(General!$C$3:$C$103,MATCH(Atelier!C16,General!$A$3:$A$103,0)),"") | G16: =IFERROR(INDEX(General!$B$3:$B$103,MATCH(Atelier!C16,General!$A$3:$A$103,0)),"")
C17: {=IF(ROWS($1:15)<=COUNTIF(General!$F$3:$F$103,1),INDEX(General!$A$3:$A$103,SMALL(IF(General!$F$3:$F$103=1,ROW(INDIRECT("1:"&ROWS(General!$A$3:$A$103)))),ROWS($1:15))),"")} | E17: =IFERROR(INDEX(General!$C$3:$C$103,MATCH(Atelier!C17,General!$A$3:$A$103,0)),"") | G17: =IFERROR(INDEX(General!$B$3:$B$103,MATCH(Atelier!C17,General!$A$3:$A$103,0)),"")
C18: {=IF(ROWS($1:16)<=COUNTIF(General!$F$3:$F$103,1),INDEX(General!$A$3:$A$103,SMALL(IF(General!$F$3:$F$103=1,ROW(INDIRECT("1:"&ROWS(General!$A$3:$A$103)))),ROWS($1:16))),"")} | E18: =IFERROR(INDEX(General!$C$3:$C$103,MATCH(Atelier!C18,General!$A$3:$A$103,0)),"") | G18: =IFERROR(INDEX(General!$B$3:$B$103,MATCH(Atelier!C18,General!$A$3:$A$103,0)),"")
C19: {=IF(ROWS($1:17)<=COUNTIF(General!$F$3:$F$103,1),INDEX(General!$A$3:$A$103,SMALL(IF(General!$F$3:$F$103=1,ROW(INDIRECT("1:"&ROWS(General!$A$3:$A$103)))),ROWS($1:17))),"")} | E19: =IFERROR(INDEX(General!$C$3:$C$103,MATCH(Atelier!C19,General!$A$3:$A$103,0)),"") | G19: =IFERROR(INDEX(General!$B$3:$B$103,MATCH(Atelier!C19,General!$A$3:$A$103,0)),"")
C20: {=IF(ROWS($1:18)<=COUNTIF(General!$F$3:$F$103,1),INDEX(General!$A$3:$A$103,SMALL(IF(General!$F$3:$F$103=1,ROW(INDIRECT("1:"&ROWS(General!$A$3:$A$103)))),ROWS($1:18))),"")} | E20: =IFERROR(INDEX(General!$C$3:$C$103,MATCH(Atelier!C20,General!$A$3:$A$103,0)),"") | G20: =IFERROR(INDEX(General!$B$3:$B$103,MATCH(Atelier!C20,General!$A$3:$A$103,0)),"")
C21: {=IF(ROWS($1:19)<=COUNTIF(General!$F$3:$F$103,1),INDEX(General!$A$3:$A$103,SMALL(IF(General!$F$3:$F$103=1,ROW(INDIRECT("1:"&ROWS(General!$A$3:$A$103)))),ROWS($1:19))),"")} | E21: =IFERROR(INDEX(General!$C$3:$C$103,MATCH(Atelier!C21,General!$A$3:$A$103,0)),"") | G21: =IFERROR(INDEX(General!$B$3:$B$103,MATCH(Atelier!C21,General!$A$3:$A$103,0)),"")
C22: {=IF(ROWS($1:20)<=COUNTIF(General!$F$3:$F$103,1),INDEX(General!$A$3:$A$103,SMALL(IF(General!$F$3:$F$103=1,ROW(INDIRECT("1:"&ROWS(General!$A$3:$A$103)))),ROWS($1:20))),"")} | E22: =IFERROR(INDEX(General!$C$3:$C$103,MATCH(Atelier!C22,General!$A$3:$A$103,0)),"") | G22: =IFERROR(INDEX(General!$B$3:$B$103,MATCH(Atelier!C22,General!$A$3:$A$103,0)),"")
C23: {=IF(ROWS($1:21)<=COUNTIF(General!$F$3:$F$103,1),INDEX(General!$A$3:$A$103,SMALL(IF(General!$F$3:$F$103=1,ROW(INDIRECT("1:"&ROWS(General!$A$3:$A$103)))),ROWS($1:21))),"")} | E23: =IFERROR(INDEX(General!$C$3:$C$103,MATCH(Atelier!C23,General!$A$3:$A$103,0)),"") | G23: =IFERROR(INDEX(General!$B$3:$B$103,MATCH(Atelier!C23,General!$A$3:$A$103,0)),"")
C24: {=IF(ROWS($1:22)<=COUNTIF(General!$F$3:$F$103,1),INDEX(General!$A$3:$A$103,SMALL(IF(General!$F$3:$F$103=1,ROW(INDIRECT("1:"&ROWS(General!$A$3:$A$103)))),ROWS($1:22))),"")} | E24: =IFERROR(INDEX(General!$C$3:$C$103,MATCH(Atelier!C24,General!$A$3:$A$103,0)),"") | G24: =IFERROR(INDEX(General!$B$3:$B$103,MATCH(Atelier!C24,General!$A$3:$A$103,0)),"")
C25: {=IF(ROWS($1:23)<=COUNTIF(General!$F$3:$F$103,1),INDEX(General!$A$3:$A$103,SMALL(IF(General!$F$3:$F$103=1,ROW(INDIRECT("1:"&ROWS(General!$A$3:$A$103)))),ROWS($1:23))),"")} | E25: =IFERROR(INDEX(General!$C$3:$C$103,MATCH(Atelier!C25,General!$A$3:$A$103,0)),"") | G25: =IFERROR(INDEX(General!$B$3:$B$103,MATCH(Atelier!C25,General!$A$3:$A$103,0)),"")
C26: {=IF(ROWS($1:24)<=COUNTIF(General!$F$3:$F$103,1),INDEX(General!$A$3:$A$103,SMALL(IF(General!$F$3:$F$103=1,ROW(INDIRECT("1:"&ROWS(General!$A$3:$A$103)))),ROWS($1:24))),"")} | E26: =IFERROR(INDEX(General!$C$3:$C$103,MATCH(Atelier!C26,General!$A$3:$A$103,0)),"") | G26: =IFERROR(INDEX(General!$B$3:$B$103,MATCH(Atelier!C26,General!$A$3:$A$103,0)),"")
C27: {=IF(ROWS($1:25)<=COUNTIF(General!$F$3:$F$103,1),INDEX(General!$A$3:$A$103,SMALL(IF(General!$F$3:$F$103=1,ROW(INDIRECT("1:"&ROWS(General!$A$3:$A$103)))),ROWS($1:25))),"")} | E27: =IFERROR(INDEX(General!$C$3:$C$103,MATCH(Atelier!C27,General!$A$3:$A$103,0)),"") | G27: =IFERROR(INDEX(General!$B$3:$B$103,MATCH(Atelier!C27,General!$A$3:$A$103,0)),"")
C28: {=IF(ROWS($1:26)<=COUNTIF(General!$F$3:$F$103,1),INDEX(General!$A$3:$A$103,SMALL(IF(General!$F$3:$F$103=1,ROW(INDIRECT("1:"&ROWS(General!$A$3:$A$103)))),ROWS($1:26))),"")} | E28: =IFERROR(INDEX(General!$C$3:$C$103,MATCH(Atelier!C28,General!$A$3:$A$103,0)),"") | G28: =IFERROR(INDEX(General!$B$3:$B$103,MATCH(Atelier!C28,General!$A$3:$A$103,0)),"")
C29: {=IF(ROWS($1:27)<=COUNTIF(General!$F$3:$F$103,1),INDEX(General!$A$3:$A$103,SMALL(IF(General!$F$3:$F$103=1,ROW(INDIRECT("1:"&ROWS(General!$A$3:$A$103)))),ROWS($1:27))),"")} | E29: =IFERROR(INDEX(General!$C$3:$C$103,MATCH(Atelier!C29,General!$A$3:$A$103,0)),"") | G29: =IFERROR(INDEX(General!$B$3:$B$103,MATCH(Atelier!C29,General!$A$3:$A$103,0)),"")
C30: {=IF(ROWS($1:28)<=COUNTIF(General!$F$3:$F$103,1),INDEX(General!$A$3:$A$103,SMALL(IF(General!$F$3:$F$103=1,ROW(INDIRECT("1:"&ROWS(General!$A$3:$A$103)))),ROWS($1:28))),"")} | E30: =IFERROR(INDEX(General!$C$3:$C$103,MATCH(Atelier!C30,General!$A$3:$A$103,0)),"") | G30: =IFERROR(INDEX(General!$B$3:$B$103,MATCH(Atelier!C30,General!$A$3:$A$103,0)),"")
C31: {=IF(ROWS($1:29)<=COUNTIF(General!$F$3:$F$103,1),INDEX(General!$A$3:$A$103,SMALL(IF(General!$F$3:$F$103=1,ROW(INDIRECT("1:"&ROWS(General!$A$3:$A$103)))),ROWS($1:29))),"")} | E31: =IFERROR(INDEX(General!$C$3:$C$103,MATCH(Atelier!C31,General!$A$3:$A$103,0)),"") | G31: =IFERROR(INDEX(General!$B$3:$B$103,MATCH(Atelier!C31,General!$A$3:$A$103,0)),"")
C32: {=IF(ROWS($1:30)<=COUNTIF(General!$F$3:$F$103,1),INDEX(General!$A$3:$A$103,SMALL(IF(General!$F$3:$F$103=1,ROW(INDIRECT("1:"&ROWS(General!$A$3:$A$103)))),ROWS($1:30))),"")} | E32: =IFERROR(INDEX(General!$C$3:$C$103,MATCH(Atelier!C32,General!$A$3:$A$103,0)),"") | G32: =IFERROR(INDEX(General!$B$3:$B$103,MATCH(Atelier!C32,General!$A$3:$A$103,0)),"")
C33: {=IF(ROWS($1:31)<=COUNTIF(General!$F$3:$F$103,1),INDEX(General!$A$3:$A$103,SMALL(IF(General!$F$3:$F$103=1,ROW(INDIRECT("1:"&ROWS(General!$A$3:$A$103)))),ROWS($1:31))),"")} | E33: =IFERROR(INDEX(General!$C$3:$C$103,MATCH(Atelier!C33,General!$A$3:$A$103,0)),"") | G33: =IFERROR(INDEX(General!$B$3:$B$103,MATCH(Atelier!C33,General!$A$3:$A$103,0)),"")
C34: {=IF(ROWS($1:32)<=COUNTIF(General!$F$3:$F$103,1),INDEX(General!$A$3:$A$103,SMALL(IF(General!$F$3:$F$103=1,ROW(INDIRECT("1:"&ROWS(General!$A$3:$A$103)))),ROWS($1:32))),"")} | E34: =IFERROR(INDEX(General!$C$3:$C$103,MATCH(Atelier!C34,General!$A$3:$A$103,0)),"") | G34: =IFERROR(INDEX(General!$B$3:$B$103,MATCH(Atelier!C34,General!$A$3:$A$103,0)),"")
C35: {=IF(ROWS($1:33)<=COUNTIF(General!$F$3:$F$103,1),INDEX(General!$A$3:$A$103,SMALL(IF(General!$F$3:$F$103=1,ROW(INDIRECT("1:"&ROWS(General!$A$3:$A$103)))),ROWS($1:33))),"")} | E35: =IFERROR(INDEX(General!$C$3:$C$103,MATCH(Atelier!C35,General!$A$3:$A$103,0)),"") | G35: =IFERROR(INDEX(General!$B$3:$B$103,MATCH(Atelier!C35,General!$A$3:$A$103,0)),"")
C36: {=IF(ROWS($1:34)<=COUNTIF(General!$F$3:$F$103,1),INDEX(General!$A$3:$A$103,SMALL(IF(General!$F$3:$F$103=1,ROW(INDIRECT("1:"&ROWS(General!$A$3:$A$103)))),ROWS($1:34))),"")} | E36: =IFERROR(INDEX(General!$C$3:$C$103,MATCH(Atelier!C36,General!$A$3:$A$103,0)),"") | G36: =IFERROR(INDEX(General!$B$3:$B$103,MATCH(Atelier!C36,General!$A$3:$A$103,0)),"")
C37: {=IF(ROWS($1:35)<=COUNTIF(General!$F$3:$F$103,1),INDEX(General!$A$3:$A$103,SMALL(IF(General!$F$3:$F$103=1,ROW(INDIRECT("1:"&ROWS(General!$A$3:$A$103)))),ROWS($1:35))),"")} | E37: =IFERROR(INDEX(General!$C$3:$C$103,MATCH(Atelier!C37,General!$A$3:$A$103,0)),"") | G37: =IFERROR(INDEX(General!$B$3:$B$103,MATCH(Atelier!C37,General!$A$3:$A$103,0)),"")
C38: {=IF(ROWS($1:36)<=COUNTIF(General!$F$3:$F$103,1),INDEX(General!$A$3:$A$103,SMALL(IF(General!$F$3:$F$103=1,ROW(INDIRECT("1:"&ROWS(General!$A$3:$A$103)))),ROWS($1:36))),"")} | E38: =IFERROR(INDEX(General!$C$3:$C$103,MATCH(Atelier!C38,General!$A$3:$A$103,0)),"") | G38: =IFERROR(INDEX(General!$B$3:$B$103,MATCH(Atelier!C38,General!$A$3:$A$103,0)),"")
C39: {=IF(ROWS($1:37)<=COUNTIF(General!$F$3:$F$103,1),INDEX(General!$A$3:$A$103,SMALL(IF(General!$F$3:$F$103=1,ROW(INDIRECT("1:"&ROWS(General!$A$3:$A$103)))),ROWS($1:37))),"")} | E39: =IFERROR(INDEX(General!$C$3:$C$103,MATCH(Atelier!C39,General!$A$3:$A$103,0)),"") | G39: =IFERROR(INDEX(General!$B$3:$B$103,MATCH(Atelier!C39,General!$A$3:$A$103,0)),"")
C40: {=IF(ROWS($1:38)<=COUNTIF(General!$F$3:$F$103,1),INDEX(General!$A$3:$A$103,SMALL(IF(General!$F$3:$F$103=1,ROW(INDIRECT("1:"&ROWS(General!$A$3:$A$103)))),ROWS($1:38))),"")} | E40: =IFERROR(INDEX(General!$C$3:$C$103,MATCH(Atelier!C40,General!$A$3:$A$103,0)),"") | G40: =IFERROR(INDEX(General!$B$3:$B$103,MATCH(Atelier!C40,General!$A$3:$A$103,0)),"")
C41: {=IF(ROWS($1:39)<=COUNTIF(General!$F$3:$F$103,1),INDEX(General!$A$3:$A$103,SMALL(IF(General!$F$3:$F$103=1,ROW(INDIRECT("1:"&ROWS(General!$A$3:$A$103)))),ROWS($1:39))),"")} | E41: =IFERROR(INDEX(General!$C$3:$C$103,MATCH(Atelier!C41,General!$A$3:$A$103,0)),"") | G41: =IFERROR(INDEX(General!$B$3:$B$103,MATCH(Atelier!C41,General!$A$3:$A$103,0)),"")
C42: {=IF(ROWS($1:40)<=COUNTIF(General!$F$3:$F$103,1),INDEX(General!$A$3:$A$103,SMALL(IF(General!$F$3:$F$103=1,ROW(INDIRECT("1:"&ROWS(General!$A$3:$A$103)))),ROWS($1:40))),"")} | E42: =IFERROR(INDEX(General!$C$3:$C$103,MATCH(Atelier!C42,General!$A$3:$A$103,0)),"") | G42: =IFERROR(INDEX(General!$B$3:$B$103,MATCH(Atelier!C42,General!$A$3:$A$103,0)),"")
C43: {=IF(ROWS($1:41)<=COUNTIF(General!$F$3:$F$103,1),INDEX(General!$A$3:$A$103,SMALL(IF(General!$F$3:$F$103=1,ROW(INDIRECT("1:"&ROWS(General!$A$3:$A$103)))),ROWS($1:41))),"")} | E43: =IFERROR(INDEX(General!$C$3:$C$103,MATCH(Atelier!C43,General!$A$3:$A$103,0)),"") | G43: =IFERROR(INDEX(General!$B$3:$B$103,MATCH(Atelier!C43,General!$A$3:$A$103,0)),"")
C44: {=IF(ROWS($1:42)<=COUNTIF(General!$F$3:$F$103,1),INDEX(General!$A$3:$A$103,SMALL(IF(General!$F$3:$F$103=1,ROW(INDIRECT("1:"&ROWS(General!$A$3:$A$103)))),ROWS($1:42))),"")} | E44: =IFERROR(INDEX(General!$C$3:$C$103,MATCH(Atelier!C44,General!$A$3:$A$103,0)),"") | G44: =IFERROR(INDEX(General!$B$3:$B$103,MATCH(Atelier!C44,General!$A$3:$A$103,0)),"")
C45: {=IF(ROWS($1:43)<=COUNTIF(General!$F$3:$F$103,1),INDEX(General!$A$3:$A$103,SMALL(IF(General!$F$3:$F$103=1,ROW(INDIRECT("1:"&ROWS(General!$A$3:$A$103)))),ROWS($1:43))),"")} | E45: =IFERROR(INDEX(General!$C$3:$C$103,MATCH(Atelier!C45,General!$A$3:$A$103,0)),"") | G45: =IFERROR(INDEX(General!$B$3:$B$103,MATCH(Atelier!C45,General!$A$3:$A$103,0)),"")
C46: {=IF(ROWS($1:44)<=COUNTIF(General!$F$3:$F$103,1),INDEX(General!$A$3:$A$103,SMALL(IF(General!$F$3:$F$103=1,ROW(INDIRECT("1:"&ROWS(General!$A$3:$A$103)))),ROWS($1:44))),"")} | E46: =IFERROR(INDEX(General!$C$3:$C$103,MATCH(Atelier!C46,General!$A$3:$A$103,0)),"") | G46: =IFERROR(INDEX(General!$B$3:$B$103,MATCH(Atelier!C46,General!$A$3:$A$103,0)),"")
C47: {=IF(ROWS($1:45)<=COUNTIF(General!$F$3:$F$103,1),INDEX(General!$A$3:$A$103,SMALL(IF(General!$F$3:$F$103=1,ROW(INDIRECT("1:"&ROWS(General!$A$3:$A$103)))),ROWS($1:45))),"")} | E47: =IFERROR(INDEX(General!$C$3:$C$103,MATCH(Atelier!C47,General!$A$3:$A$103,0)),"") | G47: =IFERROR(INDEX(General!$B$3:$B$103,MATCH(Atelier!C47,General!$A$3:$A$103,0)),"")
C48: {=IF(ROWS($1:46)<=COUNTIF(General!$F$3:$F$103,1),INDEX(General!$A$3:$A$103,SMALL(IF(General!$F$3:$F$103=1,ROW(INDIRECT("1:"&ROWS(General!$A$3:$A$103)))),ROWS($1:46))),"")} | E48: =IFERROR(INDEX(General!$C$3:$C$103,MATCH(Atelier!C48,General!$A$3:$A$103,0)),"") | G48: =IFERROR(INDEX(General!$B$3:$B$103,MATCH(Atelier!C48,General!$A$3:$A$103,0)),"")
C49: {=IF(ROWS($1:47)<=COUNTIF(General!$F$3:$F$103,1),INDEX(General!$A$3:$A$103,SMALL(IF(General!$F$3:$F$103=1,ROW(INDIRECT("1:"&ROWS(General!$A$3:$A$103)))),ROWS($1:47))),"")} | E49: =IFERROR(INDEX(General!$C$3:$C$103,MATCH(Atelier!C49,General!$A$3:$A$103,0)),"") | G49: =IFERROR(INDEX(General!$B$3:$B$103,MATCH(Atelier!C49,General!$A$3:$A$103,0)),"")
C50: {=IF(ROWS($1:48)<=COUNTIF(General!$F$3:$F$103,1),INDEX(General!$A$3:$A$103,SMALL(IF(General!$F$3:$F$103=1,ROW(INDIRECT("1:"&ROWS(General!$A$3:$A$103)))),ROWS($1:48))),"")} | E50: =IFERROR(INDEX(General!$C$3:$C$103,MATCH(Atelier!C50,General!$A$3:$A$103,0)),"") | G50: =IFERROR(INDEX(General!$B$3:$B$103,MATCH(Atelier!C50,General!$A$3:$A$103,0)),"")
C51: {=IF(ROWS($1:49)<=COUNTIF(General!$F$3:$F$103,1),INDEX(General!$A$3:$A$103,SMALL(IF(General!$F$3:$F$103=1,ROW(INDIRECT("1:"&ROWS(General!$A$3:$A$103)))),ROWS($1:49))),"")} | E51: =IFERROR(INDEX(General!$C$3:$C$103,MATCH(Atelier!C51,General!$A$3:$A$103,0)),"") | G51: =IFERROR(INDEX(General!$B$3:$B$103,MATCH(Atelier!C51,General!$A$3:$A$103,0)),"")
C52: {=IF(ROWS($1:50)<=COUNTIF(General!$F$3:$F$103,1),INDEX(General!$A$3:$A$103,SMALL(IF(General!$F$3:$F$103=1,ROW(INDIRECT("1:"&ROWS(General!$A$3:$A$103)))),ROWS($1:50))),"")} | E52: =IFERROR(INDEX(General!$C$3:$C$103,MATCH(Atelier!C52,General!$A$3:$A$103,0)),"") | G52: =IFERROR(INDEX(General!$B$3:$B$103,MATCH(Atelier!C52,General!$A$3:$A$103,0)),"")
C53: {=IF(ROWS($1:51)<=COUNTIF(General!$F$3:$F$103,1),INDEX(General!$A$3:$A$103,SMALL(IF(General!$F$3:$F$103=1,ROW(INDIRECT("1:"&ROWS(General!$A$3:$A$103)))),ROWS($1:51))),"")} | E53: =IFERROR(INDEX(General!$C$3:$C$103,MATCH(Atelier!C53,General!$A$3:$A$103,0)),"") | G53: =IFERROR(INDEX(General!$B$3:$B$103,MATCH(Atelier!C53,General!$A$3:$A$103,0)),"")
C54: {=IF(ROWS($1:52)<=COUNTIF(General!$F$3:$F$103,1),INDEX(General!$A$3:$A$103,SMALL(IF(General!$F$3:$F$103=1,ROW(INDIRECT("1:"&ROWS(General!$A$3:$A$103)))),ROWS($1:52))),"")} | E54: =IFERROR(INDEX(General!$C$3:$C$103,MATCH(Atelier!C54,General!$A$3:$A$103,0)),"") | G54: =IFERROR(INDEX(General!$B$3:$B$103,MATCH(Atelier!C54,General!$A$3:$A$103,0)),"")
C55: {=IF(ROWS($1:53)<=COUNTIF(General!$F$3:$F$103,1),INDEX(General!$A$3:$A$103,SMALL(IF(General!$F$3:$F$103=1,ROW(INDIRECT("1:"&ROWS(General!$A$3:$A$103)))),ROWS($1:53))),"")} | E55: =IFERROR(INDEX(General!$C$3:$C$103,MATCH(Atelier!C55,General!$A$3:$A$103,0)),"") | G55: =IFERROR(INDEX(General!$B$3:$B$103,MATCH(Atelier!C55,General!$A$3:$A$103,0)),"")
C56: {=IF(ROWS($1:54)<=COUNTIF(General!$F$3:$F$103,1),INDEX(General!$A$3:$A$103,SMALL(IF(General!$F$3:$F$103=1,ROW(INDIRECT("1:"&ROWS(General!$A$3:$A$103)))),ROWS($1:54))),"")} | E56: =IFERROR(INDEX(General!$C$3:$C$103,MATCH(Atelier!C56,General!$A$3:$A$103,0)),"") | G56: =IFERROR(INDEX(General!$B$3:$B$103,MATCH(Atelier!C56,General!$A$3:$A$103,0)),"")
C57: {=IF(ROWS($1:55)<=COUNTIF(General!$F$3:$F$103,1),INDEX(General!$A$3:$A$103,SMALL(IF(General!$F$3:$F$103=1,ROW(INDIRECT("1:"&ROWS(General!$A$3:$A$103)))),ROWS($1:55))),"")} | E57: =IFERROR(INDEX(General!$C$3:$C$103,MATCH(Atelier!C57,General!$A$3:$A$103,0)),"") | G57: =IFERROR(INDEX(General!$B$3:$B$103,MATCH(Atelier!C57,General!$A$3:$A$103,0)),"")
C58: {=IF(ROWS($1:56)<=COUNTIF(General!$F$3:$F$103,1),INDEX(General!$A$3:$A$103,SMALL(IF(General!$F$3:$F$103=1,ROW(INDIRECT("1:"&ROWS(General!$A$3:$A$103)))),ROWS($1:56))),"")} | E58: =IFERROR(INDEX(General!$C$3:$C$103,MATCH(Atelier!C58,General!$A$3:$A$103,0)),"") | G58: =IFERROR(INDEX(General!$B$3:$B$103,MATCH(Atelier!C58,General!$A$3:$A$103,0)),"")
C59: {=IF(ROWS($1:57)<=COUNTIF(General!$F$3:$F$103,1),INDEX(General!$A$3:$A$103,SMALL(IF(General!$F$3:$F$103=1,ROW(INDIRECT("1:"&ROWS(General!$A$3:$A$103)))),ROWS($1:57))),"")} | E59: =IFERROR(INDEX(General!$C$3:$C$103,MATCH(Atelier!C59,General!$A$3:$A$103,0)),"") | G59: =IFERROR(INDEX(General!$B$3:$B$103,MATCH(Atelier!C59,General!$A$3:$A$103,0)),"")
C60: {=IF(ROWS($1:58)<=COUNTIF(General!$F$3:$F$103,1),INDEX(General!$A$3:$A$103,SMALL(IF(General!$F$3:$F$103=1,ROW(INDIRECT("1:"&ROWS(General!$A$3:$A$103)))),ROWS($1:58))),"")} | E60: =IFERROR(INDEX(General!$C$3:$C$103,MATCH(Atelier!C60,General!$A$3:$A$103,0)),"") | G60: =IFERROR(INDEX(General!$B$3:$B$103,MATCH(Atelier!C60,General!$A$3:$A$103,0)),"")
C61: {=IF(ROWS($1:59)<=COUNTIF(General!$F$3:$F$103,1),INDEX(General!$A$3:$A$103,SMALL(IF(General!$F$3:$F$103=1,ROW(INDIRECT("1:"&ROWS(General!$A$3:$A$103)))),ROWS($1:59))),"")} | E61: =IFERROR(INDEX(General!$C$3:$C$103,MATCH(Atelier!C61,General!$A$3:$A$103,0)),"") | G61: =IFERROR(INDEX(General!$B$3:$B$103,MATCH(Atelier!C61,General!$A$3:$A$103,0)),"")
C62: {=IF(ROWS($1:60)<=COUNTIF(General!$F$3:$F$103,1),INDEX(General!$A$3:$A$103,SMALL(IF(General!$F$3:$F$103=1,ROW(INDIRECT("1:"&ROWS(General!$A$3:$A$103)))),ROWS($1:60))),"")} | E62: =IFERROR(INDEX(General!$C$3:$C$103,MATCH(Atelier!C62,General!$A$3:$A$103,0)),"") | G62: =IFERROR(INDEX(General!$B$3:$B$103,MATCH(Atelier!C62,General!$A$3:$A$103,0)),"")
C63: {=IF(ROWS($1:61)<=COUNTIF(General!$F$3:$F$103,1),INDEX(General!$A$3:$A$103,SMALL(IF(General!$F$3:$F$103=1,ROW(INDIRECT("1:"&ROWS(General!$A$3:$A$103)))),ROWS($1:61))),"")} | E63: =IFERROR(INDEX(General!$C$3:$C$103,MATCH(Atelier!C63,General!$A$3:$A$103,0)),"") | G63: =IFERROR(INDEX(General!$B$3:$B$103,MATCH(Atelier!C63,General!$A$3:$A$103,0)),"")
C64: {=IF(ROWS($1:62)<=COUNTIF(General!$F$3:$F$103,1),INDEX(General!$A$3:$A$103,SMALL(IF(General!$F$3:$F$103=1,ROW(INDIRECT("1:"&ROWS(General!$A$3:$A$103)))),ROWS($1:62))),"")} | E64: =IFERROR(INDEX(General!$C$3:$C$103,MATCH(Atelier!C64,General!$A$3:$A$103,0)),"") | G64: =IFERROR(INDEX(General!$B$3:$B$103,MATCH(Atelier!C64,General!$A$3:$A$103,0)),"")
C65: {=IF(ROWS($1:63)<=COUNTIF(General!$F$3:$F$103,1),INDEX(General!$A$3:$A$103,SMALL(IF(General!$F$3:$F$103=1,ROW(INDIRECT("1:"&ROWS(General!$A$3:$A$103)))),ROWS($1:63))),"")} | E65: =IFERROR(INDEX(General!$C$3:$C$103,MATCH(Atelier!C65,General!$A$3:$A$103,0)),"") | G65: =IFERROR(INDEX(General!$B$3:$B$103,MATCH(Atelier!C65,General!$A$3:$A$103,0)),"")
C66: {=IF(ROWS($1:64)<=COUNTIF(General!$F$3:$F$103,1),INDEX(General!$A$3:$A$103,SMALL(IF(General!$F$3:$F$103=1,ROW(INDIRECT("1:"&ROWS(General!$A$3:$A$103)))),ROWS($1:64))),"")} | E66: =IFERROR(INDEX(General!$C$3:$C$103,MATCH(Atelier!C66,General!$A$3:$A$103,0)),"") | G66: =IFERROR(INDEX(General!$B$3:$B$103,MATCH(Atelier!C66,General!$A$3:$A$103,0)),"")
C67: {=IF(ROWS($1:65)<=COUNTIF(General!$F$3:$F$103,1),INDEX(General!$A$3:$A$103,SMALL(IF(General!$F$3:$F$103=1,ROW(INDIRECT("1:"&ROWS(General!$A$3:$A$103)))),ROWS($1:65))),"")} | E67: =IFERROR(INDEX(General!$C$3:$C$103,MATCH(Atelier!C67,General!$A$3:$A$103,0)),"") | G67: =IFERROR(INDEX(General!$B$3:$B$103,MATCH(Atelier!C67,General!$A$3:$A$103,0)),"")
C68: {=IF(ROWS($1:66)<=COUNTIF(General!$F$3:$F$103,1),INDEX(General!$A$3:$A$103,SMALL(IF(General!$F$3:$F$103=1,ROW(INDIRECT("1:"&ROWS(General!$A$3:$A$103)))),ROWS($1:66))),"")} | E68: =IFERROR(INDEX(General!$C$3:$C$103,MATCH(Atelier!C68,General!$A$3:$A$103,0)),"") | G68: =IFERROR(INDEX(General!$B$3:$B$103,MATCH(Atelier!C68,General!$A$3:$A$103,0)),"")
C69: {=IF(ROWS($1:67)<=COUNTIF(General!$F$3:$F$103,1),INDEX(General!$A$3:$A$103,SMALL(IF(General!$F$3:$F$103=1,ROW(INDIRECT("1:"&ROWS(General!$A$3:$A$103)))),ROWS($1:67))),"")} | E69: =IFERROR(INDEX(General!$C$3:$C$103,MATCH(Atelier!C69,General!$A$3:$A$103,0)),"") | G69: =IFERROR(INDEX(General!$B$3:$B$103,MATCH(Atelier!C69,General!$A$3:$A$103,0)),"")
C70: {=IF(ROWS($1:68)<=COUNTIF(General!$F$3:$F$103,1),INDEX(General!$A$3:$A$103,SMALL(IF(General!$F$3:$F$103=1,ROW(INDIRECT("1:"&ROWS(General!$A$3:$A$103)))),ROWS($1:68))),"")} | E70: =IFERROR(INDEX(General!$C$3:$C$103,MATCH(Atelier!C70,General!$A$3:$A$103,0)),"") | G70: =IFERROR(INDEX(General!$B$3:$B$103,MATCH(Atelier!C70,General!$A$3:$A$103,0)),"")
C71: {=IF(ROWS($1:69)<=COUNTIF(General!$F$3:$F$103,1),INDEX(General!$A$3:$A$103,SMALL(IF(General!$F$3:$F$103=1,ROW(INDIRECT("1:"&ROWS(General!$A$3:$A$103)))),ROWS($1:69))),"")} | E71: =IFERROR(INDEX(General!$C$3:$C$103,MATCH(Atelier!C71,General!$A$3:$A$103,0)),"") | G71: =IFERROR(INDEX(General!$B$3:$B$103,MATCH(Atelier!C71,General!$A$3:$A$103,0)),"")
C72: {=IF(ROWS($1:70)<=COUNTIF(General!$F$3:$F$103,1),INDEX(General!$A$3:$A$103,SMALL(IF(General!$F$3:$F$103=1,ROW(INDIRECT("1:"&ROWS(General!$A$3:$A$103)))),ROWS($1:70))),"")} | E72: =IFERROR(INDEX(General!$C$3:$C$103,MATCH(Atelier!C72,General!$A$3:$A$103,0)),"") | G72: =IFERROR(INDEX(General!$B$3:$B$103,MATCH(Atelier!C72,General!$A$3:$A$103,0)),"")
C73: {=IF(ROWS($1:71)<=COUNTIF(General!$F$3:$F$103,1),INDEX(General!$A$3:$A$103,SMALL(IF(General!$F$3:$F$103=1,ROW(INDIRECT("1:"&ROWS(General!$A$3:$A$103)))),ROWS($1:71))),"")} | E73: =IFERROR(INDEX(General!$C$3:$C$103,MATCH(Atelier!C73,General!$A$3:$A$103,0)),"") | G73: =IFERROR(INDEX(General!$B$3:$B$103,MATCH(Atelier!C73,General!$A$3:$A$103,0)),"")
C74: {=IF(ROWS($1:72)<=COUNTIF(General!$F$3:$F$103,1),INDEX(General!$A$3:$A$103,SMALL(IF(General!$F$3:$F$103=1,ROW(INDIRECT("1:"&ROWS(General!$A$3:$A$103)))),ROWS($1:72))),"")} | E74: =IFERROR(INDEX(General!$C$3:$C$103,MATCH(Atelier!C74,General!$A$3:$A$103,0)),"") | G74: =IFERROR(INDEX(General!$B$3:$B$103,MATCH(Atelier!C74,General!$A$3:$A$103,0)),"")
C75: {=IF(ROWS($1:73)<=COUNTIF(General!$F$3:$F$103,1),INDEX(General!$A$3:$A$103,SMALL(IF(General!$F$3:$F$103=1,ROW(INDIRECT("1:"&ROWS(General!$A$3:$A$103)))),ROWS($1:73))),"")} | E75: =IFERROR(INDEX(General!$C$3:$C$103,MATCH(Atelier!C75,General!$A$3:$A$103,0)),"") | G75: =IFERROR(INDEX(General!$B$3:$B$103,MATCH(Atelier!C75,General!$A$3:$A$103,0)),"")
C76: {=IF(ROWS($1:74)<=COUNTIF(General!$F$3:$F$103,1),INDEX(General!$A$3:$A$103,SMALL(IF(General!$F$3:$F$103=1,ROW(INDIRECT("1:"&ROWS(General!$A$3:$A$103)))),ROWS($1:74))),"")} | E76: =IFERROR(INDEX(General!$C$3:$C$103,MATCH(Atelier!C76,General!$A$3:$A$103,0)),"") | G76: =IFERROR(INDEX(General!$B$3:$B$103,MATCH(Atelier!C76,General!$A$3:$A$103,0)),"")
C77: {=IF(ROWS($1:75)<=COUNTIF(General!$F$3:$F$103,1),INDEX(General!$A$3:$A$103,SMALL(IF(General!$F$3:$F$103=1,ROW(INDIRECT("1:"&ROWS(General!$A$3:$A$103)))),ROWS($1:75))),"")} | E77: =IFERROR(INDEX(General!$C$3:$C$103,MATCH(Atelier!C77,General!$A$3:$A$103,0)),"") | G77: =IFERROR(INDEX(General!$B$3:$B$103,MATCH(Atelier!C77,General!$A$3:$A$103,0)),"")
C78: {=IF(ROWS($1:76)<=COUNTIF(General!$F$3:$F$103,1),INDEX(General!$A$3:$A$103,SMALL(IF(General!$F$3:$F$103=1,ROW(INDIRECT("1:"&ROWS(General!$A$3:$A$103)))),ROWS($1:76))),"")} | E78: =IFERROR(INDEX(General!$C$3:$C$103,MATCH(Atelier!C78,General!$A$3:$A$103,0)),"") | G78: =IFERROR(INDEX(General!$B$3:$B$103,MATCH(Atelier!C78,General!$A$3:$A$103,0)),"")
C79: {=IF(ROWS($1:77)<=COUNTIF(General!$F$3:$F$103,1),INDEX(General!$A$3:$A$103,SMALL(IF(General!$F$3:$F$103=1,ROW(INDIRECT("1:"&ROWS(General!$A$3:$A$103)))),ROWS($1:77))),"")} | E79: =IFERROR(INDEX(General!$C$3:$C$103,MATCH(Atelier!C79,General!$A$3:$A$103,0)),"") | G79: =IFERROR(INDEX(General!$B$3:$B$103,MATCH(Atelier!C79,General!$A$3:$A$103,0)),"")
C80: {=IF(ROWS($1:78)<=COUNTIF(General!$F$3:$F$103,1),INDEX(General!$A$3:$A$103,SMALL(IF(General!$F$3:$F$103=1,ROW(INDIRECT("1:"&ROWS(General!$A$3:$A$103)))),ROWS($1:78))),"")} | E80: =IFERROR(INDEX(General!$C$3:$C$103,MATCH(Atelier!C80,General!$A$3:$A$103,0)),"") | G80: =IFERROR(INDEX(General!$B$3:$B$103,MATCH(Atelier!C80,General!$A$3:$A$103,0)),"")
C81: {=IF(ROWS($1:79)<=COUNTIF(General!$F$3:$F$103,1),INDEX(General!$A$3:$A$103,SMALL(IF(General!$F$3:$F$103=1,ROW(INDIRECT("1:"&ROWS(General!$A$3:$A$103)))),ROWS($1:79))),"")} | E81: =IFERROR(INDEX(General!$C$3:$C$103,MATCH(Atelier!C81,General!$A$3:$A$103,0)),"") | G81: =IFERROR(INDEX(General!$B$3:$B$103,MATCH(Atelier!C81,General!$A$3:$A$103,0)),"")
C82: {=IF(ROWS($1:80)<=COUNTIF(General!$F$3:$F$103,1),INDEX(General!$A$3:$A$103,SMALL(IF(General!$F$3:$F$103=1,ROW(INDIRECT("1:"&ROWS(General!$A$3:$A$103)))),ROWS($1:80))),"")} | E82: =IFERROR(INDEX(General!$C$3:$C$103,MATCH(Atelier!C82,General!$A$3:$A$103,0)),"") | G82: =IFERROR(INDEX(General!$B$3:$B$103,MATCH(Atelier!C82,General!$A$3:$A$103,0)),"")
C83: {=IF(ROWS($1:81)<=COUNTIF(General!$F$3:$F$103,1),INDEX(General!$A$3:$A$103,SMALL(IF(General!$F$3:$F$103=1,ROW(INDIRECT("1:"&ROWS(General!$A$3:$A$103)))),ROWS($1:81))),"")} | E83: =IFERROR(INDEX(General!$C$3:$C$103,MATCH(Atelier!C83,General!$A$3:$A$103,0)),"") | G83: =IFERROR(INDEX(General!$B$3:$B$103,MATCH(Atelier!C83,General!$A$3:$A$103,0)),"")
C84: {=IF(ROWS($1:82)<=COUNTIF(General!$F$3:$F$103,1),INDEX(General!$A$3:$A$103,SMALL(IF(General!$F$3:$F$103=1,ROW(INDIRECT("1:"&ROWS(General!$A$3:$A$103)))),ROWS($1:82))),"")} | E84: =IFERROR(INDEX(General!$C$3:$C$103,MATCH(Atelier!C84,General!$A$3:$A$103,0)),"") | G84: =IFERROR(INDEX(General!$B$3:$B$103,MATCH(Atelier!C84,General!$A$3:$A$103,0)),"")
C85: {=IF(ROWS($1:83)<=COUNTIF(General!$F$3:$F$103,1),INDEX(General!$A$3:$A$103,SMALL(IF(General!$F$3:$F$103=1,ROW(INDIRECT("1:"&ROWS(General!$A$3:$A$103)))),ROWS($1:83))),"")} | E85: =IFERROR(INDEX(General!$C$3:$C$103,MATCH(Atelier!C85,General!$A$3:$A$103,0)),"") | G85: =IFERROR(INDEX(General!$B$3:$B$103,MATCH(Atelier!C85,General!$A$3:$A$103,0)),"")
C86: {=IF(ROWS($1:84)<=COUNTIF(General!$F$3:$F$103,1),INDEX(General!$A$3:$A$103,SMALL(IF(General!$F$3:$F$103=1,ROW(INDIRECT("1:"&ROWS(General!$A$3:$A$103)))),ROWS($1:84))),"")} | E86: =IFERROR(INDEX(General!$C$3:$C$103,MATCH(Atelier!C86,General!$A$3:$A$103,0)),"") | G86: =IFERROR(INDEX(General!$B$3:$B$103,MATCH(Atelier!C86,General!$A$3:$A$103,0)),"")
C87: {=IF(ROWS($1:85)<=COUNTIF(General!$F$3:$F$103,1),INDEX(General!$A$3:$A$103,SMALL(IF(General!$F$3:$F$103=1,ROW(INDIRECT("1:"&ROWS(General!$A$3:$A$103)))),ROWS($1:85))),"")} | E87: =IFERROR(INDEX(General!$C$3:$C$103,MATCH(Atelier!C87,General!$A$3:$A$103,0)),"") | G87: =IFERROR(INDEX(General!$B$3:$B$103,MATCH(Atelier!C87,General!$A$3:$A$103,0)),"")
C88: {=IF(ROWS($1:86)<=COUNTIF(General!$F$3:$F$103,1),INDEX(General!$A$3:$A$103,SMALL(IF(General!$F$3:$F$103=1,ROW(INDIRECT("1:"&ROWS(General!$A$3:$A$103)))),ROWS($1:86))),"")} | E88: =IFERROR(INDEX(General!$C$3:$C$103,MATCH(Atelier!C88,General!$A$3:$A$103,0)),"") | G88: =IFERROR(INDEX(General!$B$3:$B$103,MATCH(Atelier!C88,General!$A$3:$A$103,0)),"")
C89: {=IF(ROWS($1:87)<=COUNTIF(General!$F$3:$F$103,1),INDEX(General!$A$3:$A$103,SMALL(IF(General!$F$3:$F$103=1,ROW(INDIRECT("1:"&ROWS(General!$A$3:$A$103)))),ROWS($1:87))),"")} | E89: =IFERROR(INDEX(General!$C$3:$C$103,MATCH(Atelier!C89,General!$A$3:$A$103,0)),"") | G89: =IFERROR(INDEX(General!$B$3:$B$103,MATCH(Atelier!C89,General!$A$3:$A$103,0)),"")
C90: {=IF(ROWS($1:88)<=COUNTIF(General!$F$3:$F$103,1),INDEX(General!$A$3:$A$103,SMALL(IF(General!$F$3:$F$103=1,ROW(INDIRECT("1:"&ROWS(General!$A$3:$A$103)))),ROWS($1:88))),"")} | E90: =IFERROR(INDEX(General!$C$3:$C$103,MATCH(Atelier!C90,General!$A$3:$A$103,0)),"") | G90: =IFERROR(INDEX(General!$B$3:$B$103,MATCH(Atelier!C90,General!$A$3:$A$103,0)),"")
C91: {=IF(ROWS($1:89)<=COUNTIF(General!$F$3:$F$103,1),INDEX(General!$A$3:$A$103,SMALL(IF(General!$F$3:$F$103=1,ROW(INDIRECT("1:"&ROWS(General!$A$3:$A$103)))),ROWS($1:89))),"")} | E91: =IFERROR(INDEX(General!$C$3:$C$103,MATCH(Atelier!C91,General!$A$3:$A$103,0)),"") | G91: =IFERROR(INDEX(General!$B$3:$B$103,MATCH(Atelier!C91,General!$A$3:$A$103,0)),"")
C92: {=IF(ROWS($1:90)<=COUNTIF(General!$F$3:$F$103,1),INDEX(General!$A$3:$A$103,SMALL(IF(General!$F$3:$F$103=1,ROW(INDIRECT("1:"&ROWS(General!$A$3:$A$103)))),ROWS($1:90))),"")} | E92: =IFERROR(INDEX(General!$C$3:$C$103,MATCH(Atelier!C92,General!$A$3:$A$103,0)),"") | G92: =IFERROR(INDEX(General!$B$3:$B$103,MATCH(Atelier!C92,General!$A$3:$A$103,0)),"")
C93: {=IF(ROWS($1:91)<=COUNTIF(General!$F$3:$F$103,1),INDEX(General!$A$3:$A$103,SMALL(IF(General!$F$3:$F$103=1,ROW(INDIRECT("1:"&ROWS(General!$A$3:$A$103)))),ROWS($1:91))),"")} | E93: =IFERROR(INDEX(General!$C$3:$C$103,MATCH(Atelier!C93,General!$A$3:$A$103,0)),"") | G93: =IFERROR(INDEX(General!$B$3:$B$103,MATCH(Atelier!C93,General!$A$3:$A$103,0)),"")
C94: {=IF(ROWS($1:92)<=COUNTIF(General!$F$3:$F$103,1),INDEX(General!$A$3:$A$103,SMALL(IF(General!$F$3:$F$103=1,ROW(INDIRECT("1:"&ROWS(General!$A$3:$A$103)))),ROWS($1:92))),"")} | E94: =IFERROR(INDEX(General!$C$3:$C$103,MATCH(Atelier!C94,General!$A$3:$A$103,0)),"") | G94: =IFERROR(INDEX(General!$B$3:$B$103,MATCH(Atelier!C94,General!$A$3:$A$103,0)),"")
C95: {=IF(ROWS($1:93)<=COUNTIF(General!$F$3:$F$103,1),INDEX(General!$A$3:$A$103,SMALL(IF(General!$F$3:$F$103=1,ROW(INDIRECT("1:"&ROWS(General!$A$3:$A$103)))),ROWS($1:93))),"")} | E95: =IFERROR(INDEX(General!$C$3:$C$103,MATCH(Atelier!C95,General!$A$3:$A$103,0)),"") | G95: =IFERROR(INDEX(General!$B$3:$B$103,MATCH(Atelier!C95,General!$A$3:$A$103,0)),"")
C96: {=IF(ROWS($1:94)<=COUNTIF(General!$F$3:$F$103,1),INDEX(General!$A$3:$A$103,SMALL(IF(General!$F$3:$F$103=1,ROW(INDIRECT("1:"&ROWS(General!$A$3:$A$103)))),ROWS($1:94))),"")} | E96: =IFERROR(INDEX(General!$C$3:$C$103,MATCH(Atelier!C96,General!$A$3:$A$103,0)),"") | G96: =IFERROR(INDEX(General!$B$3:$B$103,MATCH(Atelier!C96,General!$A$3:$A$103,0)),"")
C97: {=IF(ROWS($1:95)<=COUNTIF(General!$F$3:$F$103,1),INDEX(General!$A$3:$A$103,SMALL(IF(General!$F$3:$F$103=1,ROW(INDIRECT("1:"&ROWS(General!$A$3:$A$103)))),ROWS($1:95))),"")} | E97: =IFERROR(INDEX(General!$C$3:$C$103,MATCH(Atelier!C97,General!$A$3:$A$103,0)),"") | G97: =IFERROR(INDEX(General!$B$3:$B$103,MATCH(Atelier!C97,General!$A$3:$A$103,0)),"")
C98: {=IF(ROWS($1:96)<=COUNTIF(General!$F$3:$F$103,1),INDEX(General!$A$3:$A$103,SMALL(IF(General!$F$3:$F$103=1,ROW(INDIRECT("1:"&ROWS(General!$A$3:$A$103)))),ROWS($1:96))),"")} | E98: =IFERROR(INDEX(General!$C$3:$C$103,MATCH(Atelier!C98,General!$A$3:$A$103,0)),"") | G98: =IFERROR(INDEX(General!$B$3:$B$103,MATCH(Atelier!C98,General!$A$3:$A$103,0)),"")
C99: {=IF(ROWS($1:97)<=COUNTIF(General!$F$3:$F$103,1),INDEX(General!$A$3:$A$103,SMALL(IF(General!$F$3:$F$103=1,ROW(INDIRECT("1:"&ROWS(General!$A$3:$A$103)))),ROWS($1:97))),"")} | E99: =IFERROR(INDEX(General!$C$3:$C$103,MATCH(Atelier!C99,General!$A$3:$A$103,0)),"") | G99: =IFERROR(INDEX(General!$B$3:$B$103,MATCH(Atelier!C99,General!$A$3:$A$103,0)),"")
C100: {=IF(ROWS($1:98)<=COUNTIF(General!$F$3:$F$103,1),INDEX(General!$A$3:$A$103,SMALL(IF(General!$F$3:$F$103=1,ROW(INDIRECT("1:"&ROWS(General!$A$3:$A$103)))),ROWS($1:98))),"")} | E100: =IFERROR(INDEX(General!$C$3:$C$103,MATCH(Atelier!C100,General!$A$3:$A$103,0)),"") | G100: =IFERROR(INDEX(General!$B$3:$B$103,MATCH(Atelier!C100,General!$A$3:$A$103,0)),"")
C101: {=IF(ROWS($1:99)<=COUNTIF(General!$F$3:$F$103,1),INDEX(General!$A$3:$A$103,SMALL(IF(General!$F$3:$F$103=1,ROW(INDIRECT("1:"&ROWS(General!$A$3:$A$103)))),ROWS($1:99))),"")} | E101: =IFERROR(INDEX(General!$C$3:$C$103,MATCH(Atelier!C101,General!$A$3:$A$103,0)),"") | G101: =IFERROR(INDEX(General!$B$3:$B$103,MATCH(Atelier!C101,General!$A$3:$A$103,0)),"")
...

Sheet Stage
A1: INTERESSE POUR STAGE | C1: NOM | E1: MAIL | G1: TELEPHONE
C3: {=IF(ROWS($1:1)<=COUNTIF(General!$G$3:$G$103,1),INDEX(General!$A$3:$A$103,SMALL(IF(General!$G$3:$G$103=1,ROW(INDIRECT("1:"&ROWS(General!$A$3:$A$103)))),ROWS($1:1))),"")} -> Daniel Pezeril | E3: =IFERROR(INDEX(General!$C$3:$C$103,MATCH(Stage!C3,General!$A$3:$A$103,0)),"") -> dpezeril@gmail.com | G3: =IFERROR(INDEX(General!$B$3:$B$103,MATCH(Stage!C3,General!$A$3:$A$103,0)),"") -> 644081800
C4: {=IF(ROWS($1:2)<=COUNTIF(General!$G$3:$G$103,1),INDEX(General!$A$3:$A$103,SMALL(IF(General!$G$3:$G$103=1,ROW(INDIRECT("1:"&ROWS(General!$A$3:$A$103)))),ROWS($1:2))),"")} -> Costa Ledormeur | E4: =IFERROR(INDEX(General!$C$3:$C$103,MATCH(Stage!C4,General!$A$3:$A$103,0)),"") -> costa.ledormeur.85@gmail.com | G4: =IFERROR(INDEX(General!$B$3:$B$103,MATCH(Stage!C4,General!$A$3:$A$103,0)),"") -> 674416225
C5: {=IF(ROWS($1:3)<=COUNTIF(General!$G$3:$G$103,1),INDEX(General!$A$3:$A$103,SMALL(IF(General!$G$3:$G$103=1,ROW(INDIRECT("1:"&ROWS(General!$A$3:$A$103)))),ROWS($1:3))),"")} -> Adrien Testas | E5: =IFERROR(INDEX(General!$C$3:$C$103,MATCH(Stage!C5,General!$A$3:$A$103,0)),"") -> adrien.testas@live.fr | G5: =IFERROR(INDEX(General!$B$3:$B$103,MATCH(Stage!C5,General!$A$3:$A$103,0)),"") -> 789200542
C6: {=IF(ROWS($1:4)<=COUNTIF(General!$G$3:$G$103,1),INDEX(General!$A$3:$A$103,SMALL(IF(General!$G$3:$G$103=1,ROW(INDIRECT("1:"&ROWS(General!$A$3:$A$103)))),ROWS($1:4))),"")} | E6: =IFERROR(INDEX(General!$C$3:$C$103,MATCH(Stage!C6,General!$A$3:$A$103,0)),"") | G6: =IFERROR(INDEX(General!$B$3:$B$103,MATCH(Stage!C6,General!$A$3:$A$103,0)),"")
C7: {=IF(ROWS($1:5)<=COUNTIF(General!$G$3:$G$103,1),INDEX(General!$A$3:$A$103,SMALL(IF(General!$G$3:$G$103=1,ROW(INDIRECT("1:"&ROWS(General!$A$3:$A$103)))),ROWS($1:5))),"")} | E7: =IFERROR(INDEX(General!$C$3:$C$103,MATCH(Stage!C7,General!$A$3:$A$103,0)),"") | G7: =IFERROR(INDEX(General!$B$3:$B$103,MATCH(Stage!C7,General!$A$3:$A$103,0)),"")
C8: {=IF(ROWS($1:6)<=COUNTIF(General!$G$3:$G$103,1),INDEX(General!$A$3:$A$103,SMALL(IF(General!$G$3:$G$103=1,ROW(INDIRECT("1:"&ROWS(General!$A$3:$A$103)))),ROWS($1:6))),"")} | E8: =IFERROR(INDEX(General!$C$3:$C$103,MATCH(Stage!C8,General!$A$3:$A$103,0)),"") | G8: =IFERROR(INDEX(General!$B$3:$B$103,MATCH(Stage!C8,General!$A$3:$A$103,0)),"")
C9: {=IF(ROWS($1:7)<=COUNTIF(General!$G$3:$G$103,1),INDEX(General!$A$3:$A$103,SMALL(IF(General!$G$3:$G$103=1,ROW(INDIRECT("1:"&ROWS(General!$A$3:$A$103)))),ROWS($1:7))),"")} | E9: =IFERROR(INDEX(General!$C$3:$C$103,MATCH(Stage!C9,General!$A$3:$A$103,0)),"") | G9: =IFERROR(INDEX(General!$B$3:$B$103,MATCH(Stage!C9,General!$A$3:$A$103,0)),"")
C10: {=IF(ROWS($1:8)<=COUNTIF(General!$G$3:$G$103,1),INDEX(General!$A$3:$A$103,SMALL(IF(General!$G$3:$G$103=1,ROW(INDIRECT("1:"&ROWS(General!$A$3:$A$103)))),ROWS($1:8))),"")} | E10: =IFERROR(INDEX(General!$C$3:$C$103,MATCH(Stage!C10,General!$A$3:$A$103,0)),"") | G10: =IFERROR(INDEX(General!$B$3:$B$103,MATCH(Stage!C10,General!$A$3:$A$103,0)),"")
C11: {=IF(ROWS($1:9)<=COUNTIF(General!$G$3:$G$103,1),INDEX(General!$A$3:$A$103,SMALL(IF(General!$G$3:$G$103=1,ROW(INDIRECT("1:"&ROWS(General!$A$3:$A$103)))),ROWS($1:9))),"")} | E11: =IFERROR(INDEX(General!$C$3:$C$103,MATCH(Stage!C11,General!$A$3:$A$103,0)),"") | G11: =IFERROR(INDEX(General!$B$3:$B$103,MATCH(Stage!C11,General!$A$3:$A$103,0)),"")
C12: {=IF(ROWS($1:10)<=COUNTIF(General!$G$3:$G$103,1),INDEX(General!$A$3:$A$103,SMALL(IF(General!$G$3:$G$103=1,ROW(INDIRECT("1:"&ROWS(General!$A$3:$A$103)))),ROWS($1:10))),"")} | E12: =IFERROR(INDEX(General!$C$3:$C$103,MATCH(Stage!C12,General!$A$3:$A$103,0)),"") | G12: =IFERROR(INDEX(General!$B$3:$B$103,MATCH(Stage!C12,General!$A$3:$A$103,0)),"")
C13: {=IF(ROWS($1:11)<=COUNTIF(General!$G$3:$G$103,1),INDEX(General!$A$3:$A$103,SMALL(IF(General!$G$3:$G$103=1,ROW(INDIRECT("1:"&ROWS(General!$A$3:$A$103)))),ROWS($1:11))),"")} | E13: =IFERROR(INDEX(General!$C$3:$C$103,MATCH(Stage!C13,General!$A$3:$A$103,0)),"") | G13: =IFERROR(INDEX(General!$B$3:$B$103,MATCH(Stage!C13,General!$A$3:$A$103,0)),"")
C14: {=IF(ROWS($1:12)<=COUNTIF(General!$G$3:$G$103,1),INDEX(General!$A$3:$A$103,SMALL(IF(General!$G$3:$G$103=1,ROW(INDIRECT("1:"&ROWS(General!$A$3:$A$103)))),ROWS($1:12))),"")} | E14: =IFERROR(INDEX(General!$C$3:$C$103,MATCH(Stage!C14,General!$A$3:$A$103,0)),"") | G14: =IFERROR(INDEX(General!$B$3:$B$103,MATCH(Stage!C14,General!$A$3:$A$103,0)),"")
C15: {=IF(ROWS($1:13)<=COUNTIF(General!$G$3:$G$103,1),INDEX(General!$A$3:$A$103,SMALL(IF(General!$G$3:$G$103=1,ROW(INDIRECT("1:"&ROWS(General!$A$3:$A$103)))),ROWS($1:13))),"")} | E15: =IFERROR(INDEX(General!$C$3:$C$103,MATCH(Stage!C15,General!$A$3:$A$103,0)),"") | G15: =IFERROR(INDEX(General!$B$3:$B$103,MATCH(Stage!C15,General!$A$3:$A$103,0)),"")
C16: {=IF(ROWS($1:14)<=COUNTIF(General!$G$3:$G$103,1),INDEX(General!$A$3:$A$103,SMALL(IF(General!$G$3:$G$103=1,ROW(INDIRECT("1:"&ROWS(General!$A$3:$A$103)))),ROWS($1:14))),"")} | E16: =IFERROR(INDEX(General!$C$3:$C$103,MATCH(Stage!C16,General!$A$3:$A$103,0)),"") | G16: =IFERROR(INDEX(General!$B$3:$B$103,MATCH(Stage!C16,General!$A$3:$A$103,0)),"")
C17: {=IF(ROWS($1:15)<=COUNTIF(General!$G$3:$G$103,1),INDEX(General!$A$3:$A$103,SMALL(IF(General!$G$3:$G$103=1,ROW(INDIRECT("1:"&ROWS(General!$A$3:$A$103)))),ROWS($1:15))),"")} | E17: =IFERROR(INDEX(General!$C$3:$C$103,MATCH(Stage!C17,General!$A$3:$A$103,0)),"") | G17: =IFERROR(INDEX(General!$B$3:$B$103,MATCH(Stage!C17,General!$A$3:$A$103,0)),"")
C18: {=IF(ROWS($1:16)<=COUNTIF(General!$G$3:$G$103,1),INDEX(General!$A$3:$A$103,SMALL(IF(General!$G$3:$G$103=1,ROW(INDIRECT("1:"&ROWS(General!$A$3:$A$103)))),ROWS($1:16))),"")} | E18: =IFERROR(INDEX(General!$C$3:$C$103,MATCH(Stage!C18,General!$A$3:$A$103,0)),"") | G18: =IFERROR(INDEX(General!$B$3:$B$103,MATCH(Stage!C18,General!$A$3:$A$103,0)),"")
C19: {=IF(ROWS($1:17)<=COUNTIF(General!$G$3:$G$103,1),INDEX(General!$A$3:$A$103,SMALL(IF(General!$G$3:$G$103=1,ROW(INDIRECT("1:"&ROWS(General!$A$3:$A$103)))),ROWS($1:17))),"")} | E19: =IFERROR(INDEX(General!$C$3:$C$103,MATCH(Stage!C19,General!$A$3:$A$103,0)),"") | G19: =IFERROR(INDEX(General!$B$3:$B$103,MATCH(Stage!C19,General!$A$3:$A$103,0)),"")
C20: {=IF(ROWS($1:18)<=COUNTIF(General!$G$3:$G$103,1),INDEX(General!$A$3:$A$103,SMALL(IF(General!$G$3:$G$103=1,ROW(INDIRECT("1:"&ROWS(General!$A$3:$A$103)))),ROWS($1:18))),"")} | E20: =IFERROR(INDEX(General!$C$3:$C$103,MATCH(Stage!C20,General!$A$3:$A$103,0)),"") | G20: =IFERROR(INDEX(General!$B$3:$B$103,MATCH(Stage!C20,General!$A$3:$A$103,0)),"")
C21: {=IF(ROWS($1:19)<=COUNTIF(General!$G$3:$G$103,1),INDEX(General!$A$3:$A$103,SMALL(IF(General!$G$3:$G$103=1,ROW(INDIRECT("1:"&ROWS(General!$A$3:$A$103)))),ROWS($1:19))),"")} | E21: =IFERROR(INDEX(General!$C$3:$C$103,MATCH(Stage!C21,General!$A$3:$A$103,0)),"") | G21: =IFERROR(INDEX(General!$B$3:$B$103,MATCH(Stage!C21,General!$A$3:$A$103,0)),"")
C22: {=IF(ROWS($1:20)<=COUNTIF(General!$G$3:$G$103,1),INDEX(General!$A$3:$A$103,SMALL(IF(General!$G$3:$G$103=1,ROW(INDIRECT("1:"&ROWS(General!$A$3:$A$103)))),ROWS($1:20))),"")} | E22: =IFERROR(INDEX(General!$C$3:$C$103,MATCH(Stage!C22,General!$A$3:$A$103,0)),"") | G22: =IFERROR(INDEX(General!$B$3:$B$103,MATCH(Stage!C22,General!$A$3:$A$103,0)),"")
C23: {=IF(ROWS($1:21)<=COUNTIF(General!$G$3:$G$103,1),INDEX(General!$A$3:$A$103,SMALL(IF(General!$G$3:$G$103=1,ROW(INDIRECT("1:"&ROWS(General!$A$3:$A$103)))),ROWS($1:21))),"")} | E23: =IFERROR(INDEX(General!$C$3:$C$103,MATCH(Stage!C23,General!$A$3:$A$103,0)),"") | G23: =IFERROR(INDEX(General!$B$3:$B$103,MATCH(Stage!C23,General!$A$3:$A$103,0)),"")
C24: {=IF(ROWS($1:22)<=COUNTIF(General!$G$3:$G$103,1),INDEX(General!$A$3:$A$103,SMALL(IF(General!$G$3:$G$103=1,ROW(INDIRECT("1:"&ROWS(General!$A$3:$A$103)))),ROWS($1:22))),"")} | E24: =IFERROR(INDEX(General!$C$3:$C$103,MATCH(Stage!C24,General!$A$3:$A$103,0)),"") | G24: =IFERROR(INDEX(General!$B$3:$B$103,MATCH(Stage!C24,General!$A$3:$A$103,0)),"")
C25: {=IF(ROWS($1:23)<=COUNTIF(General!$G$3:$G$103,1),INDEX(General!$A$3:$A$103,SMALL(IF(General!$G$3:$G$103=1,ROW(INDIRECT("1:"&ROWS(General!$A$3:$A$103)))),ROWS($1:23))),"")} | E25: =IFERROR(INDEX(General!$C$3:$C$103,MATCH(Stage!C25,General!$A$3:$A$103,0)),"") | G25: =IFERROR(INDEX(General!$B$3:$B$103,MATCH(Stage!C25,General!$A$3:$A$103,0)),"")
C26: {=IF(ROWS($1:24)<=COUNTIF(General!$G$3:$G$103,1),INDEX(General!$A$3:$A$103,SMALL(IF(General!$G$3:$G$103=1,ROW(INDIRECT("1:"&ROWS(General!$A$3:$A$103)))),ROWS($1:24))),"")} | E26: =IFERROR(INDEX(General!$C$3:$C$103,MATCH(Stage!C26,General!$A$3:$A$103,0)),"") | G26: =IFERROR(INDEX(General!$B$3:$B$103,MATCH(Stage!C26,General!$A$3:$A$103,0)),"")
C27: {=IF(ROWS($1:25)<=COUNTIF(General!$G$3:$G$103,1),INDEX(General!$A$3:$A$103,SMALL(IF(General!$G$3:$G$103=1,ROW(INDIRECT("1:"&ROWS(General!$A$3:$A$103)))),ROWS($1:25))),"")} | E27: =IFERROR(INDEX(General!$C$3:$C$103,MATCH(Stage!C27,General!$A$3:$A$103,0)),"") | G27: =IFERROR(INDEX(General!$B$3:$B$103,MATCH(Stage!C27,General!$A$3:$A$103,0)),"")
C28: {=IF(ROWS($1:26)<=COUNTIF(General!$G$3:$G$103,1),INDEX(General!$A$3:$A$103,SMALL(IF(General!$G$3:$G$103=1,ROW(INDIRECT("1:"&ROWS(General!$A$3:$A$103)))),ROWS($1:26))),"")} | E28: =IFERROR(INDEX(General!$C$3:$C$103,MATCH(Stage!C28,General!$A$3:$A$103,0)),"") | G28: =IFERROR(INDEX(General!$B$3:$B$103,MATCH(Stage!C28,General!$A$3:$A$103,0)),"")
C29: {=IF(ROWS($1:27)<=COUNTIF(General!$G$3:$G$103,1),INDEX(General!$A$3:$A$103,SMALL(IF(General!$G$3:$G$103=1,ROW(INDIRECT("1:"&ROWS(General!$A$3:$A$103)))),ROWS($1:27))),"")} | E29: =IFERROR(INDEX(General!$C$3:$C$103,MATCH(Stage!C29,General!$A$3:$A$103,0)),"") | G29: =IFERROR(INDEX(General!$B$3:$B$103,MATCH(Stage!C29,General!$A$3:$A$103,0)),"")
C30: {=IF(ROWS($1:28)<=COUNTIF(General!$G$3:$G$103,1),INDEX(General!$A$3:$A$103,SMALL(IF(General!$G$3:$G$103=1,ROW(INDIRECT("1:"&ROWS(General!$A$3:$A$103)))),ROWS($1:28))),"")} | E30: =IFERROR(INDEX(General!$C$3:$C$103,MATCH(Stage!C30,General!$A$3:$A$103,0)),"") | G30: =IFERROR(INDEX(General!$B$3:$B$103,MATCH(Stage!C30,General!$A$3:$A$103,0)),"")
C31: {=IF(ROWS($1:29)<=COUNTIF(General!$G$3:$G$103,1),INDEX(General!$A$3:$A$103,SMALL(IF(General!$G$3:$G$103=1,ROW(INDIRECT("1:"&ROWS(General!$A$3:$A$103)))),ROWS($1:29))),"")} | E31: =IFERROR(INDEX(General!$C$3:$C$103,MATCH(Stage!C31,General!$A$3:$A$103,0)),"") | G31: =IFERROR(INDEX(General!$B$3:$B$103,MATCH(Stage!C31,General!$A$3:$A$103,0)),"")
C32: {=IF(ROWS($1:30)<=COUNTIF(General!$G$3:$G$103,1),INDEX(General!$A$3:$A$103,SMALL(IF(General!$G$3:$G$103=1,ROW(INDIRECT("1:"&ROWS(General!$A$3:$A$103)))),ROWS($1:30))),"")} | E32: =IFERROR(INDEX(General!$C$3:$C$103,MATCH(Stage!C32,General!$A$3:$A$103,0)),"") | G32: =IFERROR(INDEX(General!$B$3:$B$103,MATCH(Stage!C32,General!$A$3:$A$103,0)),"")
C33: {=IF(ROWS($1:31)<=COUNTIF(General!$G$3:$G$103,1),INDEX(General!$A$3:$A$103,SMALL(IF(General!$G$3:$G$103=1,ROW(INDIRECT("1:"&ROWS(General!$A$3:$A$103)))),ROWS($1:31))),"")} | E33: =IFERROR(INDEX(General!$C$3:$C$103,MATCH(Stage!C33,General!$A$3:$A$103,0)),"") | G33: =IFERROR(INDEX(General!$B$3:$B$103,MATCH(Stage!C33,General!$A$3:$A$103,0)),"")
C34: {=IF(ROWS($1:32)<=COUNTIF(General!$G$3:$G$103,1),INDEX(General!$A$3:$A$103,SMALL(IF(General!$G$3:$G$103=1,ROW(INDIRECT("1:"&ROWS(General!$A$3:$A$103)))),ROWS($1:32))),"")} | E34: =IFERROR(INDEX(General!$C$3:$C$103,MATCH(Stage!C34,General!$A$3:$A$103,0)),"") | G34: =IFERROR(INDEX(General!$B$3:$B$103,MATCH(Stage!C34,General!$A$3:$A$103,0)),"")
C35: {=IF(ROWS($1:33)<=COUNTIF(General!$G$3:$G$103,1),INDEX(General!$A$3:$A$103,SMALL(IF(General!$G$3:$G$103=1,ROW(INDIRECT("1:"&ROWS(General!$A$3:$A$103)))),ROWS($1:33))),"")} | E35: =IFERROR(INDEX(General!$C$3:$C$103,MATCH(Stage!C35,General!$A$3:$A$103,0)),"") | G35: =IFERROR(INDEX(General!$B$3:$B$103,MATCH(Stage!C35,General!$A$3:$A$103,0)),"")
C36: {=IF(ROWS($1:34)<=COUNTIF(General!$G$3:$G$103,1),INDEX(General!$A$3:$A$103,SMALL(IF(General!$G$3:$G$103=1,ROW(INDIRECT("1:"&ROWS(General!$A$3:$A$103)))),ROWS($1:34))),"")} | E36: =IFERROR(INDEX(General!$C$3:$C$103,MATCH(Stage!C36,General!$A$3:$A$103,0)),"") | G36: =IFERROR(INDEX(General!$B$3:$B$103,MATCH(Stage!C36,General!$A$3:$A$103,0)),"")
C37: {=IF(ROWS($1:35)<=COUNTIF(General!$G$3:$G$103,1),INDEX(General!$A$3:$A$103,SMALL(IF(General!$G$3:$G$103=1,ROW(INDIRECT("1:"&ROWS(General!$A$3:$A$103)))),ROWS($1:35))),"")} | E37: =IFERROR(INDEX(General!$C$3:$C$103,MATCH(Stage!C37,General!$A$3:$A$103,0)),"") | G37: =IFERROR(INDEX(General!$B$3:$B$103,MATCH(Stage!C37,General!$A$3:$A$103,0)),"")
C38: {=IF(ROWS($1:36)<=COUNTIF(General!$G$3:$G$103,1),INDEX(General!$A$3:$A$103,SMALL(IF(General!$G$3:$G$103=1,ROW(INDIRECT("1:"&ROWS(General!$A$3:$A$103)))),ROWS($1:36))),"")} | E38: =IFERROR(INDEX(General!$C$3:$C$103,MATCH(Stage!C38,General!$A$3:$A$103,0)),"") | G38: =IFERROR(INDEX(General!$B$3:$B$103,MATCH(Stage!C38,General!$A$3:$A$103,0)),"")
C39: {=IF(ROWS($1:37)<=COUNTIF(General!$G$3:$G$103,1),INDEX(General!$A$3:$A$103,SMALL(IF(General!$G$3:$G$103=1,ROW(INDIRECT("1:"&ROWS(General!$A$3:$A$103)))),ROWS($1:37))),"")} | E39: =IFERROR(INDEX(General!$C$3:$C$103,MATCH(Stage!C39,General!$A$3:$A$103,0)),"") | G39: =IFERROR(INDEX(General!$B$3:$B$103,MATCH(Stage!C39,General!$A$3:$A$103,0)),"")
C40: {=IF(ROWS($1:38)<=COUNTIF(General!$G$3:$G$103,1),INDEX(General!$A$3:$A$103,SMALL(IF(General!$G$3:$G$103=1,ROW(INDIRECT("1:"&ROWS(General!$A$3:$A$103)))),ROWS($1:38))),"")} | E40: =IFERROR(INDEX(General!$C$3:$C$103,MATCH(Stage!C40,General!$A$3:$A$103,0)),"") | G40: =IFERROR(INDEX(General!$B$3:$B$103,MATCH(Stage!C40,General!$A$3:$A$103,0)),"")
C41: {=IF(ROWS($1:39)<=COUNTIF(General!$G$3:$G$103,1),INDEX(General!$A$3:$A$103,SMALL(IF(General!$G$3:$G$103=1,ROW(INDIRECT("1:"&ROWS(General!$A$3:$A$103)))),ROWS($1:39))),"")} | E41: =IFERROR(INDEX(General!$C$3:$C$103,MATCH(Stage!C41,General!$A$3:$A$103,0)),"") | G41: =IFERROR(INDEX(General!$B$3:$B$103,MATCH(Stage!C41,General!$A$3:$A$103,0)),"")
C42: {=IF(ROWS($1:40)<=COUNTIF(General!$G$3:$G$103,1),INDEX(General!$A$3:$A$103,SMALL(IF(General!$G$3:$G$103=1,ROW(INDIRECT("1:"&ROWS(General!$A$3:$A$103)))),ROWS($1:40))),"")} | E42: =IFERROR(INDEX(General!$C$3:$C$103,MATCH(Stage!C42,General!$A$3:$A$103,0)),"") | G42: =IFERROR(INDEX(General!$B$3:$B$103,MATCH(Stage!C42,General!$A$3:$A$103,0)),"")
C43: {=IF(ROWS($1:41)<=COUNTIF(General!$G$3:$G$103,1),INDEX(General!$A$3:$A$103,SMALL(IF(General!$G$3:$G$103=1,ROW(INDIRECT("1:"&ROWS(General!$A$3:$A$103)))),ROWS($1:41))),"")} | E43: =IFERROR(INDEX(General!$C$3:$C$103,MATCH(Stage!C43,General!$A$3:$A$103,0)),"") | G43: =IFERROR(INDEX(General!$B$3:$B$103,MATCH(Stage!C43,General!$A$3:$A$103,0)),"")
C44: {=IF(ROWS($1:42)<=COUNTIF(General!$G$3:$G$103,1),INDEX(General!$A$3:$A$103,SMALL(IF(General!$G$3:$G$103=1,ROW(INDIRECT("1:"&ROWS(General!$A$3:$A$103)))),ROWS($1:42))),"")} | E44: =IFERROR(INDEX(General!$C$3:$C$103,MATCH(Stage!C44,General!$A$3:$A$103,0)),"") | G44: =IFERROR(INDEX(General!$B$3:$B$103,MATCH(Stage!C44,General!$A$3:$A$103,0)),"")
C45: {=IF(ROWS($1:43)<=COUNTIF(General!$G$3:$G$103,1),INDEX(General!$A$3:$A$103,SMALL(IF(General!$G$3:$G$103=1,ROW(INDIRECT("1:"&ROWS(General!$A$3:$A$103)))),ROWS($1:43))),"")} | E45: =IFERROR(INDEX(General!$C$3:$C$103,MATCH(Stage!C45,General!$A$3:$A$103,0)),"") | G45: =IFERROR(INDEX(General!$B$3:$B$103,MATCH(Stage!C45,General!$A$3:$A$103,0)),"")
C46: {=IF(ROWS($1:44)<=COUNTIF(General!$G$3:$G$103,1),INDEX(General!$A$3:$A$103,SMALL(IF(General!$G$3:$G$103=1,ROW(INDIRECT("1:"&ROWS(General!$A$3:$A$103)))),ROWS($1:44))),"")} | E46: =IFERROR(INDEX(General!$C$3:$C$103,MATCH(Stage!C46,General!$A$3:$A$103,0)),"") | G46: =IFERROR(INDEX(General!$B$3:$B$103,MATCH(Stage!C46,General!$A$3:$A$103,0)),"")
C47: {=IF(ROWS($1:45)<=COUNTIF(General!$G$3:$G$103,1),INDEX(General!$A$3:$A$103,SMALL(IF(General!$G$3:$G$103=1,ROW(INDIRECT("1:"&ROWS(General!$A$3:$A$103)))),ROWS($1:45))),"")} | E47: =IFERROR(INDEX(General!$C$3:$C$103,MATCH(Stage!C47,General!$A$3:$A$103,0)),"") | G47: =IFERROR(INDEX(General!$B$3:$B$103,MATCH(Stage!C47,General!$A$3:$A$103,0)),"")
C48: {=IF(ROWS($1:46)<=COUNTIF(General!$G$3:$G$103,1),INDEX(General!$A$3:$A$103,SMALL(IF(General!$G$3:$G$103=1,ROW(INDIRECT("1:"&ROWS(General!$A$3:$A$103)))),ROWS($1:46))),"")} | E48: =IFERROR(INDEX(General!$C$3:$C$103,MATCH(Stage!C48,General!$A$3:$A$103,0)),"") | G48: =IFERROR(INDEX(General!$B$3:$B$103,MATCH(Stage!C48,General!$A$3:$A$103,0)),"")
C49: {=IF(ROWS($1:47)<=COUNTIF(General!$G$3:$G$103,1),INDEX(General!$A$3:$A$103,SMALL(IF(General!$G$3:$G$103=1,ROW(INDIRECT("1:"&ROWS(General!$A$3:$A$103)))),ROWS($1:47))),"")} | E49: =IFERROR(INDEX(General!$C$3:$C$103,MATCH(Stage!C49,General!$A$3:$A$103,0)),"") | G49: =IFERROR(INDEX(General!$B$3:$B$103,MATCH(Stage!C49,General!$A$3:$A$103,0)),"")
C50: {=IF(ROWS($1:48)<=COUNTIF(General!$G$3:$G$103,1),INDEX(General!$A$3:$A$103,SMALL(IF(General!$G$3:$G$103=1,ROW(INDIRECT("1:"&ROWS(General!$A$3:$A$103)))),ROWS($1:48))),"")} | E50: =IFERROR(INDEX(General!$C$3:$C$103,MATCH(Stage!C50,General!$A$3:$A$103,0)),"") | G50: =IFERROR(INDEX(General!$B$3:$B$103,MATCH(Stage!C50,General!$A$3:$A$103,0)),"")
C51: {=IF(ROWS($1:49)<=COUNTIF(General!$G$3:$G$103,1),INDEX(General!$A$3:$A$103,SMALL(IF(General!$G$3:$G$103=1,ROW(INDIRECT("1:"&ROWS(General!$A$3:$A$103)))),ROWS($1:49))),"")} | E51: =IFERROR(INDEX(General!$C$3:$C$103,MATCH(Stage!C51,General!$A$3:$A$103,0)),"") | G51: =IFERROR(INDEX(General!$B$3:$B$103,MATCH(Stage!C51,General!$A$3:$A$103,0)),"")
C52: {=IF(ROWS($1:50)<=COUNTIF(General!$G$3:$G$103,1),INDEX(General!$A$3:$A$103,SMALL(IF(General!$G$3:$G$103=1,ROW(INDIRECT("1:"&ROWS(General!$A$3:$A$103)))),ROWS($1:50))),"")} | E52: =IFERROR(INDEX(General!$C$3:$C$103,MATCH(Stage!C52,General!$A$3:$A$103,0)),"") | G52: =IFERROR(INDEX(General!$B$3:$B$103,MATCH(Stage!C52,General!$A$3:$A$103,0)),"")
C53: {=IF(ROWS($1:51)<=COUNTIF(General!$G$3:$G$103,1),INDEX(General!$A$3:$A$103,SMALL(IF(General!$G$3:$G$103=1,ROW(INDIRECT("1:"&ROWS(General!$A$3:$A$103)))),ROWS($1:51))),"")} | E53: =IFERROR(INDEX(General!$C$3:$C$103,MATCH(Stage!C53,General!$A$3:$A$103,0)),"") | G53: =IFERROR(INDEX(General!$B$3:$B$103,MATCH(Stage!C53,General!$A$3:$A$103,0)),"")
C54: {=IF(ROWS($1:52)<=COUNTIF(General!$G$3:$G$103,1),INDEX(General!$A$3:$A$103,SMALL(IF(General!$G$3:$G$103=1,ROW(INDIRECT("1:"&ROWS(General!$A$3:$A$103)))),ROWS($1:52))),"")} | E54: =IFERROR(INDEX(General!$C$3:$C$103,MATCH(Stage!C54,General!$A$3:$A$103,0)),"") | G54: =IFERROR(INDEX(General!$B$3:$B$103,MATCH(Stage!C54,General!$A$3:$A$103,0)),"")
C55: {=IF(ROWS($1:53)<=COUNTIF(General!$G$3:$G$103,1),INDEX(General!$A$3:$A$103,SMALL(IF(General!$G$3:$G$103=1,ROW(INDIRECT("1:"&ROWS(General!$A$3:$A$103)))),ROWS($1:53))),"")} | E55: =IFERROR(INDEX(General!$C$3:$C$103,MATCH(Stage!C55,General!$A$3:$A$103,0)),"") | G55: =IFERROR(INDEX(General!$B$3:$B$103,MATCH(Stage!C55,General!$A$3:$A$103,0)),"")
C56: {=IF(ROWS($1:54)<=COUNTIF(General!$G$3:$G$103,1),INDEX(General!$A$3:$A$103,SMALL(IF(General!$G$3:$G$103=1,ROW(INDIRECT("1:"&ROWS(General!$A$3:$A$103)))),ROWS($1:54))),"")} | E56: =IFERROR(INDEX(General!$C$3:$C$103,MATCH(Stage!C56,General!$A$3:$A$103,0)),"") | G56: =IFERROR(INDEX(General!$B$3:$B$103,MATCH(Stage!C56,General!$A$3:$A$103,0)),"")
C57: {=IF(ROWS($1:55)<=COUNTIF(General!$G$3:$G$103,1),INDEX(General!$A$3:$A$103,SMALL(IF(General!$G$3:$G$103=1,ROW(INDIRECT("1:"&ROWS(General!$A$3:$A$103)))),ROWS($1:55))),"")} | E57: =IFERROR(INDEX(General!$C$3:$C$103,MATCH(Stage!C57,General!$A$3:$A$103,0)),"") | G57: =IFERROR(INDEX(General!$B$3:$B$103,MATCH(Stage!C57,General!$A$3:$A$103,0)),"")
C58: {=IF(ROWS($1:56)<=COUNTIF(General!$G$3:$G$103,1),INDEX(General!$A$3:$A$103,SMALL(IF(General!$G$3:$G$103=1,ROW(INDIRECT("1:"&ROWS(General!$A$3:$A$103)))),ROWS($1:56))),"")} | E58: =IFERROR(INDEX(General!$C$3:$C$103,MATCH(Stage!C58,General!$A$3:$A$103,0)),"") | G58: =IFERROR(INDEX(General!$B$3:$B$103,MATCH(Stage!C58,General!$A$3:$A$103,0)),"")
C59: {=IF(ROWS($1:57)<=COUNTIF(General!$G$3:$G$103,1),INDEX(General!$A$3:$A$103,SMALL(IF(General!$G$3:$G$103=1,ROW(INDIRECT("1:"&ROWS(General!$A$3:$A$103)))),ROWS($1:57))),"")} | E59: =IFERROR(INDEX(General!$C$3:$C$103,MATCH(Stage!C59,General!$A$3:$A$103,0)),"") | G59: =IFERROR(INDEX(General!$B$3:$B$103,MATCH(Stage!C59,General!$A$3:$A$103,0)),"")
C60: {=IF(ROWS($1:58)<=COUNTIF(General!$G$3:$G$103,1),INDEX(General!$A$3:$A$103,SMALL(IF(General!$G$3:$G$103=1,ROW(INDIRECT("1:"&ROWS(General!$A$3:$A$103)))),ROWS($1:58))),"")} | E60: =IFERROR(INDEX(General!$C$3:$C$103,MATCH(Stage!C60,General!$A$3:$A$103,0)),"") | G60: =IFERROR(INDEX(General!$B$3:$B$103,MATCH(Stage!C60,General!$A$3:$A$103,0)),"")
C61: {=IF(ROWS($1:59)<=COUNTIF(General!$G$3:$G$103,1),INDEX(General!$A$3:$A$103,SMALL(IF(General!$G$3:$G$103=1,ROW(INDIRECT("1:"&ROWS(General!$A$3:$A$103)))),ROWS($1:59))),"")} | E61: =IFERROR(INDEX(General!$C$3:$C$103,MATCH(Stage!C61,General!$A$3:$A$103,0)),"") | G61: =IFERROR(INDEX(General!$B$3:$B$103,MATCH(Stage!C61,General!$A$3:$A$103,0)),"")
C62: {=IF(ROWS($1:60)<=COUNTIF(General!$G$3:$G$103,1),INDEX(General!$A$3:$A$103,SMALL(IF(General!$G$3:$G$103=1,ROW(INDIRECT("1:"&ROWS(General!$A$3:$A$103)))),ROWS($1:60))),"")} | E62: =IFERROR(INDEX(General!$C$3:$C$103,MATCH(Stage!C62,General!$A$3:$A$103,0)),"") | G62: =IFERROR(INDEX(General!$B$3:$B$103,MATCH(Stage!C62,General!$A$3:$A$103,0)),"")
C63: {=IF(ROWS($1:61)<=COUNTIF(General!$G$3:$G$103,1),INDEX(General!$A$3:$A$103,SMALL(IF(General!$G$3:$G$103=1,ROW(INDIRECT("1:"&ROWS(General!$A$3:$A$103)))),ROWS($1:61))),"")} | E63: =IFERROR(INDEX(General!$C$3:$C$103,MATCH(Stage!C63,General!$A$3:$A$103,0)),"") | G63: =IFERROR(INDEX(General!$B$3:$B$103,MATCH(Stage!C63,General!$A$3:$A$103,0)),"")
C64: {=IF(ROWS($1:62)<=COUNTIF(General!$G$3:$G$103,1),INDEX(General!$A$3:$A$103,SMALL(IF(General!$G$3:$G$103=1,ROW(INDIRECT("1:"&ROWS(General!$A$3:$A$103)))),ROWS($1:62))),"")} | E64: =IFERROR(INDEX(General!$C$3:$C$103,MATCH(Stage!C64,General!$A$3:$A$103,0)),"") | G64: =IFERROR(INDEX(General!$B$3:$B$103,MATCH(Stage!C64,General!$A$3:$A$103,0)),"")
C65: {=IF(ROWS($1:63)<=COUNTIF(General!$G$3:$G$103,1),INDEX(General!$A$3:$A$103,SMALL(IF(General!$G$3:$G$103=1,ROW(INDIRECT("1:"&ROWS(General!$A$3:$A$103)))),ROWS($1:63))),"")} | E65: =IFERROR(INDEX(General!$C$3:$C$103,MATCH(Stage!C65,General!$A$3:$A$103,0)),"") | G65: =IFERROR(INDEX(General!$B$3:$B$103,MATCH(Stage!C65,General!$A$3:$A$103,0)),"")
C66: {=IF(ROWS($1:64)<=COUNTIF(General!$G$3:$G$103,1),INDEX(General!$A$3:$A$103,SMALL(IF(General!$G$3:$G$103=1,ROW(INDIRECT("1:"&ROWS(General!$A$3:$A$103)))),ROWS($1:64))),"")} | E66: =IFERROR(INDEX(General!$C$3:$C$103,MATCH(Stage!C66,General!$A$3:$A$103,0)),"") | G66: =IFERROR(INDEX(General!$B$3:$B$103,MATCH(Stage!C66,General!$A$3:$A$103,0)),"")
C67: {=IF(ROWS($1:65)<=COUNTIF(General!$G$3:$G$103,1),INDEX(General!$A$3:$A$103,SMALL(IF(General!$G$3:$G$103=1,ROW(INDIRECT("1:"&ROWS(General!$A$3:$A$103)))),ROWS($1:65))),"")} | E67: =IFERROR(INDEX(General!$C$3:$C$103,MATCH(Stage!C67,General!$A$3:$A$103,0)),"") | G67: =IFERROR(INDEX(General!$B$3:$B$103,MATCH(Stage!C67,General!$A$3:$A$103,0)),"")
C68: {=IF(ROWS($1:66)<=COUNTIF(General!$G$3:$G$103,1),INDEX(General!$A$3:$A$103,SMALL(IF(General!$G$3:$G$103=1,ROW(INDIRECT("1:"&ROWS(General!$A$3:$A$103)))),ROWS($1:66))),"")} | E68: =IFERROR(INDEX(General!$C$3:$C$103,MATCH(Stage!C68,General!$A$3:$A$103,0)),"") | G68: =IFERROR(INDEX(General!$B$3:$B$103,MATCH(Stage!C68,General!$A$3:$A$103,0)),"")
C69: {=IF(ROWS($1:67)<=COUNTIF(General!$G$3:$G$103,1),INDEX(General!$A$3:$A$103,SMALL(IF(General!$G$3:$G$103=1,ROW(INDIRECT("1:"&ROWS(General!$A$3:$A$103)))),ROWS($1:67))),"")} | E69: =IFERROR(INDEX(General!$C$3:$C$103,MATCH(Stage!C69,General!$A$3:$A$103,0)),"") | G69: =IFERROR(INDEX(General!$B$3:$B$103,MATCH(Stage!C69,General!$A$3:$A$103,0)),"")
C70: {=IF(ROWS($1:68)<=COUNTIF(General!$G$3:$G$103,1),INDEX(General!$A$3:$A$103,SMALL(IF(General!$G$3:$G$103=1,ROW(INDIRECT("1:"&ROWS(General!$A$3:$A$103)))),ROWS($1:68))),"")} | E70: =IFERROR(INDEX(General!$C$3:$C$103,MATCH(Stage!C70,General!$A$3:$A$103,0)),"") | G70: =IFERROR(INDEX(General!$B$3:$B$103,MATCH(Stage!C70,General!$A$3:$A$103,0)),"")
C71: {=IF(ROWS($1:69)<=COUNTIF(General!$G$3:$G$103,1),INDEX(General!$A$3:$A$103,SMALL(IF(General!$G$3:$G$103=1,ROW(INDIRECT("1:"&ROWS(General!$A$3:$A$103)))),ROWS($1:69))),"")} | E71: =IFERROR(INDEX(General!$C$3:$C$103,MATCH(Stage!C71,General!$A$3:$A$103,0)),"") | G71: =IFERROR(INDEX(General!$B$3:$B$103,MATCH(Stage!C71,General!$A$3:$A$103,0)),"")
C72: {=IF(ROWS($1:70)<=COUNTIF(General!$G$3:$G$103,1),INDEX(General!$A$3:$A$103,SMALL(IF(General!$G$3:$G$103=1,ROW(INDIRECT("1:"&ROWS(General!$A$3:$A$103)))),ROWS($1:70))),"")} | E72: =IFERROR(INDEX(General!$C$3:$C$103,MATCH(Stage!C72,General!$A$3:$A$103,0)),"") | G72: =IFERROR(INDEX(General!$B$3:$B$103,MATCH(Stage!C72,General!$A$3:$A$103,0)),"")
C73: {=IF(ROWS($1:71)<=COUNTIF(General!$G$3:$G$103,1),INDEX(General!$A$3:$A$103,SMALL(IF(General!$G$3:$G$103=1,ROW(INDIRECT("1:"&ROWS(General!$A$3:$A$103)))),ROWS($1:71))),"")} | E73: =IFERROR(INDEX(General!$C$3:$C$103,MATCH(Stage!C73,General!$A$3:$A$103,0)),"") | G73: =IFERROR(INDEX(General!$B$3:$B$103,MATCH(Stage!C73,General!$A$3:$A$103,0)),"")
C74: {=IF(ROWS($1:72)<=COUNTIF(General!$G$3:$G$103,1),INDEX(General!$A$3:$A$103,SMALL(IF(General!$G$3:$G$103=1,ROW(INDIRECT("1:"&ROWS(General!$A$3:$A$103)))),ROWS($1:72))),"")} | E74: =IFERROR(INDEX(General!$C$3:$C$103,MATCH(Stage!C74,General!$A$3:$A$103,0)),"") | G74: =IFERROR(INDEX(General!$B$3:$B$103,MATCH(Stage!C74,General!$A$3:$A$103,0)),"")
C75: {=IF(ROWS($1:73)<=COUNTIF(General!$G$3:$G$103,1),INDEX(General!$A$3:$A$103,SMALL(IF(General!$G$3:$G$103=1,ROW(INDIRECT("1:"&ROWS(General!$A$3:$A$103)))),ROWS($1:73))),"")} | E75: =IFERROR(INDEX(General!$C$3:$C$103,MATCH(Stage!C75,General!$A$3:$A$103,0)),"") | G75: =IFERROR(INDEX(General!$B$3:$B$103,MATCH(Stage!C75,General!$A$3:$A$103,0)),"")
C76: {=IF(ROWS($1:74)<=COUNTIF(General!$G$3:$G$103,1),INDEX(General!$A$3:$A$103,SMALL(IF(General!$G$3:$G$103=1,ROW(INDIRECT("1:"&ROWS(General!$A$3:$A$103)))),ROWS($1:74))),"")} | E76: =IFERROR(INDEX(General!$C$3:$C$103,MATCH(Stage!C76,General!$A$3:$A$103,0)),"") | G76: =IFERROR(INDEX(General!$B$3:$B$103,MATCH(Stage!C76,General!$A$3:$A$103,0)),"")
C77: {=IF(ROWS($1:75)<=COUNTIF(General!$G$3:$G$103,1),INDEX(General!$A$3:$A$103,SMALL(IF(General!$G$3:$G$103=1,ROW(INDIRECT("1:"&ROWS(General!$A$3:$A$103)))),ROWS($1:75))),"")} | E77: =IFERROR(INDEX(General!$C$3:$C$103,MATCH(Stage!C77,General!$A$3:$A$103,0)),"") | G77: =IFERROR(INDEX(General!$B$3:$B$103,MATCH(Stage!C77,General!$A$3:$A$103,0)),"")
C78: {=IF(ROWS($1:76)<=COUNTIF(General!$G$3:$G$103,1),INDEX(General!$A$3:$A$103,SMALL(IF(General!$G$3:$G$103=1,ROW(INDIRECT("1:"&ROWS(General!$A$3:$A$103)))),ROWS($1:76))),"")} | E78: =IFERROR(INDEX(General!$C$3:$C$103,MATCH(Stage!C78,General!$A$3:$A$103,0)),"") | G78: =IFERROR(INDEX(General!$B$3:$B$103,MATCH(Stage!C78,General!$A$3:$A$103,0)),"")
C79: {=IF(ROWS($1:77)<=COUNTIF(General!$G$3:$G$103,1),INDEX(General!$A$3:$A$103,SMALL(IF(General!$G$3:$G$103=1,ROW(INDIRECT("1:"&ROWS(General!$A$3:$A$103)))),ROWS($1:77))),"")} | E79: =IFERROR(INDEX(General!$C$3:$C$103,MATCH(Stage!C79,General!$A$3:$A$103,0)),"") | G79: =IFERROR(INDEX(General!$B$3:$B$103,MATCH(Stage!C79,General!$A$3:$A$103,0)),"")
C80: {=IF(ROWS($1:78)<=COUNTIF(General!$G$3:$G$103,1),INDEX(General!$A$3:$A$103,SMALL(IF(General!$G$3:$G$103=1,ROW(INDIRECT("1:"&ROWS(General!$A$3:$A$103)))),ROWS($1:78))),"")} | E80: =IFERROR(INDEX(General!$C$3:$C$103,MATCH(Stage!C80,General!$A$3:$A$103,0)),"") | G80: =IFERROR(INDEX(General!$B$3:$B$103,MATCH(Stage!C80,General!$A$3:$A$103,0)),"")
C81: {=IF(ROWS($1:79)<=COUNTIF(General!$G$3:$G$103,1),INDEX(General!$A$3:$A$103,SMALL(IF(General!$G$3:$G$103=1,ROW(INDIRECT("1:"&ROWS(General!$A$3:$A$103)))),ROWS($1:79))),"")} | E81: =IFERROR(INDEX(General!$C$3:$C$103,MATCH(Stage!C81,General!$A$3:$A$103,0)),"") | G81: =IFERROR(INDEX(General!$B$3:$B$103,MATCH(Stage!C81,General!$A$3:$A$103,0)),"")
C82: {=IF(ROWS($1:80)<=COUNTIF(General!$G$3:$G$103,1),INDEX(General!$A$3:$A$103,SMALL(IF(General!$G$3:$G$103=1,ROW(INDIRECT("1:"&ROWS(General!$A$3:$A$103)))),ROWS($1:80))),"")} | E82: =IFERROR(INDEX(General!$C$3:$C$103,MATCH(Stage!C82,General!$A$3:$A$103,0)),"") | G82: =IFERROR(INDEX(General!$B$3:$B$103,MATCH(Stage!C82,General!$A$3:$A$103,0)),"")
C83: {=IF(ROWS($1:81)<=COUNTIF(General!$G$3:$G$103,1),INDEX(General!$A$3:$A$103,SMALL(IF(General!$G$3:$G$103=1,ROW(INDIRECT("1:"&ROWS(General!$A$3:$A$103)))),ROWS($1:81))),"")} | E83: =IFERROR(INDEX(General!$C$3:$C$103,MATCH(Stage!C83,General!$A$3:$A$103,0)),"") | G83: =IFERROR(INDEX(General!$B$3:$B$103,MATCH(Stage!C83,General!$A$3:$A$103,0)),"")
C84: {=IF(ROWS($1:82)<=COUNTIF(General!$G$3:$G$103,1),INDEX(General!$A$3:$A$103,SMALL(IF(General!$G$3:$G$103=1,ROW(INDIRECT("1:"&ROWS(General!$A$3:$A$103)))),ROWS($1:82))),"")} | E84: =IFERROR(INDEX(General!$C$3:$C$103,MATCH(Stage!C84,General!$A$3:$A$103,0)),"") | G84: =IFERROR(INDEX(General!$B$3:$B$103,MATCH(Stage!C84,General!$A$3:$A$103,0)),"")
C85: {=IF(ROWS($1:83)<=COUNTIF(General!$G$3:$G$103,1),INDEX(General!$A$3:$A$103,SMALL(IF(General!$G$3:$G$103=1,ROW(INDIRECT("1:"&ROWS(General!$A$3:$A$103)))),ROWS($1:83))),"")} | E85: =IFERROR(INDEX(General!$C$3:$C$103,MATCH(Stage!C85,General!$A$3:$A$103,0)),"") | G85: =IFERROR(INDEX(General!$B$3:$B$103,MATCH(Stage!C85,General!$A$3:$A$103,0)),"")
C86: {=IF(ROWS($1:84)<=COUNTIF(General!$G$3:$G$103,1),INDEX(General!$A$3:$A$103,SMALL(IF(General!$G$3:$G$103=1,ROW(INDIRECT("1:"&ROWS(General!$A$3:$A$103)))),ROWS($1:84))),"")} | E86: =IFERROR(INDEX(General!$C$3:$C$103,MATCH(Stage!C86,General!$A$3:$A$103,0)),"") | G86: =IFERROR(INDEX(General!$B$3:$B$103,MATCH(Stage!C86,General!$A$3:$A$103,0)),"")
C87: {=IF(ROWS($1:85)<=COUNTIF(General!$G$3:$G$103,1),INDEX(General!$A$3:$A$103,SMALL(IF(General!$G$3:$G$103=1,ROW(INDIRECT("1:"&ROWS(General!$A$3:$A$103)))),ROWS($1:85))),"")} | E87: =IFERROR(INDEX(General!$C$3:$C$103,MATCH(Stage!C87,General!$A$3:$A$103,0)),"") | G87: =IFERROR(INDEX(General!$B$3:$B$103,MATCH(Stage!C87,General!$A$3:$A$103,0)),"")
C88: {=IF(ROWS($1:86)<=COUNTIF(General!$G$3:$G$103,1),INDEX(General!$A$3:$A$103,SMALL(IF(General!$G$3:$G$103=1,ROW(INDIRECT("1:"&ROWS(General!$A$3:$A$103)))),ROWS($1:86))),"")} | E88: =IFERROR(INDEX(General!$C$3:$C$103,MATCH(Stage!C88,General!$A$3:$A$103,0)),"") | G88: =IFERROR(INDEX(General!$B$3:$B$103,MATCH(Stage!C88,General!$A$3:$A$103,0)),"")
C89: {=IF(ROWS($1:87)<=COUNTIF(General!$G$3:$G$103,1),INDEX(General!$A$3:$A$103,SMALL(IF(General!$G$3:$G$103=1,ROW(INDIRECT("1:"&ROWS(General!$A$3:$A$103)))),ROWS($1:87))),"")} | E89: =IFERROR(INDEX(General!$C$3:$C$103,MATCH(Stage!C89,General!$A$3:$A$103,0)),"") | G89: =IFERROR(INDEX(General!$B$3:$B$103,MATCH(Stage!C89,General!$A$3:$A$103,0)),"")
C90: {=IF(ROWS($1:88)<=COUNTIF(General!$G$3:$G$103,1),INDEX(General!$A$3:$A$103,SMALL(IF(General!$G$3:$G$103=1,ROW(INDIRECT("1:"&ROWS(General!$A$3:$A$103)))),ROWS($1:88))),"")} | E90: =IFERROR(INDEX(General!$C$3:$C$103,MATCH(Stage!C90,General!$A$3:$A$103,0)),"") | G90: =IFERROR(INDEX(General!$B$3:$B$103,MATCH(Stage!C90,General!$A$3:$A$103,0)),"")
C91: {=IF(ROWS($1:89)<=COUNTIF(General!$G$3:$G$103,1),INDEX(General!$A$3:$A$103,SMALL(IF(General!$G$3:$G$103=1,ROW(INDIRECT("1:"&ROWS(General!$A$3:$A$103)))),ROWS($1:89))),"")} | E91: =IFERROR(INDEX(General!$C$3:$C$103,MATCH(Stage!C91,General!$A$3:$A$103,0)),"") | G91: =IFERROR(INDEX(General!$B$3:$B$103,MATCH(Stage!C91,General!$A$3:$A$103,0)),"")
C92: {=IF(ROWS($1:90)<=COUNTIF(General!$G$3:$G$103,1),INDEX(General!$A$3:$A$103,SMALL(IF(General!$G$3:$G$103=1,ROW(INDIRECT("1:"&ROWS(General!$A$3:$A$103)))),ROWS($1:90))),"")} | E92: =IFERROR(INDEX(General!$C$3:$C$103,MATCH(Stage!C92,General!$A$3:$A$103,0)),"") | G92: =IFERROR(INDEX(General!$B$3:$B$103,MATCH(Stage!C92,General!$A$3:$A$103,0)),"")
C93: {=IF(ROWS($1:91)<=COUNTIF(General!$G$3:$G$103,1),INDEX(General!$A$3:$A$103,SMALL(IF(General!$G$3:$G$103=1,ROW(INDIRECT("1:"&ROWS(General!$A$3:$A$103)))),ROWS($1:91))),"")} | E93: =IFERROR(INDEX(General!$C$3:$C$103,MATCH(Stage!C93,General!$A$3:$A$103,0)),"") | G93: =IFERROR(INDEX(General!$B$3:$B$103,MATCH(Stage!C93,General!$A$3:$A$103,0)),"")
C94: {=IF(ROWS($1:92)<=COUNTIF(General!$G$3:$G$103,1),INDEX(General!$A$3:$A$103,SMALL(IF(General!$G$3:$G$103=1,ROW(INDIRECT("1:"&ROWS(General!$A$3:$A$103)))),ROWS($1:92))),"")} | E94: =IFERROR(INDEX(General!$C$3:$C$103,MATCH(Stage!C94,General!$A$3:$A$103,0)),"") | G94: =IFERROR(INDEX(General!$B$3:$B$103,MATCH(Stage!C94,General!$A$3:$A$103,0)),"")
C95: {=IF(ROWS($1:93)<=COUNTIF(General!$G$3:$G$103,1),INDEX(General!$A$3:$A$103,SMALL(IF(General!$G$3:$G$103=1,ROW(INDIRECT("1:"&ROWS(General!$A$3:$A$103)))),ROWS($1:93))),"")} | E95: =IFERROR(INDEX(General!$C$3:$C$103,MATCH(Stage!C95,General!$A$3:$A$103,0)),"") | G95: =IFERROR(INDEX(General!$B$3:$B$103,MATCH(Stage!C95,General!$A$3:$A$103,0)),"")
C96: {=IF(ROWS($1:94)<=COUNTIF(General!$G$3:$G$103,1),INDEX(General!$A$3:$A$103,SMALL(IF(General!$G$3:$G$103=1,ROW(INDIRECT("1:"&ROWS(General!$A$3:$A$103)))),ROWS($1:94))),"")} | E96: =IFERROR(INDEX(General!$C$3:$C$103,MATCH(Stage!C96,General!$A$3:$A$103,0)),"") | G96: =IFERROR(INDEX(General!$B$3:$B$103,MATCH(Stage!C96,General!$A$3:$A$103,0)),"")
C97: {=IF(ROWS($1:95)<=COUNTIF(General!$G$3:$G$103,1),INDEX(General!$A$3:$A$103,SMALL(IF(General!$G$3:$G$103=1,ROW(INDIRECT("1:"&ROWS(General!$A$3:$A$103)))),ROWS($1:95))),"")} | E97: =IFERROR(INDEX(General!$C$3:$C$103,MATCH(Stage!C97,General!$A$3:$A$103,0)),"") | G97: =IFERROR(INDEX(General!$B$3:$B$103,MATCH(Stage!C97,General!$A$3:$A$103,0)),"")
C98: {=IF(ROWS($1:96)<=COUNTIF(General!$G$3:$G$103,1),INDEX(General!$A$3:$A$103,SMALL(IF(General!$G$3:$G$103=1,ROW(INDIRECT("1:"&ROWS(General!$A$3:$A$103)))),ROWS($1:96))),"")} | E98: =IFERROR(INDEX(General!$C$3:$C$103,MATCH(Stage!C98,General!$A$3:$A$103,0)),"") | G98: =IFERROR(INDEX(General!$B$3:$B$103,MATCH(Stage!C98,General!$A$3:$A$103,0)),"")
C99: =IF(General!F99,General!A99," ") | E99: =IF(General!F99,General!C99," ") | G99: =IF(General!F99,General!B99," ")
C100: =IF(General!F100,General!A100," ") | E100: =IF(General!F100,General!C100," ") | G100: =IF(General!F100,General!B100," ")
C101: =IF(General!F101,General!A101," ") | E101: =IF(General!F101,General!C101," ") | G101: =IF(General!F101,General!B101," ")
...

Sheet Adhésion
A1: INTERESSE POUR ADHESION | C1: NOM | E1: MAIL | G1: TELEPHONE
C3: {=IF(ROWS($1:1)<=COUNTIF(General!$H$3:$H$103,1),INDEX(General!$A$3:$A$103,SMALL(IF(General!$H$3:$H$103=1,ROW(INDIRECT("1:"&ROWS(General!$A$3:$A$103)))),ROWS($1:1))),"")} -> Costa Ledormeur | E3: =IFERROR(INDEX(General!$C$3:$C$103,MATCH(Adhésion!C3,General!$A$3:$A$103,0)),"") -> costa.ledormeur.85@gmail.com | G3: =IFERROR(INDEX(General!$B$3:$B$103,MATCH(Adhésion!C3,General!$A$3:$A$103,0)),"") -> 674416225
C4: {=IF(ROWS($1:2)<=COUNTIF(General!$H$3:$H$103,1),INDEX(General!$A$3:$A$103,SMALL(IF(General!$H$3:$H$103=1,ROW(INDIRECT("1:"&ROWS(General!$A$3:$A$103)))),ROWS($1:2))),"")} | E4: =IFERROR(INDEX(General!$C$3:$C$103,MATCH(Adhésion!C4,General!$A$3:$A$103,0)),"") | G4: =IFERROR(INDEX(General!$B$3:$B$103,MATCH(Adhésion!C4,General!$A$3:$A$103,0)),"")
C5: {=IF(ROWS($1:3)<=COUNTIF(General!$H$3:$H$103,1),INDEX(General!$A$3:$A$103,SMALL(IF(General!$H$3:$H$103=1,ROW(INDIRECT("1:"&ROWS(General!$A$3:$A$103)))),ROWS($1:3))),"")} | E5: =IFERROR(INDEX(General!$C$3:$C$103,MATCH(Adhésion!C5,General!$A$3:$A$103,0)),"") | G5: =IFERROR(INDEX(General!$B$3:$B$103,MATCH(Adhésion!C5,General!$A$3:$A$103,0)),"")
C6: {=IF(ROWS($1:4)<=COUNTIF(General!$H$3:$H$103,1),INDEX(General!$A$3:$A$103,SMALL(IF(General!$H$3:$H$103=1,ROW(INDIRECT("1:"&ROWS(General!$A$3:$A$103)))),ROWS($1:4))),"")} | E6: =IFERROR(INDEX(General!$C$3:$C$103,MATCH(Adhésion!C6,General!$A$3:$A$103,0)),"") | G6: =IFERROR(INDEX(General!$B$3:$B$103,MATCH(Adhésion!C6,General!$A$3:$A$103,0)),"")
C7: {=IF(ROWS($1:5)<=COUNTIF(General!$H$3:$H$103,1),INDEX(General!$A$3:$A$103,SMALL(IF(General!$H$3:$H$103=1,ROW(INDIRECT("1:"&ROWS(General!$A$3:$A$103)))),ROWS($1:5))),"")} | E7: =IFERROR(INDEX(General!$C$3:$C$103,MATCH(Adhésion!C7,General!$A$3:$A$103,0)),"") | G7: =IFERROR(INDEX(General!$B$3:$B$103,MATCH(Adhésion!C7,General!$A$3:$A$103,0)),"")
C8: {=IF(ROWS($1:6)<=COUNTIF(General!$H$3:$H$103,1),INDEX(General!$A$3:$A$103,SMALL(IF(General!$H$3:$H$103=1,ROW(INDIRECT("1:"&ROWS(General!$A$3:$A$103)))),ROWS($1:6))),"")} | E8: =IFERROR(INDEX(General!$C$3:$C$103,MATCH(Adhésion!C8,General!$A$3:$A$103,0)),"") | G8: =IFERROR(INDEX(General!$B$3:$B$103,MATCH(Adhésion!C8,General!$A$3:$A$103,0)),"")
C9: {=IF(ROWS($1:7)<=COUNTIF(General!$H$3:$H$103,1),INDEX(General!$A$3:$A$103,SMALL(IF(General!$H$3:$H$103=1,ROW(INDIRECT("1:"&ROWS(General!$A$3:$A$103)))),ROWS($1:7))),"")} | E9: =IFERROR(INDEX(General!$C$3:$C$103,MATCH(Adhésion!C9,General!$A$3:$A$103,0)),"") | G9: =IFERROR(INDEX(General!$B$3:$B$103,MATCH(Adhésion!C9,General!$A$3:$A$103,0)),"")
C10: {=IF(ROWS($1:8)<=COUNTIF(General!$H$3:$H$103,1),INDEX(General!$A$3:$A$103,SMALL(IF(General!$H$3:$H$103=1,ROW(INDIRECT("1:"&ROWS(General!$A$3:$A$103)))),ROWS($1:8))),"")} | E10: =IFERROR(INDEX(General!$C$3:$C$103,MATCH(Adhésion!C10,General!$A$3:$A$103,0)),"") | G10: =IFERROR(INDEX(General!$B$3:$B$103,MATCH(Adhésion!C10,General!$A$3:$A$103,0)),"")
C11: {=IF(ROWS($1:9)<=COUNTIF(General!$H$3:$H$103,1),INDEX(General!$A$3:$A$103,SMALL(IF(General!$H$3:$H$103=1,ROW(INDIRECT("1:"&ROWS(General!$A$3:$A$103)))),ROWS($1:9))),"")} | E11: =IFERROR(INDEX(General!$C$3:$C$103,MATCH(Adhésion!C11,General!$A$3:$A$103,0)),"") | G11: =IFERROR(INDEX(General!$B$3:$B$103,MATCH(Adhésion!C11,General!$A$3:$A$103,0)),"")
C12: {=IF(ROWS($1:10)<=COUNTIF(General!$H$3:$H$103,1),INDEX(General!$A$3:$A$103,SMALL(IF(General!$H$3:$H$103=1,ROW(INDIRECT("1:"&ROWS(General!$A$3:$A$103)))),ROWS($1:10))),"")} | E12: =IFERROR(INDEX(General!$C$3:$C$103,MATCH(Adhésion!C12,General!$A$3:$A$103,0)),"") | G12: =IFERROR(INDEX(General!$B$3:$B$103,MATCH(Adhésion!C12,General!$A$3:$A$103,0)),"")
C13: {=IF(ROWS($1:11)<=COUNTIF(General!$H$3:$H$103,1),INDEX(General!$A$3:$A$103,SMALL(IF(General!$H$3:$H$103=1,ROW(INDIRECT("1:"&ROWS(General!$A$3:$A$103)))),ROWS($1:11))),"")} | E13: =IFERROR(INDEX(General!$C$3:$C$103,MATCH(Adhésion!C13,General!$A$3:$A$103,0)),"") | G13: =IFERROR(INDEX(General!$B$3:$B$103,MATCH(Adhésion!C13,General!$A$3:$A$103,0)),"")
C14: {=IF(ROWS($1:12)<=COUNTIF(General!$H$3:$H$103,1),INDEX(General!$A$3:$A$103,SMALL(IF(General!$H$3:$H$103=1,ROW(INDIRECT("1:"&ROWS(General!$A$3:$A$103)))),ROWS($1:12))),"")} | E14: =IFERROR(INDEX(General!$C$3:$C$103,MATCH(Adhésion!C14,General!$A$3:$A$103,0)),"") | G14: =IFERROR(INDEX(General!$B$3:$B$103,MATCH(Adhésion!C14,General!$A$3:$A$103,0)),"")
C15: {=IF(ROWS($1:13)<=COUNTIF(General!$H$3:$H$103,1),INDEX(General!$A$3:$A$103,SMALL(IF(General!$H$3:$H$103=1,ROW(INDIRECT("1:"&ROWS(General!$A$3:$A$103)))),ROWS($1:13))),"")} | E15: =IFERROR(INDEX(General!$C$3:$C$103,MATCH(Adhésion!C15,General!$A$3:$A$103,0)),"") | G15: =IFERROR(INDEX(General!$B$3:$B$103,MATCH(Adhésion!C15,General!$A$3:$A$103,0)),"")
C16: {=IF(ROWS($1:14)<=COUNTIF(General!$H$3:$H$103,1),INDEX(General!$A$3:$A$103,SMALL(IF(General!$H$3:$H$103=1,ROW(INDIRECT("1:"&ROWS(General!$A$3:$A$103)))),ROWS($1:14))),"")} | E16: =IFERROR(INDEX(General!$C$3:$C$103,MATCH(Adhésion!C16,General!$A$3:$A$103,0)),"") | G16: =IFERROR(INDEX(General!$B$3:$B$103,MATCH(Adhésion!C16,General!$A$3:$A$103,0)),"")
C17: {=IF(ROWS($1:15)<=COUNTIF(General!$H$3:$H$103,1),INDEX(General!$A$3:$A$103,SMALL(IF(General!$H$3:$H$103=1,ROW(INDIRECT("1:"&ROWS(General!$A$3:$A$103)))),ROWS($1:15))),"")} | E17: =IFERROR(INDEX(General!$C$3:$C$103,MATCH(Adhésion!C17,General!$A$3:$A$103,0)),"") | G17: =IFERROR(INDEX(General!$B$3:$B$103,MATCH(Adhésion!C17,General!$A$3:$A$103,0)),"")
C18: {=IF(ROWS($1:16)<=COUNTIF(General!$H$3:$H$103,1),INDEX(General!$A$3:$A$103,SMALL(IF(General!$H$3:$H$103=1,ROW(INDIRECT("1:"&ROWS(General!$A$3:$A$103)))),ROWS($1:16))),"")} | E18: =IFERROR(INDEX(General!$C$3:$C$103,MATCH(Adhésion!C18,General!$A$3:$A$103,0)),"") | G18: =IFERROR(INDEX(General!$B$3:$B$103,MATCH(Adhésion!C18,General!$A$3:$A$103,0)),"")
C19: {=IF(ROWS($1:17)<=COUNTIF(General!$H$3:$H$103,1),INDEX(General!$A$3:$A$103,SMALL(IF(General!$H$3:$H$103=1,ROW(INDIRECT("1:"&ROWS(General!$A$3:$A$103)))),ROWS($1:17))),"")} | E19: =IFERROR(INDEX(General!$C$3:$C$103,MATCH(Adhésion!C19,General!$A$3:$A$103,0)),"") | G19: =IFERROR(INDEX(General!$B$3:$B$103,MATCH(Adhésion!C19,General!$A$3:$A$103,0)),"")
C20: {=IF(ROWS($1:18)<=COUNTIF(General!$H$3:$H$103,1),INDEX(General!$A$3:$A$103,SMALL(IF(General!$H$3:$H$103=1,ROW(INDIRECT("1:"&ROWS(General!$A$3:$A$103)))),ROWS($1:18))),"")} | E20: =IFERROR(INDEX(General!$C$3:$C$103,MATCH(Adhésion!C20,General!$A$3:$A$103,0)),"") | G20: =IFERROR(INDEX(General!$B$3:$B$103,MATCH(Adhésion!C20,General!$A$3:$A$103,0)),"")
C21: {=IF(ROWS($1:19)<=COUNTIF(General!$H$3:$H$103,1),INDEX(General!$A$3:$A$103,SMALL(IF(General!$H$3:$H$103=1,ROW(INDIRECT("1:"&ROWS(General!$A$3:$A$103)))),ROWS($1:19))),"")} | E21: =IFERROR(INDEX(General!$C$3:$C$103,MATCH(Adhésion!C21,General!$A$3:$A$103,0)),"") | G21: =IFERROR(INDEX(General!$B$3:$B$103,MATCH(Adhésion!C21,General!$A$3:$A$103,0)),"")
C22: {=IF(ROWS($1:20)<=COUNTIF(General!$H$3:$H$103,1),INDEX(General!$A$3:$A$103,SMALL(IF(General!$H$3:$H$103=1,ROW(INDIRECT("1:"&ROWS(General!$A$3:$A$103)))),ROWS($1:20))),"")} | E22: =IFERROR(INDEX(General!$C$3:$C$103,MATCH(Adhésion!C22,General!$A$3:$A$103,0)),"") | G22: =IFERROR(INDEX(General!$B$3:$B$103,MATCH(Adhésion!C22,General!$A$3:$A$103,0)),"")
C23: {=IF(ROWS($1:21)<=COUNTIF(General!$H$3:$H$103,1),INDEX(General!$A$3:$A$103,SMALL(IF(General!$H$3:$H$103=1,ROW(INDIRECT("1:"&ROWS(General!$A$3:$A$103)))),ROWS($1:21))),"")} | E23: =IFERROR(INDEX(General!$C$3:$C$103,MATCH(Adhésion!C23,General!$A$3:$A$103,0)),"") | G23: =IFERROR(INDEX(General!$B$3:$B$103,MATCH(Adhésion!C23,General!$A$3:$A$103,0)),"")
C24: {=IF(ROWS($1:22)<=COUNTIF(General!$H$3:$H$103,1),INDEX(General!$A$3:$A$103,SMALL(IF(General!$H$3:$H$103=1,ROW(INDIRECT("1:"&ROWS(General!$A$3:$A$103)))),ROWS($1:22))),"")} | E24: =IFERROR(INDEX(General!$C$3:$C$103,MATCH(Adhésion!C24,General!$A$3:$A$103,0)),"") | G24: =IFERROR(INDEX(General!$B$3:$B$103,MATCH(Adhésion!C24,General!$A$3:$A$103,0)),"")
C25: {=IF(ROWS($1:23)<=COUNTIF(General!$H$3:$H$103,1),INDEX(General!$A$3:$A$103,SMALL(IF(General!$H$3:$H$103=1,ROW(INDIRECT("1:"&ROWS(General!$A$3:$A$103)))),ROWS($1:23))),"")} | E25: =IFERROR(INDEX(General!$C$3:$C$103,MATCH(Adhésion!C25,General!$A$3:$A$103,0)),"") | G25: =IFERROR(INDEX(General!$B$3:$B$103,MATCH(Adhésion!C25,General!$A$3:$A$103,0)),"")
C26: {=IF(ROWS($1:24)<=COUNTIF(General!$H$3:$H$103,1),INDEX(General!$A$3:$A$103,SMALL(IF(General!$H$3:$H$103=1,ROW(INDIRECT("1:"&ROWS(General!$A$3:$A$103)))),ROWS($1:24))),"")} | E26: =IFERROR(INDEX(General!$C$3:$C$103,MATCH(Adhésion!C26,General!$A$3:$A$103,0)),"") | G26: =IFERROR(INDEX(General!$B$3:$B$103,MATCH(Adhésion!C26,General!$A$3:$A$103,0)),"")
C27: {=IF(ROWS($1:25)<=COUNTIF(General!$H$3:$H$103,1),INDEX(General!$A$3:$A$103,SMALL(IF(General!$H$3:$H$103=1,ROW(INDIRECT("1:"&ROWS(General!$A$3:$A$103)))),ROWS($1:25))),"")} | E27: =IFERROR(INDEX(General!$C$3:$C$103,MATCH(Adhésion!C27,General!$A$3:$A$103,0)),"") | G27: =IFERROR(INDEX(General!$B$3:$B$103,MATCH(Adhésion!C27,General!$A$3:$A$103,0)),"")
C28: {=IF(ROWS($1:26)<=COUNTIF(General!$H$3:$H$103,1),INDEX(General!$A$3:$A$103,SMALL(IF(General!$H$3:$H$103=1,ROW(INDIRECT("1:"&ROWS(General!$A$3:$A$103)))),ROWS($1:26))),"")} | E28: =IFERROR(INDEX(General!$C$3:$C$103,MATCH(Adhésion!C28,General!$A$3:$A$103,0)),"") | G28: =IFERROR(INDEX(General!$B$3:$B$103,MATCH(Adhésion!C28,General!$A$3:$A$103,0)),"")
C29: {=IF(ROWS($1:27)<=COUNTIF(General!$H$3:$H$103,1),INDEX(General!$A$3:$A$103,SMALL(IF(General!$H$3:$H$103=1,ROW(INDIRECT("1:"&ROWS(General!$A$3:$A$103)))),ROWS($1:27))),"")} | E29: =IFERROR(INDEX(General!$C$3:$C$103,MATCH(Adhésion!C29,General!$A$3:$A$103,0)),"") | G29: =IFERROR(INDEX(General!$B$3:$B$103,MATCH(Adhésion!C29,General!$A$3:$A$103,0)),"")
C30: {=IF(ROWS($1:28)<=COUNTIF(General!$H$3:$H$103,1),INDEX(General!$A$3:$A$103,SMALL(IF(General!$H$3:$H$103=1,ROW(INDIRECT("1:"&ROWS(General!$A$3:$A$103)))),ROWS($1:28))),"")} | E30: =IFERROR(INDEX(General!$C$3:$C$103,MATCH(Adhésion!C30,General!$A$3:$A$103,0)),"") | G30: =IFERROR(INDEX(General!$B$3:$B$103,MATCH(Adhésion!C30,General!$A$3:$A$103,0)),"")
C31: {=IF(ROWS($1:29)<=COUNTIF(General!$H$3:$H$103,1),INDEX(General!$A$3:$A$103,SMALL(IF(General!$H$3:$H$103=1,ROW(INDIRECT("1:"&ROWS(General!$A$3:$A$103)))),ROWS($1:29))),"")} | E31: =IFERROR(INDEX(General!$C$3:$C$103,MATCH(Adhésion!C31,General!$A$3:$A$103,0)),"") | G31: =IFERROR(INDEX(General!$B$3:$B$103,MATCH(Adhésion!C31,General!$A$3:$A$103,0)),"")
C32: {=IF(ROWS($1:30)<=COUNTIF(General!$H$3:$H$103,1),INDEX(General!$A$3:$A$103,SMALL(IF(General!$H$3:$H$103=1,ROW(INDIRECT("1:"&ROWS(General!$A$3:$A$103)))),ROWS($1:30))),"")} | E32: =IFERROR(INDEX(General!$C$3:$C$103,MATCH(Adhésion!C32,General!$A$3:$A$103,0)),"") | G32: =IFERROR(INDEX(General!$B$3:$B$103,MATCH(Adhésion!C32,General!$A$3:$A$103,0)),"")
C33: {=IF(ROWS($1:31)<=COUNTIF(General!$H$3:$H$103,1),INDEX(General!$A$3:$A$103,SMALL(IF(General!$H$3:$H$103=1,ROW(INDIRECT("1:"&ROWS(General!$A$3:$A$103)))),ROWS($1:31))),"")} | E33: =IFERROR(INDEX(General!$C$3:$C$103,MATCH(Adhésion!C33,General!$A$3:$A$103,0)),"") | G33: =IFERROR(INDEX(General!$B$3:$B$103,MATCH(Adhésion!C33,General!$A$3:$A$103,0)),"")
C34: {=IF(ROWS($1:32)<=COUNTIF(General!$H$3:$H$103,1),INDEX(General!$A$3:$A$103,SMALL(IF(General!$H$3:$H$103=1,ROW(INDIRECT("1:"&ROWS(General!$A$3:$A$103)))),ROWS($1:32))),"")} | E34: =IFERROR(INDEX(General!$C$3:$C$103,MATCH(Adhésion!C34,General!$A$3:$A$103,0)),"") | G34: =IFERROR(INDEX(General!$B$3:$B$103,MATCH(Adhésion!C34,General!$A$3:$A$103,0)),"")
C35: {=IF(ROWS($1:33)<=COUNTIF(General!$H$3:$H$103,1),INDEX(General!$A$3:$A$103,SMALL(IF(General!$H$3:$H$103=1,ROW(INDIRECT("1:"&ROWS(General!$A$3:$A$103)))),ROWS($1:33))),"")} | E35: =IFERROR(INDEX(General!$C$3:$C$103,MATCH(Adhésion!C35,General!$A$3:$A$103,0)),"") | G35: =IFERROR(INDEX(General!$B$3:$B$103,MATCH(Adhésion!C35,General!$A$3:$A$103,0)),"")
C36: {=IF(ROWS($1:34)<=COUNTIF(General!$H$3:$H$103,1),INDEX(General!$A$3:$A$103,SMALL(IF(General!$H$3:$H$103=1,ROW(INDIRECT("1:"&ROWS(General!$A$3:$A$103)))),ROWS($1:34))),"")} | E36: =IFERROR(INDEX(General!$C$3:$C$103,MATCH(Adhésion!C36,General!$A$3:$A$103,0)),"") | G36: =IFERROR(INDEX(General!$B$3:$B$103,MATCH(Adhésion!C36,General!$A$3:$A$103,0)),"")
C37: {=IF(ROWS($1:35)<=COUNTIF(General!$H$3:$H$103,1),INDEX(General!$A$3:$A$103,SMALL(IF(General!$H$3:$H$103=1,ROW(INDIRECT("1:"&ROWS(General!$A$3:$A$103)))),ROWS($1:35))),"")} | E37: =IFERROR(INDEX(General!$C$3:$C$103,MATCH(Adhésion!C37,General!$A$3:$A$103,0)),"") | G37: =IFERROR(INDEX(General!$B$3:$B$103,MATCH(Adhésion!C37,General!$A$3:$A$103,0)),"")
C38: {=IF(ROWS($1:36)<=COUNTIF(General!$H$3:$H$103,1),INDEX(General!$A$3:$A$103,SMALL(IF(General!$H$3:$H$103=1,ROW(INDIRECT("1:"&ROWS(General!$A$3:$A$103)))),ROWS($1:36))),"")} | E38: =IFERROR(INDEX(General!$C$3:$C$103,MATCH(Adhésion!C38,General!$A$3:$A$103,0)),"") | G38: =IFERROR(INDEX(General!$B$3:$B$103,MATCH(Adhésion!C38,General!$A$3:$A$103,0)),"")
C39: {=IF(ROWS($1:37)<=COUNTIF(General!$H$3:$H$103,1),INDEX(General!$A$3:$A$103,SMALL(IF(General!$H$3:$H$103=1,ROW(INDIRECT("1:"&ROWS(General!$A$3:$A$103)))),ROWS($1:37))),"")} | E39: =IFERROR(INDEX(General!$C$3:$C$103,MATCH(Adhésion!C39,General!$A$3:$A$103,0)),"") | G39: =IFERROR(INDEX(General!$B$3:$B$103,MATCH(Adhésion!C39,General!$A$3:$A$103,0)),"")
C40: {=IF(ROWS($1:38)<=COUNTIF(General!$H$3:$H$103,1),INDEX(General!$A$3:$A$103,SMALL(IF(General!$H$3:$H$103=1,ROW(INDIRECT("1:"&ROWS(General!$A$3:$A$103)))),ROWS($1:38))),"")} | E40: =IFERROR(INDEX(General!$C$3:$C$103,MATCH(Adhésion!C40,General!$A$3:$A$103,0)),"") | G40: =IFERROR(INDEX(General!$B$3:$B$103,MATCH(Adhésion!C40,General!$A$3:$A$103,0)),"")
C41: {=IF(ROWS($1:39)<=COUNTIF(General!$H$3:$H$103,1),INDEX(General!$A$3:$A$103,SMALL(IF(General!$H$3:$H$103=1,ROW(INDIRECT("1:"&ROWS(General!$A$3:$A$103)))),ROWS($1:39))),"")} | E41: =IFERROR(INDEX(General!$C$3:$C$103,MATCH(Adhésion!C41,General!$A$3:$A$103,0)),"") | G41: =IFERROR(INDEX(General!$B$3:$B$103,MATCH(Adhésion!C41,General!$A$3:$A$103,0)),"")
C42: {=IF(ROWS($1:40)<=COUNTIF(General!$H$3:$H$103,1),INDEX(General!$A$3:$A$103,SMALL(IF(General!$H$3:$H$103=1,ROW(INDIRECT("1:"&ROWS(General!$A$3:$A$103)))),ROWS($1:40))),"")} | E42: =IFERROR(INDEX(General!$C$3:$C$103,MATCH(Adhésion!C42,General!$A$3:$A$103,0)),"") | G42: =IFERROR(INDEX(General!$B$3:$B$103,MATCH(Adhésion!C42,General!$A$3:$A$103,0)),"")
C43: {=IF(ROWS($1:41)<=COUNTIF(General!$H$3:$H$103,1),INDEX(General!$A$3:$A$103,SMALL(IF(General!$H$3:$H$103=1,ROW(INDIRECT("1:"&ROWS(General!$A$3:$A$103)))),ROWS($1:41))),"")} | E43: =IFERROR(INDEX(General!$C$3:$C$103,MATCH(Adhésion!C43,General!$A$3:$A$103,0)),"") | G43: =IFERROR(INDEX(General!$B$3:$B$103,MATCH(Adhésion!C43,General!$A$3:$A$103,0)),"")
C44: {=IF(ROWS($1:42)<=COUNTIF(General!$H$3:$H$103,1),INDEX(General!$A$3:$A$103,SMALL(IF(General!$H$3:$H$103=1,ROW(INDIRECT("1:"&ROWS(General!$A$3:$A$103)))),ROWS($1:42))),"")} | E44: =IFERROR(INDEX(General!$C$3:$C$103,MATCH(Adhésion!C44,General!$A$3:$A$103,0)),"") | G44: =IFERROR(INDEX(General!$B$3:$B$103,MATCH(Adhésion!C44,General!$A$3:$A$103,0)),"")
C45: {=IF(ROWS($1:43)<=COUNTIF(General!$H$3:$H$103,1),INDEX(General!$A$3:$A$103,SMALL(IF(General!$H$3:$H$103=1,ROW(INDIRECT("1:"&ROWS(General!$A$3:$A$103)))),ROWS($1:43))),"")} | E45: =IFERROR(INDEX(General!$C$3:$C$103,MATCH(Adhésion!C45,General!$A$3:$A$103,0)),"") | G45: =IFERROR(INDEX(General!$B$3:$B$103,MATCH(Adhésion!C45,General!$A$3:$A$103,0)),"")
C46: {=IF(ROWS($1:44)<=COUNTIF(General!$H$3:$H$103,1),INDEX(General!$A$3:$A$103,SMALL(IF(General!$H$3:$H$103=1,ROW(INDIRECT("1:"&ROWS(General!$A$3:$A$103)))),ROWS($1:44))),"")} | E46: =IFERROR(INDEX(General!$C$3:$C$103,MATCH(Adhésion!C46,General!$A$3:$A$103,0)),"") | G46: =IFERROR(INDEX(General!$B$3:$B$103,MATCH(Adhésion!C46,General!$A$3:$A$103,0)),"")
C47: {=IF(ROWS($1:45)<=COUNTIF(General!$H$3:$H$103,1),INDEX(General!$A$3:$A$103,SMALL(IF(General!$H$3:$H$103=1,ROW(INDIRECT("1:"&ROWS(General!$A$3:$A$103)))),ROWS($1:45))),"")} | E47: =IFERROR(INDEX(General!$C$3:$C$103,MATCH(Adhésion!C47,General!$A$3:$A$103,0)),"") | G47: =IFERROR(INDEX(General!$B$3:$B$103,MATCH(Adhésion!C47,General!$A$3:$A$103,0)),"")
C48: {=IF(ROWS($1:46)<=COUNTIF(General!$H$3:$H$103,1),INDEX(General!$A$3:$A$103,SMALL(IF(General!$H$3:$H$103=1,ROW(INDIRECT("1:"&ROWS(General!$A$3:$A$103)))),ROWS($1:46))),"")} | E48: =IFERROR(INDEX(General!$C$3:$C$103,MATCH(Adhésion!C48,General!$A$3:$A$103,0)),"") | G48: =IFERROR(INDEX(General!$B$3:$B$103,MATCH(Adhésion!C48,General!$A$3:$A$103,0)),"")
C49: {=IF(ROWS($1:47)<=COUNTIF(General!$H$3:$H$103,1),INDEX(General!$A$3:$A$103,SMALL(IF(General!$H$3:$H$103=1,ROW(INDIRECT("1:"&ROWS(General!$A$3:$A$103)))),ROWS($1:47))),"")} | E49: =IFERROR(INDEX(General!$C$3:$C$103,MATCH(Adhésion!C49,General!$A$3:$A$103,0)),"") | G49: =IFERROR(INDEX(General!$B$3:$B$103,MATCH(Adhésion!C49,General!$A$3:$A$103,0)),"")
C50: {=IF(ROWS($1:48)<=COUNTIF(General!$H$3:$H$103,1),INDEX(General!$A$3:$A$103,SMALL(IF(General!$H$3:$H$103=1,ROW(INDIRECT("1:"&ROWS(General!$A$3:$A$103)))),ROWS($1:48))),"")} | E50: =IFERROR(INDEX(General!$C$3:$C$103,MATCH(Adhésion!C50,General!$A$3:$A$103,0)),"") | G50: =IFERROR(INDEX(General!$B$3:$B$103,MATCH(Adhésion!C50,General!$A$3:$A$103,0)),"")
C51: {=IF(ROWS($1:49)<=COUNTIF(General!$H$3:$H$103,1),INDEX(General!$A$3:$A$103,SMALL(IF(General!$H$3:$H$103=1,ROW(INDIRECT("1:"&ROWS(General!$A$3:$A$103)))),ROWS($1:49))),"")} | E51: =IFERROR(INDEX(General!$C$3:$C$103,MATCH(Adhésion!C51,General!$A$3:$A$103,0)),"") | G51: =IFERROR(INDEX(General!$B$3:$B$103,MATCH(Adhésion!C51,General!$A$3:$A$103,0)),"")
C52: {=IF(ROWS($1:50)<=COUNTIF(General!$H$3:$H$103,1),INDEX(General!$A$3:$A$103,SMALL(IF(General!$H$3:$H$103=1,ROW(INDIRECT("1:"&ROWS(General!$A$3:$A$103)))),ROWS($1:50))),"")} | E52: =IFERROR(INDEX(General!$C$3:$C$103,MATCH(Adhésion!C52,General!$A$3:$A$103,0)),"") | G52: =IFERROR(INDEX(General!$B$3:$B$103,MATCH(Adhésion!C52,General!$A$3:$A$103,0)),"")
C53: {=IF(ROWS($1:51)<=COUNTIF(General!$H$3:$H$103,1),INDEX(General!$A$3:$A$103,SMALL(IF(General!$H$3:$H$103=1,ROW(INDIRECT("1:"&ROWS(General!$A$3:$A$103)))),ROWS($1:51))),"")} | E53: =IFERROR(INDEX(General!$C$3:$C$103,MATCH(Adhésion!C53,General!$A$3:$A$103,0)),"") | G53: =IFERROR(INDEX(General!$B$3:$B$103,MATCH(Adhésion!C53,General!$A$3:$A$103,0)),"")
C54: {=IF(ROWS($1:52)<=COUNTIF(General!$H$3:$H$103,1),INDEX(General!$A$3:$A$103,SMALL(IF(General!$H$3:$H$103=1,ROW(INDIRECT("1:"&ROWS(General!$A$3:$A$103)))),ROWS($1:52))),"")} | E54: =IFERROR(INDEX(General!$C$3:$C$103,MATCH(Adhésion!C54,General!$A$3:$A$103,0)),"") | G54: =IFERROR(INDEX(General!$B$3:$B$103,MATCH(Adhésion!C54,General!$A$3:$A$103,0)),"")
C55: {=IF(ROWS($1:53)<=COUNTIF(General!$H$3:$H$103,1),INDEX(General!$A$3:$A$103,SMALL(IF(General!$H$3:$H$103=1,ROW(INDIRECT("1:"&ROWS(General!$A$3:$A$103)))),ROWS($1:53))),"")} | E55: =IFERROR(INDEX(General!$C$3:$C$103,MATCH(Adhésion!C55,General!$A$3:$A$103,0)),"") | G55: =IFERROR(INDEX(General!$B$3:$B$103,MATCH(Adhésion!C55,General!$A$3:$A$103,0)),"")
C56: {=IF(ROWS($1:54)<=COUNTIF(General!$H$3:$H$103,1),INDEX(General!$A$3:$A$103,SMALL(IF(General!$H$3:$H$103=1,ROW(INDIRECT("1:"&ROWS(General!$A$3:$A$103)))),ROWS($1:54))),"")} | E56: =IFERROR(INDEX(General!$C$3:$C$103,MATCH(Adhésion!C56,General!$A$3:$A$103,0)),"") | G56: =IFERROR(INDEX(General!$B$3:$B$103,MATCH(Adhésion!C56,General!$A$3:$A$103,0)),"")
C57: {=IF(ROWS($1:55)<=COUNTIF(General!$H$3:$H$103,1),INDEX(General!$A$3:$A$103,SMALL(IF(General!$H$3:$H$103=1,ROW(INDIRECT("1:"&ROWS(General!$A$3:$A$103)))),ROWS($1:55))),"")} | E57: =IFERROR(INDEX(General!$C$3:$C$103,MATCH(Adhésion!C57,General!$A$3:$A$103,0)),"") | G57: =IFERROR(INDEX(General!$B$3:$B$103,MATCH(Adhésion!C57,General!$A$3:$A$103,0)),"")
C58: {=IF(ROWS($1:56)<=COUNTIF(General!$H$3:$H$103,1),INDEX(General!$A$3:$A$103,SMALL(IF(General!$H$3:$H$103=1,ROW(INDIRECT("1:"&ROWS(General!$A$3:$A$103)))),ROWS($1:56))),"")} | E58: =IFERROR(INDEX(General!$C$3:$C$103,MATCH(Adhésion!C58,General!$A$3:$A$103,0)),"") | G58: =IFERROR(INDEX(General!$B$3:$B$103,MATCH(Adhésion!C58,General!$A$3:$A$103,0)),"")
C59: {=IF(ROWS($1:57)<=COUNTIF(General!$H$3:$H$103,1),INDEX(General!$A$3:$A$103,SMALL(IF(General!$H$3:$H$103=1,ROW(INDIRECT("1:"&ROWS(General!$A$3:$A$103)))),ROWS($1:57))),"")} | E59: =IFERROR(INDEX(General!$C$3:$C$103,MATCH(Adhésion!C59,General!$A$3:$A$103,0)),"") | G59: =IFERROR(INDEX(General!$B$3:$B$103,MATCH(Adhésion!C59,General!$A$3:$A$103,0)),"")
C60: {=IF(ROWS($1:58)<=COUNTIF(General!$H$3:$H$103,1),INDEX(General!$A$3:$A$103,SMALL(IF(General!$H$3:$H$103=1,ROW(INDIRECT("1:"&ROWS(General!$A$3:$A$103)))),ROWS($1:58))),"")} | E60: =IFERROR(INDEX(General!$C$3:$C$103,MATCH(Adhésion!C60,General!$A$3:$A$103,0)),"") | G60: =IFERROR(INDEX(General!$B$3:$B$103,MATCH(Adhésion!C60,General!$A$3:$A$103,0)),"")
C61: {=IF(ROWS($1:59)<=COUNTIF(General!$H$3:$H$103,1),INDEX(General!$A$3:$A$103,SMALL(IF(General!$H$3:$H$103=1,ROW(INDIRECT("1:"&ROWS(General!$A$3:$A$103)))),ROWS($1:59))),"")} | E61: =IFERROR(INDEX(General!$C$3:$C$103,MATCH(Adhésion!C61,General!$A$3:$A$103,0)),"") | G61: =IFERROR(INDEX(General!$B$3:$B$103,MATCH(Adhésion!C61,General!$A$3:$A$103,0)),"")
C62: {=IF(ROWS($1:60)<=COUNTIF(General!$H$3:$H$103,1),INDEX(General!$A$3:$A$103,SMALL(IF(General!$H$3:$H$103=1,ROW(INDIRECT("1:"&ROWS(General!$A$3:$A$103)))),ROWS($1:60))),"")} | E62: =IFERROR(INDEX(General!$C$3:$C$103,MATCH(Adhésion!C62,General!$A$3:$A$103,0)),"") | G62: =IFERROR(INDEX(General!$B$3:$B$103,MATCH(Adhésion!C62,General!$A$3:$A$103,0)),"")
C63: {=IF(ROWS($1:61)<=COUNTIF(General!$H$3:$H$103,1),INDEX(General!$A$3:$A$103,SMALL(IF(General!$H$3:$H$103=1,ROW(INDIRECT("1:"&ROWS(General!$A$3:$A$103)))),ROWS($1:61))),"")} | E63: =IFERROR(INDEX(General!$C$3:$C$103,MATCH(Adhésion!C63,General!$A$3:$A$103,0)),"") | G63: =IFERROR(INDEX(General!$B$3:$B$103,MATCH(Adhésion!C63,General!$A$3:$A$103,0)),"")
C64: {=IF(ROWS($1:62)<=COUNTIF(General!$H$3:$H$103,1),INDEX(General!$A$3:$A$103,SMALL(IF(General!$H$3:$H$103=1,ROW(INDIRECT("1:"&ROWS(General!$A$3:$A$103)))),ROWS($1:62))),"")} | E64: =IFERROR(INDEX(General!$C$3:$C$103,MATCH(Adhésion!C64,General!$A$3:$A$103,0)),"") | G64: =IFERROR(INDEX(General!$B$3:$B$103,MATCH(Adhésion!C64,General!$A$3:$A$103,0)),"")
C65: {=IF(ROWS($1:63)<=COUNTIF(General!$H$3:$H$103,1),INDEX(General!$A$3:$A$103,SMALL(IF(General!$H$3:$H$103=1,ROW(INDIRECT("1:"&ROWS(General!$A$3:$A$103)))),ROWS($1:63))),"")} | E65: =IFERROR(INDEX(General!$C$3:$C$103,MATCH(Adhésion!C65,General!$A$3:$A$103,0)),"") | G65: =IFERROR(INDEX(General!$B$3:$B$103,MATCH(Adhésion!C65,General!$A$3:$A$103,0)),"")
C66: {=IF(ROWS($1:64)<=COUNTIF(General!$H$3:$H$103,1),INDEX(General!$A$3:$A$103,SMALL(IF(General!$H$3:$H$103=1,ROW(INDIRECT("1:"&ROWS(General!$A$3:$A$103)))),ROWS($1:64))),"")} | E66: =IFERROR(INDEX(General!$C$3:$C$103,MATCH(Adhésion!C66,General!$A$3:$A$103,0)),"") | G66: =IFERROR(INDEX(General!$B$3:$B$103,MATCH(Adhésion!C66,General!$A$3:$A$103,0)),"")
C67: {=IF(ROWS($1:65)<=COUNTIF(General!$H$3:$H$103,1),INDEX(General!$A$3:$A$103,SMALL(IF(General!$H$3:$H$103=1,ROW(INDIRECT("1:"&ROWS(General!$A$3:$A$103)))),ROWS($1:65))),"")} | E67: =IFERROR(INDEX(General!$C$3:$C$103,MATCH(Adhésion!C67,General!$A$3:$A$103,0)),"") | G67: =IFERROR(INDEX(General!$B$3:$B$103,MATCH(Adhésion!C67,General!$A$3:$A$103,0)),"")
C68: {=IF(ROWS($1:66)<=COUNTIF(General!$H$3:$H$103,1),INDEX(General!$A$3:$A$103,SMALL(IF(General!$H$3:$H$103=1,ROW(INDIRECT("1:"&ROWS(General!$A$3:$A$103)))),ROWS($1:66))),"")} | E68: =IFERROR(INDEX(General!$C$3:$C$103,MATCH(Adhésion!C68,General!$A$3:$A$103,0)),"") | G68: =IFERROR(INDEX(General!$B$3:$B$103,MATCH(Adhésion!C68,General!$A$3:$A$103,0)),"")
C69: {=IF(ROWS($1:67)<=COUNTIF(General!$H$3:$H$103,1),INDEX(General!$A$3:$A$103,SMALL(IF(General!$H$3:$H$103=1,ROW(INDIRECT("1:"&ROWS(General!$A$3:$A$103)))),ROWS($1:67))),"")} | E69: =IFERROR(INDEX(General!$C$3:$C$103,MATCH(Adhésion!C69,General!$A$3:$A$103,0)),"") | G69: =IFERROR(INDEX(General!$B$3:$B$103,MATCH(Adhésion!C69,General!$A$3:$A$103,0)),"")
C70: {=IF(ROWS($1:68)<=COUNTIF(General!$H$3:$H$103,1),INDEX(General!$A$3:$A$103,SMALL(IF(General!$H$3:$H$103=1,ROW(INDIRECT("1:"&ROWS(General!$A$3:$A$103)))),ROWS($1:68))),"")} | E70: =IFERROR(INDEX(General!$C$3:$C$103,MATCH(Adhésion!C70,General!$A$3:$A$103,0)),"") | G70: =IFERROR(INDEX(General!$B$3:$B$103,MATCH(Adhésion!C70,General!$A$3:$A$103,0)),"")
C71: {=IF(ROWS($1:69)<=COUNTIF(General!$H$3:$H$103,1),INDEX(General!$A$3:$A$103,SMALL(IF(General!$H$3:$H$103=1,ROW(INDIRECT("1:"&ROWS(General!$A$3:$A$103)))),ROWS($1:69))),"")} | E71: =IFERROR(INDEX(General!$C$3:$C$103,MATCH(Adhésion!C71,General!$A$3:$A$103,0)),"") | G71: =IFERROR(INDEX(General!$B$3:$B$103,MATCH(Adhésion!C71,General!$A$3:$A$103,0)),"")
C72: {=IF(ROWS($1:70)<=COUNTIF(General!$H$3:$H$103,1),INDEX(General!$A$3:$A$103,SMALL(IF(General!$H$3:$H$103=1,ROW(INDIRECT("1:"&ROWS(General!$A$3:$A$103)))),ROWS($1:70))),"")} | E72: =IFERROR(INDEX(General!$C$3:$C$103,MATCH(Adhésion!C72,General!$A$3:$A$103,0)),"") | G72: =IFERROR(INDEX(General!$B$3:$B$103,MATCH(Adhésion!C72,General!$A$3:$A$103,0)),"")
C73: {=IF(ROWS($1:71)<=COUNTIF(General!$H$3:$H$103,1),INDEX(General!$A$3:$A$103,SMALL(IF(General!$H$3:$H$103=1,ROW(INDIRECT("1:"&ROWS(General!$A$3:$A$103)))),ROWS($1:71))),"")} | E73: =IFERROR(INDEX(General!$C$3:$C$103,MATCH(Adhésion!C73,General!$A$3:$A$103,0)),"") | G73: =IFERROR(INDEX(General!$B$3:$B$103,MATCH(Adhésion!C73,General!$A$3:$A$103,0)),"")
C74: {=IF(ROWS($1:72)<=COUNTIF(General!$H$3:$H$103,1),INDEX(General!$A$3:$A$103,SMALL(IF(General!$H$3:$H$103=1,ROW(INDIRECT("1:"&ROWS(General!$A$3:$A$103)))),ROWS($1:72))),"")} | E74: =IFERROR(INDEX(General!$C$3:$C$103,MATCH(Adhésion!C74,General!$A$3:$A$103,0)),"") | G74: =IFERROR(INDEX(General!$B$3:$B$103,MATCH(Adhésion!C74,General!$A$3:$A$103,0)),"")
C75: {=IF(ROWS($1:73)<=COUNTIF(General!$H$3:$H$103,1),INDEX(General!$A$3:$A$103,SMALL(IF(General!$H$3:$H$103=1,ROW(INDIRECT("1:"&ROWS(General!$A$3:$A$103)))),ROWS($1:73))),"")} | E75: =IFERROR(INDEX(General!$C$3:$C$103,MATCH(Adhésion!C75,General!$A$3:$A$103,0)),"") | G75: =IFERROR(INDEX(General!$B$3:$B$103,MATCH(Adhésion!C75,General!$A$3:$A$103,0)),"")
C76: {=IF(ROWS($1:74)<=COUNTIF(General!$H$3:$H$103,1),INDEX(General!$A$3:$A$103,SMALL(IF(General!$H$3:$H$103=1,ROW(INDIRECT("1:"&ROWS(General!$A$3:$A$103)))),ROWS($1:74))),"")} | E76: =IFERROR(INDEX(General!$C$3:$C$103,MATCH(Adhésion!C76,General!$A$3:$A$103,0)),"") | G76: =IFERROR(INDEX(General!$B$3:$B$103,MATCH(Adhésion!C76,General!$A$3:$A$103,0)),"")
C77: {=IF(ROWS($1:75)<=COUNTIF(General!$H$3:$H$103,1),INDEX(General!$A$3:$A$103,SMALL(IF(General!$H$3:$H$103=1,ROW(INDIRECT("1:"&ROWS(General!$A$3:$A$103)))),ROWS($1:75))),"")} | E77: =IFERROR(INDEX(General!$C$3:$C$103,MATCH(Adhésion!C77,General!$A$3:$A$103,0)),"") | G77: =IFERROR(INDEX(General!$B$3:$B$103,MATCH(Adhésion!C77,General!$A$3:$A$103,0)),"")
C78: {=IF(ROWS($1:76)<=COUNTIF(General!$H$3:$H$103,1),INDEX(General!$A$3:$A$103,SMALL(IF(General!$H$3:$H$103=1,ROW(INDIRECT("1:"&ROWS(General!$A$3:$A$103)))),ROWS($1:76))),"")} | E78: =IFERROR(INDEX(General!$C$3:$C$103,MATCH(Adhésion!C78,General!$A$3:$A$103,0)),"") | G78: =IFERROR(INDEX(General!$B$3:$B$103,MATCH(Adhésion!C78,General!$A$3:$A$103,0)),"")
C79: {=IF(ROWS($1:77)<=COUNTIF(General!$H$3:$H$103,1),INDEX(General!$A$3:$A$103,SMALL(IF(General!$H$3:$H$103=1,ROW(INDIRECT("1:"&ROWS(General!$A$3:$A$103)))),ROWS($1:77))),"")} | E79: =IFERROR(INDEX(General!$C$3:$C$103,MATCH(Adhésion!C79,General!$A$3:$A$103,0)),"") | G79: =IFERROR(INDEX(General!$B$3:$B$103,MATCH(Adhésion!C79,General!$A$3:$A$103,0)),"")
C80: {=IF(ROWS($1:78)<=COUNTIF(General!$H$3:$H$103,1),INDEX(General!$A$3:$A$103,SMALL(IF(General!$H$3:$H$103=1,ROW(INDIRECT("1:"&ROWS(General!$A$3:$A$103)))),ROWS($1:78))),"")} | E80: =IFERROR(INDEX(General!$C$3:$C$103,MATCH(Adhésion!C80,General!$A$3:$A$103,0)),"") | G80: =IFERROR(INDEX(General!$B$3:$B$103,MATCH(Adhésion!C80,General!$A$3:$A$103,0)),"")
C81: {=IF(ROWS($1:79)<=COUNTIF(General!$H$3:$H$103,1),INDEX(General!$A$3:$A$103,SMALL(IF(General!$H$3:$H$103=1,ROW(INDIRECT("1:"&ROWS(General!$A$3:$A$103)))),ROWS($1:79))),"")} | E81: =IFERROR(INDEX(General!$C$3:$C$103,MATCH(Adhésion!C81,General!$A$3:$A$103,0)),"") | G81: =IFERROR(INDEX(General!$B$3:$B$103,MATCH(Adhésion!C81,General!$A$3:$A$103,0)),"")
C82: {=IF(ROWS($1:80)<=COUNTIF(General!$H$3:$H$103,1),INDEX(General!$A$3:$A$103,SMALL(IF(General!$H$3:$H$103=1,ROW(INDIRECT("1:"&ROWS(General!$A$3:$A$103)))),ROWS($1:80))),"")} | E82: =IFERROR(INDEX(General!$C$3:$C$103,MATCH(Adhésion!C82,General!$A$3:$A$103,0)),"") | G82: =IFERROR(INDEX(General!$B$3:$B$103,MATCH(Adhésion!C82,General!$A$3:$A$103,0)),"")
C83: {=IF(ROWS($1:81)<=COUNTIF(General!$H$3:$H$103,1),INDEX(General!$A$3:$A$103,SMALL(IF(General!$H$3:$H$103=1,ROW(INDIRECT("1:"&ROWS(General!$A$3:$A$103)))),ROWS($1:81))),"")} | E83: =IFERROR(INDEX(General!$C$3:$C$103,MATCH(Adhésion!C83,General!$A$3:$A$103,0)),"") | G83: =IFERROR(INDEX(General!$B$3:$B$103,MATCH(Adhésion!C83,General!$A$3:$A$103,0)),"")
C84: {=IF(ROWS($1:82)<=COUNTIF(General!$H$3:$H$103,1),INDEX(General!$A$3:$A$103,SMALL(IF(General!$H$3:$H$103=1,ROW(INDIRECT("1:"&ROWS(General!$A$3:$A$103)))),ROWS($1:82))),"")} | E84: =IFERROR(INDEX(General!$C$3:$C$103,MATCH(Adhésion!C84,General!$A$3:$A$103,0)),"") | G84: =IFERROR(INDEX(General!$B$3:$B$103,MATCH(Adhésion!C84,General!$A$3:$A$103,0)),"")
C85: {=IF(ROWS($1:83)<=COUNTIF(General!$H$3:$H$103,1),INDEX(General!$A$3:$A$103,SMALL(IF(General!$H$3:$H$103=1,ROW(INDIRECT("1:"&ROWS(General!$A$3:$A$103)))),ROWS($1:83))),"")} | E85: =IFERROR(INDEX(General!$C$3:$C$103,MATCH(Adhésion!C85,General!$A$3:$A$103,0)),"") | G85: =IFERROR(INDEX(General!$B$3:$B$103,MATCH(Adhésion!C85,General!$A$3:$A$103,0)),"")
C86: {=IF(ROWS($1:84)<=COUNTIF(General!$H$3:$H$103,1),INDEX(General!$A$3:$A$103,SMALL(IF(General!$H$3:$H$103=1,ROW(INDIRECT("1:"&ROWS(General!$A$3:$A$103)))),ROWS($1:84))),"")} | E86: =IFERROR(INDEX(General!$C$3:$C$103,MATCH(Adhésion!C86,General!$A$3:$A$103,0)),"") | G86: =IFERROR(INDEX(General!$B$3:$B$103,MATCH(Adhésion!C86,General!$A$3:$A$103,0)),"")
C87: {=IF(ROWS($1:85)<=COUNTIF(General!$H$3:$H$103,1),INDEX(General!$A$3:$A$103,SMALL(IF(General!$H$3:$H$103=1,ROW(INDIRECT("1:"&ROWS(General!$A$3:$A$103)))),ROWS($1:85))),"")} | E87: =IFERROR(INDEX(General!$C$3:$C$103,MATCH(Adhésion!C87,General!$A$3:$A$103,0)),"") | G87: =IFERROR(INDEX(General!$B$3:$B$103,MATCH(Adhésion!C87,General!$A$3:$A$103,0)),"")
C88: {=IF(ROWS($1:86)<=COUNTIF(General!$H$3:$H$103,1),INDEX(General!$A$3:$A$103,SMALL(IF(General!$H$3:$H$103=1,ROW(INDIRECT("1:"&ROWS(General!$A$3:$A$103)))),ROWS($1:86))),"")} | E88: =IFERROR(INDEX(General!$C$3:$C$103,MATCH(Adhésion!C88,General!$A$3:$A$103,0)),"") | G88: =IFERROR(INDEX(General!$B$3:$B$103,MATCH(Adhésion!C88,General!$A$3:$A$103,0)),"")
C89: {=IF(ROWS($1:87)<=COUNTIF(General!$H$3:$H$103,1),INDEX(General!$A$3:$A$103,SMALL(IF(General!$H$3:$H$103=1,ROW(INDIRECT("1:"&ROWS(General!$A$3:$A$103)))),ROWS($1:87))),"")} | E89: =IFERROR(INDEX(General!$C$3:$C$103,MATCH(Adhésion!C89,General!$A$3:$A$103,0)),"") | G89: =IFERROR(INDEX(General!$B$3:$B$103,MATCH(Adhésion!C89,General!$A$3:$A$103,0)),"")
C90: {=IF(ROWS($1:88)<=COUNTIF(General!$H$3:$H$103,1),INDEX(General!$A$3:$A$103,SMALL(IF(General!$H$3:$H$103=1,ROW(INDIRECT("1:"&ROWS(General!$A$3:$A$103)))),ROWS($1:88))),"")} | E90: =IFERROR(INDEX(General!$C$3:$C$103,MATCH(Adhésion!C90,General!$A$3:$A$103,0)),"") | G90: =IFERROR(INDEX(General!$B$3:$B$103,MATCH(Adhésion!C90,General!$A$3:$A$103,0)),"")
C91: {=IF(ROWS($1:89)<=COUNTIF(General!$H$3:$H$103,1),INDEX(General!$A$3:$A$103,SMALL(IF(General!$H$3:$H$103=1,ROW(INDIRECT("1:"&ROWS(General!$A$3:$A$103)))),ROWS($1:89))),"")} | E91: =IFERROR(INDEX(General!$C$3:$C$103,MATCH(Adhésion!C91,General!$A$3:$A$103,0)),"") | G91: =IFERROR(INDEX(General!$B$3:$B$103,MATCH(Adhésion!C91,General!$A$3:$A$103,0)),"")
C92: {=IF(ROWS($1:90)<=COUNTIF(General!$H$3:$H$103,1),INDEX(General!$A$3:$A$103,SMALL(IF(General!$H$3:$H$103=1,ROW(INDIRECT("1:"&ROWS(General!$A$3:$A$103)))),ROWS($1:90))),"")} | E92: =IFERROR(INDEX(General!$C$3:$C$103,MATCH(Adhésion!C92,General!$A$3:$A$103,0)),"") | G92: =IFERROR(INDEX(General!$B$3:$B$103,MATCH(Adhésion!C92,General!$A$3:$A$103,0)),"")
C93: {=IF(ROWS($1:91)<=COUNTIF(General!$H$3:$H$103,1),INDEX(General!$A$3:$A$103,SMALL(IF(General!$H$3:$H$103=1,ROW(INDIRECT("1:"&ROWS(General!$A$3:$A$103)))),ROWS($1:91))),"")} | E93: =IFERROR(INDEX(General!$C$3:$C$103,MATCH(Adhésion!C93,General!$A$3:$A$103,0)),"") | G93: =IFERROR(INDEX(General!$B$3:$B$103,MATCH(Adhésion!C93,General!$A$3:$A$103,0)),"")
C94: {=IF(ROWS($1:92)<=COUNTIF(General!$H$3:$H$103,1),INDEX(General!$A$3:$A$103,SMALL(IF(General!$H$3:$H$103=1,ROW(INDIRECT("1:"&ROWS(General!$A$3:$A$103)))),ROWS($1:92))),"")} | E94: =IFERROR(INDEX(General!$C$3:$C$103,MATCH(Adhésion!C94,General!$A$3:$A$103,0)),"") | G94: =IFERROR(INDEX(General!$B$3:$B$103,MATCH(Adhésion!C94,General!$A$3:$A$103,0)),"")
C95: {=IF(ROWS($1:93)<=COUNTIF(General!$H$3:$H$103,1),INDEX(General!$A$3:$A$103,SMALL(IF(General!$H$3:$H$103=1,ROW(INDIRECT("1:"&ROWS(General!$A$3:$A$103)))),ROWS($1:93))),"")} | E95: =IFERROR(INDEX(General!$C$3:$C$103,MATCH(Adhésion!C95,General!$A$3:$A$103,0)),"") | G95: =IFERROR(INDEX(General!$B$3:$B$103,MATCH(Adhésion!C95,General!$A$3:$A$103,0)),"")
C96: {=IF(ROWS($1:94)<=COUNTIF(General!$H$3:$H$103,1),INDEX(General!$A$3:$A$103,SMALL(IF(General!$H$3:$H$103=1,ROW(INDIRECT("1:"&ROWS(General!$A$3:$A$103)))),ROWS($1:94))),"")} | E96: =IFERROR(INDEX(General!$C$3:$C$103,MATCH(Adhésion!C96,General!$A$3:$A$103,0)),"") | G96: =IFERROR(INDEX(General!$B$3:$B$103,MATCH(Adhésion!C96,General!$A$3:$A$103,0)),"")
C97: {=IF(ROWS($1:95)<=COUNTIF(General!$H$3:$H$103,1),INDEX(General!$A$3:$A$103,SMALL(IF(General!$H$3:$H$103=1,ROW(INDIRECT("1:"&ROWS(General!$A$3:$A$103)))),ROWS($1:95))),"")} | E97: =IFERROR(INDEX(General!$C$3:$C$103,MATCH(Adhésion!C97,General!$A$3:$A$103,0)),"") | G97: =IFERROR(INDEX(General!$B$3:$B$103,MATCH(Adhésion!C97,General!$A$3:$A$103,0)),"")
C98: {=IF(ROWS($1:96)<=COUNTIF(General!$H$3:$H$103,1),INDEX(General!$A$3:$A$103,SMALL(IF(General!$H$3:$H$103=1,ROW(INDIRECT("1:"&ROWS(General!$A$3:$A$103)))),ROWS($1:96))),"")} | E98: =IFERROR(INDEX(General!$C$3:$C$103,MATCH(Adhésion!C98,General!$A$3:$A$103,0)),"") | G98: =IFERROR(INDEX(General!$B$3:$B$103,MATCH(Adhésion!C98,General!$A$3:$A$103,0)),"")
C99: {=IF(ROWS($1:97)<=COUNTIF(General!$H$3:$H$103,1),INDEX(General!$A$3:$A$103,SMALL(IF(General!$H$3:$H$103=1,ROW(INDIRECT("1:"&ROWS(General!$A$3:$A$103)))),ROWS($1:97))),"")} | E99: =IFERROR(INDEX(General!$C$3:$C$103,MATCH(Adhésion!C99,General!$A$3:$A$103,0)),"") | G99: =IFERROR(INDEX(General!$B$3:$B$103,MATCH(Adhésion!C99,General!$A$3:$A$103,0)),"")
C100: {=IF(ROWS($1:98)<=COUNTIF(General!$H$3:$H$103,1),INDEX(General!$A$3:$A$103,SMALL(IF(General!$H$3:$H$103=1,ROW(INDIRECT("1:"&ROWS(General!$A$3:$A$103)))),ROWS($1:98))),"")} | E100: =IFERROR(INDEX(General!$C$3:$C$103,MATCH(Adhésion!C100,General!$A$3:$A$103,0)),"") | G100: =IFERROR(INDEX(General!$B$3:$B$103,MATCH(Adhésion!C100,General!$A$3:$A$103,0)),"")
C101: {=IF(ROWS($1:99)<=COUNTIF(General!$H$3:$H$103,1),INDEX(General!$A$3:$A$103,SMALL(IF(General!$H$3:$H$103=1,ROW(INDIRECT("1:"&ROWS(General!$A$3:$A$103)))),ROWS($1:99))),"")} | E101: =IFERROR(INDEX(General!$C$3:$C$103,MATCH(Adhésion!C101,General!$A$3:$A$103,0)),"") | G101: =IFERROR(INDEX(General!$B$3:$B$103,MATCH(Adhésion!C101,General!$A$3:$A$103,0)),"")
...

Sheet Don
A1: INTERESSE POUR DON | C1: NOM | E1: MAIL | G1: TELEPHONE
C3: {=IF(ROWS($1:1)<=COUNTIF(General!$I$3:$I$103,1),INDEX(General!$A$3:$A$103,SMALL(IF(General!$I$3:$I$103=1,ROW(INDIRECT("1:"&ROWS(General!$A$3:$A$103)))),ROWS($1:1))),"")} -> Daniel Pezeril | E3: =IFERROR(INDEX(General!$C$3:$C$103,MATCH(Don!C3,General!$A$3:$A$103,0)),"") -> dpezeril@gmail.com | G3: =IFERROR(INDEX(General!$B$3:$B$103,MATCH(Don!C3,General!$A$3:$A$103,0)),"") -> 644081800
A4: =IF(General!E3,C:C=General!A3) -> FALSE | C4: {=IF(ROWS($1:2)<=COUNTIF(General!$I$3:$I$103,1),INDEX(General!$A$3:$A$103,SMALL(IF(General!$I$3:$I$103=1,ROW(INDIRECT("1:"&ROWS(General!$A$3:$A$103)))),ROWS($1:2))),"")} -> Costa Ledormeur | E4: =IFERROR(INDEX(General!$C$3:$C$103,MATCH(Don!C4,General!$A$3:$A$103,0)),"") -> costa.ledormeur.85@gmail.com | G4: =IFERROR(INDEX(General!$B$3:$B$103,MATCH(Don!C4,General!$A$3:$A$103,0)),"") -> 674416225
C5: {=IF(ROWS($1:3)<=COUNTIF(General!$I$3:$I$103,1),INDEX(General!$A$3:$A$103,SMALL(IF(General!$I$3:$I$103=1,ROW(INDIRECT("1:"&ROWS(General!$A$3:$A$103)))),ROWS($1:3))),"")} -> Adrien Testas | E5: =IFERROR(INDEX(General!$C$3:$C$103,MATCH(Don!C5,General!$A$3:$A$103,0)),"") -> adrien.testas@live.fr | G5: =IFERROR(INDEX(General!$B$3:$B$103,MATCH(Don!C5,General!$A$3:$A$103,0)),"") -> 789200542
C6: {=IF(ROWS($1:4)<=COUNTIF(General!$I$3:$I$103,1),INDEX(General!$A$3:$A$103,SMALL(IF(General!$I$3:$I$103=1,ROW(INDIRECT("1:"&ROWS(General!$A$3:$A$103)))),ROWS($1:4))),"")} | E6: =IFERROR(INDEX(General!$C$3:$C$103,MATCH(Don!C6,General!$A$3:$A$103,0)),"") | G6: =IFERROR(INDEX(General!$B$3:$B$103,MATCH(Don!C6,General!$A$3:$A$103,0)),"")
C7: {=IF(ROWS($1:5)<=COUNTIF(General!$I$3:$I$103,1),INDEX(General!$A$3:$A$103,SMALL(IF(General!$I$3:$I$103=1,ROW(INDIRECT("1:"&ROWS(General!$A$3:$A$103)))),ROWS($1:5))),"")} | E7: =IFERROR(INDEX(General!$C$3:$C$103,MATCH(Don!C7,General!$A$3:$A$103,0)),"") | G7: =IFERROR(INDEX(General!$B$3:$B$103,MATCH(Don!C7,General!$A$3:$A$103,0)),"")
C8: {=IF(ROWS($1:6)<=COUNTIF(General!$I$3:$I$103,1),INDEX(General!$A$3:$A$103,SMALL(IF(General!$I$3:$I$103=1,ROW(INDIRECT("1:"&ROWS(General!$A$3:$A$103)))),ROWS($1:6))),"")} | E8: =IFERROR(INDEX(General!$C$3:$C$103,MATCH(Don!C8,General!$A$3:$A$103,0)),"") | G8: =IFERROR(INDEX(General!$B$3:$B$103,MATCH(Don!C8,General!$A$3:$A$103,0)),"")
C9: {=IF(ROWS($1:7)<=COUNTIF(General!$I$3:$I$103,1),INDEX(General!$A$3:$A$103,SMALL(IF(General!$I$3:$I$103=1,ROW(INDIRECT("1:"&ROWS(General!$A$3:$A$103)))),ROWS($1:7))),"")} | E9: =IFERROR(INDEX(General!$C$3:$C$103,MATCH(Don!C9,General!$A$3:$A$103,0)),"") | G9: =IFERROR(INDEX(General!$B$3:$B$103,MATCH(Don!C9,General!$A$3:$A$103,0)),"")
C10: {=IF(ROWS($1:8)<=COUNTIF(General!$I$3:$I$103,1),INDEX(General!$A$3:$A$103,SMALL(IF(General!$I$3:$I$103=1,ROW(INDIRECT("1:"&ROWS(General!$A$3:$A$103)))),ROWS($1:8))),"")} | E10: =IFERROR(INDEX(General!$C$3:$C$103,MATCH(Don!C10,General!$A$3:$A$103,0)),"") | G10: =IFERROR(INDEX(General!$B$3:$B$103,MATCH(Don!C10,General!$A$3:$A$103,0)),"")
C11: {=IF(ROWS($1:9)<=COUNTIF(General!$I$3:$I$103,1),INDEX(General!$A$3:$A$103,SMALL(IF(General!$I$3:$I$103=1,ROW(INDIRECT("1:"&ROWS(General!$A$3:$A$103)))),ROWS($1:9))),"")} | E11: =IFERROR(INDEX(General!$C$3:$C$103,MATCH(Don!C11,General!$A$3:$A$103,0)),"") | G11: =IFERROR(INDEX(General!$B$3:$B$103,MATCH(Don!C11,General!$A$3:$A$103,0)),"")
C12: {=IF(ROWS($1:10)<=COUNTIF(General!$I$3:$I$103,1),INDEX(General!$A$3:$A$103,SMALL(IF(General!$I$3:$I$103=1,ROW(INDIRECT("1:"&ROWS(General!$A$3:$A$103)))),ROWS($1:10))),"")} | E12: =IFERROR(INDEX(General!$C$3:$C$103,MATCH(Don!C12,General!$A$3:$A$103,0)),"") | G12: =IFERROR(INDEX(General!$B$3:$B$103,MATCH(Don!C12,General!$A$3:$A$103,0)),"")
C13: {=IF(ROWS($1:11)<=COUNTIF(General!$I$3:$I$103,1),INDEX(General!$A$3:$A$103,SMALL(IF(General!$I$3:$I$103=1,ROW(INDIRECT("1:"&ROWS(General!$A$3:$A$103)))),ROWS($1:11))),"")} | E13: =IFERROR(INDEX(General!$C$3:$C$103,MATCH(Don!C13,General!$A$3:$A$103,0)),"") | G13: =IFERROR(INDEX(General!$B$3:$B$103,MATCH(Don!C13,General!$A$3:$A$103,0)),"")
C14: {=IF(ROWS($1:12)<=COUNTIF(General!$I$3:$I$103,1),INDEX(General!$A$3:$A$103,SMALL(IF(General!$I$3:$I$103=1,ROW(INDIRECT("1:"&ROWS(General!$A$3:$A$103)))),ROWS($1:12))),"")} | E14: =IFERROR(INDEX(General!$C$3:$C$103,MATCH(Don!C14,General!$A$3:$A$103,0)),"") | G14: =IFERROR(INDEX(General!$B$3:$B$103,MATCH(Don!C14,General!$A$3:$A$103,0)),"")
C15: {=IF(ROWS($1:13)<=COUNTIF(General!$I$3:$I$103,1),INDEX(General!$A$3:$A$103,SMALL(IF(General!$I$3:$I$103=1,ROW(INDIRECT("1:"&ROWS(General!$A$3:$A$103)))),ROWS($1:13))),"")} | E15: =IFERROR(INDEX(General!$C$3:$C$103,MATCH(Don!C15,General!$A$3:$A$103,0)),"") | G15: =IFERROR(INDEX(General!$B$3:$B$103,MATCH(Don!C15,General!$A$3:$A$103,0)),"")
C16: {=IF(ROWS($1:14)<=COUNTIF(General!$I$3:$I$103,1),INDEX(General!$A$3:$A$103,SMALL(IF(General!$I$3:$I$103=1,ROW(INDIRECT("1:"&ROWS(General!$A$3:$A$103)))),ROWS($1:14))),"")} | E16: =IFERROR(INDEX(General!$C$3:$C$103,MATCH(Don!C16,General!$A$3:$A$103,0)),"") | G16: =IFERROR(INDEX(General!$B$3:$B$103,MATCH(Don!C16,General!$A$3:$A$103,0)),"")
C17: {=IF(ROWS($1:15)<=COUNTIF(General!$I$3:$I$103,1),INDEX(General!$A$3:$A$103,SMALL(IF(General!$I$3:$I$103=1,ROW(INDIRECT("1:"&ROWS(General!$A$3:$A$103)))),ROWS($1:15))),"")} | E17: =IFERROR(INDEX(General!$C$3:$C$103,MATCH(Don!C17,General!$A$3:$A$103,0)),"") | G17: =IFERROR(INDEX(General!$B$3:$B$103,MATCH(Don!C17,General!$A$3:$A$103,0)),"")
C18: {=IF(ROWS($1:16)<=COUNTIF(General!$I$3:$I$103,1),INDEX(General!$A$3:$A$103,SMALL(IF(General!$I$3:$I$103=1,ROW(INDIRECT("1:"&ROWS(General!$A$3:$A$103)))),ROWS($1:16))),"")} | E18: =IFERROR(INDEX(General!$C$3:$C$103,MATCH(Don!C18,General!$A$3:$A$103,0)),"") | G18: =IFERROR(INDEX(General!$B$3:$B$103,MATCH(Don!C18,General!$A$3:$A$103,0)),"")
C19: {=IF(ROWS($1:17)<=COUNTIF(General!$I$3:$I$103,1),INDEX(General!$A$3:$A$103,SMALL(IF(General!$I$3:$I$103=1,ROW(INDIRECT("1:"&ROWS(General!$A$3:$A$103)))),ROWS($1:17))),"")} | E19: =IFERROR(INDEX(General!$C$3:$C$103,MATCH(Don!C19,General!$A$3:$A$103,0)),"") | G19: =IFERROR(INDEX(General!$B$3:$B$103,MATCH(Don!C19,General!$A$3:$A$103,0)),"")
C20: {=IF(ROWS($1:18)<=COUNTIF(General!$I$3:$I$103,1),INDEX(General!$A$3:$A$103,SMALL(IF(General!$I$3:$I$103=1,ROW(INDIRECT("1:"&ROWS(General!$A$3:$A$103)))),ROWS($1:18))),"")} | E20: =IFERROR(INDEX(General!$C$3:$C$103,MATCH(Don!C20,General!$A$3:$A$103,0)),"") | G20: =IFERROR(INDEX(General!$B$3:$B$103,MATCH(Don!C20,General!$A$3:$A$103,0)),"")
C21: {=IF(ROWS($1:19)<=COUNTIF(General!$I$3:$I$103,1),INDEX(General!$A$3:$A$103,SMALL(IF(General!$I$3:$I$103=1,ROW(INDIRECT("1:"&ROWS(General!$A$3:$A$103)))),ROWS($1:19))),"")} | E21: =IFERROR(INDEX(General!$C$3:$C$103,MATCH(Don!C21,General!$A$3:$A$103,0)),"") | G21: =IFERROR(INDEX(General!$B$3:$B$103,MATCH(Don!C21,General!$A$3:$A$103,0)),"")
C22: {=IF(ROWS($1:20)<=COUNTIF(General!$I$3:$I$103,1),INDEX(General!$A$3:$A$103,SMALL(IF(General!$I$3:$I$103=1,ROW(INDIRECT("1:"&ROWS(General!$A$3:$A$103)))),ROWS($1:20))),"")} | E22: =IFERROR(INDEX(General!$C$3:$C$103,MATCH(Don!C22,General!$A$3:$A$103,0)),"") | G22: =IFERROR(INDEX(General!$B$3:$B$103,MATCH(Don!C22,General!$A$3:$A$103,0)),"")
C23: {=IF(ROWS($1:21)<=COUNTIF(General!$I$3:$I$103,1),INDEX(General!$A$3:$A$103,SMALL(IF(General!$I$3:$I$103=1,ROW(INDIRECT("1:"&ROWS(General!$A$3:$A$103)))),ROWS($1:21))),"")} | E23: =IFERROR(INDEX(General!$C$3:$C$103,MATCH(Don!C23,General!$A$3:$A$103,0)),"") | G23: =IFERROR(INDEX(General!$B$3:$B$103,MATCH(Don!C23,General!$A$3:$A$103,0)),"")
C24: {=IF(ROWS($1:22)<=COUNTIF(General!$I$3:$I$103,1),INDEX(General!$A$3:$A$103,SMALL(IF(General!$I$3:$I$103=1,ROW(INDIRECT("1:"&ROWS(General!$A$3:$A$103)))),ROWS($1:22))),"")} | E24: =IFERROR(INDEX(General!$C$3:$C$103,MATCH(Don!C24,General!$A$3:$A$103,0)),"") | G24: =IFERROR(INDEX(General!$B$3:$B$103,MATCH(Don!C24,General!$A$3:$A$103,0)),"")
C25: {=IF(ROWS($1:23)<=COUNTIF(General!$I$3:$I$103,1),INDEX(General!$A$3:$A$103,SMALL(IF(General!$I$3:$I$103=1,ROW(INDIRECT("1:"&ROWS(General!$A$3:$A$103)))),ROWS($1:23))),"")} | E25: =IFERROR(INDEX(General!$C$3:$C$103,MATCH(Don!C25,General!$A$3:$A$103,0)),"") | G25: =IFERROR(INDEX(General!$B$3:$B$103,MATCH(Don!C25,General!$A$3:$A$103,0)),"")
C26: {=IF(ROWS($1:24)<=COUNTIF(General!$I$3:$I$103,1),INDEX(General!$A$3:$A$103,SMALL(IF(General!$I$3:$I$103=1,ROW(INDIRECT("1:"&ROWS(General!$A$3:$A$103)))),ROWS($1:24))),"")} | E26: =IFERROR(INDEX(General!$C$3:$C$103,MATCH(Don!C26,General!$A$3:$A$103,0)),"") | G26: =IFERROR(INDEX(General!$B$3:$B$103,MATCH(Don!C26,General!$A$3:$A$103,0)),"")
C27: {=IF(ROWS($1:25)<=COUNTIF(General!$I$3:$I$103,1),INDEX(General!$A$3:$A$103,SMALL(IF(General!$I$3:$I$103=1,ROW(INDIRECT("1:"&ROWS(General!$A$3:$A$103)))),ROWS($1:25))),"")} | E27: =IFERROR(INDEX(General!$C$3:$C$103,MATCH(Don!C27,General!$A$3:$A$103,0)),"") | G27: =IFERROR(INDEX(General!$B$3:$B$103,MATCH(Don!C27,General!$A$3:$A$103,0)),"")
C28: {=IF(ROWS($1:26)<=COUNTIF(General!$I$3:$I$103,1),INDEX(General!$A$3:$A$103,SMALL(IF(General!$I$3:$I$103=1,ROW(INDIRECT("1:"&ROWS(General!$A$3:$A$103)))),ROWS($1:26))),"")} | E28: =IFERROR(INDEX(General!$C$3:$C$103,MATCH(Don!C28,General!$A$3:$A$103,0)),"") | G28: =IFERROR(INDEX(General!$B$3:$B$103,MATCH(Don!C28,General!$A$3:$A$103,0)),"")
C29: {=IF(ROWS($1:27)<=COUNTIF(General!$I$3:$I$103,1),INDEX(General!$A$3:$A$103,SMALL(IF(General!$I$3:$I$103=1,ROW(INDIRECT("1:"&ROWS(General!$A$3:$A$103)))),ROWS($1:27))),"")} | E29: =IFERROR(INDEX(General!$C$3:$C$103,MATCH(Don!C29,General!$A$3:$A$103,0)),"") | G29: =IFERROR(INDEX(General!$B$3:$B$103,MATCH(Don!C29,General!$A$3:$A$103,0)),"")
C30: {=IF(ROWS($1:28)<=COUNTIF(General!$I$3:$I$103,1),INDEX(General!$A$3:$A$103,SMALL(IF(General!$I$3:$I$103=1,ROW(INDIRECT("1:"&ROWS(General!$A$3:$A$103)))),ROWS($1:28))),"")} | E30: =IFERROR(INDEX(General!$C$3:$C$103,MATCH(Don!C30,General!$A$3:$A$103,0)),"") | G30: =IFERROR(INDEX(General!$B$3:$B$103,MATCH(Don!C30,General!$A$3:$A$103,0)),"")
C31: {=IF(ROWS($1:29)<=COUNTIF(General!$I$3:$I$103,1),INDEX(General!$A$3:$A$103,SMALL(IF(General!$I$3:$I$103=1,ROW(INDIRECT("1:"&ROWS(General!$A$3:$A$103)))),ROWS($1:29))),"")} | E31: =IFERROR(INDEX(General!$C$3:$C$103,MATCH(Don!C31,General!$A$3:$A$103,0)),"") | G31: =IFERROR(INDEX(General!$B$3:$B$103,MATCH(Don!C31,General!$A$3:$A$103,0)),"")
C32: {=IF(ROWS($1:30)<=COUNTIF(General!$I$3:$I$103,1),INDEX(General!$A$3:$A$103,SMALL(IF(General!$I$3:$I$103=1,ROW(INDIRECT("1:"&ROWS(General!$A$3:$A$103)))),ROWS($1:30))),"")} | E32: =IFERROR(INDEX(General!$C$3:$C$103,MATCH(Don!C32,General!$A$3:$A$103,0)),"") | G32: =IFERROR(INDEX(General!$B$3:$B$103,MATCH(Don!C32,General!$A$3:$A$103,0)),"")
C33: {=IF(ROWS($1:31)<=COUNTIF(General!$I$3:$I$103,1),INDEX(General!$A$3:$A$103,SMALL(IF(General!$I$3:$I$103=1,ROW(INDIRECT("1:"&ROWS(General!$A$3:$A$103)))),ROWS($1:31))),"")} | E33: =IFERROR(INDEX(General!$C$3:$C$103,MATCH(Don!C33,General!$A$3:$A$103,0)),"") | G33: =IFERROR(INDEX(General!$B$3:$B$103,MATCH(Don!C33,General!$A$3:$A$103,0)),"")
C34: {=IF(ROWS($1:32)<=COUNTIF(General!$I$3:$I$103,1),INDEX(General!$A$3:$A$103,SMALL(IF(General!$I$3:$I$103=1,ROW(INDIRECT("1:"&ROWS(General!$A$3:$A$103)))),ROWS($1:32))),"")} | E34: =IFERROR(INDEX(General!$C$3:$C$103,MATCH(Don!C34,General!$A$3:$A$103,0)),"") | G34: =IFERROR(INDEX(General!$B$3:$B$103,MATCH(Don!C34,General!$A$3:$A$103,0)),"")
C35: {=IF(ROWS($1:33)<=COUNTIF(General!$I$3:$I$103,1),INDEX(General!$A$3:$A$103,SMALL(IF(General!$I$3:$I$103=1,ROW(INDIRECT("1:"&ROWS(General!$A$3:$A$103)))),ROWS($1:33))),"")} | E35: =IFERROR(INDEX(General!$C$3:$C$103,MATCH(Don!C35,General!$A$3:$A$103,0)),"") | G35: =IFERROR(INDEX(General!$B$3:$B$103,MATCH(Don!C35,General!$A$3:$A$103,0)),"")
C36: {=IF(ROWS($1:34)<=COUNTIF(General!$I$3:$I$103,1),INDEX(General!$A$3:$A$103,SMALL(IF(General!$I$3:$I$103=1,ROW(INDIRECT("1:"&ROWS(General!$A$3:$A$103)))),ROWS($1:34))),"")} | E36: =IFERROR(INDEX(General!$C$3:$C$103,MATCH(Don!C36,General!$A$3:$A$103,0)),"") | G36: =IFERROR(INDEX(General!$B$3:$B$103,MATCH(Don!C36,General!$A$3:$A$103,0)),"")
C37: {=IF(ROWS($1:35)<=COUNTIF(General!$I$3:$I$103,1),INDEX(General!$A$3:$A$103,SMALL(IF(General!$I$3:$I$103=1,ROW(INDIRECT("1:"&ROWS(General!$A$3:$A$103)))),ROWS($1:35))),"")} | E37: =IFERROR(INDEX(General!$C$3:$C$103,MATCH(Don!C37,General!$A$3:$A$103,0)),"") | G37: =IFERROR(INDEX(General!$B$3:$B$103,MATCH(Don!C37,General!$A$3:$A$103,0)),"")
C38: {=IF(ROWS($1:36)<=COUNTIF(General!$I$3:$I$103,1),INDEX(General!$A$3:$A$103,SMALL(IF(General!$I$3:$I$103=1,ROW(INDIRECT("1:"&ROWS(General!$A$3:$A$103)))),ROWS($1:36))),"")} | E38: =IFERROR(INDEX(General!$C$3:$C$103,MATCH(Don!C38,General!$A$3:$A$103,0)),"") | G38: =IFERROR(INDEX(General!$B$3:$B$103,MATCH(Don!C38,General!$A$3:$A$103,0)),"")
C39: {=IF(ROWS($1:37)<=COUNTIF(General!$I$3:$I$103,1),INDEX(General!$A$3:$A$103,SMALL(IF(General!$I$3:$I$103=1,ROW(INDIRECT("1:"&ROWS(General!$A$3:$A$103)))),ROWS($1:37))),"")} | E39: =IFERROR(INDEX(General!$C$3:$C$103,MATCH(Don!C39,General!$A$3:$A$103,0)),"") | G39: =IFERROR(INDEX(General!$B$3:$B$103,MATCH(Don!C39,General!$A$3:$A$103,0)),"")
C40: {=IF(ROWS($1:38)<=COUNTIF(General!$I$3:$I$103,1),INDEX(General!$A$3:$A$103,SMALL(IF(General!$I$3:$I$103=1,ROW(INDIRECT("1:"&ROWS(General!$A$3:$A$103)))),ROWS($1:38))),"")} | E40: =IFERROR(INDEX(General!$C$3:$C$103,MATCH(Don!C40,General!$A$3:$A$103,0)),"") | G40: =IFERROR(INDEX(General!$B$3:$B$103,MATCH(Don!C40,General!$A$3:$A$103,0)),"")
C41: {=IF(ROWS($1:39)<=COUNTIF(General!$I$3:$I$103,1),INDEX(General!$A$3:$A$103,SMALL(IF(General!$I$3:$I$103=1,ROW(INDIRECT("1:"&ROWS(General!$A$3:$A$103)))),ROWS($1:39))),"")} | E41: =IFERROR(INDEX(General!$C$3:$C$103,MATCH(Don!C41,General!$A$3:$A$103,0)),"") | G41: =IFERROR(INDEX(General!$B$3:$B$103,MATCH(Don!C41,General!$A$3:$A$103,0)),"")
C42: {=IF(ROWS($1:40)<=COUNTIF(General!$I$3:$I$103,1),INDEX(General!$A$3:$A$103,SMALL(IF(General!$I$3:$I$103=1,ROW(INDIRECT("1:"&ROWS(General!$A$3:$A$103)))),ROWS($1:40))),"")} | E42: =IFERROR(INDEX(General!$C$3:$C$103,MATCH(Don!C42,General!$A$3:$A$103,0)),"") | G42: =IFERROR(INDEX(General!$B$3:$B$103,MATCH(Don!C42,General!$A$3:$A$103,0)),"")
C43: {=IF(ROWS($1:41)<=COUNTIF(General!$I$3:$I$103,1),INDEX(General!$A$3:$A$103,SMALL(IF(General!$I$3:$I$103=1,ROW(INDIRECT("1:"&ROWS(General!$A$3:$A$103)))),ROWS($1:41))),"")} | E43: =IFERROR(INDEX(General!$C$3:$C$103,MATCH(Don!C43,General!$A$3:$A$103,0)),"") | G43: =IFERROR(INDEX(General!$B$3:$B$103,MATCH(Don!C43,General!$A$3:$A$103,0)),"")
C44: {=IF(ROWS($1:42)<=COUNTIF(General!$I$3:$I$103,1),INDEX(General!$A$3:$A$103,SMALL(IF(General!$I$3:$I$103=1,ROW(INDIRECT("1:"&ROWS(General!$A$3:$A$103)))),ROWS($1:42))),"")} | E44: =IFERROR(INDEX(General!$C$3:$C$103,MATCH(Don!C44,General!$A$3:$A$103,0)),"") | G44: =IFERROR(INDEX(General!$B$3:$B$103,MATCH(Don!C44,General!$A$3:$A$103,0)),"")
C45: {=IF(ROWS($1:43)<=COUNTIF(General!$I$3:$I$103,1),INDEX(General!$A$3:$A$103,SMALL(IF(General!$I$3:$I$103=1,ROW(INDIRECT("1:"&ROWS(General!$A$3:$A$103)))),ROWS($1:43))),"")} | E45: =IFERROR(INDEX(General!$C$3:$C$103,MATCH(Don!C45,General!$A$3:$A$103,0)),"") | G45: =IFERROR(INDEX(General!$B$3:$B$103,MATCH(Don!C45,General!$A$3:$A$103,0)),"")
C46: {=IF(ROWS($1:44)<=COUNTIF(General!$I$3:$I$103,1),INDEX(General!$A$3:$A$103,SMALL(IF(General!$I$3:$I$103=1,ROW(INDIRECT("1:"&ROWS(General!$A$3:$A$103)))),ROWS($1:44))),"")} | E46: =IFERROR(INDEX(General!$C$3:$C$103,MATCH(Don!C46,General!$A$3:$A$103,0)),"") | G46: =IFERROR(INDEX(General!$B$3:$B$103,MATCH(Don!C46,General!$A$3:$A$103,0)),"")
C47: {=IF(ROWS($1:45)<=COUNTIF(General!$I$3:$I$103,1),INDEX(General!$A$3:$A$103,SMALL(IF(General!$I$3:$I$103=1,ROW(INDIRECT("1:"&ROWS(General!$A$3:$A$103)))),ROWS($1:45))),"")} | E47: =IFERROR(INDEX(General!$C$3:$C$103,MATCH(Don!C47,General!$A$3:$A$103,0)),"") | G47: =IFERROR(INDEX(General!$B$3:$B$103,MATCH(Don!C47,General!$A$3:$A$103,0)),"")
C48: {=IF(ROWS($1:46)<=COUNTIF(General!$I$3:$I$103,1),INDEX(General!$A$3:$A$103,SMALL(IF(General!$I$3:$I$103=1,ROW(INDIRECT("1:"&ROWS(General!$A$3:$A$103)))),ROWS($1:46))),"")} | E48: =IFERROR(INDEX(General!$C$3:$C$103,MATCH(Don!C48,General!$A$3:$A$103,0)),"") | G48: =IFERROR(INDEX(General!$B$3:$B$103,MATCH(Don!C48,General!$A$3:$A$103,0)),"")
C49: {=IF(ROWS($1:47)<=COUNTIF(General!$I$3:$I$103,1),INDEX(General!$A$3:$A$103,SMALL(IF(General!$I$3:$I$103=1,ROW(INDIRECT("1:"&ROWS(General!$A$3:$A$103)))),ROWS($1:47))),"")} | E49: =IFERROR(INDEX(General!$C$3:$C$103,MATCH(Don!C49,General!$A$3:$A$103,0)),"") | G49: =IFERROR(INDEX(General!$B$3:$B$103,MATCH(Don!C49,General!$A$3:$A$103,0)),"")
C50: {=IF(ROWS($1:48)<=COUNTIF(General!$I$3:$I$103,1),INDEX(General!$A$3:$A$103,SMALL(IF(General!$I$3:$I$103=1,ROW(INDIRECT("1:"&ROWS(General!$A$3:$A$103)))),ROWS($1:48))),"")} | E50: =IFERROR(INDEX(General!$C$3:$C$103,MATCH(Don!C50,General!$A$3:$A$103,0)),"") | G50: =IFERROR(INDEX(General!$B$3:$B$103,MATCH(Don!C50,General!$A$3:$A$103,0)),"")
C51: {=IF(ROWS($1:49)<=COUNTIF(General!$I$3:$I$103,1),INDEX(General!$A$3:$A$103,SMALL(IF(General!$I$3:$I$103=1,ROW(INDIRECT("1:"&ROWS(General!$A$3:$A$103)))),ROWS($1:49))),"")} | E51: =IFERROR(INDEX(General!$C$3:$C$103,MATCH(Don!C51,General!$A$3:$A$103,0)),"") | G51: =IFERROR(INDEX(General!$B$3:$B$103,MATCH(Don!C51,General!$A$3:$A$103,0)),"")
C52: {=IF(ROWS($1:50)<=COUNTIF(General!$I$3:$I$103,1),INDEX(General!$A$3:$A$103,SMALL(IF(General!$I$3:$I$103=1,ROW(INDIRECT("1:"&ROWS(General!$A$3:$A$103)))),ROWS($1:50))),"")} | E52: =IFERROR(INDEX(General!$C$3:$C$103,MATCH(Don!C52,General!$A$3:$A$103,0)),"") | G52: =IFERROR(INDEX(General!$B$3:$B$103,MATCH(Don!C52,General!$A$3:$A$103,0)),"")
C53: {=IF(ROWS($1:51)<=COUNTIF(General!$I$3:$I$103,1),INDEX(General!$A$3:$A$103,SMALL(IF(General!$I$3:$I$103=1,ROW(INDIRECT("1:"&ROWS(General!$A$3:$A$103)))),ROWS($1:51))),"")} | E53: =IFERROR(INDEX(General!$C$3:$C$103,MATCH(Don!C53,General!$A$3:$A$103,0)),"") | G53: =IFERROR(INDEX(General!$B$3:$B$103,MATCH(Don!C53,General!$A$3:$A$103,0)),"")
C54: {=IF(ROWS($1:52)<=COUNTIF(General!$I$3:$I$103,1),INDEX(General!$A$3:$A$103,SMALL(IF(General!$I$3:$I$103=1,ROW(INDIRECT("1:"&ROWS(General!$A$3:$A$103)))),ROWS($1:52))),"")} | E54: =IFERROR(INDEX(General!$C$3:$C$103,MATCH(Don!C54,General!$A$3:$A$103,0)),"") | G54: =IFERROR(INDEX(General!$B$3:$B$103,MATCH(Don!C54,General!$A$3:$A$103,0)),"")
C55: {=IF(ROWS($1:53)<=COUNTIF(General!$I$3:$I$103,1),INDEX(General!$A$3:$A$103,SMALL(IF(General!$I$3:$I$103=1,ROW(INDIRECT("1:"&ROWS(General!$A$3:$A$103)))),ROWS($1:53))),"")} | E55: =IFERROR(INDEX(General!$C$3:$C$103,MATCH(Don!C55,General!$A$3:$A$103,0)),"") | G55: =IFERROR(INDEX(General!$B$3:$B$103,MATCH(Don!C55,General!$A$3:$A$103,0)),"")
C56: {=IF(ROWS($1:54)<=COUNTIF(General!$I$3:$I$103,1),INDEX(General!$A$3:$A$103,SMALL(IF(General!$I$3:$I$103=1,ROW(INDIRECT("1:"&ROWS(General!$A$3:$A$103)))),ROWS($1:54))),"")} | E56: =IFERROR(INDEX(General!$C$3:$C$103,MATCH(Don!C56,General!$A$3:$A$103,0)),"") | G56: =IFERROR(INDEX(General!$B$3:$B$103,MATCH(Don!C56,General!$A$3:$A$103,0)),"")
C57: {=IF(ROWS($1:55)<=COUNTIF(General!$I$3:$I$103,1),INDEX(General!$A$3:$A$103,SMALL(IF(General!$I$3:$I$103=1,ROW(INDIRECT("1:"&ROWS(General!$A$3:$A$103)))),ROWS($1:55))),"")} | E57: =IFERROR(INDEX(General!$C$3:$C$103,MATCH(Don!C57,General!$A$3:$A$103,0)),"") | G57: =IFERROR(INDEX(General!$B$3:$B$103,MATCH(Don!C57,General!$A$3:$A$103,0)),"")
C58: {=IF(ROWS($1:56)<=COUNTIF(General!$I$3:$I$103,1),INDEX(General!$A$3:$A$103,SMALL(IF(General!$I$3:$I$103=1,ROW(INDIRECT("1:"&ROWS(General!$A$3:$A$103)))),ROWS($1:56))),"")} | E58: =IFERROR(INDEX(General!$C$3:$C$103,MATCH(Don!C58,General!$A$3:$A$103,0)),"") | G58: =IFERROR(INDEX(General!$B$3:$B$103,MATCH(Don!C58,General!$A$3:$A$103,0)),"")
C59: {=IF(ROWS($1:57)<=COUNTIF(General!$I$3:$I$103,1),INDEX(General!$A$3:$A$103,SMALL(IF(General!$I$3:$I$103=1,ROW(INDIRECT("1:"&ROWS(General!$A$3:$A$103)))),ROWS($1:57))),"")} | E59: =IFERROR(INDEX(General!$C$3:$C$103,MATCH(Don!C59,General!$A$3:$A$103,0)),"") | G59: =IFERROR(INDEX(General!$B$3:$B$103,MATCH(Don!C59,General!$A$3:$A$103,0)),"")
C60: {=IF(ROWS($1:58)<=COUNTIF(General!$I$3:$I$103,1),INDEX(General!$A$3:$A$103,SMALL(IF(General!$I$3:$I$103=1,ROW(INDIRECT("1:"&ROWS(General!$A$3:$A$103)))),ROWS($1:58))),"")} | E60: =IFERROR(INDEX(General!$C$3:$C$103,MATCH(Don!C60,General!$A$3:$A$103,0)),"") | G60: =IFERROR(INDEX(General!$B$3:$B$103,MATCH(Don!C60,General!$A$3:$A$103,0)),"")
C61: {=IF(ROWS($1:59)<=COUNTIF(General!$I$3:$I$103,1),INDEX(General!$A$3:$A$103,SMALL(IF(General!$I$3:$I$103=1,ROW(INDIRECT("1:"&ROWS(General!$A$3:$A$103)))),ROWS($1:59))),"")} | E61: =IFERROR(INDEX(General!$C$3:$C$103,MATCH(Don!C61,General!$A$3:$A$103,0)),"") | G61: =IFERROR(INDEX(General!$B$3:$B$103,MATCH(Don!C61,General!$A$3:$A$103,0)),"")
C62: {=IF(ROWS($1:60)<=COUNTIF(General!$I$3:$I$103,1),INDEX(General!$A$3:$A$103,SMALL(IF(General!$I$3:$I$103=1,ROW(INDIRECT("1:"&ROWS(General!$A$3:$A$103)))),ROWS($1:60))),"")} | E62: =IFERROR(INDEX(General!$C$3:$C$103,MATCH(Don!C62,General!$A$3:$A$103,0)),"") | G62: =IFERROR(INDEX(General!$B$3:$B$103,MATCH(Don!C62,General!$A$3:$A$103,0)),"")
C63: {=IF(ROWS($1:61)<=COUNTIF(General!$I$3:$I$103,1),INDEX(General!$A$3:$A$103,SMALL(IF(General!$I$3:$I$103=1,ROW(INDIRECT("1:"&ROWS(General!$A$3:$A$103)))),ROWS($1:61))),"")} | E63: =IFERROR(INDEX(General!$C$3:$C$103,MATCH(Don!C63,General!$A$3:$A$103,0)),"") | G63: =IFERROR(INDEX(General!$B$3:$B$103,MATCH(Don!C63,General!$A$3:$A$103,0)),"")
C64: {=IF(ROWS($1:62)<=COUNTIF(General!$I$3:$I$103,1),INDEX(General!$A$3:$A$103,SMALL(IF(General!$I$3:$I$103=1,ROW(INDIRECT("1:"&ROWS(General!$A$3:$A$103)))),ROWS($1:62))),"")} | E64: =IFERROR(INDEX(General!$C$3:$C$103,MATCH(Don!C64,General!$A$3:$A$103,0)),"") | G64: =IFERROR(INDEX(General!$B$3:$B$103,MATCH(Don!C64,General!$A$3:$A$103,0)),"")
C65: {=IF(ROWS($1:63)<=COUNTIF(General!$I$3:$I$103,1),INDEX(General!$A$3:$A$103,SMALL(IF(General!$I$3:$I$103=1,ROW(INDIRECT("1:"&ROWS(General!$A$3:$A$103)))),ROWS($1:63))),"")} | E65: =IFERROR(INDEX(General!$C$3:$C$103,MATCH(Don!C65,General!$A$3:$A$103,0)),"") | G65: =IFERROR(INDEX(General!$B$3:$B$103,MATCH(Don!C65,General!$A$3:$A$103,0)),"")
C66: {=IF(ROWS($1:64)<=COUNTIF(General!$I$3:$I$103,1),INDEX(General!$A$3:$A$103,SMALL(IF(General!$I$3:$I$103=1,ROW(INDIRECT("1:"&ROWS(General!$A$3:$A$103)))),ROWS($1:64))),"")} | E66: =IFERROR(INDEX(General!$C$3:$C$103,MATCH(Don!C66,General!$A$3:$A$103,0)),"") | G66: =IFERROR(INDEX(General!$B$3:$B$103,MATCH(Don!C66,General!$A$3:$A$103,0)),"")
C67: {=IF(ROWS($1:65)<=COUNTIF(General!$I$3:$I$103,1),INDEX(General!$A$3:$A$103,SMALL(IF(General!$I$3:$I$103=1,ROW(INDIRECT("1:"&ROWS(General!$A$3:$A$103)))),ROWS($1:65))),"")} | E67: =IFERROR(INDEX(General!$C$3:$C$103,MATCH(Don!C67,General!$A$3:$A$103,0)),"") | G67: =IFERROR(INDEX(General!$B$3:$B$103,MATCH(Don!C67,General!$A$3:$A$103,0)),"")
C68: {=IF(ROWS($1:66)<=COUNTIF(General!$I$3:$I$103,1),INDEX(General!$A$3:$A$103,SMALL(IF(General!$I$3:$I$103=1,ROW(INDIRECT("1:"&ROWS(General!$A$3:$A$103)))),ROWS($1:66))),"")} | E68: =IFERROR(INDEX(General!$C$3:$C$103,MATCH(Don!C68,General!$A$3:$A$103,0)),"") | G68: =IFERROR(INDEX(General!$B$3:$B$103,MATCH(Don!C68,General!$A$3:$A$103,0)),"")
C69: {=IF(ROWS($1:67)<=COUNTIF(General!$I$3:$I$103,1),INDEX(General!$A$3:$A$103,SMALL(IF(General!$I$3:$I$103=1,ROW(INDIRECT("1:"&ROWS(General!$A$3:$A$103)))),ROWS($1:67))),"")} | E69: =IFERROR(INDEX(General!$C$3:$C$103,MATCH(Don!C69,General!$A$3:$A$103,0)),"") | G69: =IFERROR(INDEX(General!$B$3:$B$103,MATCH(Don!C69,General!$A$3:$A$103,0)),"")
C70: {=IF(ROWS($1:68)<=COUNTIF(General!$I$3:$I$103,1),INDEX(General!$A$3:$A$103,SMALL(IF(General!$I$3:$I$103=1,ROW(INDIRECT("1:"&ROWS(General!$A$3:$A$103)))),ROWS($1:68))),"")} | E70: =IFERROR(INDEX(General!$C$3:$C$103,MATCH(Don!C70,General!$A$3:$A$103,0)),"") | G70: =IFERROR(INDEX(General!$B$3:$B$103,MATCH(Don!C70,General!$A$3:$A$103,0)),"")
C71: {=IF(ROWS($1:69)<=COUNTIF(General!$I$3:$I$103,1),INDEX(General!$A$3:$A$103,SMALL(IF(General!$I$3:$I$103=1,ROW(INDIRECT("1:"&ROWS(General!$A$3:$A$103)))),ROWS($1:69))),"")} | E71: =IFERROR(INDEX(General!$C$3:$C$103,MATCH(Don!C71,General!$A$3:$A$103,0)),"") | G71: =IFERROR(INDEX(General!$B$3:$B$103,MATCH(Don!C71,General!$A$3:$A$103,0)),"")
C72: {=IF(ROWS($1:70)<=COUNTIF(General!$I$3:$I$103,1),INDEX(General!$A$3:$A$103,SMALL(IF(General!$I$3:$I$103=1,ROW(INDIRECT("1:"&ROWS(General!$A$3:$A$103)))),ROWS($1:70))),"")} | E72: =IFERROR(INDEX(General!$C$3:$C$103,MATCH(Don!C72,General!$A$3:$A$103,0)),"") | G72: =IFERROR(INDEX(General!$B$3:$B$103,MATCH(Don!C72,General!$A$3:$A$103,0)),"")
C73: {=IF(ROWS($1:71)<=COUNTIF(General!$I$3:$I$103,1),INDEX(General!$A$3:$A$103,SMALL(IF(General!$I$3:$I$103=1,ROW(INDIRECT("1:"&ROWS(General!$A$3:$A$103)))),ROWS($1:71))),"")} | E73: =IFERROR(INDEX(General!$C$3:$C$103,MATCH(Don!C73,General!$A$3:$A$103,0)),"") | G73: =IFERROR(INDEX(General!$B$3:$B$103,MATCH(Don!C73,General!$A$3:$A$103,0)),"")
C74: {=IF(ROWS($1:72)<=COUNTIF(General!$I$3:$I$103,1),INDEX(General!$A$3:$A$103,SMALL(IF(General!$I$3:$I$103=1,ROW(INDIRECT("1:"&ROWS(General!$A$3:$A$103)))),ROWS($1:72))),"")} | E74: =IFERROR(INDEX(General!$C$3:$C$103,MATCH(Don!C74,General!$A$3:$A$103,0)),"") | G74: =IFERROR(INDEX(General!$B$3:$B$103,MATCH(Don!C74,General!$A$3:$A$103,0)),"")
C75: {=IF(ROWS($1:73)<=COUNTIF(General!$I$3:$I$103,1),INDEX(General!$A$3:$A$103,SMALL(IF(General!$I$3:$I$103=1,ROW(INDIRECT("1:"&ROWS(General!$A$3:$A$103)))),ROWS($1:73))),"")} | E75: =IFERROR(INDEX(General!$C$3:$C$103,MATCH(Don!C75,General!$A$3:$A$103,0)),"") | G75: =IFERROR(INDEX(General!$B$3:$B$103,MATCH(Don!C75,General!$A$3:$A$103,0)),"")
C76: {=IF(ROWS($1:74)<=COUNTIF(General!$I$3:$I$103,1),INDEX(General!$A$3:$A$103,SMALL(IF(General!$I$3:$I$103=1,ROW(INDIRECT("1:"&ROWS(General!$A$3:$A$103)))),ROWS($1:74))),"")} | E76: =IFERROR(INDEX(General!$C$3:$C$103,MATCH(Don!C76,General!$A$3:$A$103,0)),"") | G76: =IFERROR(INDEX(General!$B$3:$B$103,MATCH(Don!C76,General!$A$3:$A$103,0)),"")
C77: {=IF(ROWS($1:75)<=COUNTIF(General!$I$3:$I$103,1),INDEX(General!$A$3:$A$103,SMALL(IF(General!$I$3:$I$103=1,ROW(INDIRECT("1:"&ROWS(General!$A$3:$A$103)))),ROWS($1:75))),"")} | E77: =IFERROR(INDEX(General!$C$3:$C$103,MATCH(Don!C77,General!$A$3:$A$103,0)),"") | G77: =IFERROR(INDEX(General!$B$3:$B$103,MATCH(Don!C77,General!$A$3:$A$103,0)),"")
C78: {=IF(ROWS($1:76)<=COUNTIF(General!$I$3:$I$103,1),INDEX(General!$A$3:$A$103,SMALL(IF(General!$I$3:$I$103=1,ROW(INDIRECT("1:"&ROWS(General!$A$3:$A$103)))),ROWS($1:76))),"")} | E78: =IFERROR(INDEX(General!$C$3:$C$103,MATCH(Don!C78,General!$A$3:$A$103,0)),"") | G78: =IFERROR(INDEX(General!$B$3:$B$103,MATCH(Don!C78,General!$A$3:$A$103,0)),"")
C79: {=IF(ROWS($1:77)<=COUNTIF(General!$I$3:$I$103,1),INDEX(General!$A$3:$A$103,SMALL(IF(General!$I$3:$I$103=1,ROW(INDIRECT("1:"&ROWS(General!$A$3:$A$103)))),ROWS($1:77))),"")} | E79: =IFERROR(INDEX(General!$C$3:$C$103,MATCH(Don!C79,General!$A$3:$A$103,0)),"") | G79: =IFERROR(INDEX(General!$B$3:$B$103,MATCH(Don!C79,General!$A$3:$A$103,0)),"")
C80: {=IF(ROWS($1:78)<=COUNTIF(General!$I$3:$I$103,1),INDEX(General!$A$3:$A$103,SMALL(IF(General!$I$3:$I$103=1,ROW(INDIRECT("1:"&ROWS(General!$A$3:$A$103)))),ROWS($1:78))),"")} | E80: =IFERROR(INDEX(General!$C$3:$C$103,MATCH(Don!C80,General!$A$3:$A$103,0)),"") | G80: =IFERROR(INDEX(General!$B$3:$B$103,MATCH(Don!C80,General!$A$3:$A$103,0)),"")
C81: {=IF(ROWS($1:79)<=COUNTIF(General!$I$3:$I$103,1),INDEX(General!$A$3:$A$103,SMALL(IF(General!$I$3:$I$103=1,ROW(INDIRECT("1:"&ROWS(General!$A$3:$A$103)))),ROWS($1:79))),"")} | E81: =IFERROR(INDEX(General!$C$3:$C$103,MATCH(Don!C81,General!$A$3:$A$103,0)),"") | G81: =IFERROR(INDEX(General!$B$3:$B$103,MATCH(Don!C81,General!$A$3:$A$103,0)),"")
C82: {=IF(ROWS($1:80)<=COUNTIF(General!$I$3:$I$103,1),INDEX(General!$A$3:$A$103,SMALL(IF(General!$I$3:$I$103=1,ROW(INDIRECT("1:"&ROWS(General!$A$3:$A$103)))),ROWS($1:80))),"")} | E82: =IFERROR(INDEX(General!$C$3:$C$103,MATCH(Don!C82,General!$A$3:$A$103,0)),"") | G82: =IFERROR(INDEX(General!$B$3:$B$103,MATCH(Don!C82,General!$A$3:$A$103,0)),"")
C83: {=IF(ROWS($1:81)<=COUNTIF(General!$I$3:$I$103,1),INDEX(General!$A$3:$A$103,SMALL(IF(General!$I$3:$I$103=1,ROW(INDIRECT("1:"&ROWS(General!$A$3:$A$103)))),ROWS($1:81))),"")} | E83: =IFERROR(INDEX(General!$C$3:$C$103,MATCH(Don!C83,General!$A$3:$A$103,0)),"") | G83: =IFERROR(INDEX(General!$B$3:$B$103,MATCH(Don!C83,General!$A$3:$A$103,0)),"")
C84: {=IF(ROWS($1:82)<=COUNTIF(General!$I$3:$I$103,1),INDEX(General!$A$3:$A$103,SMALL(IF(General!$I$3:$I$103=1,ROW(INDIRECT("1:"&ROWS(General!$A$3:$A$103)))),ROWS($1:82))),"")} | E84: =IFERROR(INDEX(General!$C$3:$C$103,MATCH(Don!C84,General!$A$3:$A$103,0)),"") | G84: =IFERROR(INDEX(General!$B$3:$B$103,MATCH(Don!C84,General!$A$3:$A$103,0)),"")
C85: {=IF(ROWS($1:83)<=COUNTIF(General!$I$3:$I$103,1),INDEX(General!$A$3:$A$103,SMALL(IF(General!$I$3:$I$103=1,ROW(INDIRECT("1:"&ROWS(General!$A$3:$A$103)))),ROWS($1:83))),"")} | E85: =IFERROR(INDEX(General!$C$3:$C$103,MATCH(Don!C85,General!$A$3:$A$103,0)),"") | G85: =IFERROR(INDEX(General!$B$3:$B$103,MATCH(Don!C85,General!$A$3:$A$103,0)),"")
C86: {=IF(ROWS($1:84)<=COUNTIF(General!$I$3:$I$103,1),INDEX(General!$A$3:$A$103,SMALL(IF(General!$I$3:$I$103=1,ROW(INDIRECT("1:"&ROWS(General!$A$3:$A$103)))),ROWS($1:84))),"")} | E86: =IFERROR(INDEX(General!$C$3:$C$103,MATCH(Don!C86,General!$A$3:$A$103,0)),"") | G86: =IFERROR(INDEX(General!$B$3:$B$103,MATCH(Don!C86,General!$A$3:$A$103,0)),"")
C87: {=IF(ROWS($1:85)<=COUNTIF(General!$I$3:$I$103,1),INDEX(General!$A$3:$A$103,SMALL(IF(General!$I$3:$I$103=1,ROW(INDIRECT("1:"&ROWS(General!$A$3:$A$103)))),ROWS($1:85))),"")} | E87: =IFERROR(INDEX(General!$C$3:$C$103,MATCH(Don!C87,General!$A$3:$A$103,0)),"") | G87: =IFERROR(INDEX(General!$B$3:$B$103,MATCH(Don!C87,General!$A$3:$A$103,0)),"")
C88: {=IF(ROWS($1:86)<=COUNTIF(General!$I$3:$I$103,1),INDEX(General!$A$3:$A$103,SMALL(IF(General!$I$3:$I$103=1,ROW(INDIRECT("1:"&ROWS(General!$A$3:$A$103)))),ROWS($1:86))),"")} | E88: =IFERROR(INDEX(General!$C$3:$C$103,MATCH(Don!C88,General!$A$3:$A$103,0)),"") | G88: =IFERROR(INDEX(General!$B$3:$B$103,MATCH(Don!C88,General!$A$3:$A$103,0)),"")
C89: {=IF(ROWS($1:87)<=COUNTIF(General!$I$3:$I$103,1),INDEX(General!$A$3:$A$103,SMALL(IF(General!$I$3:$I$103=1,ROW(INDIRECT("1:"&ROWS(General!$A$3:$A$103)))),ROWS($1:87))),"")} | E89: =IFERROR(INDEX(General!$C$3:$C$103,MATCH(Don!C89,General!$A$3:$A$103,0)),"") | G89: =IFERROR(INDEX(General!$B$3:$B$103,MATCH(Don!C89,General!$A$3:$A$103,0)),"")
C90: {=IF(ROWS($1:88)<=COUNTIF(General!$I$3:$I$103,1),INDEX(General!$A$3:$A$103,SMALL(IF(General!$I$3:$I$103=1,ROW(INDIRECT("1:"&ROWS(General!$A$3:$A$103)))),ROWS($1:88))),"")} | E90: =IFERROR(INDEX(General!$C$3:$C$103,MATCH(Don!C90,General!$A$3:$A$103,0)),"") | G90: =IFERROR(INDEX(General!$B$3:$B$103,MATCH(Don!C90,General!$A$3:$A$103,0)),"")
C91: {=IF(ROWS($1:89)<=COUNTIF(General!$I$3:$I$103,1),INDEX(General!$A$3:$A$103,SMALL(IF(General!$I$3:$I$103=1,ROW(INDIRECT("1:"&ROWS(General!$A$3:$A$103)))),ROWS($1:89))),"")} | E91: =IFERROR(INDEX(General!$C$3:$C$103,MATCH(Don!C91,General!$A$3:$A$103,0)),"") | G91: =IFERROR(INDEX(General!$B$3:$B$103,MATCH(Don!C91,General!$A$3:$A$103,0)),"")
C92: {=IF(ROWS($1:90)<=COUNTIF(General!$I$3:$I$103,1),INDEX(General!$A$3:$A$103,SMALL(IF(General!$I$3:$I$103=1,ROW(INDIRECT("1:"&ROWS(General!$A$3:$A$103)))),ROWS($1:90))),"")} | E92: =IFERROR(INDEX(General!$C$3:$C$103,MATCH(Don!C92,General!$A$3:$A$103,0)),"") | G92: =IFERROR(INDEX(General!$B$3:$B$103,MATCH(Don!C92,General!$A$3:$A$103,0)),"")
C93: {=IF(ROWS($1:91)<=COUNTIF(General!$I$3:$I$103,1),INDEX(General!$A$3:$A$103,SMALL(IF(General!$I$3:$I$103=1,ROW(INDIRECT("1:"&ROWS(General!$A$3:$A$103)))),ROWS($1:91))),"")} | E93: =IFERROR(INDEX(General!$C$3:$C$103,MATCH(Don!C93,General!$A$3:$A$103,0)),"") | G93: =IFERROR(INDEX(General!$B$3:$B$103,MATCH(Don!C93,General!$A$3:$A$103,0)),"")
C94: {=IF(ROWS($1:92)<=COUNTIF(General!$I$3:$I$103,1),INDEX(General!$A$3:$A$103,SMALL(IF(General!$I$3:$I$103=1,ROW(INDIRECT("1:"&ROWS(General!$A$3:$A$103)))),ROWS($1:92))),"")} | E94: =IFERROR(INDEX(General!$C$3:$C$103,MATCH(Don!C94,General!$A$3:$A$103,0)),"") | G94: =IFERROR(INDEX(General!$B$3:$B$103,MATCH(Don!C94,General!$A$3:$A$103,0)),"")
C95: {=IF(ROWS($1:93)<=COUNTIF(General!$I$3:$I$103,1),INDEX(General!$A$3:$A$103,SMALL(IF(General!$I$3:$I$103=1,ROW(INDIRECT("1:"&ROWS(General!$A$3:$A$103)))),ROWS($1:93))),"")} | E95: =IFERROR(INDEX(General!$C$3:$C$103,MATCH(Don!C95,General!$A$3:$A$103,0)),"") | G95: =IFERROR(INDEX(General!$B$3:$B$103,MATCH(Don!C95,General!$A$3:$A$103,0)),"")
C96: {=IF(ROWS($1:94)<=COUNTIF(General!$I$3:$I$103,1),INDEX(General!$A$3:$A$103,SMALL(IF(General!$I$3:$I$103=1,ROW(INDIRECT("1:"&ROWS(General!$A$3:$A$103)))),ROWS($1:94))),"")} | E96: =IFERROR(INDEX(General!$C$3:$C$103,MATCH(Don!C96,General!$A$3:$A$103,0)),"") | G96: =IFERROR(INDEX(General!$B$3:$B$103,MATCH(Don!C96,General!$A$3:$A$103,0)),"")
C97: {=IF(ROWS($1:95)<=COUNTIF(General!$I$3:$I$103,1),INDEX(General!$A$3:$A$103,SMALL(IF(General!$I$3:$I$103=1,ROW(INDIRECT("1:"&ROWS(General!$A$3:$A$103)))),ROWS($1:95))),"")} | E97: =IFERROR(INDEX(General!$C$3:$C$103,MATCH(Don!C97,General!$A$3:$A$103,0)),"") | G97: =IFERROR(INDEX(General!$B$3:$B$103,MATCH(Don!C97,General!$A$3:$A$103,0)),"")
C98: =IF(General!E98,General!A98," ") | E98: =IFERROR(INDEX(General!$C$3:$C$103,MATCH(Don!C98,General!$A$3:$A$103,0)),"") | G98: =IFERROR(INDEX(General!$B$3:$B$103,MATCH(Don!C98,General!$A$3:$A$103,0)),"")
C99: =IF(General!E99,General!A99," ") | E99: =IFERROR(INDEX(General!$C$3:$C$103,MATCH(Don!C99,General!$A$3:$A$103,0)),"") | G99: =IFERROR(INDEX(General!$B$3:$B$103,MATCH(Don!C99,General!$A$3:$A$103,0)),"")
C100: =IF(General!E100,General!A100," ") | E100: =IFERROR(INDEX(General!$C$3:$C$103,MATCH(Don!C100,General!$A$3:$A$103,0)),"") | G100: =IFERROR(INDEX(General!$B$3:$B$103,MATCH(Don!C100,General!$A$3:$A$103,0)),"")
C101: =IF(General!E101,General!A101," ") | E101: =IFERROR(INDEX(General!$C$3:$C$103,MATCH(Don!C101,General!$A$3:$A$103,0)),"") | G101: =IFERROR(INDEX(General!$B$3:$B$103,MATCH(Don!C101,General!$A$3:$A$103,0)),"")
...
