Workbook

Sheet Question
B1: Vous trouverez dans la feuille Données le nombre de Ayfons vendus par les différents vendeurs deFonesForTous.Il s'agit de remplir les tableaux recapitulatifs suivants.
B5: ` | R5: Moyenne Ayfons vendus | T5: Classement Moyenne Ayfons vendus
B6: Nombre d'Ayfons vendus.
C7: 2002 | D7: 2003 | E7: 2004 | F7: 2005 | G7: 2006 | H7: 2007 | I7: 2008 | J7: 2009 | K7: 2010 | L7: 2011 | M7: 2012 | N7: 2013 | O7: 2014 | P7: 2015 | Q7: 2016 | U7: Vendeurs
B8: Vendeur 1 | C8: =SUMIF(Données!$B$1:$Z$1,$C$7,Données!B2:Z2) -> 86.000002 | E8: =SUMIF(Données!$B$1:$Z$1,$E$7,Données!B2:Z2) -> 106 | F8: =SUMIF(Données!$B$1:$Z$1,$F$7,Données!B2:Z2) -> 109 | G8: =SUMIF(Données!$B$1:$Z$1,$G$7,Données!B2:Z2) -> 38.000001 | H8: =SUMIF(Données!$B$1:$Z$1,$H$7,Données!B2:Z2) -> 52.000001 | I8: =SUMIF(Données!$B$1:$Z$1,$I$7,Données!B2:Z2) -> 57.000001 | J8: =SUMIF(Données!$B$1:$Z$1,$J$7,Données!B2:Z2) -> 64.000002 | K8: =SUMIF(Données!$B$1:$Z$1,$K$7,Données!B2:Z2) -> 35.000001 | L8: =SUMIF(Données!$B$1:$Z$1,$L$7,Données!B2:Z2) -> 88.000002 | M8: =SUMIF(Données!$B$1:$Z$1,$M$7,Données!B2:Z2) -> 121 | O8: =SUMIF(Données!$B$1:$Z$1,$O$7,Données!B2:Z2) -> 43.000001 | P8: =SUMIF(Données!$B$1:$Z$1,$P$7,Données!B2:Z2) -> 71.000002 | Q8: =SUMIF(Données!$B$1:$Z$1,$Q$7,Données!B2:Z2) -> 49.000001 | R8: =AVERAGE(C8:Q8) -> 70.692309 | T8: =LARGE(R8:R47,1) -> 80.538485 | U8: =INDEX($B$8:$B$47,MATCH(T8,$R$8:$R$47,0)) -> Vendeur 14
B9: Vendeur 2 | C9: =SUMIF(Données!$B$1:$Z$1,$C$7,Données!B3:Z3) -> 91.000004 | E9: =SUMIF(Données!$B$1:$Z$1,$E$7,Données!B3:Z3) -> 110.00001 | F9: =SUMIF(Données!$B$1:$Z$1,$F$7,Données!B3:Z3) -> 109 | G9: =SUMIF(Données!$B$1:$Z$1,$G$7,Données!B3:Z3) -> 49.000002 | H9: =SUMIF(Données!$B$1:$Z$1,$H$7,Données!B3:Z3) -> 44.000002 | I9: =SUMIF(Données!$B$1:$Z$1,$I$7,Données!B3:Z3) -> 55.000002 | J9: =SUMIF(Données!$B$1:$Z$1,$J$7,Données!B3:Z3) -> 73.000004 | K9: =SUMIF(Données!$B$1:$Z$1,$K$7,Données!B3:Z3) -> 53.000002 | L9: =SUMIF(Données!$B$1:$Z$1,$L$7,Données!B3:Z3) -> 87.000004 | M9: =SUMIF(Données!$B$1:$Z$1,$M$7,Données!B3:Z3) -> 96.000006 | O9: =SUMIF(Données!$B$1:$Z$1,$O$7,Données!B3:Z3) -> 52.000002 | P9: =SUMIF(Données!$B$1:$Z$1,$P$7,Données!B3:Z3) -> 68.000004 | Q9: =SUMIF(Données!$B$1:$Z$1,$Q$7,Données!B3:Z3) -> 38.000002 | R9: =AVERAGE(C9:Q9) -> 71.15385 | T9: =LARGE(R8:R47,2) -> 79.153856 | U9: =INDEX($B$8:$B$47,MATCH(T9,$R$8:$R$47,0)) -> Vendeur 6
B10: Vendeur 3 | C10: =SUMIF(Données!$B$1:$Z$1,$C$7,Données!B4:Z4) -> 41.000006 | E10: =SUMIF(Données!$B$1:$Z$1,$E$7,Données!B4:Z4) -> 155.00001 | F10: =SUMIF(Données!$B$1:$Z$1,$F$7,Données!B4:Z4) -> 121.00001 | G10: =SUMIF(Données!$B$1:$Z$1,$G$7,Données!B4:Z4) -> 24.000003 | H10: =SUMIF(Données!$B$1:$Z$1,$H$7,Données!B4:Z4) -> 15.000003 | I10: =SUMIF(Données!$B$1:$Z$1,$I$7,Données!B4:Z4) -> 22.000003 | J10: =SUMIF(Données!$B$1:$Z$1,$J$7,Données!B4:Z4) -> 59.000006 | K10: =SUMIF(Données!$B$1:$Z$1,$K$7,Données!B4:Z4) -> 55.000003 | L10: =SUMIF(Données!$B$1:$Z$1,$L$7,Données!B4:Z4) -> 71.000006 | M10: =SUMIF(Données!$B$1:$Z$1,$M$7,Données!B4:Z4) -> 74.000009 | O10: =SUMIF(Données!$B$1:$Z$1,$O$7,Données!B4:Z4) -> 27.000003 | P10: =SUMIF(Données!$B$1:$Z$1,$P$7,Données!B4:Z4) -> 74.000006 | Q10: =SUMIF(Données!$B$1:$Z$1,$Q$7,Données!B4:Z4) -> 10.000003 | R10: =AVERAGE(C10:Q10) -> 57.538467 | T10: =LARGE(R8:R47,3) -> 76.076981 | U10: =INDEX($B$8:$B$47,MATCH(T10,$R$8:$R$47,0)) -> Vendeur 34
B11: Vendeur 4 | C11: =SUMIF(Données!$B$1:$Z$1,$C$7,Données!B5:Z5) -> 78.000008 | E11: =SUMIF(Données!$B$1:$Z$1,$E$7,Données!B5:Z5) -> 140.00001 | F11: =SUMIF(Données!$B$1:$Z$1,$F$7,Données!B5:Z5) -> 120.00001 | G11: =SUMIF(Données!$B$1:$Z$1,$G$7,Données!B5:Z5) -> 59.000004 | H11: =SUMIF(Données!$B$1:$Z$1,$H$7,Données!B5:Z5) -> 22.000004 | I11: =SUMIF(Données!$B$1:$Z$1,$I$7,Données!B5:Z5) -> 36.000004 | J11: =SUMIF(Données!$B$1:$Z$1,$J$7,Données!B5:Z5) -> 82.000008 | K11: =SUMIF(Données!$B$1:$Z$1,$K$7,Données!B5:Z5) -> 50.000004 | L11: =SUMIF(Données!$B$1:$Z$1,$L$7,Données!B5:Z5) -> 83.000008 | M11: =SUMIF(Données!$B$1:$Z$1,$M$7,Données!B5:Z5) -> 127.00001 | O11: =SUMIF(Données!$B$1:$Z$1,$O$7,Données!B5:Z5) -> 44.000004 | P11: =SUMIF(Données!$B$1:$Z$1,$P$7,Données!B5:Z5) -> 58.000008 | Q11: =SUMIF(Données!$B$1:$Z$1,$Q$7,Données!B5:Z5) -> 61.000004 | R11: =AVERAGE(C11:Q11) -> 73.846161 | T11: =LARGE(R8:R47,4) -> 73.846161 | U11: =INDEX($B$8:$B$47,MATCH(T11,$R$8:$R$47,0)) -> Vendeur 4
B12: Vendeur 5 | C12: =SUMIF(Données!$B$1:$Z$1,$C$7,Données!B6:Z6) -> 57.00001 | E12: =SUMIF(Données!$B$1:$Z$1,$E$7,Données!B6:Z6) -> 74.000015 | F12: =SUMIF(Données!$B$1:$Z$1,$F$7,Données!B6:Z6) -> 65.00001 | G12: =SUMIF(Données!$B$1:$Z$1,$G$7,Données!B6:Z6) -> 17.000005 | H12: =SUMIF(Données!$B$1:$Z$1,$H$7,Données!B6:Z6) -> 32.000005 | I12: =SUMIF(Données!$B$1:$Z$1,$I$7,Données!B6:Z6) -> 32.000005 | J12: =SUMIF(Données!$B$1:$Z$1,$J$7,Données!B6:Z6) -> 68.00001 | K12: =SUMIF(Données!$B$1:$Z$1,$K$7,Données!B6:Z6) -> 54.000005 | L12: =SUMIF(Données!$B$1:$Z$1,$L$7,Données!B6:Z6) -> 71.00001 | M12: =SUMIF(Données!$B$1:$Z$1,$M$7,Données!B6:Z6) -> 84.000015 | O12: =SUMIF(Données!$B$1:$Z$1,$O$7,Données!B6:Z6) -> 54.000005 | P12: =SUMIF(Données!$B$1:$Z$1,$P$7,Données!B6:Z6) -> 73.00001 | Q12: =SUMIF(Données!$B$1:$Z$1,$Q$7,Données!B6:Z6) -> 52.000005 | R12: =AVERAGE(C12:Q12) -> 56.384624 | T12: =LARGE(R8:R47,5) -> 73.46155 | U12: =INDEX($B$8:$B$47,MATCH(T12,$R$8:$R$47,0)) -> Vendeur 7
B13: Vendeur 6 | C13: =SUMIF(Données!$B$1:$Z$1,$C$7,Données!B7:Z7) -> 92.000012 | E13: =SUMIF(Données!$B$1:$Z$1,$E$7,Données!B7:Z7) -> 141.00002 | F13: =SUMIF(Données!$B$1:$Z$1,$F$7,Données!B7:Z7) -> 93.000012 | G13: =SUMIF(Données!$B$1:$Z$1,$G$7,Données!B7:Z7) -> 47.000006 | H13: =SUMIF(Données!$B$1:$Z$1,$H$7,Données!B7:Z7) -> 31.000006 | I13: =SUMIF(Données!$B$1:$Z$1,$I$7,Données!B7:Z7) -> 60.000006 | J13: =SUMIF(Données!$B$1:$Z$1,$J$7,Données!B7:Z7) -> 88.000012 | K13: =SUMIF(Données!$B$1:$Z$1,$K$7,Données!B7:Z7) -> 44.000006 | L13: =SUMIF(Données!$B$1:$Z$1,$L$7,Données!B7:Z7) -> 98.000012 | M13: =SUMIF(Données!$B$1:$Z$1,$M$7,Données!B7:Z7) -> 134.00002 | O13: =SUMIF(Données!$B$1:$Z$1,$O$7,Données!B7:Z7) -> 54.000006 | P13: =SUMIF(Données!$B$1:$Z$1,$P$7,Données!B7:Z7) -> 91.000012 | Q13: =SUMIF(Données!$B$1:$Z$1,$Q$7,Données!B7:Z7) -> 56.000006 | R13: =AVERAGE(C13:Q13) -> 79.153856 | T13: =LARGE(R8:R47,6) -> 72.384649 | U13: =INDEX($B$8:$B$47,MATCH(T13,$R$8:$R$47,0)) -> Vendeur 20
B14: Vendeur 7 | C14: =SUMIF(Données!$B$1:$Z$1,$C$7,Données!B8:Z8) -> 76.000014 | E14: =SUMIF(Données!$B$1:$Z$1,$E$7,Données!B8:Z8) -> 134.00002 | F14: =SUMIF(Données!$B$1:$Z$1,$F$7,Données!B8:Z8) -> 98.000014 | G14: =SUMIF(Données!$B$1:$Z$1,$G$7,Données!B8:Z8) -> 43.000007 | H14: =SUMIF(Données!$B$1:$Z$1,$H$7,Données!B8:Z8) -> 54.000007 | I14: =SUMIF(Données!$B$1:$Z$1,$I$7,Données!B8:Z8) -> 27.000007 | J14: =SUMIF(Données!$B$1:$Z$1,$J$7,Données!B8:Z8) -> 62.000014 | K14: =SUMIF(Données!$B$1:$Z$1,$K$7,Données!B8:Z8) -> 29.000007 | L14: =SUMIF(Données!$B$1:$Z$1,$L$7,Données!B8:Z8) -> 84.000014 | M14: =SUMIF(Données!$B$1:$Z$1,$M$7,Données!B8:Z8) -> 139.00002 | O14: =SUMIF(Données!$B$1:$Z$1,$O$7,Données!B8:Z8) -> 54.000007 | P14: =SUMIF(Données!$B$1:$Z$1,$P$7,Données!B8:Z8) -> 102.00001 | Q14: =SUMIF(Données!$B$1:$Z$1,$Q$7,Données!B8:Z8) -> 53.000007 | R14: =AVERAGE(C14:Q14) -> 73.46155 | T14: =LARGE(R8:R47,7) -> 71.461579 | U14: =INDEX($B$8:$B$47,MATCH(T14,$R$8:$R$47,0)) -> Vendeur 24
B15: Vendeur 8 | C15: =SUMIF(Données!$B$1:$Z$1,$C$7,Données!B9:Z9) -> 78.000016 | E15: =SUMIF(Données!$B$1:$Z$1,$E$7,Données!B9:Z9) -> 104.00002 | F15: =SUMIF(Données!$B$1:$Z$1,$F$7,Données!B9:Z9) -> 91.000016 | G15: =SUMIF(Données!$B$1:$Z$1,$G$7,Données!B9:Z9) -> 28.000008 | H15: =SUMIF(Données!$B$1:$Z$1,$H$7,Données!B9:Z9) -> 33.000008 | I15: =SUMIF(Données!$B$1:$Z$1,$I$7,Données!B9:Z9) -> 47.000008 | J15: =SUMIF(Données!$B$1:$Z$1,$J$7,Données!B9:Z9) -> 53.000016 | K15: =SUMIF(Données!$B$1:$Z$1,$K$7,Données!B9:Z9) -> 38.000008 | L15: =SUMIF(Données!$B$1:$Z$1,$L$7,Données!B9:Z9) -> 96.000016 | M15: =SUMIF(Données!$B$1:$Z$1,$M$7,Données!B9:Z9) -> 91.000024 | O15: =SUMIF(Données!$B$1:$Z$1,$O$7,Données!B9:Z9) -> 46.000008 | P15: =SUMIF(Données!$B$1:$Z$1,$P$7,Données!B9:Z9) -> 64.000016 | Q15: =SUMIF(Données!$B$1:$Z$1,$Q$7,Données!B9:Z9) -> 22.000008 | R15: =AVERAGE(C15:Q15) -> 60.846167 | T15: =LARGE(R8:R47,8) -> 71.15385 | U15: =INDEX($B$8:$B$47,MATCH(T15,$R$8:$R$47,0)) -> Vendeur 2
B16: Vendeur 9 | C16: =SUMIF(Données!$B$1:$Z$1,$C$7,Données!B10:Z10) -> 46.000018 | E16: =SUMIF(Données!$B$1:$Z$1,$E$7,Données!B10:Z10) -> 119.00003 | F16: =SUMIF(Données!$B$1:$Z$1,$F$7,Données!B10:Z10) -> 85.000018 | G16: =SUMIF(Données!$B$1:$Z$1,$G$7,Données!B10:Z10) -> 17.000009 | H16: =SUMIF(Données!$B$1:$Z$1,$H$7,Données!B10:Z10) -> 20.000009 | I16: =SUMIF(Données!$B$1:$Z$1,$I$7,Données!B10:Z10) -> 29.000009 | J16: =SUMIF(Données!$B$1:$Z$1,$J$7,Données!B10:Z10) -> 78.000018 | K16: =SUMIF(Données!$B$1:$Z$1,$K$7,Données!B10:Z10) -> 19.000009 | L16: =SUMIF(Données!$B$1:$Z$1,$L$7,Données!B10:Z10) -> 66.000018 | M16: =SUMIF(Données!$B$1:$Z$1,$M$7,Données!B10:Z10) -> 102.00003 | O16: =SUMIF(Données!$B$1:$Z$1,$O$7,Données!B10:Z10) -> 34.000009 | P16: =SUMIF(Données!$B$1:$Z$1,$P$7,Données!B10:Z10) -> 42.000018 | Q16: =SUMIF(Données!$B$1:$Z$1,$Q$7,Données!B10:Z10) -> 38.000009 | R16: =AVERAGE(C16:Q16) -> 53.461554 | T16: =LARGE(R8:R47,9) -> 70.692309 | U16: =INDEX($B$8:$B$47,MATCH(T16,$R$8:$R$47,0)) -> Vendeur 1
B17: Vendeur 10 | C17: =SUMIF(Données!$B$1:$Z$1,$C$7,Données!B11:Z11) -> 45.00002 | E17: =SUMIF(Données!$B$1:$Z$1,$E$7,Données!B11:Z11) -> 79.00003 | F17: =SUMIF(Données!$B$1:$Z$1,$F$7,Données!B11:Z11) -> 22.00002 | G17: =SUMIF(Données!$B$1:$Z$1,$G$7,Données!B11:Z11) -> 29.00001 | H17: =SUMIF(Données!$B$1:$Z$1,$H$7,Données!B11:Z11) -> 23.00001 | I17: =SUMIF(Données!$B$1:$Z$1,$I$7,Données!B11:Z11) -> 28.00001 | J17: =SUMIF(Données!$B$1:$Z$1,$J$7,Données!B11:Z11) -> 42.00002 | K17: =SUMIF(Données!$B$1:$Z$1,$K$7,Données!B11:Z11) -> 25.00001 | L17: =SUMIF(Données!$B$1:$Z$1,$L$7,Données!B11:Z11) -> 51.00002 | M17: =SUMIF(Données!$B$1:$Z$1,$M$7,Données!B11:Z11) -> 97.00003 | O17: =SUMIF(Données!$B$1:$Z$1,$O$7,Données!B11:Z11) -> 26.00001 | P17: =SUMIF(Données!$B$1:$Z$1,$P$7,Données!B11:Z11) -> 58.00002 | Q17: =SUMIF(Données!$B$1:$Z$1,$Q$7,Données!B11:Z11) -> 23.00001 | R17: =AVERAGE(C17:Q17) -> 42.153863 | T17: =LARGE(R8:R47,10) -> 70.384683 | U17: =INDEX($B$8:$B$47,MATCH(T17,$R$8:$R$47,0)) -> Vendeur 40
B18: Vendeur 11 | C18: =SUMIF(Données!$B$1:$Z$1,$C$7,Données!B12:Z12) -> 61.000022 | E18: =SUMIF(Données!$B$1:$Z$1,$E$7,Données!B12:Z12) -> 103.00003 | F18: =SUMIF(Données!$B$1:$Z$1,$F$7,Données!B12:Z12) -> 76.000022 | G18: =SUMIF(Données!$B$1:$Z$1,$G$7,Données!B12:Z12) -> 25.000011 | H18: =SUMIF(Données!$B$1:$Z$1,$H$7,Données!B12:Z12) -> 35.000011 | I18: =SUMIF(Données!$B$1:$Z$1,$I$7,Données!B12:Z12) -> 35.000011 | J18: =SUMIF(Données!$B$1:$Z$1,$J$7,Données!B12:Z12) -> 57.000022 | K18: =SUMIF(Données!$B$1:$Z$1,$K$7,Données!B12:Z12) -> 30.000011 | L18: =SUMIF(Données!$B$1:$Z$1,$L$7,Données!B12:Z12) -> 65.000022 | M18: =SUMIF(Données!$B$1:$Z$1,$M$7,Données!B12:Z12) -> 103.00003 | O18: =SUMIF(Données!$B$1:$Z$1,$O$7,Données!B12:Z12) -> 32.000011 | P18: =SUMIF(Données!$B$1:$Z$1,$P$7,Données!B12:Z12) -> 59.000022 | Q18: =SUMIF(Données!$B$1:$Z$1,$Q$7,Données!B12:Z12) -> 26.000011 | R18: =AVERAGE(C18:Q18) -> 54.384634 | T18: =LARGE(R8:R47,11) -> 68.307723 | U18: =INDEX($B$8:$B$47,MATCH(T18,$R$8:$R$47,0)) -> Vendeur 18
B19: Vendeur 12 | C19: =SUMIF(Données!$B$1:$Z$1,$C$7,Données!B13:Z13) -> 44.000024 | E19: =SUMIF(Données!$B$1:$Z$1,$E$7,Données!B13:Z13) -> 62.000036 | F19: =SUMIF(Données!$B$1:$Z$1,$F$7,Données!B13:Z13) -> 52.000024 | G19: =SUMIF(Données!$B$1:$Z$1,$G$7,Données!B13:Z13) -> 20.000012 | H19: =SUMIF(Données!$B$1:$Z$1,$H$7,Données!B13:Z13) -> 46.000012 | I19: =SUMIF(Données!$B$1:$Z$1,$I$7,Données!B13:Z13) -> 39.000012 | J19: =SUMIF(Données!$B$1:$Z$1,$J$7,Données!B13:Z13) -> 59.000024 | K19: =SUMIF(Données!$B$1:$Z$1,$K$7,Données!B13:Z13) -> 22.000012 | L19: =SUMIF(Données!$B$1:$Z$1,$L$7,Données!B13:Z13) -> 52.000024 | M19: =SUMIF(Données!$B$1:$Z$1,$M$7,Données!B13:Z13) -> 50.000036 | O19: =SUMIF(Données!$B$1:$Z$1,$O$7,Données!B13:Z13) -> 18.000012 | P19: =SUMIF(Données!$B$1:$Z$1,$P$7,Données!B13:Z13) -> 56.000024 | Q19: =SUMIF(Données!$B$1:$Z$1,$Q$7,Données!B13:Z13) -> 46.000012 | R19: =AVERAGE(C19:Q19) -> 43.538482 | T19: =LARGE(R8:R47,12) -> 64.538507 | U19: =INDEX($B$8:$B$47,MATCH(T19,$R$8:$R$47,0)) -> Vendeur 27
B20: Vendeur 13 | C20: =SUMIF(Données!$B$1:$Z$1,$C$7,Données!B14:Z14) -> 55.000026 | E20: =SUMIF(Données!$B$1:$Z$1,$E$7,Données!B14:Z14) -> 60.000039 | F20: =SUMIF(Données!$B$1:$Z$1,$F$7,Données!B14:Z14) -> 57.000026 | G20: =SUMIF(Données!$B$1:$Z$1,$G$7,Données!B14:Z14) -> 42.000013 | H20: =SUMIF(Données!$B$1:$Z$1,$H$7,Données!B14:Z14) -> 49.000013 | I20: =SUMIF(Données!$B$1:$Z$1,$I$7,Données!B14:Z14) -> 51.000013 | J20: =SUMIF(Données!$B$1:$Z$1,$J$7,Données!B14:Z14) -> 73.000026 | K20: =SUMIF(Données!$B$1:$Z$1,$K$7,Données!B14:Z14) -> 38.000013 | L20: =SUMIF(Données!$B$1:$Z$1,$L$7,Données!B14:Z14) -> 51.000026 | M20: =SUMIF(Données!$B$1:$Z$1,$M$7,Données!B14:Z14) -> 39.000039 | O20: =SUMIF(Données!$B$1:$Z$1,$O$7,Données!B14:Z14) -> 13.000013 | P20: =SUMIF(Données!$B$1:$Z$1,$P$7,Données!B14:Z14) -> 59.000026 | Q20: =SUMIF(Données!$B$1:$Z$1,$Q$7,Données!B14:Z14) -> 6.000013 | R20: =AVERAGE(C20:Q20) -> 45.615407 | T20: =LARGE(R8:R47,13) -> 63.000061 | U20: =INDEX($B$8:$B$47,MATCH(T20,$R$8:$R$47,0)) -> Vendeur 36
B21: Vendeur 14 | C21: =SUMIF(Données!$B$1:$Z$1,$C$7,Données!B15:Z15) -> 81.000028 | E21: =SUMIF(Données!$B$1:$Z$1,$E$7,Données!B15:Z15) -> 116.00004 | F21: =SUMIF(Données!$B$1:$Z$1,$F$7,Données!B15:Z15) -> 110.00003 | G21: =SUMIF(Données!$B$1:$Z$1,$G$7,Données!B15:Z15) -> 51.000014 | H21: =SUMIF(Données!$B$1:$Z$1,$H$7,Données!B15:Z15) -> 67.000014 | I21: =SUMIF(Données!$B$1:$Z$1,$I$7,Données!B15:Z15) -> 41.000014 | J21: =SUMIF(Données!$B$1:$Z$1,$J$7,Données!B15:Z15) -> 82.000028 | K21: =SUMIF(Données!$B$1:$Z$1,$K$7,Données!B15:Z15) -> 65.000014 | L21: =SUMIF(Données!$B$1:$Z$1,$L$7,Données!B15:Z15) -> 79.000028 | M21: =SUMIF(Données!$B$1:$Z$1,$M$7,Données!B15:Z15) -> 140.00004 | O21: =SUMIF(Données!$B$1:$Z$1,$O$7,Données!B15:Z15) -> 55.000014 | P21: =SUMIF(Données!$B$1:$Z$1,$P$7,Données!B15:Z15) -> 130.00003 | Q21: =SUMIF(Données!$B$1:$Z$1,$Q$7,Données!B15:Z15) -> 30.000014 | R21: =AVERAGE(C21:Q21) -> 80.538485 | T21: =LARGE(R8:R47,14) -> 60.846208 | U21: =INDEX($B$8:$B$47,MATCH(T21,$R$8:$R$47,0)) -> Vendeur 32
B22: Vendeur 15 | C22: =SUMIF(Données!$B$1:$Z$1,$C$7,Données!B16:Z16) -> 55.00003 | E22: =SUMIF(Données!$B$1:$Z$1,$E$7,Données!B16:Z16) -> 58.000045 | F22: =SUMIF(Données!$B$1:$Z$1,$F$7,Données!B16:Z16) -> 16.00003 | G22: =SUMIF(Données!$B$1:$Z$1,$G$7,Données!B16:Z16) -> 25.000015 | H22: =SUMIF(Données!$B$1:$Z$1,$H$7,Données!B16:Z16) -> 43.000015 | I22: =SUMIF(Données!$B$1:$Z$1,$I$7,Données!B16:Z16) -> 7.000015 | J22: =SUMIF(Données!$B$1:$Z$1,$J$7,Données!B16:Z16) -> 62.00003 | K22: =SUMIF(Données!$B$1:$Z$1,$K$7,Données!B16:Z16) -> 8.000015 | L22: =SUMIF(Données!$B$1:$Z$1,$L$7,Données!B16:Z16) -> 41.00003 | M22: =SUMIF(Données!$B$1:$Z$1,$M$7,Données!B16:Z16) -> 76.000045 | O22: =SUMIF(Données!$B$1:$Z$1,$O$7,Données!B16:Z16) -> 10.000015 | P22: =SUMIF(Données!$B$1:$Z$1,$P$7,Données!B16:Z16) -> 62.00003 | Q22: =SUMIF(Données!$B$1:$Z$1,$Q$7,Données!B16:Z16) -> 8.000015 | R22: =AVERAGE(C22:Q22) -> 36.230795 | T22: =LARGE(R8:R47,15) -> 60.846186 | U22: =INDEX($B$8:$B$47,MATCH(T22,$R$8:$R$47,0)) -> Vendeur 19
B23: Vendeur 16 | C23: =SUMIF(Données!$B$1:$Z$1,$C$7,Données!B17:Z17) -> 101.00003 | E23: =SUMIF(Données!$B$1:$Z$1,$E$7,Données!B17:Z17) -> 51.000048 | F23: =SUMIF(Données!$B$1:$Z$1,$F$7,Données!B17:Z17) -> 97.000032 | G23: =SUMIF(Données!$B$1:$Z$1,$G$7,Données!B17:Z17) -> 36.000016 | H23: =SUMIF(Données!$B$1:$Z$1,$H$7,Données!B17:Z17) -> 6.000016 | I23: =SUMIF(Données!$B$1:$Z$1,$I$7,Données!B17:Z17) -> 19.000016 | J23: =SUMIF(Données!$B$1:$Z$1,$J$7,Données!B17:Z17) -> 35.000032 | K23: =SUMIF(Données!$B$1:$Z$1,$K$7,Données!B17:Z17) -> 19.000016 | L23: =SUMIF(Données!$B$1:$Z$1,$L$7,Données!B17:Z17) -> 87.000032 | M23: =SUMIF(Données!$B$1:$Z$1,$M$7,Données!B17:Z17) -> 78.000048 | O23: =SUMIF(Données!$B$1:$Z$1,$O$7,Données!B17:Z17) -> 15.000016 | P23: =SUMIF(Données!$B$1:$Z$1,$P$7,Données!B17:Z17) -> 57.000032 | Q23: =SUMIF(Données!$B$1:$Z$1,$Q$7,Données!B17:Z17) -> 52.000016 | R23: =AVERAGE(C23:Q23) -> 50.230796 | T23: =LARGE(R8:R47,16) -> 60.846167 | U23: =INDEX($B$8:$B$47,MATCH(T23,$R$8:$R$47,0)) -> Vendeur 8
B24: Vendeur 17 | C24: =SUMIF(Données!$B$1:$Z$1,$C$7,Données!B18:Z18) -> 65.000034 | E24: =SUMIF(Données!$B$1:$Z$1,$E$7,Données!B18:Z18) -> 114.00005 | F24: =SUMIF(Données!$B$1:$Z$1,$F$7,Données!B18:Z18) -> 66.000034 | G24: =SUMIF(Données!$B$1:$Z$1,$G$7,Données!B18:Z18) -> 24.000017 | H24: =SUMIF(Données!$B$1:$Z$1,$H$7,Données!B18:Z18) -> 33.000017 | I24: =SUMIF(Données!$B$1:$Z$1,$I$7,Données!B18:Z18) -> 31.000017 | J24: =SUMIF(Données!$B$1:$Z$1,$J$7,Données!B18:Z18) -> 67.000034 | K24: =SUMIF(Données!$B$1:$Z$1,$K$7,Données!B18:Z18) -> 32.000017 | L24: =SUMIF(Données!$B$1:$Z$1,$L$7,Données!B18:Z18) -> 86.000034 | M24: =SUMIF(Données!$B$1:$Z$1,$M$7,Données!B18:Z18) -> 91.000051 | O24: =SUMIF(Données!$B$1:$Z$1,$O$7,Données!B18:Z18) -> 40.000017 | P24: =SUMIF(Données!$B$1:$Z$1,$P$7,Données!B18:Z18) -> 56.000034 | Q24: =SUMIF(Données!$B$1:$Z$1,$Q$7,Données!B18:Z18) -> 41.000017 | R24: =AVERAGE(C24:Q24) -> 57.384644 | T24: =LARGE(R8:R47,17) -> 59.230828 | U24: =INDEX($B$8:$B$47,MATCH(T24,$R$8:$R$47,0)) -> Vendeur 35
B25: Vendeur 18 | C25: =SUMIF(Données!$B$1:$Z$1,$C$7,Données!B19:Z19) -> 90.000036 | E25: =SUMIF(Données!$B$1:$Z$1,$E$7,Données!B19:Z19) -> 126.00005 | F25: =SUMIF(Données!$B$1:$Z$1,$F$7,Données!B19:Z19) -> 84.000036 | G25: =SUMIF(Données!$B$1:$Z$1,$G$7,Données!B19:Z19) -> 28.000018 | H25: =SUMIF(Données!$B$1:$Z$1,$H$7,Données!B19:Z19) -> 23.000018 | I25: =SUMIF(Données!$B$1:$Z$1,$I$7,Données!B19:Z19) -> 56.000018 | J25: =SUMIF(Données!$B$1:$Z$1,$J$7,Données!B19:Z19) -> 85.000036 | K25: =SUMIF(Données!$B$1:$Z$1,$K$7,Données!B19:Z19) -> 38.000018 | L25: =SUMIF(Données!$B$1:$Z$1,$L$7,Données!B19:Z19) -> 97.000036 | M25: =SUMIF(Données!$B$1:$Z$1,$M$7,Données!B19:Z19) -> 100.00005 | O25: =SUMIF(Données!$B$1:$Z$1,$O$7,Données!B19:Z19) -> 39.000018 | P25: =SUMIF(Données!$B$1:$Z$1,$P$7,Données!B19:Z19) -> 97.000036 | Q25: =SUMIF(Données!$B$1:$Z$1,$Q$7,Données!B19:Z19) -> 25.000018 | R25: =AVERAGE(C25:Q25) -> 68.307723 | T25: =LARGE(R8:R47,18) -> 58.307743 | U25: =INDEX($B$8:$B$47,MATCH(T25,$R$8:$R$47,0)) -> Vendeur 30
B26: Vendeur 19 | C26: =SUMIF(Données!$B$1:$Z$1,$C$7,Données!B20:Z20) -> 47.000038 | E26: =SUMIF(Données!$B$1:$Z$1,$E$7,Données!B20:Z20) -> 83.000057 | F26: =SUMIF(Données!$B$1:$Z$1,$F$7,Données!B20:Z20) -> 57.000038 | G26: =SUMIF(Données!$B$1:$Z$1,$G$7,Données!B20:Z20) -> 29.000019 | H26: =SUMIF(Données!$B$1:$Z$1,$H$7,Données!B20:Z20) -> 48.000019 | I26: =SUMIF(Données!$B$1:$Z$1,$I$7,Données!B20:Z20) -> 25.000019 | J26: =SUMIF(Données!$B$1:$Z$1,$J$7,Données!B20:Z20) -> 86.000038 | K26: =SUMIF(Données!$B$1:$Z$1,$K$7,Données!B20:Z20) -> 40.000019 | L26: =SUMIF(Données!$B$1:$Z$1,$L$7,Données!B20:Z20) -> 94.000038 | M26: =SUMIF(Données!$B$1:$Z$1,$M$7,Données!B20:Z20) -> 126.00006 | O26: =SUMIF(Données!$B$1:$Z$1,$O$7,Données!B20:Z20) -> 58.000019 | P26: =SUMIF(Données!$B$1:$Z$1,$P$7,Données!B20:Z20) -> 48.000038 | Q26: =SUMIF(Données!$B$1:$Z$1,$Q$7,Données!B20:Z20) -> 50.000019 | R26: =AVERAGE(C26:Q26) -> 60.846186 | T26: =LARGE(R8:R47,19) -> 57.923133 | U26: =INDEX($B$8:$B$47,MATCH(T26,$R$8:$R$47,0)) -> Vendeur 33
B27: Vendeur 20 | C27: =SUMIF(Données!$B$1:$Z$1,$C$7,Données!B21:Z21) -> 73.00004 | E27: =SUMIF(Données!$B$1:$Z$1,$E$7,Données!B21:Z21) -> 128.00006 | F27: =SUMIF(Données!$B$1:$Z$1,$F$7,Données!B21:Z21) -> 80.00004 | G27: =SUMIF(Données!$B$1:$Z$1,$G$7,Données!B21:Z21) -> 64.00002 | H27: =SUMIF(Données!$B$1:$Z$1,$H$7,Données!B21:Z21) -> 65.00002 | I27: =SUMIF(Données!$B$1:$Z$1,$I$7,Données!B21:Z21) -> 64.00002 | J27: =SUMIF(Données!$B$1:$Z$1,$J$7,Données!B21:Z21) -> 83.00004 | K27: =SUMIF(Données!$B$1:$Z$1,$K$7,Données!B21:Z21) -> 66.00002 | L27: =SUMIF(Données!$B$1:$Z$1,$L$7,Données!B21:Z21) -> 83.00004 | M27: =SUMIF(Données!$B$1:$Z$1,$M$7,Données!B21:Z21) -> 112.00006 | O27: =SUMIF(Données!$B$1:$Z$1,$O$7,Données!B21:Z21) -> 28.00002 | P27: =SUMIF(Données!$B$1:$Z$1,$P$7,Données!B21:Z21) -> 73.00004 | Q27: =SUMIF(Données!$B$1:$Z$1,$Q$7,Données!B21:Z21) -> 22.00002 | R27: =AVERAGE(C27:Q27) -> 72.384649 | T27: =LARGE(R8:R47,20) -> 57.538467 | U27: =INDEX($B$8:$B$47,MATCH(T27,$R$8:$R$47,0)) -> Vendeur 3
B28: Vendeur 21 | C28: =SUMIF(Données!$B$1:$Z$1,$C$7,Données!B22:Z22) -> 20.000042 | E28: =SUMIF(Données!$B$1:$Z$1,$E$7,Données!B22:Z22) -> 81.000063 | F28: =SUMIF(Données!$B$1:$Z$1,$F$7,Données!B22:Z22) -> 32.000042 | G28: =SUMIF(Données!$B$1:$Z$1,$G$7,Données!B22:Z22) -> 47.000021 | H28: =SUMIF(Données!$B$1:$Z$1,$H$7,Données!B22:Z22) -> 5.000021 | I28: =SUMIF(Données!$B$1:$Z$1,$I$7,Données!B22:Z22) -> 34.000021 | J28: =SUMIF(Données!$B$1:$Z$1,$J$7,Données!B22:Z22) -> 50.000042 | K28: =SUMIF(Données!$B$1:$Z$1,$K$7,Données!B22:Z22) -> 57.000021 | L28: =SUMIF(Données!$B$1:$Z$1,$L$7,Données!B22:Z22) -> 71.000042 | M28: =SUMIF(Données!$B$1:$Z$1,$M$7,Données!B22:Z22) -> 105.00006 | O28: =SUMIF(Données!$B$1:$Z$1,$O$7,Données!B22:Z22) -> 36.000021 | P28: =SUMIF(Données!$B$1:$Z$1,$P$7,Données!B22:Z22) -> 28.000042 | Q28: =SUMIF(Données!$B$1:$Z$1,$Q$7,Données!B22:Z22) -> 23.000021 | R28: =AVERAGE(C28:Q28) -> 45.307728 | T28: =LARGE(R8:R47,21) -> 57.384644 | U28: =INDEX($B$8:$B$47,MATCH(T28,$R$8:$R$47,0)) -> Vendeur 17
B29: Vendeur 22 | C29: =SUMIF(Données!$B$1:$Z$1,$C$7,Données!B23:Z23) -> 66.000044 | E29: =SUMIF(Données!$B$1:$Z$1,$E$7,Données!B23:Z23) -> 87.000066 | F29: =SUMIF(Données!$B$1:$Z$1,$F$7,Données!B23:Z23) -> 61.000044 | G29: =SUMIF(Données!$B$1:$Z$1,$G$7,Données!B23:Z23) -> 31.000022 | H29: =SUMIF(Données!$B$1:$Z$1,$H$7,Données!B23:Z23) -> 35.000022 | I29: =SUMIF(Données!$B$1:$Z$1,$I$7,Données!B23:Z23) -> 37.000022 | J29: =SUMIF(Données!$B$1:$Z$1,$J$7,Données!B23:Z23) -> 53.000044 | K29: =SUMIF(Données!$B$1:$Z$1,$K$7,Données!B23:Z23) -> 41.000022 | L29: =SUMIF(Données!$B$1:$Z$1,$L$7,Données!B23:Z23) -> 61.000044 | M29: =SUMIF(Données!$B$1:$Z$1,$M$7,Données!B23:Z23) -> 107.00007 | O29: =SUMIF(Données!$B$1:$Z$1,$O$7,Données!B23:Z23) -> 36.000022 | P29: =SUMIF(Données!$B$1:$Z$1,$P$7,Données!B23:Z23) -> 74.000044 | Q29: =SUMIF(Données!$B$1:$Z$1,$Q$7,Données!B23:Z23) -> 25.000022 | R29: =AVERAGE(C29:Q29) -> 54.923114 | T29: =LARGE(R8:R47,22) -> 56.5385 | U29: =INDEX($B$8:$B$47,MATCH(T29,$R$8:$R$47,0)) -> Vendeur 23
B30: Vendeur 23 | C30: =SUMIF(Données!$B$1:$Z$1,$C$7,Données!B24:Z24) -> 66.000046 | E30: =SUMIF(Données!$B$1:$Z$1,$E$7,Données!B24:Z24) -> 113.00007 | F30: =SUMIF(Données!$B$1:$Z$1,$F$7,Données!B24:Z24) -> 78.000046 | G30: =SUMIF(Données!$B$1:$Z$1,$G$7,Données!B24:Z24) -> 32.000023 | H30: =SUMIF(Données!$B$1:$Z$1,$H$7,Données!B24:Z24) -> 29.000023 | I30: =SUMIF(Données!$B$1:$Z$1,$I$7,Données!B24:Z24) -> 27.000023 | J30: =SUMIF(Données!$B$1:$Z$1,$J$7,Données!B24:Z24) -> 67.000046 | K30: =SUMIF(Données!$B$1:$Z$1,$K$7,Données!B24:Z24) -> 36.000023 | L30: =SUMIF(Données!$B$1:$Z$1,$L$7,Données!B24:Z24) -> 71.000046 | M30: =SUMIF(Données!$B$1:$Z$1,$M$7,Données!B24:Z24) -> 96.000069 | O30: =SUMIF(Données!$B$1:$Z$1,$O$7,Données!B24:Z24) -> 33.000023 | P30: =SUMIF(Données!$B$1:$Z$1,$P$7,Données!B24:Z24) -> 62.000046 | Q30: =SUMIF(Données!$B$1:$Z$1,$Q$7,Données!B24:Z24) -> 25.000023 | R30: =AVERAGE(C30:Q30) -> 56.5385 | T30: =LARGE(R8:R47,22) -> 56.5385 | U30: =INDEX($B$8:$B$47,MATCH(T30,$R$8:$R$47,0)) -> Vendeur 23
B31: Vendeur 24 | C31: =SUMIF(Données!$B$1:$Z$1,$C$7,Données!B25:Z25) -> 49.000048 | E31: =SUMIF(Données!$B$1:$Z$1,$E$7,Données!B25:Z25) -> 149.00007 | F31: =SUMIF(Données!$B$1:$Z$1,$F$7,Données!B25:Z25) -> 51.000048 | G31: =SUMIF(Données!$B$1:$Z$1,$G$7,Données!B25:Z25) -> 32.000024 | H31: =SUMIF(Données!$B$1:$Z$1,$H$7,Données!B25:Z25) -> 18.000024 | I31: =SUMIF(Données!$B$1:$Z$1,$I$7,Données!B25:Z25) -> 50.000024 | J31: =SUMIF(Données!$B$1:$Z$1,$J$7,Données!B25:Z25) -> 119.00005 | K31: =SUMIF(Données!$B$1:$Z$1,$K$7,Données!B25:Z25) -> 18.000024 | L31: =SUMIF(Données!$B$1:$Z$1,$L$7,Données!B25:Z25) -> 115.00005 | M31: =SUMIF(Données!$B$1:$Z$1,$M$7,Données!B25:Z25) -> 155.00007 | O31: =SUMIF(Données!$B$1:$Z$1,$O$7,Données!B25:Z25) -> 45.000024 | P31: =SUMIF(Données!$B$1:$Z$1,$P$7,Données!B25:Z25) -> 68.000048 | Q31: =SUMIF(Données!$B$1:$Z$1,$Q$7,Données!B25:Z25) -> 60.000024 | R31: =AVERAGE(C31:Q31) -> 71.461579 | T31: =LARGE(R8:R47,23) -> 56.384624 | U31: =INDEX($B$8:$B$47,MATCH(T31,$R$8:$R$47,0)) -> Vendeur 5
B32: Vendeur 25 | C32: =SUMIF(Données!$B$1:$Z$1,$C$7,Données!B26:Z26) -> 62.00005 | E32: =SUMIF(Données!$B$1:$Z$1,$E$7,Données!B26:Z26) -> 113.00008 | F32: =SUMIF(Données!$B$1:$Z$1,$F$7,Données!B26:Z26) -> 61.00005 | G32: =SUMIF(Données!$B$1:$Z$1,$G$7,Données!B26:Z26) -> 47.000025 | H32: =SUMIF(Données!$B$1:$Z$1,$H$7,Données!B26:Z26) -> 32.000025 | I32: =SUMIF(Données!$B$1:$Z$1,$I$7,Données!B26:Z26) -> 49.000025 | J32: =SUMIF(Données!$B$1:$Z$1,$J$7,Données!B26:Z26) -> 55.00005 | K32: =SUMIF(Données!$B$1:$Z$1,$K$7,Données!B26:Z26) -> 25.000025 | L32: =SUMIF(Données!$B$1:$Z$1,$L$7,Données!B26:Z26) -> 48.00005 | M32: =SUMIF(Données!$B$1:$Z$1,$M$7,Données!B26:Z26) -> 83.000075 | O32: =SUMIF(Données!$B$1:$Z$1,$O$7,Données!B26:Z26) -> 39.000025 | P32: =SUMIF(Données!$B$1:$Z$1,$P$7,Données!B26:Z26) -> 61.00005 | Q32: =SUMIF(Données!$B$1:$Z$1,$Q$7,Données!B26:Z26) -> 46.000025 | R32: =AVERAGE(C32:Q32) -> 55.461581 | T32: =LARGE(R8:R47,24) -> 55.461581 | U32: =INDEX($B$8:$B$47,MATCH(T32,$R$8:$R$47,0)) -> Vendeur 25
B33: Vendeur 26 | C33: =SUMIF(Données!$B$1:$Z$1,$C$7,Données!B27:Z27) -> 44.000052 | E33: =SUMIF(Données!$B$1:$Z$1,$E$7,Données!B27:Z27) -> 92.000078 | F33: =SUMIF(Données!$B$1:$Z$1,$F$7,Données!B27:Z27) -> 60.000052 | G33: =SUMIF(Données!$B$1:$Z$1,$G$7,Données!B27:Z27) -> 38.000026 | H33: =SUMIF(Données!$B$1:$Z$1,$H$7,Données!B27:Z27) -> 21.000026 | I33: =SUMIF(Données!$B$1:$Z$1,$I$7,Données!B27:Z27) -> 17.000026 | J33: =SUMIF(Données!$B$1:$Z$1,$J$7,Données!B27:Z27) -> 79.000052 | K33: =SUMIF(Données!$B$1:$Z$1,$K$7,Données!B27:Z27) -> 20.000026 | L33: =SUMIF(Données!$B$1:$Z$1,$L$7,Données!B27:Z27) -> 56.000052 | M33: =SUMIF(Données!$B$1:$Z$1,$M$7,Données!B27:Z27) -> 73.000078 | O33: =SUMIF(Données!$B$1:$Z$1,$O$7,Données!B27:Z27) -> 35.000026 | P33: =SUMIF(Données!$B$1:$Z$1,$P$7,Données!B27:Z27) -> 36.000052 | Q33: =SUMIF(Données!$B$1:$Z$1,$Q$7,Données!B27:Z27) -> 40.000026 | R33: =AVERAGE(C33:Q33) -> 47.000044 | T33: =LARGE(R8:R47,25) -> 54.923114 | U33: =INDEX($B$8:$B$47,MATCH(T33,$R$8:$R$47,0)) -> Vendeur 22
B34: Vendeur 27 | C34: =SUMIF(Données!$B$1:$Z$1,$C$7,Données!B28:Z28) -> 86.000054 | E34: =SUMIF(Données!$B$1:$Z$1,$E$7,Données!B28:Z28) -> 131.00008 | F34: =SUMIF(Données!$B$1:$Z$1,$F$7,Données!B28:Z28) -> 89.000054 | G34: =SUMIF(Données!$B$1:$Z$1,$G$7,Données!B28:Z28) -> 61.000027 | H34: =SUMIF(Données!$B$1:$Z$1,$H$7,Données!B28:Z28) -> 29.000027 | I34: =SUMIF(Données!$B$1:$Z$1,$I$7,Données!B28:Z28) -> 33.000027 | J34: =SUMIF(Données!$B$1:$Z$1,$J$7,Données!B28:Z28) -> 71.000054 | K34: =SUMIF(Données!$B$1:$Z$1,$K$7,Données!B28:Z28) -> 26.000027 | L34: =SUMIF(Données!$B$1:$Z$1,$L$7,Données!B28:Z28) -> 86.000054 | M34: =SUMIF(Données!$B$1:$Z$1,$M$7,Données!B28:Z28) -> 85.000081 | O34: =SUMIF(Données!$B$1:$Z$1,$O$7,Données!B28:Z28) -> 34.000027 | P34: =SUMIF(Données!$B$1:$Z$1,$P$7,Données!B28:Z28) -> 80.000054 | Q34: =SUMIF(Données!$B$1:$Z$1,$Q$7,Données!B28:Z28) -> 28.000027 | R34: =AVERAGE(C34:Q34) -> 64.538507 | T34: =LARGE(R8:R47,26) -> 54.384634 | U34: =INDEX($B$8:$B$47,MATCH(T34,$R$8:$R$47,0)) -> Vendeur 11
B35: Vendeur 28 | C35: =SUMIF(Données!$B$1:$Z$1,$C$7,Données!B29:Z29) -> 65.000056 | E35: =SUMIF(Données!$B$1:$Z$1,$E$7,Données!B29:Z29) -> 106.00008 | F35: =SUMIF(Données!$B$1:$Z$1,$F$7,Données!B29:Z29) -> 73.000056 | G35: =SUMIF(Données!$B$1:$Z$1,$G$7,Données!B29:Z29) -> 8.000028 | H35: =SUMIF(Données!$B$1:$Z$1,$H$7,Données!B29:Z29) -> 12.000028 | I35: =SUMIF(Données!$B$1:$Z$1,$I$7,Données!B29:Z29) -> 41.000028 | J35: =SUMIF(Données!$B$1:$Z$1,$J$7,Données!B29:Z29) -> 78.000056 | K35: =SUMIF(Données!$B$1:$Z$1,$K$7,Données!B29:Z29) -> 67.000028 | L35: =SUMIF(Données!$B$1:$Z$1,$L$7,Données!B29:Z29) -> 22.000056 | M35: =SUMIF(Données!$B$1:$Z$1,$M$7,Données!B29:Z29) -> 81.000084 | O35: =SUMIF(Données!$B$1:$Z$1,$O$7,Données!B29:Z29) -> 16.000028 | P35: =SUMIF(Données!$B$1:$Z$1,$P$7,Données!B29:Z29) -> 62.000056 | Q35: =SUMIF(Données!$B$1:$Z$1,$Q$7,Données!B29:Z29) -> 24.000028 | R35: =AVERAGE(C35:Q35) -> 50.384663 | T35: =LARGE(R8:R47,27) -> 53.461554 | U35: =INDEX($B$8:$B$47,MATCH(T35,$R$8:$R$47,0)) -> Vendeur 9
B36: Vendeur 29 | C36: =SUMIF(Données!$B$1:$Z$1,$C$7,Données!B30:Z30) -> 65.000058 | E36: =SUMIF(Données!$B$1:$Z$1,$E$7,Données!B30:Z30) -> 94.000087 | F36: =SUMIF(Données!$B$1:$Z$1,$F$7,Données!B30:Z30) -> 83.000058 | G36: =SUMIF(Données!$B$1:$Z$1,$G$7,Données!B30:Z30) -> 29.000029 | H36: =SUMIF(Données!$B$1:$Z$1,$H$7,Données!B30:Z30) -> 18.000029 | I36: =SUMIF(Données!$B$1:$Z$1,$I$7,Données!B30:Z30) -> 48.000029 | J36: =SUMIF(Données!$B$1:$Z$1,$J$7,Données!B30:Z30) -> 40.000058 | K36: =SUMIF(Données!$B$1:$Z$1,$K$7,Données!B30:Z30) -> 14.000029 | L36: =SUMIF(Données!$B$1:$Z$1,$L$7,Données!B30:Z30) -> 30.000058 | M36: =SUMIF(Données!$B$1:$Z$1,$M$7,Données!B30:Z30) -> 125.00009 | O36: =SUMIF(Données!$B$1:$Z$1,$O$7,Données!B30:Z30) -> 54.000029 | P36: =SUMIF(Données!$B$1:$Z$1,$P$7,Données!B30:Z30) -> 49.000058 | Q36: =SUMIF(Données!$B$1:$Z$1,$Q$7,Données!B30:Z30) -> 23.000029 | R36: =AVERAGE(C36:Q36) -> 51.692357 | T36: =LARGE(R8:R47,28) -> 51.692357 | U36: =INDEX($B$8:$B$47,MATCH(T36,$R$8:$R$47,0)) -> Vendeur 29
B37: Vendeur 30 | C37: =SUMIF(Données!$B$1:$Z$1,$C$7,Données!B31:Z31) -> 66.00006 | E37: =SUMIF(Données!$B$1:$Z$1,$E$7,Données!B31:Z31) -> 91.00009 | F37: =SUMIF(Données!$B$1:$Z$1,$F$7,Données!B31:Z31) -> 75.00006 | G37: =SUMIF(Données!$B$1:$Z$1,$G$7,Données!B31:Z31) -> 36.00003 | H37: =SUMIF(Données!$B$1:$Z$1,$H$7,Données!B31:Z31) -> 34.00003 | I37: =SUMIF(Données!$B$1:$Z$1,$I$7,Données!B31:Z31) -> 35.00003 | J37: =SUMIF(Données!$B$1:$Z$1,$J$7,Données!B31:Z31) -> 80.00006 | K37: =SUMIF(Données!$B$1:$Z$1,$K$7,Données!B31:Z31) -> 32.00003 | L37: =SUMIF(Données!$B$1:$Z$1,$L$7,Données!B31:Z31) -> 73.00006 | M37: =SUMIF(Données!$B$1:$Z$1,$M$7,Données!B31:Z31) -> 95.00009 | O37: =SUMIF(Données!$B$1:$Z$1,$O$7,Données!B31:Z31) -> 31.00003 | P37: =SUMIF(Données!$B$1:$Z$1,$P$7,Données!B31:Z31) -> 71.00006 | Q37: =SUMIF(Données!$B$1:$Z$1,$Q$7,Données!B31:Z31) -> 39.00003 | R37: =AVERAGE(C37:Q37) -> 58.307743 | T37: =LARGE(R8:R47,29) -> 50.692372 | U37: =INDEX($B$8:$B$47,MATCH(T37,$R$8:$R$47,0)) -> Vendeur 38
B38: Vendeur 31 | C38: =SUMIF(Données!$B$1:$Z$1,$C$7,Données!B32:Z32) -> 75.000062 | E38: =SUMIF(Données!$B$1:$Z$1,$E$7,Données!B32:Z32) -> 76.000093 | F38: =SUMIF(Données!$B$1:$Z$1,$F$7,Données!B32:Z32) -> 39.000062 | G38: =SUMIF(Données!$B$1:$Z$1,$G$7,Données!B32:Z32) -> 18.000031 | H38: =SUMIF(Données!$B$1:$Z$1,$H$7,Données!B32:Z32) -> 25.000031 | I38: =SUMIF(Données!$B$1:$Z$1,$I$7,Données!B32:Z32) -> 21.000031 | J38: =SUMIF(Données!$B$1:$Z$1,$J$7,Données!B32:Z32) -> 44.000062 | K38: =SUMIF(Données!$B$1:$Z$1,$K$7,Données!B32:Z32) -> 31.000031 | L38: =SUMIF(Données!$B$1:$Z$1,$L$7,Données!B32:Z32) -> 66.000062 | M38: =SUMIF(Données!$B$1:$Z$1,$M$7,Données!B32:Z32) -> 86.000093 | O38: =SUMIF(Données!$B$1:$Z$1,$O$7,Données!B32:Z32) -> 16.000031 | P38: =SUMIF(Données!$B$1:$Z$1,$P$7,Données!B32:Z32) -> 40.000062 | Q38: =SUMIF(Données!$B$1:$Z$1,$Q$7,Données!B32:Z32) -> 43.000031 | R38: =AVERAGE(C38:Q38) -> 44.615437 | T38: =LARGE(R8:R47,30) -> 50.461604 | U38: =INDEX($B$8:$B$47,MATCH(T38,$R$8:$R$47,0)) -> Vendeur 39
B39: Vendeur 32 | C39: =SUMIF(Données!$B$1:$Z$1,$C$7,Données!B33:Z33) -> 74.000064 | E39: =SUMIF(Données!$B$1:$Z$1,$E$7,Données!B33:Z33) -> 114.0001 | F39: =SUMIF(Données!$B$1:$Z$1,$F$7,Données!B33:Z33) -> 77.000064 | G39: =SUMIF(Données!$B$1:$Z$1,$G$7,Données!B33:Z33) -> 29.000032 | H39: =SUMIF(Données!$B$1:$Z$1,$H$7,Données!B33:Z33) -> 40.000032 | I39: =SUMIF(Données!$B$1:$Z$1,$I$7,Données!B33:Z33) -> 35.000032 | J39: =SUMIF(Données!$B$1:$Z$1,$J$7,Données!B33:Z33) -> 81.000064 | K39: =SUMIF(Données!$B$1:$Z$1,$K$7,Données!B33:Z33) -> 33.000032 | L39: =SUMIF(Données!$B$1:$Z$1,$L$7,Données!B33:Z33) -> 83.000064 | M39: =SUMIF(Données!$B$1:$Z$1,$M$7,Données!B33:Z33) -> 89.000096 | O39: =SUMIF(Données!$B$1:$Z$1,$O$7,Données!B33:Z33) -> 32.000032 | P39: =SUMIF(Données!$B$1:$Z$1,$P$7,Données!B33:Z33) -> 72.000064 | Q39: =SUMIF(Données!$B$1:$Z$1,$Q$7,Données!B33:Z33) -> 32.000032 | R39: =AVERAGE(C39:Q39) -> 60.846208 | T39: =LARGE(R8:R47,31) -> 50.384663 | U39: =INDEX($B$8:$B$47,MATCH(T39,$R$8:$R$47,0)) -> Vendeur 28
B40: Vendeur 33 | C40: =SUMIF(Données!$B$1:$Z$1,$C$7,Données!B34:Z34) -> 43.000066 | E40: =SUMIF(Données!$B$1:$Z$1,$E$7,Données!B34:Z34) -> 91.000099 | F40: =SUMIF(Données!$B$1:$Z$1,$F$7,Données!B34:Z34) -> 78.000066 | G40: =SUMIF(Données!$B$1:$Z$1,$G$7,Données!B34:Z34) -> 39.000033 | H40: =SUMIF(Données!$B$1:$Z$1,$H$7,Données!B34:Z34) -> 13.000033 | I40: =SUMIF(Données!$B$1:$Z$1,$I$7,Données!B34:Z34) -> 15.000033 | J40: =SUMIF(Données!$B$1:$Z$1,$J$7,Données!B34:Z34) -> 83.000066 | K40: =SUMIF(Données!$B$1:$Z$1,$K$7,Données!B34:Z34) -> 46.000033 | L40: =SUMIF(Données!$B$1:$Z$1,$L$7,Données!B34:Z34) -> 103.00007 | M40: =SUMIF(Données!$B$1:$Z$1,$M$7,Données!B34:Z34) -> 114.0001 | O40: =SUMIF(Données!$B$1:$Z$1,$O$7,Données!B34:Z34) -> 37.000033 | P40: =SUMIF(Données!$B$1:$Z$1,$P$7,Données!B34:Z34) -> 75.000066 | Q40: =SUMIF(Données!$B$1:$Z$1,$Q$7,Données!B34:Z34) -> 16.000033 | R40: =AVERAGE(C40:Q40) -> 57.923133 | T40: =LARGE(R8:R47,32) -> 50.230796 | U40: =INDEX($B$8:$B$47,MATCH(T40,$R$8:$R$47,0)) -> Vendeur 16
B41: Vendeur 34 | C41: =SUMIF(Données!$B$1:$Z$1,$C$7,Données!B35:Z35) -> 80.000068 | E41: =SUMIF(Données!$B$1:$Z$1,$E$7,Données!B35:Z35) -> 151.0001 | F41: =SUMIF(Données!$B$1:$Z$1,$F$7,Données!B35:Z35) -> 88.000068 | G41: =SUMIF(Données!$B$1:$Z$1,$G$7,Données!B35:Z35) -> 30.000034 | H41: =SUMIF(Données!$B$1:$Z$1,$H$7,Données!B35:Z35) -> 35.000034 | I41: =SUMIF(Données!$B$1:$Z$1,$I$7,Données!B35:Z35) -> 59.000034 | J41: =SUMIF(Données!$B$1:$Z$1,$J$7,Données!B35:Z35) -> 48.000068 | K41: =SUMIF(Données!$B$1:$Z$1,$K$7,Données!B35:Z35) -> 35.000034 | L41: =SUMIF(Données!$B$1:$Z$1,$L$7,Données!B35:Z35) -> 120.00007 | M41: =SUMIF(Données!$B$1:$Z$1,$M$7,Données!B35:Z35) -> 163.0001 | O41: =SUMIF(Données!$B$1:$Z$1,$O$7,Données!B35:Z35) -> 27.000034 | P41: =SUMIF(Données!$B$1:$Z$1,$P$7,Données!B35:Z35) -> 97.000068 | Q41: =SUMIF(Données!$B$1:$Z$1,$Q$7,Données!B35:Z35) -> 56.000034 | R41: =AVERAGE(C41:Q41) -> 76.076981 | T41: =LARGE(R8:R47,33) -> 50.000063 | U41: =INDEX($B$8:$B$47,MATCH(T41,$R$8:$R$47,0)) -> Vendeur 37
B42: Vendeur 35 | C42: =SUMIF(Données!$B$1:$Z$1,$C$7,Données!B36:Z36) -> 85.00007 | E42: =SUMIF(Données!$B$1:$Z$1,$E$7,Données!B36:Z36) -> 92.000105 | F42: =SUMIF(Données!$B$1:$Z$1,$F$7,Données!B36:Z36) -> 51.00007 | G42: =SUMIF(Données!$B$1:$Z$1,$G$7,Données!B36:Z36) -> 46.000035 | H42: =SUMIF(Données!$B$1:$Z$1,$H$7,Données!B36:Z36) -> 47.000035 | I42: =SUMIF(Données!$B$1:$Z$1,$I$7,Données!B36:Z36) -> 21.000035 | J42: =SUMIF(Données!$B$1:$Z$1,$J$7,Données!B36:Z36) -> 74.00007 | K42: =SUMIF(Données!$B$1:$Z$1,$K$7,Données!B36:Z36) -> 46.000035 | L42: =SUMIF(Données!$B$1:$Z$1,$L$7,Données!B36:Z36) -> 63.00007 | M42: =SUMIF(Données!$B$1:$Z$1,$M$7,Données!B36:Z36) -> 110.0001 | O42: =SUMIF(Données!$B$1:$Z$1,$O$7,Données!B36:Z36) -> 16.000035 | P42: =SUMIF(Données!$B$1:$Z$1,$P$7,Données!B36:Z36) -> 97.00007 | Q42: =SUMIF(Données!$B$1:$Z$1,$Q$7,Données!B36:Z36) -> 22.000035 | R42: =AVERAGE(C42:Q42) -> 59.230828 | T42: =LARGE(R8:R47,34) -> 47.000044 | U42: =INDEX($B$8:$B$47,MATCH(T42,$R$8:$R$47,0)) -> Vendeur 26
B43: Vendeur 36 | C43: =SUMIF(Données!$B$1:$Z$1,$C$7,Données!B37:Z37) -> 77.000072 | E43: =SUMIF(Données!$B$1:$Z$1,$E$7,Données!B37:Z37) -> 98.000108 | F43: =SUMIF(Données!$B$1:$Z$1,$F$7,Données!B37:Z37) -> 83.000072 | G43: =SUMIF(Données!$B$1:$Z$1,$G$7,Données!B37:Z37) -> 32.000036 | H43: =SUMIF(Données!$B$1:$Z$1,$H$7,Données!B37:Z37) -> 37.000036 | I43: =SUMIF(Données!$B$1:$Z$1,$I$7,Données!B37:Z37) -> 47.000036 | J43: =SUMIF(Données!$B$1:$Z$1,$J$7,Données!B37:Z37) -> 79.000072 | K43: =SUMIF(Données!$B$1:$Z$1,$K$7,Données!B37:Z37) -> 31.000036 | L43: =SUMIF(Données!$B$1:$Z$1,$L$7,Données!B37:Z37) -> 65.000072 | M43: =SUMIF(Données!$B$1:$Z$1,$M$7,Données!B37:Z37) -> 124.00011 | O43: =SUMIF(Données!$B$1:$Z$1,$O$7,Données!B37:Z37) -> 44.000036 | P43: =SUMIF(Données!$B$1:$Z$1,$P$7,Données!B37:Z37) -> 70.000072 | Q43: =SUMIF(Données!$B$1:$Z$1,$Q$7,Données!B37:Z37) -> 32.000036 | R43: =AVERAGE(C43:Q43) -> 63.000061 | T43: =LARGE(R8:R47,35) -> 45.615407 | U43: =INDEX($B$8:$B$47,MATCH(T43,$R$8:$R$47,0)) -> Vendeur 13
B44: Vendeur 37 | C44: =SUMIF(Données!$B$1:$Z$1,$C$7,Données!B38:Z38) -> 51.000074 | E44: =SUMIF(Données!$B$1:$Z$1,$E$7,Données!B38:Z38) -> 88.000111 | F44: =SUMIF(Données!$B$1:$Z$1,$F$7,Données!B38:Z38) -> 44.000074 | G44: =SUMIF(Données!$B$1:$Z$1,$G$7,Données!B38:Z38) -> 21.000037 | H44: =SUMIF(Données!$B$1:$Z$1,$H$7,Données!B38:Z38) -> 18.000037 | I44: =SUMIF(Données!$B$1:$Z$1,$I$7,Données!B38:Z38) -> 23.000037 | J44: =SUMIF(Données!$B$1:$Z$1,$J$7,Données!B38:Z38) -> 78.000074 | K44: =SUMIF(Données!$B$1:$Z$1,$K$7,Données!B38:Z38) -> 25.000037 | L44: =SUMIF(Données!$B$1:$Z$1,$L$7,Données!B38:Z38) -> 79.000074 | M44: =SUMIF(Données!$B$1:$Z$1,$M$7,Données!B38:Z38) -> 99.000111 | O44: =SUMIF(Données!$B$1:$Z$1,$O$7,Données!B38:Z38) -> 21.000037 | P44: =SUMIF(Données!$B$1:$Z$1,$P$7,Données!B38:Z38) -> 61.000074 | Q44: =SUMIF(Données!$B$1:$Z$1,$Q$7,Données!B38:Z38) -> 42.000037 | R44: =AVERAGE(C44:Q44) -> 50.000063 | T44: =LARGE(R8:R47,36) -> 45.307728 | U44: =INDEX($B$8:$B$47,MATCH(T44,$R$8:$R$47,0)) -> Vendeur 21
B45: Vendeur 38 | C45: =SUMIF(Données!$B$1:$Z$1,$C$7,Données!B39:Z39) -> 50.000076 | E45: =SUMIF(Données!$B$1:$Z$1,$E$7,Données!B39:Z39) -> 80.000114 | F45: =SUMIF(Données!$B$1:$Z$1,$F$7,Données!B39:Z39) -> 79.000076 | G45: =SUMIF(Données!$B$1:$Z$1,$G$7,Données!B39:Z39) -> 29.000038 | H45: =SUMIF(Données!$B$1:$Z$1,$H$7,Données!B39:Z39) -> 35.000038 | I45: =SUMIF(Données!$B$1:$Z$1,$I$7,Données!B39:Z39) -> 27.000038 | J45: =SUMIF(Données!$B$1:$Z$1,$J$7,Données!B39:Z39) -> 71.000076 | K45: =SUMIF(Données!$B$1:$Z$1,$K$7,Données!B39:Z39) -> 24.000038 | L45: =SUMIF(Données!$B$1:$Z$1,$L$7,Données!B39:Z39) -> 52.000076 | M45: =SUMIF(Données!$B$1:$Z$1,$M$7,Données!B39:Z39) -> 85.000114 | O45: =SUMIF(Données!$B$1:$Z$1,$O$7,Données!B39:Z39) -> 36.000038 | P45: =SUMIF(Données!$B$1:$Z$1,$P$7,Données!B39:Z39) -> 60.000076 | Q45: =SUMIF(Données!$B$1:$Z$1,$Q$7,Données!B39:Z39) -> 31.000038 | R45: =AVERAGE(C45:Q45) -> 50.692372 | T45: =LARGE(R8:R47,37) -> 44.615437 | U45: =INDEX($B$8:$B$47,MATCH(T45,$R$8:$R$47,0)) -> Vendeur 31
B46: Vendeur 39 | C46: =SUMIF(Données!$B$1:$Z$1,$C$7,Données!B40:Z40) -> 22.000078 | E46: =SUMIF(Données!$B$1:$Z$1,$E$7,Données!B40:Z40) -> 49.000117 | F46: =SUMIF(Données!$B$1:$Z$1,$F$7,Données!B40:Z40) -> 52.000078 | G46: =SUMIF(Données!$B$1:$Z$1,$G$7,Données!B40:Z40) -> 27.000039 | H46: =SUMIF(Données!$B$1:$Z$1,$H$7,Données!B40:Z40) -> 19.000039 | I46: =SUMIF(Données!$B$1:$Z$1,$I$7,Données!B40:Z40) -> 3.000039 | J46: =SUMIF(Données!$B$1:$Z$1,$J$7,Données!B40:Z40) -> 58.000078 | K46: =SUMIF(Données!$B$1:$Z$1,$K$7,Données!B40:Z40) -> 62.000039 | L46: =SUMIF(Données!$B$1:$Z$1,$L$7,Données!B40:Z40) -> 77.000078 | M46: =SUMIF(Données!$B$1:$Z$1,$M$7,Données!B40:Z40) -> 142.00012 | O46: =SUMIF(Données!$B$1:$Z$1,$O$7,Données!B40:Z40) -> 57.000039 | P46: =SUMIF(Données!$B$1:$Z$1,$P$7,Données!B40:Z40) -> 61.000078 | Q46: =SUMIF(Données!$B$1:$Z$1,$Q$7,Données!B40:Z40) -> 27.000039 | R46: =AVERAGE(C46:Q46) -> 50.461604 | T46: =LARGE(R8:R47,38) -> 43.538482 | U46: =INDEX($B$8:$B$47,MATCH(T46,$R$8:$R$47,0)) -> Vendeur 12
B47: Vendeur 40 | C47: =SUMIF(Données!$B$1:$Z$1,$C$7,Données!B41:Z41) -> 79.00008 | E47: =SUMIF(Données!$B$1:$Z$1,$E$7,Données!B41:Z41) -> 102.00012 | F47: =SUMIF(Données!$B$1:$Z$1,$F$7,Données!B41:Z41) -> 70.00008 | G47: =SUMIF(Données!$B$1:$Z$1,$G$7,Données!B41:Z41) -> 26.00004 | H47: =SUMIF(Données!$B$1:$Z$1,$H$7,Données!B41:Z41) -> 68.00004 | I47: =SUMIF(Données!$B$1:$Z$1,$I$7,Données!B41:Z41) -> 29.00004 | J47: =SUMIF(Données!$B$1:$Z$1,$J$7,Données!B41:Z41) -> 90.00008 | K47: =SUMIF(Données!$B$1:$Z$1,$K$7,Données!B41:Z41) -> 42.00004 | L47: =SUMIF(Données!$B$1:$Z$1,$L$7,Données!B41:Z41) -> 94.00008 | M47: =SUMIF(Données!$B$1:$Z$1,$M$7,Données!B41:Z41) -> 116.00012 | O47: =SUMIF(Données!$B$1:$Z$1,$O$7,Données!B41:Z41) -> 42.00004 | P47: =SUMIF(Données!$B$1:$Z$1,$P$7,Données!B41:Z41) -> 106.00008 | Q47: =SUMIF(Données!$B$1:$Z$1,$Q$7,Données!B41:Z41) -> 51.00004 | R47: =AVERAGE(C47:Q47) -> 70.384683 | T47: =LARGE(R8:R47,39) -> 42.153863 | U47: =INDEX($B$8:$B$47,MATCH(T47,$R$8:$R$47,0)) -> Vendeur 10
B48: Moyenne | C48: =AVERAGE(C8:C47) -> 64.675041 | D48: =AVERAGE(D8:D47) -> #DIV/0! | E48: =AVERAGE(E8:E47) -> 101.52506 | F48: =AVERAGE(F8:F47) -> 73.300041 | G48: =AVERAGE(G8:G47) -> 33.82502 | H48: =AVERAGE(H8:H47) -> 32.77502 | I48: =AVERAGE(I8:I47) -> 35.30002 | J48: =AVERAGE(J8:J47) -> 68.900041 | ... Q48: =AVERAGE(Q8:Q47) -> 34.82502
A50: Tableau construit à partir des trois vendeurs indiqués suivant la moyenne d'Ayfons vendus (colonne U).
B51: Vendeur | C51: 2002 | D51: 2003 | E51: 2004 | F51: 2005 | G51: 2006 | H51: 2007 | I51: 2008 | J51: 2009 | K51: 2010 | L51: 2011 | M51: 2012 | N51: 2013 | O51: 2014 | P51: 2015 | Q51: 2016
A52: Premier | B52: =INDEX($B$8:$B$47,MATCH(LARGE($T$8:$T$47,1),$R$8:$R$47,0)) -> Vendeur 14 | C52: =INDEX(C$8:C$47,MATCH($B52,$B$8:$B$47,0)) -> 81.000028 | D52: =INDEX(D$8:D$47,MATCH($B52,$B$8:$B$47,0)) -> 0 | E52: =INDEX(E$8:E$47,MATCH($B52,$B$8:$B$47,0)) -> 116.00004 | F52: =INDEX(F$8:F$47,MATCH($B52,$B$8:$B$47,0)) -> 110.00003 | G52: =INDEX(G$8:G$47,MATCH($B52,$B$8:$B$47,0)) -> 51.000014 | H52: =INDEX(H$8:H$47,MATCH($B52,$B$8:$B$47,0)) -> 67.000014 | I52: =INDEX(I$8:I$47,MATCH($B52,$B$8:$B$47,0)) -> 41.000014 | J52: =INDEX(J$8:J$47,MATCH($B52,$B$8:$B$47,0)) -> 82.000028 | ... Q52: =INDEX(Q$8:Q$47,MATCH($B52,$B$8:$B$47,0)) -> 30.000014
A53: Vingtième | B53: =INDEX($B$8:$B$47,MATCH(LARGE($T$8:$T$47,20),$R$8:$R$47,0)) -> Vendeur 3 | C53: =INDEX(C$8:C$47,MATCH($B53,$B$8:$B$47,0)) -> 41.000006 | D53: =INDEX(D$8:D$47,MATCH($B53,$B$8:$B$47,0)) -> 0 | E53: =INDEX(E$8:E$47,MATCH($B53,$B$8:$B$47,0)) -> 155.00001 | F53: =INDEX(F$8:F$47,MATCH($B53,$B$8:$B$47,0)) -> 121.00001 | G53: =INDEX(G$8:G$47,MATCH($B53,$B$8:$B$47,0)) -> 24.000003 | H53: =INDEX(H$8:H$47,MATCH($B53,$B$8:$B$47,0)) -> 15.000003 | I53: =INDEX(I$8:I$47,MATCH($B53,$B$8:$B$47,0)) -> 22.000003 | J53: =INDEX(J$8:J$47,MATCH($B53,$B$8:$B$47,0)) -> 59.000006 | ... Q53: =INDEX(Q$8:Q$47,MATCH($B53,$B$8:$B$47,0)) -> 10.000003
A54: Dernier | B54: =INDEX($B$8:$B$47,MATCH(SMALL($T$8:$T$47,1),$R$8:$R$47,0)) -> Vendeur 10 | C54: =INDEX(C$8:C$47,MATCH($B54,$B$8:$B$47,0)) -> 45.00002 | D54: =INDEX(D$8:D$47,MATCH($B54,$B$8:$B$47,0)) -> 0 | E54: =INDEX(E$8:E$47,MATCH($B54,$B$8:$B$47,0)) -> 79.00003 | F54: =INDEX(F$8:F$47,MATCH($B54,$B$8:$B$47,0)) -> 22.00002 | G54: =INDEX(G$8:G$47,MATCH($B54,$B$8:$B$47,0)) -> 29.00001 | H54: =INDEX(H$8:H$47,MATCH($B54,$B$8:$B$47,0)) -> 23.00001 | I54: =INDEX(I$8:I$47,MATCH($B54,$B$8:$B$47,0)) -> 28.00001 | J54: =INDEX(J$8:J$47,MATCH($B54,$B$8:$B$47,0)) -> 42.00002 | ... Q54: =INDEX(Q$8:Q$47,MATCH($B54,$B$8:$B$47,0)) -> 23.00001
A57: Construire un graphique qui contienne les ventes des trois vendeurs indiqués (lignes 52-53-54 avec diagramme en bâtons) et la moyenne des ventes (ligne 48 avec des lignes polygonales, courbes ). L'axe des abcisses contiendra les années 2002, 2003, …

Sheet Données
B1: 2002 | C1: 2003 | D1: 2004 | E1: 2005 | F1: 2006 | G1: 2007 | H1: 2008 | I1: 2009 | J1: 2010 | K1: 2011 | L1: 2012 | M1: 2013 | N1: 2014 | O1: 2015 | P1: 2016 | Q1: =RANDBETWEEN(2002,2016) -> 2009 | R1: =RANDBETWEEN(2002,2016) -> 2003 | S1: =RANDBETWEEN(2002,2016) -> 2004 | T1: =RANDBETWEEN(2002,2016) -> 2005 | U1: =RANDBETWEEN(2002,2016) -> 2002 | V1: =RANDBETWEEN(2002,2016) -> 2012 | W1: =RANDBETWEEN(2002,2016) -> 2004 | X1: =RANDBETWEEN(2002,2016) -> 2012 | ... Z1: =RANDBETWEEN(2002,2016) -> 2011
A2: Vendeur 1 | B2: =RANDBETWEEN($AA2,$AB2) + ROW(A1)*0.000001 -> 56.000001 | C2: =RANDBETWEEN($AA2,$AB2) + ROW(B1)*0.000001 -> 40.000001 | D2: =RANDBETWEEN($AA2,$AB2) + ROW(C1)*0.000001 -> 46.000001 | E2: =RANDBETWEEN($AA2,$AB2) + ROW(D1)*0.000001 -> 53.000001 | F2: =RANDBETWEEN($AA2,$AB2) + ROW(E1)*0.000001 -> 38.000001 | G2: =RANDBETWEEN($AA2,$AB2) + ROW(F1)*0.000001 -> 52.000001 | H2: =RANDBETWEEN($AA2,$AB2) + ROW(G1)*0.000001 -> 57.000001 | I2: =RANDBETWEEN($AA2,$AB2) + ROW(H1)*0.000001 -> 28.000001 | ... Z2: =RANDBETWEEN($AA2,$AB2) + ROW(Y1)*0.000001 -> 32.000001 | AA2: =RANDBETWEEN(10,30) -> 25 | AB2: =RANDBETWEEN(40,70) -> 59 | AMJ2: 1
A3: Vendeur 2 | B3: =RANDBETWEEN($AA3,$AB3) + ROW(A2)*0.000001 -> 51.000002 | C3: =RANDBETWEEN($AA3,$AB3) + ROW(B2)*0.000001 -> 54.000002 | D3: =RANDBETWEEN($AA3,$AB3) + ROW(C2)*0.000001 -> 33.000002 | E3: =RANDBETWEEN($AA3,$AB3) + ROW(D2)*0.000001 -> 55.000002 | F3: =RANDBETWEEN($AA3,$AB3) + ROW(E2)*0.000001 -> 49.000002 | G3: =RANDBETWEEN($AA3,$AB3) + ROW(F2)*0.000001 -> 44.000002 | H3: =RANDBETWEEN($AA3,$AB3) + ROW(G2)*0.000001 -> 55.000002 | I3: =RANDBETWEEN($AA3,$AB3) + ROW(H2)*0.000001 -> 42.000002 | ... Z3: =RANDBETWEEN($AA3,$AB3) + ROW(Y2)*0.000001 -> 52.000002 | AA3: =RANDBETWEEN(1,30) -> 29 | AB3: =RANDBETWEEN(40,70) -> 55 | AMJ3: 2
A4: Vendeur 3 | B4: =RANDBETWEEN($AA4,$AB4) + ROW(A3)*0.000001 -> 15.000003 | C4: =RANDBETWEEN($AA4,$AB4) + ROW(B3)*0.000001 -> 57.000003 | D4: =RANDBETWEEN($AA4,$AB4) + ROW(C3)*0.000001 -> 60.000003 | E4: =RANDBETWEEN($AA4,$AB4) + ROW(D3)*0.000001 -> 60.000003 | F4: =RANDBETWEEN($AA4,$AB4) + ROW(E3)*0.000001 -> 24.000003 | G4: =RANDBETWEEN($AA4,$AB4) + ROW(F3)*0.000001 -> 15.000003 | H4: =RANDBETWEEN($AA4,$AB4) + ROW(G3)*0.000001 -> 22.000003 | I4: =RANDBETWEEN($AA4,$AB4) + ROW(H3)*0.000001 -> 37.000003 | ... Z4: =RANDBETWEEN($AA4,$AB4) + ROW(Y3)*0.000001 -> 44.000003 | AA4: =RANDBETWEEN(1,30) -> 9 | AB4: =RANDBETWEEN(40,70) -> 64 | AMJ4: 3
A5: Vendeur 4 | B5: =RANDBETWEEN($AA5,$AB5) + ROW(A4)*0.000001 -> 49.000004 | C5: =RANDBETWEEN($AA5,$AB5) + ROW(B4)*0.000001 -> 30.000004 | D5: =RANDBETWEEN($AA5,$AB5) + ROW(C4)*0.000001 -> 58.000004 | E5: =RANDBETWEEN($AA5,$AB5) + ROW(D4)*0.000001 -> 60.000004 | F5: =RANDBETWEEN($AA5,$AB5) + ROW(E4)*0.000001 -> 59.000004 | G5: =RANDBETWEEN($AA5,$AB5) + ROW(F4)*0.000001 -> 22.000004 | H5: =RANDBETWEEN($AA5,$AB5) + ROW(G4)*0.000001 -> 36.000004 | I5: =RANDBETWEEN($AA5,$AB5) + ROW(H4)*0.000001 -> 28.000004 | ... Z5: =RANDBETWEEN($AA5,$AB5) + ROW(Y4)*0.000001 -> 30.000004 | AA5: =RANDBETWEEN(1,30) -> 22 | AB5: =RANDBETWEEN(40,70) -> 61 | AMJ5: 4
A6: Vendeur 5 | B6: =RANDBETWEEN($AA6,$AB6) + ROW(A5)*0.000001 -> 20.000005 | C6: =RANDBETWEEN($AA6,$AB6) + ROW(B5)*0.000001 -> 20.000005 | D6: =RANDBETWEEN($AA6,$AB6) + ROW(C5)*0.000001 -> 21.000005 | E6: =RANDBETWEEN($AA6,$AB6) + ROW(D5)*0.000001 -> 30.000005 | F6: =RANDBETWEEN($AA6,$AB6) + ROW(E5)*0.000001 -> 17.000005 | G6: =RANDBETWEEN($AA6,$AB6) + ROW(F5)*0.000001 -> 32.000005 | H6: =RANDBETWEEN($AA6,$AB6) + ROW(G5)*0.000001 -> 32.000005 | I6: =RANDBETWEEN($AA6,$AB6) + ROW(H5)*0.000001 -> 26.000005 | ... Z6: =RANDBETWEEN($AA6,$AB6) + ROW(Y5)*0.000001 -> 53.000005 | AA6: =RANDBETWEEN(1,30) -> 17 | AB6: =RANDBETWEEN(40,70) -> 55 | AMJ6: 5
A7: Vendeur 6 | B7: =RANDBETWEEN($AA7,$AB7) + ROW(A6)*0.000001 -> 59.000006 | C7: =RANDBETWEEN($AA7,$AB7) + ROW(B6)*0.000001 -> 32.000006 | D7: =RANDBETWEEN($AA7,$AB7) + ROW(C6)*0.000001 -> 47.000006 | E7: =RANDBETWEEN($AA7,$AB7) + ROW(D6)*0.000001 -> 49.000006 | F7: =RANDBETWEEN($AA7,$AB7) + ROW(E6)*0.000001 -> 47.000006 | G7: =RANDBETWEEN($AA7,$AB7) + ROW(F6)*0.000001 -> 31.000006 | H7: =RANDBETWEEN($AA7,$AB7) + ROW(G6)*0.000001 -> 60.000006 | I7: =RANDBETWEEN($AA7,$AB7) + ROW(H6)*0.000001 -> 38.000006 | ... Z7: =RANDBETWEEN($AA7,$AB7) + ROW(Y6)*0.000001 -> 50.000006 | AA7: =RANDBETWEEN(1,30) -> 30 | AB7: =RANDBETWEEN(40,70) -> 65 | AMJ7: 6
A8: Vendeur 7 | B8: =RANDBETWEEN($AA8,$AB8) + ROW(A7)*0.000001 -> 42.000007 | C8: =RANDBETWEEN($AA8,$AB8) + ROW(B7)*0.000001 -> 46.000007 | D8: =RANDBETWEEN($AA8,$AB8) + ROW(C7)*0.000001 -> 44.000007 | E8: =RANDBETWEEN($AA8,$AB8) + ROW(D7)*0.000001 -> 52.000007 | F8: =RANDBETWEEN($AA8,$AB8) + ROW(E7)*0.000001 -> 43.000007 | G8: =RANDBETWEEN($AA8,$AB8) + ROW(F7)*0.000001 -> 54.000007 | H8: =RANDBETWEEN($AA8,$AB8) + ROW(G7)*0.000001 -> 27.000007 | I8: =RANDBETWEEN($AA8,$AB8) + ROW(H7)*0.000001 -> 32.000007 | ... Z8: =RANDBETWEEN($AA8,$AB8) + ROW(Y7)*0.000001 -> 32.000007 | AA8: =RANDBETWEEN(1,30) -> 27 | AB8: =RANDBETWEEN(40,70) -> 56 | AMJ8: 7
A9: Vendeur 8 | B9: =RANDBETWEEN($AA9,$AB9) + ROW(A8)*0.000001 -> 32.000008 | C9: =RANDBETWEEN($AA9,$AB9) + ROW(B8)*0.000001 -> 29.000008 | D9: =RANDBETWEEN($AA9,$AB9) + ROW(C8)*0.000001 -> 48.000008 | E9: =RANDBETWEEN($AA9,$AB9) + ROW(D8)*0.000001 -> 46.000008 | F9: =RANDBETWEEN($AA9,$AB9) + ROW(E8)*0.000001 -> 28.000008 | G9: =RANDBETWEEN($AA9,$AB9) + ROW(F8)*0.000001 -> 33.000008 | H9: =RANDBETWEEN($AA9,$AB9) + ROW(G8)*0.000001 -> 47.000008 | I9: =RANDBETWEEN($AA9,$AB9) + ROW(H8)*0.000001 -> 16.000008 | ... Z9: =RANDBETWEEN($AA9,$AB9) + ROW(Y8)*0.000001 -> 43.000008 | AA9: =RANDBETWEEN(1,30) -> 16 | AB9: =RANDBETWEEN(40,70) -> 53 | AMJ9: 8
A10: Vendeur 9 | B10: =RANDBETWEEN($AA10,$AB10) + ROW(A9)*0.000001 -> 25.000009 | C10: =RANDBETWEEN($AA10,$AB10) + ROW(B9)*0.000001 -> 27.000009 | D10: =RANDBETWEEN($AA10,$AB10) + ROW(C9)*0.000001 -> 42.000009 | E10: =RANDBETWEEN($AA10,$AB10) + ROW(D9)*0.000001 -> 41.000009 | F10: =RANDBETWEEN($AA10,$AB10) + ROW(E9)*0.000001 -> 17.000009 | G10: =RANDBETWEEN($AA10,$AB10) + ROW(F9)*0.000001 -> 20.000009 | H10: =RANDBETWEEN($AA10,$AB10) + ROW(G9)*0.000001 -> 29.000009 | I10: =RANDBETWEEN($AA10,$AB10) + ROW(H9)*0.000001 -> 36.000009 | ... Z10: =RANDBETWEEN($AA10,$AB10) + ROW(Y9)*0.000001 -> 24.000009 | AA10: =RANDBETWEEN(1,30) -> 17 | AB10: =RANDBETWEEN(40,70) -> 44 | AMJ10: 9
A11: Vendeur 10 | B11: =RANDBETWEEN($AA11,$AB11) + ROW(A10)*0.000001 -> 15.00001 | C11: =RANDBETWEEN($AA11,$AB11) + ROW(B10)*0.000001 -> 27.00001 | D11: =RANDBETWEEN($AA11,$AB11) + ROW(C10)*0.000001 -> 21.00001 | E11: =RANDBETWEEN($AA11,$AB11) + ROW(D10)*0.000001 -> 10.00001 | F11: =RANDBETWEEN($AA11,$AB11) + ROW(E10)*0.000001 -> 29.00001 | G11: =RANDBETWEEN($AA11,$AB11) + ROW(F10)*0.000001 -> 23.00001 | H11: =RANDBETWEEN($AA11,$AB11) + ROW(G10)*0.000001 -> 28.00001 | I11: =RANDBETWEEN($AA11,$AB11) + ROW(H10)*0.000001 -> 25.00001 | ... Z11: =RANDBETWEEN($AA11,$AB11) + ROW(Y10)*0.000001 -> 11.00001 | AA11: =RANDBETWEEN(1,30) -> 9 | AB11: =RANDBETWEEN(40,70) -> 45 | AMJ11: 10
A12: Vendeur 11 | B12: =RANDBETWEEN($AA12,$AB12) + ROW(A11)*0.000001 -> 22.000011 | C12: =RANDBETWEEN($AA12,$AB12) + ROW(B11)*0.000001 -> 31.000011 | D12: =RANDBETWEEN($AA12,$AB12) + ROW(C11)*0.000001 -> 31.000011 | E12: =RANDBETWEEN($AA12,$AB12) + ROW(D11)*0.000001 -> 39.000011 | F12: =RANDBETWEEN($AA12,$AB12) + ROW(E11)*0.000001 -> 25.000011 | G12: =RANDBETWEEN($AA12,$AB12) + ROW(F11)*0.000001 -> 35.000011 | H12: =RANDBETWEEN($AA12,$AB12) + ROW(G11)*0.000001 -> 35.000011 | I12: =RANDBETWEEN($AA12,$AB12) + ROW(H11)*0.000001 -> 25.000011 | ... Z12: =RANDBETWEEN($AA12,$AB12) + ROW(Y11)*0.000001 -> 31.000011 | AA12: =RANDBETWEEN(1,30) -> 21 | AB12: =RANDBETWEEN(40,70) -> 40 | AMJ12: 11
A13: Vendeur 12 | B13: =RANDBETWEEN($AA13,$AB13) + ROW(A12)*0.000001 -> 28.000012 | C13: =RANDBETWEEN($AA13,$AB13) + ROW(B12)*0.000001 -> 23.000012 | D13: =RANDBETWEEN($AA13,$AB13) + ROW(C12)*0.000001 -> 4.000012 | E13: =RANDBETWEEN($AA13,$AB13) + ROW(D12)*0.000001 -> 17.000012 | F13: =RANDBETWEEN($AA13,$AB13) + ROW(E12)*0.000001 -> 20.000012 | G13: =RANDBETWEEN($AA13,$AB13) + ROW(F12)*0.000001 -> 46.000012 | H13: =RANDBETWEEN($AA13,$AB13) + ROW(G12)*0.000001 -> 39.000012 | I13: =RANDBETWEEN($AA13,$AB13) + ROW(H12)*0.000001 -> 20.000012 | ... Z13: =RANDBETWEEN($AA13,$AB13) + ROW(Y12)*0.000001 -> 9.000012 | AA13: =RANDBETWEEN(1,30) -> 3 | AB13: =RANDBETWEEN(40,70) -> 46 | AMJ13: 12
A14: Vendeur 13 | B14: =RANDBETWEEN($AA14,$AB14) + ROW(A13)*0.000001 -> 37.000013 | C14: =RANDBETWEEN($AA14,$AB14) + ROW(B13)*0.000001 -> 36.000013 | D14: =RANDBETWEEN($AA14,$AB14) + ROW(C13)*0.000001 -> 23.000013 | E14: =RANDBETWEEN($AA14,$AB14) + ROW(D13)*0.000001 -> 31.000013 | F14: =RANDBETWEEN($AA14,$AB14) + ROW(E13)*0.000001 -> 42.000013 | G14: =RANDBETWEEN($AA14,$AB14) + ROW(F13)*0.000001 -> 49.000013 | H14: =RANDBETWEEN($AA14,$AB14) + ROW(G13)*0.000001 -> 51.000013 | I14: =RANDBETWEEN($AA14,$AB14) + ROW(H13)*0.000001 -> 50.000013 | ... Z14: =RANDBETWEEN($AA14,$AB14) + ROW(Y13)*0.000001 -> 32.000013 | AA14: =RANDBETWEEN(1,30) -> 4 | AB14: =RANDBETWEEN(40,70) -> 55 | AMJ14: 13
... A41: Vendeur 40 | B41: =RANDBETWEEN($AA41,$AB41) + ROW(A40)*0.000001 -> 54.00004 | C41: =RANDBETWEEN($AA41,$AB41) + ROW(B40)*0.000001 -> 58.00004 | D41: =RANDBETWEEN($AA41,$AB41) + ROW(C40)*0.000001 -> 48.00004 | E41: =RANDBETWEEN($AA41,$AB41) + ROW(D40)*0.000001 -> 29.00004 | F41: =RANDBETWEEN($AA41,$AB41) + ROW(E40)*0.000001 -> 26.00004 | G41: =RANDBETWEEN($AA41,$AB41) + ROW(F40)*0.000001 -> 68.00004 | H41: =RANDBETWEEN($AA41,$AB41) + ROW(G40)*0.000001 -> 29.00004 | I41: =RANDBETWEEN($AA41,$AB41) + ROW(H40)*0.000001 -> 40.00004 | ... Z41: =RANDBETWEEN($AA41,$AB41) + ROW(Y40)*0.000001 -> 47.00004 | AA41: =RANDBETWEEN(1,30) -> 24 | AB41: =RANDBETWEEN(40,70) -> 68 | AMJ41: 40

Sheet Hoja3
