Workbook

Sheet Données
A1: Numéro BT | B1: Titre BT | C1: Etat | D1: Code Equipement | E1: Désignation Eq | F1: Type de travail | G1: Commentaires | H1: Compte rendu | I1: Création | J1: Nom demandeur | K1: Degré d'urgence | L1: Centre de charge | M1: Date clôture | N1: création | O1: clôt | P1: Création = Clôt
A2: 58625 | B2: INTERVENTION DEPANNAGE MAINT | C2: Clos | D2: 2981-VDR2 | E2: STATION DE TRAITEMENT DES EFFLUENTS | F2: Correctif | G2: debit de boue tres faible | H2: nettoyage pompe et canalisation | I2: 43896.273 | J2: FAYRET | K2: Dans la journée | L2: SAND BLASTING VDR2 | M2: 43899.275 | N2: =TEXT(I2,"jj/mm/aaaa") -> 06/03/2020 | O2: =TEXT(M2,"jj/mm/aaaa") -> 09/03/2020 | P2: =IF(N2=O2,1,0) -> 0
A3: 59258 | B3: iNTERVENTION DEPANNAGE MAINT | C3: Clos | D3: 2542-VDR2 | E3: MACHINE LAVAGE SOUS VIDE | F3: Correctif | G3: machine ne fonctionne pas | I3: 43941.529 | J3: SIMIAN | K3: Dans la semaine | L3: DEGRAISSAGE UAP4 VDR2 | M3: 43941.53 | N3: =TEXT(I3,"jj/mm/aaaa") -> 20/04/2020 | O3: =TEXT(M3,"jj/mm/aaaa") -> 20/04/2020 | P3: =IF(N3=O3,1,0) -> 1
A4: 39322 | B4: Vérification des appareils de levage | C4: Clos | D4: 1653-VDR1 | E4: PALAN ADC SUR PONT ROULANT | F4: Correctif | G4: Vérification annuelle des appareils de levage_x000D_ Voir rapport dans commentaire et fichiers associés de la machine_x000D_ Intervention du 16/05/2018 | H4: -Remettre en état un des support de la guirlande._x000D_ _x000D_ -Remettre en état le gyrophare. | I4: 43150.324 | J4: GRIGGIO | K4: Sécurité | L4: FRAIS DE FABRICATION UAP2 | M4: 43935.404 | N4: =TEXT(I4,"jj/mm/aaaa") -> 19/02/2018 | O4: =TEXT(M4,"jj/mm/aaaa") -> 14/04/2020 | P4: =IF(N4=O4,1,0) -> 0
A5: 51114 | B5: DI 19586 : MAINTENANCE | C5: Clos | D5: 2070-VDR2 | E5: TOUR HAAS GT20 | F5: Amelioration | G5: Mettre un pistolet à l'intérieur de la machine (branché sur l'huile soluble) pour le nettoyage machine. | H5: philippe matériel à commander:liste donnée à sèverine le 24/09/19_x000D_ _x000D_ es 26/09 cde faite par Marjorie suite a la DA62380 chez RS_x000D_ ES 09/10 RELANCE MARJORIE_x000D_ recu la totalite de la marchandises le 14/10_x000D_ _x000D_ a faire sur les 4 GT20 du gap 4_x000D_ es 20/01 ddp orexad_x000D_ fait sur le 1930 pour essais si ok_x000D_ pour suite :_x000D_ à commander raccords legris 216p-6 (10)_x000D_ 2 pistolets réf?_x000D_ es 22/01 cde raccord 6131709 orexad livraison 8 jours_x000D_ pièces reçu_x000D_ Reste 1931 a faire. Tuyau GATES GP60 8mm a commander_x000D_ es 09/03 ddp cir_x000D_ 1931:ok | I5: 43606.477 | J5: CLOT | K5: Dans le mois | L5: TOURNAGE UAP3 VDR2 | M5: 43949.432 | N5: =TEXT(I5,"jj/mm/aaaa") -> 21/05/2019 | O5: =TEXT(M5,"jj/mm/aaaa") -> 28/04/2020 | P5: =IF(N5=O5,1,0) -> 0
A6: 54415 | B6: DI 20107 : MAINTENANCE | C6: Clos | D6: 2546-VDR2 | E6: TARAUDEUSE | F6: Correctif | G6: Sécurité trappe vérin ne fonctionne pas. | H6: DR 4/12 : relance et sortir BT_x000D_ ES 12/12 DDP REXEL Ne distribuant pas la marque ALLEN BRADLEY_x000D_ 12/12 ddp sogedoc_x000D_ es 18/12 relance ddp sogedoc_x000D_ ES 20/12 CDE 6131474 SOGEDOC LIVRAISON 11/01/20_x000D_ DR 22/01 = relance SOGEDOC le 22/01_x000D_ es 05/02 mail de relance livraison_x000D_ commande partie chez le fournisseur le 30/01/20_x000D_ RECU LE 05/02 | I6: 43752.588 | J6: CAVALIE | K6: Sécurité | L6: GAP2 ILOT BOEING | M6: 43950.669 | N6: =TEXT(I6,"jj/mm/aaaa") -> 14/10/2019 | O6: =TEXT(M6,"jj/mm/aaaa") -> 29/04/2020 | P6: =IF(N6=O6,1,0) -> 0
A7: 56697 | B7: DI 21367 : MAINTENANCE | C7: Clos | D7: 2928-VDR2 | E7: TOUR DOOSAN LYNX | F7: Correctif | G7: Remplacer les joints du pot de serrage (l'huile de coupe passe dans le circuit du pot de serrage). | H7: voir meca central_x000D_ 22/04/2020 RAS => clôture du BT | I7: 43837.317 | J7: BEC | K7: Dans la journée | L7: UAP SLEEVE | M7: 43944.303 | N7: =TEXT(I7,"jj/mm/aaaa") -> 07/01/2020 | O7: =TEXT(M7,"jj/mm/aaaa") -> 23/04/2020 | P7: =IF(N7=O7,1,0) -> 0
A8: 57078 | B8: DI 21716 : MAINTENANCE | C8: Clos | D8: 2011-VDR2 | E8: MACHINE DE VIBRATION | F8: Correctif | G8: Plus de courant sur la machine de vibration ( disjonctée ):_x000D_ _x000D_ Cette situation ne peut plus durer , nous arrivons à une fréquence d'arret de 1 à 2 fois par semaine, avec un temps de remise en service relativement long ( Nacelle nécessaire )._x000D_ Nous ne pouvons effectuer les essais correctement sans que nous ayons un arret au beau milieux. Nous devons à chaque fois recommencer tous les essais depuis le début ._x000D_ Cela nous impacte sur les dates de livraison données à notre clientelle + une perte de temps culumé considérable ._x000D_ Merci de mettre en place un systéme fiable ou facile à remettre sous tension . _x000D_ _x000D_ Merci pour votre compréhension ._x000D_ _x000D_ Ctdl_x000D_ _x000D_ J RAYNAL | H8: Probléme au niveau de la connexion bornier sur la phase1 a voir si la machine redeclenche bt en cours_x000D_ _x000D_ MB 15/04 Retour prod (RAYNAL Jacques) = RAS => clôture du BT | I8: 43851.393 | J8: RAYNAL | K8: Dans la journée | L8: LABORATOIRE | M8: 43942.524 | N8: =TEXT(I8,"jj/mm/aaaa") -> 21/01/2020 | O8: =TEXT(M8,"jj/mm/aaaa") -> 21/04/2020 | P8: =IF(N8=O8,1,0) -> 0
A9: 57401 | B9: DI 21877 : MAINTENANCE | C9: Clos | D9: 02874-VDR2 | E9: FOUR DE REVENU | F9: Correctif | G9: la pompe séche fait un bruit de sifflement | H9: controle bruit pompe par le technicien EDWARDS _x000D_ VOIR RAPPORT TECHNICIEN DEBUT DE SEMAINE_x000D_ relance daniel roux pour plus d'info._x000D_ Le technicien Edwards a ouvert un ticket SAV chez eux pour que quelqu’un nous rappelle à ce sujet car il y avait un paramètre à vérifier sur la pompe._x000D_ Pour lui il n’y a pas d’urgence particulière, certes elle fait un peu de bruit mais cela ne met pas en danger le fonctionnement de la pompe. | I9: 43861.462 | J9: LEONARD | K9: Dans la semaine | L9: HEAT TREATMENT VDR2 | M9: 43949.859 | N9: =TEXT(I9,"jj/mm/aaaa") -> 31/01/2020 | O9: =TEXT(M9,"jj/mm/aaaa") -> 28/04/2020 | P9: =IF(N9=O9,1,0) -> 0
A10: 58553 | B10: DI 22265 : MAINTENANCE | C10: Clos | D10: 314-VDR2 | E10: RECTIF AUTO | F10: Correctif | G10: modifier sortie d'arrosage prendre exemple sur la RSS 2669 | H10: commande robinet_x000D_ doc passée à SE_x000D_ es 09/03 ddp cir_x000D_ ES 06/03 CDE 6132237 LIVRAISON 21/03_x000D_ MB 26/03 relance mail | I10: 43895.219 | J10: GARDOU | K10: Dans le mois | L10: RECTIF GALETAGE AUTO GAP4-UAP6 | M10: 43950.501 | N10: =TEXT(I10,"jj/mm/aaaa") -> 05/03/2020 | O10: =TEXT(M10,"jj/mm/aaaa") -> 29/04/2020 | P10: =IF(N10=O10,1,0) -> 0
A11: 58788 | B11: DI 22362 : SERRURERIE | C11: Clos | D11: UTIL-PRO-VDR2 | E11: UTILITES PROCESS VDR2 | F11: Correctif | G11: Bonjour,_x000D_ _x000D_ je vous ai laissé à l'arrière de la maintenance 4 chariots à copeaux qui ont pour 3 une roue à changer et pour le 4éme la poignée à ressouder._x000D_ _x000D_ merci d'avance._x000D_ cordialement. | H11: herve_x000D_ es 16/03 ddp orexad_x000D_ es 17/03 cde 6132246 livraison ? | I11: 43902.386 | J11: BROS | K11: Dans la semaine | M11: 43948.537 | N11: =TEXT(I11,"jj/mm/aaaa") -> 12/03/2020 | O11: =TEXT(M11,"jj/mm/aaaa") -> 27/04/2020 | P11: =IF(N11=O11,1,0) -> 0
A12: 58801 | B12: DI 22267 : MAINTENANCE | C12: Clos | D12: 2213-VDR2 | E12: POLISSEUSE | F12: Correctif | G12: La polisseuse fait disjoncter le bloc prise lorsqu’on la met sous tension_x000D_ Voir si l'électrovanne de l'arrosage fonctionne_x000D_ Labo Qualité 2-6 | H12: MB 07/04 : OA 3061653 electrovanne chez OREXAD délais 09/04/20_x000D_ Reçu le 23/04/2020_x000D_ Pas un probleme d'electrovanne mais de parametrage | I12: 43902.572 | J12: MARUEJOULS | K12: Dans la journée | L12: LABORATOIRE | M12: 43944.377 | N12: =TEXT(I12,"jj/mm/aaaa") -> 12/03/2020 | O12: =TEXT(M12,"jj/mm/aaaa") -> 23/04/2020 | P12: =IF(N12=O12,1,0) -> 0
A13: 58805 | B13: INTERVENTION DEPANNAGE MAINT | C13: Clos | D13: 2937-VDR2 | E13: LIGNE DE CADMIAGE AUTO | F13: Correctif | G13: deux silent bloc d'un des tonneaux hs | H13: demontage d'un des tonneaux de l'argentage pour depannage _x000D_ commader 2 sachets Plot antivibratoire RS PRO, 25mm x 20mm M6 Caoutchouc naturel_x000D_ _x000D_ Code commande RS 171-2621 Marque RS PRO_x000D_ es 16/03 ddp orexad_x000D_ es 17/03 cde 6132246 livraison ?_x000D_ mb 26/03 relance mail_x000D_ ES 15/04 les plots recu ne convient pas _x000D_ ES 17/04 CDE 6132290 OREXAD | I13: 43902.666 | J13: GRAS | K13: Dans la journée | L13: OTHERS SURFACE TREATMENT VDR2 | M13: 43948.663 | N13: =TEXT(I13,"jj/mm/aaaa") -> 12/03/2020 | O13: =TEXT(M13,"jj/mm/aaaa") -> 27/04/2020 | P13: =IF(N13=O13,1,0) -> 0
A14: 58826 | B14: iNTERVENTION DEPANNAGE MAINT | C14: Clos | D14: 1671-VDR2 | E14: BANC DE MAGNETOSCOPIE | F14: Correctif | G14: filtre inox a changer | H14: voir severine_x000D_ ES 13/03 DDP CGM_x000D_ es 16/03 cde 6132239 CGM ITALIE LIVRAISON 10 JOURS_x000D_ 1 en xstock plateau 28 | I14: 43903.436 | J14: SIMIAN | L14: CND METALLOSCOPE | M14: 43949.69 | N14: =TEXT(I14,"jj/mm/aaaa") -> 13/03/2020 | O14: =TEXT(M14,"jj/mm/aaaa") -> 28/04/2020 | P14: =IF(N14=O14,1,0) -> 0
A15: 58986 | B15: INTERVENTION DEPANNAGE MAINT | C15: Clos | D15: 2981-VDR2 | E15: STATION DE TRAITEMENT DES EFFLUENTS | F15: Correctif | G15: sonde de niveau d'un cubitainer 4 bains uses CN-valorises ne fonctionne pas bien. _x000D_ probleme de valeurs erronées ( de 3% A 100%)_x000D_ defaut niveau max . | H15: demande garantie pour une Sonde de niveau hydrostatique Waterpilot FMX21_x000D_ ref FMX21-2XMN1/0 ( sonde PTC124-01 cubi 4)_x000D_ _x000D_ MB : 02/04 réponse CMI-PROSERPOL Mr DEHARBRE James _x000D_ - Débridage de la bride supérieure, pour effectuer la mise à l’air,_x000D_ - Vérifier que le pot est bien vide : vanne fermée du flexible et pot plein lors du remplacement du conteneur)_x000D_ _x000D_ MB 07/04 commande 6132265 livraison 22/04/2020_x000D_ _x000D_ reçu 27/04/2020 AU CHANGEMENT DE LA SONDE METTRE L'ANCIENNE SUR LA PALETTE DES PIECES PRIT EN GARANTIE (AVEC IDENTIFICATION)_x000D_ CHANGEMENT SONDE REGLAGE HAUTEUR ESSAI OK | I15: 43922.848 | J15: GRAS | K15: Dans la journée | L15: SAND BLASTING VDR2 | M15: 43948.775 | N15: =TEXT(I15,"jj/mm/aaaa") -> 01/04/2020 | O15: =TEXT(M15,"jj/mm/aaaa") -> 27/04/2020 | P15: =IF(N15=O15,1,0) -> 0
A16: 59111 | B16: DI 22421 : MAINTENANCE | C16: Clos | D16: 1622-VDR2 | E16: PLIEUSE ECROUS | F16: Correctif | G16: Branchement d'un bandeau lumineux sur le poste de travail | H16: à commander driver et connecteur (voir feuille rs)_x000D_ es 09/04 cde 6132273 livraison 24/04_x000D_ es 15/04 recu driver il manque le connecteur LED_x000D_ reçu le 27/04 | I16: 43930.629 | J16: ROQUES | K16: Dans la semaine | L16: GAP 4 PRELEVEMENT ECROUS | M16: 43949.375 | N16: =TEXT(I16,"jj/mm/aaaa") -> 09/04/2020 | O16: =TEXT(M16,"jj/mm/aaaa") -> 28/04/2020 | P16: =IF(N16=O16,1,0) -> 0
A17: 59169 | B17: INTERVENTION DEPANNAGE MAINT | C17: Clos | D17: 1915-VDR2 | E17: CENTRE D'USINAGE HAAS SUPER MINIMILL | F17: Correctif | G17: alarme cable codeur Z + impossible de faire bouger les axes | H17: Opérateur seulement la nuit._x000D_ Câble a commander_x000D_ es 10/04 ddp performer_x000D_ es 17/04 cde 6132294_x000D_ ss 23/04 changement du faisceau operateur de nuit va realiser les essais | I17: 43931.424 | J17: VEYRAC | K17: Dans la semaine | L17: PERCAGE/EBAVURAGE UAP3 VDR2 | M17: 43944.657 | N17: =TEXT(I17,"jj/mm/aaaa") -> 10/04/2020 | O17: =TEXT(M17,"jj/mm/aaaa") -> 23/04/2020 | P17: =IF(N17=O17,1,0) -> 0
A18: 59213 | B18: INTERVENTION DEPANNAGE MAINT | C18: Clos | D18: 2654-VDR2 | E18: CHAINE RESSUAGE | F18: Correctif | G18: le verrouillage du panier au niveau du rincage manuel ne bloque pas | H18: a commander chez RS_x000D_ _x000D_ TELEMECANIQUE_x000D_ _x000D_ XCSLF3737312_x000D_ es 15/04 cde 6132284 RS_x000D_ MB 21/04 cde réçu | I18: 43936.393 | J18: SIMIAN | L18: CND METALLOSCOPE | M18: 43942.428 | N18: =TEXT(I18,"jj/mm/aaaa") -> 15/04/2020 | O18: =TEXT(M18,"jj/mm/aaaa") -> 21/04/2020 | P18: =IF(N18=O18,1,0) -> 0
A19: 59227 | B19: INTERVENTION DEPANNAGE MAINT | C19: Clos | D19: 2662-VDR2 | E19: ALESEUSE - TARAUDEUSE | F19: Correctif | G19: capteur controle position piece chargeur hs _x000D_ probleme de capteur serrage pince de gauche reglage | H19: commander 1 tête telemecanique sensors osisense XC pour serie XC_x000D_ code commande RS : 609-3610 telemecanique ref ZCE06 | I19: 43937.714 | J19: GRAS | K19: Dans la semaine | L19: GAP2 ILOT BOEING | M19: 43948.675 | N19: =TEXT(I19,"jj/mm/aaaa") -> 16/04/2020 | O19: =TEXT(M19,"jj/mm/aaaa") -> 27/04/2020 | P19: =IF(N19=O19,1,0) -> 0
A20: 59265 | B20: INTERVENTION DEPANNAGE MAINT | C20: Clos | D20: 641-VDR2 | E20: RECTIF MANUELLE | F20: Correctif | G20: Ne part pas en cycle | H20: Depuis modifications acténium il faut laisser appuyer le bouton depart cycle pour que cela fonctionne. pour bloquer les meules en position plongée pareil laisser appuyer le bouton + basculer le selecteur sur manu | I20: 43941.341 | J20: VEYRAC | K20: Dans la semaine | L20: AIRBUS HELICOPTER VDR2 | M20: 43942.343 | N20: =TEXT(I20,"jj/mm/aaaa") -> 20/04/2020 | O20: =TEXT(M20,"jj/mm/aaaa") -> 21/04/2020 | P20: =IF(N20=O20,1,0) -> 0
A21: 59266 | B21: INTERVENTION DEPANNAGE MAINT | C21: Clos | D21: 1617-VDR2 | E21: TOUR MAZAK QTNEXUS200 | F21: Correctif | G21: Lampe led HS | H21: A commander 2 spots RS 777-7962. | I21: 43942.344 | J21: VEYRAC | K21: Dans la semaine | L21: AIRBUS HELICOPTER VDR2 | M21: 43944.387 | N21: =TEXT(I21,"jj/mm/aaaa") -> 21/04/2020 | O21: =TEXT(M21,"jj/mm/aaaa") -> 23/04/2020 | P21: =IF(N21=O21,1,0) -> 0
A22: 59267 | B22: INTERVENTION DEPANNAGE MAINT | C22: Clos | D22: 1679-VDR2 | E22: SABLEUSE | F22: Correctif | G22: ne se met pas en service | H22: défaut trappe du bas mal fermé l'opérateur ne met pas les ecrous papillons..._x000D_ Fil sécurité trappe arrière 7 HS remplacement avec un en rab | I22: 43942.349 | J22: VEYRAC | K22: Dans le mois | L22: DEMOLYKOTAGE | M22: 43942.351 | N22: =TEXT(I22,"jj/mm/aaaa") -> 21/04/2020 | O22: =TEXT(M22,"jj/mm/aaaa") -> 21/04/2020 | P22: =IF(N22=O22,1,0) -> 1
A23: 59268 | B23: INTERVENTION DEPANNAGE MAINT | C23: Clos | D23: 1700-VDR2 | E23: ASPIRATEUR DEPOUSSIEREUR SABLAGE | F23: Correctif | G23: l'aspiration ne se met pas en route | H23: contact temporisé HS | I23: 43942.351 | J23: VEYRAC | L23: DEMOLYKOTAGE | M23: 43942.352 | N23: =TEXT(I23,"jj/mm/aaaa") -> 21/04/2020 | O23: =TEXT(M23,"jj/mm/aaaa") -> 21/04/2020 | P23: =IF(N23=O23,1,0) -> 1
A24: 59269 | B24: iNTERVENTION DEPANNAGE MAINT | C24: Clos | D24: 4037-VDR2 | E24: STOCKEUR CIAMPALINI | F24: Correctif | G24: defaut capteur porteur | H24: a commander reflecteur code rs: 832-0068_x000D_ quantité: 4_x000D_ merci_x000D_ Mise en place d'un réflecteur provisoire_x000D_ Changement de 2 , un cassé et celui mis en provisoire_x000D_ plus 2 mis en stock dans le carton a l'interieur de l'armoire elec | I24: 43942.517 | J24: SIMIAN | L24: BATIMENT VDR2 | M24: 43944.352 | N24: =TEXT(I24,"jj/mm/aaaa") -> 21/04/2020 | O24: =TEXT(M24,"jj/mm/aaaa") -> 23/04/2020 | P24: =IF(N24=O24,1,0) -> 0
A25: 59271 | B25: DI 21966 : MAINTENANCE | C25: Clos | D25: 2104-VDR2 | E25: PRESSE BRET 250T | F25: Correctif | G25: Changer écrou sur inducteur carré_x000D_ _x000D_ Merci_x000D_ _x000D_ ALAIN | H25: ok | I25: 43942.857 | J25: COSTES | K25: Dans le mois | L25: PREPARATION LOPIN UAP4 VDR2 | M25: 43942.857 | N25: =TEXT(I25,"jj/mm/aaaa") -> 21/04/2020 | O25: =TEXT(M25,"jj/mm/aaaa") -> 21/04/2020 | P25: =IF(N25=O25,1,0) -> 1
A26: 59272 | B26: DI 21606 : MAINTENANCE | C26: Clos | D26: 1705-VDR2 | E26: GENERATEUR MP25 | F26: Correctif | G26: Réparation d'un inducteur Merci_x000D_ _x000D_ ALAIN | H26: ok | I26: 43942.858 | J26: COSTES | K26: Dans le mois | L26: PREPARATION LOPIN UAP4 VDR2 | M26: 43942.858 | N26: =TEXT(I26,"jj/mm/aaaa") -> 21/04/2020 | O26: =TEXT(M26,"jj/mm/aaaa") -> 21/04/2020 | P26: =IF(N26=O26,1,0) -> 1
A27: 59273 | B27: INTERVENTION DEPANNAGE MAINT | C27: Clos | D27: 2053-VDR2 | E27: SORBONNE ATTAQUE ACIDE | F27: Correctif | G27: prises sorbone + machine traction disjonctée | I27: 43943.337 | J27: VEYRAC | L27: LABORATOIRE | M27: 43943.338 | N27: =TEXT(I27,"jj/mm/aaaa") -> 22/04/2020 | O27: =TEXT(M27,"jj/mm/aaaa") -> 22/04/2020 | P27: =IF(N27=O27,1,0) -> 1
A28: 59274 | B28: AMELIORATION VDR2 MAINTENANCE | C28: Clos | D28: 1374-VDR2 | E28: RESSUAGE | F28: Amelioration | G28: glissiere porte trop courte | H28: fabrication rallonge plus reglage alignement robot aux cuves | I28: 43943.471 | J28: DELMAS | L28: CND METALLOSCOPE | M28: 43943.472 | N28: =TEXT(I28,"jj/mm/aaaa") -> 22/04/2020 | O28: =TEXT(M28,"jj/mm/aaaa") -> 22/04/2020 | P28: =IF(N28=O28,1,0) -> 1
A29: 59275 | B29: INTERVENTION DEPANNAGE MAINT | C29: Clos | D29: 2091-VDR2 | E29: RECTIF AUTO | F29: Correctif | G29: Roulements renvoi molette HS + Câble capteur recul diamant HS | H29: Changement du câble et modif support roulement pour pouvoir mettre 2 roulements côté poulie | I29: 43943.499 | J29: VEYRAC | K29: Dans la journée | L29: GOUJONS ET GROS DIAMETRES VDR2 | M29: 43944.387 | N29: =TEXT(I29,"jj/mm/aaaa") -> 22/04/2020 | O29: =TEXT(M29,"jj/mm/aaaa") -> 23/04/2020 | P29: =IF(N29=O29,1,0) -> 0
A30: 59276 | B30: iNTERVENTION DEPANNAGE MAINT | C30: Clos | D30: 1214-VDR2 | E30: PRESSE AUTOMATIQUE N56 | F30: Correctif | G30: separateur bloqué | I30: 43943.516 | J30: SIMIAN | K30: Dans la semaine | L30: GAP 3 MATRICAGE AUTOMATIQUE N56 CHAUD | M30: 43943.516 | N30: =TEXT(I30,"jj/mm/aaaa") -> 22/04/2020 | O30: =TEXT(M30,"jj/mm/aaaa") -> 22/04/2020 | P30: =IF(N30=O30,1,0) -> 1
A31: 59277 | B31: iNTERVENTION DEPANNAGE MAINT | C31: Clos | D31: 1220-VDR2 | E31: TOUR TRAUB TD26 | F31: Correctif | G31: defaut temps indexation trop long | I31: 43943.517 | J31: SIMIAN | K31: Dans le mois | L31: REPRISE AUTO GAP3-UAP6 | M31: 43943.517 | N31: =TEXT(I31,"jj/mm/aaaa") -> 22/04/2020 | O31: =TEXT(M31,"jj/mm/aaaa") -> 22/04/2020 | P31: =IF(N31=O31,1,0) -> 1
A32: 59278 | B32: iNTERVENTION DEPANNAGE MAINT | C32: Clos | D32: 823A-VDR2 | E32: IVD | F32: Correctif | G32: axe derouleur de fil hs | H32: chan,gement axe et fabrication bague torlon cafr ancie,nne pas au bon diametre interieur | I32: 43943.517 | J32: SIMIAN | K32: Dans la journée | L32: IVD | M32: 43943.518 | N32: =TEXT(I32,"jj/mm/aaaa") -> 22/04/2020 | O32: =TEXT(M32,"jj/mm/aaaa") -> 22/04/2020 | P32: =IF(N32=O32,1,0) -> 1
A33: 59279 | B33: iNTERVENTION DEPANNAGE MAINT | C33: Clos | D33: 2121-VDR2 | E33: MACHINE LAVAGE SOUS VIDE | F33: Correctif | G33: machone a l'arrét avec porte ouverte ??? | H33: remise en position de toutes les conditions initiale et machine ok | I33: 43943.519 | J33: SIMIAN | K33: Dans la semaine | L33: DEGRAISSAGE SAUF TA6V | M33: 43943.519 | N33: =TEXT(I33,"jj/mm/aaaa") -> 22/04/2020 | O33: =TEXT(M33,"jj/mm/aaaa") -> 22/04/2020 | P33: =IF(N33=O33,1,0) -> 1
A34: 59280 | B34: DI 22426 : MAINTENANCE | C34: Clos | D34: 2669-VDR2 | E34: RECTIF AUTO | F34: Correctif | G34: tapis evacuation pieces a retendre ou a changer | H34: enlever maillon | I34: 43943.525 | J34: GARDOU | K34: Dans la journée | L34: RECTIF GALETAGE AUTO GAP4-UAP6 | M34: 43943.527 | N34: =TEXT(I34,"jj/mm/aaaa") -> 22/04/2020 | O34: =TEXT(M34,"jj/mm/aaaa") -> 22/04/2020 | P34: =IF(N34=O34,1,0) -> 1
A35: 59284 | B35: iNTERVENTION DEPANNAGE MAINT | C35: Clos | D35: 1162-VDR2 | E35: CADMIAGE SOUS VIDE | F35: Correctif | G35: diffusion a l'arret impossible de mettre en chauffe | H35: changement jauge pirani | I35: 43944.353 | J35: SIMIAN | K35: Dans la journée | L35: VACUUM SURFACE TREATMENT VDR2 | M35: 43944.353 | N35: =TEXT(I35,"jj/mm/aaaa") -> 23/04/2020 | O35: =TEXT(M35,"jj/mm/aaaa") -> 23/04/2020 | P35: =IF(N35=O35,1,0) -> 1
A36: 59285 | B36: iNTERVENTION DEPANNAGE MAINT | C36: Clos | D36: 4038-VDR2 | E36: CENTRALE DE FILTRATION D'HUILE TRANCHE 1 | F36: Correctif | G36: changement big bag | H36: fait la sortie du big bag "vu avec jerome jason" | I36: 43944.354 | J36: SIMIAN | K36: Dans la journée | L36: BATIMENT VDR2 | M36: 43944.354 | N36: =TEXT(I36,"jj/mm/aaaa") -> 23/04/2020 | O36: =TEXT(M36,"jj/mm/aaaa") -> 23/04/2020 | P36: =IF(N36=O36,1,0) -> 1
A37: 59286 | B37: INTERVENTION DEPANNAGE MAINT | C37: Clos | D37: 1323-VDR2 | E37: TOURET A MEULER | F37: Correctif | G37: poulie a bande hs | H37: remise en etat poulie plus changer roulement plus soudure carter plus peinture | I37: 43944.432 | J37: DELMAS | L37: FRAIS DE FABRICATION UAP2 | M37: 43944.435 | N37: =TEXT(I37,"jj/mm/aaaa") -> 23/04/2020 | O37: =TEXT(M37,"jj/mm/aaaa") -> 23/04/2020 | P37: =IF(N37=O37,1,0) -> 1
A38: 59287 | B38: REMPLACEMENT ELEMENT EXISTANT MAINT | C38: Clos | D38: 2529-VDR2 | E38: DEMOLYKOTEUSE PAR ULTRASONS FISA | F38: Correctif | G38: Défaut de lecture programme | H38: Dsique dur en défaut_x000D_ Commande disque et intervention CCO le 24/04/2020_x000D_ ES 23/04 CDE 6132304 INTERVATION CCO INFORMATIQUE_x000D_ Apres installation essai ok | I38: 43944.46 | J38: SIMIAN | K38: Dans la semaine | L38: DEMOLYKOTAGE | M38: 43948.732 | N38: =TEXT(I38,"jj/mm/aaaa") -> 23/04/2020 | O38: =TEXT(M38,"jj/mm/aaaa") -> 27/04/2020 | P38: =IF(N38=O38,1,0) -> 0
A39: 59289 | B39: INTERVENTION DEPANNAGE MAINT | C39: Clos | D39: 1224-VDR2 | E39: TOUR KNC 100 | F39: Correctif | G39: l 'ecran s'éteind lorsque l'on appuie sur le bouton serrage pince | H39: câble pédale HS | I39: 43944.526 | J39: VEYRAC | K39: Dans la semaine | L39: GAP 1 COMMANDE NUMERIQUE | M39: 43945.456 | N39: =TEXT(I39,"jj/mm/aaaa") -> 23/04/2020 | O39: =TEXT(M39,"jj/mm/aaaa") -> 24/04/2020 | P39: =IF(N39=O39,1,0) -> 0
A40: 59290 | B40: INTERVENTION DEPANNAGE MAINT | C40: Clos | D40: 3043-VDR2 | E40: CELLULE ROBOTISEE | F40: Correctif | G40: tete de vis HS | H40: demontage du bloc et changment des vis | I40: 43944.575 | J40: SIMIAN | L40: GAP2 ILOT BOEING | M40: 43944.576 | N40: =TEXT(I40,"jj/mm/aaaa") -> 23/04/2020 | O40: =TEXT(M40,"jj/mm/aaaa") -> 23/04/2020 | P40: =IF(N40=O40,1,0) -> 1
...

Sheet Analyse
A1: Date clôture | B1: Nbr de BT Clos | C1: Nbr BT Clos Créé le même jour (Panne) | D1: BT hors panne | E1: Nbr Personne Présente | F1: Commentaire | G1: Ratio BT clos /personne
A2: 43899 | B2: =COUNTIF(Données!$O$2:$O$322,A2) -> 1 | C2: =SUMPRODUCT((Données!$O$2:$O$322=Analyse!H2)*(Données!$P$2:$P$322=1)) -> 0 | D2: =B2-C2 -> 1 | E2: 16 | F2: Fonctionnement Normal | G2: =B2/E2 -> 0.0625 | H2: =TEXT(A2,"jj/mm/aaaa") -> 09/03/2020
A3: 43900 | B3: =COUNTIF(Données!$O$2:$O$322,A3) -> 0 | C3: =SUMPRODUCT((Données!$O$2:$O$322=Analyse!H3)*(Données!$P$2:$P$322=1)) -> 0 | D3: =B3-C3 -> 0 | E3: 16 | F3: Fonctionnement Normal | G3: =B3/E3 -> 0 | H3: =TEXT(A3,"jj/mm/aaaa") -> 10/03/2020
A4: 43901 | B4: =COUNTIF(Données!$O$2:$O$322,A4) -> 32 | C4: =SUMPRODUCT((Données!$O$2:$O$322=Analyse!H4)*(Données!$P$2:$P$322=1)) -> 18 | D4: =B4-C4 -> 14 | E4: 15 | F4: Fonctionnement Normal | G4: =B4/E4 -> 2.1333333 | H4: =TEXT(A4,"jj/mm/aaaa") -> 11/03/2020
A5: 43902 | B5: =COUNTIF(Données!$O$2:$O$322,A5) -> 29 | C5: =SUMPRODUCT((Données!$O$2:$O$322=Analyse!H5)*(Données!$P$2:$P$322=1)) -> 19 | D5: =B5-C5 -> 10 | E5: 16 | F5: Fonctionnement Normal | G5: =B5/E5 -> 1.8125 | H5: =TEXT(A5,"jj/mm/aaaa") -> 12/03/2020
A6: 43903 | B6: =COUNTIF(Données!$O$2:$O$322,A6) -> 13 | C6: =SUMPRODUCT((Données!$O$2:$O$322=Analyse!H6)*(Données!$P$2:$P$322=1)) -> 11 | D6: =B6-C6 -> 2 | E6: 13 | F6: Fonctionnement Normal | G6: =B6/E6 -> 1 | H6: =TEXT(A6,"jj/mm/aaaa") -> 13/03/2020
A7: 43904 | B7: =COUNTIF(Données!$O$2:$O$322,A7) -> 0 | C7: =SUMPRODUCT((Données!$O$2:$O$322=Analyse!H7)*(Données!$P$2:$P$322=1)) -> 0 | D7: =B7-C7 -> 0 | E7: 0 | F7: WE | G7: x | H7: =TEXT(A7,"jj/mm/aaaa") -> 14/03/2020
A8: 43905 | B8: =COUNTIF(Données!$O$2:$O$322,A8) -> 0 | C8: =SUMPRODUCT((Données!$O$2:$O$322=Analyse!H8)*(Données!$P$2:$P$322=1)) -> 0 | D8: =B8-C8 -> 0 | E8: 0 | F8: WE | G8: x | H8: =TEXT(A8,"jj/mm/aaaa") -> 15/03/2020
A9: 43906 | B9: =COUNTIF(Données!$O$2:$O$322,A9) -> 15 | C9: =SUMPRODUCT((Données!$O$2:$O$322=Analyse!H9)*(Données!$P$2:$P$322=1)) -> 11 | D9: =B9-C9 -> 4 | E9: 8 | F9: Fermeture école | G9: =B9/E9 -> 1.875 | H9: =TEXT(A9,"jj/mm/aaaa") -> 16/03/2020
A10: 43907 | B10: =COUNTIF(Données!$O$2:$O$322,A10) -> 16 | C10: =SUMPRODUCT((Données!$O$2:$O$322=Analyse!H10)*(Données!$P$2:$P$322=1)) -> 15 | D10: =B10-C10 -> 1 | E10: 9 | F10: Fermeture école | G10: =B10/E10 -> 1.7777778 | H10: =TEXT(A10,"jj/mm/aaaa") -> 17/03/2020
A11: 43908 | B11: =COUNTIF(Données!$O$2:$O$322,A11) -> 2 | C11: =SUMPRODUCT((Données!$O$2:$O$322=Analyse!H11)*(Données!$P$2:$P$322=1)) -> 0 | D11: =B11-C11 -> 2 | E11: 2 | F11: Fermeture usine | G11: =B11/E11 -> 1 | H11: =TEXT(A11,"jj/mm/aaaa") -> 18/03/2020
A12: 43909 | B12: =COUNTIF(Données!$O$2:$O$322,A12) -> 0 | C12: =SUMPRODUCT((Données!$O$2:$O$322=Analyse!H12)*(Données!$P$2:$P$322=1)) -> 0 | D12: =B12-C12 -> 0 | E12: 0 | F12: Fermeture usine | G12: X | H12: =TEXT(A12,"jj/mm/aaaa") -> 19/03/2020
A13: 43910 | B13: =COUNTIF(Données!$O$2:$O$322,A13) -> 0 | C13: =SUMPRODUCT((Données!$O$2:$O$322=Analyse!H13)*(Données!$P$2:$P$322=1)) -> 0 | D13: =B13-C13 -> 0 | E13: 0 | F13: Fermeture usine | G13: X | H13: =TEXT(A13,"jj/mm/aaaa") -> 20/03/2020
A14: 43911 | B14: =COUNTIF(Données!$O$2:$O$322,A14) -> 0 | C14: =SUMPRODUCT((Données!$O$2:$O$322=Analyse!H14)*(Données!$P$2:$P$322=1)) -> 0 | D14: =B14-C14 -> 0 | E14: 0 | F14: WE | G14: X | H14: =TEXT(A14,"jj/mm/aaaa") -> 21/03/2020
A15: 43912 | B15: =COUNTIF(Données!$O$2:$O$322,A15) -> 0 | C15: =SUMPRODUCT((Données!$O$2:$O$322=Analyse!H15)*(Données!$P$2:$P$322=1)) -> 0 | D15: =B15-C15 -> 0 | E15: 0 | F15: WE | G15: X | H15: =TEXT(A15,"jj/mm/aaaa") -> 22/03/2020
A16: 43913 | B16: =COUNTIF(Données!$O$2:$O$322,A16) -> 0 | C16: =SUMPRODUCT((Données!$O$2:$O$322=Analyse!H16)*(Données!$P$2:$P$322=1)) -> 0 | D16: =B16-C16 -> 0 | E16: 0 | F16: Fermeture usine | G16: X | H16: =TEXT(A16,"jj/mm/aaaa") -> 23/03/2020
A17: 43914 | B17: =COUNTIF(Données!$O$2:$O$322,A17) -> 6 | C17: =SUMPRODUCT((Données!$O$2:$O$322=Analyse!H17)*(Données!$P$2:$P$322=1)) -> 5 | D17: =B17-C17 -> 1 | E17: 4 | F17: Chômage partiel | G17: =B17/E17 -> 1.5 | H17: =TEXT(A17,"jj/mm/aaaa") -> 24/03/2020
A18: 43915 | B18: =COUNTIF(Données!$O$2:$O$322,A18) -> 17 | C18: =SUMPRODUCT((Données!$O$2:$O$322=Analyse!H18)*(Données!$P$2:$P$322=1)) -> 14 | D18: =B18-C18 -> 3 | E18: 4 | F18: Chômage partiel | G18: =B18/E18 -> 4.25 | H18: =TEXT(A18,"jj/mm/aaaa") -> 25/03/2020
A19: 43916 | B19: =COUNTIF(Données!$O$2:$O$322,A19) -> 7 | C19: =SUMPRODUCT((Données!$O$2:$O$322=Analyse!H19)*(Données!$P$2:$P$322=1)) -> 5 | D19: =B19-C19 -> 2 | E19: 4 | F19: Chômage partiel | G19: =B19/E19 -> 1.75 | H19: =TEXT(A19,"jj/mm/aaaa") -> 26/03/2020
A20: 43917 | B20: =COUNTIF(Données!$O$2:$O$322,A20) -> 10 | C20: =SUMPRODUCT((Données!$O$2:$O$322=Analyse!H20)*(Données!$P$2:$P$322=1)) -> 6 | D20: =B20-C20 -> 4 | E20: 4 | F20: Chômage partiel | G20: =B20/E20 -> 2.5 | H20: =TEXT(A20,"jj/mm/aaaa") -> 27/03/2020
A21: 43918 | B21: =COUNTIF(Données!$O$2:$O$322,A21) -> 0 | C21: =SUMPRODUCT((Données!$O$2:$O$322=Analyse!H21)*(Données!$P$2:$P$322=1)) -> 0 | D21: =B21-C21 -> 0 | E21: 0 | F21: WE | G21: X | H21: =TEXT(A21,"jj/mm/aaaa") -> 28/03/2020
A22: 43919 | B22: =COUNTIF(Données!$O$2:$O$322,A22) -> 0 | C22: =SUMPRODUCT((Données!$O$2:$O$322=Analyse!H22)*(Données!$P$2:$P$322=1)) -> 0 | D22: =B22-C22 -> 0 | E22: 0 | F22: WE | G22: X | H22: =TEXT(A22,"jj/mm/aaaa") -> 29/03/2020
A23: 43920 | B23: =COUNTIF(Données!$O$2:$O$322,A23) -> 1 | C23: =SUMPRODUCT((Données!$O$2:$O$322=Analyse!H23)*(Données!$P$2:$P$322=1)) -> 0 | D23: =B23-C23 -> 1 | E23: 6 | F23: Chômage partiel | G23: =B23/E23 -> 0.16666667 | H23: =TEXT(A23,"jj/mm/aaaa") -> 30/03/2020
A24: 43921 | B24: =COUNTIF(Données!$O$2:$O$322,A24) -> 4 | C24: =SUMPRODUCT((Données!$O$2:$O$322=Analyse!H24)*(Données!$P$2:$P$322=1)) -> 3 | D24: =B24-C24 -> 1 | E24: 6 | F24: Chômage partiel | G24: =B24/E24 -> 0.66666667 | H24: =TEXT(A24,"jj/mm/aaaa") -> 31/03/2020
A25: 43922 | B25: =COUNTIF(Données!$O$2:$O$322,A25) -> 14 | C25: =SUMPRODUCT((Données!$O$2:$O$322=Analyse!H25)*(Données!$P$2:$P$322=1)) -> 10 | D25: =B25-C25 -> 4 | E25: 6 | F25: Chômage partiel | G25: =B25/E25 -> 2.3333333 | H25: =TEXT(A25,"jj/mm/aaaa") -> 01/04/2020
A26: 43923 | B26: =COUNTIF(Données!$O$2:$O$322,A26) -> 4 | C26: =SUMPRODUCT((Données!$O$2:$O$322=Analyse!H26)*(Données!$P$2:$P$322=1)) -> 3 | D26: =B26-C26 -> 1 | E26: 6 | F26: Chômage partiel | G26: =B26/E26 -> 0.66666667 | H26: =TEXT(A26,"jj/mm/aaaa") -> 02/04/2020
A27: 43924 | B27: =COUNTIF(Données!$O$2:$O$322,A27) -> 6 | C27: =SUMPRODUCT((Données!$O$2:$O$322=Analyse!H27)*(Données!$P$2:$P$322=1)) -> 5 | D27: =B27-C27 -> 1 | E27: 6 | F27: Chômage partiel | G27: =B27/E27 -> 1 | H27: =TEXT(A27,"jj/mm/aaaa") -> 03/04/2020
A28: 43925 | B28: =COUNTIF(Données!$O$2:$O$322,A28) -> 0 | C28: =SUMPRODUCT((Données!$O$2:$O$322=Analyse!H28)*(Données!$P$2:$P$322=1)) -> 0 | D28: =B28-C28 -> 0 | E28: 0 | F28: WE | G28: X | H28: =TEXT(A28,"jj/mm/aaaa") -> 04/04/2020
A29: 43926 | B29: =COUNTIF(Données!$O$2:$O$322,A29) -> 0 | C29: =SUMPRODUCT((Données!$O$2:$O$322=Analyse!H29)*(Données!$P$2:$P$322=1)) -> 0 | D29: =B29-C29 -> 0 | E29: 0 | F29: WE | G29: X | H29: =TEXT(A29,"jj/mm/aaaa") -> 05/04/2020
A30: 43927 | B30: =COUNTIF(Données!$O$2:$O$322,A30) -> 7 | C30: =SUMPRODUCT((Données!$O$2:$O$322=Analyse!H30)*(Données!$P$2:$P$322=1)) -> 7 | D30: =B30-C30 -> 0 | E30: 6 | F30: Chômage partiel | G30: =B30/E30 -> 1.1666667 | H30: =TEXT(A30,"jj/mm/aaaa") -> 06/04/2020
A31: 43928 | B31: =COUNTIF(Données!$O$2:$O$322,A31) -> 15 | C31: =SUMPRODUCT((Données!$O$2:$O$322=Analyse!H31)*(Données!$P$2:$P$322=1)) -> 15 | D31: =B31-C31 -> 0 | E31: 6 | F31: Chômage partiel | G31: =B31/E31 -> 2.5 | H31: =TEXT(A31,"jj/mm/aaaa") -> 07/04/2020
A32: 43929 | B32: =COUNTIF(Données!$O$2:$O$322,A32) -> 22 | C32: =SUMPRODUCT((Données!$O$2:$O$322=Analyse!H32)*(Données!$P$2:$P$322=1)) -> 22 | D32: =B32-C32 -> 0 | E32: 6 | F32: Chômage partiel | G32: =B32/E32 -> 3.6666667 | H32: =TEXT(A32,"jj/mm/aaaa") -> 08/04/2020
A33: 43930 | B33: =COUNTIF(Données!$O$2:$O$322,A33) -> 9 | C33: =SUMPRODUCT((Données!$O$2:$O$322=Analyse!H33)*(Données!$P$2:$P$322=1)) -> 8 | D33: =B33-C33 -> 1 | E33: 6 | F33: Chômage partiel | G33: =B33/E33 -> 1.5 | H33: =TEXT(A33,"jj/mm/aaaa") -> 09/04/2020
A34: 43931 | B34: =COUNTIF(Données!$O$2:$O$322,A34) -> 15 | C34: =SUMPRODUCT((Données!$O$2:$O$322=Analyse!H34)*(Données!$P$2:$P$322=1)) -> 9 | D34: =B34-C34 -> 6 | E34: 6 | F34: Chômage partiel | G34: =B34/E34 -> 2.5 | H34: =TEXT(A34,"jj/mm/aaaa") -> 10/04/2020
A35: 43932 | B35: =COUNTIF(Données!$O$2:$O$322,A35) -> 0 | C35: =SUMPRODUCT((Données!$O$2:$O$322=Analyse!H35)*(Données!$P$2:$P$322=1)) -> 0 | D35: =B35-C35 -> 0 | E35: 0 | F35: WE | G35: x | H35: =TEXT(A35,"jj/mm/aaaa") -> 11/04/2020
A36: 43933 | B36: =COUNTIF(Données!$O$2:$O$322,A36) -> 0 | C36: =SUMPRODUCT((Données!$O$2:$O$322=Analyse!H36)*(Données!$P$2:$P$322=1)) -> 0 | D36: =B36-C36 -> 0 | E36: 0 | F36: WE | G36: x | H36: =TEXT(A36,"jj/mm/aaaa") -> 12/04/2020
A37: 43934 | B37: =COUNTIF(Données!$O$2:$O$322,A37) -> 0 | C37: =SUMPRODUCT((Données!$O$2:$O$322=Analyse!H37)*(Données!$P$2:$P$322=1)) -> 0 | D37: =B37-C37 -> 0 | E37: 0 | F37: WE | G37: x | H37: =TEXT(A37,"jj/mm/aaaa") -> 13/04/2020
A38: 43935 | B38: =COUNTIF(Données!$O$2:$O$322,A38) -> 1 | C38: =SUMPRODUCT((Données!$O$2:$O$322=Analyse!H38)*(Données!$P$2:$P$322=1)) -> 0 | D38: =B38-C38 -> 1 | E38: 6 | F38: Chômage partiel | G38: =B38/E38 -> 0.16666667 | H38: =TEXT(A38,"jj/mm/aaaa") -> 14/04/2020
A39: 43936 | B39: =COUNTIF(Données!$O$2:$O$322,A39) -> 0 | C39: =SUMPRODUCT((Données!$O$2:$O$322=Analyse!H39)*(Données!$P$2:$P$322=1)) -> 0 | D39: =B39-C39 -> 0 | E39: 6 | F39: Chômage partiel | G39: =B39/E39 -> 0 | H39: =TEXT(A39,"jj/mm/aaaa") -> 15/04/2020
A40: 43937 | B40: =COUNTIF(Données!$O$2:$O$322,A40) -> 0 | C40: =SUMPRODUCT((Données!$O$2:$O$322=Analyse!H40)*(Données!$P$2:$P$322=1)) -> 0 | D40: =B40-C40 -> 0 | E40: 6 | F40: Chômage partiel | G40: =B40/E40 -> 0 | H40: =TEXT(A40,"jj/mm/aaaa") -> 16/04/2020
...

Sheet Feuil6
