Workbook

Sheet USA H (2)
A1: HERMES SKU | B1: COUNTRY | C1: CHANNEL | D1: CURRENCY | E1: VAT | F1: FEMININ/MASCULIN | G1: CONCENTRATION | H1: Brand | I1: Product | J1: DOT SIZE | K1: Size (ml) | L1: 2018 July | M1: 2017 July | N1: 2016 July | O1: Diff2018 vs 2017 | Q1: 200
B2: USA | C2: Local Market | D2: USD | E2: 0.07 | F2: MASCULIN | G2: EDP | H2: Armani | I2: Acqua Di Gio EDP 125ml | J2: =VLOOKUP(I2,DB!I:J,2,0) -> 1 | K2: 125 | L2: 130 | O2: 130 | P2: 50
B3: USA | C3: Local Market | D3: USD | E3: 0.07 | F3: MASCULIN | G3: EDT | H3: Armani | I3: Acqua Di Gio EDT 50ml | J3: =VLOOKUP(I3,DB!I:J,2,0) -> 0.5 | K3: 50 | L3: 68 | O3: 68 | P3: =+P2+$Q$1 -> 250
B4: USA | C4: Local Market | D4: USD | E4: 0.07 | F4: MASCULIN | G4: EDT | H4: Armani | I4: Acqua Di Gio EDT 100ml | J4: =VLOOKUP(I4,DB!I:J,2,0) -> 1 | K4: 100 | L4: 85 | O4: 85 | P4: 250
B5: USA | C5: Local Market | D5: USD | E5: 0.07 | F5: MASCULIN | G5: EDT | H5: Bvlgari | I5: Aqva pour Homme EDT 100ml | J5: =VLOOKUP(I5,DB!I:J,2,0) -> 1 | K5: 100 | L5: 91 | O5: 91 | P5: =+P4+170 -> 420
B6: USA | C6: Local Market | D6: USD | E6: 0.07 | F6: MASCULIN | G6: EDT | H6: Bvlgari | I6: MAN EDT 100ml | J6: =VLOOKUP(I6,DB!I:J,2,0) -> 1 | K6: 100 | L6: 92 | O6: 92 | P6: =+P5+170 -> 590
B7: USA | C7: Local Market | D7: USD | E7: 0.07 | F7: MASCULIN | G7: EDT | H7: Cartier | I7: Declaration D´un Soir 100 ml | J7: =VLOOKUP(I7,DB!I:J,2,0) -> 1 | K7: 100 | L7: 108 | O7: 108 | P7: =+P6+170 -> 760
B8: USA | C8: Local Market | D8: USD | E8: 0.07 | F8: MASCULIN | G8: EDT | H8: Cartier | I8: Declaration EDT 100 ml | J8: =VLOOKUP(I8,DB!I:J,2,0) -> 1 | K8: 100 | L8: 108 | O8: 108 | P8: =+P7+170 -> 930
B9: USA | C9: Local Market | D9: USD | E9: 0.07 | F9: MASCULIN | G9: EDP | H9: Chanel | I9: Bleu de Chanel EDP 150ml | J9: =VLOOKUP(I9,DB!I:J,2,0) -> 1.5 | K9: 150 | L9: 155 | O9: 155 | P9: =+P8+170 -> 1100
B10: USA | C10: Local Market | D10: USD | E10: 0.07 | F10: MASCULIN | G10: EDP | H10: Chanel | I10: Bleu de Chanel EDP 100ml | J10: =VLOOKUP(I10,DB!I:J,2,0) -> 1 | K10: 100 | L10: 120 | O10: 120 | P10: 1270
B11: USA | C11: Local Market | D11: USD | E11: 0.07 | F11: MASCULIN | G11: EDP | H11: Chanel | I11: Bleu de Chanel EDP 50ml | J11: =VLOOKUP(I11,DB!I:J,2,0) -> 0.5 | K11: 50 | L11: 95 | O11: 95 | P11: 1270
B12: USA | C12: Local Market | D12: USD | E12: 0.07 | F12: MASCULIN | G12: EDT | H12: Chanel | I12: Bleu de Chanel EDT 100ml | J12: =VLOOKUP(I12,DB!I:J,2,0) -> 1 | K12: 100 | L12: 95 | O12: 95 | P12: 1500
B13: USA | C13: Local Market | D13: USD | E13: 0.07 | F13: MASCULIN | G13: EDT | H13: Chanel | I13: Bleu de Chanel EDT 50ml | J13: =VLOOKUP(I13,DB!I:J,2,0) -> 0.5 | K13: 50 | L13: 75 | O13: 75 | P13: 1500
B14: USA | C14: Local Market | D14: USD | E14: 0.07 | F14: MASCULIN | G14: EDT | H14: Chanel | I14: Allure EDT 100ml | J14: =VLOOKUP(I14,DB!I:J,2,0) -> 1 | K14: 100 | L14: 102 | O14: 102 | P14: 1500
B15: USA | C15: Local Market | D15: USD | E15: 0.07 | F15: MASCULIN | G15: EDT | H15: Dior | I15: Dior Homme EDT 100ml | J15: =VLOOKUP(I15,DB!I:J,2,0) -> 1 | K15: 100 | L15: 95 | O15: 95 | P15: =+P14+170 -> 1670
B16: USA | C16: Local Market | D16: USD | E16: 0.07 | F16: MASCULIN | G16: EDT | H16: Dior | I16: Dior Sauvage EDT 100ml | J16: =VLOOKUP(I16,DB!I:J,2,0) -> 1 | K16: 100 | L16: 95 | O16: 95 | P16: =+P15+170 -> 1840
B17: USA | C17: Local Market | D17: USD | E17: 0.07 | F17: MASCULIN | G17: EDT | H17: Dior | I17: Dior Sauvage EDT 60ML | J17: =VLOOKUP(I17,DB!I:J,2,0) -> 0.75 | K17: 60 | L17: 77 | O17: 77 | P17: =+P16+170 -> 2010
A18: 23659 | B18: USA | C18: Local Market | D18: USD | E18: 0.07 | F18: MASCULIN | G18: EDT | H18: HERMES | I18: TDH EDT VAP 200ML | J18: =VLOOKUP(I18,DB!I:J,2,0) -> 2 | K18: 200 | L18: 165 | O18: 165 | P18: =+P17+170 -> 2180
A19: 20872 | B19: USA | C19: Local Market | D19: USD | E19: 0.07 | F19: MASCULIN | G19: EDT | H19: HERMES | I19: TDH EDT VAP 100ML | J19: =VLOOKUP(I19,DB!I:J,2,0) -> 1 | K19: 100 | L19: 120 | O19: 120 | P19: =+P18+170 -> 2350
A20: 20873 | B20: USA | C20: Local Market | D20: USD | E20: 0.07 | F20: MASCULIN | G20: EDT | H20: HERMES | I20: TDH EDT VAP 50ML | J20: =VLOOKUP(I20,DB!I:J,2,0) -> 0.5 | K20: 50 | L20: 86 | O20: 86 | P20: =+P19+170 -> 2520
A21: 34656 | B21: USA | C21: Local Market | D21: USD | E21: 0.07 | F21: MASCULIN | G21: EDT | H21: HERMES | I21: TDH ETF VAP 75ML | J21: =VLOOKUP(I21,DB!I:J,2,0) -> 0.75 | K21: 75 | L21: 90 | O21: 90 | P21: =+P20+170 -> 2690
A22: 26085 | B22: USA | C22: Local Market | D22: USD | E22: 0.07 | F22: MASCULIN | G22: EDP | H22: HERMES | I22: TDH PP VAP 200ML | J22: =VLOOKUP(I22,DB!I:J,2,0) -> 2 | K22: 200 | L22: 220 | O22: 220 | P22: =+P21+170 -> 2860
A23: 24578 | B23: USA | C23: Local Market | D23: USD | E23: 0.07 | F23: MASCULIN | G23: EDP | H23: HERMES | I23: TDH PP VAP 75ML | J23: =VLOOKUP(I23,DB!I:J,2,0) -> 0.75 | K23: 75 | L23: 135 | O23: 135 | P23: =+P22+170 -> 3030
A24: 38302 | B24: USA | C24: Local Market | D24: USD | E24: 0.07 | F24: MASCULIN | G24: EDC | H24: HERMES | I24: EOV EDC VAP 100ML | J24: =VLOOKUP(I24,DB!I:J,2,0) -> 1 | K24: 100 | L24: 130 | O24: 130 | P24: =+P23+170 -> 3200
A25: 37065 | B25: USA | C25: Local Market | D25: USD | E25: 0.07 | F25: MASCULIN | G25: EDC | H25: HERMES | I25: ERE EDC VAP 100ML | J25: =VLOOKUP(I25,DB!I:J,2,0) -> 1 | K25: 100 | L25: 130 | O25: 130 | P25: =+P24+170 -> 3370
A26: 26214 | B26: USA | C26: Local Market | D26: USD | E26: 0.07 | F26: MASCULIN | G26: EDT | H26: HERMES | I26: VDH EDT VAP-R 100ML | J26: =VLOOKUP(I26,DB!I:J,2,0) -> 1 | K26: 100 | L26: 140 | O26: 140 | P26: =+P25+170 -> 3540
A27: 28765 | B27: USA | C27: Local Market | D27: USD | E27: 0.07 | F27: MASCULIN | G27: EDP | H27: HERMES | I27: VDH PP VAP-R 100ML | J27: =VLOOKUP(I27,DB!I:J,2,0) -> 1 | K27: 100 | L27: 150 | O27: 150 | P27: =+P26+170 -> 3710
B28: USA | C28: Local Market | D28: USD | E28: 0.07 | F28: MASCULIN | G28: EDC | H28: Jo Malone | I28: EDC 100ml | J28: =VLOOKUP(I28,DB!I:J,2,0) -> 1 | K28: 100 | L28: 136 | O28: 136 | P28: =+P27+170 -> 3880
B29: USA | C29: Local Market | D29: USD | E29: 0.07 | F29: MASCULIN | G29: EDP | H29: Tom Ford | I29: Neroli Portofino EDP 100ml | J29: =VLOOKUP(I29,DB!I:J,2,0) -> 1 | K29: 100 | L29: 320 | O29: 320 | P29: =+P28+170 -> 4050
B30: USA | C30: Local Market | D30: USD | E30: 0.07 | F30: MASCULIN | G30: EDP | H30: Tom Ford | I30: Noir 100ml | J30: =VLOOKUP(I30,DB!I:J,2,0) -> 1 | K30: 100 | L30: 166 | O30: 166 | P30: =+P29+170 -> 4220

Sheet USA H
A1: HERMES SKU | B1: COUNTRY | C1: CHANNEL | D1: CURRENCY | E1: VAT | F1: FEMININ/MASCULIN | G1: CONCENTRATION | H1: Brand | I1: Product | J1: DOT SIZE | K1: Size (ml) | L1: 2018 July | M1: 2017 July | N1: 2016 July | O1: Diff2018 vs 2017 | Q1: 200
B2: USA | C2: Local Market | D2: USD | E2: 0.07 | F2: MASCULIN | G2: EDP | H2: Armani | I2: Acqua Di Gio EDP 125ml | J2: 2500 | K2: 125 | L2: 130 | O2: 130 | P2: 2 | Q2: =P2*2 -> 4 | S2: =J2/2 -> 1250 | T2: =J2*J2 -> 6250000
B3: USA | C3: Local Market | D3: USD | E3: 0.07 | F3: MASCULIN | G3: EDT | H3: Armani | I3: Acqua Di Gio EDT 100ml | J3: 2500 | K3: 100 | L3: 85 | O3: 85 | P3: 402 | Q3: =P3*2 -> 804 | S3: =J3/2 -> 1250 | T3: =J3*J3 -> 6250000
B4: USA | C4: Local Market | D4: USD | E4: 0.07 | F4: MASCULIN | G4: EDT | H4: Armani | I4: Acqua Di Gio EDT 50ml | J4: 625 | K4: 50 | L4: 68 | O4: 68 | P4: 402 | Q4: =P4*2 -> 804 | S4: =J4/2 -> 312.5 | T4: =J4*J4 -> 390625
B5: USA | C5: Local Market | D5: USD | E5: 0.07 | F5: MASCULIN | G5: EDT | H5: Bvlgari | I5: MAN EDT 100ml | J5: 2500 | K5: 100 | L5: 92 | O5: 92 | P5: 802 | Q5: =P5*2 -> 1604 | S5: =J5/2 -> 1250 | T5: =J5*J5 -> 6250000
B6: USA | C6: Local Market | D6: USD | E6: 0.07 | F6: MASCULIN | G6: EDT | H6: Bvlgari | I6: Aqva pour Homme EDT 100ml | J6: 2500 | K6: 100 | L6: 91 | O6: 91 | P6: 802 | Q6: =P6*2 -> 1604 | S6: =J6/2 -> 1250 | T6: =J6*J6 -> 6250000
B7: USA | C7: Local Market | D7: USD | E7: 0.07 | F7: MASCULIN | G7: EDT | H7: Cartier | I7: Declaration D´un Soir 100 ml | J7: 2500 | K7: 100 | L7: 108 | O7: 108 | P7: 1202 | Q7: =P7*2 -> 2404 | S7: =J7/2 -> 1250 | T7: =J7*J7 -> 6250000
B8: USA | C8: Local Market | D8: USD | E8: 0.07 | F8: MASCULIN | G8: EDT | H8: Cartier | I8: Declaration EDT 100 ml | J8: 2500 | K8: 100 | L8: 108 | O8: 108 | P8: 1202 | Q8: =P8*2 -> 2404 | S8: =J8/2 -> 1250 | T8: =J8*J8 -> 6250000
B9: USA | C9: Local Market | D9: USD | E9: 0.07 | F9: MASCULIN | G9: EDP | H9: Chanel | I9: Bleu de Chanel EDP 150ml | J9: 5625 | K9: 150 | L9: 155 | O9: 155 | P9: 1602 | Q9: =P9*2 -> 3204 | S9: =J9/2 -> 2812.5 | T9: =J9*J9 -> 31640625
B10: USA | C10: Local Market | D10: USD | E10: 0.07 | F10: MASCULIN | G10: EDP | H10: Chanel | I10: Bleu de Chanel EDP 100ml | J10: 2500 | K10: 100 | L10: 120 | O10: 120 | P10: 1602 | Q10: =P10*2 -> 3204 | S10: =J10/2 -> 1250 | T10: =J10*J10 -> 6250000
B11: USA | C11: Local Market | D11: USD | E11: 0.07 | F11: MASCULIN | G11: EDT | H11: Chanel | I11: Allure EDT 100ml | J11: 2500 | K11: 100 | L11: 102 | O11: 102 | P11: 2002 | Q11: =P11*2 -> 4004 | S11: =J11/2 -> 1250 | T11: =J11*J11 -> 6250000
B12: USA | C12: Local Market | D12: USD | E12: 0.07 | F12: MASCULIN | G12: EDP | H12: Chanel | I12: Bleu de Chanel EDP 50ml | J12: 625 | K12: 50 | L12: 95 | O12: 95 | P12: 1602 | Q12: =P12*2 -> 3204 | S12: =J12/2 -> 312.5 | T12: =J12*J12 -> 390625
B13: USA | C13: Local Market | D13: USD | E13: 0.07 | F13: MASCULIN | G13: EDT | H13: Chanel | I13: Bleu de Chanel EDT 100ml | J13: 2500 | K13: 100 | L13: 95 | O13: 95 | P13: 2002 | Q13: =P13*2 -> 4004 | S13: =J13/2 -> 1250 | T13: =J13*J13 -> 6250000
... B17: USA | C17: Local Market | D17: USD | E17: 0.07 | F17: MASCULIN | G17: EDT | H17: Dior | I17: Dior Sauvage EDT 60ML | J17: 1406.25 | K17: 60 | L17: 77 | O17: 77 | P17: 2402 | Q17: =P17*2 -> 4804 | S17: =J17/2 -> 703.125 | T17: =J17*J17 -> 1977539.1
A18: 26085 | B18: USA | C18: Local Market | D18: USD | E18: 0.07 | F18: MASCULIN | G18: EDP | H18: HERMES | I18: TDH PP VAP 200ML | J18: 10000 | K18: 200 | L18: 220 | O18: 220 | P18: 2802 | Q18: =P18*2 -> 5604 | S18: =J18/2 -> 5000 | T18: =J18*J18 -> 100000000
A19: 23659 | B19: USA | C19: Local Market | D19: USD | E19: 0.07 | F19: MASCULIN | G19: EDT | H19: HERMES | I19: TDH EDT VAP 200ML | J19: 10000 | K19: 200 | L19: 165 | O19: 165 | P19: 3202 | Q19: =P19*2 -> 6404 | S19: =J19/2 -> 5000 | T19: =J19*J19 -> 100000000
A20: 28765 | B20: USA | C20: Local Market | D20: USD | E20: 0.07 | F20: MASCULIN | G20: EDP | H20: HERMES | I20: VDH PP VAP-R 100ML | J20: 2500 | K20: 100 | L20: 150 | O20: 150 | P20: 2802 | Q20: =P20*2 -> 5604 | S20: =J20/2 -> 1250 | T20: =J20*J20 -> 6250000
A21: 26214 | B21: USA | C21: Local Market | D21: USD | E21: 0.07 | F21: MASCULIN | G21: EDT | H21: HERMES | I21: VDH EDT VAP-R 100ML | J21: 2500 | K21: 100 | L21: 140 | O21: 140 | P21: 3202 | Q21: =P21*2 -> 6404 | S21: =J21/2 -> 1250 | T21: =J21*J21 -> 6250000
A22: 24578 | B22: USA | C22: Local Market | D22: USD | E22: 0.07 | F22: MASCULIN | G22: EDP | H22: HERMES | I22: TDH PP VAP 75ML | J22: 1406.25 | K22: 75 | L22: 135 | O22: 135 | P22: 2802 | Q22: =P22*2 -> 5604 | S22: =J22/2 -> 703.125 | T22: =J22*J22 -> 1977539.1
A23: 38302 | B23: USA | C23: Local Market | D23: USD | E23: 0.07 | F23: MASCULIN | G23: EDC | H23: HERMES | I23: EOV EDC VAP 100ML | J23: 2500 | K23: 100 | L23: 130 | O23: 130 | P23: 3602 | Q23: =P23*2 -> 7204 | S23: =J23/2 -> 1250 | T23: =J23*J23 -> 6250000
A24: 37065 | B24: USA | C24: Local Market | D24: USD | E24: 0.07 | F24: MASCULIN | G24: EDC | H24: HERMES | I24: ERE EDC VAP 100ML | J24: 2500 | K24: 100 | L24: 130 | O24: 130 | P24: 3602 | Q24: =P24*2 -> 7204 | S24: =J24/2 -> 1250 | T24: =J24*J24 -> 6250000
A25: 20872 | B25: USA | C25: Local Market | D25: USD | E25: 0.07 | F25: MASCULIN | G25: EDT | H25: HERMES | I25: TDH EDT VAP 100ML | J25: 2500 | K25: 100 | L25: 120 | O25: 120 | P25: 3202 | Q25: =P25*2 -> 6404 | S25: =J25/2 -> 1250 | T25: =J25*J25 -> 6250000
A26: 34656 | B26: USA | C26: Local Market | D26: USD | E26: 0.07 | F26: MASCULIN | G26: EDT | H26: HERMES | I26: TDH ETF VAP 75ML | J26: 1406.25 | K26: 75 | L26: 90 | O26: 90 | P26: 3202 | Q26: =P26*2 -> 6404 | S26: =J26/2 -> 703.125 | T26: =J26*J26 -> 1977539.1
A27: 20873 | B27: USA | C27: Local Market | D27: USD | E27: 0.07 | F27: MASCULIN | G27: EDT | H27: HERMES | I27: TDH EDT VAP 50ML | J27: 625 | K27: 50 | L27: 86 | O27: 86 | P27: 3202 | Q27: =P27*2 -> 6404 | S27: =J27/2 -> 312.5 | T27: =J27*J27 -> 390625
B28: USA | C28: Local Market | D28: USD | E28: 0.07 | F28: MASCULIN | G28: EDC | H28: Jo Malone | I28: EDC 100ml | J28: 2500 | K28: 100 | L28: 136 | O28: 136 | P28: 4002 | Q28: =P28*2 -> 8004 | S28: =J28/2 -> 1250 | T28: =J28*J28 -> 6250000
B29: USA | C29: Local Market | D29: USD | E29: 0.07 | F29: MASCULIN | G29: EDP | H29: Tom Ford | I29: Neroli Portofino EDP 100ml | J29: 2500 | K29: 100 | L29: 320 | O29: 320 | P29: 4402 | Q29: =P29*2 -> 8804 | S29: =J29/2 -> 1250 | T29: =J29*J29 -> 6250000
B30: USA | C30: Local Market | D30: USD | E30: 0.07 | F30: MASCULIN | G30: EDP | H30: Tom Ford | I30: Noir 100ml | J30: 2500 | K30: 100 | L30: 166 | O30: 166 | P30: 4402 | Q30: =P30*2 -> 8804 | S30: =J30/2 -> 1250 | T30: =J30*J30 -> 6250000

Sheet USA F
A1: HERMES SKU | B1: COUNTRY | C1: CHANNEL | D1: CURRENCY | E1: VAT | F1: FEMININ/MASCULIN | G1: CONCENTRATION | H1: Brand | I1: Product | J1: DOT SIZE | K1: Size (ml) | L1: 2018 July | M1: 2017 July | N1: 2016 July | O1: Diff2018 vs 2017
B2: USA | C2: Local Market | D2: USD | E2: 0.07 | F2: FEMININ | G2: EDP | H2: Armani | I2: Si EDP 100ml | J2: 1 | K2: 100 | L2: 120 | O2: 120
B3: USA | C3: Local Market | D3: USD | E3: 0.07 | F3: FEMININ | G3: EDP | H3: Armani | I3: Si EDP 50ml | J3: 0.5 | K3: 50 | L3: 92 | O3: 92
B4: USA | C4: Local Market | D4: USD | E4: 0.07 | F4: FEMININ | G4: EDP | H4: Armani | I4: Si EDP 30ml | J4: 0.5 | K4: 30 | L4: 72 | O4: 72
B5: USA | C5: Local Market | D5: USD | E5: 0.07 | F5: FEMININ | G5: EDT | H5: Armani | I5: Si EDT 100ml | J5: 1 | K5: 100 | L5: 93 | O5: 93
B6: USA | C6: Local Market | D6: USD | E6: 0.07 | F6: MASCULIN | G6: EDP | H6: Armani | I6: Acqua Di Gio EDP 125ml | J6: 1.25 | K6: 125 | L6: 130 | O6: 130
B7: USA | C7: Local Market | D7: USD | E7: 0.07 | F7: MASCULIN | G7: EDT | H7: Armani | I7: Acqua Di Gio EDT 50ml | J7: 0.5 | K7: 50 | L7: 68 | O7: 68
B8: USA | C8: Local Market | D8: USD | E8: 0.07 | F8: MASCULIN | G8: EDT | H8: Armani | I8: Acqua Di Gio EDT 100ml | J8: 1 | K8: 100 | L8: 85 | O8: 85
B9: USA | C9: Local Market | D9: USD | E9: 0.07 | F9: FEMININ | G9: EDP | H9: Bvlgari | I9: Eau parfumee 150ml | J9: 1.5 | K9: 150 | L9: 97 | O9: 97
B10: USA | C10: Local Market | D10: USD | E10: 0.07 | F10: FEMININ | G10: EDT | H10: Bvlgari | I10: Omnia Crystalline EDT 65 ml | J10: 0.75 | K10: 65 | L10: 84 | O10: 84
B11: USA | C11: Local Market | D11: USD | E11: 0.07 | F11: MASCULIN | G11: EDT | H11: Bvlgari | I11: Aqva pour Homme EDT 100ml | J11: 1 | K11: 100 | L11: 91 | O11: 91
B12: USA | C12: Local Market | D12: USD | E12: 0.07 | F12: MASCULIN | G12: EDT | H12: Bvlgari | I12: MAN EDT 100ml | J12: 1 | K12: 100 | L12: 92 | O12: 92
B13: USA | C13: Local Market | D13: USD | E13: 0.07 | F13: FEMININ | G13: EDP | H13: Cartier | I13: Baiser vole EDP100ml | J13: 1 | K13: 100 | L13: 150 | O13: 150
... B38: USA | C38: Local Market | D38: USD | E38: 0.07 | F38: MASCULIN | G38: EDT | H38: Dior | I38: Dior Sauvage EDT 60ML | J38: 0.75 | K38: 60 | L38: 77 | O38: 77
A39: 36988 | B39: USA | C39: Local Market | D39: USD | E39: 0.07 | F39: FEMININ | G39: EDP | H39: HERMES | I39: TWI EDP VAP 85ML | J39: 0.75 | K39: 85 | L39: 130 | O39: 130
A40: 36987 | B40: USA | C40: Local Market | D40: USD | E40: 0.07 | F40: FEMININ | G40: EDP | H40: HERMES | I40: TWI EDP VAP 50ML | J40: 0.5 | K40: 50 | L40: 100 | O40: 100
A41: 36986 | B41: USA | C41: Local Market | D41: USD | E41: 0.07 | F41: FEMININ | G41: EDP | H41: HERMES | I41: TWI EDP VAP 30ML | J41: 0.5 | K41: 30 | L41: 79 | O41: 79
A42: 20396 | B42: USA | C42: Local Market | D42: USD | E42: 0.07 | F42: FEMININ | G42: EDT | H42: HERMES | I42: JSN EDT VAP 100ML | J42: 1 | K42: 100 | L42: 138 | O42: 138
A43: 20397 | B43: USA | C43: Local Market | D43: USD | E43: 0.07 | F43: FEMININ | G43: EDT | H43: HERMES | I43: JSN EDT VAP 50ML | J43: 0.5 | K43: 50 | L43: 100 | O43: 100
A44: 20048/1 | B44: USA | C44: Local Market | D44: USD | E44: 0.07 | F44: FEMININ | G44: EDT | H44: HERMES | I44: EDM EDT VAP 100ML | J44: 1 | K44: 100 | L44: 148 | O44: 148
A45: 20049/1 | B45: USA | C45: Local Market | D45: USD | E45: 0.07 | F45: FEMININ | G45: EDT | H45: HERMES | I45: EDM EDT VAP 50ML | J45: 0.5 | K45: 50 | L45: 110 | O45: 110
A46: 23659 | B46: USA | C46: Local Market | D46: USD | E46: 0.07 | F46: MASCULIN | G46: EDT | H46: HERMES | I46: TDH EDT VAP 200ML | J46: 2 | K46: 200 | L46: 165 | O46: 165
A47: 20872 | B47: USA | C47: Local Market | D47: USD | E47: 0.07 | F47: MASCULIN | G47: EDT | H47: HERMES | I47: TDH EDT VAP 100ML | J47: 1 | K47: 100 | L47: 120 | O47: 120
A48: 20873 | B48: USA | C48: Local Market | D48: USD | E48: 0.07 | F48: MASCULIN | G48: EDT | H48: HERMES | I48: TDH EDT VAP 50ML | J48: 0.5 | K48: 50 | L48: 86 | O48: 86
A49: 34656 | B49: USA | C49: Local Market | D49: USD | E49: 0.07 | F49: MASCULIN | G49: EDT | H49: HERMES | I49: TDH ETF VAP 75ML | J49: 0.75 | K49: 75 | L49: 90 | O49: 90
A50: 26085 | B50: USA | C50: Local Market | D50: USD | E50: 0.07 | F50: MASCULIN | G50: EDP | H50: HERMES | I50: TDH PP VAP 200ML | J50: 2 | K50: 200 | L50: 220 | O50: 220
A51: 24578 | B51: USA | C51: Local Market | D51: USD | E51: 0.07 | F51: MASCULIN | G51: EDP | H51: HERMES | I51: TDH PP VAP 75ML | J51: 0.75 | K51: 75 | L51: 135 | O51: 135
A52: 38302 | B52: USA | C52: Local Market | D52: USD | E52: 0.07 | F52: MASCULIN | G52: EDC | H52: HERMES | I52: EOV EDC VAP 100ML | J52: 1 | K52: 100 | L52: 130 | O52: 130
A53: 37065 | B53: USA | C53: Local Market | D53: USD | E53: 0.07 | F53: MASCULIN | G53: EDC | H53: HERMES | I53: ERE EDC VAP 100ML | J53: 1 | K53: 100 | L53: 130 | O53: 130
A54: 26214 | B54: USA | C54: Local Market | D54: USD | E54: 0.07 | F54: MASCULIN | G54: EDT | H54: HERMES | I54: VDH EDT VAP-R 100ML | J54: 1 | K54: 100 | L54: 140 | O54: 140
A55: 28765 | B55: USA | C55: Local Market | D55: USD | E55: 0.07 | F55: MASCULIN | G55: EDP | H55: HERMES | I55: VDH PP VAP-R 100ML | J55: 1 | K55: 100 | L55: 150 | O55: 150
B56: USA | C56: Local Market | D56: USD | E56: 0.07 | F56: MASCULIN | G56: EDC | H56: Jo Malone | I56: EDC 100ml | J56: 1 | K56: 100 | L56: 136 | O56: 136
B57: USA | C57: Local Market | D57: USD | E57: 0.07 | F57: FEMININ | G57: EDP | H57: Lancome | I57: La Vie est Belle EDP 100ml | J57: 1 | K57: 100 | L57: 126 | O57: 126
B58: USA | C58: Local Market | D58: USD | E58: 0.07 | F58: FEMININ | G58: EDT | H58: Lancome | I58: La Vie est Belle EDP 50ml | J58: 0.5 | K58: 50 | L58: 94 | O58: 94
B59: USA | C59: Local Market | D59: USD | E59: 0.07 | F59: FEMININ | G59: EDP | H59: Prada | I59: Candy EDP 80ml | J59: 0.75 | K59: 80 | L59: 122 | O59: 122
B60: USA | C60: Local Market | D60: USD | E60: 0.07 | F60: FEMININ | G60: EDP | H60: Prada | I60: Candy EDP 50ml | J60: 0.5 | K60: 50 | L60: 92 | O60: 92
B61: USA | C61: Local Market | D61: USD | E61: 0.07 | F61: MASCULIN | G61: EDP | H61: Tom Ford | I61: Neroli Portofino EDP 100ml | J61: 1 | K61: 100 | L61: 320 | O61: 320
B62: USA | C62: Local Market | D62: USD | E62: 0.07 | F62: MASCULIN | G62: EDP | H62: Tom Ford | I62: Noir 100ml | J62: 1 | K62: 100 | L62: 166 | O62: 166

Sheet LIST
A1: Local Market
A2: Travel Retail | D2: COUNTRY | F2: FEMININ
D3: Argentina | F3: MASCULIN
D4: BRAZIL
A5: WITH VAT | D5: COLOMBIA
A6: WITHOUT VAT | D6: COSTA RICA
D7: GUATEMALA
D8: México
D9: PANAMA
D10: PERU
D11: Uruguay
D12: USA

Sheet DB
H1: BENCHMARK - PRICE ANALYSIS
H3: COUNTRY
H4: CHANNEL LM OR TR
H5: CURRENCY
H6: VAT (%)
H7: RETAIL PRICE INCLUDING VAT?
L9: RETAIL PRICE
A11: HERMES SKU | B11: COUNTRY | C11: CHANNEL | D11: CURRENCY | E11: VAT | F11: FEMININ/MASCULIN | G11: CONCENTRATION | H11: Brand | I11: Product | J11: DOT SIZE | K11: Size (ml) | L11: 2018 July | M11: 2017 July | N11: 2016 July | O11: Diff2018 vs 2017 | P11: HERMES | Q11: Armani | R11: Bvlgari | S11: Cartier | T11: Chanel | U11: Dior | V11: Jo Malone | W11: Lancome | X11: Prada | Y11: Tom Ford | Z11: Guerlain | AA11: Carolina Herrera | AB11: Loewe | AC11: Givenchy
A12: 23659 | B12: Argentina | C12: Local Market | D12: ARS | E12: 0.21 | F12: MASCULIN | G12: EDT | H12: HERMES | I12: TDH EDT VAP 200ML | J12: 2 | K12: 200 | L12: 5400 | O12: 1800 | P12: =IF(AND($H12=P$11,$F12=Graphique!$A$2,$B12=Graphique!$A$1),MAX(P$11:P11)+1,"") | Q12: =IF(AND($H12=Q$11,$F12=Graphique!$A$2,$B12=Graphique!$A$1),MAX(Q$11:Q11)+1,"") | R12: =IF(AND($H12=R$11,$F12=Graphique!$A$2,$B12=Graphique!$A$1),MAX(R$11:R11)+1,"") | S12: =IF(AND($H12=S$11,$F12=Graphique!$A$2,$B12=Graphique!$A$1),MAX(S$11:S11)+1,"") | T12: =IF(AND($H12=T$11,$F12=Graphique!$A$2,$B12=Graphique!$A$1),MAX(T$11:T11)+1,"") | U12: =IF(AND($H12=U$11,$F12=Graphique!$A$2,$B12=Graphique!$A$1),MAX(U$11:U11)+1,"") | V12: =IF(AND($H12=V$11,$F12=Graphique!$A$2,$B12=Graphique!$A$1),MAX(V$11:V11)+1,"") | W12: =IF(AND($H12=W$11,$F12=Graphique!$A$2,$B12=Graphique!$A$1),MAX(W$11:W11)+1,"") | ... AC12: =IF(AND($H12=AC$11,$F12=Graphique!$A$2,$B12=Graphique!$A$1),MAX(AC$11:AC11)+1,"")
A13: 20872 | B13: Argentina | C13: Local Market | D13: ARS | E13: 0.21 | F13: MASCULIN | G13: EDT | H13: HERMES | I13: TDH EDT VAP 100ML | J13: 1 | K13: 100 | L13: 3500 | O13: 1000 | P13: =IF(AND($H13=P$11,$F13=Graphique!$A$2,$B13=Graphique!$A$1),MAX(P$11:P12)+1,"") | Q13: =IF(AND($H13=Q$11,$F13=Graphique!$A$2,$B13=Graphique!$A$1),MAX(Q$11:Q12)+1,"") | R13: =IF(AND($H13=R$11,$F13=Graphique!$A$2,$B13=Graphique!$A$1),MAX(R$11:R12)+1,"") | S13: =IF(AND($H13=S$11,$F13=Graphique!$A$2,$B13=Graphique!$A$1),MAX(S$11:S12)+1,"") | T13: =IF(AND($H13=T$11,$F13=Graphique!$A$2,$B13=Graphique!$A$1),MAX(T$11:T12)+1,"") | U13: =IF(AND($H13=U$11,$F13=Graphique!$A$2,$B13=Graphique!$A$1),MAX(U$11:U12)+1,"") | V13: =IF(AND($H13=V$11,$F13=Graphique!$A$2,$B13=Graphique!$A$1),MAX(V$11:V12)+1,"") | W13: =IF(AND($H13=W$11,$F13=Graphique!$A$2,$B13=Graphique!$A$1),MAX(W$11:W12)+1,"") | ... AC13: =IF(AND($H13=AC$11,$F13=Graphique!$A$2,$B13=Graphique!$A$1),MAX(AC$11:AC12)+1,"")
A14: 20873 | B14: Argentina | C14: Local Market | D14: ARS | E14: 0.21 | F14: MASCULIN | G14: EDT | H14: HERMES | I14: TDH EDT VAP 50ML | J14: 0.5 | K14: 50 | L14: 2500 | O14: 700 | P14: =IF(AND($H14=P$11,$F14=Graphique!$A$2,$B14=Graphique!$A$1),MAX(P$11:P13)+1,"") | Q14: =IF(AND($H14=Q$11,$F14=Graphique!$A$2,$B14=Graphique!$A$1),MAX(Q$11:Q13)+1,"") | R14: =IF(AND($H14=R$11,$F14=Graphique!$A$2,$B14=Graphique!$A$1),MAX(R$11:R13)+1,"") | S14: =IF(AND($H14=S$11,$F14=Graphique!$A$2,$B14=Graphique!$A$1),MAX(S$11:S13)+1,"") | T14: =IF(AND($H14=T$11,$F14=Graphique!$A$2,$B14=Graphique!$A$1),MAX(T$11:T13)+1,"") | U14: =IF(AND($H14=U$11,$F14=Graphique!$A$2,$B14=Graphique!$A$1),MAX(U$11:U13)+1,"") | V14: =IF(AND($H14=V$11,$F14=Graphique!$A$2,$B14=Graphique!$A$1),MAX(V$11:V13)+1,"") | W14: =IF(AND($H14=W$11,$F14=Graphique!$A$2,$B14=Graphique!$A$1),MAX(W$11:W13)+1,"") | ... AC14: =IF(AND($H14=AC$11,$F14=Graphique!$A$2,$B14=Graphique!$A$1),MAX(AC$11:AC13)+1,"")
A15: 34656 | B15: Argentina | C15: Local Market | D15: ARS | E15: 0.21 | F15: MASCULIN | G15: EDT | H15: HERMES | I15: TDH ETF VAP 75ML | J15: 0.75 | K15: 75 | L15: 2850 | O15: 850 | P15: =IF(AND($H15=P$11,$F15=Graphique!$A$2,$B15=Graphique!$A$1),MAX(P$11:P14)+1,"") | Q15: =IF(AND($H15=Q$11,$F15=Graphique!$A$2,$B15=Graphique!$A$1),MAX(Q$11:Q14)+1,"") | R15: =IF(AND($H15=R$11,$F15=Graphique!$A$2,$B15=Graphique!$A$1),MAX(R$11:R14)+1,"") | S15: =IF(AND($H15=S$11,$F15=Graphique!$A$2,$B15=Graphique!$A$1),MAX(S$11:S14)+1,"") | T15: =IF(AND($H15=T$11,$F15=Graphique!$A$2,$B15=Graphique!$A$1),MAX(T$11:T14)+1,"") | U15: =IF(AND($H15=U$11,$F15=Graphique!$A$2,$B15=Graphique!$A$1),MAX(U$11:U14)+1,"") | V15: =IF(AND($H15=V$11,$F15=Graphique!$A$2,$B15=Graphique!$A$1),MAX(V$11:V14)+1,"") | W15: =IF(AND($H15=W$11,$F15=Graphique!$A$2,$B15=Graphique!$A$1),MAX(W$11:W14)+1,"") | ... AC15: =IF(AND($H15=AC$11,$F15=Graphique!$A$2,$B15=Graphique!$A$1),MAX(AC$11:AC14)+1,"")
A16: 26085 | B16: Argentina | C16: Local Market | D16: ARS | E16: 0.21 | F16: MASCULIN | G16: EDP | H16: HERMES | I16: TDH PP VAP 200ML | J16: 2 | K16: 200 | L16: 6440 | O16: 6440 | P16: =IF(AND($H16=P$11,$F16=Graphique!$A$2,$B16=Graphique!$A$1),MAX(P$11:P15)+1,"") | Q16: =IF(AND($H16=Q$11,$F16=Graphique!$A$2,$B16=Graphique!$A$1),MAX(Q$11:Q15)+1,"") | R16: =IF(AND($H16=R$11,$F16=Graphique!$A$2,$B16=Graphique!$A$1),MAX(R$11:R15)+1,"") | S16: =IF(AND($H16=S$11,$F16=Graphique!$A$2,$B16=Graphique!$A$1),MAX(S$11:S15)+1,"") | T16: =IF(AND($H16=T$11,$F16=Graphique!$A$2,$B16=Graphique!$A$1),MAX(T$11:T15)+1,"") | U16: =IF(AND($H16=U$11,$F16=Graphique!$A$2,$B16=Graphique!$A$1),MAX(U$11:U15)+1,"") | V16: =IF(AND($H16=V$11,$F16=Graphique!$A$2,$B16=Graphique!$A$1),MAX(V$11:V15)+1,"") | W16: =IF(AND($H16=W$11,$F16=Graphique!$A$2,$B16=Graphique!$A$1),MAX(W$11:W15)+1,"") | ... AC16: =IF(AND($H16=AC$11,$F16=Graphique!$A$2,$B16=Graphique!$A$1),MAX(AC$11:AC15)+1,"")
A17: 24578 | B17: Argentina | C17: Local Market | D17: ARS | E17: 0.21 | F17: MASCULIN | G17: EDP | H17: HERMES | I17: TDH PP VAP 75ML | J17: 0.75 | K17: 75 | L17: 3940 | O17: 1440 | P17: =IF(AND($H17=P$11,$F17=Graphique!$A$2,$B17=Graphique!$A$1),MAX(P$11:P16)+1,"") | Q17: =IF(AND($H17=Q$11,$F17=Graphique!$A$2,$B17=Graphique!$A$1),MAX(Q$11:Q16)+1,"") | R17: =IF(AND($H17=R$11,$F17=Graphique!$A$2,$B17=Graphique!$A$1),MAX(R$11:R16)+1,"") | S17: =IF(AND($H17=S$11,$F17=Graphique!$A$2,$B17=Graphique!$A$1),MAX(S$11:S16)+1,"") | T17: =IF(AND($H17=T$11,$F17=Graphique!$A$2,$B17=Graphique!$A$1),MAX(T$11:T16)+1,"") | U17: =IF(AND($H17=U$11,$F17=Graphique!$A$2,$B17=Graphique!$A$1),MAX(U$11:U16)+1,"") | V17: =IF(AND($H17=V$11,$F17=Graphique!$A$2,$B17=Graphique!$A$1),MAX(V$11:V16)+1,"") | W17: =IF(AND($H17=W$11,$F17=Graphique!$A$2,$B17=Graphique!$A$1),MAX(W$11:W16)+1,"") | ... AC17: =IF(AND($H17=AC$11,$F17=Graphique!$A$2,$B17=Graphique!$A$1),MAX(AC$11:AC16)+1,"")
A18: 36988 | B18: Argentina | C18: Local Market | D18: ARS | E18: 0.21 | F18: FEMININ | G18: EDP | H18: HERMES | I18: TWI EDP VAP 85ML | J18: 0.75 | K18: 85 | L18: 3790 | O18: 1040 | P18: =IF(AND($H18=P$11,$F18=Graphique!$A$2,$B18=Graphique!$A$1),MAX(P$11:P17)+1,"") | Q18: =IF(AND($H18=Q$11,$F18=Graphique!$A$2,$B18=Graphique!$A$1),MAX(Q$11:Q17)+1,"") | R18: =IF(AND($H18=R$11,$F18=Graphique!$A$2,$B18=Graphique!$A$1),MAX(R$11:R17)+1,"") | S18: =IF(AND($H18=S$11,$F18=Graphique!$A$2,$B18=Graphique!$A$1),MAX(S$11:S17)+1,"") | T18: =IF(AND($H18=T$11,$F18=Graphique!$A$2,$B18=Graphique!$A$1),MAX(T$11:T17)+1,"") | U18: =IF(AND($H18=U$11,$F18=Graphique!$A$2,$B18=Graphique!$A$1),MAX(U$11:U17)+1,"") | V18: =IF(AND($H18=V$11,$F18=Graphique!$A$2,$B18=Graphique!$A$1),MAX(V$11:V17)+1,"") | W18: =IF(AND($H18=W$11,$F18=Graphique!$A$2,$B18=Graphique!$A$1),MAX(W$11:W17)+1,"") | ... AC18: =IF(AND($H18=AC$11,$F18=Graphique!$A$2,$B18=Graphique!$A$1),MAX(AC$11:AC17)+1,"")
A19: 36987 | B19: Argentina | C19: Local Market | D19: ARS | E19: 0.21 | F19: FEMININ | G19: EDP | H19: HERMES | I19: TWI EDP VAP 50ML | J19: 0.5 | K19: 50 | L19: 2910 | O19: 810 | P19: =IF(AND($H19=P$11,$F19=Graphique!$A$2,$B19=Graphique!$A$1),MAX(P$11:P18)+1,"") | Q19: =IF(AND($H19=Q$11,$F19=Graphique!$A$2,$B19=Graphique!$A$1),MAX(Q$11:Q18)+1,"") | R19: =IF(AND($H19=R$11,$F19=Graphique!$A$2,$B19=Graphique!$A$1),MAX(R$11:R18)+1,"") | S19: =IF(AND($H19=S$11,$F19=Graphique!$A$2,$B19=Graphique!$A$1),MAX(S$11:S18)+1,"") | T19: =IF(AND($H19=T$11,$F19=Graphique!$A$2,$B19=Graphique!$A$1),MAX(T$11:T18)+1,"") | U19: =IF(AND($H19=U$11,$F19=Graphique!$A$2,$B19=Graphique!$A$1),MAX(U$11:U18)+1,"") | V19: =IF(AND($H19=V$11,$F19=Graphique!$A$2,$B19=Graphique!$A$1),MAX(V$11:V18)+1,"") | W19: =IF(AND($H19=W$11,$F19=Graphique!$A$2,$B19=Graphique!$A$1),MAX(W$11:W18)+1,"") | ... AC19: =IF(AND($H19=AC$11,$F19=Graphique!$A$2,$B19=Graphique!$A$1),MAX(AC$11:AC18)+1,"")
A20: 36986 | B20: Argentina | C20: Local Market | D20: ARS | E20: 0.21 | F20: FEMININ | G20: EDP | H20: HERMES | I20: TWI EDP VAP 30ML | J20: 0.5 | K20: 30 | L20: 2300 | O20: 630 | P20: =IF(AND($H20=P$11,$F20=Graphique!$A$2,$B20=Graphique!$A$1),MAX(P$11:P19)+1,"") | Q20: =IF(AND($H20=Q$11,$F20=Graphique!$A$2,$B20=Graphique!$A$1),MAX(Q$11:Q19)+1,"") | R20: =IF(AND($H20=R$11,$F20=Graphique!$A$2,$B20=Graphique!$A$1),MAX(R$11:R19)+1,"") | S20: =IF(AND($H20=S$11,$F20=Graphique!$A$2,$B20=Graphique!$A$1),MAX(S$11:S19)+1,"") | T20: =IF(AND($H20=T$11,$F20=Graphique!$A$2,$B20=Graphique!$A$1),MAX(T$11:T19)+1,"") | U20: =IF(AND($H20=U$11,$F20=Graphique!$A$2,$B20=Graphique!$A$1),MAX(U$11:U19)+1,"") | V20: =IF(AND($H20=V$11,$F20=Graphique!$A$2,$B20=Graphique!$A$1),MAX(V$11:V19)+1,"") | W20: =IF(AND($H20=W$11,$F20=Graphique!$A$2,$B20=Graphique!$A$1),MAX(W$11:W19)+1,"") | ... AC20: =IF(AND($H20=AC$11,$F20=Graphique!$A$2,$B20=Graphique!$A$1),MAX(AC$11:AC19)+1,"")
A21: 20396 | B21: Argentina | C21: Local Market | D21: ARS | E21: 0.21 | F21: FEMININ | G21: EDT | H21: HERMES | I21: JSN EDT VAP 100ML | J21: 1 | K21: 100 | L21: 4030 | O21: 1200 | P21: =IF(AND($H21=P$11,$F21=Graphique!$A$2,$B21=Graphique!$A$1),MAX(P$11:P20)+1,"") | Q21: =IF(AND($H21=Q$11,$F21=Graphique!$A$2,$B21=Graphique!$A$1),MAX(Q$11:Q20)+1,"") | R21: =IF(AND($H21=R$11,$F21=Graphique!$A$2,$B21=Graphique!$A$1),MAX(R$11:R20)+1,"") | S21: =IF(AND($H21=S$11,$F21=Graphique!$A$2,$B21=Graphique!$A$1),MAX(S$11:S20)+1,"") | T21: =IF(AND($H21=T$11,$F21=Graphique!$A$2,$B21=Graphique!$A$1),MAX(T$11:T20)+1,"") | U21: =IF(AND($H21=U$11,$F21=Graphique!$A$2,$B21=Graphique!$A$1),MAX(U$11:U20)+1,"") | V21: =IF(AND($H21=V$11,$F21=Graphique!$A$2,$B21=Graphique!$A$1),MAX(V$11:V20)+1,"") | W21: =IF(AND($H21=W$11,$F21=Graphique!$A$2,$B21=Graphique!$A$1),MAX(W$11:W20)+1,"") | ... AC21: =IF(AND($H21=AC$11,$F21=Graphique!$A$2,$B21=Graphique!$A$1),MAX(AC$11:AC20)+1,"")
A22: 20397 | B22: Argentina | C22: Local Market | D22: ARS | E22: 0.21 | F22: FEMININ | G22: EDT | H22: HERMES | I22: JSN EDT VAP 50ML | J22: 0.5 | K22: 50 | L22: 2910 | O22: 860 | P22: =IF(AND($H22=P$11,$F22=Graphique!$A$2,$B22=Graphique!$A$1),MAX(P$11:P21)+1,"") | Q22: =IF(AND($H22=Q$11,$F22=Graphique!$A$2,$B22=Graphique!$A$1),MAX(Q$11:Q21)+1,"") | R22: =IF(AND($H22=R$11,$F22=Graphique!$A$2,$B22=Graphique!$A$1),MAX(R$11:R21)+1,"") | S22: =IF(AND($H22=S$11,$F22=Graphique!$A$2,$B22=Graphique!$A$1),MAX(S$11:S21)+1,"") | T22: =IF(AND($H22=T$11,$F22=Graphique!$A$2,$B22=Graphique!$A$1),MAX(T$11:T21)+1,"") | U22: =IF(AND($H22=U$11,$F22=Graphique!$A$2,$B22=Graphique!$A$1),MAX(U$11:U21)+1,"") | V22: =IF(AND($H22=V$11,$F22=Graphique!$A$2,$B22=Graphique!$A$1),MAX(V$11:V21)+1,"") | W22: =IF(AND($H22=W$11,$F22=Graphique!$A$2,$B22=Graphique!$A$1),MAX(W$11:W21)+1,"") | ... AC22: =IF(AND($H22=AC$11,$F22=Graphique!$A$2,$B22=Graphique!$A$1),MAX(AC$11:AC21)+1,"")
A23: 38302 | B23: Argentina | C23: Local Market | D23: ARS | E23: 0.21 | F23: MASCULIN | G23: EDC | H23: HERMES | I23: EOV EDC VAP 100ML | J23: 1 | K23: 100 | L23: 2570 | O23: 540 | P23: =IF(AND($H23=P$11,$F23=Graphique!$A$2,$B23=Graphique!$A$1),MAX(P$11:P22)+1,"") | Q23: =IF(AND($H23=Q$11,$F23=Graphique!$A$2,$B23=Graphique!$A$1),MAX(Q$11:Q22)+1,"") | R23: =IF(AND($H23=R$11,$F23=Graphique!$A$2,$B23=Graphique!$A$1),MAX(R$11:R22)+1,"") | S23: =IF(AND($H23=S$11,$F23=Graphique!$A$2,$B23=Graphique!$A$1),MAX(S$11:S22)+1,"") | T23: =IF(AND($H23=T$11,$F23=Graphique!$A$2,$B23=Graphique!$A$1),MAX(T$11:T22)+1,"") | U23: =IF(AND($H23=U$11,$F23=Graphique!$A$2,$B23=Graphique!$A$1),MAX(U$11:U22)+1,"") | V23: =IF(AND($H23=V$11,$F23=Graphique!$A$2,$B23=Graphique!$A$1),MAX(V$11:V22)+1,"") | W23: =IF(AND($H23=W$11,$F23=Graphique!$A$2,$B23=Graphique!$A$1),MAX(W$11:W22)+1,"") | ... AC23: =IF(AND($H23=AC$11,$F23=Graphique!$A$2,$B23=Graphique!$A$1),MAX(AC$11:AC22)+1,"")
A24: 37065 | B24: Argentina | C24: Local Market | D24: ARS | E24: 0.21 | F24: MASCULIN | G24: EDC | H24: HERMES | I24: ERE EDC VAP 100ML | J24: 1 | K24: 100 | L24: 2910 | O24: 990 | P24: =IF(AND($H24=P$11,$F24=Graphique!$A$2,$B24=Graphique!$A$1),MAX(P$11:P23)+1,"") | Q24: =IF(AND($H24=Q$11,$F24=Graphique!$A$2,$B24=Graphique!$A$1),MAX(Q$11:Q23)+1,"") | R24: =IF(AND($H24=R$11,$F24=Graphique!$A$2,$B24=Graphique!$A$1),MAX(R$11:R23)+1,"") | S24: =IF(AND($H24=S$11,$F24=Graphique!$A$2,$B24=Graphique!$A$1),MAX(S$11:S23)+1,"") | T24: =IF(AND($H24=T$11,$F24=Graphique!$A$2,$B24=Graphique!$A$1),MAX(T$11:T23)+1,"") | U24: =IF(AND($H24=U$11,$F24=Graphique!$A$2,$B24=Graphique!$A$1),MAX(U$11:U23)+1,"") | V24: =IF(AND($H24=V$11,$F24=Graphique!$A$2,$B24=Graphique!$A$1),MAX(V$11:V23)+1,"") | W24: =IF(AND($H24=W$11,$F24=Graphique!$A$2,$B24=Graphique!$A$1),MAX(W$11:W23)+1,"") | ... AC24: =IF(AND($H24=AC$11,$F24=Graphique!$A$2,$B24=Graphique!$A$1),MAX(AC$11:AC23)+1,"")
A25: 20048/1 | B25: Argentina | C25: Local Market | D25: ARS | E25: 0.21 | F25: FEMININ | G25: EDT | H25: HERMES | I25: EDM EDT VAP 100ML | J25: 1 | K25: 100 | L25: 4320 | O25: 1300 | P25: =IF(AND($H25=P$11,$F25=Graphique!$A$2,$B25=Graphique!$A$1),MAX(P$11:P24)+1,"") | Q25: =IF(AND($H25=Q$11,$F25=Graphique!$A$2,$B25=Graphique!$A$1),MAX(Q$11:Q24)+1,"") | R25: =IF(AND($H25=R$11,$F25=Graphique!$A$2,$B25=Graphique!$A$1),MAX(R$11:R24)+1,"") | S25: =IF(AND($H25=S$11,$F25=Graphique!$A$2,$B25=Graphique!$A$1),MAX(S$11:S24)+1,"") | T25: =IF(AND($H25=T$11,$F25=Graphique!$A$2,$B25=Graphique!$A$1),MAX(T$11:T24)+1,"") | U25: =IF(AND($H25=U$11,$F25=Graphique!$A$2,$B25=Graphique!$A$1),MAX(U$11:U24)+1,"") | V25: =IF(AND($H25=V$11,$F25=Graphique!$A$2,$B25=Graphique!$A$1),MAX(V$11:V24)+1,"") | W25: =IF(AND($H25=W$11,$F25=Graphique!$A$2,$B25=Graphique!$A$1),MAX(W$11:W24)+1,"") | ... AC25: =IF(AND($H25=AC$11,$F25=Graphique!$A$2,$B25=Graphique!$A$1),MAX(AC$11:AC24)+1,"")
A26: 20049/1 | B26: Argentina | C26: Local Market | D26: ARS | E26: 0.21 | F26: FEMININ | G26: EDT | H26: HERMES | I26: EDM EDT VAP 50ML | J26: 0.5 | K26: 50 | L26: 3210 | O26: 980 | P26: =IF(AND($H26=P$11,$F26=Graphique!$A$2,$B26=Graphique!$A$1),MAX(P$11:P25)+1,"") | Q26: =IF(AND($H26=Q$11,$F26=Graphique!$A$2,$B26=Graphique!$A$1),MAX(Q$11:Q25)+1,"") | R26: =IF(AND($H26=R$11,$F26=Graphique!$A$2,$B26=Graphique!$A$1),MAX(R$11:R25)+1,"") | S26: =IF(AND($H26=S$11,$F26=Graphique!$A$2,$B26=Graphique!$A$1),MAX(S$11:S25)+1,"") | T26: =IF(AND($H26=T$11,$F26=Graphique!$A$2,$B26=Graphique!$A$1),MAX(T$11:T25)+1,"") | U26: =IF(AND($H26=U$11,$F26=Graphique!$A$2,$B26=Graphique!$A$1),MAX(U$11:U25)+1,"") | V26: =IF(AND($H26=V$11,$F26=Graphique!$A$2,$B26=Graphique!$A$1),MAX(V$11:V25)+1,"") | W26: =IF(AND($H26=W$11,$F26=Graphique!$A$2,$B26=Graphique!$A$1),MAX(W$11:W25)+1,"") | ... AC26: =IF(AND($H26=AC$11,$F26=Graphique!$A$2,$B26=Graphique!$A$1),MAX(AC$11:AC25)+1,"")
A27: 26214 | B27: Argentina | C27: Local Market | D27: ARS | E27: 0.21 | F27: MASCULIN | G27: EDT | H27: HERMES | I27: VDH EDT VAP-R 100ML | J27: 1 | K27: 100 | L27: 4090 | O27: 1210 | P27: =IF(AND($H27=P$11,$F27=Graphique!$A$2,$B27=Graphique!$A$1),MAX(P$11:P26)+1,"") | Q27: =IF(AND($H27=Q$11,$F27=Graphique!$A$2,$B27=Graphique!$A$1),MAX(Q$11:Q26)+1,"") | R27: =IF(AND($H27=R$11,$F27=Graphique!$A$2,$B27=Graphique!$A$1),MAX(R$11:R26)+1,"") | S27: =IF(AND($H27=S$11,$F27=Graphique!$A$2,$B27=Graphique!$A$1),MAX(S$11:S26)+1,"") | T27: =IF(AND($H27=T$11,$F27=Graphique!$A$2,$B27=Graphique!$A$1),MAX(T$11:T26)+1,"") | U27: =IF(AND($H27=U$11,$F27=Graphique!$A$2,$B27=Graphique!$A$1),MAX(U$11:U26)+1,"") | V27: =IF(AND($H27=V$11,$F27=Graphique!$A$2,$B27=Graphique!$A$1),MAX(V$11:V26)+1,"") | W27: =IF(AND($H27=W$11,$F27=Graphique!$A$2,$B27=Graphique!$A$1),MAX(W$11:W26)+1,"") | ... AC27: =IF(AND($H27=AC$11,$F27=Graphique!$A$2,$B27=Graphique!$A$1),MAX(AC$11:AC26)+1,"")
A28: 28765 | B28: Argentina | C28: Local Market | D28: ARS | E28: 0.21 | F28: MASCULIN | G28: EDP | H28: HERMES | I28: VDH PP VAP-R 100ML | J28: 1 | K28: 100 | L28: 4390 | O28: 1350 | P28: =IF(AND($H28=P$11,$F28=Graphique!$A$2,$B28=Graphique!$A$1),MAX(P$11:P27)+1,"") | Q28: =IF(AND($H28=Q$11,$F28=Graphique!$A$2,$B28=Graphique!$A$1),MAX(Q$11:Q27)+1,"") | R28: =IF(AND($H28=R$11,$F28=Graphique!$A$2,$B28=Graphique!$A$1),MAX(R$11:R27)+1,"") | S28: =IF(AND($H28=S$11,$F28=Graphique!$A$2,$B28=Graphique!$A$1),MAX(S$11:S27)+1,"") | T28: =IF(AND($H28=T$11,$F28=Graphique!$A$2,$B28=Graphique!$A$1),MAX(T$11:T27)+1,"") | U28: =IF(AND($H28=U$11,$F28=Graphique!$A$2,$B28=Graphique!$A$1),MAX(U$11:U27)+1,"") | V28: =IF(AND($H28=V$11,$F28=Graphique!$A$2,$B28=Graphique!$A$1),MAX(V$11:V27)+1,"") | W28: =IF(AND($H28=W$11,$F28=Graphique!$A$2,$B28=Graphique!$A$1),MAX(W$11:W27)+1,"") | ... AC28: =IF(AND($H28=AC$11,$F28=Graphique!$A$2,$B28=Graphique!$A$1),MAX(AC$11:AC27)+1,"")
B29: Argentina | C29: Local Market | D29: ARS | E29: 0.21 | F29: MASCULIN | G29: EDP | H29: Armani | I29: Acqua Di Gio EDP 100ml | J29: 1 | K29: 100 | L29: 3550 | O29: 1150 | P29: =IF(AND($H29=P$11,$F29=Graphique!$A$2,$B29=Graphique!$A$1),MAX(P$11:P28)+1,"") | Q29: =IF(AND($H29=Q$11,$F29=Graphique!$A$2,$B29=Graphique!$A$1),MAX(Q$11:Q28)+1,"") | R29: =IF(AND($H29=R$11,$F29=Graphique!$A$2,$B29=Graphique!$A$1),MAX(R$11:R28)+1,"") | S29: =IF(AND($H29=S$11,$F29=Graphique!$A$2,$B29=Graphique!$A$1),MAX(S$11:S28)+1,"") | T29: =IF(AND($H29=T$11,$F29=Graphique!$A$2,$B29=Graphique!$A$1),MAX(T$11:T28)+1,"") | U29: =IF(AND($H29=U$11,$F29=Graphique!$A$2,$B29=Graphique!$A$1),MAX(U$11:U28)+1,"") | V29: =IF(AND($H29=V$11,$F29=Graphique!$A$2,$B29=Graphique!$A$1),MAX(V$11:V28)+1,"") | W29: =IF(AND($H29=W$11,$F29=Graphique!$A$2,$B29=Graphique!$A$1),MAX(W$11:W28)+1,"") | ... AC29: =IF(AND($H29=AC$11,$F29=Graphique!$A$2,$B29=Graphique!$A$1),MAX(AC$11:AC28)+1,"")
B30: Argentina | C30: Local Market | D30: ARS | E30: 0.21 | F30: MASCULIN | G30: EDT | H30: Armani | I30: Acqua Di Gio EDT 50ml | J30: 0.5 | K30: 50 | L30: 1999 | O30: 0 | P30: =IF(AND($H30=P$11,$F30=Graphique!$A$2,$B30=Graphique!$A$1),MAX(P$11:P29)+1,"") | Q30: =IF(AND($H30=Q$11,$F30=Graphique!$A$2,$B30=Graphique!$A$1),MAX(Q$11:Q29)+1,"") | R30: =IF(AND($H30=R$11,$F30=Graphique!$A$2,$B30=Graphique!$A$1),MAX(R$11:R29)+1,"") | S30: =IF(AND($H30=S$11,$F30=Graphique!$A$2,$B30=Graphique!$A$1),MAX(S$11:S29)+1,"") | T30: =IF(AND($H30=T$11,$F30=Graphique!$A$2,$B30=Graphique!$A$1),MAX(T$11:T29)+1,"") | U30: =IF(AND($H30=U$11,$F30=Graphique!$A$2,$B30=Graphique!$A$1),MAX(U$11:U29)+1,"") | V30: =IF(AND($H30=V$11,$F30=Graphique!$A$2,$B30=Graphique!$A$1),MAX(V$11:V29)+1,"") | W30: =IF(AND($H30=W$11,$F30=Graphique!$A$2,$B30=Graphique!$A$1),MAX(W$11:W29)+1,"") | ... AC30: =IF(AND($H30=AC$11,$F30=Graphique!$A$2,$B30=Graphique!$A$1),MAX(AC$11:AC29)+1,"")
B31: Argentina | C31: Local Market | D31: ARS | E31: 0.21 | F31: MASCULIN | G31: EDT | H31: Armani | I31: Acqua Di Gio EDT 100ml | J31: 1 | K31: 100 | L31: 2465 | O31: 0 | P31: =IF(AND($H31=P$11,$F31=Graphique!$A$2,$B31=Graphique!$A$1),MAX(P$11:P30)+1,"") | Q31: =IF(AND($H31=Q$11,$F31=Graphique!$A$2,$B31=Graphique!$A$1),MAX(Q$11:Q30)+1,"") | R31: =IF(AND($H31=R$11,$F31=Graphique!$A$2,$B31=Graphique!$A$1),MAX(R$11:R30)+1,"") | S31: =IF(AND($H31=S$11,$F31=Graphique!$A$2,$B31=Graphique!$A$1),MAX(S$11:S30)+1,"") | T31: =IF(AND($H31=T$11,$F31=Graphique!$A$2,$B31=Graphique!$A$1),MAX(T$11:T30)+1,"") | U31: =IF(AND($H31=U$11,$F31=Graphique!$A$2,$B31=Graphique!$A$1),MAX(U$11:U30)+1,"") | V31: =IF(AND($H31=V$11,$F31=Graphique!$A$2,$B31=Graphique!$A$1),MAX(V$11:V30)+1,"") | W31: =IF(AND($H31=W$11,$F31=Graphique!$A$2,$B31=Graphique!$A$1),MAX(W$11:W30)+1,"") | ... AC31: =IF(AND($H31=AC$11,$F31=Graphique!$A$2,$B31=Graphique!$A$1),MAX(AC$11:AC30)+1,"")
B32: Argentina | C32: Local Market | D32: ARS | E32: 0.21 | F32: FEMININ | G32: EDP | H32: Armani | I32: Si EDP 100ml | J32: 1 | K32: 100 | L32: 3890 | O32: 1040 | P32: =IF(AND($H32=P$11,$F32=Graphique!$A$2,$B32=Graphique!$A$1),MAX(P$11:P31)+1,"") | Q32: =IF(AND($H32=Q$11,$F32=Graphique!$A$2,$B32=Graphique!$A$1),MAX(Q$11:Q31)+1,"") | R32: =IF(AND($H32=R$11,$F32=Graphique!$A$2,$B32=Graphique!$A$1),MAX(R$11:R31)+1,"") | S32: =IF(AND($H32=S$11,$F32=Graphique!$A$2,$B32=Graphique!$A$1),MAX(S$11:S31)+1,"") | T32: =IF(AND($H32=T$11,$F32=Graphique!$A$2,$B32=Graphique!$A$1),MAX(T$11:T31)+1,"") | U32: =IF(AND($H32=U$11,$F32=Graphique!$A$2,$B32=Graphique!$A$1),MAX(U$11:U31)+1,"") | V32: =IF(AND($H32=V$11,$F32=Graphique!$A$2,$B32=Graphique!$A$1),MAX(V$11:V31)+1,"") | W32: =IF(AND($H32=W$11,$F32=Graphique!$A$2,$B32=Graphique!$A$1),MAX(W$11:W31)+1,"") | ... AC32: =IF(AND($H32=AC$11,$F32=Graphique!$A$2,$B32=Graphique!$A$1),MAX(AC$11:AC31)+1,"")
B33: Argentina | C33: Local Market | D33: ARS | E33: 0.21 | F33: FEMININ | G33: EDP | H33: Armani | I33: Si EDP 50ml | J33: 0.5 | K33: 50 | L33: 2990 | O33: 790 | P33: =IF(AND($H33=P$11,$F33=Graphique!$A$2,$B33=Graphique!$A$1),MAX(P$11:P32)+1,"") | Q33: =IF(AND($H33=Q$11,$F33=Graphique!$A$2,$B33=Graphique!$A$1),MAX(Q$11:Q32)+1,"") | R33: =IF(AND($H33=R$11,$F33=Graphique!$A$2,$B33=Graphique!$A$1),MAX(R$11:R32)+1,"") | S33: =IF(AND($H33=S$11,$F33=Graphique!$A$2,$B33=Graphique!$A$1),MAX(S$11:S32)+1,"") | T33: =IF(AND($H33=T$11,$F33=Graphique!$A$2,$B33=Graphique!$A$1),MAX(T$11:T32)+1,"") | U33: =IF(AND($H33=U$11,$F33=Graphique!$A$2,$B33=Graphique!$A$1),MAX(U$11:U32)+1,"") | V33: =IF(AND($H33=V$11,$F33=Graphique!$A$2,$B33=Graphique!$A$1),MAX(V$11:V32)+1,"") | W33: =IF(AND($H33=W$11,$F33=Graphique!$A$2,$B33=Graphique!$A$1),MAX(W$11:W32)+1,"") | ... AC33: =IF(AND($H33=AC$11,$F33=Graphique!$A$2,$B33=Graphique!$A$1),MAX(AC$11:AC32)+1,"")
B34: Argentina | C34: Local Market | D34: ARS | E34: 0.21 | F34: FEMININ | G34: EDP | H34: Armani | I34: Si EDP 30ml | J34: 0.5 | K34: 30 | L34: 2250 | O34: 760 | P34: =IF(AND($H34=P$11,$F34=Graphique!$A$2,$B34=Graphique!$A$1),MAX(P$11:P33)+1,"") | Q34: =IF(AND($H34=Q$11,$F34=Graphique!$A$2,$B34=Graphique!$A$1),MAX(Q$11:Q33)+1,"") | R34: =IF(AND($H34=R$11,$F34=Graphique!$A$2,$B34=Graphique!$A$1),MAX(R$11:R33)+1,"") | S34: =IF(AND($H34=S$11,$F34=Graphique!$A$2,$B34=Graphique!$A$1),MAX(S$11:S33)+1,"") | T34: =IF(AND($H34=T$11,$F34=Graphique!$A$2,$B34=Graphique!$A$1),MAX(T$11:T33)+1,"") | U34: =IF(AND($H34=U$11,$F34=Graphique!$A$2,$B34=Graphique!$A$1),MAX(U$11:U33)+1,"") | V34: =IF(AND($H34=V$11,$F34=Graphique!$A$2,$B34=Graphique!$A$1),MAX(V$11:V33)+1,"") | W34: =IF(AND($H34=W$11,$F34=Graphique!$A$2,$B34=Graphique!$A$1),MAX(W$11:W33)+1,"") | ... AC34: =IF(AND($H34=AC$11,$F34=Graphique!$A$2,$B34=Graphique!$A$1),MAX(AC$11:AC33)+1,"")
B35: Argentina | C35: Local Market | D35: ARS | E35: 0.21 | F35: FEMININ | G35: EDT | H35: Armani | I35: Si EDT 100ml | J35: 1 | K35: 100 | L35: 3035 | O35: 445 | P35: =IF(AND($H35=P$11,$F35=Graphique!$A$2,$B35=Graphique!$A$1),MAX(P$11:P34)+1,"") | Q35: =IF(AND($H35=Q$11,$F35=Graphique!$A$2,$B35=Graphique!$A$1),MAX(Q$11:Q34)+1,"") | R35: =IF(AND($H35=R$11,$F35=Graphique!$A$2,$B35=Graphique!$A$1),MAX(R$11:R34)+1,"") | S35: =IF(AND($H35=S$11,$F35=Graphique!$A$2,$B35=Graphique!$A$1),MAX(S$11:S34)+1,"") | T35: =IF(AND($H35=T$11,$F35=Graphique!$A$2,$B35=Graphique!$A$1),MAX(T$11:T34)+1,"") | U35: =IF(AND($H35=U$11,$F35=Graphique!$A$2,$B35=Graphique!$A$1),MAX(U$11:U34)+1,"") | V35: =IF(AND($H35=V$11,$F35=Graphique!$A$2,$B35=Graphique!$A$1),MAX(V$11:V34)+1,"") | W35: =IF(AND($H35=W$11,$F35=Graphique!$A$2,$B35=Graphique!$A$1),MAX(W$11:W34)+1,"") | ... AC35: =IF(AND($H35=AC$11,$F35=Graphique!$A$2,$B35=Graphique!$A$1),MAX(AC$11:AC34)+1,"")
B36: Argentina | C36: Local Market | D36: ARS | E36: 0.21 | F36: MASCULIN | G36: EDT | H36: Bvlgari | I36: Aqva pour Homme EDT 100ml | J36: 1 | K36: 100 | L36: 2560 | O36: 430 | P36: =IF(AND($H36=P$11,$F36=Graphique!$A$2,$B36=Graphique!$A$1),MAX(P$11:P35)+1,"") | Q36: =IF(AND($H36=Q$11,$F36=Graphique!$A$2,$B36=Graphique!$A$1),MAX(Q$11:Q35)+1,"") | R36: =IF(AND($H36=R$11,$F36=Graphique!$A$2,$B36=Graphique!$A$1),MAX(R$11:R35)+1,"") | S36: =IF(AND($H36=S$11,$F36=Graphique!$A$2,$B36=Graphique!$A$1),MAX(S$11:S35)+1,"") | T36: =IF(AND($H36=T$11,$F36=Graphique!$A$2,$B36=Graphique!$A$1),MAX(T$11:T35)+1,"") | U36: =IF(AND($H36=U$11,$F36=Graphique!$A$2,$B36=Graphique!$A$1),MAX(U$11:U35)+1,"") | V36: =IF(AND($H36=V$11,$F36=Graphique!$A$2,$B36=Graphique!$A$1),MAX(V$11:V35)+1,"") | W36: =IF(AND($H36=W$11,$F36=Graphique!$A$2,$B36=Graphique!$A$1),MAX(W$11:W35)+1,"") | ... AC36: =IF(AND($H36=AC$11,$F36=Graphique!$A$2,$B36=Graphique!$A$1),MAX(AC$11:AC35)+1,"")
B37: Argentina | C37: Local Market | D37: ARS | E37: 0.21 | F37: FEMININ | G37: EDP | H37: Bvlgari | I37: Eau parfumee 150ml | J37: 1.5 | K37: 150 | L37: 2000 | O37: 2000 | P37: =IF(AND($H37=P$11,$F37=Graphique!$A$2,$B37=Graphique!$A$1),MAX(P$11:P36)+1,"") | Q37: =IF(AND($H37=Q$11,$F37=Graphique!$A$2,$B37=Graphique!$A$1),MAX(Q$11:Q36)+1,"") | R37: =IF(AND($H37=R$11,$F37=Graphique!$A$2,$B37=Graphique!$A$1),MAX(R$11:R36)+1,"") | S37: =IF(AND($H37=S$11,$F37=Graphique!$A$2,$B37=Graphique!$A$1),MAX(S$11:S36)+1,"") | T37: =IF(AND($H37=T$11,$F37=Graphique!$A$2,$B37=Graphique!$A$1),MAX(T$11:T36)+1,"") | U37: =IF(AND($H37=U$11,$F37=Graphique!$A$2,$B37=Graphique!$A$1),MAX(U$11:U36)+1,"") | V37: =IF(AND($H37=V$11,$F37=Graphique!$A$2,$B37=Graphique!$A$1),MAX(V$11:V36)+1,"") | W37: =IF(AND($H37=W$11,$F37=Graphique!$A$2,$B37=Graphique!$A$1),MAX(W$11:W36)+1,"") | ... AC37: =IF(AND($H37=AC$11,$F37=Graphique!$A$2,$B37=Graphique!$A$1),MAX(AC$11:AC36)+1,"")
B38: Argentina | C38: Local Market | D38: ARS | E38: 0.21 | F38: FEMININ | G38: EDP | H38: Bvlgari | I38: Jasmin Noir EDP 100ml | J38: 1 | K38: 100 | L38: 2200 | O38: 0 | P38: =IF(AND($H38=P$11,$F38=Graphique!$A$2,$B38=Graphique!$A$1),MAX(P$11:P37)+1,"") | Q38: =IF(AND($H38=Q$11,$F38=Graphique!$A$2,$B38=Graphique!$A$1),MAX(Q$11:Q37)+1,"") | R38: =IF(AND($H38=R$11,$F38=Graphique!$A$2,$B38=Graphique!$A$1),MAX(R$11:R37)+1,"") | S38: =IF(AND($H38=S$11,$F38=Graphique!$A$2,$B38=Graphique!$A$1),MAX(S$11:S37)+1,"") | T38: =IF(AND($H38=T$11,$F38=Graphique!$A$2,$B38=Graphique!$A$1),MAX(T$11:T37)+1,"") | U38: =IF(AND($H38=U$11,$F38=Graphique!$A$2,$B38=Graphique!$A$1),MAX(U$11:U37)+1,"") | V38: =IF(AND($H38=V$11,$F38=Graphique!$A$2,$B38=Graphique!$A$1),MAX(V$11:V37)+1,"") | W38: =IF(AND($H38=W$11,$F38=Graphique!$A$2,$B38=Graphique!$A$1),MAX(W$11:W37)+1,"") | ... AC38: =IF(AND($H38=AC$11,$F38=Graphique!$A$2,$B38=Graphique!$A$1),MAX(AC$11:AC37)+1,"")
B39: Argentina | C39: Local Market | D39: ARS | E39: 0.21 | F39: MASCULIN | G39: EDT | H39: Bvlgari | I39: MAN EDT 100ml | J39: 1 | K39: 100 | L39: 2590 | O39: 430 | P39: =IF(AND($H39=P$11,$F39=Graphique!$A$2,$B39=Graphique!$A$1),MAX(P$11:P38)+1,"") | Q39: =IF(AND($H39=Q$11,$F39=Graphique!$A$2,$B39=Graphique!$A$1),MAX(Q$11:Q38)+1,"") | R39: =IF(AND($H39=R$11,$F39=Graphique!$A$2,$B39=Graphique!$A$1),MAX(R$11:R38)+1,"") | S39: =IF(AND($H39=S$11,$F39=Graphique!$A$2,$B39=Graphique!$A$1),MAX(S$11:S38)+1,"") | T39: =IF(AND($H39=T$11,$F39=Graphique!$A$2,$B39=Graphique!$A$1),MAX(T$11:T38)+1,"") | U39: =IF(AND($H39=U$11,$F39=Graphique!$A$2,$B39=Graphique!$A$1),MAX(U$11:U38)+1,"") | V39: =IF(AND($H39=V$11,$F39=Graphique!$A$2,$B39=Graphique!$A$1),MAX(V$11:V38)+1,"") | W39: =IF(AND($H39=W$11,$F39=Graphique!$A$2,$B39=Graphique!$A$1),MAX(W$11:W38)+1,"") | ... AC39: =IF(AND($H39=AC$11,$F39=Graphique!$A$2,$B39=Graphique!$A$1),MAX(AC$11:AC38)+1,"")
B40: Argentina | C40: Local Market | D40: ARS | E40: 0.21 | F40: FEMININ | G40: EDP | H40: Bvlgari | I40: Omnia Crystalline EDP 65 ml | J40: 0.75 | K40: 65 | L40: 1800 | O40: 0 | P40: =IF(AND($H40=P$11,$F40=Graphique!$A$2,$B40=Graphique!$A$1),MAX(P$11:P39)+1,"") | Q40: =IF(AND($H40=Q$11,$F40=Graphique!$A$2,$B40=Graphique!$A$1),MAX(Q$11:Q39)+1,"") | R40: =IF(AND($H40=R$11,$F40=Graphique!$A$2,$B40=Graphique!$A$1),MAX(R$11:R39)+1,"") | S40: =IF(AND($H40=S$11,$F40=Graphique!$A$2,$B40=Graphique!$A$1),MAX(S$11:S39)+1,"") | T40: =IF(AND($H40=T$11,$F40=Graphique!$A$2,$B40=Graphique!$A$1),MAX(T$11:T39)+1,"") | U40: =IF(AND($H40=U$11,$F40=Graphique!$A$2,$B40=Graphique!$A$1),MAX(U$11:U39)+1,"") | V40: =IF(AND($H40=V$11,$F40=Graphique!$A$2,$B40=Graphique!$A$1),MAX(V$11:V39)+1,"") | W40: =IF(AND($H40=W$11,$F40=Graphique!$A$2,$B40=Graphique!$A$1),MAX(W$11:W39)+1,"") | ... AC40: =IF(AND($H40=AC$11,$F40=Graphique!$A$2,$B40=Graphique!$A$1),MAX(AC$11:AC39)+1,"")
... B43: Argentina | C43: Local Market | D43: ARS | E43: 0.21 | F43: FEMININ | G43: EDP | H43: Cartier | I43: Baiser vole EDP100ml | J43: 1 | K43: 100 | L43: 5885 | O43: 5885 | P43: =IF(AND($H43=P$11,$F43=Graphique!$A$2,$B43=Graphique!$A$1),MAX(P$11:P42)+1,"") | Q43: =IF(AND($H43=Q$11,$F43=Graphique!$A$2,$B43=Graphique!$A$1),MAX(Q$11:Q42)+1,"") | R43: =IF(AND($H43=R$11,$F43=Graphique!$A$2,$B43=Graphique!$A$1),MAX(R$11:R42)+1,"") | S43: =IF(AND($H43=S$11,$F43=Graphique!$A$2,$B43=Graphique!$A$1),MAX(S$11:S42)+1,"") | T43: =IF(AND($H43=T$11,$F43=Graphique!$A$2,$B43=Graphique!$A$1),MAX(T$11:T42)+1,"") | U43: =IF(AND($H43=U$11,$F43=Graphique!$A$2,$B43=Graphique!$A$1),MAX(U$11:U42)+1,"") | V43: =IF(AND($H43=V$11,$F43=Graphique!$A$2,$B43=Graphique!$A$1),MAX(V$11:V42)+1,"") | W43: =IF(AND($H43=W$11,$F43=Graphique!$A$2,$B43=Graphique!$A$1),MAX(W$11:W42)+1,"") | ... AC43: =IF(AND($H43=AC$11,$F43=Graphique!$A$2,$B43=Graphique!$A$1),MAX(AC$11:AC42)+1,"")
B44: Argentina | C44: Local Market | D44: ARS | E44: 0.21 | F44: FEMININ | G44: EDT | H44: Cartier | I44: Baiser vole EDT 100ml | J44: 1 | K44: 100 | O44: 0 | P44: =IF(AND($H44=P$11,$F44=Graphique!$A$2,$B44=Graphique!$A$1),MAX(P$11:P43)+1,"") | Q44: =IF(AND($H44=Q$11,$F44=Graphique!$A$2,$B44=Graphique!$A$1),MAX(Q$11:Q43)+1,"") | R44: =IF(AND($H44=R$11,$F44=Graphique!$A$2,$B44=Graphique!$A$1),MAX(R$11:R43)+1,"") | S44: =IF(AND($H44=S$11,$F44=Graphique!$A$2,$B44=Graphique!$A$1),MAX(S$11:S43)+1,"") | T44: =IF(AND($H44=T$11,$F44=Graphique!$A$2,$B44=Graphique!$A$1),MAX(T$11:T43)+1,"") | U44: =IF(AND($H44=U$11,$F44=Graphique!$A$2,$B44=Graphique!$A$1),MAX(U$11:U43)+1,"") | V44: =IF(AND($H44=V$11,$F44=Graphique!$A$2,$B44=Graphique!$A$1),MAX(V$11:V43)+1,"") | W44: =IF(AND($H44=W$11,$F44=Graphique!$A$2,$B44=Graphique!$A$1),MAX(W$11:W43)+1,"") | ... AC44: =IF(AND($H44=AC$11,$F44=Graphique!$A$2,$B44=Graphique!$A$1),MAX(AC$11:AC43)+1,"")
B45: Argentina | C45: Local Market | D45: ARS | E45: 0.21 | F45: MASCULIN | G45: EDT | H45: Cartier | I45: Declaration D´un Soir 100 ml | J45: 1 | K45: 100 | L45: 4280 | O45: 4280 | P45: =IF(AND($H45=P$11,$F45=Graphique!$A$2,$B45=Graphique!$A$1),MAX(P$11:P44)+1,"") | Q45: =IF(AND($H45=Q$11,$F45=Graphique!$A$2,$B45=Graphique!$A$1),MAX(Q$11:Q44)+1,"") | R45: =IF(AND($H45=R$11,$F45=Graphique!$A$2,$B45=Graphique!$A$1),MAX(R$11:R44)+1,"") | S45: =IF(AND($H45=S$11,$F45=Graphique!$A$2,$B45=Graphique!$A$1),MAX(S$11:S44)+1,"") | T45: =IF(AND($H45=T$11,$F45=Graphique!$A$2,$B45=Graphique!$A$1),MAX(T$11:T44)+1,"") | U45: =IF(AND($H45=U$11,$F45=Graphique!$A$2,$B45=Graphique!$A$1),MAX(U$11:U44)+1,"") | V45: =IF(AND($H45=V$11,$F45=Graphique!$A$2,$B45=Graphique!$A$1),MAX(V$11:V44)+1,"") | W45: =IF(AND($H45=W$11,$F45=Graphique!$A$2,$B45=Graphique!$A$1),MAX(W$11:W44)+1,"") | ... AC45: =IF(AND($H45=AC$11,$F45=Graphique!$A$2,$B45=Graphique!$A$1),MAX(AC$11:AC44)+1,"")
...

Sheet Graphique
A1: PANAMA | B1: <- CHOSE COUNTRY
A2: MASCULIN | B2: <- CHOSE Gender
A3: HERMES | Q3: Armani | AG3: Bvlgari | AW3: Cartier | BM3: Chanel | CC3: Dior | CS3: Jo Malone | DI3: Lancome | DY3: Prada | EO3: Tom Ford | FE3: Guerlain | FU3: Carolina Herrera | GK3: Loewe | HA3: Givenchy
A4: HERMES SKU | B4: COUNTRY | C4: CHANNEL | D4: CURRENCY | E4: VAT | F4: FEMININ/MASCULIN | G4: CONCENTRATION | H4: Brand | I4: Product | J4: DOT SIZE | K4: Size (ml) | L4: 2018 July | M4: 2017 July | N4: 2016 July | O4: Diff2018 vs 2017 | Q4: HERMES SKU | R4: COUNTRY | S4: CHANNEL | T4: CURRENCY | U4: VAT | V4: FEMININ/MASCULIN | W4: CONCENTRATION | X4: Brand | Y4: Product | Z4: DOT SIZE | AA4: Size (ml) | AB4: 2018 July | AC4: 2017 July | AD4: 2016 July | AE4: Diff2018 vs 2017 | AG4: HERMES SKU | AH4: COUNTRY | AI4: CHANNEL | AJ4: CURRENCY | AK4: VAT | AL4: FEMININ/MASCULIN | AM4: CONCENTRATION | AN4: Brand | AO4: Product | AP4: DOT SIZE | AQ4: Size (ml) | AR4: 2018 July | AS4: 2017 July | AT4: 2016 July | AU4: Diff2018 vs 2017 | AW4: HERMES SKU | AX4: COUNTRY | AY4: CHANNEL | AZ4: CURRENCY | BA4: VAT | BB4: FEMININ/MASCULIN | BC4: CONCENTRATION | BD4: Brand | BE4: Product | BF4: DOT SIZE | BG4: Size (ml) | BH4: 2018 July | BI4: 2017 July | BJ4: 2016 July | BK4: Diff2018 vs 2017 | BM4: HERMES SKU | BN4: COUNTRY | BO4: CHANNEL | BP4: CURRENCY | BQ4: VAT | BR4: FEMININ/MASCULIN | BS4: CONCENTRATION | BT4: Brand | BU4: Product | BV4: DOT SIZE | BW4: Size (ml) | BX4: 2018 July | BY4: 2017 July | BZ4: 2016 July | CA4: Diff2018 vs 2017 | CC4: HERMES SKU | CD4: COUNTRY | CE4: CHANNEL | CF4: CURRENCY | CG4: VAT | CH4: FEMININ/MASCULIN | CI4: CONCENTRATION | CJ4: Brand | CK4: Product | CL4: DOT SIZE | CM4: Size (ml) | CN4: 2018 July | CO4: 2017 July | CP4: 2016 July | CQ4: Diff2018 vs 2017 | CS4: HERMES SKU | CT4: COUNTRY | CU4: CHANNEL | CV4: CURRENCY | CW4: VAT | CX4: FEMININ/MASCULIN | CY4: CONCENTRATION | CZ4: Brand | DA4: Product | DB4: DOT SIZE | DC4: Size (ml) | DD4: 2018 July | DE4: 2017 July | DF4: 2016 July | DG4: Diff2018 vs 2017 | DI4: HERMES SKU | DJ4: COUNTRY | DK4: CHANNEL | DL4: CURRENCY | DM4: VAT | DN4: FEMININ/MASCULIN | DO4: CONCENTRATION | DP4: Brand | DQ4: Product | DR4: DOT SIZE | DS4: Size (ml) | DT4: 2018 July | DU4: 2017 July | DV4: 2016 July | DW4: Diff2018 vs 2017 | DY4: HERMES SKU | DZ4: COUNTRY | EA4: CHANNEL | EB4: CURRENCY | EC4: VAT | ED4: FEMININ/MASCULIN | EE4: CONCENTRATION | EF4: Brand | EG4: Product | EH4: DOT SIZE | EI4: Size (ml) | EJ4: 2018 July | EK4: 2017 July | EL4: 2016 July | EM4: Diff2018 vs 2017 | EO4: HERMES SKU | EP4: COUNTRY | EQ4: CHANNEL | ER4: CURRENCY | ES4: VAT | ET4: FEMININ/MASCULIN | EU4: CONCENTRATION | EV4: Brand | EW4: Product | EX4: DOT SIZE | EY4: Size (ml) | EZ4: 2018 July | FA4: 2017 July | FB4: 2016 July | FC4: Diff2018 vs 2017 | FE4: HERMES SKU | FF4: COUNTRY | FG4: CHANNEL | FH4: CURRENCY | FI4: VAT | FJ4: FEMININ/MASCULIN | FK4: CONCENTRATION | FL4: Brand | FM4: Product | FN4: DOT SIZE | FO4: Size (ml) | FP4: 2018 July | FQ4: 2017 July | FR4: 2016 July | FS4: Diff2018 vs 2017 | FU4: HERMES SKU | FV4: COUNTRY | FW4: CHANNEL | FX4: CURRENCY | FY4: VAT | FZ4: FEMININ/MASCULIN | GA4: CONCENTRATION | GB4: Brand | GC4: Product | GD4: DOT SIZE | GE4: Size (ml) | GF4: 2018 July | GG4: 2017 July | GH4: 2016 July | GI4: Diff2018 vs 2017 | GK4: HERMES SKU | GL4: COUNTRY | GM4: CHANNEL | GN4: CURRENCY | GO4: VAT | GP4: FEMININ/MASCULIN | GQ4: CONCENTRATION | GR4: Brand | GS4: Product | GT4: DOT SIZE | GU4: Size (ml) | GV4: 2018 July | GW4: 2017 July | GX4: 2016 July | GY4: Diff2018 vs 2017 | HA4: HERMES SKU | HB4: COUNTRY | HC4: CHANNEL | HD4: CURRENCY | HE4: VAT | HF4: FEMININ/MASCULIN | HG4: CONCENTRATION | HH4: Brand | HI4: Product | HJ4: DOT SIZE | HK4: Size (ml) | HL4: 2018 July | HM4: 2017 July | HN4: 2016 July | HO4: Diff2018 vs 2017
