Workbook

Sheet USA H (2)
A1: HERMES SKU | B1: COUNTRY | C1: CHANNEL | D1: CURRENCY | E1: VAT | F1: FEMININ/MASCULIN | G1: CONCENTRATION | H1: Brand | I1: Product | J1: DOT SIZE | K1: Size (ml) | L1: 2018 July | M1: 2017 July | N1: 2016 July | O1: Diff2018 vs 2017 | Q1: 200
B2: USA | C2: Local Market | D2: USD | E2: 0.07 | F2: MASCULIN | G2: EDP | H2: Armani | I2: Acqua Di Gio EDP 125ml | J2: =VLOOKUP(I2,DB!I:J,2,0) -> 1 | K2: 125 | L2: 130 | O2: 130 | P2: 50
B3: USA | C3: Local Market | D3: USD | E3: 0.07 | F3: MASCULIN | G3: EDT | H3: Armani | I3: Acqua Di Gio EDT 50ml | J3: =VLOOKUP(I3,DB!I:J,2,0) -> 0.5 | K3: 50 | L3: 68 | O3: 68 | P3: =+P2+$Q$1 -> 250
B4: USA | C4: Local Market | D4: USD | E4: 0.07 | F4: MASCULIN | G4: EDT | H4: Armani | I4: Acqua Di Gio EDT 100ml | J4: =VLOOKUP(I4,DB!I:J,2,0) -> 1 | K4: 100 | L4: 85 | O4: 85 | P4: 250
B5: USA | C5: Local Market | D5: USD | E5: 0.07 | F5: MASCULIN | G5: EDT | H5: Bvlgari | I5: Aqva pour Homme EDT 100ml | J5: =VLOOKUP(I5,DB!I:J,2,0) -> 1 | K5: 100 | L5: 91 | O5: 91 | P5: =+P4+170 -> 420
B6: USA | C6: Local Market | D6: USD | E6: 0.07 | F6: MASCULIN | G6: EDT | H6: Bvlgari | I6: MAN EDT 100ml | J6: =VLOOKUP(I6,DB!I:J,2,0) -> 1 | K6: 100 | L6: 92 | O6: 92 | P6: =+P5+170 -> 590
B7: USA | C7: Local Market | D7: USD | E7: 0.07 | F7: MASCULIN | G7: EDT | H7: Cartier | I7: Declaration D´un Soir 100 ml | J7: =VLOOKUP(I7,DB!I:J,2,0) -> 1 | K7: 100 | L7: 108 | O7: 108 | P7: =+P6+170 -> 760
B8: USA | C8: Local Market | D8: USD | E8: 0.07 | F8: MASCULIN | G8: EDT | H8: Cartier | I8: Declaration EDT 100 ml | J8: =VLOOKUP(I8,DB!I:J,2,0) -> 1 | K8: 100 | L8: 108 | O8: 108 | P8: =+P7+170 -> 930
B9: USA | C9: Local Market | D9: USD | E9: 0.07 | F9: MASCULIN | G9: EDP | H9: Chanel | I9: Bleu de Chanel EDP 150ml | J9: =VLOOKUP(I9,DB!I:J,2,0) -> 1.5 | K9: 150 | L9: 155 | O9: 155 | P9: =+P8+170 -> 1100
B10: USA | C10: Local Market | D10: USD | E10: 0.07 | F10: MASCULIN | G10: EDP | H10: Chanel | I10: Bleu de Chanel EDP 100ml | J10: =VLOOKUP(I10,DB!I:J,2,0) -> 1 | K10: 100 | L10: 120 | O10: 120 | P10: 1270
B11: USA | C11: Local Market | D11: USD | E11: 0.07 | F11: MASCULIN | G11: EDP | H11: Chanel | I11: Bleu de Chanel EDP 50ml | J11: =VLOOKUP(I11,DB!I:J,2,0) -> 0.5 | K11: 50 | L11: 95 | O11: 95 | P11: 1270
B12: USA | C12: Local Market | D12: USD | E12: 0.07 | F12: MASCULIN | G12: EDT | H12: Chanel | I12: Bleu de Chanel EDT 100ml | J12: =VLOOKUP(I12,DB!I:J,2,0) -> 1 | K12: 100 | L12: 95 | O12: 95 | P12: 1500
B13: USA | C13: Local Market | D13: USD | E13: 0.07 | F13: MASCULIN | G13: EDT | H13: Chanel | I13: Bleu de Chanel EDT 50ml | J13: =VLOOKUP(I13,DB!I:J,2,0) -> 0.5 | K13: 50 | L13: 75 | O13: 75 | P13: 1500
B14: USA | C14: Local Market | D14: USD | E14: 0.07 | F14: MASCULIN | G14: EDT | H14: Chanel | I14: Allure EDT 100ml | J14: =VLOOKUP(I14,DB!I:J,2,0) -> 1 | K14: 100 | L14: 102 | O14: 102 | P14: 1500
B15: USA | C15: Local Market | D15: USD | E15: 0.07 | F15: MASCULIN | G15: EDT | H15: Dior | I15: Dior Homme EDT 100ml | J15: =VLOOKUP(I15,DB!I:J,2,0) -> 1 | K15: 100 | L15: 95 | O15: 95 | P15: =+P14+170 -> 1670
B16: USA | C16: Local Market | D16: USD | E16: 0.07 | F16: MASCULIN | G16: EDT | H16: Dior | I16: Dior Sauvage EDT 100ml | J16: =VLOOKUP(I16,DB!I:J,2,0) -> 1 | K16: 100 | L16: 95 | O16: 95 | P16: =+P15+170 -> 1840
B17: USA | C17: Local Market | D17: USD | E17: 0.07 | F17: MASCULIN | G17: EDT | H17: Dior | I17: Dior Sauvage EDT 60ML | J17: =VLOOKUP(I17,DB!I:J,2,0) -> 0.75 | K17: 60 | L17: 77 | O17: 77 | P17: =+P16+170 -> 2010
A18: 23659 | B18: USA | C18: Local Market | D18: USD | E18: 0.07 | F18: MASCULIN | G18: EDT | H18: HERMES | I18: TDH EDT VAP 200ML | J18: =VLOOKUP(I18,DB!I:J,2,0) -> 2 | K18: 200 | L18: 165 | O18: 165 | P18: =+P17+170 -> 2180
A19: 20872 | B19: USA | C19: Local Market | D19: USD | E19: 0.07 | F19: MASCULIN | G19: EDT | H19: HERMES | I19: TDH EDT VAP 100ML | J19: =VLOOKUP(I19,DB!I:J,2,0) -> 1 | K19: 100 | L19: 120 | O19: 120 | P19: =+P18+170 -> 2350
A20: 20873 | B20: USA | C20: Local Market | D20: USD | E20: 0.07 | F20: MASCULIN | G20: EDT | H20: HERMES | I20: TDH EDT VAP 50ML | J20: =VLOOKUP(I20,DB!I:J,2,0) -> 0.5 | K20: 50 | L20: 86 | O20: 86 | P20: =+P19+170 -> 2520
A21: 34656 | B21: USA | C21: Local Market | D21: USD | E21: 0.07 | F21: MASCULIN | G21: EDT | H21: HERMES | I21: TDH ETF VAP 75ML | J21: =VLOOKUP(I21,DB!I:J,2,0) -> 0.75 | K21: 75 | L21: 90 | O21: 90 | P21: =+P20+170 -> 2690
A22: 26085 | B22: USA | C22: Local Market | D22: USD | E22: 0.07 | F22: MASCULIN | G22: EDP | H22: HERMES | I22: TDH PP VAP 200ML | J22: =VLOOKUP(I22,DB!I:J,2,0) -> 2 | K22: 200 | L22: 220 | O22: 220 | P22: =+P21+170 -> 2860
A23: 24578 | B23: USA | C23: Local Market | D23: USD | E23: 0.07 | F23: MASCULIN | G23: EDP | H23: HERMES | I23: TDH PP VAP 75ML | J23: =VLOOKUP(I23,DB!I:J,2,0) -> 0.75 | K23: 75 | L23: 135 | O23: 135 | P23: =+P22+170 -> 3030
A24: 38302 | B24: USA | C24: Local Market | D24: USD | E24: 0.07 | F24: MASCULIN | G24: EDC | H24: HERMES | I24: EOV EDC VAP 100ML | J24: =VLOOKUP(I24,DB!I:J,2,0) -> 1 | K24: 100 | L24: 130 | O24: 130 | P24: =+P23+170 -> 3200
A25: 37065 | B25: USA | C25: Local Market | D25: USD | E25: 0.07 | F25: MASCULIN | G25: EDC | H25: HERMES | I25: ERE EDC VAP 100ML | J25: =VLOOKUP(I25,DB!I:J,2,0) -> 1 | K25: 100 | L25: 130 | O25: 130 | P25: =+P24+170 -> 3370
A26: 26214 | B26: USA | C26: Local Market | D26: USD | E26: 0.07 | F26: MASCULIN | G26: EDT | H26: HERMES | I26: VDH EDT VAP-R 100ML | J26: =VLOOKUP(I26,DB!I:J,2,0) -> 1 | K26: 100 | L26: 140 | O26: 140 | P26: =+P25+170 -> 3540
A27: 28765 | B27: USA | C27: Local Market | D27: USD | E27: 0.07 | F27: MASCULIN | G27: EDP | H27: HERMES | I27: VDH PP VAP-R 100ML | J27: =VLOOKUP(I27,DB!I:J,2,0) -> 1 | K27: 100 | L27: 150 | O27: 150 | P27: =+P26+170 -> 3710
B28: USA | C28: Local Market | D28: USD | E28: 0.07 | F28: MASCULIN | G28: EDC | H28: Jo Malone | I28: EDC 100ml | J28: =VLOOKUP(I28,DB!I:J,2,0) -> 1 | K28: 100 | L28: 136 | O28: 136 | P28: =+P27+170 -> 3880
B29: USA | C29: Local Market | D29: USD | E29: 0.07 | F29: MASCULIN | G29: EDP | H29: Tom Ford | I29: Neroli Portofino EDP 100ml | J29: =VLOOKUP(I29,DB!I:J,2,0) -> 1 | K29: 100 | L29: 320 | O29: 320 | P29: =+P28+170 -> 4050
B30: USA | C30: Local Market | D30: USD | E30: 0.07 | F30: MASCULIN | G30: EDP | H30: Tom Ford | I30: Noir 100ml | J30: =VLOOKUP(I30,DB!I:J,2,0) -> 1 | K30: 100 | L30: 166 | O30: 166 | P30: =+P29+170 -> 4220

Sheet USA H
A1: HERMES SKU | B1: COUNTRY | C1: CHANNEL | D1: CURRENCY | E1: VAT | F1: FEMININ/MASCULIN | G1: CONCENTRATION | H1: Brand | I1: Product | J1: DOT SIZE | K1: Size (ml) | L1: 2018 July | M1: 2017 July | N1: 2016 July | O1: Diff2018 vs 2017 | Q1: 200
B2: USA | C2: Local Market | D2: USD | E2: 0.07 | F2: MASCULIN | G2: EDP | H2: Armani | I2: Acqua Di Gio EDP 125ml | J2: 2500 | K2: 125 | L2: 130 | O2: 130 | P2: 2 | Q2: =P2*2 -> 4 | S2: =J2/2 -> 1250 | T2: =J2*J2 -> 6250000
B3: USA | C3: Local Market | D3: USD | E3: 0.07 | F3: MASCULIN | G3: EDT | H3: Armani | I3: Acqua Di Gio EDT 100ml | J3: 2500 | K3: 100 | L3: 85 | O3: 85 | P3: 402 | Q3: =P3*2 -> 804 | S3: =J3/2 -> 1250 | T3: =J3*J3 -> 6250000
B4: USA | C4: Local Market | D4: USD | E4: 0.07 | F4: MASCULIN | G4: EDT | H4: Armani | I4: Acqua Di Gio EDT 50ml | J4: 625 | K4: 50 | L4: 68 | O4: 68 | P4: 402 | Q4: =P4*2 -> 804 | S4: =J4/2 -> 312.5 | T4: =J4*J4 -> 390625
B5: USA | C5: Local Market | D5: USD | E5: 0.07 | F5: MASCULIN | G5: EDT | H5: Bvlgari | I5: MAN EDT 100ml | J5: 2500 | K5: 100 | L5: 92 | O5: 92 | P5: 802 | Q5: =P5*2 -> 1604 | S5: =J5/2 -> 1250 | T5: =J5*J5 -> 6250000
B6: USA | C6: Local Market | D6: USD | E6: 0.07 | F6: MASCULIN | G6: EDT | H6: Bvlgari | I6: Aqva pour Homme EDT 100ml | J6: 2500 | K6: 100 | L6: 91 | O6: 91 | P6: 802 | Q6: =P6*2 -> 1604 | S6: =J6/2 -> 1250 | T6: =J6*J6 -> 6250000
B7: USA | C7: Local Market | D7: USD | E7: 0.07 | F7: MASCULIN | G7: EDT | H7: Cartier | I7: Declaration D´un Soir 100 ml | J7: 2500 | K7: 100 | L7: 108 | O7: 108 | P7: 1202 | Q7: =P7*2 -> 2404 | S7: =J7/2 -> 1250 | T7: =J7*J7 -> 6250000
B8: USA | C8: Local Market | D8: USD | E8: 0.07 | F8: MASCULIN | G8: EDT | H8: Cartier | I8: Declaration EDT 100 ml | J8: 2500 | K8: 100 | L8: 108 | O8: 108 | P8: 1202 | Q8: =P8*2 -> 2404 | S8: =J8/2 -> 1250 | T8: =J8*J8 -> 6250000
B9: USA | C9: Local Market | D9: USD | E9: 0.07 | F9: MASCULIN | G9: EDP | H9: Chanel | I9: Bleu de Chanel EDP 150ml | J9: 5625 | K9: 150 | L9: 155 | O9: 155 | P9: 1602 | Q9: =P9*2 -> 3204 | S9: =J9/2 -> 2812.5 | T9: =J9*J9 -> 31640625
B10: USA | C10: Local Market | D10: USD | E10: 0.07 | F10: MASCULIN | G10: EDP | H10: Chanel | I10: Bleu de Chanel EDP 100ml | J10: 2500 | K10: 100 | L10: 120 | O10: 120 | P10: 1602 | Q10: =P10*2 -> 3204 | S10: =J10/2 -> 1250 | T10: =J10*J10 -> 6250000
B11: USA | C11: Local Market | D11: USD | E11: 0.07 | F11: MASCULIN | G11: EDT | H11: Chanel | I11: Allure EDT 100ml | J11: 2500 | K11: 100 | L11: 102 | O11: 102 | P11: 2002 | Q11: =P11*2 -> 4004 | S11: =J11/2 -> 1250 | T11: =J11*J11 -> 6250000
B12: USA | C12: Local Market | D12: USD | E12: 0.07 | F12: MASCULIN | G12: EDP | H12: Chanel | I12: Bleu de Chanel EDP 50ml | J12: 625 | K12: 50 | L12: 95 | O12: 95 | P12: 1602 | Q12: =P12*2 -> 3204 | S12: =J12/2 -> 312.5 | T12: =J12*J12 -> 390625
B13: USA | C13: Local Market | D13: USD | E13: 0.07 | F13: MASCULIN | G13: EDT | H13: Chanel | I13: Bleu de Chanel EDT 100ml | J13: 2500 | K13: 100 | L13: 95 | O13: 95 | P13: 2002 | Q13: =P13*2 -> 4004 | S13: =J13/2 -> 1250 | T13: =J13*J13 -> 6250000
... B17: USA | C17: Local Market | D17: USD | E17: 0.07 | F17: MASCULIN | G17: EDT | H17: Dior | I17: Dior Sauvage EDT 60ML | J17: 1406.25 | K17: 60 | L17: 77 | O17: 77 | P17: 2402 | Q17: =P17*2 -> 4804 | S17: =J17/2 -> 703.125 | T17: =J17*J17 -> 1977539.1
A18: 26085 | B18: USA | C18: Local Market | D18: USD | E18: 0.07 | F18: MASCULIN | G18: EDP | H18: HERMES | I18: TDH PP VAP 200ML | J18: 10000 | K18: 200 | L18: 220 | O18: 220 | P18: 2802 | Q18: =P18*2 -> 5604 | S18: =J18/2 -> 5000 | T18: =J18*J18 -> 100000000
A19: 23659 | B19: USA | C19: Local Market | D19: USD | E19: 0.07 | F19: MASCULIN | G19: EDT | H19: HERMES | I19: TDH EDT VAP 200ML | J19: 10000 | K19: 200 | L19: 165 | O19: 165 | P19: 3202 | Q19: =P19*2 -> 6404 | S19: =J19/2 -> 5000 | T19: =J19*J19 -> 100000000
A20: 28765 | B20: USA | C20: Local Market | D20: USD | E20: 0.07 | F20: MASCULIN | G20: EDP | H20: HERMES | I20: VDH PP VAP-R 100ML | J20: 2500 | K20: 100 | L20: 150 | O20: 150 | P20: 2802 | Q20: =P20*2 -> 5604 | S20: =J20/2 -> 1250 | T20: =J20*J20 -> 6250000
A21: 26214 | B21: USA | C21: Local Market | D21: USD | E21: 0.07 | F21: MASCULIN | G21: EDT | H21: HERMES | I21: VDH EDT VAP-R 100ML | J21: 2500 | K21: 100 | L21: 140 | O21: 140 | P21: 3202 | Q21: =P21*2 -> 6404 | S21: =J21/2 -> 1250 | T21: =J21*J21 -> 6250000
A22: 24578 | B22: USA | C22: Local Market | D22: USD | E22: 0.07 | F22: MASCULIN | G22: EDP | H22: HERMES | I22: TDH PP VAP 75ML | J22: 1406.25 | K22: 75 | L22: 135 | O22: 135 | P22: 2802 | Q22: =P22*2 -> 5604 | S22: =J22/2 -> 703.125 | T22: =J22*J22 -> 1977539.1
A23: 38302 | B23: USA | C23: Local Market | D23: USD | E23: 0.07 | F23: MASCULIN | G23: EDC | H23: HERMES | I23: EOV EDC VAP 100ML | J23: 2500 | K23: 100 | L23: 130 | O23: 130 | P23: 3602 | Q23: =P23*2 -> 7204 | S23: =J23/2 -> 1250 | T23: =J23*J23 -> 6250000
A24: 37065 | B24: USA | C24: Local Market | D24: USD | E24: 0.07 | F24: MASCULIN | G24: EDC | H24: HERMES | I24: ERE EDC VAP 100ML | J24: 2500 | K24: 100 | L24: 130 | O24: 130 | P24: 3602 | Q24: =P24*2 -> 7204 | S24: =J24/2 -> 1250 | T24: =J24*J24 -> 6250000
A25: 20872 | B25: USA | C25: Local Market | D25: USD | E25: 0.07 | F25: MASCULIN | G25: EDT | H25: HERMES | I25: TDH EDT VAP 100ML | J25: 2500 | K25: 100 | L25: 120 | O25: 120 | P25: 3202 | Q25: =P25*2 -> 6404 | S25: =J25/2 -> 1250 | T25: =J25*J25 -> 6250000
A26: 34656 | B26: USA | C26: Local Market | D26: USD | E26: 0.07 | F26: MASCULIN | G26: EDT | H26: HERMES | I26: TDH ETF VAP 75ML | J26: 1406.25 | K26: 75 | L26: 90 | O26: 90 | P26: 3202 | Q26: =P26*2 -> 6404 | S26: =J26/2 -> 703.125 | T26: =J26*J26 -> 1977539.1
A27: 20873 | B27: USA | C27: Local Market | D27: USD | E27: 0.07 | F27: MASCULIN | G27: EDT | H27: HERMES | I27: TDH EDT VAP 50ML | J27: 625 | K27: 50 | L27: 86 | O27: 86 | P27: 3202 | Q27: =P27*2 -> 6404 | S27: =J27/2 -> 312.5 | T27: =J27*J27 -> 390625
B28: USA | C28: Local Market | D28: USD | E28: 0.07 | F28: MASCULIN | G28: EDC | H28: Jo Malone | I28: EDC 100ml | J28: 2500 | K28: 100 | L28: 136 | O28: 136 | P28: 4002 | Q28: =P28*2 -> 8004 | S28: =J28/2 -> 1250 | T28: =J28*J28 -> 6250000
B29: USA | C29: Local Market | D29: USD | E29: 0.07 | F29: MASCULIN | G29: EDP | H29: Tom Ford | I29: Neroli Portofino EDP 100ml | J29: 2500 | K29: 100 | L29: 320 | O29: 320 | P29: 4402 | Q29: =P29*2 -> 8804 | S29: =J29/2 -> 1250 | T29: =J29*J29 -> 6250000
B30: USA | C30: Local Market | D30: USD | E30: 0.07 | F30: MASCULIN | G30: EDP | H30: Tom Ford | I30: Noir 100ml | J30: 2500 | K30: 100 | L30: 166 | O30: 166 | P30: 4402 | Q30: =P30*2 -> 8804 | S30: =J30/2 -> 1250 | T30: =J30*J30 -> 6250000

Sheet USA F
A1: HERMES SKU | B1: COUNTRY | C1: CHANNEL | D1: CURRENCY | E1: VAT | F1: FEMININ/MASCULIN | G1: CONCENTRATION | H1: Brand | I1: Product | J1: DOT SIZE | K1: Size (ml) | L1: 2018 July | M1: 2017 July | N1: 2016 July | O1: Diff2018 vs 2017
B2: USA | C2: Local Market | D2: USD | E2: 0.07 | F2: FEMININ | G2: EDP | H2: Armani | I2: Si EDP 100ml | J2: 1 | K2: 100 | L2: 120 | O2: 120
B3: USA | C3: Local Market | D3: USD | E3: 0.07 | F3: FEMININ | G3: EDP | H3: Armani | I3: Si EDP 50ml | J3: 0.5 | K3: 50 | L3: 92 | O3: 92
B4: USA | C4: Local Market | D4: USD | E4: 0.07 | F4: FEMININ | G4: EDP | H4: Armani | I4: Si EDP 30ml | J4: 0.5 | K4: 30 | L4: 72 | O4: 72
B5: USA | C5: Local Market | D5: USD | E5: 0.07 | F5: FEMININ | G5: EDT | H5: Armani | I5: Si EDT 100ml | J5: 1 | K5: 100 | L5: 93 | O5: 93
B6: USA | C6: Local Market | D6: USD | E6: 0.07 | F6: MASCULIN | G6: EDP | H6: Armani | I6: Acqua Di Gio EDP 125ml | J6: 1.25 | K6: 125 | L6: 130 | O6: 130
B7: USA | C7: Local Market | D7: USD | E7: 0.07 | F7: MASCULIN | G7: EDT | H7: Armani | I7: Acqua Di Gio EDT 50ml | J7: 0.5 | K7: 50 | L7: 68 | O7: 68
B8: USA | C8: Local Market | D8: USD | E8: 0.07 | F8: MASCULIN | G8: EDT | H8: Armani | I8: Acqua Di Gio EDT 100ml | J8: 1 | K8: 100 | L8: 85 | O8: 85
B9: USA | C9: Local Market | D9: USD | E9: 0.07 | F9: FEMININ | G9: EDP | H9: Bvlgari | I9: Eau parfumee 150ml | J9: 1.5 | K9: 150 | L9: 97 | O9: 97
B10: USA | C10: Local Market | D10: USD | E10: 0.07 | F10: FEMININ | G10: EDT | H10: Bvlgari | I10: Omnia Crystalline EDT 65 ml | J10: 0.75 | K10: 65 | L10: 84 | O10: 84
B11: USA | C11: Local Market | D11: USD | E11: 0.07 | F11: MASCULIN | G11: EDT | H11: Bvlgari | I11: Aqva pour Homme EDT 100ml | J11: 1 | K11: 100 | L11: 91 | O11: 91
B12: USA | C12: Local Market | D12: USD | E12: 0.07 | F12: MASCULIN | G12: EDT | H12: Bvlgari | I12: MAN EDT 100ml | J12: 1 | K12: 100 | L12: 92 | O12: 92
B13: USA | C13: Local Market | D13: USD | E13: 0.07 | F13: FEMININ | G13: EDP | H13: Cartier | I13: Baiser vole EDP100ml | J13: 1 | K13: 100 | L13: 150 | O13: 150
... B38: USA | C38: Local Market | D38: USD | E38: 0.07 | F38: MASCULIN | G38: EDT | H38: Dior | I38: Dior Sauvage EDT 60ML | J38: 0.75 | K38: 60 | L38: 77 | O38: 77
A39: 36988 | B39: USA | C39: Local Market | D39: USD | E39: 0.07 | F39: FEMININ | G39: EDP | H39: HERMES | I39: TWI EDP VAP 85ML | J39: 0.75 | K39: 85 | L39: 130 | O39: 130
A40: 36987 | B40: USA | C40: Local Market | D40: USD | E40: 0.07 | F40: FEMININ | G40: EDP | H40: HERMES | I40: TWI EDP VAP 50ML | J40: 0.5 | K40: 50 | L40: 100 | O40: 100
A41: 36986 | B41: USA | C41: Local Market | D41: USD | E41: 0.07 | F41: FEMININ | G41: EDP | H41: HERMES | I41: TWI EDP VAP 30ML | J41: 0.5 | K41: 30 | L41: 79 | O41: 79
A42: 20396 | B42: USA | C42: Local Market | D42: USD | E42: 0.07 | F42: FEMININ | G42: EDT | H42: HERMES | I42: JSN EDT VAP 100ML | J42: 1 | K42: 100 | L42: 138 | O42: 138
A43: 20397 | B43: USA | C43: Local Market | D43: USD | E43: 0.07 | F43: FEMININ | G43: EDT | H43: HERMES | I43: JSN EDT VAP 50ML | J43: 0.5 | K43: 50 | L43: 100 | O43: 100
A44: 20048/1 | B44: USA | C44: Local Market | D44: USD | E44: 0.07 | F44: FEMININ | G44: EDT | H44: HERMES | I44: EDM EDT VAP 100ML | J44: 1 | K44: 100 | L44: 148 | O44: 148
A45: 20049/1 | B45: USA | C45: Local Market | D45: USD | E45: 0.07 | F45: FEMININ | G45: EDT | H45: HERMES | I45: EDM EDT VAP 50ML | J45: 0.5 | K45: 50 | L45: 110 | O45: 110
A46: 23659 | B46: USA | C46: Local Market | D46: USD | E46: 0.07 | F46: MASCULIN | G46: EDT | H46: HERMES | I46: TDH EDT VAP 200ML | J46: 2 | K46: 200 | L46: 165 | O46: 165
A47: 20872 | B47: USA | C47: Local Market | D47: USD | E47: 0.07 | F47: MASCULIN | G47: EDT | H47: HERMES | I47: TDH EDT VAP 100ML | J47: 1 | K47: 100 | L47: 120 | O47: 120
A48: 20873 | B48: USA | C48: Local Market | D48: USD | E48: 0.07 | F48: MASCULIN | G48: EDT | H48: HERMES | I48: TDH EDT VAP 50ML | J48: 0.5 | K48: 50 | L48: 86 | O48: 86
A49: 34656 | B49: USA | C49: Local Market | D49: USD | E49: 0.07 | F49: MASCULIN | G49: EDT | H49: HERMES | I49: TDH ETF VAP 75ML | J49: 0.75 | K49: 75 | L49: 90 | O49: 90
A50: 26085 | B50: USA | C50: Local Market | D50: USD | E50: 0.07 | F50: MASCULIN | G50: EDP | H50: HERMES | I50: TDH PP VAP 200ML | J50: 2 | K50: 200 | L50: 220 | O50: 220
A51: 24578 | B51: USA | C51: Local Market | D51: USD | E51: 0.07 | F51: MASCULIN | G51: EDP | H51: HERMES | I51: TDH PP VAP 75ML | J51: 0.75 | K51: 75 | L51: 135 | O51: 135
A52: 38302 | B52: USA | C52: Local Market | D52: USD | E52: 0.07 | F52: MASCULIN | G52: EDC | H52: HERMES | I52: EOV EDC VAP 100ML | J52: 1 | K52: 100 | L52: 130 | O52: 130
A53: 37065 | B53: USA | C53: Local Market | D53: USD | E53: 0.07 | F53: MASCULIN | G53: EDC | H53: HERMES | I53: ERE EDC VAP 100ML | J53: 1 | K53: 100 | L53: 130 | O53: 130
A54: 26214 | B54: USA | C54: Local Market | D54: USD | E54: 0.07 | F54: MASCULIN | G54: EDT | H54: HERMES | I54: VDH EDT VAP-R 100ML | J54: 1 | K54: 100 | L54: 140 | O54: 140
A55: 28765 | B55: USA | C55: Local Market | D55: USD | E55: 0.07 | F55: MASCULIN | G55: EDP | H55: HERMES | I55: VDH PP VAP-R 100ML | J55: 1 | K55: 100 | L55: 150 | O55: 150
B56: USA | C56: Local Market | D56: USD | E56: 0.07 | F56: MASCULIN | G56: EDC | H56: Jo Malone | I56: EDC 100ml | J56: 1 | K56: 100 | L56: 136 | O56: 136
B57: USA | C57: Local Market | D57: USD | E57: 0.07 | F57: FEMININ | G57: EDP | H57: Lancome | I57: La Vie est Belle EDP 100ml | J57: 1 | K57: 100 | L57: 126 | O57: 126
B58: USA | C58: Local Market | D58: USD | E58: 0.07 | F58: FEMININ | G58: EDT | H58: Lancome | I58: La Vie est Belle EDP 50ml | J58: 0.5 | K58: 50 | L58: 94 | O58: 94
B59: USA | C59: Local Market | D59: USD | E59: 0.07 | F59: FEMININ | G59: EDP | H59: Prada | I59: Candy EDP 80ml | J59: 0.75 | K59: 80 | L59: 122 | O59: 122
B60: USA | C60: Local Market | D60: USD | E60: 0.07 | F60: FEMININ | G60: EDP | H60: Prada | I60: Candy EDP 50ml | J60: 0.5 | K60: 50 | L60: 92 | O60: 92
B61: USA | C61: Local Market | D61: USD | E61: 0.07 | F61: MASCULIN | G61: EDP | H61: Tom Ford | I61: Neroli Portofino EDP 100ml | J61: 1 | K61: 100 | L61: 320 | O61: 320
B62: USA | C62: Local Market | D62: USD | E62: 0.07 | F62: MASCULIN | G62: EDP | H62: Tom Ford | I62: Noir 100ml | J62: 1 | K62: 100 | L62: 166 | O62: 166

Sheet LIST
A1: Local Market
A2: Travel Retail | D2: COUNTRY | F2: FEMININ
D3: Argentina | F3: MASCULIN
D4: BRAZIL
A5: WITH VAT | D5: COLOMBIA
A6: WITHOUT VAT | D6: COSTA RICA
D7: GUATEMALA
D8: México
D9: PANAMA
D10: PERU
D11: Uruguay
D12: USA

Sheet DB
H1: BENCHMARK - PRICE ANALYSIS
H3: COUNTRY
H4: CHANNEL LM OR TR
H5: CURRENCY
H6: VAT (%)
H7: RETAIL PRICE INCLUDING VAT?
L9: RETAIL PRICE
A11: HERMES SKU | B11: COUNTRY | C11: CHANNEL | D11: CURRENCY | E11: VAT | F11: FEMININ/MASCULIN | G11: CONCENTRATION | H11: Brand | I11: Product | J11: DOT SIZE | K11: Size (ml) | L11: 2018 July | M11: 2017 July | N11: 2016 July | O11: Diff2018 vs 2017 | P11: HERMES | Q11: Armani | R11: Bvlgari | S11: Cartier | T11: Chanel | U11: Dior | V11: Jo Malone | W11: Lancome | X11: Prada | Y11: Tom Ford | Z11: Guerlain | AA11: Carolina Herrera | AB11: Loewe | AC11: Givenchy
A12: 23659 | B12: Argentina | C12: Local Market | D12: ARS | E12: 0.21 | F12: MASCULIN | G12: EDT | H12: HERMES | I12: TDH EDT VAP 200ML | J12: 2 | K12: 200 | L12: 5400 | O12: 1800 | P12: =IF(AND($H12=P$11,$F12=Graphique!$A$2,$B12=Graphique!$A$1),MAX(P$11:P11)+1,"") | Q12: =IF(AND($H12=Q$11,$F12=Graphique!$A$2,$B12=Graphique!$A$1),MAX(Q$11:Q11)+1,"") | R12: =IF(AND($H12=R$11,$F12=Graphique!$A$2,$B12=Graphique!$A$1),MAX(R$11:R11)+1,"") | S12: =IF(AND($H12=S$11,$F12=Graphique!$A$2,$B12=Graphique!$A$1),MAX(S$11:S11)+1,"") | T12: =IF(AND($H12=T$11,$F12=Graphique!$A$2,$B12=Graphique!$A$1),MAX(T$11:T11)+1,"") | U12: =IF(AND($H12=U$11,$F12=Graphique!$A$2,$B12=Graphique!$A$1),MAX(U$11:U11)+1,"") | V12: =IF(AND($H12=V$11,$F12=Graphique!$A$2,$B12=Graphique!$A$1),MAX(V$11:V11)+1,"") | W12: =IF(AND($H12=W$11,$F12=Graphique!$A$2,$B12=Graphique!$A$1),MAX(W$11:W11)+1,"") | ... AC12: =IF(AND($H12=AC$11,$F12=Graphique!$A$2,$B12=Graphique!$A$1),MAX(AC$11:AC11)+1,"")
A13: 20872 | B13: Argentina | C13: Local Market | D13: ARS | E13: 0.21 | F13: MASCULIN | G13: EDT | H13: HERMES | I13: TDH EDT VAP 100ML | J13: 1 | K13: 100 | L13: 3500 | O13: 1000 | P13: =IF(AND($H13=P$11,$F13=Graphique!$A$2,$B13=Graphique!$A$1),MAX(P$11:P12)+1,"") | Q13: =IF(AND($H13=Q$11,$F13=Graphique!$A$2,$B13=Graphique!$A$1),MAX(Q$11:Q12)+1,"") | R13: =IF(AND($H13=R$11,$F13=Graphique!$A$2,$B13=Graphique!$A$1),MAX(R$11:R12)+1,"") | S13: =IF(AND($H13=S$11,$F13=Graphique!$A$2,$B13=Graphique!$A$1),MAX(S$11:S12)+1,"") | T13: =IF(AND($H13=T$11,$F13=Graphique!$A$2,$B13=Graphique!$A$1),MAX(T$11:T12)+1,"") | U13: =IF(AND($H13=U$11,$F13=Graphique!$A$2,$B13=Graphique!$A$1),MAX(U$11:U12)+1,"") | V13: =IF(AND($H13=V$11,$F13=Graphique!$A$2,$B13=Graphique!$A$1),MAX(V$11:V12)+1,"") | W13: =IF(AND($H13=W$11,$F13=Graphique!$A$2,$B13=Graphique!$A$1),MAX(W$11:W12)+1,"") | ... AC13: =IF(AND($H13=AC$11,$F13=Graphique!$A$2,$B13=Graphique!$A$1),MAX(AC$11:AC12)+1,"")
A14: 20873 | B14: Argentina | C14: Local Market | D14: ARS | E14: 0.21 | F14: MASCULIN | G14: EDT | H14: HERMES | I14: TDH EDT VAP 50ML | J14: 0.5 | K14: 50 | L14: 2500 | O14: 700 | P14: =IF(AND($H14=P$11,$F14=Graphique!$A$2,$B14=Graphique!$A$1),MAX(P$11:P13)+1,"") | Q14: =IF(AND($H14=Q$11,$F14=Graphique!$A$2,$B14=Graphique!$A$1),MAX(Q$11:Q13)+1,"") | R14: =IF(AND($H14=R$11,$F14=Graphique!$A$2,$B14=Graphique!$A$1),MAX(R$11:R13)+1,"") | S14: =IF(AND($H14=S$11,$F14=Graphique!$A$2,$B14=Graphique!$A$1),MAX(S$11:S13)+1,"") | T14: =IF(AND($H14=T$11,$F14=Graphique!$A$2,$B14=Graphique!$A$1),MAX(T$11:T13)+1,"") | U14: =IF(AND($H14=U$11,$F14=Graphique!$A$2,$B14=Graphique!$A$1),MAX(U$11:U13)+1,"") | V14: =IF(AND($H14=V$11,$F14=Graphique!$A$2,$B14=Graphique!$A$1),MAX(V$11:V13)+1,"") | W14: =IF(AND($H14=W$11,$F14=Graphique!$A$2,$B14=Graphique!$A$1),MAX(W$11:W13)+1,"") | ... AC14: =IF(AND($H14=AC$11,$F14=Graphique!$A$2,$B14=Graphique!$A$1),MAX(AC$11:AC13)+1,"")
A15: 34656 | B15: Argentina | C15: Local Market | D15: ARS | E15: 0.21 | F15: MASCULIN | G15: EDT | H15: HERMES | I15: TDH ETF VAP 75ML | J15: 0.75 | K15: 75 | L15: 2850 | O15: 850 | P15: =IF(AND($H15=P$11,$F15=Graphique!$A$2,$B15=Graphique!$A$1),MAX(P$11:P14)+1,"") | Q15: =IF(AND($H15=Q$11,$F15=Graphique!$A$2,$B15=Graphique!$A$1),MAX(Q$11:Q14)+1,"") | R15: =IF(AND($H15=R$11,$F15=Graphique!$A$2,$B15=Graphique!$A$1),MAX(R$11:R14)+1,"") | S15: =IF(AND($H15=S$11,$F15=Graphique!$A$2,$B15=Graphique!$A$1),MAX(S$11:S14)+1,"") | T15: =IF(AND($H15=T$11,$F15=Graphique!$A$2,$B15=Graphique!$A$1),MAX(T$11:T14)+1,"") | U15: =IF(AND($H15=U$11,$F15=Graphique!$A$2,$B15=Graphique!$A$1),MAX(U$11:U14)+1,"") | V15: =IF(AND($H15=V$11,$F15=Graphique!$A$2,$B15=Graphique!$A$1),MAX(V$11:V14)+1,"") | W15: =IF(AND($H15=W$11,$F15=Graphique!$A$2,$B15=Graphique!$A$1),MAX(W$11:W14)+1,"") | ... AC15: =IF(AND($H15=AC$11,$F15=Graphique!$A$2,$B15=Graphique!$A$1),MAX(AC$11:AC14)+1,"")
A16: 26085 | B16: Argentina | C16: Local Market | D16: ARS | E16: 0.21 | F16: MASCULIN | G16: EDP | H16: HERMES | I16: TDH PP VAP 200ML | J16: 2 | K16: 200 | L16: 6440 | O16: 6440 | P16: =IF(AND($H16=P$11,$F16=Graphique!$A$2,$B16=Graphique!$A$1),MAX(P$11:P15)+1,"") | Q16: =IF(AND($H16=Q$11,$F16=Graphique!$A$2,$B16=Graphique!$A$1),MAX(Q$11:Q15)+1,"") | R16: =IF(AND($H16=R$11,$F16=Graphique!$A$2,$B16=Graphique!$A$1),MAX(R$11:R15)+1,"") | S16: =IF(AND($H16=S$11,$F16=Graphique!$A$2,$B16=Graphique!$A$1),MAX(S$11:S15)+1,"") | T16: =IF(AND($H16=T$11,$F16=Graphique!$A$2,$B16=Graphique!$A$1),MAX(T$11:T15)+1,"") | U16: =IF(AND($H16=U$11,$F16=Graphique!$A$2,$B16=Graphique!$A$1),MAX(U$11:U15)+1,"") | V16: =IF(AND($H16=V$11,$F16=Graphique!$A$2,$B16=Graphique!$A$1),MAX(V$11:V15)+1,"") | W16: =IF(AND($H16=W$11,$F16=Graphique!$A$2,$B16=Graphique!$A$1),MAX(W$11:W15)+1,"") | ... AC16: =IF(AND($H16=AC$11,$F16=Graphique!$A$2,$B16=Graphique!$A$1),MAX(AC$11:AC15)+1,"")
A17: 24578 | B17: Argentina | C17: Local Market | D17: ARS | E17: 0.21 | F17: MASCULIN | G17: EDP | H17: HERMES | I17: TDH PP VAP 75ML | J17: 0.75 | K17: 75 | L17: 3940 | O17: 1440 | P17: =IF(AND($H17=P$11,$F17=Graphique!$A$2,$B17=Graphique!$A$1),MAX(P$11:P16)+1,"") | Q17: =IF(AND($H17=Q$11,$F17=Graphique!$A$2,$B17=Graphique!$A$1),MAX(Q$11:Q16)+1,"") | R17: =IF(AND($H17=R$11,$F17=Graphique!$A$2,$B17=Graphique!$A$1),MAX(R$11:R16)+1,"") | S17: =IF(AND($H17=S$11,$F17=Graphique!$A$2,$B17=Graphique!$A$1),MAX(S$11:S16)+1,"") | T17: =IF(AND($H17=T$11,$F17=Graphique!$A$2,$B17=Graphique!$A$1),MAX(T$11:T16)+1,"") | U17: =IF(AND($H17=U$11,$F17=Graphique!$A$2,$B17=Graphique!$A$1),MAX(U$11:U16)+1,"") | V17: =IF(AND($H17=V$11,$F17=Graphique!$A$2,$B17=Graphique!$A$1),MAX(V$11:V16)+1,"") | W17: =IF(AND($H17=W$11,$F17=Graphique!$A$2,$B17=Graphique!$A$1),MAX(W$11:W16)+1,"") | ... AC17: =IF(AND($H17=AC$11,$F17=Graphique!$A$2,$B17=Graphique!$A$1),MAX(AC$11:AC16)+1,"")
A18: 36988 | B18: Argentina | C18: Local Market | D18: ARS | E18: 0.21 | F18: FEMININ | G18: EDP | H18: HERMES | I18: TWI EDP VAP 85ML | J18: 0.75 | K18: 85 | L18: 3790 | O18: 1040 | P18: =IF(AND($H18=P$11,$F18=Graphique!$A$2,$B18=Graphique!$A$1),MAX(P$11:P17)+1,"") | Q18: =IF(AND($H18=Q$11,$F18=Graphique!$A$2,$B18=Graphique!$A$1),MAX(Q$11:Q17)+1,"") | R18: =IF(AND($H18=R$11,$F18=Graphique!$A$2,$B18=Graphique!$A$1),MAX(R$11:R17)+1,"") | S18: =IF(AND($H18=S$11,$F18=Graphique!$A$2,$B18=Graphique!$A$1),MAX(S$11:S17)+1,"") | T18: =IF(AND($H18=T$11,$F18=Graphique!$A$2,$B18=Graphique!$A$1),MAX(T$11:T17)+1,"") | U18: =IF(AND($H18=U$11,$F18=Graphique!$A$2,$B18=Graphique!$A$1),MAX(U$11:U17)+1,"") | V18: =IF(AND($H18=V$11,$F18=Graphique!$A$2,$B18=Graphique!$A$1),MAX(V$11:V17)+1,"") | W18: =IF(AND($H18=W$11,$F18=Graphique!$A$2,$B18=Graphique!$A$1),MAX(W$11:W17)+1,"") | ... AC18: =IF(AND($H18=AC$11,$F18=Graphique!$A$2,$B18=Graphique!$A$1),MAX(AC$11:AC17)+1,"")
A19: 36987 | B19: Argentina | C19: Local Market | D19: ARS | E19: 0.21 | F19: FEMININ | G19: EDP | H19: HERMES | I19: TWI EDP VAP 50ML | J19: 0.5 | K19: 50 | L19: 2910 | O19: 810 | P19: =IF(AND($H19=P$11,$F19=Graphique!$A$2,$B19=Graphique!$A$1),MAX(P$11:P18)+1,"") | Q19: =IF(AND($H19=Q$11,$F19=Graphique!$A$2,$B19=Graphique!$A$1),MAX(Q$11:Q18)+1,"") | R19: =IF(AND($H19=R$11,$F19=Graphique!$A$2,$B19=Graphique!$A$1),MAX(R$11:R18)+1,"") | S19: =IF(AND($H19=S$11,$F19=Graphique!$A$2,$B19=Graphique!$A$1),MAX(S$11:S18)+1,"") | T19: =IF(AND($H19=T$11,$F19=Graphique!$A$2,$B19=Graphique!$A$1),MAX(T$11:T18)+1,"") | U19: =IF(AND($H19=U$11,$F19=Graphique!$A$2,$B19=Graphique!$A$1),MAX(U$11:U18)+1,"") | V19: =IF(AND($H19=V$11,$F19=Graphique!$A$2,$B19=Graphique!$A$1),MAX(V$11:V18)+1,"") | W19: =IF(AND($H19=W$11,$F19=Graphique!$A$2,$B19=Graphique!$A$1),MAX(W$11:W18)+1,"") | ... AC19: =IF(AND($H19=AC$11,$F19=Graphique!$A$2,$B19=Graphique!$A$1),MAX(AC$11:AC18)+1,"")
A20: 36986 | B20: Argentina | C20: Local Market | D20: ARS | E20: 0.21 | F20: FEMININ | G20: EDP | H20: HERMES | I20: TWI EDP VAP 30ML | J20: 0.5 | K20: 30 | L20: 2300 | O20: 630 | P20: =IF(AND($H20=P$11,$F20=Graphique!$A$2,$B20=Graphique!$A$1),MAX(P$11:P19)+1,"") | Q20: =IF(AND($H20=Q$11,$F20=Graphique!$A$2,$B20=Graphique!$A$1),MAX(Q$11:Q19)+1,"") | R20: =IF(AND($H20=R$11,$F20=Graphique!$A$2,$B20=Graphique!$A$1),MAX(R$11:R19)+1,"") | S20: =IF(AND($H20=S$11,$F20=Graphique!$A$2,$B20=Graphique!$A$1),MAX(S$11:S19)+1,"") | T20: =IF(AND($H20=T$11,$F20=Graphique!$A$2,$B20=Graphique!$A$1),MAX(T$11:T19)+1,"") | U20: =IF(AND($H20=U$11,$F20=Graphique!$A$2,$B20=Graphique!$A$1),MAX(U$11:U19)+1,"") | V20: =IF(AND($H20=V$11,$F20=Graphique!$A$2,$B20=Graphique!$A$1),MAX(V$11:V19)+1,"") | W20: =IF(AND($H20=W$11,$F20=Graphique!$A$2,$B20=Graphique!$A$1),MAX(W$11:W19)+1,"") | ... AC20: =IF(AND($H20=AC$11,$F20=Graphique!$A$2,$B20=Graphique!$A$1),MAX(AC$11:AC19)+1,"")
A21: 20396 | B21: Argentina | C21: Local Market | D21: ARS | E21: 0.21 | F21: FEMININ | G21: EDT | H21: HERMES | I21: JSN EDT VAP 100ML | J21: 1 | K21: 100 | L21: 4030 | O21: 1200 | P21: =IF(AND($H21=P$11,$F21=Graphique!$A$2,$B21=Graphique!$A$1),MAX(P$11:P20)+1,"") | Q21: =IF(AND($H21=Q$11,$F21=Graphique!$A$2,$B21=Graphique!$A$1),MAX(Q$11:Q20)+1,"") | R21: =IF(AND($H21=R$11,$F21=Graphique!$A$2,$B21=Graphique!$A$1),MAX(R$11:R20)+1,"") | S21: =IF(AND($H21=S$11,$F21=Graphique!$A$2,$B21=Graphique!$A$1),MAX(S$11:S20)+1,"") | T21: =IF(AND($H21=T$11,$F21=Graphique!$A$2,$B21=Graphique!$A$1),MAX(T$11:T20)+1,"") | U21: =IF(AND($H21=U$11,$F21=Graphique!$A$2,$B21=Graphique!$A$1),MAX(U$11:U20)+1,"") | V21: =IF(AND($H21=V$11,$F21=Graphique!$A$2,$B21=Graphique!$A$1),MAX(V$11:V20)+1,"") | W21: =IF(AND($H21=W$11,$F21=Graphique!$A$2,$B21=Graphique!$A$1),MAX(W$11:W20)+1,"") | ... AC21: =IF(AND($H21=AC$11,$F21=Graphique!$A$2,$B21=Graphique!$A$1),MAX(AC$11:AC20)+1,"")
A22: 20397 | B22: Argentina | C22: Local Market | D22: ARS | E22: 0.21 | F22: FEMININ | G22: EDT | H22: HERMES | I22: JSN EDT VAP 50ML | J22: 0.5 | K22: 50 | L22: 2910 | O22: 860 | P22: =IF(AND($H22=P$11,$F22=Graphique!$A$2,$B22=Graphique!$A$1),MAX(P$11:P21)+1,"") | Q22: =IF(AND($H22=Q$11,$F22=Graphique!$A$2,$B22=Graphique!$A$1),MAX(Q$11:Q21)+1,"") | R22: =IF(AND($H22=R$11,$F22=Graphique!$A$2,$B22=Graphique!$A$1),MAX(R$11:R21)+1,"") | S22: =IF(AND($H22=S$11,$F22=Graphique!$A$2,$B22=Graphique!$A$1),MAX(S$11:S21)+1,"") | T22: =IF(AND($H22=T$11,$F22=Graphique!$A$2,$B22=Graphique!$A$1),MAX(T$11:T21)+1,"") | U22: =IF(AND($H22=U$11,$F22=Graphique!$A$2,$B22=Graphique!$A$1),MAX(U$11:U21)+1,"") | V22: =IF(AND($H22=V$11,$F22=Graphique!$A$2,$B22=Graphique!$A$1),MAX(V$11:V21)+1,"") | W22: =IF(AND($H22=W$11,$F22=Graphique!$A$2,$B22=Graphique!$A$1),MAX(W$11:W21)+1,"") | ... AC22: =IF(AND($H22=AC$11,$F22=Graphique!$A$2,$B22=Graphique!$A$1),MAX(AC$11:AC21)+1,"")
A23: 38302 | B23: Argentina | C23: Local Market | D23: ARS | E23: 0.21 | F23: MASCULIN | G23: EDC | H23: HERMES | I23: EOV EDC VAP 100ML | J23: 1 | K23: 100 | L23: 2570 | O23: 540 | P23: =IF(AND($H23=P$11,$F23=Graphique!$A$2,$B23=Graphique!$A$1),MAX(P$11:P22)+1,"") | Q23: =IF(AND($H23=Q$11,$F23=Graphique!$A$2,$B23=Graphique!$A$1),MAX(Q$11:Q22)+1,"") | R23: =IF(AND($H23=R$11,$F23=Graphique!$A$2,$B23=Graphique!$A$1),MAX(R$11:R22)+1,"") | S23: =IF(AND($H23=S$11,$F23=Graphique!$A$2,$B23=Graphique!$A$1),MAX(S$11:S22)+1,"") | T23: =IF(AND($H23=T$11,$F23=Graphique!$A$2,$B23=Graphique!$A$1),MAX(T$11:T22)+1,"") | U23: =IF(AND($H23=U$11,$F23=Graphique!$A$2,$B23=Graphique!$A$1),MAX(U$11:U22)+1,"") | V23: =IF(AND($H23=V$11,$F23=Graphique!$A$2,$B23=Graphique!$A$1),MAX(V$11:V22)+1,"") | W23: =IF(AND($H23=W$11,$F23=Graphique!$A$2,$B23=Graphique!$A$1),MAX(W$11:W22)+1,"") | ... AC23: =IF(AND($H23=AC$11,$F23=Graphique!$A$2,$B23=Graphique!$A$1),MAX(AC$11:AC22)+1,"")
A24: 37065 | B24: Argentina | C24: Local Market | D24: ARS | E24: 0.21 | F24: MASCULIN | G24: EDC | H24: HERMES | I24: ERE EDC VAP 100ML | J24: 1 | K24: 100 | L24: 2910 | O24: 990 | P24: =IF(AND($H24=P$11,$F24=Graphique!$A$2,$B24=Graphique!$A$1),MAX(P$11:P23)+1,"") | Q24: =IF(AND($H24=Q$11,$F24=Graphique!$A$2,$B24=Graphique!$A$1),MAX(Q$11:Q23)+1,"") | R24: =IF(AND($H24=R$11,$F24=Graphique!$A$2,$B24=Graphique!$A$1),MAX(R$11:R23)+1,"") | S24: =IF(AND($H24=S$11,$F24=Graphique!$A$2,$B24=Graphique!$A$1),MAX(S$11:S23)+1,"") | T24: =IF(AND($H24=T$11,$F24=Graphique!$A$2,$B24=Graphique!$A$1),MAX(T$11:T23)+1,"") | U24: =IF(AND($H24=U$11,$F24=Graphique!$A$2,$B24=Graphique!$A$1),MAX(U$11:U23)+1,"") | V24: =IF(AND($H24=V$11,$F24=Graphique!$A$2,$B24=Graphique!$A$1),MAX(V$11:V23)+1,"") | W24: =IF(AND($H24=W$11,$F24=Graphique!$A$2,$B24=Graphique!$A$1),MAX(W$11:W23)+1,"") | ... AC24: =IF(AND($H24=AC$11,$F24=Graphique!$A$2,$B24=Graphique!$A$1),MAX(AC$11:AC23)+1,"")
A25: 20048/1 | B25: Argentina | C25: Local Market | D25: ARS | E25: 0.21 | F25: FEMININ | G25: EDT | H25: HERMES | I25: EDM EDT VAP 100ML | J25: 1 | K25: 100 | L25: 4320 | O25: 1300 | P25: =IF(AND($H25=P$11,$F25=Graphique!$A$2,$B25=Graphique!$A$1),MAX(P$11:P24)+1,"") | Q25: =IF(AND($H25=Q$11,$F25=Graphique!$A$2,$B25=Graphique!$A$1),MAX(Q$11:Q24)+1,"") | R25: =IF(AND($H25=R$11,$F25=Graphique!$A$2,$B25=Graphique!$A$1),MAX(R$11:R24)+1,"") | S25: =IF(AND($H25=S$11,$F25=Graphique!$A$2,$B25=Graphique!$A$1),MAX(S$11:S24)+1,"") | T25: =IF(AND($H25=T$11,$F25=Graphique!$A$2,$B25=Graphique!$A$1),MAX(T$11:T24)+1,"") | U25: =IF(AND($H25=U$11,$F25=Graphique!$A$2,$B25=Graphique!$A$1),MAX(U$11:U24)+1,"") | V25: =IF(AND($H25=V$11,$F25=Graphique!$A$2,$B25=Graphique!$A$1),MAX(V$11:V24)+1,"") | W25: =IF(AND($H25=W$11,$F25=Graphique!$A$2,$B25=Graphique!$A$1),MAX(W$11:W24)+1,"") | ... AC25: =IF(AND($H25=AC$11,$F25=Graphique!$A$2,$B25=Graphique!$A$1),MAX(AC$11:AC24)+1,"")
A26: 20049/1 | B26: Argentina | C26: Local Market | D26: ARS | E26: 0.21 | F26: FEMININ | G26: EDT | H26: HERMES | I26: EDM EDT VAP 50ML | J26: 0.5 | K26: 50 | L26: 3210 | O26: 980 | P26: =IF(AND($H26=P$11,$F26=Graphique!$A$2,$B26=Graphique!$A$1),MAX(P$11:P25)+1,"") | Q26: =IF(AND($H26=Q$11,$F26=Graphique!$A$2,$B26=Graphique!$A$1),MAX(Q$11:Q25)+1,"") | R26: =IF(AND($H26=R$11,$F26=Graphique!$A$2,$B26=Graphique!$A$1),MAX(R$11:R25)+1,"") | S26: =IF(AND($H26=S$11,$F26=Graphique!$A$2,$B26=Graphique!$A$1),MAX(S$11:S25)+1,"") | T26: =IF(AND($H26=T$11,$F26=Graphique!$A$2,$B26=Graphique!$A$1),MAX(T$11:T25)+1,"") | U26: =IF(AND($H26=U$11,$F26=Graphique!$A$2,$B26=Graphique!$A$1),MAX(U$11:U25)+1,"") | V26: =IF(AND($H26=V$11,$F26=Graphique!$A$2,$B26=Graphique!$A$1),MAX(V$11:V25)+1,"") | W26: =IF(AND($H26=W$11,$F26=Graphique!$A$2,$B26=Graphique!$A$1),MAX(W$11:W25)+1,"") | ... AC26: =IF(AND($H26=AC$11,$F26=Graphique!$A$2,$B26=Graphique!$A$1),MAX(AC$11:AC25)+1,"")
A27: 26214 | B27: Argentina | C27: Local Market | D27: ARS | E27: 0.21 | F27: MASCULIN | G27: EDT | H27: HERMES | I27: VDH EDT VAP-R 100ML | J27: 1 | K27: 100 | L27: 4090 | O27: 1210 | P27: =IF(AND($H27=P$11,$F27=Graphique!$A$2,$B27=Graphique!$A$1),MAX(P$11:P26)+1,"") | Q27: =IF(AND($H27=Q$11,$F27=Graphique!$A$2,$B27=Graphique!$A$1),MAX(Q$11:Q26)+1,"") | R27: =IF(AND($H27=R$11,$F27=Graphique!$A$2,$B27=Graphique!$A$1),MAX(R$11:R26)+1,"") | S27: =IF(AND($H27=S$11,$F27=Graphique!$A$2,$B27=Graphique!$A$1),MAX(S$11:S26)+1,"") | T27: =IF(AND($H27=T$11,$F27=Graphique!$A$2,$B27=Graphique!$A$1),MAX(T$11:T26)+1,"") | U27: =IF(AND($H27=U$11,$F27=Graphique!$A$2,$B27=Graphique!$A$1),MAX(U$11:U26)+1,"") | V27: =IF(AND($H27=V$11,$F27=Graphique!$A$2,$B27=Graphique!$A$1),MAX(V$11:V26)+1,"") | W27: =IF(AND($H27=W$11,$F27=Graphique!$A$2,$B27=Graphique!$A$1),MAX(W$11:W26)+1,"") | ... AC27: =IF(AND($H27=AC$11,$F27=Graphique!$A$2,$B27=Graphique!$A$1),MAX(AC$11:AC26)+1,"")
A28: 28765 | B28: Argentina | C28: Local Market | D28: ARS | E28: 0.21 | F28: MASCULIN | G28: EDP | H28: HERMES | I28: VDH PP VAP-R 100ML | J28: 1 | K28: 100 | L28: 4390 | O28: 1350 | P28: =IF(AND($H28=P$11,$F28=Graphique!$A$2,$B28=Graphique!$A$1),MAX(P$11:P27)+1,"") | Q28: =IF(AND($H28=Q$11,$F28=Graphique!$A$2,$B28=Graphique!$A$1),MAX(Q$11:Q27)+1,"") | R28: =IF(AND($H28=R$11,$F28=Graphique!$A$2,$B28=Graphique!$A$1),MAX(R$11:R27)+1,"") | S28: =IF(AND($H28=S$11,$F28=Graphique!$A$2,$B28=Graphique!$A$1),MAX(S$11:S27)+1,"") | T28: =IF(AND($H28=T$11,$F28=Graphique!$A$2,$B28=Graphique!$A$1),MAX(T$11:T27)+1,"") | U28: =IF(AND($H28=U$11,$F28=Graphique!$A$2,$B28=Graphique!$A$1),MAX(U$11:U27)+1,"") | V28: =IF(AND($H28=V$11,$F28=Graphique!$A$2,$B28=Graphique!$A$1),MAX(V$11:V27)+1,"") | W28: =IF(AND($H28=W$11,$F28=Graphique!$A$2,$B28=Graphique!$A$1),MAX(W$11:W27)+1,"") | ... AC28: =IF(AND($H28=AC$11,$F28=Graphique!$A$2,$B28=Graphique!$A$1),MAX(AC$11:AC27)+1,"")
B29: Argentina | C29: Local Market | D29: ARS | E29: 0.21 | F29: MASCULIN | G29: EDP | H29: Armani | I29: Acqua Di Gio EDP 100ml | J29: 1 | K29: 100 | L29: 3550 | O29: 1150 | P29: =IF(AND($H29=P$11,$F29=Graphique!$A$2,$B29=Graphique!$A$1),MAX(P$11:P28)+1,"") | Q29: =IF(AND($H29=Q$11,$F29=Graphique!$A$2,$B29=Graphique!$A$1),MAX(Q$11:Q28)+1,"") | R29: =IF(AND($H29=R$11,$F29=Graphique!$A$2,$B29=Graphique!$A$1),MAX(R$11:R28)+1,"") | S29: =IF(AND($H29=S$11,$F29=Graphique!$A$2,$B29=Graphique!$A$1),MAX(S$11:S28)+1,"") | T29: =IF(AND($H29=T$11,$F29=Graphique!$A$2,$B29=Graphique!$A$1),MAX(T$11:T28)+1,"") | U29: =IF(AND($H29=U$11,$F29=Graphique!$A$2,$B29=Graphique!$A$1),MAX(U$11:U28)+1,"") | V29: =IF(AND($H29=V$11,$F29=Graphique!$A$2,$B29=Graphique!$A$1),MAX(V$11:V28)+1,"") | W29: =IF(AND($H29=W$11,$F29=Graphique!$A$2,$B29=Graphique!$A$1),MAX(W$11:W28)+1,"") | ... AC29: =IF(AND($H29=AC$11,$F29=Graphique!$A$2,$B29=Graphique!$A$1),MAX(AC$11:AC28)+1,"")
B30: Argentina | C30: Local Market | D30: ARS | E30: 0.21 | F30: MASCULIN | G30: EDT | H30: Armani | I30: Acqua Di Gio EDT 50ml | J30: 0.5 | K30: 50 | L30: 1999 | O30: 0 | P30: =IF(AND($H30=P$11,$F30=Graphique!$A$2,$B30=Graphique!$A$1),MAX(P$11:P29)+1,"") | Q30: =IF(AND($H30=Q$11,$F30=Graphique!$A$2,$B30=Graphique!$A$1),MAX(Q$11:Q29)+1,"") | R30: =IF(AND($H30=R$11,$F30=Graphique!$A$2,$B30=Graphique!$A$1),MAX(R$11:R29)+1,"") | S30: =IF(AND($H30=S$11,$F30=Graphique!$A$2,$B30=Graphique!$A$1),MAX(S$11:S29)+1,"") | T30: =IF(AND($H30=T$11,$F30=Graphique!$A$2,$B30=Graphique!$A$1),MAX(T$11:T29)+1,"") | U30: =IF(AND($H30=U$11,$F30=Graphique!$A$2,$B30=Graphique!$A$1),MAX(U$11:U29)+1,"") | V30: =IF(AND($H30=V$11,$F30=Graphique!$A$2,$B30=Graphique!$A$1),MAX(V$11:V29)+1,"") | W30: =IF(AND($H30=W$11,$F30=Graphique!$A$2,$B30=Graphique!$A$1),MAX(W$11:W29)+1,"") | ... AC30: =IF(AND($H30=AC$11,$F30=Graphique!$A$2,$B30=Graphique!$A$1),MAX(AC$11:AC29)+1,"")
B31: Argentina | C31: Local Market | D31: ARS | E31: 0.21 | F31: MASCULIN | G31: EDT | H31: Armani | I31: Acqua Di Gio EDT 100ml | J31: 1 | K31: 100 | L31: 2465 | O31: 0 | P31: =IF(AND($H31=P$11,$F31=Graphique!$A$2,$B31=Graphique!$A$1),MAX(P$11:P30)+1,"") | Q31: =IF(AND($H31=Q$11,$F31=Graphique!$A$2,$B31=Graphique!$A$1),MAX(Q$11:Q30)+1,"") | R31: =IF(AND($H31=R$11,$F31=Graphique!$A$2,$B31=Graphique!$A$1),MAX(R$11:R30)+1,"") | S31: =IF(AND($H31=S$11,$F31=Graphique!$A$2,$B31=Graphique!$A$1),MAX(S$11:S30)+1,"") | T31: =IF(AND($H31=T$11,$F31=Graphique!$A$2,$B31=Graphique!$A$1),MAX(T$11:T30)+1,"") | U31: =IF(AND($H31=U$11,$F31=Graphique!$A$2,$B31=Graphique!$A$1),MAX(U$11:U30)+1,"") | V31: =IF(AND($H31=V$11,$F31=Graphique!$A$2,$B31=Graphique!$A$1),MAX(V$11:V30)+1,"") | W31: =IF(AND($H31=W$11,$F31=Graphique!$A$2,$B31=Graphique!$A$1),MAX(W$11:W30)+1,"") | ... AC31: =IF(AND($H31=AC$11,$F31=Graphique!$A$2,$B31=Graphique!$A$1),MAX(AC$11:AC30)+1,"")
B32: Argentina | C32: Local Market | D32: ARS | E32: 0.21 | F32: FEMININ | G32: EDP | H32: Armani | I32: Si EDP 100ml | J32: 1 | K32: 100 | L32: 3890 | O32: 1040 | P32: =IF(AND($H32=P$11,$F32=Graphique!$A$2,$B32=Graphique!$A$1),MAX(P$11:P31)+1,"") | Q32: =IF(AND($H32=Q$11,$F32=Graphique!$A$2,$B32=Graphique!$A$1),MAX(Q$11:Q31)+1,"") | R32: =IF(AND($H32=R$11,$F32=Graphique!$A$2,$B32=Graphique!$A$1),MAX(R$11:R31)+1,"") | S32: =IF(AND($H32=S$11,$F32=Graphique!$A$2,$B32=Graphique!$A$1),MAX(S$11:S31)+1,"") | T32: =IF(AND($H32=T$11,$F32=Graphique!$A$2,$B32=Graphique!$A$1),MAX(T$11:T31)+1,"") | U32: =IF(AND($H32=U$11,$F32=Graphique!$A$2,$B32=Graphique!$A$1),MAX(U$11:U31)+1,"") | V32: =IF(AND($H32=V$11,$F32=Graphique!$A$2,$B32=Graphique!$A$1),MAX(V$11:V31)+1,"") | W32: =IF(AND($H32=W$11,$F32=Graphique!$A$2,$B32=Graphique!$A$1),MAX(W$11:W31)+1,"") | ... AC32: =IF(AND($H32=AC$11,$F32=Graphique!$A$2,$B32=Graphique!$A$1),MAX(AC$11:AC31)+1,"")
B33: Argentina | C33: Local Market | D33: ARS | E33: 0.21 | F33: FEMININ | G33: EDP | H33: Armani | I33: Si EDP 50ml | J33: 0.5 | K33: 50 | L33: 2990 | O33: 790 | P33: =IF(AND($H33=P$11,$F33=Graphique!$A$2,$B33=Graphique!$A$1),MAX(P$11:P32)+1,"") | Q33: =IF(AND($H33=Q$11,$F33=Graphique!$A$2,$B33=Graphique!$A$1),MAX(Q$11:Q32)+1,"") | R33: =IF(AND($H33=R$11,$F33=Graphique!$A$2,$B33=Graphique!$A$1),MAX(R$11:R32)+1,"") | S33: =IF(AND($H33=S$11,$F33=Graphique!$A$2,$B33=Graphique!$A$1),MAX(S$11:S32)+1,"") | T33: =IF(AND($H33=T$11,$F33=Graphique!$A$2,$B33=Graphique!$A$1),MAX(T$11:T32)+1,"") | U33: =IF(AND($H33=U$11,$F33=Graphique!$A$2,$B33=Graphique!$A$1),MAX(U$11:U32)+1,"") | V33: =IF(AND($H33=V$11,$F33=Graphique!$A$2,$B33=Graphique!$A$1),MAX(V$11:V32)+1,"") | W33: =IF(AND($H33=W$11,$F33=Graphique!$A$2,$B33=Graphique!$A$1),MAX(W$11:W32)+1,"") | ... AC33: =IF(AND($H33=AC$11,$F33=Graphique!$A$2,$B33=Graphique!$A$1),MAX(AC$11:AC32)+1,"")
B34: Argentina | C34: Local Market | D34: ARS | E34: 0.21 | F34: FEMININ | G34: EDP | H34: Armani | I34: Si EDP 30ml | J34: 0.5 | K34: 30 | L34: 2250 | O34: 760 | P34: =IF(AND($H34=P$11,$F34=Graphique!$A$2,$B34=Graphique!$A$1),MAX(P$11:P33)+1,"") | Q34: =IF(AND($H34=Q$11,$F34=Graphique!$A$2,$B34=Graphique!$A$1),MAX(Q$11:Q33)+1,"") | R34: =IF(AND($H34=R$11,$F34=Graphique!$A$2,$B34=Graphique!$A$1),MAX(R$11:R33)+1,"") | S34: =IF(AND($H34=S$11,$F34=Graphique!$A$2,$B34=Graphique!$A$1),MAX(S$11:S33)+1,"") | T34: =IF(AND($H34=T$11,$F34=Graphique!$A$2,$B34=Graphique!$A$1),MAX(T$11:T33)+1,"") | U34: =IF(AND($H34=U$11,$F34=Graphique!$A$2,$B34=Graphique!$A$1),MAX(U$11:U33)+1,"") | V34: =IF(AND($H34=V$11,$F34=Graphique!$A$2,$B34=Graphique!$A$1),MAX(V$11:V33)+1,"") | W34: =IF(AND($H34=W$11,$F34=Graphique!$A$2,$B34=Graphique!$A$1),MAX(W$11:W33)+1,"") | ... AC34: =IF(AND($H34=AC$11,$F34=Graphique!$A$2,$B34=Graphique!$A$1),MAX(AC$11:AC33)+1,"")
B35: Argentina | C35: Local Market | D35: ARS | E35: 0.21 | F35: FEMININ | G35: EDT | H35: Armani | I35: Si EDT 100ml | J35: 1 | K35: 100 | L35: 3035 | O35: 445 | P35: =IF(AND($H35=P$11,$F35=Graphique!$A$2,$B35=Graphique!$A$1),MAX(P$11:P34)+1,"") | Q35: =IF(AND($H35=Q$11,$F35=Graphique!$A$2,$B35=Graphique!$A$1),MAX(Q$11:Q34)+1,"") | R35: =IF(AND($H35=R$11,$F35=Graphique!$A$2,$B35=Graphique!$A$1),MAX(R$11:R34)+1,"") | S35: =IF(AND($H35=S$11,$F35=Graphique!$A$2,$B35=Graphique!$A$1),MAX(S$11:S34)+1,"") | T35: =IF(AND($H35=T$11,$F35=Graphique!$A$2,$B35=Graphique!$A$1),MAX(T$11:T34)+1,"") | U35: =IF(AND($H35=U$11,$F35=Graphique!$A$2,$B35=Graphique!$A$1),MAX(U$11:U34)+1,"") | V35: =IF(AND($H35=V$11,$F35=Graphique!$A$2,$B35=Graphique!$A$1),MAX(V$11:V34)+1,"") | W35: =IF(AND($H35=W$11,$F35=Graphique!$A$2,$B35=Graphique!$A$1),MAX(W$11:W34)+1,"") | ... AC35: =IF(AND($H35=AC$11,$F35=Graphique!$A$2,$B35=Graphique!$A$1),MAX(AC$11:AC34)+1,"")
B36: Argentina | C36: Local Market | D36: ARS | E36: 0.21 | F36: MASCULIN | G36: EDT | H36: Bvlgari | I36: Aqva pour Homme EDT 100ml | J36: 1 | K36: 100 | L36: 2560 | O36: 430 | P36: =IF(AND($H36=P$11,$F36=Graphique!$A$2,$B36=Graphique!$A$1),MAX(P$11:P35)+1,"") | Q36: =IF(AND($H36=Q$11,$F36=Graphique!$A$2,$B36=Graphique!$A$1),MAX(Q$11:Q35)+1,"") | R36: =IF(AND($H36=R$11,$F36=Graphique!$A$2,$B36=Graphique!$A$1),MAX(R$11:R35)+1,"") | S36: =IF(AND($H36=S$11,$F36=Graphique!$A$2,$B36=Graphique!$A$1),MAX(S$11:S35)+1,"") | T36: =IF(AND($H36=T$11,$F36=Graphique!$A$2,$B36=Graphique!$A$1),MAX(T$11:T35)+1,"") | U36: =IF(AND($H36=U$11,$F36=Graphique!$A$2,$B36=Graphique!$A$1),MAX(U$11:U35)+1,"") | V36: =IF(AND($H36=V$11,$F36=Graphique!$A$2,$B36=Graphique!$A$1),MAX(V$11:V35)+1,"") | W36: =IF(AND($H36=W$11,$F36=Graphique!$A$2,$B36=Graphique!$A$1),MAX(W$11:W35)+1,"") | ... AC36: =IF(AND($H36=AC$11,$F36=Graphique!$A$2,$B36=Graphique!$A$1),MAX(AC$11:AC35)+1,"")
B37: Argentina | C37: Local Market | D37: ARS | E37: 0.21 | F37: FEMININ | G37: EDP | H37: Bvlgari | I37: Eau parfumee 150ml | J37: 1.5 | K37: 150 | L37: 2000 | O37: 2000 | P37: =IF(AND($H37=P$11,$F37=Graphique!$A$2,$B37=Graphique!$A$1),MAX(P$11:P36)+1,"") | Q37: =IF(AND($H37=Q$11,$F37=Graphique!$A$2,$B37=Graphique!$A$1),MAX(Q$11:Q36)+1,"") | R37: =IF(AND($H37=R$11,$F37=Graphique!$A$2,$B37=Graphique!$A$1),MAX(R$11:R36)+1,"") | S37: =IF(AND($H37=S$11,$F37=Graphique!$A$2,$B37=Graphique!$A$1),MAX(S$11:S36)+1,"") | T37: =IF(AND($H37=T$11,$F37=Graphique!$A$2,$B37=Graphique!$A$1),MAX(T$11:T36)+1,"") | U37: =IF(AND($H37=U$11,$F37=Graphique!$A$2,$B37=Graphique!$A$1),MAX(U$11:U36)+1,"") | V37: =IF(AND($H37=V$11,$F37=Graphique!$A$2,$B37=Graphique!$A$1),MAX(V$11:V36)+1,"") | W37: =IF(AND($H37=W$11,$F37=Graphique!$A$2,$B37=Graphique!$A$1),MAX(W$11:W36)+1,"") | ... AC37: =IF(AND($H37=AC$11,$F37=Graphique!$A$2,$B37=Graphique!$A$1),MAX(AC$11:AC36)+1,"")
B38: Argentina | C38: Local Market | D38: ARS | E38: 0.21 | F38: FEMININ | G38: EDP | H38: Bvlgari | I38: Jasmin Noir EDP 100ml | J38: 1 | K38: 100 | L38: 2200 | O38: 0 | P38: =IF(AND($H38=P$11,$F38=Graphique!$A$2,$B38=Graphique!$A$1),MAX(P$11:P37)+1,"") | Q38: =IF(AND($H38=Q$11,$F38=Graphique!$A$2,$B38=Graphique!$A$1),MAX(Q$11:Q37)+1,"") | R38: =IF(AND($H38=R$11,$F38=Graphique!$A$2,$B38=Graphique!$A$1),MAX(R$11:R37)+1,"") | S38: =IF(AND($H38=S$11,$F38=Graphique!$A$2,$B38=Graphique!$A$1),MAX(S$11:S37)+1,"") | T38: =IF(AND($H38=T$11,$F38=Graphique!$A$2,$B38=Graphique!$A$1),MAX(T$11:T37)+1,"") | U38: =IF(AND($H38=U$11,$F38=Graphique!$A$2,$B38=Graphique!$A$1),MAX(U$11:U37)+1,"") | V38: =IF(AND($H38=V$11,$F38=Graphique!$A$2,$B38=Graphique!$A$1),MAX(V$11:V37)+1,"") | W38: =IF(AND($H38=W$11,$F38=Graphique!$A$2,$B38=Graphique!$A$1),MAX(W$11:W37)+1,"") | ... AC38: =IF(AND($H38=AC$11,$F38=Graphique!$A$2,$B38=Graphique!$A$1),MAX(AC$11:AC37)+1,"")
B39: Argentina | C39: Local Market | D39: ARS | E39: 0.21 | F39: MASCULIN | G39: EDT | H39: Bvlgari | I39: MAN EDT 100ml | J39: 1 | K39: 100 | L39: 2590 | O39: 430 | P39: =IF(AND($H39=P$11,$F39=Graphique!$A$2,$B39=Graphique!$A$1),MAX(P$11:P38)+1,"") | Q39: =IF(AND($H39=Q$11,$F39=Graphique!$A$2,$B39=Graphique!$A$1),MAX(Q$11:Q38)+1,"") | R39: =IF(AND($H39=R$11,$F39=Graphique!$A$2,$B39=Graphique!$A$1),MAX(R$11:R38)+1,"") | S39: =IF(AND($H39=S$11,$F39=Graphique!$A$2,$B39=Graphique!$A$1),MAX(S$11:S38)+1,"") | T39: =IF(AND($H39=T$11,$F39=Graphique!$A$2,$B39=Graphique!$A$1),MAX(T$11:T38)+1,"") | U39: =IF(AND($H39=U$11,$F39=Graphique!$A$2,$B39=Graphique!$A$1),MAX(U$11:U38)+1,"") | V39: =IF(AND($H39=V$11,$F39=Graphique!$A$2,$B39=Graphique!$A$1),MAX(V$11:V38)+1,"") | W39: =IF(AND($H39=W$11,$F39=Graphique!$A$2,$B39=Graphique!$A$1),MAX(W$11:W38)+1,"") | ... AC39: =IF(AND($H39=AC$11,$F39=Graphique!$A$2,$B39=Graphique!$A$1),MAX(AC$11:AC38)+1,"")
B40: Argentina | C40: Local Market | D40: ARS | E40: 0.21 | F40: FEMININ | G40: EDP | H40: Bvlgari | I40: Omnia Crystalline EDP 65 ml | J40: 0.75 | K40: 65 | L40: 1800 | O40: 0 | P40: =IF(AND($H40=P$11,$F40=Graphique!$A$2,$B40=Graphique!$A$1),MAX(P$11:P39)+1,"") | Q40: =IF(AND($H40=Q$11,$F40=Graphique!$A$2,$B40=Graphique!$A$1),MAX(Q$11:Q39)+1,"") | R40: =IF(AND($H40=R$11,$F40=Graphique!$A$2,$B40=Graphique!$A$1),MAX(R$11:R39)+1,"") | S40: =IF(AND($H40=S$11,$F40=Graphique!$A$2,$B40=Graphique!$A$1),MAX(S$11:S39)+1,"") | T40: =IF(AND($H40=T$11,$F40=Graphique!$A$2,$B40=Graphique!$A$1),MAX(T$11:T39)+1,"") | U40: =IF(AND($H40=U$11,$F40=Graphique!$A$2,$B40=Graphique!$A$1),MAX(U$11:U39)+1,"") | V40: =IF(AND($H40=V$11,$F40=Graphique!$A$2,$B40=Graphique!$A$1),MAX(V$11:V39)+1,"") | W40: =IF(AND($H40=W$11,$F40=Graphique!$A$2,$B40=Graphique!$A$1),MAX(W$11:W39)+1,"") | ... AC40: =IF(AND($H40=AC$11,$F40=Graphique!$A$2,$B40=Graphique!$A$1),MAX(AC$11:AC39)+1,"")
... B43: Argentina | C43: Local Market | D43: ARS | E43: 0.21 | F43: FEMININ | G43: EDP | H43: Cartier | I43: Baiser vole EDP100ml | J43: 1 | K43: 100 | L43: 5885 | O43: 5885 | P43: =IF(AND($H43=P$11,$F43=Graphique!$A$2,$B43=Graphique!$A$1),MAX(P$11:P42)+1,"") | Q43: =IF(AND($H43=Q$11,$F43=Graphique!$A$2,$B43=Graphique!$A$1),MAX(Q$11:Q42)+1,"") | R43: =IF(AND($H43=R$11,$F43=Graphique!$A$2,$B43=Graphique!$A$1),MAX(R$11:R42)+1,"") | S43: =IF(AND($H43=S$11,$F43=Graphique!$A$2,$B43=Graphique!$A$1),MAX(S$11:S42)+1,"") | T43: =IF(AND($H43=T$11,$F43=Graphique!$A$2,$B43=Graphique!$A$1),MAX(T$11:T42)+1,"") | U43: =IF(AND($H43=U$11,$F43=Graphique!$A$2,$B43=Graphique!$A$1),MAX(U$11:U42)+1,"") | V43: =IF(AND($H43=V$11,$F43=Graphique!$A$2,$B43=Graphique!$A$1),MAX(V$11:V42)+1,"") | W43: =IF(AND($H43=W$11,$F43=Graphique!$A$2,$B43=Graphique!$A$1),MAX(W$11:W42)+1,"") | ... AC43: =IF(AND($H43=AC$11,$F43=Graphique!$A$2,$B43=Graphique!$A$1),MAX(AC$11:AC42)+1,"")
B44: Argentina | C44: Local Market | D44: ARS | E44: 0.21 | F44: FEMININ | G44: EDT | H44: Cartier | I44: Baiser vole EDT 100ml | J44: 1 | K44: 100 | O44: 0 | P44: =IF(AND($H44=P$11,$F44=Graphique!$A$2,$B44=Graphique!$A$1),MAX(P$11:P43)+1,"") | Q44: =IF(AND($H44=Q$11,$F44=Graphique!$A$2,$B44=Graphique!$A$1),MAX(Q$11:Q43)+1,"") | R44: =IF(AND($H44=R$11,$F44=Graphique!$A$2,$B44=Graphique!$A$1),MAX(R$11:R43)+1,"") | S44: =IF(AND($H44=S$11,$F44=Graphique!$A$2,$B44=Graphique!$A$1),MAX(S$11:S43)+1,"") | T44: =IF(AND($H44=T$11,$F44=Graphique!$A$2,$B44=Graphique!$A$1),MAX(T$11:T43)+1,"") | U44: =IF(AND($H44=U$11,$F44=Graphique!$A$2,$B44=Graphique!$A$1),MAX(U$11:U43)+1,"") | V44: =IF(AND($H44=V$11,$F44=Graphique!$A$2,$B44=Graphique!$A$1),MAX(V$11:V43)+1,"") | W44: =IF(AND($H44=W$11,$F44=Graphique!$A$2,$B44=Graphique!$A$1),MAX(W$11:W43)+1,"") | ... AC44: =IF(AND($H44=AC$11,$F44=Graphique!$A$2,$B44=Graphique!$A$1),MAX(AC$11:AC43)+1,"")
B45: Argentina | C45: Local Market | D45: ARS | E45: 0.21 | F45: MASCULIN | G45: EDT | H45: Cartier | I45: Declaration D´un Soir 100 ml | J45: 1 | K45: 100 | L45: 4280 | O45: 4280 | P45: =IF(AND($H45=P$11,$F45=Graphique!$A$2,$B45=Graphique!$A$1),MAX(P$11:P44)+1,"") | Q45: =IF(AND($H45=Q$11,$F45=Graphique!$A$2,$B45=Graphique!$A$1),MAX(Q$11:Q44)+1,"") | R45: =IF(AND($H45=R$11,$F45=Graphique!$A$2,$B45=Graphique!$A$1),MAX(R$11:R44)+1,"") | S45: =IF(AND($H45=S$11,$F45=Graphique!$A$2,$B45=Graphique!$A$1),MAX(S$11:S44)+1,"") | T45: =IF(AND($H45=T$11,$F45=Graphique!$A$2,$B45=Graphique!$A$1),MAX(T$11:T44)+1,"") | U45: =IF(AND($H45=U$11,$F45=Graphique!$A$2,$B45=Graphique!$A$1),MAX(U$11:U44)+1,"") | V45: =IF(AND($H45=V$11,$F45=Graphique!$A$2,$B45=Graphique!$A$1),MAX(V$11:V44)+1,"") | W45: =IF(AND($H45=W$11,$F45=Graphique!$A$2,$B45=Graphique!$A$1),MAX(W$11:W44)+1,"") | ... AC45: =IF(AND($H45=AC$11,$F45=Graphique!$A$2,$B45=Graphique!$A$1),MAX(AC$11:AC44)+1,"")
B46: Argentina | C46: Local Market | D46: ARS | E46: 0.21 | F46: MASCULIN | G46: EDP | H46: Cartier | I46: Declaration EDP 100 ml | J46: 1 | K46: 100 | L46: 5445 | O46: 5445 | P46: =IF(AND($H46=P$11,$F46=Graphique!$A$2,$B46=Graphique!$A$1),MAX(P$11:P45)+1,"") | Q46: =IF(AND($H46=Q$11,$F46=Graphique!$A$2,$B46=Graphique!$A$1),MAX(Q$11:Q45)+1,"") | R46: =IF(AND($H46=R$11,$F46=Graphique!$A$2,$B46=Graphique!$A$1),MAX(R$11:R45)+1,"") | S46: =IF(AND($H46=S$11,$F46=Graphique!$A$2,$B46=Graphique!$A$1),MAX(S$11:S45)+1,"") | T46: =IF(AND($H46=T$11,$F46=Graphique!$A$2,$B46=Graphique!$A$1),MAX(T$11:T45)+1,"") | U46: =IF(AND($H46=U$11,$F46=Graphique!$A$2,$B46=Graphique!$A$1),MAX(U$11:U45)+1,"") | V46: =IF(AND($H46=V$11,$F46=Graphique!$A$2,$B46=Graphique!$A$1),MAX(V$11:V45)+1,"") | W46: =IF(AND($H46=W$11,$F46=Graphique!$A$2,$B46=Graphique!$A$1),MAX(W$11:W45)+1,"") | ... AC46: =IF(AND($H46=AC$11,$F46=Graphique!$A$2,$B46=Graphique!$A$1),MAX(AC$11:AC45)+1,"")
B47: Argentina | C47: Local Market | D47: ARS | E47: 0.21 | F47: MASCULIN | G47: EDT | H47: Cartier | I47: Declaration EDT 100 ml | J47: 1 | K47: 100 | L47: 4280 | O47: 4280 | P47: =IF(AND($H47=P$11,$F47=Graphique!$A$2,$B47=Graphique!$A$1),MAX(P$11:P46)+1,"") | Q47: =IF(AND($H47=Q$11,$F47=Graphique!$A$2,$B47=Graphique!$A$1),MAX(Q$11:Q46)+1,"") | R47: =IF(AND($H47=R$11,$F47=Graphique!$A$2,$B47=Graphique!$A$1),MAX(R$11:R46)+1,"") | S47: =IF(AND($H47=S$11,$F47=Graphique!$A$2,$B47=Graphique!$A$1),MAX(S$11:S46)+1,"") | T47: =IF(AND($H47=T$11,$F47=Graphique!$A$2,$B47=Graphique!$A$1),MAX(T$11:T46)+1,"") | U47: =IF(AND($H47=U$11,$F47=Graphique!$A$2,$B47=Graphique!$A$1),MAX(U$11:U46)+1,"") | V47: =IF(AND($H47=V$11,$F47=Graphique!$A$2,$B47=Graphique!$A$1),MAX(V$11:V46)+1,"") | W47: =IF(AND($H47=W$11,$F47=Graphique!$A$2,$B47=Graphique!$A$1),MAX(W$11:W46)+1,"") | ... AC47: =IF(AND($H47=AC$11,$F47=Graphique!$A$2,$B47=Graphique!$A$1),MAX(AC$11:AC46)+1,"")
B48: Argentina | C48: Local Market | D48: ARS | E48: 0.21 | F48: FEMININ | G48: EDP | H48: Cartier | I48: La Panthere EDP 75ml | J48: 0.75 | K48: 75 | L48: 5445 | O48: 5445 | P48: =IF(AND($H48=P$11,$F48=Graphique!$A$2,$B48=Graphique!$A$1),MAX(P$11:P47)+1,"") | Q48: =IF(AND($H48=Q$11,$F48=Graphique!$A$2,$B48=Graphique!$A$1),MAX(Q$11:Q47)+1,"") | R48: =IF(AND($H48=R$11,$F48=Graphique!$A$2,$B48=Graphique!$A$1),MAX(R$11:R47)+1,"") | S48: =IF(AND($H48=S$11,$F48=Graphique!$A$2,$B48=Graphique!$A$1),MAX(S$11:S47)+1,"") | T48: =IF(AND($H48=T$11,$F48=Graphique!$A$2,$B48=Graphique!$A$1),MAX(T$11:T47)+1,"") | U48: =IF(AND($H48=U$11,$F48=Graphique!$A$2,$B48=Graphique!$A$1),MAX(U$11:U47)+1,"") | V48: =IF(AND($H48=V$11,$F48=Graphique!$A$2,$B48=Graphique!$A$1),MAX(V$11:V47)+1,"") | W48: =IF(AND($H48=W$11,$F48=Graphique!$A$2,$B48=Graphique!$A$1),MAX(W$11:W47)+1,"") | ... AC48: =IF(AND($H48=AC$11,$F48=Graphique!$A$2,$B48=Graphique!$A$1),MAX(AC$11:AC47)+1,"")
B49: Argentina | C49: Local Market | D49: ARS | E49: 0.21 | F49: FEMININ | G49: EDP | H49: Cartier | I49: La Panthere EDP 50ml | J49: 0.5 | K49: 50 | L49: 4280 | O49: 4280 | P49: =IF(AND($H49=P$11,$F49=Graphique!$A$2,$B49=Graphique!$A$1),MAX(P$11:P48)+1,"") | Q49: =IF(AND($H49=Q$11,$F49=Graphique!$A$2,$B49=Graphique!$A$1),MAX(Q$11:Q48)+1,"") | R49: =IF(AND($H49=R$11,$F49=Graphique!$A$2,$B49=Graphique!$A$1),MAX(R$11:R48)+1,"") | S49: =IF(AND($H49=S$11,$F49=Graphique!$A$2,$B49=Graphique!$A$1),MAX(S$11:S48)+1,"") | T49: =IF(AND($H49=T$11,$F49=Graphique!$A$2,$B49=Graphique!$A$1),MAX(T$11:T48)+1,"") | U49: =IF(AND($H49=U$11,$F49=Graphique!$A$2,$B49=Graphique!$A$1),MAX(U$11:U48)+1,"") | V49: =IF(AND($H49=V$11,$F49=Graphique!$A$2,$B49=Graphique!$A$1),MAX(V$11:V48)+1,"") | W49: =IF(AND($H49=W$11,$F49=Graphique!$A$2,$B49=Graphique!$A$1),MAX(W$11:W48)+1,"") | ... AC49: =IF(AND($H49=AC$11,$F49=Graphique!$A$2,$B49=Graphique!$A$1),MAX(AC$11:AC48)+1,"")
B50: Argentina | C50: Local Market | D50: ARS | E50: 0.21 | F50: FEMININ | G50: EDP | H50: Cartier | I50: La Panthere EDP LEGERE 75ml | J50: 0.75 | K50: 75 | O50: 0 | P50: =IF(AND($H50=P$11,$F50=Graphique!$A$2,$B50=Graphique!$A$1),MAX(P$11:P49)+1,"") | Q50: =IF(AND($H50=Q$11,$F50=Graphique!$A$2,$B50=Graphique!$A$1),MAX(Q$11:Q49)+1,"") | R50: =IF(AND($H50=R$11,$F50=Graphique!$A$2,$B50=Graphique!$A$1),MAX(R$11:R49)+1,"") | S50: =IF(AND($H50=S$11,$F50=Graphique!$A$2,$B50=Graphique!$A$1),MAX(S$11:S49)+1,"") | T50: =IF(AND($H50=T$11,$F50=Graphique!$A$2,$B50=Graphique!$A$1),MAX(T$11:T49)+1,"") | U50: =IF(AND($H50=U$11,$F50=Graphique!$A$2,$B50=Graphique!$A$1),MAX(U$11:U49)+1,"") | V50: =IF(AND($H50=V$11,$F50=Graphique!$A$2,$B50=Graphique!$A$1),MAX(V$11:V49)+1,"") | W50: =IF(AND($H50=W$11,$F50=Graphique!$A$2,$B50=Graphique!$A$1),MAX(W$11:W49)+1,"") | ... AC50: =IF(AND($H50=AC$11,$F50=Graphique!$A$2,$B50=Graphique!$A$1),MAX(AC$11:AC49)+1,"")
B51: Argentina | C51: Local Market | D51: ARS | E51: 0.21 | F51: MASCULIN | G51: EDP | H51: Chanel | I51: Bleu de Chanel EDP 150ml | J51: 1.5 | K51: 150 | O51: 0 | P51: =IF(AND($H51=P$11,$F51=Graphique!$A$2,$B51=Graphique!$A$1),MAX(P$11:P50)+1,"") | Q51: =IF(AND($H51=Q$11,$F51=Graphique!$A$2,$B51=Graphique!$A$1),MAX(Q$11:Q50)+1,"") | R51: =IF(AND($H51=R$11,$F51=Graphique!$A$2,$B51=Graphique!$A$1),MAX(R$11:R50)+1,"") | S51: =IF(AND($H51=S$11,$F51=Graphique!$A$2,$B51=Graphique!$A$1),MAX(S$11:S50)+1,"") | T51: =IF(AND($H51=T$11,$F51=Graphique!$A$2,$B51=Graphique!$A$1),MAX(T$11:T50)+1,"") | U51: =IF(AND($H51=U$11,$F51=Graphique!$A$2,$B51=Graphique!$A$1),MAX(U$11:U50)+1,"") | V51: =IF(AND($H51=V$11,$F51=Graphique!$A$2,$B51=Graphique!$A$1),MAX(V$11:V50)+1,"") | W51: =IF(AND($H51=W$11,$F51=Graphique!$A$2,$B51=Graphique!$A$1),MAX(W$11:W50)+1,"") | ... AC51: =IF(AND($H51=AC$11,$F51=Graphique!$A$2,$B51=Graphique!$A$1),MAX(AC$11:AC50)+1,"")
B52: Argentina | C52: Local Market | D52: ARS | E52: 0.21 | F52: MASCULIN | G52: EDP | H52: Chanel | I52: Bleu de Chanel EDP 100ml | J52: 1 | K52: 100 | L52: 3135 | O52: 535 | P52: =IF(AND($H52=P$11,$F52=Graphique!$A$2,$B52=Graphique!$A$1),MAX(P$11:P51)+1,"") | Q52: =IF(AND($H52=Q$11,$F52=Graphique!$A$2,$B52=Graphique!$A$1),MAX(Q$11:Q51)+1,"") | R52: =IF(AND($H52=R$11,$F52=Graphique!$A$2,$B52=Graphique!$A$1),MAX(R$11:R51)+1,"") | S52: =IF(AND($H52=S$11,$F52=Graphique!$A$2,$B52=Graphique!$A$1),MAX(S$11:S51)+1,"") | T52: =IF(AND($H52=T$11,$F52=Graphique!$A$2,$B52=Graphique!$A$1),MAX(T$11:T51)+1,"") | U52: =IF(AND($H52=U$11,$F52=Graphique!$A$2,$B52=Graphique!$A$1),MAX(U$11:U51)+1,"") | V52: =IF(AND($H52=V$11,$F52=Graphique!$A$2,$B52=Graphique!$A$1),MAX(V$11:V51)+1,"") | W52: =IF(AND($H52=W$11,$F52=Graphique!$A$2,$B52=Graphique!$A$1),MAX(W$11:W51)+1,"") | ... AC52: =IF(AND($H52=AC$11,$F52=Graphique!$A$2,$B52=Graphique!$A$1),MAX(AC$11:AC51)+1,"")
B53: Argentina | C53: Local Market | D53: ARS | E53: 0.21 | F53: MASCULIN | G53: EDP | H53: Chanel | I53: Bleu de Chanel EDP 50ml | J53: 0.5 | K53: 50 | L53: 2475 | O53: 425 | P53: =IF(AND($H53=P$11,$F53=Graphique!$A$2,$B53=Graphique!$A$1),MAX(P$11:P52)+1,"") | Q53: =IF(AND($H53=Q$11,$F53=Graphique!$A$2,$B53=Graphique!$A$1),MAX(Q$11:Q52)+1,"") | R53: =IF(AND($H53=R$11,$F53=Graphique!$A$2,$B53=Graphique!$A$1),MAX(R$11:R52)+1,"") | S53: =IF(AND($H53=S$11,$F53=Graphique!$A$2,$B53=Graphique!$A$1),MAX(S$11:S52)+1,"") | T53: =IF(AND($H53=T$11,$F53=Graphique!$A$2,$B53=Graphique!$A$1),MAX(T$11:T52)+1,"") | U53: =IF(AND($H53=U$11,$F53=Graphique!$A$2,$B53=Graphique!$A$1),MAX(U$11:U52)+1,"") | V53: =IF(AND($H53=V$11,$F53=Graphique!$A$2,$B53=Graphique!$A$1),MAX(V$11:V52)+1,"") | W53: =IF(AND($H53=W$11,$F53=Graphique!$A$2,$B53=Graphique!$A$1),MAX(W$11:W52)+1,"") | ... AC53: =IF(AND($H53=AC$11,$F53=Graphique!$A$2,$B53=Graphique!$A$1),MAX(AC$11:AC52)+1,"")
B54: Argentina | C54: Local Market | D54: ARS | E54: 0.21 | F54: MASCULIN | G54: EDT | H54: Chanel | I54: Bleu de Chanel EDT 100ml | J54: 1 | K54: 100 | L54: 2585 | O54: 895 | P54: =IF(AND($H54=P$11,$F54=Graphique!$A$2,$B54=Graphique!$A$1),MAX(P$11:P53)+1,"") | Q54: =IF(AND($H54=Q$11,$F54=Graphique!$A$2,$B54=Graphique!$A$1),MAX(Q$11:Q53)+1,"") | R54: =IF(AND($H54=R$11,$F54=Graphique!$A$2,$B54=Graphique!$A$1),MAX(R$11:R53)+1,"") | S54: =IF(AND($H54=S$11,$F54=Graphique!$A$2,$B54=Graphique!$A$1),MAX(S$11:S53)+1,"") | T54: =IF(AND($H54=T$11,$F54=Graphique!$A$2,$B54=Graphique!$A$1),MAX(T$11:T53)+1,"") | U54: =IF(AND($H54=U$11,$F54=Graphique!$A$2,$B54=Graphique!$A$1),MAX(U$11:U53)+1,"") | V54: =IF(AND($H54=V$11,$F54=Graphique!$A$2,$B54=Graphique!$A$1),MAX(V$11:V53)+1,"") | W54: =IF(AND($H54=W$11,$F54=Graphique!$A$2,$B54=Graphique!$A$1),MAX(W$11:W53)+1,"") | ... AC54: =IF(AND($H54=AC$11,$F54=Graphique!$A$2,$B54=Graphique!$A$1),MAX(AC$11:AC53)+1,"")
B55: Argentina | C55: Local Market | D55: ARS | E55: 0.21 | F55: MASCULIN | G55: EDT | H55: Chanel | I55: Bleu de Chanel EDT 50ml | J55: 0.5 | K55: 50 | L55: 2035 | O55: -115 | P55: =IF(AND($H55=P$11,$F55=Graphique!$A$2,$B55=Graphique!$A$1),MAX(P$11:P54)+1,"") | Q55: =IF(AND($H55=Q$11,$F55=Graphique!$A$2,$B55=Graphique!$A$1),MAX(Q$11:Q54)+1,"") | R55: =IF(AND($H55=R$11,$F55=Graphique!$A$2,$B55=Graphique!$A$1),MAX(R$11:R54)+1,"") | S55: =IF(AND($H55=S$11,$F55=Graphique!$A$2,$B55=Graphique!$A$1),MAX(S$11:S54)+1,"") | T55: =IF(AND($H55=T$11,$F55=Graphique!$A$2,$B55=Graphique!$A$1),MAX(T$11:T54)+1,"") | U55: =IF(AND($H55=U$11,$F55=Graphique!$A$2,$B55=Graphique!$A$1),MAX(U$11:U54)+1,"") | V55: =IF(AND($H55=V$11,$F55=Graphique!$A$2,$B55=Graphique!$A$1),MAX(V$11:V54)+1,"") | W55: =IF(AND($H55=W$11,$F55=Graphique!$A$2,$B55=Graphique!$A$1),MAX(W$11:W54)+1,"") | ... AC55: =IF(AND($H55=AC$11,$F55=Graphique!$A$2,$B55=Graphique!$A$1),MAX(AC$11:AC54)+1,"")
B56: Argentina | C56: Local Market | D56: ARS | E56: 0.21 | F56: MASCULIN | G56: EDT | H56: Chanel | I56: Allure EDT 100ml | J56: 1 | K56: 100 | L56: 2640 | O56: 440 | P56: =IF(AND($H56=P$11,$F56=Graphique!$A$2,$B56=Graphique!$A$1),MAX(P$11:P55)+1,"") | Q56: =IF(AND($H56=Q$11,$F56=Graphique!$A$2,$B56=Graphique!$A$1),MAX(Q$11:Q55)+1,"") | R56: =IF(AND($H56=R$11,$F56=Graphique!$A$2,$B56=Graphique!$A$1),MAX(R$11:R55)+1,"") | S56: =IF(AND($H56=S$11,$F56=Graphique!$A$2,$B56=Graphique!$A$1),MAX(S$11:S55)+1,"") | T56: =IF(AND($H56=T$11,$F56=Graphique!$A$2,$B56=Graphique!$A$1),MAX(T$11:T55)+1,"") | U56: =IF(AND($H56=U$11,$F56=Graphique!$A$2,$B56=Graphique!$A$1),MAX(U$11:U55)+1,"") | V56: =IF(AND($H56=V$11,$F56=Graphique!$A$2,$B56=Graphique!$A$1),MAX(V$11:V55)+1,"") | W56: =IF(AND($H56=W$11,$F56=Graphique!$A$2,$B56=Graphique!$A$1),MAX(W$11:W55)+1,"") | ... AC56: =IF(AND($H56=AC$11,$F56=Graphique!$A$2,$B56=Graphique!$A$1),MAX(AC$11:AC55)+1,"")
B57: Argentina | C57: Local Market | D57: ARS | E57: 0.21 | F57: FEMININ | G57: EDP | H57: Chanel | I57: Gabrielle EDP 100ml | J57: 1 | K57: 100 | L57: 3465 | O57: 475 | P57: =IF(AND($H57=P$11,$F57=Graphique!$A$2,$B57=Graphique!$A$1),MAX(P$11:P56)+1,"") | Q57: =IF(AND($H57=Q$11,$F57=Graphique!$A$2,$B57=Graphique!$A$1),MAX(Q$11:Q56)+1,"") | R57: =IF(AND($H57=R$11,$F57=Graphique!$A$2,$B57=Graphique!$A$1),MAX(R$11:R56)+1,"") | S57: =IF(AND($H57=S$11,$F57=Graphique!$A$2,$B57=Graphique!$A$1),MAX(S$11:S56)+1,"") | T57: =IF(AND($H57=T$11,$F57=Graphique!$A$2,$B57=Graphique!$A$1),MAX(T$11:T56)+1,"") | U57: =IF(AND($H57=U$11,$F57=Graphique!$A$2,$B57=Graphique!$A$1),MAX(U$11:U56)+1,"") | V57: =IF(AND($H57=V$11,$F57=Graphique!$A$2,$B57=Graphique!$A$1),MAX(V$11:V56)+1,"") | W57: =IF(AND($H57=W$11,$F57=Graphique!$A$2,$B57=Graphique!$A$1),MAX(W$11:W56)+1,"") | ... AC57: =IF(AND($H57=AC$11,$F57=Graphique!$A$2,$B57=Graphique!$A$1),MAX(AC$11:AC56)+1,"")
B58: Argentina | C58: Local Market | D58: ARS | E58: 0.21 | F58: FEMININ | G58: EDP | H58: Chanel | I58: Gabrielle EDP 50ml | J58: 0.5 | K58: 50 | L58: 2695 | O58: 385 | P58: =IF(AND($H58=P$11,$F58=Graphique!$A$2,$B58=Graphique!$A$1),MAX(P$11:P57)+1,"") | Q58: =IF(AND($H58=Q$11,$F58=Graphique!$A$2,$B58=Graphique!$A$1),MAX(Q$11:Q57)+1,"") | R58: =IF(AND($H58=R$11,$F58=Graphique!$A$2,$B58=Graphique!$A$1),MAX(R$11:R57)+1,"") | S58: =IF(AND($H58=S$11,$F58=Graphique!$A$2,$B58=Graphique!$A$1),MAX(S$11:S57)+1,"") | T58: =IF(AND($H58=T$11,$F58=Graphique!$A$2,$B58=Graphique!$A$1),MAX(T$11:T57)+1,"") | U58: =IF(AND($H58=U$11,$F58=Graphique!$A$2,$B58=Graphique!$A$1),MAX(U$11:U57)+1,"") | V58: =IF(AND($H58=V$11,$F58=Graphique!$A$2,$B58=Graphique!$A$1),MAX(V$11:V57)+1,"") | W58: =IF(AND($H58=W$11,$F58=Graphique!$A$2,$B58=Graphique!$A$1),MAX(W$11:W57)+1,"") | ... AC58: =IF(AND($H58=AC$11,$F58=Graphique!$A$2,$B58=Graphique!$A$1),MAX(AC$11:AC57)+1,"")
B59: Argentina | C59: Local Market | D59: ARS | E59: 0.21 | F59: FEMININ | G59: EDT | H59: Chanel | I59: Chance EDT 100ML | J59: 1 | K59: 100 | L59: 2860 | O59: 510 | P59: =IF(AND($H59=P$11,$F59=Graphique!$A$2,$B59=Graphique!$A$1),MAX(P$11:P58)+1,"") | Q59: =IF(AND($H59=Q$11,$F59=Graphique!$A$2,$B59=Graphique!$A$1),MAX(Q$11:Q58)+1,"") | R59: =IF(AND($H59=R$11,$F59=Graphique!$A$2,$B59=Graphique!$A$1),MAX(R$11:R58)+1,"") | S59: =IF(AND($H59=S$11,$F59=Graphique!$A$2,$B59=Graphique!$A$1),MAX(S$11:S58)+1,"") | T59: =IF(AND($H59=T$11,$F59=Graphique!$A$2,$B59=Graphique!$A$1),MAX(T$11:T58)+1,"") | U59: =IF(AND($H59=U$11,$F59=Graphique!$A$2,$B59=Graphique!$A$1),MAX(U$11:U58)+1,"") | V59: =IF(AND($H59=V$11,$F59=Graphique!$A$2,$B59=Graphique!$A$1),MAX(V$11:V58)+1,"") | W59: =IF(AND($H59=W$11,$F59=Graphique!$A$2,$B59=Graphique!$A$1),MAX(W$11:W58)+1,"") | ... AC59: =IF(AND($H59=AC$11,$F59=Graphique!$A$2,$B59=Graphique!$A$1),MAX(AC$11:AC58)+1,"")
B60: Argentina | C60: Local Market | D60: ARS | E60: 0.21 | F60: FEMININ | G60: EDP | H60: Chanel | I60: Chanel #5 EDP 100ml | J60: 1 | K60: 100 | L60: 3465 | O60: 715 | P60: =IF(AND($H60=P$11,$F60=Graphique!$A$2,$B60=Graphique!$A$1),MAX(P$11:P59)+1,"") | Q60: =IF(AND($H60=Q$11,$F60=Graphique!$A$2,$B60=Graphique!$A$1),MAX(Q$11:Q59)+1,"") | R60: =IF(AND($H60=R$11,$F60=Graphique!$A$2,$B60=Graphique!$A$1),MAX(R$11:R59)+1,"") | S60: =IF(AND($H60=S$11,$F60=Graphique!$A$2,$B60=Graphique!$A$1),MAX(S$11:S59)+1,"") | T60: =IF(AND($H60=T$11,$F60=Graphique!$A$2,$B60=Graphique!$A$1),MAX(T$11:T59)+1,"") | U60: =IF(AND($H60=U$11,$F60=Graphique!$A$2,$B60=Graphique!$A$1),MAX(U$11:U59)+1,"") | V60: =IF(AND($H60=V$11,$F60=Graphique!$A$2,$B60=Graphique!$A$1),MAX(V$11:V59)+1,"") | W60: =IF(AND($H60=W$11,$F60=Graphique!$A$2,$B60=Graphique!$A$1),MAX(W$11:W59)+1,"") | ... AC60: =IF(AND($H60=AC$11,$F60=Graphique!$A$2,$B60=Graphique!$A$1),MAX(AC$11:AC59)+1,"")
B61: Argentina | C61: Local Market | D61: ARS | E61: 0.21 | F61: FEMININ | G61: EDT | H61: Chanel | I61: Chanel #5 EDT 100ml | J61: 1 | K61: 100 | L61: 2695 | O61: 345 | P61: =IF(AND($H61=P$11,$F61=Graphique!$A$2,$B61=Graphique!$A$1),MAX(P$11:P60)+1,"") | Q61: =IF(AND($H61=Q$11,$F61=Graphique!$A$2,$B61=Graphique!$A$1),MAX(Q$11:Q60)+1,"") | R61: =IF(AND($H61=R$11,$F61=Graphique!$A$2,$B61=Graphique!$A$1),MAX(R$11:R60)+1,"") | S61: =IF(AND($H61=S$11,$F61=Graphique!$A$2,$B61=Graphique!$A$1),MAX(S$11:S60)+1,"") | T61: =IF(AND($H61=T$11,$F61=Graphique!$A$2,$B61=Graphique!$A$1),MAX(T$11:T60)+1,"") | U61: =IF(AND($H61=U$11,$F61=Graphique!$A$2,$B61=Graphique!$A$1),MAX(U$11:U60)+1,"") | V61: =IF(AND($H61=V$11,$F61=Graphique!$A$2,$B61=Graphique!$A$1),MAX(V$11:V60)+1,"") | W61: =IF(AND($H61=W$11,$F61=Graphique!$A$2,$B61=Graphique!$A$1),MAX(W$11:W60)+1,"") | ... AC61: =IF(AND($H61=AC$11,$F61=Graphique!$A$2,$B61=Graphique!$A$1),MAX(AC$11:AC60)+1,"")
B62: Argentina | C62: Local Market | D62: ARS | E62: 0.21 | F62: MASCULIN | G62: EDP | H62: Dior | I62: Dior Homme EDP 100ml | J62: 1 | K62: 100 | L62: 3095 | O62: 940 | P62: =IF(AND($H62=P$11,$F62=Graphique!$A$2,$B62=Graphique!$A$1),MAX(P$11:P61)+1,"") | Q62: =IF(AND($H62=Q$11,$F62=Graphique!$A$2,$B62=Graphique!$A$1),MAX(Q$11:Q61)+1,"") | R62: =IF(AND($H62=R$11,$F62=Graphique!$A$2,$B62=Graphique!$A$1),MAX(R$11:R61)+1,"") | S62: =IF(AND($H62=S$11,$F62=Graphique!$A$2,$B62=Graphique!$A$1),MAX(S$11:S61)+1,"") | T62: =IF(AND($H62=T$11,$F62=Graphique!$A$2,$B62=Graphique!$A$1),MAX(T$11:T61)+1,"") | U62: =IF(AND($H62=U$11,$F62=Graphique!$A$2,$B62=Graphique!$A$1),MAX(U$11:U61)+1,"") | V62: =IF(AND($H62=V$11,$F62=Graphique!$A$2,$B62=Graphique!$A$1),MAX(V$11:V61)+1,"") | W62: =IF(AND($H62=W$11,$F62=Graphique!$A$2,$B62=Graphique!$A$1),MAX(W$11:W61)+1,"") | ... AC62: =IF(AND($H62=AC$11,$F62=Graphique!$A$2,$B62=Graphique!$A$1),MAX(AC$11:AC61)+1,"")
B63: Argentina | C63: Local Market | D63: ARS | E63: 0.21 | F63: MASCULIN | G63: EDP | H63: Dior | I63: Dior Homme EDP 75ml | J63: 0.75 | K63: 75 | L63: 1200 | O63: 0 | P63: =IF(AND($H63=P$11,$F63=Graphique!$A$2,$B63=Graphique!$A$1),MAX(P$11:P62)+1,"") | Q63: =IF(AND($H63=Q$11,$F63=Graphique!$A$2,$B63=Graphique!$A$1),MAX(Q$11:Q62)+1,"") | R63: =IF(AND($H63=R$11,$F63=Graphique!$A$2,$B63=Graphique!$A$1),MAX(R$11:R62)+1,"") | S63: =IF(AND($H63=S$11,$F63=Graphique!$A$2,$B63=Graphique!$A$1),MAX(S$11:S62)+1,"") | T63: =IF(AND($H63=T$11,$F63=Graphique!$A$2,$B63=Graphique!$A$1),MAX(T$11:T62)+1,"") | U63: =IF(AND($H63=U$11,$F63=Graphique!$A$2,$B63=Graphique!$A$1),MAX(U$11:U62)+1,"") | V63: =IF(AND($H63=V$11,$F63=Graphique!$A$2,$B63=Graphique!$A$1),MAX(V$11:V62)+1,"") | W63: =IF(AND($H63=W$11,$F63=Graphique!$A$2,$B63=Graphique!$A$1),MAX(W$11:W62)+1,"") | ... AC63: =IF(AND($H63=AC$11,$F63=Graphique!$A$2,$B63=Graphique!$A$1),MAX(AC$11:AC62)+1,"")
... B75: Argentina | C75: Local Market | D75: ARS | E75: 0.21 | F75: FEMININ | G75: EDP | H75: Dior | I75: Miss Dior EDP 30ml | J75: 0.5 | K75: 30 | L75: 1995 | O75: 655 | P75: =IF(AND($H75=P$11,$F75=Graphique!$A$2,$B75=Graphique!$A$1),MAX(P$11:P74)+1,"") | Q75: =IF(AND($H75=Q$11,$F75=Graphique!$A$2,$B75=Graphique!$A$1),MAX(Q$11:Q74)+1,"") | R75: =IF(AND($H75=R$11,$F75=Graphique!$A$2,$B75=Graphique!$A$1),MAX(R$11:R74)+1,"") | S75: =IF(AND($H75=S$11,$F75=Graphique!$A$2,$B75=Graphique!$A$1),MAX(S$11:S74)+1,"") | T75: =IF(AND($H75=T$11,$F75=Graphique!$A$2,$B75=Graphique!$A$1),MAX(T$11:T74)+1,"") | U75: =IF(AND($H75=U$11,$F75=Graphique!$A$2,$B75=Graphique!$A$1),MAX(U$11:U74)+1,"") | V75: =IF(AND($H75=V$11,$F75=Graphique!$A$2,$B75=Graphique!$A$1),MAX(V$11:V74)+1,"") | W75: =IF(AND($H75=W$11,$F75=Graphique!$A$2,$B75=Graphique!$A$1),MAX(W$11:W74)+1,"") | ... AC75: =IF(AND($H75=AC$11,$F75=Graphique!$A$2,$B75=Graphique!$A$1),MAX(AC$11:AC74)+1,"")
B76: Argentina | C76: Local Market | D76: ARS | E76: 0.21 | F76: MASCULIN | G76: EDC | H76: Jo Malone | I76: EDC 100ml | J76: 1 | K76: 100 | O76: 0 | P76: =IF(AND($H76=P$11,$F76=Graphique!$A$2,$B76=Graphique!$A$1),MAX(P$11:P75)+1,"") | Q76: =IF(AND($H76=Q$11,$F76=Graphique!$A$2,$B76=Graphique!$A$1),MAX(Q$11:Q75)+1,"") | R76: =IF(AND($H76=R$11,$F76=Graphique!$A$2,$B76=Graphique!$A$1),MAX(R$11:R75)+1,"") | S76: =IF(AND($H76=S$11,$F76=Graphique!$A$2,$B76=Graphique!$A$1),MAX(S$11:S75)+1,"") | T76: =IF(AND($H76=T$11,$F76=Graphique!$A$2,$B76=Graphique!$A$1),MAX(T$11:T75)+1,"") | U76: =IF(AND($H76=U$11,$F76=Graphique!$A$2,$B76=Graphique!$A$1),MAX(U$11:U75)+1,"") | V76: =IF(AND($H76=V$11,$F76=Graphique!$A$2,$B76=Graphique!$A$1),MAX(V$11:V75)+1,"") | W76: =IF(AND($H76=W$11,$F76=Graphique!$A$2,$B76=Graphique!$A$1),MAX(W$11:W75)+1,"") | ... AC76: =IF(AND($H76=AC$11,$F76=Graphique!$A$2,$B76=Graphique!$A$1),MAX(AC$11:AC75)+1,"")
B77: Argentina | C77: Local Market | D77: ARS | E77: 0.21 | F77: FEMININ | G77: EDP | H77: Lancome | I77: La Vie est Belle EDP 100ml | J77: 1 | K77: 100 | L77: 3790 | O77: 810 | P77: =IF(AND($H77=P$11,$F77=Graphique!$A$2,$B77=Graphique!$A$1),MAX(P$11:P76)+1,"") | Q77: =IF(AND($H77=Q$11,$F77=Graphique!$A$2,$B77=Graphique!$A$1),MAX(Q$11:Q76)+1,"") | R77: =IF(AND($H77=R$11,$F77=Graphique!$A$2,$B77=Graphique!$A$1),MAX(R$11:R76)+1,"") | S77: =IF(AND($H77=S$11,$F77=Graphique!$A$2,$B77=Graphique!$A$1),MAX(S$11:S76)+1,"") | T77: =IF(AND($H77=T$11,$F77=Graphique!$A$2,$B77=Graphique!$A$1),MAX(T$11:T76)+1,"") | U77: =IF(AND($H77=U$11,$F77=Graphique!$A$2,$B77=Graphique!$A$1),MAX(U$11:U76)+1,"") | V77: =IF(AND($H77=V$11,$F77=Graphique!$A$2,$B77=Graphique!$A$1),MAX(V$11:V76)+1,"") | W77: =IF(AND($H77=W$11,$F77=Graphique!$A$2,$B77=Graphique!$A$1),MAX(W$11:W76)+1,"") | ... AC77: =IF(AND($H77=AC$11,$F77=Graphique!$A$2,$B77=Graphique!$A$1),MAX(AC$11:AC76)+1,"")
B78: Argentina | C78: Local Market | D78: ARS | E78: 0.21 | F78: FEMININ | G78: EDT | H78: Lancome | I78: La Vie est Belle EDT 50ml | J78: 0.5 | K78: 50 | L78: 3050 | O78: 1010 | P78: =IF(AND($H78=P$11,$F78=Graphique!$A$2,$B78=Graphique!$A$1),MAX(P$11:P77)+1,"") | Q78: =IF(AND($H78=Q$11,$F78=Graphique!$A$2,$B78=Graphique!$A$1),MAX(Q$11:Q77)+1,"") | R78: =IF(AND($H78=R$11,$F78=Graphique!$A$2,$B78=Graphique!$A$1),MAX(R$11:R77)+1,"") | S78: =IF(AND($H78=S$11,$F78=Graphique!$A$2,$B78=Graphique!$A$1),MAX(S$11:S77)+1,"") | T78: =IF(AND($H78=T$11,$F78=Graphique!$A$2,$B78=Graphique!$A$1),MAX(T$11:T77)+1,"") | U78: =IF(AND($H78=U$11,$F78=Graphique!$A$2,$B78=Graphique!$A$1),MAX(U$11:U77)+1,"") | V78: =IF(AND($H78=V$11,$F78=Graphique!$A$2,$B78=Graphique!$A$1),MAX(V$11:V77)+1,"") | W78: =IF(AND($H78=W$11,$F78=Graphique!$A$2,$B78=Graphique!$A$1),MAX(W$11:W77)+1,"") | ... AC78: =IF(AND($H78=AC$11,$F78=Graphique!$A$2,$B78=Graphique!$A$1),MAX(AC$11:AC77)+1,"")
B79: Argentina | C79: Local Market | D79: ARS | E79: 0.21 | F79: FEMININ | G79: EDT | H79: Lancome | I79: La Vie est Belle EDT 100ml | J79: 1 | K79: 100 | L79: 3990 | O79: 1380 | P79: =IF(AND($H79=P$11,$F79=Graphique!$A$2,$B79=Graphique!$A$1),MAX(P$11:P78)+1,"") | Q79: =IF(AND($H79=Q$11,$F79=Graphique!$A$2,$B79=Graphique!$A$1),MAX(Q$11:Q78)+1,"") | R79: =IF(AND($H79=R$11,$F79=Graphique!$A$2,$B79=Graphique!$A$1),MAX(R$11:R78)+1,"") | S79: =IF(AND($H79=S$11,$F79=Graphique!$A$2,$B79=Graphique!$A$1),MAX(S$11:S78)+1,"") | T79: =IF(AND($H79=T$11,$F79=Graphique!$A$2,$B79=Graphique!$A$1),MAX(T$11:T78)+1,"") | U79: =IF(AND($H79=U$11,$F79=Graphique!$A$2,$B79=Graphique!$A$1),MAX(U$11:U78)+1,"") | V79: =IF(AND($H79=V$11,$F79=Graphique!$A$2,$B79=Graphique!$A$1),MAX(V$11:V78)+1,"") | W79: =IF(AND($H79=W$11,$F79=Graphique!$A$2,$B79=Graphique!$A$1),MAX(W$11:W78)+1,"") | ... AC79: =IF(AND($H79=AC$11,$F79=Graphique!$A$2,$B79=Graphique!$A$1),MAX(AC$11:AC78)+1,"")
B80: Argentina | C80: Local Market | D80: ARS | E80: 0.21 | F80: FEMININ | G80: EDP | H80: Prada | I80: Candy EDP 80ml | J80: 0.75 | K80: 80 | O80: 0 | P80: =IF(AND($H80=P$11,$F80=Graphique!$A$2,$B80=Graphique!$A$1),MAX(P$11:P79)+1,"") | Q80: =IF(AND($H80=Q$11,$F80=Graphique!$A$2,$B80=Graphique!$A$1),MAX(Q$11:Q79)+1,"") | R80: =IF(AND($H80=R$11,$F80=Graphique!$A$2,$B80=Graphique!$A$1),MAX(R$11:R79)+1,"") | S80: =IF(AND($H80=S$11,$F80=Graphique!$A$2,$B80=Graphique!$A$1),MAX(S$11:S79)+1,"") | T80: =IF(AND($H80=T$11,$F80=Graphique!$A$2,$B80=Graphique!$A$1),MAX(T$11:T79)+1,"") | U80: =IF(AND($H80=U$11,$F80=Graphique!$A$2,$B80=Graphique!$A$1),MAX(U$11:U79)+1,"") | V80: =IF(AND($H80=V$11,$F80=Graphique!$A$2,$B80=Graphique!$A$1),MAX(V$11:V79)+1,"") | W80: =IF(AND($H80=W$11,$F80=Graphique!$A$2,$B80=Graphique!$A$1),MAX(W$11:W79)+1,"") | ... AC80: =IF(AND($H80=AC$11,$F80=Graphique!$A$2,$B80=Graphique!$A$1),MAX(AC$11:AC79)+1,"")
B81: Argentina | C81: Local Market | D81: ARS | E81: 0.21 | F81: FEMININ | G81: EDP | H81: Prada | I81: Candy EDP 50ml | J81: 0.5 | K81: 50 | O81: 0 | P81: =IF(AND($H81=P$11,$F81=Graphique!$A$2,$B81=Graphique!$A$1),MAX(P$11:P80)+1,"") | Q81: =IF(AND($H81=Q$11,$F81=Graphique!$A$2,$B81=Graphique!$A$1),MAX(Q$11:Q80)+1,"") | R81: =IF(AND($H81=R$11,$F81=Graphique!$A$2,$B81=Graphique!$A$1),MAX(R$11:R80)+1,"") | S81: =IF(AND($H81=S$11,$F81=Graphique!$A$2,$B81=Graphique!$A$1),MAX(S$11:S80)+1,"") | T81: =IF(AND($H81=T$11,$F81=Graphique!$A$2,$B81=Graphique!$A$1),MAX(T$11:T80)+1,"") | U81: =IF(AND($H81=U$11,$F81=Graphique!$A$2,$B81=Graphique!$A$1),MAX(U$11:U80)+1,"") | V81: =IF(AND($H81=V$11,$F81=Graphique!$A$2,$B81=Graphique!$A$1),MAX(V$11:V80)+1,"") | W81: =IF(AND($H81=W$11,$F81=Graphique!$A$2,$B81=Graphique!$A$1),MAX(W$11:W80)+1,"") | ... AC81: =IF(AND($H81=AC$11,$F81=Graphique!$A$2,$B81=Graphique!$A$1),MAX(AC$11:AC80)+1,"")
B82: Argentina | C82: Local Market | D82: ARS | E82: 0.21 | F82: MASCULIN | G82: EDP | H82: Tom Ford | I82: Neroli Portofino EDP 100ml | J82: 1 | K82: 100 | L82: 8400 | O82: 8400 | P82: =IF(AND($H82=P$11,$F82=Graphique!$A$2,$B82=Graphique!$A$1),MAX(P$11:P81)+1,"") | Q82: =IF(AND($H82=Q$11,$F82=Graphique!$A$2,$B82=Graphique!$A$1),MAX(Q$11:Q81)+1,"") | R82: =IF(AND($H82=R$11,$F82=Graphique!$A$2,$B82=Graphique!$A$1),MAX(R$11:R81)+1,"") | S82: =IF(AND($H82=S$11,$F82=Graphique!$A$2,$B82=Graphique!$A$1),MAX(S$11:S81)+1,"") | T82: =IF(AND($H82=T$11,$F82=Graphique!$A$2,$B82=Graphique!$A$1),MAX(T$11:T81)+1,"") | U82: =IF(AND($H82=U$11,$F82=Graphique!$A$2,$B82=Graphique!$A$1),MAX(U$11:U81)+1,"") | V82: =IF(AND($H82=V$11,$F82=Graphique!$A$2,$B82=Graphique!$A$1),MAX(V$11:V81)+1,"") | W82: =IF(AND($H82=W$11,$F82=Graphique!$A$2,$B82=Graphique!$A$1),MAX(W$11:W81)+1,"") | ... AC82: =IF(AND($H82=AC$11,$F82=Graphique!$A$2,$B82=Graphique!$A$1),MAX(AC$11:AC81)+1,"")
B83: Argentina | C83: Local Market | D83: ARS | E83: 0.21 | F83: MASCULIN | G83: EDP | H83: Tom Ford | I83: Noir 100ml | J83: 1 | K83: 100 | L83: 4500 | O83: 4500 | P83: =IF(AND($H83=P$11,$F83=Graphique!$A$2,$B83=Graphique!$A$1),MAX(P$11:P82)+1,"") | Q83: =IF(AND($H83=Q$11,$F83=Graphique!$A$2,$B83=Graphique!$A$1),MAX(Q$11:Q82)+1,"") | R83: =IF(AND($H83=R$11,$F83=Graphique!$A$2,$B83=Graphique!$A$1),MAX(R$11:R82)+1,"") | S83: =IF(AND($H83=S$11,$F83=Graphique!$A$2,$B83=Graphique!$A$1),MAX(S$11:S82)+1,"") | T83: =IF(AND($H83=T$11,$F83=Graphique!$A$2,$B83=Graphique!$A$1),MAX(T$11:T82)+1,"") | U83: =IF(AND($H83=U$11,$F83=Graphique!$A$2,$B83=Graphique!$A$1),MAX(U$11:U82)+1,"") | V83: =IF(AND($H83=V$11,$F83=Graphique!$A$2,$B83=Graphique!$A$1),MAX(V$11:V82)+1,"") | W83: =IF(AND($H83=W$11,$F83=Graphique!$A$2,$B83=Graphique!$A$1),MAX(W$11:W82)+1,"") | ... AC83: =IF(AND($H83=AC$11,$F83=Graphique!$A$2,$B83=Graphique!$A$1),MAX(AC$11:AC82)+1,"")
A84: 23659 | B84: BRAZIL | C84: Local Market | D84: REAL | E84: 0 | F84: MASCULIN | G84: EDT | H84: HERMES | I84: TDH EDT VAP 200ML | J84: 2 | K84: 200 | O84: 0 | P84: =IF(AND($H84=P$11,$F84=Graphique!$A$2,$B84=Graphique!$A$1),MAX(P$11:P83)+1,"") | Q84: =IF(AND($H84=Q$11,$F84=Graphique!$A$2,$B84=Graphique!$A$1),MAX(Q$11:Q83)+1,"") | R84: =IF(AND($H84=R$11,$F84=Graphique!$A$2,$B84=Graphique!$A$1),MAX(R$11:R83)+1,"") | S84: =IF(AND($H84=S$11,$F84=Graphique!$A$2,$B84=Graphique!$A$1),MAX(S$11:S83)+1,"") | T84: =IF(AND($H84=T$11,$F84=Graphique!$A$2,$B84=Graphique!$A$1),MAX(T$11:T83)+1,"") | U84: =IF(AND($H84=U$11,$F84=Graphique!$A$2,$B84=Graphique!$A$1),MAX(U$11:U83)+1,"") | V84: =IF(AND($H84=V$11,$F84=Graphique!$A$2,$B84=Graphique!$A$1),MAX(V$11:V83)+1,"") | W84: =IF(AND($H84=W$11,$F84=Graphique!$A$2,$B84=Graphique!$A$1),MAX(W$11:W83)+1,"") | ... AC84: =IF(AND($H84=AC$11,$F84=Graphique!$A$2,$B84=Graphique!$A$1),MAX(AC$11:AC83)+1,"")
A85: 20872 | B85: BRAZIL | C85: Local Market | D85: REAL | E85: 0 | F85: MASCULIN | G85: EDT | H85: HERMES | I85: TDH EDT VAP 100ML | J85: 1 | K85: 100 | L85: 649 | O85: -30 | P85: =IF(AND($H85=P$11,$F85=Graphique!$A$2,$B85=Graphique!$A$1),MAX(P$11:P84)+1,"") | Q85: =IF(AND($H85=Q$11,$F85=Graphique!$A$2,$B85=Graphique!$A$1),MAX(Q$11:Q84)+1,"") | R85: =IF(AND($H85=R$11,$F85=Graphique!$A$2,$B85=Graphique!$A$1),MAX(R$11:R84)+1,"") | S85: =IF(AND($H85=S$11,$F85=Graphique!$A$2,$B85=Graphique!$A$1),MAX(S$11:S84)+1,"") | T85: =IF(AND($H85=T$11,$F85=Graphique!$A$2,$B85=Graphique!$A$1),MAX(T$11:T84)+1,"") | U85: =IF(AND($H85=U$11,$F85=Graphique!$A$2,$B85=Graphique!$A$1),MAX(U$11:U84)+1,"") | V85: =IF(AND($H85=V$11,$F85=Graphique!$A$2,$B85=Graphique!$A$1),MAX(V$11:V84)+1,"") | W85: =IF(AND($H85=W$11,$F85=Graphique!$A$2,$B85=Graphique!$A$1),MAX(W$11:W84)+1,"") | ... AC85: =IF(AND($H85=AC$11,$F85=Graphique!$A$2,$B85=Graphique!$A$1),MAX(AC$11:AC84)+1,"")
A86: 20873 | B86: BRAZIL | C86: Local Market | D86: REAL | E86: 0 | F86: MASCULIN | G86: EDT | H86: HERMES | I86: TDH EDT VAP 50ML | J86: 0.5 | K86: 50 | L86: 468 | O86: -21 | P86: =IF(AND($H86=P$11,$F86=Graphique!$A$2,$B86=Graphique!$A$1),MAX(P$11:P85)+1,"") | Q86: =IF(AND($H86=Q$11,$F86=Graphique!$A$2,$B86=Graphique!$A$1),MAX(Q$11:Q85)+1,"") | R86: =IF(AND($H86=R$11,$F86=Graphique!$A$2,$B86=Graphique!$A$1),MAX(R$11:R85)+1,"") | S86: =IF(AND($H86=S$11,$F86=Graphique!$A$2,$B86=Graphique!$A$1),MAX(S$11:S85)+1,"") | T86: =IF(AND($H86=T$11,$F86=Graphique!$A$2,$B86=Graphique!$A$1),MAX(T$11:T85)+1,"") | U86: =IF(AND($H86=U$11,$F86=Graphique!$A$2,$B86=Graphique!$A$1),MAX(U$11:U85)+1,"") | V86: =IF(AND($H86=V$11,$F86=Graphique!$A$2,$B86=Graphique!$A$1),MAX(V$11:V85)+1,"") | W86: =IF(AND($H86=W$11,$F86=Graphique!$A$2,$B86=Graphique!$A$1),MAX(W$11:W85)+1,"") | ... AC86: =IF(AND($H86=AC$11,$F86=Graphique!$A$2,$B86=Graphique!$A$1),MAX(AC$11:AC85)+1,"")
A87: 34656 | B87: BRAZIL | C87: Local Market | D87: REAL | E87: 0 | F87: MASCULIN | G87: EDT | H87: HERMES | I87: TDH ETF VAP 75ML | J87: 0.75 | K87: 75 | L87: 489 | O87: -7 | P87: =IF(AND($H87=P$11,$F87=Graphique!$A$2,$B87=Graphique!$A$1),MAX(P$11:P86)+1,"") | Q87: =IF(AND($H87=Q$11,$F87=Graphique!$A$2,$B87=Graphique!$A$1),MAX(Q$11:Q86)+1,"") | R87: =IF(AND($H87=R$11,$F87=Graphique!$A$2,$B87=Graphique!$A$1),MAX(R$11:R86)+1,"") | S87: =IF(AND($H87=S$11,$F87=Graphique!$A$2,$B87=Graphique!$A$1),MAX(S$11:S86)+1,"") | T87: =IF(AND($H87=T$11,$F87=Graphique!$A$2,$B87=Graphique!$A$1),MAX(T$11:T86)+1,"") | U87: =IF(AND($H87=U$11,$F87=Graphique!$A$2,$B87=Graphique!$A$1),MAX(U$11:U86)+1,"") | V87: =IF(AND($H87=V$11,$F87=Graphique!$A$2,$B87=Graphique!$A$1),MAX(V$11:V86)+1,"") | W87: =IF(AND($H87=W$11,$F87=Graphique!$A$2,$B87=Graphique!$A$1),MAX(W$11:W86)+1,"") | ... AC87: =IF(AND($H87=AC$11,$F87=Graphique!$A$2,$B87=Graphique!$A$1),MAX(AC$11:AC86)+1,"")
A88: 26085 | B88: BRAZIL | C88: Local Market | D88: REAL | E88: 0 | F88: MASCULIN | G88: EDP | H88: HERMES | I88: TDH PP VAP 200ML | J88: 2 | K88: 200 | O88: 0 | P88: =IF(AND($H88=P$11,$F88=Graphique!$A$2,$B88=Graphique!$A$1),MAX(P$11:P87)+1,"") | Q88: =IF(AND($H88=Q$11,$F88=Graphique!$A$2,$B88=Graphique!$A$1),MAX(Q$11:Q87)+1,"") | R88: =IF(AND($H88=R$11,$F88=Graphique!$A$2,$B88=Graphique!$A$1),MAX(R$11:R87)+1,"") | S88: =IF(AND($H88=S$11,$F88=Graphique!$A$2,$B88=Graphique!$A$1),MAX(S$11:S87)+1,"") | T88: =IF(AND($H88=T$11,$F88=Graphique!$A$2,$B88=Graphique!$A$1),MAX(T$11:T87)+1,"") | U88: =IF(AND($H88=U$11,$F88=Graphique!$A$2,$B88=Graphique!$A$1),MAX(U$11:U87)+1,"") | V88: =IF(AND($H88=V$11,$F88=Graphique!$A$2,$B88=Graphique!$A$1),MAX(V$11:V87)+1,"") | W88: =IF(AND($H88=W$11,$F88=Graphique!$A$2,$B88=Graphique!$A$1),MAX(W$11:W87)+1,"") | ... AC88: =IF(AND($H88=AC$11,$F88=Graphique!$A$2,$B88=Graphique!$A$1),MAX(AC$11:AC87)+1,"")
A89: 24578 | B89: BRAZIL | C89: Local Market | D89: REAL | E89: 0 | F89: MASCULIN | G89: EDP | H89: HERMES | I89: TDH PP VAP 75ML | J89: 0.75 | K89: 75 | O89: -714 | P89: =IF(AND($H89=P$11,$F89=Graphique!$A$2,$B89=Graphique!$A$1),MAX(P$11:P88)+1,"") | Q89: =IF(AND($H89=Q$11,$F89=Graphique!$A$2,$B89=Graphique!$A$1),MAX(Q$11:Q88)+1,"") | R89: =IF(AND($H89=R$11,$F89=Graphique!$A$2,$B89=Graphique!$A$1),MAX(R$11:R88)+1,"") | S89: =IF(AND($H89=S$11,$F89=Graphique!$A$2,$B89=Graphique!$A$1),MAX(S$11:S88)+1,"") | T89: =IF(AND($H89=T$11,$F89=Graphique!$A$2,$B89=Graphique!$A$1),MAX(T$11:T88)+1,"") | U89: =IF(AND($H89=U$11,$F89=Graphique!$A$2,$B89=Graphique!$A$1),MAX(U$11:U88)+1,"") | V89: =IF(AND($H89=V$11,$F89=Graphique!$A$2,$B89=Graphique!$A$1),MAX(V$11:V88)+1,"") | W89: =IF(AND($H89=W$11,$F89=Graphique!$A$2,$B89=Graphique!$A$1),MAX(W$11:W88)+1,"") | ... AC89: =IF(AND($H89=AC$11,$F89=Graphique!$A$2,$B89=Graphique!$A$1),MAX(AC$11:AC88)+1,"")
A90: 36988 | B90: BRAZIL | C90: Local Market | D90: REAL | E90: 0 | F90: FEMININ | G90: EDP | H90: HERMES | I90: TWI EDP VAP 85ML | J90: 0.75 | K90: 85 | L90: 699 | O90: 699 | P90: =IF(AND($H90=P$11,$F90=Graphique!$A$2,$B90=Graphique!$A$1),MAX(P$11:P89)+1,"") | Q90: =IF(AND($H90=Q$11,$F90=Graphique!$A$2,$B90=Graphique!$A$1),MAX(Q$11:Q89)+1,"") | R90: =IF(AND($H90=R$11,$F90=Graphique!$A$2,$B90=Graphique!$A$1),MAX(R$11:R89)+1,"") | S90: =IF(AND($H90=S$11,$F90=Graphique!$A$2,$B90=Graphique!$A$1),MAX(S$11:S89)+1,"") | T90: =IF(AND($H90=T$11,$F90=Graphique!$A$2,$B90=Graphique!$A$1),MAX(T$11:T89)+1,"") | U90: =IF(AND($H90=U$11,$F90=Graphique!$A$2,$B90=Graphique!$A$1),MAX(U$11:U89)+1,"") | V90: =IF(AND($H90=V$11,$F90=Graphique!$A$2,$B90=Graphique!$A$1),MAX(V$11:V89)+1,"") | W90: =IF(AND($H90=W$11,$F90=Graphique!$A$2,$B90=Graphique!$A$1),MAX(W$11:W89)+1,"") | ... AC90: =IF(AND($H90=AC$11,$F90=Graphique!$A$2,$B90=Graphique!$A$1),MAX(AC$11:AC89)+1,"")
A91: 36987 | B91: BRAZIL | C91: Local Market | D91: REAL | E91: 0 | F91: FEMININ | G91: EDP | H91: HERMES | I91: TWI EDP VAP 50ML | J91: 0.5 | K91: 50 | L91: 499 | O91: 499 | P91: =IF(AND($H91=P$11,$F91=Graphique!$A$2,$B91=Graphique!$A$1),MAX(P$11:P90)+1,"") | Q91: =IF(AND($H91=Q$11,$F91=Graphique!$A$2,$B91=Graphique!$A$1),MAX(Q$11:Q90)+1,"") | R91: =IF(AND($H91=R$11,$F91=Graphique!$A$2,$B91=Graphique!$A$1),MAX(R$11:R90)+1,"") | S91: =IF(AND($H91=S$11,$F91=Graphique!$A$2,$B91=Graphique!$A$1),MAX(S$11:S90)+1,"") | T91: =IF(AND($H91=T$11,$F91=Graphique!$A$2,$B91=Graphique!$A$1),MAX(T$11:T90)+1,"") | U91: =IF(AND($H91=U$11,$F91=Graphique!$A$2,$B91=Graphique!$A$1),MAX(U$11:U90)+1,"") | V91: =IF(AND($H91=V$11,$F91=Graphique!$A$2,$B91=Graphique!$A$1),MAX(V$11:V90)+1,"") | W91: =IF(AND($H91=W$11,$F91=Graphique!$A$2,$B91=Graphique!$A$1),MAX(W$11:W90)+1,"") | ... AC91: =IF(AND($H91=AC$11,$F91=Graphique!$A$2,$B91=Graphique!$A$1),MAX(AC$11:AC90)+1,"")
A92: 36986 | B92: BRAZIL | C92: Local Market | D92: REAL | E92: 0 | F92: FEMININ | G92: EDP | H92: HERMES | I92: TWI EDP VAP 30ML | J92: 0.5 | K92: 30 | L92: 399 | O92: 399 | P92: =IF(AND($H92=P$11,$F92=Graphique!$A$2,$B92=Graphique!$A$1),MAX(P$11:P91)+1,"") | Q92: =IF(AND($H92=Q$11,$F92=Graphique!$A$2,$B92=Graphique!$A$1),MAX(Q$11:Q91)+1,"") | R92: =IF(AND($H92=R$11,$F92=Graphique!$A$2,$B92=Graphique!$A$1),MAX(R$11:R91)+1,"") | S92: =IF(AND($H92=S$11,$F92=Graphique!$A$2,$B92=Graphique!$A$1),MAX(S$11:S91)+1,"") | T92: =IF(AND($H92=T$11,$F92=Graphique!$A$2,$B92=Graphique!$A$1),MAX(T$11:T91)+1,"") | U92: =IF(AND($H92=U$11,$F92=Graphique!$A$2,$B92=Graphique!$A$1),MAX(U$11:U91)+1,"") | V92: =IF(AND($H92=V$11,$F92=Graphique!$A$2,$B92=Graphique!$A$1),MAX(V$11:V91)+1,"") | W92: =IF(AND($H92=W$11,$F92=Graphique!$A$2,$B92=Graphique!$A$1),MAX(W$11:W91)+1,"") | ... AC92: =IF(AND($H92=AC$11,$F92=Graphique!$A$2,$B92=Graphique!$A$1),MAX(AC$11:AC91)+1,"")
A93: 20396 | B93: BRAZIL | C93: Local Market | D93: REAL | E93: 0 | F93: FEMININ | G93: EDT | H93: HERMES | I93: JSN EDT VAP 100ML | J93: 1 | K93: 100 | L93: 749 | O93: -40 | P93: =IF(AND($H93=P$11,$F93=Graphique!$A$2,$B93=Graphique!$A$1),MAX(P$11:P92)+1,"") | Q93: =IF(AND($H93=Q$11,$F93=Graphique!$A$2,$B93=Graphique!$A$1),MAX(Q$11:Q92)+1,"") | R93: =IF(AND($H93=R$11,$F93=Graphique!$A$2,$B93=Graphique!$A$1),MAX(R$11:R92)+1,"") | S93: =IF(AND($H93=S$11,$F93=Graphique!$A$2,$B93=Graphique!$A$1),MAX(S$11:S92)+1,"") | T93: =IF(AND($H93=T$11,$F93=Graphique!$A$2,$B93=Graphique!$A$1),MAX(T$11:T92)+1,"") | U93: =IF(AND($H93=U$11,$F93=Graphique!$A$2,$B93=Graphique!$A$1),MAX(U$11:U92)+1,"") | V93: =IF(AND($H93=V$11,$F93=Graphique!$A$2,$B93=Graphique!$A$1),MAX(V$11:V92)+1,"") | W93: =IF(AND($H93=W$11,$F93=Graphique!$A$2,$B93=Graphique!$A$1),MAX(W$11:W92)+1,"") | ... AC93: =IF(AND($H93=AC$11,$F93=Graphique!$A$2,$B93=Graphique!$A$1),MAX(AC$11:AC92)+1,"")
A94: 20397 | B94: BRAZIL | C94: Local Market | D94: REAL | E94: 0 | F94: FEMININ | G94: EDT | H94: HERMES | I94: JSN EDT VAP 50ML | J94: 0.5 | K94: 50 | L94: 544 | O94: -25 | P94: =IF(AND($H94=P$11,$F94=Graphique!$A$2,$B94=Graphique!$A$1),MAX(P$11:P93)+1,"") | Q94: =IF(AND($H94=Q$11,$F94=Graphique!$A$2,$B94=Graphique!$A$1),MAX(Q$11:Q93)+1,"") | R94: =IF(AND($H94=R$11,$F94=Graphique!$A$2,$B94=Graphique!$A$1),MAX(R$11:R93)+1,"") | S94: =IF(AND($H94=S$11,$F94=Graphique!$A$2,$B94=Graphique!$A$1),MAX(S$11:S93)+1,"") | T94: =IF(AND($H94=T$11,$F94=Graphique!$A$2,$B94=Graphique!$A$1),MAX(T$11:T93)+1,"") | U94: =IF(AND($H94=U$11,$F94=Graphique!$A$2,$B94=Graphique!$A$1),MAX(U$11:U93)+1,"") | V94: =IF(AND($H94=V$11,$F94=Graphique!$A$2,$B94=Graphique!$A$1),MAX(V$11:V93)+1,"") | W94: =IF(AND($H94=W$11,$F94=Graphique!$A$2,$B94=Graphique!$A$1),MAX(W$11:W93)+1,"") | ... AC94: =IF(AND($H94=AC$11,$F94=Graphique!$A$2,$B94=Graphique!$A$1),MAX(AC$11:AC93)+1,"")
A95: 38302 | B95: BRAZIL | C95: Local Market | D95: REAL | E95: 0 | F95: MASCULIN | G95: EDC | H95: HERMES | I95: EOV EDC VAP 100ML | J95: 1 | K95: 100 | L95: 544 | O95: -21 | P95: =IF(AND($H95=P$11,$F95=Graphique!$A$2,$B95=Graphique!$A$1),MAX(P$11:P94)+1,"") | Q95: =IF(AND($H95=Q$11,$F95=Graphique!$A$2,$B95=Graphique!$A$1),MAX(Q$11:Q94)+1,"") | R95: =IF(AND($H95=R$11,$F95=Graphique!$A$2,$B95=Graphique!$A$1),MAX(R$11:R94)+1,"") | S95: =IF(AND($H95=S$11,$F95=Graphique!$A$2,$B95=Graphique!$A$1),MAX(S$11:S94)+1,"") | T95: =IF(AND($H95=T$11,$F95=Graphique!$A$2,$B95=Graphique!$A$1),MAX(T$11:T94)+1,"") | U95: =IF(AND($H95=U$11,$F95=Graphique!$A$2,$B95=Graphique!$A$1),MAX(U$11:U94)+1,"") | V95: =IF(AND($H95=V$11,$F95=Graphique!$A$2,$B95=Graphique!$A$1),MAX(V$11:V94)+1,"") | W95: =IF(AND($H95=W$11,$F95=Graphique!$A$2,$B95=Graphique!$A$1),MAX(W$11:W94)+1,"") | ... AC95: =IF(AND($H95=AC$11,$F95=Graphique!$A$2,$B95=Graphique!$A$1),MAX(AC$11:AC94)+1,"")
A96: 37065 | B96: BRAZIL | C96: Local Market | D96: REAL | E96: 0 | F96: MASCULIN | G96: EDC | H96: HERMES | I96: ERE EDC VAP 100ML | J96: 1 | K96: 100 | L96: 544 | O96: -21 | P96: =IF(AND($H96=P$11,$F96=Graphique!$A$2,$B96=Graphique!$A$1),MAX(P$11:P95)+1,"") | Q96: =IF(AND($H96=Q$11,$F96=Graphique!$A$2,$B96=Graphique!$A$1),MAX(Q$11:Q95)+1,"") | R96: =IF(AND($H96=R$11,$F96=Graphique!$A$2,$B96=Graphique!$A$1),MAX(R$11:R95)+1,"") | S96: =IF(AND($H96=S$11,$F96=Graphique!$A$2,$B96=Graphique!$A$1),MAX(S$11:S95)+1,"") | T96: =IF(AND($H96=T$11,$F96=Graphique!$A$2,$B96=Graphique!$A$1),MAX(T$11:T95)+1,"") | U96: =IF(AND($H96=U$11,$F96=Graphique!$A$2,$B96=Graphique!$A$1),MAX(U$11:U95)+1,"") | V96: =IF(AND($H96=V$11,$F96=Graphique!$A$2,$B96=Graphique!$A$1),MAX(V$11:V95)+1,"") | W96: =IF(AND($H96=W$11,$F96=Graphique!$A$2,$B96=Graphique!$A$1),MAX(W$11:W95)+1,"") | ... AC96: =IF(AND($H96=AC$11,$F96=Graphique!$A$2,$B96=Graphique!$A$1),MAX(AC$11:AC95)+1,"")
A97: 20048/1 | B97: BRAZIL | C97: Local Market | D97: REAL | E97: 0 | F97: FEMININ | G97: EDT | H97: HERMES | I97: EDM EDT VAP 100ML | J97: 1 | K97: 100 | L97: 799 | O97: -43 | P97: =IF(AND($H97=P$11,$F97=Graphique!$A$2,$B97=Graphique!$A$1),MAX(P$11:P96)+1,"") | Q97: =IF(AND($H97=Q$11,$F97=Graphique!$A$2,$B97=Graphique!$A$1),MAX(Q$11:Q96)+1,"") | R97: =IF(AND($H97=R$11,$F97=Graphique!$A$2,$B97=Graphique!$A$1),MAX(R$11:R96)+1,"") | S97: =IF(AND($H97=S$11,$F97=Graphique!$A$2,$B97=Graphique!$A$1),MAX(S$11:S96)+1,"") | T97: =IF(AND($H97=T$11,$F97=Graphique!$A$2,$B97=Graphique!$A$1),MAX(T$11:T96)+1,"") | U97: =IF(AND($H97=U$11,$F97=Graphique!$A$2,$B97=Graphique!$A$1),MAX(U$11:U96)+1,"") | V97: =IF(AND($H97=V$11,$F97=Graphique!$A$2,$B97=Graphique!$A$1),MAX(V$11:V96)+1,"") | W97: =IF(AND($H97=W$11,$F97=Graphique!$A$2,$B97=Graphique!$A$1),MAX(W$11:W96)+1,"") | ... AC97: =IF(AND($H97=AC$11,$F97=Graphique!$A$2,$B97=Graphique!$A$1),MAX(AC$11:AC96)+1,"")
A98: 20049/1 | B98: BRAZIL | C98: Local Market | D98: REAL | E98: 0 | F98: FEMININ | G98: EDT | H98: HERMES | I98: EDM EDT VAP 50ML | J98: 0.5 | K98: 50 | L98: 598 | O98: -25 | P98: =IF(AND($H98=P$11,$F98=Graphique!$A$2,$B98=Graphique!$A$1),MAX(P$11:P97)+1,"") | Q98: =IF(AND($H98=Q$11,$F98=Graphique!$A$2,$B98=Graphique!$A$1),MAX(Q$11:Q97)+1,"") | R98: =IF(AND($H98=R$11,$F98=Graphique!$A$2,$B98=Graphique!$A$1),MAX(R$11:R97)+1,"") | S98: =IF(AND($H98=S$11,$F98=Graphique!$A$2,$B98=Graphique!$A$1),MAX(S$11:S97)+1,"") | T98: =IF(AND($H98=T$11,$F98=Graphique!$A$2,$B98=Graphique!$A$1),MAX(T$11:T97)+1,"") | U98: =IF(AND($H98=U$11,$F98=Graphique!$A$2,$B98=Graphique!$A$1),MAX(U$11:U97)+1,"") | V98: =IF(AND($H98=V$11,$F98=Graphique!$A$2,$B98=Graphique!$A$1),MAX(V$11:V97)+1,"") | W98: =IF(AND($H98=W$11,$F98=Graphique!$A$2,$B98=Graphique!$A$1),MAX(W$11:W97)+1,"") | ... AC98: =IF(AND($H98=AC$11,$F98=Graphique!$A$2,$B98=Graphique!$A$1),MAX(AC$11:AC97)+1,"")
A99: 26214 | B99: BRAZIL | C99: Local Market | D99: REAL | E99: 0 | F99: MASCULIN | G99: EDT | H99: HERMES | I99: VDH EDT VAP-R 100ML | J99: 1 | K99: 100 | L99: 759 | O99: -30 | P99: =IF(AND($H99=P$11,$F99=Graphique!$A$2,$B99=Graphique!$A$1),MAX(P$11:P98)+1,"") | Q99: =IF(AND($H99=Q$11,$F99=Graphique!$A$2,$B99=Graphique!$A$1),MAX(Q$11:Q98)+1,"") | R99: =IF(AND($H99=R$11,$F99=Graphique!$A$2,$B99=Graphique!$A$1),MAX(R$11:R98)+1,"") | S99: =IF(AND($H99=S$11,$F99=Graphique!$A$2,$B99=Graphique!$A$1),MAX(S$11:S98)+1,"") | T99: =IF(AND($H99=T$11,$F99=Graphique!$A$2,$B99=Graphique!$A$1),MAX(T$11:T98)+1,"") | U99: =IF(AND($H99=U$11,$F99=Graphique!$A$2,$B99=Graphique!$A$1),MAX(U$11:U98)+1,"") | V99: =IF(AND($H99=V$11,$F99=Graphique!$A$2,$B99=Graphique!$A$1),MAX(V$11:V98)+1,"") | W99: =IF(AND($H99=W$11,$F99=Graphique!$A$2,$B99=Graphique!$A$1),MAX(W$11:W98)+1,"") | ... AC99: =IF(AND($H99=AC$11,$F99=Graphique!$A$2,$B99=Graphique!$A$1),MAX(AC$11:AC98)+1,"")
A100: 28765 | B100: BRAZIL | C100: Local Market | D100: REAL | E100: 0 | F100: MASCULIN | G100: EDP | H100: HERMES | I100: VDH PP VAP-R 100ML | J100: 1 | K100: 100 | O100: 0 | P100: =IF(AND($H100=P$11,$F100=Graphique!$A$2,$B100=Graphique!$A$1),MAX(P$11:P99)+1,"") | Q100: =IF(AND($H100=Q$11,$F100=Graphique!$A$2,$B100=Graphique!$A$1),MAX(Q$11:Q99)+1,"") | R100: =IF(AND($H100=R$11,$F100=Graphique!$A$2,$B100=Graphique!$A$1),MAX(R$11:R99)+1,"") | S100: =IF(AND($H100=S$11,$F100=Graphique!$A$2,$B100=Graphique!$A$1),MAX(S$11:S99)+1,"") | T100: =IF(AND($H100=T$11,$F100=Graphique!$A$2,$B100=Graphique!$A$1),MAX(T$11:T99)+1,"") | U100: =IF(AND($H100=U$11,$F100=Graphique!$A$2,$B100=Graphique!$A$1),MAX(U$11:U99)+1,"") | V100: =IF(AND($H100=V$11,$F100=Graphique!$A$2,$B100=Graphique!$A$1),MAX(V$11:V99)+1,"") | W100: =IF(AND($H100=W$11,$F100=Graphique!$A$2,$B100=Graphique!$A$1),MAX(W$11:W99)+1,"") | ... AC100: =IF(AND($H100=AC$11,$F100=Graphique!$A$2,$B100=Graphique!$A$1),MAX(AC$11:AC99)+1,"")
B101: BRAZIL | C101: Local Market | D101: REAL | E101: 0 | F101: MASCULIN | G101: EDP | H101: Armani | I101: Acqua Di Gio EDP 100ml | J101: 1 | K101: 100 | L101: 519 | O101: 519 | P101: =IF(AND($H101=P$11,$F101=Graphique!$A$2,$B101=Graphique!$A$1),MAX(P$11:P100)+1,"") | Q101: =IF(AND($H101=Q$11,$F101=Graphique!$A$2,$B101=Graphique!$A$1),MAX(Q$11:Q100)+1,"") | R101: =IF(AND($H101=R$11,$F101=Graphique!$A$2,$B101=Graphique!$A$1),MAX(R$11:R100)+1,"") | S101: =IF(AND($H101=S$11,$F101=Graphique!$A$2,$B101=Graphique!$A$1),MAX(S$11:S100)+1,"") | T101: =IF(AND($H101=T$11,$F101=Graphique!$A$2,$B101=Graphique!$A$1),MAX(T$11:T100)+1,"") | U101: =IF(AND($H101=U$11,$F101=Graphique!$A$2,$B101=Graphique!$A$1),MAX(U$11:U100)+1,"") | V101: =IF(AND($H101=V$11,$F101=Graphique!$A$2,$B101=Graphique!$A$1),MAX(V$11:V100)+1,"") | W101: =IF(AND($H101=W$11,$F101=Graphique!$A$2,$B101=Graphique!$A$1),MAX(W$11:W100)+1,"") | ... AC101: =IF(AND($H101=AC$11,$F101=Graphique!$A$2,$B101=Graphique!$A$1),MAX(AC$11:AC100)+1,"")
B102: BRAZIL | C102: Local Market | D102: REAL | E102: 0 | F102: MASCULIN | G102: EDT | H102: Armani | I102: Acqua Di Gio EDT 50ml | J102: 0.5 | K102: 50 | L102: 349 | O102: 20 | P102: =IF(AND($H102=P$11,$F102=Graphique!$A$2,$B102=Graphique!$A$1),MAX(P$11:P101)+1,"") | Q102: =IF(AND($H102=Q$11,$F102=Graphique!$A$2,$B102=Graphique!$A$1),MAX(Q$11:Q101)+1,"") | R102: =IF(AND($H102=R$11,$F102=Graphique!$A$2,$B102=Graphique!$A$1),MAX(R$11:R101)+1,"") | S102: =IF(AND($H102=S$11,$F102=Graphique!$A$2,$B102=Graphique!$A$1),MAX(S$11:S101)+1,"") | T102: =IF(AND($H102=T$11,$F102=Graphique!$A$2,$B102=Graphique!$A$1),MAX(T$11:T101)+1,"") | U102: =IF(AND($H102=U$11,$F102=Graphique!$A$2,$B102=Graphique!$A$1),MAX(U$11:U101)+1,"") | V102: =IF(AND($H102=V$11,$F102=Graphique!$A$2,$B102=Graphique!$A$1),MAX(V$11:V101)+1,"") | W102: =IF(AND($H102=W$11,$F102=Graphique!$A$2,$B102=Graphique!$A$1),MAX(W$11:W101)+1,"") | ... AC102: =IF(AND($H102=AC$11,$F102=Graphique!$A$2,$B102=Graphique!$A$1),MAX(AC$11:AC101)+1,"")
B103: BRAZIL | C103: Local Market | D103: REAL | E103: 0 | F103: MASCULIN | G103: EDT | H103: Armani | I103: Acqua Di Gio EDT 100ml | J103: 1 | K103: 100 | L103: 449 | O103: 0 | P103: =IF(AND($H103=P$11,$F103=Graphique!$A$2,$B103=Graphique!$A$1),MAX(P$11:P102)+1,"") | Q103: =IF(AND($H103=Q$11,$F103=Graphique!$A$2,$B103=Graphique!$A$1),MAX(Q$11:Q102)+1,"") | R103: =IF(AND($H103=R$11,$F103=Graphique!$A$2,$B103=Graphique!$A$1),MAX(R$11:R102)+1,"") | S103: =IF(AND($H103=S$11,$F103=Graphique!$A$2,$B103=Graphique!$A$1),MAX(S$11:S102)+1,"") | T103: =IF(AND($H103=T$11,$F103=Graphique!$A$2,$B103=Graphique!$A$1),MAX(T$11:T102)+1,"") | U103: =IF(AND($H103=U$11,$F103=Graphique!$A$2,$B103=Graphique!$A$1),MAX(U$11:U102)+1,"") | V103: =IF(AND($H103=V$11,$F103=Graphique!$A$2,$B103=Graphique!$A$1),MAX(V$11:V102)+1,"") | W103: =IF(AND($H103=W$11,$F103=Graphique!$A$2,$B103=Graphique!$A$1),MAX(W$11:W102)+1,"") | ... AC103: =IF(AND($H103=AC$11,$F103=Graphique!$A$2,$B103=Graphique!$A$1),MAX(AC$11:AC102)+1,"")
B104: BRAZIL | C104: Local Market | D104: REAL | E104: 0 | F104: FEMININ | G104: EDP | H104: Armani | I104: Si EDP 100ml | J104: 1 | K104: 100 | L104: 549 | O104: 549 | P104: =IF(AND($H104=P$11,$F104=Graphique!$A$2,$B104=Graphique!$A$1),MAX(P$11:P103)+1,"") | Q104: =IF(AND($H104=Q$11,$F104=Graphique!$A$2,$B104=Graphique!$A$1),MAX(Q$11:Q103)+1,"") | R104: =IF(AND($H104=R$11,$F104=Graphique!$A$2,$B104=Graphique!$A$1),MAX(R$11:R103)+1,"") | S104: =IF(AND($H104=S$11,$F104=Graphique!$A$2,$B104=Graphique!$A$1),MAX(S$11:S103)+1,"") | T104: =IF(AND($H104=T$11,$F104=Graphique!$A$2,$B104=Graphique!$A$1),MAX(T$11:T103)+1,"") | U104: =IF(AND($H104=U$11,$F104=Graphique!$A$2,$B104=Graphique!$A$1),MAX(U$11:U103)+1,"") | V104: =IF(AND($H104=V$11,$F104=Graphique!$A$2,$B104=Graphique!$A$1),MAX(V$11:V103)+1,"") | W104: =IF(AND($H104=W$11,$F104=Graphique!$A$2,$B104=Graphique!$A$1),MAX(W$11:W103)+1,"") | ... AC104: =IF(AND($H104=AC$11,$F104=Graphique!$A$2,$B104=Graphique!$A$1),MAX(AC$11:AC103)+1,"")
B105: BRAZIL | C105: Local Market | D105: REAL | E105: 0 | F105: FEMININ | G105: EDP | H105: Armani | I105: Si EDP 50ml | J105: 0.5 | K105: 50 | L105: 429 | O105: 429 | P105: =IF(AND($H105=P$11,$F105=Graphique!$A$2,$B105=Graphique!$A$1),MAX(P$11:P104)+1,"") | Q105: =IF(AND($H105=Q$11,$F105=Graphique!$A$2,$B105=Graphique!$A$1),MAX(Q$11:Q104)+1,"") | R105: =IF(AND($H105=R$11,$F105=Graphique!$A$2,$B105=Graphique!$A$1),MAX(R$11:R104)+1,"") | S105: =IF(AND($H105=S$11,$F105=Graphique!$A$2,$B105=Graphique!$A$1),MAX(S$11:S104)+1,"") | T105: =IF(AND($H105=T$11,$F105=Graphique!$A$2,$B105=Graphique!$A$1),MAX(T$11:T104)+1,"") | U105: =IF(AND($H105=U$11,$F105=Graphique!$A$2,$B105=Graphique!$A$1),MAX(U$11:U104)+1,"") | V105: =IF(AND($H105=V$11,$F105=Graphique!$A$2,$B105=Graphique!$A$1),MAX(V$11:V104)+1,"") | W105: =IF(AND($H105=W$11,$F105=Graphique!$A$2,$B105=Graphique!$A$1),MAX(W$11:W104)+1,"") | ... AC105: =IF(AND($H105=AC$11,$F105=Graphique!$A$2,$B105=Graphique!$A$1),MAX(AC$11:AC104)+1,"")
B106: BRAZIL | C106: Local Market | D106: REAL | E106: 0 | F106: FEMININ | G106: EDP | H106: Armani | I106: Si EDP 30ml | J106: 0.5 | K106: 30 | L106: 299 | O106: 299 | P106: =IF(AND($H106=P$11,$F106=Graphique!$A$2,$B106=Graphique!$A$1),MAX(P$11:P105)+1,"") | Q106: =IF(AND($H106=Q$11,$F106=Graphique!$A$2,$B106=Graphique!$A$1),MAX(Q$11:Q105)+1,"") | R106: =IF(AND($H106=R$11,$F106=Graphique!$A$2,$B106=Graphique!$A$1),MAX(R$11:R105)+1,"") | S106: =IF(AND($H106=S$11,$F106=Graphique!$A$2,$B106=Graphique!$A$1),MAX(S$11:S105)+1,"") | T106: =IF(AND($H106=T$11,$F106=Graphique!$A$2,$B106=Graphique!$A$1),MAX(T$11:T105)+1,"") | U106: =IF(AND($H106=U$11,$F106=Graphique!$A$2,$B106=Graphique!$A$1),MAX(U$11:U105)+1,"") | V106: =IF(AND($H106=V$11,$F106=Graphique!$A$2,$B106=Graphique!$A$1),MAX(V$11:V105)+1,"") | W106: =IF(AND($H106=W$11,$F106=Graphique!$A$2,$B106=Graphique!$A$1),MAX(W$11:W105)+1,"") | ... AC106: =IF(AND($H106=AC$11,$F106=Graphique!$A$2,$B106=Graphique!$A$1),MAX(AC$11:AC105)+1,"")
B107: BRAZIL | C107: Local Market | D107: REAL | E107: 0 | F107: FEMININ | G107: EDT | H107: Armani | I107: Si EDT 100ml | J107: 1 | K107: 100 | L107: 499 | O107: 499 | P107: =IF(AND($H107=P$11,$F107=Graphique!$A$2,$B107=Graphique!$A$1),MAX(P$11:P106)+1,"") | Q107: =IF(AND($H107=Q$11,$F107=Graphique!$A$2,$B107=Graphique!$A$1),MAX(Q$11:Q106)+1,"") | R107: =IF(AND($H107=R$11,$F107=Graphique!$A$2,$B107=Graphique!$A$1),MAX(R$11:R106)+1,"") | S107: =IF(AND($H107=S$11,$F107=Graphique!$A$2,$B107=Graphique!$A$1),MAX(S$11:S106)+1,"") | T107: =IF(AND($H107=T$11,$F107=Graphique!$A$2,$B107=Graphique!$A$1),MAX(T$11:T106)+1,"") | U107: =IF(AND($H107=U$11,$F107=Graphique!$A$2,$B107=Graphique!$A$1),MAX(U$11:U106)+1,"") | V107: =IF(AND($H107=V$11,$F107=Graphique!$A$2,$B107=Graphique!$A$1),MAX(V$11:V106)+1,"") | W107: =IF(AND($H107=W$11,$F107=Graphique!$A$2,$B107=Graphique!$A$1),MAX(W$11:W106)+1,"") | ... AC107: =IF(AND($H107=AC$11,$F107=Graphique!$A$2,$B107=Graphique!$A$1),MAX(AC$11:AC106)+1,"")
B108: BRAZIL | C108: Local Market | D108: REAL | E108: 0 | F108: MASCULIN | G108: EDT | H108: Bvlgari | I108: Aqva pour Homme EDT 100ml | J108: 1 | K108: 100 | L108: 569 | O108: 90 | P108: =IF(AND($H108=P$11,$F108=Graphique!$A$2,$B108=Graphique!$A$1),MAX(P$11:P107)+1,"") | Q108: =IF(AND($H108=Q$11,$F108=Graphique!$A$2,$B108=Graphique!$A$1),MAX(Q$11:Q107)+1,"") | R108: =IF(AND($H108=R$11,$F108=Graphique!$A$2,$B108=Graphique!$A$1),MAX(R$11:R107)+1,"") | S108: =IF(AND($H108=S$11,$F108=Graphique!$A$2,$B108=Graphique!$A$1),MAX(S$11:S107)+1,"") | T108: =IF(AND($H108=T$11,$F108=Graphique!$A$2,$B108=Graphique!$A$1),MAX(T$11:T107)+1,"") | U108: =IF(AND($H108=U$11,$F108=Graphique!$A$2,$B108=Graphique!$A$1),MAX(U$11:U107)+1,"") | V108: =IF(AND($H108=V$11,$F108=Graphique!$A$2,$B108=Graphique!$A$1),MAX(V$11:V107)+1,"") | W108: =IF(AND($H108=W$11,$F108=Graphique!$A$2,$B108=Graphique!$A$1),MAX(W$11:W107)+1,"") | ... AC108: =IF(AND($H108=AC$11,$F108=Graphique!$A$2,$B108=Graphique!$A$1),MAX(AC$11:AC107)+1,"")
B109: BRAZIL | C109: Local Market | D109: REAL | E109: 0 | F109: MASCULIN | G109: EDT | H109: Bvlgari | I109: MAN EDT 100ml | J109: 1 | K109: 100 | L109: 479 | O109: 0 | P109: =IF(AND($H109=P$11,$F109=Graphique!$A$2,$B109=Graphique!$A$1),MAX(P$11:P108)+1,"") | Q109: =IF(AND($H109=Q$11,$F109=Graphique!$A$2,$B109=Graphique!$A$1),MAX(Q$11:Q108)+1,"") | R109: =IF(AND($H109=R$11,$F109=Graphique!$A$2,$B109=Graphique!$A$1),MAX(R$11:R108)+1,"") | S109: =IF(AND($H109=S$11,$F109=Graphique!$A$2,$B109=Graphique!$A$1),MAX(S$11:S108)+1,"") | T109: =IF(AND($H109=T$11,$F109=Graphique!$A$2,$B109=Graphique!$A$1),MAX(T$11:T108)+1,"") | U109: =IF(AND($H109=U$11,$F109=Graphique!$A$2,$B109=Graphique!$A$1),MAX(U$11:U108)+1,"") | V109: =IF(AND($H109=V$11,$F109=Graphique!$A$2,$B109=Graphique!$A$1),MAX(V$11:V108)+1,"") | W109: =IF(AND($H109=W$11,$F109=Graphique!$A$2,$B109=Graphique!$A$1),MAX(W$11:W108)+1,"") | ... AC109: =IF(AND($H109=AC$11,$F109=Graphique!$A$2,$B109=Graphique!$A$1),MAX(AC$11:AC108)+1,"")
B110: BRAZIL | C110: Local Market | D110: REAL | E110: 0 | F110: FEMININ | G110: EDT | H110: Bvlgari | I110: Omnia Crystalline EDT 65 ml | J110: 0.75 | K110: 65 | L110: 458 | O110: -1 | P110: =IF(AND($H110=P$11,$F110=Graphique!$A$2,$B110=Graphique!$A$1),MAX(P$11:P109)+1,"") | Q110: =IF(AND($H110=Q$11,$F110=Graphique!$A$2,$B110=Graphique!$A$1),MAX(Q$11:Q109)+1,"") | R110: =IF(AND($H110=R$11,$F110=Graphique!$A$2,$B110=Graphique!$A$1),MAX(R$11:R109)+1,"") | S110: =IF(AND($H110=S$11,$F110=Graphique!$A$2,$B110=Graphique!$A$1),MAX(S$11:S109)+1,"") | T110: =IF(AND($H110=T$11,$F110=Graphique!$A$2,$B110=Graphique!$A$1),MAX(T$11:T109)+1,"") | U110: =IF(AND($H110=U$11,$F110=Graphique!$A$2,$B110=Graphique!$A$1),MAX(U$11:U109)+1,"") | V110: =IF(AND($H110=V$11,$F110=Graphique!$A$2,$B110=Graphique!$A$1),MAX(V$11:V109)+1,"") | W110: =IF(AND($H110=W$11,$F110=Graphique!$A$2,$B110=Graphique!$A$1),MAX(W$11:W109)+1,"") | ... AC110: =IF(AND($H110=AC$11,$F110=Graphique!$A$2,$B110=Graphique!$A$1),MAX(AC$11:AC109)+1,"")
B111: BRAZIL | C111: Local Market | D111: REAL | E111: 0 | F111: FEMININ | G111: EDP | H111: Cartier | I111: Baiser vole EDP100ml | J111: 1 | K111: 100 | L111: 921 | O111: 921 | P111: =IF(AND($H111=P$11,$F111=Graphique!$A$2,$B111=Graphique!$A$1),MAX(P$11:P110)+1,"") | Q111: =IF(AND($H111=Q$11,$F111=Graphique!$A$2,$B111=Graphique!$A$1),MAX(Q$11:Q110)+1,"") | R111: =IF(AND($H111=R$11,$F111=Graphique!$A$2,$B111=Graphique!$A$1),MAX(R$11:R110)+1,"") | S111: =IF(AND($H111=S$11,$F111=Graphique!$A$2,$B111=Graphique!$A$1),MAX(S$11:S110)+1,"") | T111: =IF(AND($H111=T$11,$F111=Graphique!$A$2,$B111=Graphique!$A$1),MAX(T$11:T110)+1,"") | U111: =IF(AND($H111=U$11,$F111=Graphique!$A$2,$B111=Graphique!$A$1),MAX(U$11:U110)+1,"") | V111: =IF(AND($H111=V$11,$F111=Graphique!$A$2,$B111=Graphique!$A$1),MAX(V$11:V110)+1,"") | W111: =IF(AND($H111=W$11,$F111=Graphique!$A$2,$B111=Graphique!$A$1),MAX(W$11:W110)+1,"") | ... AC111: =IF(AND($H111=AC$11,$F111=Graphique!$A$2,$B111=Graphique!$A$1),MAX(AC$11:AC110)+1,"")
B112: BRAZIL | C112: Local Market | D112: REAL | E112: 0 | F112: MASCULIN | G112: EDT | H112: Cartier | I112: Declaration D´un Soir 100 ml | J112: 1 | K112: 100 | L112: 699 | O112: 699 | P112: =IF(AND($H112=P$11,$F112=Graphique!$A$2,$B112=Graphique!$A$1),MAX(P$11:P111)+1,"") | Q112: =IF(AND($H112=Q$11,$F112=Graphique!$A$2,$B112=Graphique!$A$1),MAX(Q$11:Q111)+1,"") | R112: =IF(AND($H112=R$11,$F112=Graphique!$A$2,$B112=Graphique!$A$1),MAX(R$11:R111)+1,"") | S112: =IF(AND($H112=S$11,$F112=Graphique!$A$2,$B112=Graphique!$A$1),MAX(S$11:S111)+1,"") | T112: =IF(AND($H112=T$11,$F112=Graphique!$A$2,$B112=Graphique!$A$1),MAX(T$11:T111)+1,"") | U112: =IF(AND($H112=U$11,$F112=Graphique!$A$2,$B112=Graphique!$A$1),MAX(U$11:U111)+1,"") | V112: =IF(AND($H112=V$11,$F112=Graphique!$A$2,$B112=Graphique!$A$1),MAX(V$11:V111)+1,"") | W112: =IF(AND($H112=W$11,$F112=Graphique!$A$2,$B112=Graphique!$A$1),MAX(W$11:W111)+1,"") | ... AC112: =IF(AND($H112=AC$11,$F112=Graphique!$A$2,$B112=Graphique!$A$1),MAX(AC$11:AC111)+1,"")
... B146: BRAZIL | C146: Local Market | D146: REAL | E146: 0 | F146: MASCULIN | G146: EDP | H146: Tom Ford | I146: Noir 100ml | J146: 1 | K146: 100 | L146: 739 | O146: 739 | P146: =IF(AND($H146=P$11,$F146=Graphique!$A$2,$B146=Graphique!$A$1),MAX(P$11:P145)+1,"") | Q146: =IF(AND($H146=Q$11,$F146=Graphique!$A$2,$B146=Graphique!$A$1),MAX(Q$11:Q145)+1,"") | R146: =IF(AND($H146=R$11,$F146=Graphique!$A$2,$B146=Graphique!$A$1),MAX(R$11:R145)+1,"") | S146: =IF(AND($H146=S$11,$F146=Graphique!$A$2,$B146=Graphique!$A$1),MAX(S$11:S145)+1,"") | T146: =IF(AND($H146=T$11,$F146=Graphique!$A$2,$B146=Graphique!$A$1),MAX(T$11:T145)+1,"") | U146: =IF(AND($H146=U$11,$F146=Graphique!$A$2,$B146=Graphique!$A$1),MAX(U$11:U145)+1,"") | V146: =IF(AND($H146=V$11,$F146=Graphique!$A$2,$B146=Graphique!$A$1),MAX(V$11:V145)+1,"") | W146: =IF(AND($H146=W$11,$F146=Graphique!$A$2,$B146=Graphique!$A$1),MAX(W$11:W145)+1,"") | ... AC146: =IF(AND($H146=AC$11,$F146=Graphique!$A$2,$B146=Graphique!$A$1),MAX(AC$11:AC145)+1,"")
A147: 23659 | B147: COLOMBIA | C147: Local Market | D147: COP | E147: 0.19 | F147: MASCULIN | G147: EDT | H147: HERMES | I147: TDH EDT VAP 200ML | J147: 2 | K147: 200 | L147: 613900 | O147: -600 | P147: =IF(AND($H147=P$11,$F147=Graphique!$A$2,$B147=Graphique!$A$1),MAX(P$11:P146)+1,"") | Q147: =IF(AND($H147=Q$11,$F147=Graphique!$A$2,$B147=Graphique!$A$1),MAX(Q$11:Q146)+1,"") | R147: =IF(AND($H147=R$11,$F147=Graphique!$A$2,$B147=Graphique!$A$1),MAX(R$11:R146)+1,"") | S147: =IF(AND($H147=S$11,$F147=Graphique!$A$2,$B147=Graphique!$A$1),MAX(S$11:S146)+1,"") | T147: =IF(AND($H147=T$11,$F147=Graphique!$A$2,$B147=Graphique!$A$1),MAX(T$11:T146)+1,"") | U147: =IF(AND($H147=U$11,$F147=Graphique!$A$2,$B147=Graphique!$A$1),MAX(U$11:U146)+1,"") | V147: =IF(AND($H147=V$11,$F147=Graphique!$A$2,$B147=Graphique!$A$1),MAX(V$11:V146)+1,"") | W147: =IF(AND($H147=W$11,$F147=Graphique!$A$2,$B147=Graphique!$A$1),MAX(W$11:W146)+1,"") | ... AC147: =IF(AND($H147=AC$11,$F147=Graphique!$A$2,$B147=Graphique!$A$1),MAX(AC$11:AC146)+1,"")
A148: 20872 | B148: COLOMBIA | C148: Local Market | D148: COP | E148: 0.19 | F148: MASCULIN | G148: EDT | H148: HERMES | I148: TDH EDT VAP 100ML | J148: 1 | K148: 100 | L148: 399900 | O148: 4900 | P148: =IF(AND($H148=P$11,$F148=Graphique!$A$2,$B148=Graphique!$A$1),MAX(P$11:P147)+1,"") | Q148: =IF(AND($H148=Q$11,$F148=Graphique!$A$2,$B148=Graphique!$A$1),MAX(Q$11:Q147)+1,"") | R148: =IF(AND($H148=R$11,$F148=Graphique!$A$2,$B148=Graphique!$A$1),MAX(R$11:R147)+1,"") | S148: =IF(AND($H148=S$11,$F148=Graphique!$A$2,$B148=Graphique!$A$1),MAX(S$11:S147)+1,"") | T148: =IF(AND($H148=T$11,$F148=Graphique!$A$2,$B148=Graphique!$A$1),MAX(T$11:T147)+1,"") | U148: =IF(AND($H148=U$11,$F148=Graphique!$A$2,$B148=Graphique!$A$1),MAX(U$11:U147)+1,"") | V148: =IF(AND($H148=V$11,$F148=Graphique!$A$2,$B148=Graphique!$A$1),MAX(V$11:V147)+1,"") | W148: =IF(AND($H148=W$11,$F148=Graphique!$A$2,$B148=Graphique!$A$1),MAX(W$11:W147)+1,"") | ... AC148: =IF(AND($H148=AC$11,$F148=Graphique!$A$2,$B148=Graphique!$A$1),MAX(AC$11:AC147)+1,"")
A149: 20873 | B149: COLOMBIA | C149: Local Market | D149: COP | E149: 0.19 | F149: MASCULIN | G149: EDT | H149: HERMES | I149: TDH EDT VAP 50ML | J149: 0.5 | K149: 50 | L149: 285900 | O149: 0 | P149: =IF(AND($H149=P$11,$F149=Graphique!$A$2,$B149=Graphique!$A$1),MAX(P$11:P148)+1,"") | Q149: =IF(AND($H149=Q$11,$F149=Graphique!$A$2,$B149=Graphique!$A$1),MAX(Q$11:Q148)+1,"") | R149: =IF(AND($H149=R$11,$F149=Graphique!$A$2,$B149=Graphique!$A$1),MAX(R$11:R148)+1,"") | S149: =IF(AND($H149=S$11,$F149=Graphique!$A$2,$B149=Graphique!$A$1),MAX(S$11:S148)+1,"") | T149: =IF(AND($H149=T$11,$F149=Graphique!$A$2,$B149=Graphique!$A$1),MAX(T$11:T148)+1,"") | U149: =IF(AND($H149=U$11,$F149=Graphique!$A$2,$B149=Graphique!$A$1),MAX(U$11:U148)+1,"") | V149: =IF(AND($H149=V$11,$F149=Graphique!$A$2,$B149=Graphique!$A$1),MAX(V$11:V148)+1,"") | W149: =IF(AND($H149=W$11,$F149=Graphique!$A$2,$B149=Graphique!$A$1),MAX(W$11:W148)+1,"") | ... AC149: =IF(AND($H149=AC$11,$F149=Graphique!$A$2,$B149=Graphique!$A$1),MAX(AC$11:AC148)+1,"")
...

Sheet Graphique
A1: PANAMA | B1: <- CHOSE COUNTRY
A2: MASCULIN | B2: <- CHOSE Gender
A3: HERMES | Q3: Armani | AG3: Bvlgari | AW3: Cartier | BM3: Chanel | CC3: Dior | CS3: Jo Malone | DI3: Lancome | DY3: Prada | EO3: Tom Ford | FE3: Guerlain | FU3: Carolina Herrera | GK3: Loewe | HA3: Givenchy
A4: HERMES SKU | B4: COUNTRY | C4: CHANNEL | D4: CURRENCY | E4: VAT | F4: FEMININ/MASCULIN | G4: CONCENTRATION | H4: Brand | I4: Product | J4: DOT SIZE | K4: Size (ml) | L4: 2018 July | M4: 2017 July | N4: 2016 July | O4: Diff2018 vs 2017 | Q4: HERMES SKU | R4: COUNTRY | S4: CHANNEL | T4: CURRENCY | U4: VAT | V4: FEMININ/MASCULIN | W4: CONCENTRATION | X4: Brand | Y4: Product | Z4: DOT SIZE | AA4: Size (ml) | AB4: 2018 July | AC4: 2017 July | AD4: 2016 July | AE4: Diff2018 vs 2017 | AG4: HERMES SKU | AH4: COUNTRY | AI4: CHANNEL | AJ4: CURRENCY | AK4: VAT | AL4: FEMININ/MASCULIN | AM4: CONCENTRATION | AN4: Brand | AO4: Product | AP4: DOT SIZE | AQ4: Size (ml) | AR4: 2018 July | AS4: 2017 July | AT4: 2016 July | AU4: Diff2018 vs 2017 | AW4: HERMES SKU | AX4: COUNTRY | AY4: CHANNEL | AZ4: CURRENCY | BA4: VAT | BB4: FEMININ/MASCULIN | BC4: CONCENTRATION | BD4: Brand | BE4: Product | BF4: DOT SIZE | BG4: Size (ml) | BH4: 2018 July | BI4: 2017 July | BJ4: 2016 July | BK4: Diff2018 vs 2017 | BM4: HERMES SKU | BN4: COUNTRY | BO4: CHANNEL | BP4: CURRENCY | BQ4: VAT | BR4: FEMININ/MASCULIN | BS4: CONCENTRATION | BT4: Brand | BU4: Product | BV4: DOT SIZE | BW4: Size (ml) | BX4: 2018 July | BY4: 2017 July | BZ4: 2016 July | CA4: Diff2018 vs 2017 | CC4: HERMES SKU | CD4: COUNTRY | CE4: CHANNEL | CF4: CURRENCY | CG4: VAT | CH4: FEMININ/MASCULIN | CI4: CONCENTRATION | CJ4: Brand | CK4: Product | CL4: DOT SIZE | CM4: Size (ml) | CN4: 2018 July | CO4: 2017 July | CP4: 2016 July | CQ4: Diff2018 vs 2017 | CS4: HERMES SKU | CT4: COUNTRY | CU4: CHANNEL | CV4: CURRENCY | CW4: VAT | CX4: FEMININ/MASCULIN | CY4: CONCENTRATION | CZ4: Brand | DA4: Product | DB4: DOT SIZE | DC4: Size (ml) | DD4: 2018 July | DE4: 2017 July | DF4: 2016 July | DG4: Diff2018 vs 2017 | DI4: HERMES SKU | DJ4: COUNTRY | DK4: CHANNEL | DL4: CURRENCY | DM4: VAT | DN4: FEMININ/MASCULIN | DO4: CONCENTRATION | DP4: Brand | DQ4: Product | DR4: DOT SIZE | DS4: Size (ml) | DT4: 2018 July | DU4: 2017 July | DV4: 2016 July | DW4: Diff2018 vs 2017 | DY4: HERMES SKU | DZ4: COUNTRY | EA4: CHANNEL | EB4: CURRENCY | EC4: VAT | ED4: FEMININ/MASCULIN | EE4: CONCENTRATION | EF4: Brand | EG4: Product | EH4: DOT SIZE | EI4: Size (ml) | EJ4: 2018 July | EK4: 2017 July | EL4: 2016 July | EM4: Diff2018 vs 2017 | EO4: HERMES SKU | EP4: COUNTRY | EQ4: CHANNEL | ER4: CURRENCY | ES4: VAT | ET4: FEMININ/MASCULIN | EU4: CONCENTRATION | EV4: Brand | EW4: Product | EX4: DOT SIZE | EY4: Size (ml) | EZ4: 2018 July | FA4: 2017 July | FB4: 2016 July | FC4: Diff2018 vs 2017 | FE4: HERMES SKU | FF4: COUNTRY | FG4: CHANNEL | FH4: CURRENCY | FI4: VAT | FJ4: FEMININ/MASCULIN | FK4: CONCENTRATION | FL4: Brand | FM4: Product | FN4: DOT SIZE | FO4: Size (ml) | FP4: 2018 July | FQ4: 2017 July | FR4: 2016 July | FS4: Diff2018 vs 2017 | FU4: HERMES SKU | FV4: COUNTRY | FW4: CHANNEL | FX4: CURRENCY | FY4: VAT | FZ4: FEMININ/MASCULIN | GA4: CONCENTRATION | GB4: Brand | GC4: Product | GD4: DOT SIZE | GE4: Size (ml) | GF4: 2018 July | GG4: 2017 July | GH4: 2016 July | GI4: Diff2018 vs 2017 | GK4: HERMES SKU | GL4: COUNTRY | GM4: CHANNEL | GN4: CURRENCY | GO4: VAT | GP4: FEMININ/MASCULIN | GQ4: CONCENTRATION | GR4: Brand | GS4: Product | GT4: DOT SIZE | GU4: Size (ml) | GV4: 2018 July | GW4: 2017 July | GX4: 2016 July | GY4: Diff2018 vs 2017 | HA4: HERMES SKU | HB4: COUNTRY | HC4: CHANNEL | HD4: CURRENCY | HE4: VAT | HF4: FEMININ/MASCULIN | HG4: CONCENTRATION | HH4: Brand | HI4: Product | HJ4: DOT SIZE | HK4: Size (ml) | HL4: 2018 July | HM4: 2017 July | HN4: 2016 July | HO4: Diff2018 vs 2017
A5: =IFERROR(INDEX(DB!A:A,MATCH(ROW($A1),DB!$P:$P,0)),"") -> 23659 | B5: =IFERROR(INDEX(DB!B:B,MATCH(ROW($A1),DB!$P:$P,0)),"") -> PANAMA | C5: =IFERROR(INDEX(DB!C:C,MATCH(ROW($A1),DB!$P:$P,0)),"") -> Local Market | D5: =IFERROR(INDEX(DB!D:D,MATCH(ROW($A1),DB!$P:$P,0)),"") -> BALBOA (SAME AS US DOLLAR) | E5: =IFERROR(INDEX(DB!E:E,MATCH(ROW($A1),DB!$P:$P,0)),"") -> 0.07 | F5: =IFERROR(INDEX(DB!F:F,MATCH(ROW($A1),DB!$P:$P,0)),"") -> MASCULIN | G5: =IFERROR(INDEX(DB!G:G,MATCH(ROW($A1),DB!$P:$P,0)),"") -> EDT | H5: =IFERROR(INDEX(DB!H:H,MATCH(ROW($A1),DB!$P:$P,0)),"") -> HERMES | I5: =IFERROR(INDEX(DB!I:I,MATCH(ROW($A1),DB!$P:$P,0)),"") -> TDH EDT VAP 200ML | J5: =IFERROR(INDEX(DB!J:J,MATCH(ROW($A1),DB!$P:$P,0)),"") -> 2 | K5: =IFERROR(INDEX(DB!K:K,MATCH(ROW($A1),DB!$P:$P,0)),"") -> 200 | L5: =IFERROR(INDEX(DB!L:L,MATCH(ROW($A1),DB!$P:$P,0)),"") -> 0 | M5: =IFERROR(INDEX(DB!M:M,MATCH(ROW($A1),DB!$P:$P,0)),"") -> 0 | N5: =IFERROR(INDEX(DB!N:N,MATCH(ROW($A1),DB!$P:$P,0)),"") -> 0 | O5: =IFERROR(INDEX(DB!O:O,MATCH(ROW($A1),DB!$P:$P,0)),"") -> 0 | Q5: =IFERROR(INDEX(DB!A:A,MATCH(ROW($A1),DB!$Q:$Q,0)),"") -> 0 | R5: =IFERROR(INDEX(DB!B:B,MATCH(ROW($A1),DB!$Q:$Q,0)),"") -> PANAMA | S5: =IFERROR(INDEX(DB!C:C,MATCH(ROW($A1),DB!$Q:$Q,0)),"") -> Local Market | T5: =IFERROR(INDEX(DB!D:D,MATCH(ROW($A1),DB!$Q:$Q,0)),"") -> BALBOA (SAME AS US DOLLAR) | U5: =IFERROR(INDEX(DB!E:E,MATCH(ROW($A1),DB!$Q:$Q,0)),"") -> 0.07 | V5: =IFERROR(INDEX(DB!F:F,MATCH(ROW($A1),DB!$Q:$Q,0)),"") -> MASCULIN | W5: =IFERROR(INDEX(DB!G:G,MATCH(ROW($A1),DB!$Q:$Q,0)),"") -> EDP | X5: =IFERROR(INDEX(DB!H:H,MATCH(ROW($A1),DB!$Q:$Q,0)),"") -> Armani | Y5: =IFERROR(INDEX(DB!I:I,MATCH(ROW($A1),DB!$Q:$Q,0)),"") -> Acqua Di Gio EDP 125ml | Z5: =IFERROR(INDEX(DB!J:J,MATCH(ROW($A1),DB!$Q:$Q,0)),"") -> 1 | AA5: =IFERROR(INDEX(DB!K:K,MATCH(ROW($A1),DB!$Q:$Q,0)),"") -> 100 | AB5: =IFERROR(INDEX(DB!L:L,MATCH(ROW($A1),DB!$Q:$Q,0)),"") -> 141 | AC5: =IFERROR(INDEX(DB!M:M,MATCH(ROW($A1),DB!$Q:$Q,0)),"") -> 0 | AD5: =IFERROR(INDEX(DB!N:N,MATCH(ROW($A1),DB!$Q:$Q,0)),"") -> 0 | AE5: =IFERROR(INDEX(DB!O:O,MATCH(ROW($A1),DB!$Q:$Q,0)),"") -> 141 | AG5: =IFERROR(INDEX(DB!A:A,MATCH(ROW($A1),DB!$R:$R,0)),"") -> 0 | AH5: =IFERROR(INDEX(DB!B:B,MATCH(ROW($A1),DB!$R:$R,0)),"") -> PANAMA | AI5: =IFERROR(INDEX(DB!C:C,MATCH(ROW($A1),DB!$R:$R,0)),"") -> Local Market | AJ5: =IFERROR(INDEX(DB!D:D,MATCH(ROW($A1),DB!$R:$R,0)),"") -> BALBOA (SAME AS US DOLLAR) | AK5: =IFERROR(INDEX(DB!E:E,MATCH(ROW($A1),DB!$R:$R,0)),"") -> 0.07 | AL5: =IFERROR(INDEX(DB!F:F,MATCH(ROW($A1),DB!$R:$R,0)),"") -> MASCULIN | AM5: =IFERROR(INDEX(DB!G:G,MATCH(ROW($A1),DB!$R:$R,0)),"") -> EDT | AN5: =IFERROR(INDEX(DB!H:H,MATCH(ROW($A1),DB!$R:$R,0)),"") -> Bvlgari | AO5: =IFERROR(INDEX(DB!I:I,MATCH(ROW($A1),DB!$R:$R,0)),"") -> Aqva pour Homme EDT 100ml | AP5: =IFERROR(INDEX(DB!J:J,MATCH(ROW($A1),DB!$R:$R,0)),"") -> 1 | AQ5: =IFERROR(INDEX(DB!K:K,MATCH(ROW($A1),DB!$R:$R,0)),"") -> 100 | AR5: =IFERROR(INDEX(DB!L:L,MATCH(ROW($A1),DB!$R:$R,0)),"") -> 91 | AS5: =IFERROR(INDEX(DB!M:M,MATCH(ROW($A1),DB!$R:$R,0)),"") -> 0 | AT5: =IFERROR(INDEX(DB!N:N,MATCH(ROW($A1),DB!$R:$R,0)),"") -> 0 | AU5: =IFERROR(INDEX(DB!O:O,MATCH(ROW($A1),DB!$R:$R,0)),"") -> 91 | AW5: =IFERROR(INDEX(DB!A:A,MATCH(ROW($A1),DB!$S:$S,0)),"") -> 0 | AX5: =IFERROR(INDEX(DB!B:B,MATCH(ROW($A1),DB!$S:$S,0)),"") -> PANAMA | AY5: =IFERROR(INDEX(DB!C:C,MATCH(ROW($A1),DB!$S:$S,0)),"") -> Local Market | AZ5: =IFERROR(INDEX(DB!D:D,MATCH(ROW($A1),DB!$S:$S,0)),"") -> BALBOA (SAME AS US DOLLAR) | BA5: =IFERROR(INDEX(DB!E:E,MATCH(ROW($A1),DB!$S:$S,0)),"") -> 0.07 | BB5: =IFERROR(INDEX(DB!F:F,MATCH(ROW($A1),DB!$S:$S,0)),"") -> MASCULIN | BC5: =IFERROR(INDEX(DB!G:G,MATCH(ROW($A1),DB!$S:$S,0)),"") -> EDT | BD5: =IFERROR(INDEX(DB!H:H,MATCH(ROW($A1),DB!$S:$S,0)),"") -> Cartier | BE5: =IFERROR(INDEX(DB!I:I,MATCH(ROW($A1),DB!$S:$S,0)),"") -> Declaration D´un Soir 100 ml | BF5: =IFERROR(INDEX(DB!J:J,MATCH(ROW($A1),DB!$S:$S,0)),"") -> 1 | BG5: =IFERROR(INDEX(DB!K:K,MATCH(ROW($A1),DB!$S:$S,0)),"") -> 100 | BH5: =IFERROR(INDEX(DB!L:L,MATCH(ROW($A1),DB!$S:$S,0)),"") -> 105 | BI5: =IFERROR(INDEX(DB!M:M,MATCH(ROW($A1),DB!$S:$S,0)),"") -> 0 | BJ5: =IFERROR(INDEX(DB!N:N,MATCH(ROW($A1),DB!$S:$S,0)),"") -> 0 | BK5: =IFERROR(INDEX(DB!O:O,MATCH(ROW($A1),DB!$S:$S,0)),"") -> 105 | BM5: =IFERROR(INDEX(DB!A:A,MATCH(ROW($A1),DB!$T:$T,0)),"") -> 0 | BN5: =IFERROR(INDEX(DB!B:B,MATCH(ROW($A1),DB!$T:$T,0)),"") -> PANAMA | BO5: =IFERROR(INDEX(DB!C:C,MATCH(ROW($A1),DB!$T:$T,0)),"") -> Local Market | BP5: =IFERROR(INDEX(DB!D:D,MATCH(ROW($A1),DB!$T:$T,0)),"") -> BALBOA (SAME AS US DOLLAR) | BQ5: =IFERROR(INDEX(DB!E:E,MATCH(ROW($A1),DB!$T:$T,0)),"") -> 0.07 | BR5: =IFERROR(INDEX(DB!F:F,MATCH(ROW($A1),DB!$T:$T,0)),"") -> MASCULIN | BS5: =IFERROR(INDEX(DB!G:G,MATCH(ROW($A1),DB!$T:$T,0)),"") -> EDP | BT5: =IFERROR(INDEX(DB!H:H,MATCH(ROW($A1),DB!$T:$T,0)),"") -> Chanel | BU5: =IFERROR(INDEX(DB!I:I,MATCH(ROW($A1),DB!$T:$T,0)),"") -> Bleu de Chanel EDP 150ml | BV5: =IFERROR(INDEX(DB!J:J,MATCH(ROW($A1),DB!$T:$T,0)),"") -> 1.5 | BW5: =IFERROR(INDEX(DB!K:K,MATCH(ROW($A1),DB!$T:$T,0)),"") -> 150 | BX5: =IFERROR(INDEX(DB!L:L,MATCH(ROW($A1),DB!$T:$T,0)),"") -> 164 | BY5: =IFERROR(INDEX(DB!M:M,MATCH(ROW($A1),DB!$T:$T,0)),"") -> 0 | BZ5: =IFERROR(INDEX(DB!N:N,MATCH(ROW($A1),DB!$T:$T,0)),"") -> 0 | CA5: =IFERROR(INDEX(DB!O:O,MATCH(ROW($A1),DB!$T:$T,0)),"") -> 164 | CC5: =IFERROR(INDEX(DB!A:A,MATCH(ROW($A1),DB!$U:$U,0)),"") -> 0 | CD5: =IFERROR(INDEX(DB!B:B,MATCH(ROW($A1),DB!$U:$U,0)),"") -> PANAMA | CE5: =IFERROR(INDEX(DB!C:C,MATCH(ROW($A1),DB!$U:$U,0)),"") -> Local Market | CF5: =IFERROR(INDEX(DB!D:D,MATCH(ROW($A1),DB!$U:$U,0)),"") -> BALBOA (SAME AS US DOLLAR) | CG5: =IFERROR(INDEX(DB!E:E,MATCH(ROW($A1),DB!$U:$U,0)),"") -> 0.07 | CH5: =IFERROR(INDEX(DB!F:F,MATCH(ROW($A1),DB!$U:$U,0)),"") -> MASCULIN | CI5: =IFERROR(INDEX(DB!G:G,MATCH(ROW($A1),DB!$U:$U,0)),"") -> EDP | CJ5: =IFERROR(INDEX(DB!H:H,MATCH(ROW($A1),DB!$U:$U,0)),"") -> Dior | CK5: =IFERROR(INDEX(DB!I:I,MATCH(ROW($A1),DB!$U:$U,0)),"") -> Dior Homme EDP 100ml | CL5: =IFERROR(INDEX(DB!J:J,MATCH(ROW($A1),DB!$U:$U,0)),"") -> 1 | CM5: =IFERROR(INDEX(DB!K:K,MATCH(ROW($A1),DB!$U:$U,0)),"") -> 100 | CN5: =IFERROR(INDEX(DB!L:L,MATCH(ROW($A1),DB!$U:$U,0)),"") -> 120 | CO5: =IFERROR(INDEX(DB!M:M,MATCH(ROW($A1),DB!$U:$U,0)),"") -> 0 | CP5: =IFERROR(INDEX(DB!N:N,MATCH(ROW($A1),DB!$U:$U,0)),"") -> 0 | CQ5: =IFERROR(INDEX(DB!O:O,MATCH(ROW($A1),DB!$U:$U,0)),"") -> 120 | CS5: =IFERROR(INDEX(DB!A:A,MATCH(ROW($A1),DB!$V:$V,0)),"") -> 0 | CT5: =IFERROR(INDEX(DB!B:B,MATCH(ROW($A1),DB!$V:$V,0)),"") -> PANAMA | CU5: =IFERROR(INDEX(DB!C:C,MATCH(ROW($A1),DB!$V:$V,0)),"") -> Local Market | CV5: =IFERROR(INDEX(DB!D:D,MATCH(ROW($A1),DB!$V:$V,0)),"") -> BALBOA (SAME AS US DOLLAR) | CW5: =IFERROR(INDEX(DB!E:E,MATCH(ROW($A1),DB!$V:$V,0)),"") -> 0.07 | CX5: =IFERROR(INDEX(DB!F:F,MATCH(ROW($A1),DB!$V:$V,0)),"") -> MASCULIN | CY5: =IFERROR(INDEX(DB!G:G,MATCH(ROW($A1),DB!$V:$V,0)),"") -> EDC | CZ5: =IFERROR(INDEX(DB!H:H,MATCH(ROW($A1),DB!$V:$V,0)),"") -> Jo Malone | DA5: =IFERROR(INDEX(DB!I:I,MATCH(ROW($A1),DB!$V:$V,0)),"") -> EDC 100ml | DB5: =IFERROR(INDEX(DB!J:J,MATCH(ROW($A1),DB!$V:$V,0)),"") -> 1 | DC5: =IFERROR(INDEX(DB!K:K,MATCH(ROW($A1),DB!$V:$V,0)),"") -> 100 | DD5: =IFERROR(INDEX(DB!L:L,MATCH(ROW($A1),DB!$V:$V,0)),"") -> N/A | DE5: =IFERROR(INDEX(DB!M:M,MATCH(ROW($A1),DB!$V:$V,0)),"") -> 0 | DF5: =IFERROR(INDEX(DB!N:N,MATCH(ROW($A1),DB!$V:$V,0)),"") -> 0 | DG5: =IFERROR(INDEX(DB!O:O,MATCH(ROW($A1),DB!$V:$V,0)),"") | DI5: =IFERROR(INDEX(DB!A:A,MATCH(ROW($A1),DB!$W:$W,0)),"") | DJ5: =IFERROR(INDEX(DB!B:B,MATCH(ROW($A1),DB!$W:$W,0)),"") | DK5: =IFERROR(INDEX(DB!C:C,MATCH(ROW($A1),DB!$W:$W,0)),"") | DL5: =IFERROR(INDEX(DB!D:D,MATCH(ROW($A1),DB!$W:$W,0)),"") | DM5: =IFERROR(INDEX(DB!E:E,MATCH(ROW($A1),DB!$W:$W,0)),"") | DN5: =IFERROR(INDEX(DB!F:F,MATCH(ROW($A1),DB!$W:$W,0)),"") | DO5: =IFERROR(INDEX(DB!G:G,MATCH(ROW($A1),DB!$W:$W,0)),"") | DP5: =IFERROR(INDEX(DB!H:H,MATCH(ROW($A1),DB!$W:$W,0)),"") | DQ5: =IFERROR(INDEX(DB!I:I,MATCH(ROW($A1),DB!$W:$W,0)),"") | DR5: =IFERROR(INDEX(DB!J:J,MATCH(ROW($A1),DB!$W:$W,0)),"") | DS5: =IFERROR(INDEX(DB!K:K,MATCH(ROW($A1),DB!$W:$W,0)),"") | DT5: =IFERROR(INDEX(DB!L:L,MATCH(ROW($A1),DB!$W:$W,0)),"") | DU5: =IFERROR(INDEX(DB!M:M,MATCH(ROW($A1),DB!$W:$W,0)),"") | DV5: =IFERROR(INDEX(DB!N:N,MATCH(ROW($A1),DB!$W:$W,0)),"") | DW5: =IFERROR(INDEX(DB!O:O,MATCH(ROW($A1),DB!$W:$W,0)),"") | DY5: =IFERROR(INDEX(DB!A:A,MATCH(ROW($A1),DB!$X:$X,0)),"") | DZ5: =IFERROR(INDEX(DB!B:B,MATCH(ROW($A1),DB!$X:$X,0)),"") | EA5: =IFERROR(INDEX(DB!C:C,MATCH(ROW($A1),DB!$X:$X,0)),"") | EB5: =IFERROR(INDEX(DB!D:D,MATCH(ROW($A1),DB!$X:$X,0)),"") | EC5: =IFERROR(INDEX(DB!E:E,MATCH(ROW($A1),DB!$X:$X,0)),"") | ED5: =IFERROR(INDEX(DB!F:F,MATCH(ROW($A1),DB!$X:$X,0)),"") | EE5: =IFERROR(INDEX(DB!G:G,MATCH(ROW($A1),DB!$X:$X,0)),"") | EF5: =IFERROR(INDEX(DB!H:H,MATCH(ROW($A1),DB!$X:$X,0)),"") | EG5: =IFERROR(INDEX(DB!I:I,MATCH(ROW($A1),DB!$X:$X,0)),"") | EH5: =IFERROR(INDEX(DB!J:J,MATCH(ROW($A1),DB!$X:$X,0)),"") | EI5: =IFERROR(INDEX(DB!K:K,MATCH(ROW($A1),DB!$X:$X,0)),"") | EJ5: =IFERROR(INDEX(DB!L:L,MATCH(ROW($A1),DB!$X:$X,0)),"") | EK5: =IFERROR(INDEX(DB!M:M,MATCH(ROW($A1),DB!$X:$X,0)),"") | EL5: =IFERROR(INDEX(DB!N:N,MATCH(ROW($A1),DB!$X:$X,0)),"") | EM5: =IFERROR(INDEX(DB!O:O,MATCH(ROW($A1),DB!$X:$X,0)),"") | EO5: =IFERROR(INDEX(DB!A:A,MATCH(ROW($A1),DB!$Y:$Y,0)),"") -> 0 | EP5: =IFERROR(INDEX(DB!B:B,MATCH(ROW($A1),DB!$Y:$Y,0)),"") -> PANAMA | EQ5: =IFERROR(INDEX(DB!C:C,MATCH(ROW($A1),DB!$Y:$Y,0)),"") -> Local Market | ER5: =IFERROR(INDEX(DB!D:D,MATCH(ROW($A1),DB!$Y:$Y,0)),"") -> BALBOA (SAME AS US DOLLAR) | ES5: =IFERROR(INDEX(DB!E:E,MATCH(ROW($A1),DB!$Y:$Y,0)),"") -> 0.07 | ET5: =IFERROR(INDEX(DB!F:F,MATCH(ROW($A1),DB!$Y:$Y,0)),"") -> MASCULIN | EU5: =IFERROR(INDEX(DB!G:G,MATCH(ROW($A1),DB!$Y:$Y,0)),"") -> EDP | EV5: =IFERROR(INDEX(DB!H:H,MATCH(ROW($A1),DB!$Y:$Y,0)),"") -> Tom Ford | EW5: =IFERROR(INDEX(DB!I:I,MATCH(ROW($A1),DB!$Y:$Y,0)),"") -> Neroli Portofino EDP 100ml | EX5: =IFERROR(INDEX(DB!J:J,MATCH(ROW($A1),DB!$Y:$Y,0)),"") -> 1 | EY5: =IFERROR(INDEX(DB!K:K,MATCH(ROW($A1),DB!$Y:$Y,0)),"") -> 100 | EZ5: =IFERROR(INDEX(DB!L:L,MATCH(ROW($A1),DB!$Y:$Y,0)),"") -> N/A | FA5: =IFERROR(INDEX(DB!M:M,MATCH(ROW($A1),DB!$Y:$Y,0)),"") -> 0 | FB5: =IFERROR(INDEX(DB!N:N,MATCH(ROW($A1),DB!$Y:$Y,0)),"") -> 0 | FC5: =IFERROR(INDEX(DB!O:O,MATCH(ROW($A1),DB!$Y:$Y,0)),"") | FE5: =IFERROR(INDEX(DB!A:A,MATCH(ROW($A1),DB!$Z:$Z,0)),"") | FF5: =IFERROR(INDEX(DB!B:B,MATCH(ROW($A1),DB!$Z:$Z,0)),"") | FG5: =IFERROR(INDEX(DB!C:C,MATCH(ROW($A1),DB!$Z:$Z,0)),"") | FH5: =IFERROR(INDEX(DB!D:D,MATCH(ROW($A1),DB!$Z:$Z,0)),"") | FI5: =IFERROR(INDEX(DB!E:E,MATCH(ROW($A1),DB!$Z:$Z,0)),"") | FJ5: =IFERROR(INDEX(DB!F:F,MATCH(ROW($A1),DB!$Z:$Z,0)),"") | FK5: =IFERROR(INDEX(DB!G:G,MATCH(ROW($A1),DB!$Z:$Z,0)),"") | FL5: =IFERROR(INDEX(DB!H:H,MATCH(ROW($A1),DB!$Z:$Z,0)),"") | FM5: =IFERROR(INDEX(DB!I:I,MATCH(ROW($A1),DB!$Z:$Z,0)),"") | FN5: =IFERROR(INDEX(DB!J:J,MATCH(ROW($A1),DB!$Z:$Z,0)),"") | FO5: =IFERROR(INDEX(DB!K:K,MATCH(ROW($A1),DB!$Z:$Z,0)),"") | FP5: =IFERROR(INDEX(DB!L:L,MATCH(ROW($A1),DB!$Z:$Z,0)),"") | FQ5: =IFERROR(INDEX(DB!M:M,MATCH(ROW($A1),DB!$Z:$Z,0)),"") | FR5: =IFERROR(INDEX(DB!N:N,MATCH(ROW($A1),DB!$Z:$Z,0)),"") | FS5: =IFERROR(INDEX(DB!O:O,MATCH(ROW($A1),DB!$Z:$Z,0)),"") | FU5: =IFERROR(INDEX(DB!A:A,MATCH(ROW($A1),DB!$AA:$AA,0)),"") | FV5: =IFERROR(INDEX(DB!B:B,MATCH(ROW($A1),DB!$AA:$AA,0)),"") | FW5: =IFERROR(INDEX(DB!C:C,MATCH(ROW($A1),DB!$AA:$AA,0)),"") | FX5: =IFERROR(INDEX(DB!D:D,MATCH(ROW($A1),DB!$AA:$AA,0)),"") | FY5: =IFERROR(INDEX(DB!E:E,MATCH(ROW($A1),DB!$AA:$AA,0)),"") | FZ5: =IFERROR(INDEX(DB!F:F,MATCH(ROW($A1),DB!$AA:$AA,0)),"") | GA5: =IFERROR(INDEX(DB!G:G,MATCH(ROW($A1),DB!$AA:$AA,0)),"") | GB5: =IFERROR(INDEX(DB!H:H,MATCH(ROW($A1),DB!$AA:$AA,0)),"") | GC5: =IFERROR(INDEX(DB!I:I,MATCH(ROW($A1),DB!$AA:$AA,0)),"") | GD5: =IFERROR(INDEX(DB!J:J,MATCH(ROW($A1),DB!$AA:$AA,0)),"") | GE5: =IFERROR(INDEX(DB!K:K,MATCH(ROW($A1),DB!$AA:$AA,0)),"") | GF5: =IFERROR(INDEX(DB!L:L,MATCH(ROW($A1),DB!$AA:$AA,0)),"") | GG5: =IFERROR(INDEX(DB!M:M,MATCH(ROW($A1),DB!$AA:$AA,0)),"") | GH5: =IFERROR(INDEX(DB!N:N,MATCH(ROW($A1),DB!$AA:$AA,0)),"") | GI5: =IFERROR(INDEX(DB!O:O,MATCH(ROW($A1),DB!$AA:$AA,0)),"") | GK5: =IFERROR(INDEX(DB!A:A,MATCH(ROW($A1),DB!$AB:$AB,0)),"") | GL5: =IFERROR(INDEX(DB!B:B,MATCH(ROW($A1),DB!$AB:$AB,0)),"") | GM5: =IFERROR(INDEX(DB!C:C,MATCH(ROW($A1),DB!$AB:$AB,0)),"") | GN5: =IFERROR(INDEX(DB!D:D,MATCH(ROW($A1),DB!$AB:$AB,0)),"") | GO5: =IFERROR(INDEX(DB!E:E,MATCH(ROW($A1),DB!$AB:$AB,0)),"") | GP5: =IFERROR(INDEX(DB!F:F,MATCH(ROW($A1),DB!$AB:$AB,0)),"") | GQ5: =IFERROR(INDEX(DB!G:G,MATCH(ROW($A1),DB!$AB:$AB,0)),"") | GR5: =IFERROR(INDEX(DB!H:H,MATCH(ROW($A1),DB!$AB:$AB,0)),"") | GS5: =IFERROR(INDEX(DB!I:I,MATCH(ROW($A1),DB!$AB:$AB,0)),"") | GT5: =IFERROR(INDEX(DB!J:J,MATCH(ROW($A1),DB!$AB:$AB,0)),"") | GU5: =IFERROR(INDEX(DB!K:K,MATCH(ROW($A1),DB!$AB:$AB,0)),"") | GV5: =IFERROR(INDEX(DB!L:L,MATCH(ROW($A1),DB!$AB:$AB,0)),"") | GW5: =IFERROR(INDEX(DB!M:M,MATCH(ROW($A1),DB!$AB:$AB,0)),"") | GX5: =IFERROR(INDEX(DB!N:N,MATCH(ROW($A1),DB!$AB:$AB,0)),"") | GY5: =IFERROR(INDEX(DB!O:O,MATCH(ROW($A1),DB!$AB:$AB,0)),"") | HA5: =IFERROR(INDEX(DB!A:A,MATCH(ROW($A1),DB!$AC:$AC,0)),"") | HB5: =IFERROR(INDEX(DB!B:B,MATCH(ROW($A1),DB!$AC:$AC,0)),"") | HC5: =IFERROR(INDEX(DB!C:C,MATCH(ROW($A1),DB!$AC:$AC,0)),"") | HD5: =IFERROR(INDEX(DB!D:D,MATCH(ROW($A1),DB!$AC:$AC,0)),"") | HE5: =IFERROR(INDEX(DB!E:E,MATCH(ROW($A1),DB!$AC:$AC,0)),"") | HF5: =IFERROR(INDEX(DB!F:F,MATCH(ROW($A1),DB!$AC:$AC,0)),"") | HG5: =IFERROR(INDEX(DB!G:G,MATCH(ROW($A1),DB!$AC:$AC,0)),"") | HH5: =IFERROR(INDEX(DB!H:H,MATCH(ROW($A1),DB!$AC:$AC,0)),"") | HI5: =IFERROR(INDEX(DB!I:I,MATCH(ROW($A1),DB!$AC:$AC,0)),"") | HJ5: =IFERROR(INDEX(DB!J:J,MATCH(ROW($A1),DB!$AC:$AC,0)),"") | HK5: =IFERROR(INDEX(DB!K:K,MATCH(ROW($A1),DB!$AC:$AC,0)),"") | HL5: =IFERROR(INDEX(DB!L:L,MATCH(ROW($A1),DB!$AC:$AC,0)),"") | HM5: =IFERROR(INDEX(DB!M:M,MATCH(ROW($A1),DB!$AC:$AC,0)),"") | HN5: =IFERROR(INDEX(DB!N:N,MATCH(ROW($A1),DB!$AC:$AC,0)),"") | HO5: =IFERROR(INDEX(DB!O:O,MATCH(ROW($A1),DB!$AC:$AC,0)),"")
A6: =IFERROR(INDEX(DB!A:A,MATCH(ROW($A2),DB!$P:$P,0)),"") -> 20872 | B6: =IFERROR(INDEX(DB!B:B,MATCH(ROW($A2),DB!$P:$P,0)),"") -> PANAMA | C6: =IFERROR(INDEX(DB!C:C,MATCH(ROW($A2),DB!$P:$P,0)),"") -> Local Market | D6: =IFERROR(INDEX(DB!D:D,MATCH(ROW($A2),DB!$P:$P,0)),"") -> BALBOA (SAME AS US DOLLAR) | E6: =IFERROR(INDEX(DB!E:E,MATCH(ROW($A2),DB!$P:$P,0)),"") -> 0.07 | F6: =IFERROR(INDEX(DB!F:F,MATCH(ROW($A2),DB!$P:$P,0)),"") -> MASCULIN | G6: =IFERROR(INDEX(DB!G:G,MATCH(ROW($A2),DB!$P:$P,0)),"") -> EDT | H6: =IFERROR(INDEX(DB!H:H,MATCH(ROW($A2),DB!$P:$P,0)),"") -> HERMES | I6: =IFERROR(INDEX(DB!I:I,MATCH(ROW($A2),DB!$P:$P,0)),"") -> TDH EDT VAP 100ML | J6: =IFERROR(INDEX(DB!J:J,MATCH(ROW($A2),DB!$P:$P,0)),"") -> 1 | K6: =IFERROR(INDEX(DB!K:K,MATCH(ROW($A2),DB!$P:$P,0)),"") -> 100 | L6: =IFERROR(INDEX(DB!L:L,MATCH(ROW($A2),DB!$P:$P,0)),"") -> 105 | M6: =IFERROR(INDEX(DB!M:M,MATCH(ROW($A2),DB!$P:$P,0)),"") -> 0 | N6: =IFERROR(INDEX(DB!N:N,MATCH(ROW($A2),DB!$P:$P,0)),"") -> 0 | O6: =IFERROR(INDEX(DB!O:O,MATCH(ROW($A2),DB!$P:$P,0)),"") -> 0 | Q6: =IFERROR(INDEX(DB!A:A,MATCH(ROW($A2),DB!$Q:$Q,0)),"") -> 0 | R6: =IFERROR(INDEX(DB!B:B,MATCH(ROW($A2),DB!$Q:$Q,0)),"") -> PANAMA | S6: =IFERROR(INDEX(DB!C:C,MATCH(ROW($A2),DB!$Q:$Q,0)),"") -> Local Market | T6: =IFERROR(INDEX(DB!D:D,MATCH(ROW($A2),DB!$Q:$Q,0)),"") -> BALBOA (SAME AS US DOLLAR) | U6: =IFERROR(INDEX(DB!E:E,MATCH(ROW($A2),DB!$Q:$Q,0)),"") -> 0.07 | V6: =IFERROR(INDEX(DB!F:F,MATCH(ROW($A2),DB!$Q:$Q,0)),"") -> MASCULIN | W6: =IFERROR(INDEX(DB!G:G,MATCH(ROW($A2),DB!$Q:$Q,0)),"") -> EDT | X6: =IFERROR(INDEX(DB!H:H,MATCH(ROW($A2),DB!$Q:$Q,0)),"") -> Armani | Y6: =IFERROR(INDEX(DB!I:I,MATCH(ROW($A2),DB!$Q:$Q,0)),"") -> Acqua Di Gio EDT 50ml | Z6: =IFERROR(INDEX(DB!J:J,MATCH(ROW($A2),DB!$Q:$Q,0)),"") -> 0.5 | AA6: =IFERROR(INDEX(DB!K:K,MATCH(ROW($A2),DB!$Q:$Q,0)),"") -> 50 | AB6: =IFERROR(INDEX(DB!L:L,MATCH(ROW($A2),DB!$Q:$Q,0)),"") -> 73 | AC6: =IFERROR(INDEX(DB!M:M,MATCH(ROW($A2),DB!$Q:$Q,0)),"") -> 0 | AD6: =IFERROR(INDEX(DB!N:N,MATCH(ROW($A2),DB!$Q:$Q,0)),"") -> 0 | AE6: =IFERROR(INDEX(DB!O:O,MATCH(ROW($A2),DB!$Q:$Q,0)),"") -> 73 | AG6: =IFERROR(INDEX(DB!A:A,MATCH(ROW($A2),DB!$R:$R,0)),"") -> 0 | AH6: =IFERROR(INDEX(DB!B:B,MATCH(ROW($A2),DB!$R:$R,0)),"") -> PANAMA | AI6: =IFERROR(INDEX(DB!C:C,MATCH(ROW($A2),DB!$R:$R,0)),"") -> Local Market | AJ6: =IFERROR(INDEX(DB!D:D,MATCH(ROW($A2),DB!$R:$R,0)),"") -> BALBOA (SAME AS US DOLLAR) | AK6: =IFERROR(INDEX(DB!E:E,MATCH(ROW($A2),DB!$R:$R,0)),"") -> 0.07 | AL6: =IFERROR(INDEX(DB!F:F,MATCH(ROW($A2),DB!$R:$R,0)),"") -> MASCULIN | AM6: =IFERROR(INDEX(DB!G:G,MATCH(ROW($A2),DB!$R:$R,0)),"") -> EDT | AN6: =IFERROR(INDEX(DB!H:H,MATCH(ROW($A2),DB!$R:$R,0)),"") -> Bvlgari | AO6: =IFERROR(INDEX(DB!I:I,MATCH(ROW($A2),DB!$R:$R,0)),"") -> MAN EDT 100ml | AP6: =IFERROR(INDEX(DB!J:J,MATCH(ROW($A2),DB!$R:$R,0)),"") -> 1 | AQ6: =IFERROR(INDEX(DB!K:K,MATCH(ROW($A2),DB!$R:$R,0)),"") -> 100 | AR6: =IFERROR(INDEX(DB!L:L,MATCH(ROW($A2),DB!$R:$R,0)),"") -> 92 | AS6: =IFERROR(INDEX(DB!M:M,MATCH(ROW($A2),DB!$R:$R,0)),"") -> 0 | AT6: =IFERROR(INDEX(DB!N:N,MATCH(ROW($A2),DB!$R:$R,0)),"") -> 0 | AU6: =IFERROR(INDEX(DB!O:O,MATCH(ROW($A2),DB!$R:$R,0)),"") -> 92 | AW6: =IFERROR(INDEX(DB!A:A,MATCH(ROW($A2),DB!$S:$S,0)),"") -> 0 | AX6: =IFERROR(INDEX(DB!B:B,MATCH(ROW($A2),DB!$S:$S,0)),"") -> PANAMA | AY6: =IFERROR(INDEX(DB!C:C,MATCH(ROW($A2),DB!$S:$S,0)),"") -> Local Market | AZ6: =IFERROR(INDEX(DB!D:D,MATCH(ROW($A2),DB!$S:$S,0)),"") -> BALBOA (SAME AS US DOLLAR) | BA6: =IFERROR(INDEX(DB!E:E,MATCH(ROW($A2),DB!$S:$S,0)),"") -> 0.07 | BB6: =IFERROR(INDEX(DB!F:F,MATCH(ROW($A2),DB!$S:$S,0)),"") -> MASCULIN | BC6: =IFERROR(INDEX(DB!G:G,MATCH(ROW($A2),DB!$S:$S,0)),"") -> EDP | BD6: =IFERROR(INDEX(DB!H:H,MATCH(ROW($A2),DB!$S:$S,0)),"") -> Cartier | BE6: =IFERROR(INDEX(DB!I:I,MATCH(ROW($A2),DB!$S:$S,0)),"") -> Declaration EDP 100 ml | BF6: =IFERROR(INDEX(DB!J:J,MATCH(ROW($A2),DB!$S:$S,0)),"") -> 1 | BG6: =IFERROR(INDEX(DB!K:K,MATCH(ROW($A2),DB!$S:$S,0)),"") -> 100 | BH6: =IFERROR(INDEX(DB!L:L,MATCH(ROW($A2),DB!$S:$S,0)),"") -> N/A | BI6: =IFERROR(INDEX(DB!M:M,MATCH(ROW($A2),DB!$S:$S,0)),"") -> 0 | BJ6: =IFERROR(INDEX(DB!N:N,MATCH(ROW($A2),DB!$S:$S,0)),"") -> 0 | BK6: =IFERROR(INDEX(DB!O:O,MATCH(ROW($A2),DB!$S:$S,0)),"") | BM6: =IFERROR(INDEX(DB!A:A,MATCH(ROW($A2),DB!$T:$T,0)),"") -> 0 | BN6: =IFERROR(INDEX(DB!B:B,MATCH(ROW($A2),DB!$T:$T,0)),"") -> PANAMA | BO6: =IFERROR(INDEX(DB!C:C,MATCH(ROW($A2),DB!$T:$T,0)),"") -> Local Market | BP6: =IFERROR(INDEX(DB!D:D,MATCH(ROW($A2),DB!$T:$T,0)),"") -> BALBOA (SAME AS US DOLLAR) | BQ6: =IFERROR(INDEX(DB!E:E,MATCH(ROW($A2),DB!$T:$T,0)),"") -> 0.07 | BR6: =IFERROR(INDEX(DB!F:F,MATCH(ROW($A2),DB!$T:$T,0)),"") -> MASCULIN | BS6: =IFERROR(INDEX(DB!G:G,MATCH(ROW($A2),DB!$T:$T,0)),"") -> EDP | BT6: =IFERROR(INDEX(DB!H:H,MATCH(ROW($A2),DB!$T:$T,0)),"") -> Chanel | BU6: =IFERROR(INDEX(DB!I:I,MATCH(ROW($A2),DB!$T:$T,0)),"") -> Bleu de Chanel EDP 100ml | BV6: =IFERROR(INDEX(DB!J:J,MATCH(ROW($A2),DB!$T:$T,0)),"") -> 1 | BW6: =IFERROR(INDEX(DB!K:K,MATCH(ROW($A2),DB!$T:$T,0)),"") -> 100 | BX6: =IFERROR(INDEX(DB!L:L,MATCH(ROW($A2),DB!$T:$T,0)),"") -> 125 | BY6: =IFERROR(INDEX(DB!M:M,MATCH(ROW($A2),DB!$T:$T,0)),"") -> 0 | BZ6: =IFERROR(INDEX(DB!N:N,MATCH(ROW($A2),DB!$T:$T,0)),"") -> 0 | CA6: =IFERROR(INDEX(DB!O:O,MATCH(ROW($A2),DB!$T:$T,0)),"") -> 0 | CC6: =IFERROR(INDEX(DB!A:A,MATCH(ROW($A2),DB!$U:$U,0)),"") -> 0 | CD6: =IFERROR(INDEX(DB!B:B,MATCH(ROW($A2),DB!$U:$U,0)),"") -> PANAMA | CE6: =IFERROR(INDEX(DB!C:C,MATCH(ROW($A2),DB!$U:$U,0)),"") -> Local Market | CF6: =IFERROR(INDEX(DB!D:D,MATCH(ROW($A2),DB!$U:$U,0)),"") -> BALBOA (SAME AS US DOLLAR) | CG6: =IFERROR(INDEX(DB!E:E,MATCH(ROW($A2),DB!$U:$U,0)),"") -> 0.07 | CH6: =IFERROR(INDEX(DB!F:F,MATCH(ROW($A2),DB!$U:$U,0)),"") -> MASCULIN | CI6: =IFERROR(INDEX(DB!G:G,MATCH(ROW($A2),DB!$U:$U,0)),"") -> EDP | CJ6: =IFERROR(INDEX(DB!H:H,MATCH(ROW($A2),DB!$U:$U,0)),"") -> Dior | CK6: =IFERROR(INDEX(DB!I:I,MATCH(ROW($A2),DB!$U:$U,0)),"") -> Dior Homme EDP 75ml | CL6: =IFERROR(INDEX(DB!J:J,MATCH(ROW($A2),DB!$U:$U,0)),"") -> 0.75 | CM6: =IFERROR(INDEX(DB!K:K,MATCH(ROW($A2),DB!$U:$U,0)),"") -> 75 | CN6: =IFERROR(INDEX(DB!L:L,MATCH(ROW($A2),DB!$U:$U,0)),"") -> N/A | CO6: =IFERROR(INDEX(DB!M:M,MATCH(ROW($A2),DB!$U:$U,0)),"") -> 0 | CP6: =IFERROR(INDEX(DB!N:N,MATCH(ROW($A2),DB!$U:$U,0)),"") -> 0 | CQ6: =IFERROR(INDEX(DB!O:O,MATCH(ROW($A2),DB!$U:$U,0)),"") | CS6: =IFERROR(INDEX(DB!A:A,MATCH(ROW($A2),DB!$V:$V,0)),"") | CT6: =IFERROR(INDEX(DB!B:B,MATCH(ROW($A2),DB!$V:$V,0)),"") | CU6: =IFERROR(INDEX(DB!C:C,MATCH(ROW($A2),DB!$V:$V,0)),"") | CV6: =IFERROR(INDEX(DB!D:D,MATCH(ROW($A2),DB!$V:$V,0)),"") | CW6: =IFERROR(INDEX(DB!E:E,MATCH(ROW($A2),DB!$V:$V,0)),"") | CX6: =IFERROR(INDEX(DB!F:F,MATCH(ROW($A2),DB!$V:$V,0)),"") | CY6: =IFERROR(INDEX(DB!G:G,MATCH(ROW($A2),DB!$V:$V,0)),"") | CZ6: =IFERROR(INDEX(DB!H:H,MATCH(ROW($A2),DB!$V:$V,0)),"") | DA6: =IFERROR(INDEX(DB!I:I,MATCH(ROW($A2),DB!$V:$V,0)),"") | DB6: =IFERROR(INDEX(DB!J:J,MATCH(ROW($A2),DB!$V:$V,0)),"") | DC6: =IFERROR(INDEX(DB!K:K,MATCH(ROW($A2),DB!$V:$V,0)),"") | DD6: =IFERROR(INDEX(DB!L:L,MATCH(ROW($A2),DB!$V:$V,0)),"") | DE6: =IFERROR(INDEX(DB!M:M,MATCH(ROW($A2),DB!$V:$V,0)),"") | DF6: =IFERROR(INDEX(DB!N:N,MATCH(ROW($A2),DB!$V:$V,0)),"") | DG6: =IFERROR(INDEX(DB!O:O,MATCH(ROW($A2),DB!$V:$V,0)),"") | DI6: =IFERROR(INDEX(DB!A:A,MATCH(ROW($A2),DB!$W:$W,0)),"") | DJ6: =IFERROR(INDEX(DB!B:B,MATCH(ROW($A2),DB!$W:$W,0)),"") | DK6: =IFERROR(INDEX(DB!C:C,MATCH(ROW($A2),DB!$W:$W,0)),"") | DL6: =IFERROR(INDEX(DB!D:D,MATCH(ROW($A2),DB!$W:$W,0)),"") | DM6: =IFERROR(INDEX(DB!E:E,MATCH(ROW($A2),DB!$W:$W,0)),"") | DN6: =IFERROR(INDEX(DB!F:F,MATCH(ROW($A2),DB!$W:$W,0)),"") | DO6: =IFERROR(INDEX(DB!G:G,MATCH(ROW($A2),DB!$W:$W,0)),"") | DP6: =IFERROR(INDEX(DB!H:H,MATCH(ROW($A2),DB!$W:$W,0)),"") | DQ6: =IFERROR(INDEX(DB!I:I,MATCH(ROW($A2),DB!$W:$W,0)),"") | DR6: =IFERROR(INDEX(DB!J:J,MATCH(ROW($A2),DB!$W:$W,0)),"") | DS6: =IFERROR(INDEX(DB!K:K,MATCH(ROW($A2),DB!$W:$W,0)),"") | DT6: =IFERROR(INDEX(DB!L:L,MATCH(ROW($A2),DB!$W:$W,0)),"") | DU6: =IFERROR(INDEX(DB!M:M,MATCH(ROW($A2),DB!$W:$W,0)),"") | DV6: =IFERROR(INDEX(DB!N:N,MATCH(ROW($A2),DB!$W:$W,0)),"") | DW6: =IFERROR(INDEX(DB!O:O,MATCH(ROW($A2),DB!$W:$W,0)),"") | DY6: =IFERROR(INDEX(DB!A:A,MATCH(ROW($A2),DB!$X:$X,0)),"") | DZ6: =IFERROR(INDEX(DB!B:B,MATCH(ROW($A2),DB!$X:$X,0)),"") | EA6: =IFERROR(INDEX(DB!C:C,MATCH(ROW($A2),DB!$X:$X,0)),"") | EB6: =IFERROR(INDEX(DB!D:D,MATCH(ROW($A2),DB!$X:$X,0)),"") | EC6: =IFERROR(INDEX(DB!E:E,MATCH(ROW($A2),DB!$X:$X,0)),"") | ED6: =IFERROR(INDEX(DB!F:F,MATCH(ROW($A2),DB!$X:$X,0)),"") | EE6: =IFERROR(INDEX(DB!G:G,MATCH(ROW($A2),DB!$X:$X,0)),"") | EF6: =IFERROR(INDEX(DB!H:H,MATCH(ROW($A2),DB!$X:$X,0)),"") | EG6: =IFERROR(INDEX(DB!I:I,MATCH(ROW($A2),DB!$X:$X,0)),"") | EH6: =IFERROR(INDEX(DB!J:J,MATCH(ROW($A2),DB!$X:$X,0)),"") | EI6: =IFERROR(INDEX(DB!K:K,MATCH(ROW($A2),DB!$X:$X,0)),"") | EJ6: =IFERROR(INDEX(DB!L:L,MATCH(ROW($A2),DB!$X:$X,0)),"") | EK6: =IFERROR(INDEX(DB!M:M,MATCH(ROW($A2),DB!$X:$X,0)),"") | EL6: =IFERROR(INDEX(DB!N:N,MATCH(ROW($A2),DB!$X:$X,0)),"") | EM6: =IFERROR(INDEX(DB!O:O,MATCH(ROW($A2),DB!$X:$X,0)),"") | EO6: =IFERROR(INDEX(DB!A:A,MATCH(ROW($A2),DB!$Y:$Y,0)),"") -> 0 | EP6: =IFERROR(INDEX(DB!B:B,MATCH(ROW($A2),DB!$Y:$Y,0)),"") -> PANAMA | EQ6: =IFERROR(INDEX(DB!C:C,MATCH(ROW($A2),DB!$Y:$Y,0)),"") -> Local Market | ER6: =IFERROR(INDEX(DB!D:D,MATCH(ROW($A2),DB!$Y:$Y,0)),"") -> BALBOA (SAME AS US DOLLAR) | ES6: =IFERROR(INDEX(DB!E:E,MATCH(ROW($A2),DB!$Y:$Y,0)),"") -> 0.07 | ET6: =IFERROR(INDEX(DB!F:F,MATCH(ROW($A2),DB!$Y:$Y,0)),"") -> MASCULIN | EU6: =IFERROR(INDEX(DB!G:G,MATCH(ROW($A2),DB!$Y:$Y,0)),"") -> EDP | EV6: =IFERROR(INDEX(DB!H:H,MATCH(ROW($A2),DB!$Y:$Y,0)),"") -> Tom Ford | EW6: =IFERROR(INDEX(DB!I:I,MATCH(ROW($A2),DB!$Y:$Y,0)),"") -> Noir 100ml | EX6: =IFERROR(INDEX(DB!J:J,MATCH(ROW($A2),DB!$Y:$Y,0)),"") -> 1 | EY6: =IFERROR(INDEX(DB!K:K,MATCH(ROW($A2),DB!$Y:$Y,0)),"") -> 100 | EZ6: =IFERROR(INDEX(DB!L:L,MATCH(ROW($A2),DB!$Y:$Y,0)),"") -> N/A | FA6: =IFERROR(INDEX(DB!M:M,MATCH(ROW($A2),DB!$Y:$Y,0)),"") -> 0 | FB6: =IFERROR(INDEX(DB!N:N,MATCH(ROW($A2),DB!$Y:$Y,0)),"") -> 0 | FC6: =IFERROR(INDEX(DB!O:O,MATCH(ROW($A2),DB!$Y:$Y,0)),"") | FE6: =IFERROR(INDEX(DB!A:A,MATCH(ROW($A2),DB!$Z:$Z,0)),"") | FF6: =IFERROR(INDEX(DB!B:B,MATCH(ROW($A2),DB!$Z:$Z,0)),"") | FG6: =IFERROR(INDEX(DB!C:C,MATCH(ROW($A2),DB!$Z:$Z,0)),"") | FH6: =IFERROR(INDEX(DB!D:D,MATCH(ROW($A2),DB!$Z:$Z,0)),"") | FI6: =IFERROR(INDEX(DB!E:E,MATCH(ROW($A2),DB!$Z:$Z,0)),"") | FJ6: =IFERROR(INDEX(DB!F:F,MATCH(ROW($A2),DB!$Z:$Z,0)),"") | FK6: =IFERROR(INDEX(DB!G:G,MATCH(ROW($A2),DB!$Z:$Z,0)),"") | FL6: =IFERROR(INDEX(DB!H:H,MATCH(ROW($A2),DB!$Z:$Z,0)),"") | FM6: =IFERROR(INDEX(DB!I:I,MATCH(ROW($A2),DB!$Z:$Z,0)),"") | FN6: =IFERROR(INDEX(DB!J:J,MATCH(ROW($A2),DB!$Z:$Z,0)),"") | FO6: =IFERROR(INDEX(DB!K:K,MATCH(ROW($A2),DB!$Z:$Z,0)),"") | FP6: =IFERROR(INDEX(DB!L:L,MATCH(ROW($A2),DB!$Z:$Z,0)),"") | FQ6: =IFERROR(INDEX(DB!M:M,MATCH(ROW($A2),DB!$Z:$Z,0)),"") | FR6: =IFERROR(INDEX(DB!N:N,MATCH(ROW($A2),DB!$Z:$Z,0)),"") | FS6: =IFERROR(INDEX(DB!O:O,MATCH(ROW($A2),DB!$Z:$Z,0)),"") | FU6: =IFERROR(INDEX(DB!A:A,MATCH(ROW($A2),DB!$AA:$AA,0)),"") | FV6: =IFERROR(INDEX(DB!B:B,MATCH(ROW($A2),DB!$AA:$AA,0)),"") | FW6: =IFERROR(INDEX(DB!C:C,MATCH(ROW($A2),DB!$AA:$AA,0)),"") | FX6: =IFERROR(INDEX(DB!D:D,MATCH(ROW($A2),DB!$AA:$AA,0)),"") | FY6: =IFERROR(INDEX(DB!E:E,MATCH(ROW($A2),DB!$AA:$AA,0)),"") | FZ6: =IFERROR(INDEX(DB!F:F,MATCH(ROW($A2),DB!$AA:$AA,0)),"") | GA6: =IFERROR(INDEX(DB!G:G,MATCH(ROW($A2),DB!$AA:$AA,0)),"") | GB6: =IFERROR(INDEX(DB!H:H,MATCH(ROW($A2),DB!$AA:$AA,0)),"") | GC6: =IFERROR(INDEX(DB!I:I,MATCH(ROW($A2),DB!$AA:$AA,0)),"") | GD6: =IFERROR(INDEX(DB!J:J,MATCH(ROW($A2),DB!$AA:$AA,0)),"") | GE6: =IFERROR(INDEX(DB!K:K,MATCH(ROW($A2),DB!$AA:$AA,0)),"") | GF6: =IFERROR(INDEX(DB!L:L,MATCH(ROW($A2),DB!$AA:$AA,0)),"") | GG6: =IFERROR(INDEX(DB!M:M,MATCH(ROW($A2),DB!$AA:$AA,0)),"") | GH6: =IFERROR(INDEX(DB!N:N,MATCH(ROW($A2),DB!$AA:$AA,0)),"") | GI6: =IFERROR(INDEX(DB!O:O,MATCH(ROW($A2),DB!$AA:$AA,0)),"") | GK6: =IFERROR(INDEX(DB!A:A,MATCH(ROW($A2),DB!$AB:$AB,0)),"") | GL6: =IFERROR(INDEX(DB!B:B,MATCH(ROW($A2),DB!$AB:$AB,0)),"") | GM6: =IFERROR(INDEX(DB!C:C,MATCH(ROW($A2),DB!$AB:$AB,0)),"") | GN6: =IFERROR(INDEX(DB!D:D,MATCH(ROW($A2),DB!$AB:$AB,0)),"") | GO6: =IFERROR(INDEX(DB!E:E,MATCH(ROW($A2),DB!$AB:$AB,0)),"") | GP6: =IFERROR(INDEX(DB!F:F,MATCH(ROW($A2),DB!$AB:$AB,0)),"") | GQ6: =IFERROR(INDEX(DB!G:G,MATCH(ROW($A2),DB!$AB:$AB,0)),"") | GR6: =IFERROR(INDEX(DB!H:H,MATCH(ROW($A2),DB!$AB:$AB,0)),"") | GS6: =IFERROR(INDEX(DB!I:I,MATCH(ROW($A2),DB!$AB:$AB,0)),"") | GT6: =IFERROR(INDEX(DB!J:J,MATCH(ROW($A2),DB!$AB:$AB,0)),"") | GU6: =IFERROR(INDEX(DB!K:K,MATCH(ROW($A2),DB!$AB:$AB,0)),"") | GV6: =IFERROR(INDEX(DB!L:L,MATCH(ROW($A2),DB!$AB:$AB,0)),"") | GW6: =IFERROR(INDEX(DB!M:M,MATCH(ROW($A2),DB!$AB:$AB,0)),"") | GX6: =IFERROR(INDEX(DB!N:N,MATCH(ROW($A2),DB!$AB:$AB,0)),"") | GY6: =IFERROR(INDEX(DB!O:O,MATCH(ROW($A2),DB!$AB:$AB,0)),"") | HA6: =IFERROR(INDEX(DB!A:A,MATCH(ROW($A2),DB!$AC:$AC,0)),"") | HB6: =IFERROR(INDEX(DB!B:B,MATCH(ROW($A2),DB!$AC:$AC,0)),"") | HC6: =IFERROR(INDEX(DB!C:C,MATCH(ROW($A2),DB!$AC:$AC,0)),"") | HD6: =IFERROR(INDEX(DB!D:D,MATCH(ROW($A2),DB!$AC:$AC,0)),"") | HE6: =IFERROR(INDEX(DB!E:E,MATCH(ROW($A2),DB!$AC:$AC,0)),"") | HF6: =IFERROR(INDEX(DB!F:F,MATCH(ROW($A2),DB!$AC:$AC,0)),"") | HG6: =IFERROR(INDEX(DB!G:G,MATCH(ROW($A2),DB!$AC:$AC,0)),"") | HH6: =IFERROR(INDEX(DB!H:H,MATCH(ROW($A2),DB!$AC:$AC,0)),"") | HI6: =IFERROR(INDEX(DB!I:I,MATCH(ROW($A2),DB!$AC:$AC,0)),"") | HJ6: =IFERROR(INDEX(DB!J:J,MATCH(ROW($A2),DB!$AC:$AC,0)),"") | HK6: =IFERROR(INDEX(DB!K:K,MATCH(ROW($A2),DB!$AC:$AC,0)),"") | HL6: =IFERROR(INDEX(DB!L:L,MATCH(ROW($A2),DB!$AC:$AC,0)),"") | HM6: =IFERROR(INDEX(DB!M:M,MATCH(ROW($A2),DB!$AC:$AC,0)),"") | HN6: =IFERROR(INDEX(DB!N:N,MATCH(ROW($A2),DB!$AC:$AC,0)),"") | HO6: =IFERROR(INDEX(DB!O:O,MATCH(ROW($A2),DB!$AC:$AC,0)),"")
A7: =IFERROR(INDEX(DB!A:A,MATCH(ROW($A3),DB!$P:$P,0)),"") -> 20873 | B7: =IFERROR(INDEX(DB!B:B,MATCH(ROW($A3),DB!$P:$P,0)),"") -> PANAMA | C7: =IFERROR(INDEX(DB!C:C,MATCH(ROW($A3),DB!$P:$P,0)),"") -> Local Market | D7: =IFERROR(INDEX(DB!D:D,MATCH(ROW($A3),DB!$P:$P,0)),"") -> BALBOA (SAME AS US DOLLAR) | E7: =IFERROR(INDEX(DB!E:E,MATCH(ROW($A3),DB!$P:$P,0)),"") -> 0.07 | F7: =IFERROR(INDEX(DB!F:F,MATCH(ROW($A3),DB!$P:$P,0)),"") -> MASCULIN | G7: =IFERROR(INDEX(DB!G:G,MATCH(ROW($A3),DB!$P:$P,0)),"") -> EDT | H7: =IFERROR(INDEX(DB!H:H,MATCH(ROW($A3),DB!$P:$P,0)),"") -> HERMES | I7: =IFERROR(INDEX(DB!I:I,MATCH(ROW($A3),DB!$P:$P,0)),"") -> TDH EDT VAP 50ML | J7: =IFERROR(INDEX(DB!J:J,MATCH(ROW($A3),DB!$P:$P,0)),"") -> 0.5 | K7: =IFERROR(INDEX(DB!K:K,MATCH(ROW($A3),DB!$P:$P,0)),"") -> 50 | L7: =IFERROR(INDEX(DB!L:L,MATCH(ROW($A3),DB!$P:$P,0)),"") -> 76 | M7: =IFERROR(INDEX(DB!M:M,MATCH(ROW($A3),DB!$P:$P,0)),"") -> 0 | N7: =IFERROR(INDEX(DB!N:N,MATCH(ROW($A3),DB!$P:$P,0)),"") -> 0 | O7: =IFERROR(INDEX(DB!O:O,MATCH(ROW($A3),DB!$P:$P,0)),"") -> 0 | Q7: =IFERROR(INDEX(DB!A:A,MATCH(ROW($A3),DB!$Q:$Q,0)),"") -> 0 | R7: =IFERROR(INDEX(DB!B:B,MATCH(ROW($A3),DB!$Q:$Q,0)),"") -> PANAMA | S7: =IFERROR(INDEX(DB!C:C,MATCH(ROW($A3),DB!$Q:$Q,0)),"") -> Local Market | T7: =IFERROR(INDEX(DB!D:D,MATCH(ROW($A3),DB!$Q:$Q,0)),"") -> BALBOA (SAME AS US DOLLAR) | U7: =IFERROR(INDEX(DB!E:E,MATCH(ROW($A3),DB!$Q:$Q,0)),"") -> 0.07 | V7: =IFERROR(INDEX(DB!F:F,MATCH(ROW($A3),DB!$Q:$Q,0)),"") -> MASCULIN | W7: =IFERROR(INDEX(DB!G:G,MATCH(ROW($A3),DB!$Q:$Q,0)),"") -> EDT | X7: =IFERROR(INDEX(DB!H:H,MATCH(ROW($A3),DB!$Q:$Q,0)),"") -> Armani | Y7: =IFERROR(INDEX(DB!I:I,MATCH(ROW($A3),DB!$Q:$Q,0)),"") -> Acqua Di Gio EDT 100ml | Z7: =IFERROR(INDEX(DB!J:J,MATCH(ROW($A3),DB!$Q:$Q,0)),"") -> 1 | AA7: =IFERROR(INDEX(DB!K:K,MATCH(ROW($A3),DB!$Q:$Q,0)),"") -> 100 | AB7: =IFERROR(INDEX(DB!L:L,MATCH(ROW($A3),DB!$Q:$Q,0)),"") -> 92 | AC7: =IFERROR(INDEX(DB!M:M,MATCH(ROW($A3),DB!$Q:$Q,0)),"") -> 0 | AD7: =IFERROR(INDEX(DB!N:N,MATCH(ROW($A3),DB!$Q:$Q,0)),"") -> 0 | AE7: =IFERROR(INDEX(DB!O:O,MATCH(ROW($A3),DB!$Q:$Q,0)),"") -> 92 | AG7: =IFERROR(INDEX(DB!A:A,MATCH(ROW($A3),DB!$R:$R,0)),"") | AH7: =IFERROR(INDEX(DB!B:B,MATCH(ROW($A3),DB!$R:$R,0)),"") | AI7: =IFERROR(INDEX(DB!C:C,MATCH(ROW($A3),DB!$R:$R,0)),"") | AJ7: =IFERROR(INDEX(DB!D:D,MATCH(ROW($A3),DB!$R:$R,0)),"") | AK7: =IFERROR(INDEX(DB!E:E,MATCH(ROW($A3),DB!$R:$R,0)),"") | AL7: =IFERROR(INDEX(DB!F:F,MATCH(ROW($A3),DB!$R:$R,0)),"") | AM7: =IFERROR(INDEX(DB!G:G,MATCH(ROW($A3),DB!$R:$R,0)),"") | AN7: =IFERROR(INDEX(DB!H:H,MATCH(ROW($A3),DB!$R:$R,0)),"") | AO7: =IFERROR(INDEX(DB!I:I,MATCH(ROW($A3),DB!$R:$R,0)),"") | AP7: =IFERROR(INDEX(DB!J:J,MATCH(ROW($A3),DB!$R:$R,0)),"") | AQ7: =IFERROR(INDEX(DB!K:K,MATCH(ROW($A3),DB!$R:$R,0)),"") | AR7: =IFERROR(INDEX(DB!L:L,MATCH(ROW($A3),DB!$R:$R,0)),"") | AS7: =IFERROR(INDEX(DB!M:M,MATCH(ROW($A3),DB!$R:$R,0)),"") | AT7: =IFERROR(INDEX(DB!N:N,MATCH(ROW($A3),DB!$R:$R,0)),"") | AU7: =IFERROR(INDEX(DB!O:O,MATCH(ROW($A3),DB!$R:$R,0)),"") | AW7: =IFERROR(INDEX(DB!A:A,MATCH(ROW($A3),DB!$S:$S,0)),"") -> 0 | AX7: =IFERROR(INDEX(DB!B:B,MATCH(ROW($A3),DB!$S:$S,0)),"") -> PANAMA | AY7: =IFERROR(INDEX(DB!C:C,MATCH(ROW($A3),DB!$S:$S,0)),"") -> Local Market | AZ7: =IFERROR(INDEX(DB!D:D,MATCH(ROW($A3),DB!$S:$S,0)),"") -> BALBOA (SAME AS US DOLLAR) | BA7: =IFERROR(INDEX(DB!E:E,MATCH(ROW($A3),DB!$S:$S,0)),"") -> 0.07 | BB7: =IFERROR(INDEX(DB!F:F,MATCH(ROW($A3),DB!$S:$S,0)),"") -> MASCULIN | BC7: =IFERROR(INDEX(DB!G:G,MATCH(ROW($A3),DB!$S:$S,0)),"") -> EDT | BD7: =IFERROR(INDEX(DB!H:H,MATCH(ROW($A3),DB!$S:$S,0)),"") -> Cartier | BE7: =IFERROR(INDEX(DB!I:I,MATCH(ROW($A3),DB!$S:$S,0)),"") -> Declaration EDT 100 ml | BF7: =IFERROR(INDEX(DB!J:J,MATCH(ROW($A3),DB!$S:$S,0)),"") -> 1 | BG7: =IFERROR(INDEX(DB!K:K,MATCH(ROW($A3),DB!$S:$S,0)),"") -> 100 | BH7: =IFERROR(INDEX(DB!L:L,MATCH(ROW($A3),DB!$S:$S,0)),"") -> 108 | BI7: =IFERROR(INDEX(DB!M:M,MATCH(ROW($A3),DB!$S:$S,0)),"") -> 0 | BJ7: =IFERROR(INDEX(DB!N:N,MATCH(ROW($A3),DB!$S:$S,0)),"") -> 0 | BK7: =IFERROR(INDEX(DB!O:O,MATCH(ROW($A3),DB!$S:$S,0)),"") -> 108 | BM7: =IFERROR(INDEX(DB!A:A,MATCH(ROW($A3),DB!$T:$T,0)),"") -> 0 | BN7: =IFERROR(INDEX(DB!B:B,MATCH(ROW($A3),DB!$T:$T,0)),"") -> PANAMA | BO7: =IFERROR(INDEX(DB!C:C,MATCH(ROW($A3),DB!$T:$T,0)),"") -> Local Market | BP7: =IFERROR(INDEX(DB!D:D,MATCH(ROW($A3),DB!$T:$T,0)),"") -> BALBOA (SAME AS US DOLLAR) | BQ7: =IFERROR(INDEX(DB!E:E,MATCH(ROW($A3),DB!$T:$T,0)),"") -> 0.07 | BR7: =IFERROR(INDEX(DB!F:F,MATCH(ROW($A3),DB!$T:$T,0)),"") -> MASCULIN | BS7: =IFERROR(INDEX(DB!G:G,MATCH(ROW($A3),DB!$T:$T,0)),"") -> EDP | BT7: =IFERROR(INDEX(DB!H:H,MATCH(ROW($A3),DB!$T:$T,0)),"") -> Chanel | BU7: =IFERROR(INDEX(DB!I:I,MATCH(ROW($A3),DB!$T:$T,0)),"") -> Bleu de Chanel EDP 50ml | BV7: =IFERROR(INDEX(DB!J:J,MATCH(ROW($A3),DB!$T:$T,0)),"") -> 0.5 | BW7: =IFERROR(INDEX(DB!K:K,MATCH(ROW($A3),DB!$T:$T,0)),"") -> 50 | BX7: =IFERROR(INDEX(DB!L:L,MATCH(ROW($A3),DB!$T:$T,0)),"") -> 98 | BY7: =IFERROR(INDEX(DB!M:M,MATCH(ROW($A3),DB!$T:$T,0)),"") -> 0 | BZ7: =IFERROR(INDEX(DB!N:N,MATCH(ROW($A3),DB!$T:$T,0)),"") -> 0 | CA7: =IFERROR(INDEX(DB!O:O,MATCH(ROW($A3),DB!$T:$T,0)),"") -> 98 | CC7: =IFERROR(INDEX(DB!A:A,MATCH(ROW($A3),DB!$U:$U,0)),"") -> 0 | CD7: =IFERROR(INDEX(DB!B:B,MATCH(ROW($A3),DB!$U:$U,0)),"") -> PANAMA | CE7: =IFERROR(INDEX(DB!C:C,MATCH(ROW($A3),DB!$U:$U,0)),"") -> Local Market | CF7: =IFERROR(INDEX(DB!D:D,MATCH(ROW($A3),DB!$U:$U,0)),"") -> BALBOA (SAME AS US DOLLAR) | CG7: =IFERROR(INDEX(DB!E:E,MATCH(ROW($A3),DB!$U:$U,0)),"") -> 0.07 | CH7: =IFERROR(INDEX(DB!F:F,MATCH(ROW($A3),DB!$U:$U,0)),"") -> MASCULIN | CI7: =IFERROR(INDEX(DB!G:G,MATCH(ROW($A3),DB!$U:$U,0)),"") -> EDP | CJ7: =IFERROR(INDEX(DB!H:H,MATCH(ROW($A3),DB!$U:$U,0)),"") -> Dior | CK7: =IFERROR(INDEX(DB!I:I,MATCH(ROW($A3),DB!$U:$U,0)),"") -> Dior Homme Intense EDP 75ml | CL7: =IFERROR(INDEX(DB!J:J,MATCH(ROW($A3),DB!$U:$U,0)),"") -> 0.75 | CM7: =IFERROR(INDEX(DB!K:K,MATCH(ROW($A3),DB!$U:$U,0)),"") -> 75 | CN7: =IFERROR(INDEX(DB!L:L,MATCH(ROW($A3),DB!$U:$U,0)),"") -> N/A | CO7: =IFERROR(INDEX(DB!M:M,MATCH(ROW($A3),DB!$U:$U,0)),"") -> 0 | CP7: =IFERROR(INDEX(DB!N:N,MATCH(ROW($A3),DB!$U:$U,0)),"") -> 0 | CQ7: =IFERROR(INDEX(DB!O:O,MATCH(ROW($A3),DB!$U:$U,0)),"") | CS7: =IFERROR(INDEX(DB!A:A,MATCH(ROW($A3),DB!$V:$V,0)),"") | CT7: =IFERROR(INDEX(DB!B:B,MATCH(ROW($A3),DB!$V:$V,0)),"") | CU7: =IFERROR(INDEX(DB!C:C,MATCH(ROW($A3),DB!$V:$V,0)),"") | CV7: =IFERROR(INDEX(DB!D:D,MATCH(ROW($A3),DB!$V:$V,0)),"") | CW7: =IFERROR(INDEX(DB!E:E,MATCH(ROW($A3),DB!$V:$V,0)),"") | CX7: =IFERROR(INDEX(DB!F:F,MATCH(ROW($A3),DB!$V:$V,0)),"") | CY7: =IFERROR(INDEX(DB!G:G,MATCH(ROW($A3),DB!$V:$V,0)),"") | CZ7: =IFERROR(INDEX(DB!H:H,MATCH(ROW($A3),DB!$V:$V,0)),"") | DA7: =IFERROR(INDEX(DB!I:I,MATCH(ROW($A3),DB!$V:$V,0)),"") | DB7: =IFERROR(INDEX(DB!J:J,MATCH(ROW($A3),DB!$V:$V,0)),"") | DC7: =IFERROR(INDEX(DB!K:K,MATCH(ROW($A3),DB!$V:$V,0)),"") | DD7: =IFERROR(INDEX(DB!L:L,MATCH(ROW($A3),DB!$V:$V,0)),"") | DE7: =IFERROR(INDEX(DB!M:M,MATCH(ROW($A3),DB!$V:$V,0)),"") | DF7: =IFERROR(INDEX(DB!N:N,MATCH(ROW($A3),DB!$V:$V,0)),"") | DG7: =IFERROR(INDEX(DB!O:O,MATCH(ROW($A3),DB!$V:$V,0)),"") | DI7: =IFERROR(INDEX(DB!A:A,MATCH(ROW($A3),DB!$W:$W,0)),"") | DJ7: =IFERROR(INDEX(DB!B:B,MATCH(ROW($A3),DB!$W:$W,0)),"") | DK7: =IFERROR(INDEX(DB!C:C,MATCH(ROW($A3),DB!$W:$W,0)),"") | DL7: =IFERROR(INDEX(DB!D:D,MATCH(ROW($A3),DB!$W:$W,0)),"") | DM7: =IFERROR(INDEX(DB!E:E,MATCH(ROW($A3),DB!$W:$W,0)),"") | DN7: =IFERROR(INDEX(DB!F:F,MATCH(ROW($A3),DB!$W:$W,0)),"") | DO7: =IFERROR(INDEX(DB!G:G,MATCH(ROW($A3),DB!$W:$W,0)),"") | DP7: =IFERROR(INDEX(DB!H:H,MATCH(ROW($A3),DB!$W:$W,0)),"") | DQ7: =IFERROR(INDEX(DB!I:I,MATCH(ROW($A3),DB!$W:$W,0)),"") | DR7: =IFERROR(INDEX(DB!J:J,MATCH(ROW($A3),DB!$W:$W,0)),"") | DS7: =IFERROR(INDEX(DB!K:K,MATCH(ROW($A3),DB!$W:$W,0)),"") | DT7: =IFERROR(INDEX(DB!L:L,MATCH(ROW($A3),DB!$W:$W,0)),"") | DU7: =IFERROR(INDEX(DB!M:M,MATCH(ROW($A3),DB!$W:$W,0)),"") | DV7: =IFERROR(INDEX(DB!N:N,MATCH(ROW($A3),DB!$W:$W,0)),"") | DW7: =IFERROR(INDEX(DB!O:O,MATCH(ROW($A3),DB!$W:$W,0)),"") | DY7: =IFERROR(INDEX(DB!A:A,MATCH(ROW($A3),DB!$X:$X,0)),"") | DZ7: =IFERROR(INDEX(DB!B:B,MATCH(ROW($A3),DB!$X:$X,0)),"") | EA7: =IFERROR(INDEX(DB!C:C,MATCH(ROW($A3),DB!$X:$X,0)),"") | EB7: =IFERROR(INDEX(DB!D:D,MATCH(ROW($A3),DB!$X:$X,0)),"") | EC7: =IFERROR(INDEX(DB!E:E,MATCH(ROW($A3),DB!$X:$X,0)),"") | ED7: =IFERROR(INDEX(DB!F:F,MATCH(ROW($A3),DB!$X:$X,0)),"") | EE7: =IFERROR(INDEX(DB!G:G,MATCH(ROW($A3),DB!$X:$X,0)),"") | EF7: =IFERROR(INDEX(DB!H:H,MATCH(ROW($A3),DB!$X:$X,0)),"") | EG7: =IFERROR(INDEX(DB!I:I,MATCH(ROW($A3),DB!$X:$X,0)),"") | EH7: =IFERROR(INDEX(DB!J:J,MATCH(ROW($A3),DB!$X:$X,0)),"") | EI7: =IFERROR(INDEX(DB!K:K,MATCH(ROW($A3),DB!$X:$X,0)),"") | EJ7: =IFERROR(INDEX(DB!L:L,MATCH(ROW($A3),DB!$X:$X,0)),"") | EK7: =IFERROR(INDEX(DB!M:M,MATCH(ROW($A3),DB!$X:$X,0)),"") | EL7: =IFERROR(INDEX(DB!N:N,MATCH(ROW($A3),DB!$X:$X,0)),"") | EM7: =IFERROR(INDEX(DB!O:O,MATCH(ROW($A3),DB!$X:$X,0)),"") | EO7: =IFERROR(INDEX(DB!A:A,MATCH(ROW($A3),DB!$Y:$Y,0)),"") | EP7: =IFERROR(INDEX(DB!B:B,MATCH(ROW($A3),DB!$Y:$Y,0)),"") | EQ7: =IFERROR(INDEX(DB!C:C,MATCH(ROW($A3),DB!$Y:$Y,0)),"") | ER7: =IFERROR(INDEX(DB!D:D,MATCH(ROW($A3),DB!$Y:$Y,0)),"") | ES7: =IFERROR(INDEX(DB!E:E,MATCH(ROW($A3),DB!$Y:$Y,0)),"") | ET7: =IFERROR(INDEX(DB!F:F,MATCH(ROW($A3),DB!$Y:$Y,0)),"") | EU7: =IFERROR(INDEX(DB!G:G,MATCH(ROW($A3),DB!$Y:$Y,0)),"") | EV7: =IFERROR(INDEX(DB!H:H,MATCH(ROW($A3),DB!$Y:$Y,0)),"") | EW7: =IFERROR(INDEX(DB!I:I,MATCH(ROW($A3),DB!$Y:$Y,0)),"") | EX7: =IFERROR(INDEX(DB!J:J,MATCH(ROW($A3),DB!$Y:$Y,0)),"") | EY7: =IFERROR(INDEX(DB!K:K,MATCH(ROW($A3),DB!$Y:$Y,0)),"") | EZ7: =IFERROR(INDEX(DB!L:L,MATCH(ROW($A3),DB!$Y:$Y,0)),"") | FA7: =IFERROR(INDEX(DB!M:M,MATCH(ROW($A3),DB!$Y:$Y,0)),"") | FB7: =IFERROR(INDEX(DB!N:N,MATCH(ROW($A3),DB!$Y:$Y,0)),"") | FC7: =IFERROR(INDEX(DB!O:O,MATCH(ROW($A3),DB!$Y:$Y,0)),"") | FE7: =IFERROR(INDEX(DB!A:A,MATCH(ROW($A3),DB!$Z:$Z,0)),"") | FF7: =IFERROR(INDEX(DB!B:B,MATCH(ROW($A3),DB!$Z:$Z,0)),"") | FG7: =IFERROR(INDEX(DB!C:C,MATCH(ROW($A3),DB!$Z:$Z,0)),"") | FH7: =IFERROR(INDEX(DB!D:D,MATCH(ROW($A3),DB!$Z:$Z,0)),"") | FI7: =IFERROR(INDEX(DB!E:E,MATCH(ROW($A3),DB!$Z:$Z,0)),"") | FJ7: =IFERROR(INDEX(DB!F:F,MATCH(ROW($A3),DB!$Z:$Z,0)),"") | FK7: =IFERROR(INDEX(DB!G:G,MATCH(ROW($A3),DB!$Z:$Z,0)),"") | FL7: =IFERROR(INDEX(DB!H:H,MATCH(ROW($A3),DB!$Z:$Z,0)),"") | FM7: =IFERROR(INDEX(DB!I:I,MATCH(ROW($A3),DB!$Z:$Z,0)),"") | FN7: =IFERROR(INDEX(DB!J:J,MATCH(ROW($A3),DB!$Z:$Z,0)),"") | FO7: =IFERROR(INDEX(DB!K:K,MATCH(ROW($A3),DB!$Z:$Z,0)),"") | FP7: =IFERROR(INDEX(DB!L:L,MATCH(ROW($A3),DB!$Z:$Z,0)),"") | FQ7: =IFERROR(INDEX(DB!M:M,MATCH(ROW($A3),DB!$Z:$Z,0)),"") | FR7: =IFERROR(INDEX(DB!N:N,MATCH(ROW($A3),DB!$Z:$Z,0)),"") | FS7: =IFERROR(INDEX(DB!O:O,MATCH(ROW($A3),DB!$Z:$Z,0)),"") | FU7: =IFERROR(INDEX(DB!A:A,MATCH(ROW($A3),DB!$AA:$AA,0)),"") | FV7: =IFERROR(INDEX(DB!B:B,MATCH(ROW($A3),DB!$AA:$AA,0)),"") | FW7: =IFERROR(INDEX(DB!C:C,MATCH(ROW($A3),DB!$AA:$AA,0)),"") | FX7: =IFERROR(INDEX(DB!D:D,MATCH(ROW($A3),DB!$AA:$AA,0)),"") | FY7: =IFERROR(INDEX(DB!E:E,MATCH(ROW($A3),DB!$AA:$AA,0)),"") | FZ7: =IFERROR(INDEX(DB!F:F,MATCH(ROW($A3),DB!$AA:$AA,0)),"") | GA7: =IFERROR(INDEX(DB!G:G,MATCH(ROW($A3),DB!$AA:$AA,0)),"") | GB7: =IFERROR(INDEX(DB!H:H,MATCH(ROW($A3),DB!$AA:$AA,0)),"") | GC7: =IFERROR(INDEX(DB!I:I,MATCH(ROW($A3),DB!$AA:$AA,0)),"") | GD7: =IFERROR(INDEX(DB!J:J,MATCH(ROW($A3),DB!$AA:$AA,0)),"") | GE7: =IFERROR(INDEX(DB!K:K,MATCH(ROW($A3),DB!$AA:$AA,0)),"") | GF7: =IFERROR(INDEX(DB!L:L,MATCH(ROW($A3),DB!$AA:$AA,0)),"") | GG7: =IFERROR(INDEX(DB!M:M,MATCH(ROW($A3),DB!$AA:$AA,0)),"") | GH7: =IFERROR(INDEX(DB!N:N,MATCH(ROW($A3),DB!$AA:$AA,0)),"") | GI7: =IFERROR(INDEX(DB!O:O,MATCH(ROW($A3),DB!$AA:$AA,0)),"") | GK7: =IFERROR(INDEX(DB!A:A,MATCH(ROW($A3),DB!$AB:$AB,0)),"") | GL7: =IFERROR(INDEX(DB!B:B,MATCH(ROW($A3),DB!$AB:$AB,0)),"") | GM7: =IFERROR(INDEX(DB!C:C,MATCH(ROW($A3),DB!$AB:$AB,0)),"") | GN7: =IFERROR(INDEX(DB!D:D,MATCH(ROW($A3),DB!$AB:$AB,0)),"") | GO7: =IFERROR(INDEX(DB!E:E,MATCH(ROW($A3),DB!$AB:$AB,0)),"") | GP7: =IFERROR(INDEX(DB!F:F,MATCH(ROW($A3),DB!$AB:$AB,0)),"") | GQ7: =IFERROR(INDEX(DB!G:G,MATCH(ROW($A3),DB!$AB:$AB,0)),"") | GR7: =IFERROR(INDEX(DB!H:H,MATCH(ROW($A3),DB!$AB:$AB,0)),"") | GS7: =IFERROR(INDEX(DB!I:I,MATCH(ROW($A3),DB!$AB:$AB,0)),"") | GT7: =IFERROR(INDEX(DB!J:J,MATCH(ROW($A3),DB!$AB:$AB,0)),"") | GU7: =IFERROR(INDEX(DB!K:K,MATCH(ROW($A3),DB!$AB:$AB,0)),"") | GV7: =IFERROR(INDEX(DB!L:L,MATCH(ROW($A3),DB!$AB:$AB,0)),"") | GW7: =IFERROR(INDEX(DB!M:M,MATCH(ROW($A3),DB!$AB:$AB,0)),"") | GX7: =IFERROR(INDEX(DB!N:N,MATCH(ROW($A3),DB!$AB:$AB,0)),"") | GY7: =IFERROR(INDEX(DB!O:O,MATCH(ROW($A3),DB!$AB:$AB,0)),"") | HA7: =IFERROR(INDEX(DB!A:A,MATCH(ROW($A3),DB!$AC:$AC,0)),"") | HB7: =IFERROR(INDEX(DB!B:B,MATCH(ROW($A3),DB!$AC:$AC,0)),"") | HC7: =IFERROR(INDEX(DB!C:C,MATCH(ROW($A3),DB!$AC:$AC,0)),"") | HD7: =IFERROR(INDEX(DB!D:D,MATCH(ROW($A3),DB!$AC:$AC,0)),"") | HE7: =IFERROR(INDEX(DB!E:E,MATCH(ROW($A3),DB!$AC:$AC,0)),"") | HF7: =IFERROR(INDEX(DB!F:F,MATCH(ROW($A3),DB!$AC:$AC,0)),"") | HG7: =IFERROR(INDEX(DB!G:G,MATCH(ROW($A3),DB!$AC:$AC,0)),"") | HH7: =IFERROR(INDEX(DB!H:H,MATCH(ROW($A3),DB!$AC:$AC,0)),"") | HI7: =IFERROR(INDEX(DB!I:I,MATCH(ROW($A3),DB!$AC:$AC,0)),"") | HJ7: =IFERROR(INDEX(DB!J:J,MATCH(ROW($A3),DB!$AC:$AC,0)),"") | HK7: =IFERROR(INDEX(DB!K:K,MATCH(ROW($A3),DB!$AC:$AC,0)),"") | HL7: =IFERROR(INDEX(DB!L:L,MATCH(ROW($A3),DB!$AC:$AC,0)),"") | HM7: =IFERROR(INDEX(DB!M:M,MATCH(ROW($A3),DB!$AC:$AC,0)),"") | HN7: =IFERROR(INDEX(DB!N:N,MATCH(ROW($A3),DB!$AC:$AC,0)),"") | HO7: =IFERROR(INDEX(DB!O:O,MATCH(ROW($A3),DB!$AC:$AC,0)),"")
A8: =IFERROR(INDEX(DB!A:A,MATCH(ROW($A4),DB!$P:$P,0)),"") -> 34656 | B8: =IFERROR(INDEX(DB!B:B,MATCH(ROW($A4),DB!$P:$P,0)),"") -> PANAMA | C8: =IFERROR(INDEX(DB!C:C,MATCH(ROW($A4),DB!$P:$P,0)),"") -> Local Market | D8: =IFERROR(INDEX(DB!D:D,MATCH(ROW($A4),DB!$P:$P,0)),"") -> BALBOA (SAME AS US DOLLAR) | E8: =IFERROR(INDEX(DB!E:E,MATCH(ROW($A4),DB!$P:$P,0)),"") -> 0.07 | F8: =IFERROR(INDEX(DB!F:F,MATCH(ROW($A4),DB!$P:$P,0)),"") -> MASCULIN | G8: =IFERROR(INDEX(DB!G:G,MATCH(ROW($A4),DB!$P:$P,0)),"") -> EDT | H8: =IFERROR(INDEX(DB!H:H,MATCH(ROW($A4),DB!$P:$P,0)),"") -> HERMES | I8: =IFERROR(INDEX(DB!I:I,MATCH(ROW($A4),DB!$P:$P,0)),"") -> TDH ETF VAP 75ML | J8: =IFERROR(INDEX(DB!J:J,MATCH(ROW($A4),DB!$P:$P,0)),"") -> 0.75 | K8: =IFERROR(INDEX(DB!K:K,MATCH(ROW($A4),DB!$P:$P,0)),"") -> 75 | L8: =IFERROR(INDEX(DB!L:L,MATCH(ROW($A4),DB!$P:$P,0)),"") -> 81 | M8: =IFERROR(INDEX(DB!M:M,MATCH(ROW($A4),DB!$P:$P,0)),"") -> 0 | N8: =IFERROR(INDEX(DB!N:N,MATCH(ROW($A4),DB!$P:$P,0)),"") -> 0 | O8: =IFERROR(INDEX(DB!O:O,MATCH(ROW($A4),DB!$P:$P,0)),"") -> 0 | Q8: =IFERROR(INDEX(DB!A:A,MATCH(ROW($A4),DB!$Q:$Q,0)),"") | R8: =IFERROR(INDEX(DB!B:B,MATCH(ROW($A4),DB!$Q:$Q,0)),"") | S8: =IFERROR(INDEX(DB!C:C,MATCH(ROW($A4),DB!$Q:$Q,0)),"") | T8: =IFERROR(INDEX(DB!D:D,MATCH(ROW($A4),DB!$Q:$Q,0)),"") | U8: =IFERROR(INDEX(DB!E:E,MATCH(ROW($A4),DB!$Q:$Q,0)),"") | V8: =IFERROR(INDEX(DB!F:F,MATCH(ROW($A4),DB!$Q:$Q,0)),"") | W8: =IFERROR(INDEX(DB!G:G,MATCH(ROW($A4),DB!$Q:$Q,0)),"") | X8: =IFERROR(INDEX(DB!H:H,MATCH(ROW($A4),DB!$Q:$Q,0)),"") | Y8: =IFERROR(INDEX(DB!I:I,MATCH(ROW($A4),DB!$Q:$Q,0)),"") | Z8: =IFERROR(INDEX(DB!J:J,MATCH(ROW($A4),DB!$Q:$Q,0)),"") | AA8: =IFERROR(INDEX(DB!K:K,MATCH(ROW($A4),DB!$Q:$Q,0)),"") | AB8: =IFERROR(INDEX(DB!L:L,MATCH(ROW($A4),DB!$Q:$Q,0)),"") | AC8: =IFERROR(INDEX(DB!M:M,MATCH(ROW($A4),DB!$Q:$Q,0)),"") | AD8: =IFERROR(INDEX(DB!N:N,MATCH(ROW($A4),DB!$Q:$Q,0)),"") | AE8: =IFERROR(INDEX(DB!O:O,MATCH(ROW($A4),DB!$Q:$Q,0)),"") | AG8: =IFERROR(INDEX(DB!A:A,MATCH(ROW($A4),DB!$R:$R,0)),"") | AH8: =IFERROR(INDEX(DB!B:B,MATCH(ROW($A4),DB!$R:$R,0)),"") | AI8: =IFERROR(INDEX(DB!C:C,MATCH(ROW($A4),DB!$R:$R,0)),"") | AJ8: =IFERROR(INDEX(DB!D:D,MATCH(ROW($A4),DB!$R:$R,0)),"") | AK8: =IFERROR(INDEX(DB!E:E,MATCH(ROW($A4),DB!$R:$R,0)),"") | AL8: =IFERROR(INDEX(DB!F:F,MATCH(ROW($A4),DB!$R:$R,0)),"") | AM8: =IFERROR(INDEX(DB!G:G,MATCH(ROW($A4),DB!$R:$R,0)),"") | AN8: =IFERROR(INDEX(DB!H:H,MATCH(ROW($A4),DB!$R:$R,0)),"") | AO8: =IFERROR(INDEX(DB!I:I,MATCH(ROW($A4),DB!$R:$R,0)),"") | AP8: =IFERROR(INDEX(DB!J:J,MATCH(ROW($A4),DB!$R:$R,0)),"") | AQ8: =IFERROR(INDEX(DB!K:K,MATCH(ROW($A4),DB!$R:$R,0)),"") | AR8: =IFERROR(INDEX(DB!L:L,MATCH(ROW($A4),DB!$R:$R,0)),"") | AS8: =IFERROR(INDEX(DB!M:M,MATCH(ROW($A4),DB!$R:$R,0)),"") | AT8: =IFERROR(INDEX(DB!N:N,MATCH(ROW($A4),DB!$R:$R,0)),"") | AU8: =IFERROR(INDEX(DB!O:O,MATCH(ROW($A4),DB!$R:$R,0)),"") | AW8: =IFERROR(INDEX(DB!A:A,MATCH(ROW($A4),DB!$S:$S,0)),"") | AX8: =IFERROR(INDEX(DB!B:B,MATCH(ROW($A4),DB!$S:$S,0)),"") | AY8: =IFERROR(INDEX(DB!C:C,MATCH(ROW($A4),DB!$S:$S,0)),"") | AZ8: =IFERROR(INDEX(DB!D:D,MATCH(ROW($A4),DB!$S:$S,0)),"") | BA8: =IFERROR(INDEX(DB!E:E,MATCH(ROW($A4),DB!$S:$S,0)),"") | BB8: =IFERROR(INDEX(DB!F:F,MATCH(ROW($A4),DB!$S:$S,0)),"") | BC8: =IFERROR(INDEX(DB!G:G,MATCH(ROW($A4),DB!$S:$S,0)),"") | BD8: =IFERROR(INDEX(DB!H:H,MATCH(ROW($A4),DB!$S:$S,0)),"") | BE8: =IFERROR(INDEX(DB!I:I,MATCH(ROW($A4),DB!$S:$S,0)),"") | BF8: =IFERROR(INDEX(DB!J:J,MATCH(ROW($A4),DB!$S:$S,0)),"") | BG8: =IFERROR(INDEX(DB!K:K,MATCH(ROW($A4),DB!$S:$S,0)),"") | BH8: =IFERROR(INDEX(DB!L:L,MATCH(ROW($A4),DB!$S:$S,0)),"") | BI8: =IFERROR(INDEX(DB!M:M,MATCH(ROW($A4),DB!$S:$S,0)),"") | BJ8: =IFERROR(INDEX(DB!N:N,MATCH(ROW($A4),DB!$S:$S,0)),"") | BK8: =IFERROR(INDEX(DB!O:O,MATCH(ROW($A4),DB!$S:$S,0)),"") | BM8: =IFERROR(INDEX(DB!A:A,MATCH(ROW($A4),DB!$T:$T,0)),"") -> 0 | BN8: =IFERROR(INDEX(DB!B:B,MATCH(ROW($A4),DB!$T:$T,0)),"") -> PANAMA | BO8: =IFERROR(INDEX(DB!C:C,MATCH(ROW($A4),DB!$T:$T,0)),"") -> Local Market | BP8: =IFERROR(INDEX(DB!D:D,MATCH(ROW($A4),DB!$T:$T,0)),"") -> BALBOA (SAME AS US DOLLAR) | BQ8: =IFERROR(INDEX(DB!E:E,MATCH(ROW($A4),DB!$T:$T,0)),"") -> 0.07 | BR8: =IFERROR(INDEX(DB!F:F,MATCH(ROW($A4),DB!$T:$T,0)),"") -> MASCULIN | BS8: =IFERROR(INDEX(DB!G:G,MATCH(ROW($A4),DB!$T:$T,0)),"") -> EDT | BT8: =IFERROR(INDEX(DB!H:H,MATCH(ROW($A4),DB!$T:$T,0)),"") -> Chanel | BU8: =IFERROR(INDEX(DB!I:I,MATCH(ROW($A4),DB!$T:$T,0)),"") -> Bleu de Chanel EDT 100ml | BV8: =IFERROR(INDEX(DB!J:J,MATCH(ROW($A4),DB!$T:$T,0)),"") -> 1 | BW8: =IFERROR(INDEX(DB!K:K,MATCH(ROW($A4),DB!$T:$T,0)),"") -> 100 | BX8: =IFERROR(INDEX(DB!L:L,MATCH(ROW($A4),DB!$T:$T,0)),"") -> 100 | BY8: =IFERROR(INDEX(DB!M:M,MATCH(ROW($A4),DB!$T:$T,0)),"") -> 0 | BZ8: =IFERROR(INDEX(DB!N:N,MATCH(ROW($A4),DB!$T:$T,0)),"") -> 0 | CA8: =IFERROR(INDEX(DB!O:O,MATCH(ROW($A4),DB!$T:$T,0)),"") -> 0 | CC8: =IFERROR(INDEX(DB!A:A,MATCH(ROW($A4),DB!$U:$U,0)),"") -> 0 | CD8: =IFERROR(INDEX(DB!B:B,MATCH(ROW($A4),DB!$U:$U,0)),"") -> PANAMA | CE8: =IFERROR(INDEX(DB!C:C,MATCH(ROW($A4),DB!$U:$U,0)),"") -> Local Market | CF8: =IFERROR(INDEX(DB!D:D,MATCH(ROW($A4),DB!$U:$U,0)),"") -> BALBOA (SAME AS US DOLLAR) | CG8: =IFERROR(INDEX(DB!E:E,MATCH(ROW($A4),DB!$U:$U,0)),"") -> 0.07 | CH8: =IFERROR(INDEX(DB!F:F,MATCH(ROW($A4),DB!$U:$U,0)),"") -> MASCULIN | CI8: =IFERROR(INDEX(DB!G:G,MATCH(ROW($A4),DB!$U:$U,0)),"") -> EDT | CJ8: =IFERROR(INDEX(DB!H:H,MATCH(ROW($A4),DB!$U:$U,0)),"") -> Dior | CK8: =IFERROR(INDEX(DB!I:I,MATCH(ROW($A4),DB!$U:$U,0)),"") -> Dior Homme EDT 150ml | CL8: =IFERROR(INDEX(DB!J:J,MATCH(ROW($A4),DB!$U:$U,0)),"") -> 1.5 | CM8: =IFERROR(INDEX(DB!K:K,MATCH(ROW($A4),DB!$U:$U,0)),"") -> 150 | CN8: =IFERROR(INDEX(DB!L:L,MATCH(ROW($A4),DB!$U:$U,0)),"") -> N/A | CO8: =IFERROR(INDEX(DB!M:M,MATCH(ROW($A4),DB!$U:$U,0)),"") -> 0 | CP8: =IFERROR(INDEX(DB!N:N,MATCH(ROW($A4),DB!$U:$U,0)),"") -> 0 | CQ8: =IFERROR(INDEX(DB!O:O,MATCH(ROW($A4),DB!$U:$U,0)),"") | CS8: =IFERROR(INDEX(DB!A:A,MATCH(ROW($A4),DB!$V:$V,0)),"") | CT8: =IFERROR(INDEX(DB!B:B,MATCH(ROW($A4),DB!$V:$V,0)),"") | CU8: =IFERROR(INDEX(DB!C:C,MATCH(ROW($A4),DB!$V:$V,0)),"") | CV8: =IFERROR(INDEX(DB!D:D,MATCH(ROW($A4),DB!$V:$V,0)),"") | CW8: =IFERROR(INDEX(DB!E:E,MATCH(ROW($A4),DB!$V:$V,0)),"") | CX8: =IFERROR(INDEX(DB!F:F,MATCH(ROW($A4),DB!$V:$V,0)),"") | CY8: =IFERROR(INDEX(DB!G:G,MATCH(ROW($A4),DB!$V:$V,0)),"") | CZ8: =IFERROR(INDEX(DB!H:H,MATCH(ROW($A4),DB!$V:$V,0)),"") | DA8: =IFERROR(INDEX(DB!I:I,MATCH(ROW($A4),DB!$V:$V,0)),"") | DB8: =IFERROR(INDEX(DB!J:J,MATCH(ROW($A4),DB!$V:$V,0)),"") | DC8: =IFERROR(INDEX(DB!K:K,MATCH(ROW($A4),DB!$V:$V,0)),"") | DD8: =IFERROR(INDEX(DB!L:L,MATCH(ROW($A4),DB!$V:$V,0)),"") | DE8: =IFERROR(INDEX(DB!M:M,MATCH(ROW($A4),DB!$V:$V,0)),"") | DF8: =IFERROR(INDEX(DB!N:N,MATCH(ROW($A4),DB!$V:$V,0)),"") | DG8: =IFERROR(INDEX(DB!O:O,MATCH(ROW($A4),DB!$V:$V,0)),"") | DI8: =IFERROR(INDEX(DB!A:A,MATCH(ROW($A4),DB!$W:$W,0)),"") | DJ8: =IFERROR(INDEX(DB!B:B,MATCH(ROW($A4),DB!$W:$W,0)),"") | DK8: =IFERROR(INDEX(DB!C:C,MATCH(ROW($A4),DB!$W:$W,0)),"") | DL8: =IFERROR(INDEX(DB!D:D,MATCH(ROW($A4),DB!$W:$W,0)),"") | DM8: =IFERROR(INDEX(DB!E:E,MATCH(ROW($A4),DB!$W:$W,0)),"") | DN8: =IFERROR(INDEX(DB!F:F,MATCH(ROW($A4),DB!$W:$W,0)),"") | DO8: =IFERROR(INDEX(DB!G:G,MATCH(ROW($A4),DB!$W:$W,0)),"") | DP8: =IFERROR(INDEX(DB!H:H,MATCH(ROW($A4),DB!$W:$W,0)),"") | DQ8: =IFERROR(INDEX(DB!I:I,MATCH(ROW($A4),DB!$W:$W,0)),"") | DR8: =IFERROR(INDEX(DB!J:J,MATCH(ROW($A4),DB!$W:$W,0)),"") | DS8: =IFERROR(INDEX(DB!K:K,MATCH(ROW($A4),DB!$W:$W,0)),"") | DT8: =IFERROR(INDEX(DB!L:L,MATCH(ROW($A4),DB!$W:$W,0)),"") | DU8: =IFERROR(INDEX(DB!M:M,MATCH(ROW($A4),DB!$W:$W,0)),"") | DV8: =IFERROR(INDEX(DB!N:N,MATCH(ROW($A4),DB!$W:$W,0)),"") | DW8: =IFERROR(INDEX(DB!O:O,MATCH(ROW($A4),DB!$W:$W,0)),"") | DY8: =IFERROR(INDEX(DB!A:A,MATCH(ROW($A4),DB!$X:$X,0)),"") | DZ8: =IFERROR(INDEX(DB!B:B,MATCH(ROW($A4),DB!$X:$X,0)),"") | EA8: =IFERROR(INDEX(DB!C:C,MATCH(ROW($A4),DB!$X:$X,0)),"") | EB8: =IFERROR(INDEX(DB!D:D,MATCH(ROW($A4),DB!$X:$X,0)),"") | EC8: =IFERROR(INDEX(DB!E:E,MATCH(ROW($A4),DB!$X:$X,0)),"") | ED8: =IFERROR(INDEX(DB!F:F,MATCH(ROW($A4),DB!$X:$X,0)),"") | EE8: =IFERROR(INDEX(DB!G:G,MATCH(ROW($A4),DB!$X:$X,0)),"") | EF8: =IFERROR(INDEX(DB!H:H,MATCH(ROW($A4),DB!$X:$X,0)),"") | EG8: =IFERROR(INDEX(DB!I:I,MATCH(ROW($A4),DB!$X:$X,0)),"") | EH8: =IFERROR(INDEX(DB!J:J,MATCH(ROW($A4),DB!$X:$X,0)),"") | EI8: =IFERROR(INDEX(DB!K:K,MATCH(ROW($A4),DB!$X:$X,0)),"") | EJ8: =IFERROR(INDEX(DB!L:L,MATCH(ROW($A4),DB!$X:$X,0)),"") | EK8: =IFERROR(INDEX(DB!M:M,MATCH(ROW($A4),DB!$X:$X,0)),"") | EL8: =IFERROR(INDEX(DB!N:N,MATCH(ROW($A4),DB!$X:$X,0)),"") | EM8: =IFERROR(INDEX(DB!O:O,MATCH(ROW($A4),DB!$X:$X,0)),"") | EO8: =IFERROR(INDEX(DB!A:A,MATCH(ROW($A4),DB!$Y:$Y,0)),"") | EP8: =IFERROR(INDEX(DB!B:B,MATCH(ROW($A4),DB!$Y:$Y,0)),"") | EQ8: =IFERROR(INDEX(DB!C:C,MATCH(ROW($A4),DB!$Y:$Y,0)),"") | ER8: =IFERROR(INDEX(DB!D:D,MATCH(ROW($A4),DB!$Y:$Y,0)),"") | ES8: =IFERROR(INDEX(DB!E:E,MATCH(ROW($A4),DB!$Y:$Y,0)),"") | ET8: =IFERROR(INDEX(DB!F:F,MATCH(ROW($A4),DB!$Y:$Y,0)),"") | EU8: =IFERROR(INDEX(DB!G:G,MATCH(ROW($A4),DB!$Y:$Y,0)),"") | EV8: =IFERROR(INDEX(DB!H:H,MATCH(ROW($A4),DB!$Y:$Y,0)),"") | EW8: =IFERROR(INDEX(DB!I:I,MATCH(ROW($A4),DB!$Y:$Y,0)),"") | EX8: =IFERROR(INDEX(DB!J:J,MATCH(ROW($A4),DB!$Y:$Y,0)),"") | EY8: =IFERROR(INDEX(DB!K:K,MATCH(ROW($A4),DB!$Y:$Y,0)),"") | EZ8: =IFERROR(INDEX(DB!L:L,MATCH(ROW($A4),DB!$Y:$Y,0)),"") | FA8: =IFERROR(INDEX(DB!M:M,MATCH(ROW($A4),DB!$Y:$Y,0)),"") | FB8: =IFERROR(INDEX(DB!N:N,MATCH(ROW($A4),DB!$Y:$Y,0)),"") | FC8: =IFERROR(INDEX(DB!O:O,MATCH(ROW($A4),DB!$Y:$Y,0)),"") | FE8: =IFERROR(INDEX(DB!A:A,MATCH(ROW($A4),DB!$Z:$Z,0)),"") | FF8: =IFERROR(INDEX(DB!B:B,MATCH(ROW($A4),DB!$Z:$Z,0)),"") | FG8: =IFERROR(INDEX(DB!C:C,MATCH(ROW($A4),DB!$Z:$Z,0)),"") | FH8: =IFERROR(INDEX(DB!D:D,MATCH(ROW($A4),DB!$Z:$Z,0)),"") | FI8: =IFERROR(INDEX(DB!E:E,MATCH(ROW($A4),DB!$Z:$Z,0)),"") | FJ8: =IFERROR(INDEX(DB!F:F,MATCH(ROW($A4),DB!$Z:$Z,0)),"") | FK8: =IFERROR(INDEX(DB!G:G,MATCH(ROW($A4),DB!$Z:$Z,0)),"") | FL8: =IFERROR(INDEX(DB!H:H,MATCH(ROW($A4),DB!$Z:$Z,0)),"") | FM8: =IFERROR(INDEX(DB!I:I,MATCH(ROW($A4),DB!$Z:$Z,0)),"") | FN8: =IFERROR(INDEX(DB!J:J,MATCH(ROW($A4),DB!$Z:$Z,0)),"") | FO8: =IFERROR(INDEX(DB!K:K,MATCH(ROW($A4),DB!$Z:$Z,0)),"") | FP8: =IFERROR(INDEX(DB!L:L,MATCH(ROW($A4),DB!$Z:$Z,0)),"") | FQ8: =IFERROR(INDEX(DB!M:M,MATCH(ROW($A4),DB!$Z:$Z,0)),"") | FR8: =IFERROR(INDEX(DB!N:N,MATCH(ROW($A4),DB!$Z:$Z,0)),"") | FS8: =IFERROR(INDEX(DB!O:O,MATCH(ROW($A4),DB!$Z:$Z,0)),"") | FU8: =IFERROR(INDEX(DB!A:A,MATCH(ROW($A4),DB!$AA:$AA,0)),"") | FV8: =IFERROR(INDEX(DB!B:B,MATCH(ROW($A4),DB!$AA:$AA,0)),"") | FW8: =IFERROR(INDEX(DB!C:C,MATCH(ROW($A4),DB!$AA:$AA,0)),"") | FX8: =IFERROR(INDEX(DB!D:D,MATCH(ROW($A4),DB!$AA:$AA,0)),"") | FY8: =IFERROR(INDEX(DB!E:E,MATCH(ROW($A4),DB!$AA:$AA,0)),"") | FZ8: =IFERROR(INDEX(DB!F:F,MATCH(ROW($A4),DB!$AA:$AA,0)),"") | GA8: =IFERROR(INDEX(DB!G:G,MATCH(ROW($A4),DB!$AA:$AA,0)),"") | GB8: =IFERROR(INDEX(DB!H:H,MATCH(ROW($A4),DB!$AA:$AA,0)),"") | GC8: =IFERROR(INDEX(DB!I:I,MATCH(ROW($A4),DB!$AA:$AA,0)),"") | GD8: =IFERROR(INDEX(DB!J:J,MATCH(ROW($A4),DB!$AA:$AA,0)),"") | GE8: =IFERROR(INDEX(DB!K:K,MATCH(ROW($A4),DB!$AA:$AA,0)),"") | GF8: =IFERROR(INDEX(DB!L:L,MATCH(ROW($A4),DB!$AA:$AA,0)),"") | GG8: =IFERROR(INDEX(DB!M:M,MATCH(ROW($A4),DB!$AA:$AA,0)),"") | GH8: =IFERROR(INDEX(DB!N:N,MATCH(ROW($A4),DB!$AA:$AA,0)),"") | GI8: =IFERROR(INDEX(DB!O:O,MATCH(ROW($A4),DB!$AA:$AA,0)),"") | GK8: =IFERROR(INDEX(DB!A:A,MATCH(ROW($A4),DB!$AB:$AB,0)),"") | GL8: =IFERROR(INDEX(DB!B:B,MATCH(ROW($A4),DB!$AB:$AB,0)),"") | GM8: =IFERROR(INDEX(DB!C:C,MATCH(ROW($A4),DB!$AB:$AB,0)),"") | GN8: =IFERROR(INDEX(DB!D:D,MATCH(ROW($A4),DB!$AB:$AB,0)),"") | GO8: =IFERROR(INDEX(DB!E:E,MATCH(ROW($A4),DB!$AB:$AB,0)),"") | GP8: =IFERROR(INDEX(DB!F:F,MATCH(ROW($A4),DB!$AB:$AB,0)),"") | GQ8: =IFERROR(INDEX(DB!G:G,MATCH(ROW($A4),DB!$AB:$AB,0)),"") | GR8: =IFERROR(INDEX(DB!H:H,MATCH(ROW($A4),DB!$AB:$AB,0)),"") | GS8: =IFERROR(INDEX(DB!I:I,MATCH(ROW($A4),DB!$AB:$AB,0)),"") | GT8: =IFERROR(INDEX(DB!J:J,MATCH(ROW($A4),DB!$AB:$AB,0)),"") | GU8: =IFERROR(INDEX(DB!K:K,MATCH(ROW($A4),DB!$AB:$AB,0)),"") | GV8: =IFERROR(INDEX(DB!L:L,MATCH(ROW($A4),DB!$AB:$AB,0)),"") | GW8: =IFERROR(INDEX(DB!M:M,MATCH(ROW($A4),DB!$AB:$AB,0)),"") | GX8: =IFERROR(INDEX(DB!N:N,MATCH(ROW($A4),DB!$AB:$AB,0)),"") | GY8: =IFERROR(INDEX(DB!O:O,MATCH(ROW($A4),DB!$AB:$AB,0)),"") | HA8: =IFERROR(INDEX(DB!A:A,MATCH(ROW($A4),DB!$AC:$AC,0)),"") | HB8: =IFERROR(INDEX(DB!B:B,MATCH(ROW($A4),DB!$AC:$AC,0)),"") | HC8: =IFERROR(INDEX(DB!C:C,MATCH(ROW($A4),DB!$AC:$AC,0)),"") | HD8: =IFERROR(INDEX(DB!D:D,MATCH(ROW($A4),DB!$AC:$AC,0)),"") | HE8: =IFERROR(INDEX(DB!E:E,MATCH(ROW($A4),DB!$AC:$AC,0)),"") | HF8: =IFERROR(INDEX(DB!F:F,MATCH(ROW($A4),DB!$AC:$AC,0)),"") | HG8: =IFERROR(INDEX(DB!G:G,MATCH(ROW($A4),DB!$AC:$AC,0)),"") | HH8: =IFERROR(INDEX(DB!H:H,MATCH(ROW($A4),DB!$AC:$AC,0)),"") | HI8: =IFERROR(INDEX(DB!I:I,MATCH(ROW($A4),DB!$AC:$AC,0)),"") | HJ8: =IFERROR(INDEX(DB!J:J,MATCH(ROW($A4),DB!$AC:$AC,0)),"") | HK8: =IFERROR(INDEX(DB!K:K,MATCH(ROW($A4),DB!$AC:$AC,0)),"") | HL8: =IFERROR(INDEX(DB!L:L,MATCH(ROW($A4),DB!$AC:$AC,0)),"") | HM8: =IFERROR(INDEX(DB!M:M,MATCH(ROW($A4),DB!$AC:$AC,0)),"") | HN8: =IFERROR(INDEX(DB!N:N,MATCH(ROW($A4),DB!$AC:$AC,0)),"") | HO8: =IFERROR(INDEX(DB!O:O,MATCH(ROW($A4),DB!$AC:$AC,0)),"")
A9: =IFERROR(INDEX(DB!A:A,MATCH(ROW($A5),DB!$P:$P,0)),"") -> 26085 | B9: =IFERROR(INDEX(DB!B:B,MATCH(ROW($A5),DB!$P:$P,0)),"") -> PANAMA | C9: =IFERROR(INDEX(DB!C:C,MATCH(ROW($A5),DB!$P:$P,0)),"") -> Local Market | D9: =IFERROR(INDEX(DB!D:D,MATCH(ROW($A5),DB!$P:$P,0)),"") -> BALBOA (SAME AS US DOLLAR) | E9: =IFERROR(INDEX(DB!E:E,MATCH(ROW($A5),DB!$P:$P,0)),"") -> 0.07 | F9: =IFERROR(INDEX(DB!F:F,MATCH(ROW($A5),DB!$P:$P,0)),"") -> MASCULIN | G9: =IFERROR(INDEX(DB!G:G,MATCH(ROW($A5),DB!$P:$P,0)),"") -> EDP | H9: =IFERROR(INDEX(DB!H:H,MATCH(ROW($A5),DB!$P:$P,0)),"") -> HERMES | I9: =IFERROR(INDEX(DB!I:I,MATCH(ROW($A5),DB!$P:$P,0)),"") -> TDH PP VAP 200ML | J9: =IFERROR(INDEX(DB!J:J,MATCH(ROW($A5),DB!$P:$P,0)),"") -> 2 | K9: =IFERROR(INDEX(DB!K:K,MATCH(ROW($A5),DB!$P:$P,0)),"") -> 200 | L9: =IFERROR(INDEX(DB!L:L,MATCH(ROW($A5),DB!$P:$P,0)),"") -> 0 | M9: =IFERROR(INDEX(DB!M:M,MATCH(ROW($A5),DB!$P:$P,0)),"") -> 0 | N9: =IFERROR(INDEX(DB!N:N,MATCH(ROW($A5),DB!$P:$P,0)),"") -> 0 | O9: =IFERROR(INDEX(DB!O:O,MATCH(ROW($A5),DB!$P:$P,0)),"") -> 0 | Q9: =IFERROR(INDEX(DB!A:A,MATCH(ROW($A5),DB!$Q:$Q,0)),"") | R9: =IFERROR(INDEX(DB!B:B,MATCH(ROW($A5),DB!$Q:$Q,0)),"") | S9: =IFERROR(INDEX(DB!C:C,MATCH(ROW($A5),DB!$Q:$Q,0)),"") | T9: =IFERROR(INDEX(DB!D:D,MATCH(ROW($A5),DB!$Q:$Q,0)),"") | U9: =IFERROR(INDEX(DB!E:E,MATCH(ROW($A5),DB!$Q:$Q,0)),"") | V9: =IFERROR(INDEX(DB!F:F,MATCH(ROW($A5),DB!$Q:$Q,0)),"") | W9: =IFERROR(INDEX(DB!G:G,MATCH(ROW($A5),DB!$Q:$Q,0)),"") | X9: =IFERROR(INDEX(DB!H:H,MATCH(ROW($A5),DB!$Q:$Q,0)),"") | Y9: =IFERROR(INDEX(DB!I:I,MATCH(ROW($A5),DB!$Q:$Q,0)),"") | Z9: =IFERROR(INDEX(DB!J:J,MATCH(ROW($A5),DB!$Q:$Q,0)),"") | AA9: =IFERROR(INDEX(DB!K:K,MATCH(ROW($A5),DB!$Q:$Q,0)),"") | AB9: =IFERROR(INDEX(DB!L:L,MATCH(ROW($A5),DB!$Q:$Q,0)),"") | AC9: =IFERROR(INDEX(DB!M:M,MATCH(ROW($A5),DB!$Q:$Q,0)),"") | AD9: =IFERROR(INDEX(DB!N:N,MATCH(ROW($A5),DB!$Q:$Q,0)),"") | AE9: =IFERROR(INDEX(DB!O:O,MATCH(ROW($A5),DB!$Q:$Q,0)),"") | AG9: =IFERROR(INDEX(DB!A:A,MATCH(ROW($A5),DB!$R:$R,0)),"") | AH9: =IFERROR(INDEX(DB!B:B,MATCH(ROW($A5),DB!$R:$R,0)),"") | AI9: =IFERROR(INDEX(DB!C:C,MATCH(ROW($A5),DB!$R:$R,0)),"") | AJ9: =IFERROR(INDEX(DB!D:D,MATCH(ROW($A5),DB!$R:$R,0)),"") | AK9: =IFERROR(INDEX(DB!E:E,MATCH(ROW($A5),DB!$R:$R,0)),"") | AL9: =IFERROR(INDEX(DB!F:F,MATCH(ROW($A5),DB!$R:$R,0)),"") | AM9: =IFERROR(INDEX(DB!G:G,MATCH(ROW($A5),DB!$R:$R,0)),"") | AN9: =IFERROR(INDEX(DB!H:H,MATCH(ROW($A5),DB!$R:$R,0)),"") | AO9: =IFERROR(INDEX(DB!I:I,MATCH(ROW($A5),DB!$R:$R,0)),"") | AP9: =IFERROR(INDEX(DB!J:J,MATCH(ROW($A5),DB!$R:$R,0)),"") | AQ9: =IFERROR(INDEX(DB!K:K,MATCH(ROW($A5),DB!$R:$R,0)),"") | AR9: =IFERROR(INDEX(DB!L:L,MATCH(ROW($A5),DB!$R:$R,0)),"") | AS9: =IFERROR(INDEX(DB!M:M,MATCH(ROW($A5),DB!$R:$R,0)),"") | AT9: =IFERROR(INDEX(DB!N:N,MATCH(ROW($A5),DB!$R:$R,0)),"") | AU9: =IFERROR(INDEX(DB!O:O,MATCH(ROW($A5),DB!$R:$R,0)),"") | AW9: =IFERROR(INDEX(DB!A:A,MATCH(ROW($A5),DB!$S:$S,0)),"") | AX9: =IFERROR(INDEX(DB!B:B,MATCH(ROW($A5),DB!$S:$S,0)),"") | AY9: =IFERROR(INDEX(DB!C:C,MATCH(ROW($A5),DB!$S:$S,0)),"") | AZ9: =IFERROR(INDEX(DB!D:D,MATCH(ROW($A5),DB!$S:$S,0)),"") | BA9: =IFERROR(INDEX(DB!E:E,MATCH(ROW($A5),DB!$S:$S,0)),"") | BB9: =IFERROR(INDEX(DB!F:F,MATCH(ROW($A5),DB!$S:$S,0)),"") | BC9: =IFERROR(INDEX(DB!G:G,MATCH(ROW($A5),DB!$S:$S,0)),"") | BD9: =IFERROR(INDEX(DB!H:H,MATCH(ROW($A5),DB!$S:$S,0)),"") | BE9: =IFERROR(INDEX(DB!I:I,MATCH(ROW($A5),DB!$S:$S,0)),"") | BF9: =IFERROR(INDEX(DB!J:J,MATCH(ROW($A5),DB!$S:$S,0)),"") | BG9: =IFERROR(INDEX(DB!K:K,MATCH(ROW($A5),DB!$S:$S,0)),"") | BH9: =IFERROR(INDEX(DB!L:L,MATCH(ROW($A5),DB!$S:$S,0)),"") | BI9: =IFERROR(INDEX(DB!M:M,MATCH(ROW($A5),DB!$S:$S,0)),"") | BJ9: =IFERROR(INDEX(DB!N:N,MATCH(ROW($A5),DB!$S:$S,0)),"") | BK9: =IFERROR(INDEX(DB!O:O,MATCH(ROW($A5),DB!$S:$S,0)),"") | BM9: =IFERROR(INDEX(DB!A:A,MATCH(ROW($A5),DB!$T:$T,0)),"") -> 0 | BN9: =IFERROR(INDEX(DB!B:B,MATCH(ROW($A5),DB!$T:$T,0)),"") -> PANAMA | BO9: =IFERROR(INDEX(DB!C:C,MATCH(ROW($A5),DB!$T:$T,0)),"") -> Local Market | BP9: =IFERROR(INDEX(DB!D:D,MATCH(ROW($A5),DB!$T:$T,0)),"") -> BALBOA (SAME AS US DOLLAR) | BQ9: =IFERROR(INDEX(DB!E:E,MATCH(ROW($A5),DB!$T:$T,0)),"") -> 0.07 | BR9: =IFERROR(INDEX(DB!F:F,MATCH(ROW($A5),DB!$T:$T,0)),"") -> MASCULIN | BS9: =IFERROR(INDEX(DB!G:G,MATCH(ROW($A5),DB!$T:$T,0)),"") -> EDT | BT9: =IFERROR(INDEX(DB!H:H,MATCH(ROW($A5),DB!$T:$T,0)),"") -> Chanel | BU9: =IFERROR(INDEX(DB!I:I,MATCH(ROW($A5),DB!$T:$T,0)),"") -> Bleu de Chanel EDT 50ml | BV9: =IFERROR(INDEX(DB!J:J,MATCH(ROW($A5),DB!$T:$T,0)),"") -> 0.5 | BW9: =IFERROR(INDEX(DB!K:K,MATCH(ROW($A5),DB!$T:$T,0)),"") -> 50 | BX9: =IFERROR(INDEX(DB!L:L,MATCH(ROW($A5),DB!$T:$T,0)),"") -> 78 | BY9: =IFERROR(INDEX(DB!M:M,MATCH(ROW($A5),DB!$T:$T,0)),"") -> 0 | BZ9: =IFERROR(INDEX(DB!N:N,MATCH(ROW($A5),DB!$T:$T,0)),"") -> 0 | CA9: =IFERROR(INDEX(DB!O:O,MATCH(ROW($A5),DB!$T:$T,0)),"") -> 78 | CC9: =IFERROR(INDEX(DB!A:A,MATCH(ROW($A5),DB!$U:$U,0)),"") -> 0 | CD9: =IFERROR(INDEX(DB!B:B,MATCH(ROW($A5),DB!$U:$U,0)),"") -> PANAMA | CE9: =IFERROR(INDEX(DB!C:C,MATCH(ROW($A5),DB!$U:$U,0)),"") -> Local Market | CF9: =IFERROR(INDEX(DB!D:D,MATCH(ROW($A5),DB!$U:$U,0)),"") -> BALBOA (SAME AS US DOLLAR) | CG9: =IFERROR(INDEX(DB!E:E,MATCH(ROW($A5),DB!$U:$U,0)),"") -> 0.07 | CH9: =IFERROR(INDEX(DB!F:F,MATCH(ROW($A5),DB!$U:$U,0)),"") -> MASCULIN | CI9: =IFERROR(INDEX(DB!G:G,MATCH(ROW($A5),DB!$U:$U,0)),"") -> EDT | CJ9: =IFERROR(INDEX(DB!H:H,MATCH(ROW($A5),DB!$U:$U,0)),"") -> Dior | CK9: =IFERROR(INDEX(DB!I:I,MATCH(ROW($A5),DB!$U:$U,0)),"") -> Dior Homme EDT 125 ml | CL9: =IFERROR(INDEX(DB!J:J,MATCH(ROW($A5),DB!$U:$U,0)),"") -> 1.25 | CM9: =IFERROR(INDEX(DB!K:K,MATCH(ROW($A5),DB!$U:$U,0)),"") -> 125 | CN9: =IFERROR(INDEX(DB!L:L,MATCH(ROW($A5),DB!$U:$U,0)),"") -> N/A | CO9: =IFERROR(INDEX(DB!M:M,MATCH(ROW($A5),DB!$U:$U,0)),"") -> 0 | CP9: =IFERROR(INDEX(DB!N:N,MATCH(ROW($A5),DB!$U:$U,0)),"") -> 0 | CQ9: =IFERROR(INDEX(DB!O:O,MATCH(ROW($A5),DB!$U:$U,0)),"") | CS9: =IFERROR(INDEX(DB!A:A,MATCH(ROW($A5),DB!$V:$V,0)),"") | CT9: =IFERROR(INDEX(DB!B:B,MATCH(ROW($A5),DB!$V:$V,0)),"") | CU9: =IFERROR(INDEX(DB!C:C,MATCH(ROW($A5),DB!$V:$V,0)),"") | CV9: =IFERROR(INDEX(DB!D:D,MATCH(ROW($A5),DB!$V:$V,0)),"") | CW9: =IFERROR(INDEX(DB!E:E,MATCH(ROW($A5),DB!$V:$V,0)),"") | CX9: =IFERROR(INDEX(DB!F:F,MATCH(ROW($A5),DB!$V:$V,0)),"") | CY9: =IFERROR(INDEX(DB!G:G,MATCH(ROW($A5),DB!$V:$V,0)),"") | CZ9: =IFERROR(INDEX(DB!H:H,MATCH(ROW($A5),DB!$V:$V,0)),"") | DA9: =IFERROR(INDEX(DB!I:I,MATCH(ROW($A5),DB!$V:$V,0)),"") | DB9: =IFERROR(INDEX(DB!J:J,MATCH(ROW($A5),DB!$V:$V,0)),"") | DC9: =IFERROR(INDEX(DB!K:K,MATCH(ROW($A5),DB!$V:$V,0)),"") | DD9: =IFERROR(INDEX(DB!L:L,MATCH(ROW($A5),DB!$V:$V,0)),"") | DE9: =IFERROR(INDEX(DB!M:M,MATCH(ROW($A5),DB!$V:$V,0)),"") | DF9: =IFERROR(INDEX(DB!N:N,MATCH(ROW($A5),DB!$V:$V,0)),"") | DG9: =IFERROR(INDEX(DB!O:O,MATCH(ROW($A5),DB!$V:$V,0)),"") | DI9: =IFERROR(INDEX(DB!A:A,MATCH(ROW($A5),DB!$W:$W,0)),"") | DJ9: =IFERROR(INDEX(DB!B:B,MATCH(ROW($A5),DB!$W:$W,0)),"") | DK9: =IFERROR(INDEX(DB!C:C,MATCH(ROW($A5),DB!$W:$W,0)),"") | DL9: =IFERROR(INDEX(DB!D:D,MATCH(ROW($A5),DB!$W:$W,0)),"") | DM9: =IFERROR(INDEX(DB!E:E,MATCH(ROW($A5),DB!$W:$W,0)),"") | DN9: =IFERROR(INDEX(DB!F:F,MATCH(ROW($A5),DB!$W:$W,0)),"") | DO9: =IFERROR(INDEX(DB!G:G,MATCH(ROW($A5),DB!$W:$W,0)),"") | DP9: =IFERROR(INDEX(DB!H:H,MATCH(ROW($A5),DB!$W:$W,0)),"") | DQ9: =IFERROR(INDEX(DB!I:I,MATCH(ROW($A5),DB!$W:$W,0)),"") | DR9: =IFERROR(INDEX(DB!J:J,MATCH(ROW($A5),DB!$W:$W,0)),"") | DS9: =IFERROR(INDEX(DB!K:K,MATCH(ROW($A5),DB!$W:$W,0)),"") | DT9: =IFERROR(INDEX(DB!L:L,MATCH(ROW($A5),DB!$W:$W,0)),"") | DU9: =IFERROR(INDEX(DB!M:M,MATCH(ROW($A5),DB!$W:$W,0)),"") | DV9: =IFERROR(INDEX(DB!N:N,MATCH(ROW($A5),DB!$W:$W,0)),"") | DW9: =IFERROR(INDEX(DB!O:O,MATCH(ROW($A5),DB!$W:$W,0)),"") | DY9: =IFERROR(INDEX(DB!A:A,MATCH(ROW($A5),DB!$X:$X,0)),"") | DZ9: =IFERROR(INDEX(DB!B:B,MATCH(ROW($A5),DB!$X:$X,0)),"") | EA9: =IFERROR(INDEX(DB!C:C,MATCH(ROW($A5),DB!$X:$X,0)),"") | EB9: =IFERROR(INDEX(DB!D:D,MATCH(ROW($A5),DB!$X:$X,0)),"") | EC9: =IFERROR(INDEX(DB!E:E,MATCH(ROW($A5),DB!$X:$X,0)),"") | ED9: =IFERROR(INDEX(DB!F:F,MATCH(ROW($A5),DB!$X:$X,0)),"") | EE9: =IFERROR(INDEX(DB!G:G,MATCH(ROW($A5),DB!$X:$X,0)),"") | EF9: =IFERROR(INDEX(DB!H:H,MATCH(ROW($A5),DB!$X:$X,0)),"") | EG9: =IFERROR(INDEX(DB!I:I,MATCH(ROW($A5),DB!$X:$X,0)),"") | EH9: =IFERROR(INDEX(DB!J:J,MATCH(ROW($A5),DB!$X:$X,0)),"") | EI9: =IFERROR(INDEX(DB!K:K,MATCH(ROW($A5),DB!$X:$X,0)),"") | EJ9: =IFERROR(INDEX(DB!L:L,MATCH(ROW($A5),DB!$X:$X,0)),"") | EK9: =IFERROR(INDEX(DB!M:M,MATCH(ROW($A5),DB!$X:$X,0)),"") | EL9: =IFERROR(INDEX(DB!N:N,MATCH(ROW($A5),DB!$X:$X,0)),"") | EM9: =IFERROR(INDEX(DB!O:O,MATCH(ROW($A5),DB!$X:$X,0)),"") | EO9: =IFERROR(INDEX(DB!A:A,MATCH(ROW($A5),DB!$Y:$Y,0)),"") | EP9: =IFERROR(INDEX(DB!B:B,MATCH(ROW($A5),DB!$Y:$Y,0)),"") | EQ9: =IFERROR(INDEX(DB!C:C,MATCH(ROW($A5),DB!$Y:$Y,0)),"") | ER9: =IFERROR(INDEX(DB!D:D,MATCH(ROW($A5),DB!$Y:$Y,0)),"") | ES9: =IFERROR(INDEX(DB!E:E,MATCH(ROW($A5),DB!$Y:$Y,0)),"") | ET9: =IFERROR(INDEX(DB!F:F,MATCH(ROW($A5),DB!$Y:$Y,0)),"") | EU9: =IFERROR(INDEX(DB!G:G,MATCH(ROW($A5),DB!$Y:$Y,0)),"") | EV9: =IFERROR(INDEX(DB!H:H,MATCH(ROW($A5),DB!$Y:$Y,0)),"") | EW9: =IFERROR(INDEX(DB!I:I,MATCH(ROW($A5),DB!$Y:$Y,0)),"") | EX9: =IFERROR(INDEX(DB!J:J,MATCH(ROW($A5),DB!$Y:$Y,0)),"") | EY9: =IFERROR(INDEX(DB!K:K,MATCH(ROW($A5),DB!$Y:$Y,0)),"") | EZ9: =IFERROR(INDEX(DB!L:L,MATCH(ROW($A5),DB!$Y:$Y,0)),"") | FA9: =IFERROR(INDEX(DB!M:M,MATCH(ROW($A5),DB!$Y:$Y,0)),"") | FB9: =IFERROR(INDEX(DB!N:N,MATCH(ROW($A5),DB!$Y:$Y,0)),"") | FC9: =IFERROR(INDEX(DB!O:O,MATCH(ROW($A5),DB!$Y:$Y,0)),"") | FE9: =IFERROR(INDEX(DB!A:A,MATCH(ROW($A5),DB!$Z:$Z,0)),"") | FF9: =IFERROR(INDEX(DB!B:B,MATCH(ROW($A5),DB!$Z:$Z,0)),"") | FG9: =IFERROR(INDEX(DB!C:C,MATCH(ROW($A5),DB!$Z:$Z,0)),"") | FH9: =IFERROR(INDEX(DB!D:D,MATCH(ROW($A5),DB!$Z:$Z,0)),"") | FI9: =IFERROR(INDEX(DB!E:E,MATCH(ROW($A5),DB!$Z:$Z,0)),"") | FJ9: =IFERROR(INDEX(DB!F:F,MATCH(ROW($A5),DB!$Z:$Z,0)),"") | FK9: =IFERROR(INDEX(DB!G:G,MATCH(ROW($A5),DB!$Z:$Z,0)),"") | FL9: =IFERROR(INDEX(DB!H:H,MATCH(ROW($A5),DB!$Z:$Z,0)),"") | FM9: =IFERROR(INDEX(DB!I:I,MATCH(ROW($A5),DB!$Z:$Z,0)),"") | FN9: =IFERROR(INDEX(DB!J:J,MATCH(ROW($A5),DB!$Z:$Z,0)),"") | FO9: =IFERROR(INDEX(DB!K:K,MATCH(ROW($A5),DB!$Z:$Z,0)),"") | FP9: =IFERROR(INDEX(DB!L:L,MATCH(ROW($A5),DB!$Z:$Z,0)),"") | FQ9: =IFERROR(INDEX(DB!M:M,MATCH(ROW($A5),DB!$Z:$Z,0)),"") | FR9: =IFERROR(INDEX(DB!N:N,MATCH(ROW($A5),DB!$Z:$Z,0)),"") | FS9: =IFERROR(INDEX(DB!O:O,MATCH(ROW($A5),DB!$Z:$Z,0)),"") | FU9: =IFERROR(INDEX(DB!A:A,MATCH(ROW($A5),DB!$AA:$AA,0)),"") | FV9: =IFERROR(INDEX(DB!B:B,MATCH(ROW($A5),DB!$AA:$AA,0)),"") | FW9: =IFERROR(INDEX(DB!C:C,MATCH(ROW($A5),DB!$AA:$AA,0)),"") | FX9: =IFERROR(INDEX(DB!D:D,MATCH(ROW($A5),DB!$AA:$AA,0)),"") | FY9: =IFERROR(INDEX(DB!E:E,MATCH(ROW($A5),DB!$AA:$AA,0)),"") | FZ9: =IFERROR(INDEX(DB!F:F,MATCH(ROW($A5),DB!$AA:$AA,0)),"") | GA9: =IFERROR(INDEX(DB!G:G,MATCH(ROW($A5),DB!$AA:$AA,0)),"") | GB9: =IFERROR(INDEX(DB!H:H,MATCH(ROW($A5),DB!$AA:$AA,0)),"") | GC9: =IFERROR(INDEX(DB!I:I,MATCH(ROW($A5),DB!$AA:$AA,0)),"") | GD9: =IFERROR(INDEX(DB!J:J,MATCH(ROW($A5),DB!$AA:$AA,0)),"") | GE9: =IFERROR(INDEX(DB!K:K,MATCH(ROW($A5),DB!$AA:$AA,0)),"") | GF9: =IFERROR(INDEX(DB!L:L,MATCH(ROW($A5),DB!$AA:$AA,0)),"") | GG9: =IFERROR(INDEX(DB!M:M,MATCH(ROW($A5),DB!$AA:$AA,0)),"") | GH9: =IFERROR(INDEX(DB!N:N,MATCH(ROW($A5),DB!$AA:$AA,0)),"") | GI9: =IFERROR(INDEX(DB!O:O,MATCH(ROW($A5),DB!$AA:$AA,0)),"") | GK9: =IFERROR(INDEX(DB!A:A,MATCH(ROW($A5),DB!$AB:$AB,0)),"") | GL9: =IFERROR(INDEX(DB!B:B,MATCH(ROW($A5),DB!$AB:$AB,0)),"") | GM9: =IFERROR(INDEX(DB!C:C,MATCH(ROW($A5),DB!$AB:$AB,0)),"") | GN9: =IFERROR(INDEX(DB!D:D,MATCH(ROW($A5),DB!$AB:$AB,0)),"") | GO9: =IFERROR(INDEX(DB!E:E,MATCH(ROW($A5),DB!$AB:$AB,0)),"") | GP9: =IFERROR(INDEX(DB!F:F,MATCH(ROW($A5),DB!$AB:$AB,0)),"") | GQ9: =IFERROR(INDEX(DB!G:G,MATCH(ROW($A5),DB!$AB:$AB,0)),"") | GR9: =IFERROR(INDEX(DB!H:H,MATCH(ROW($A5),DB!$AB:$AB,0)),"") | GS9: =IFERROR(INDEX(DB!I:I,MATCH(ROW($A5),DB!$AB:$AB,0)),"") | GT9: =IFERROR(INDEX(DB!J:J,MATCH(ROW($A5),DB!$AB:$AB,0)),"") | GU9: =IFERROR(INDEX(DB!K:K,MATCH(ROW($A5),DB!$AB:$AB,0)),"") | GV9: =IFERROR(INDEX(DB!L:L,MATCH(ROW($A5),DB!$AB:$AB,0)),"") | GW9: =IFERROR(INDEX(DB!M:M,MATCH(ROW($A5),DB!$AB:$AB,0)),"") | GX9: =IFERROR(INDEX(DB!N:N,MATCH(ROW($A5),DB!$AB:$AB,0)),"") | GY9: =IFERROR(INDEX(DB!O:O,MATCH(ROW($A5),DB!$AB:$AB,0)),"") | HA9: =IFERROR(INDEX(DB!A:A,MATCH(ROW($A5),DB!$AC:$AC,0)),"") | HB9: =IFERROR(INDEX(DB!B:B,MATCH(ROW($A5),DB!$AC:$AC,0)),"") | HC9: =IFERROR(INDEX(DB!C:C,MATCH(ROW($A5),DB!$AC:$AC,0)),"") | HD9: =IFERROR(INDEX(DB!D:D,MATCH(ROW($A5),DB!$AC:$AC,0)),"") | HE9: =IFERROR(INDEX(DB!E:E,MATCH(ROW($A5),DB!$AC:$AC,0)),"") | HF9: =IFERROR(INDEX(DB!F:F,MATCH(ROW($A5),DB!$AC:$AC,0)),"") | HG9: =IFERROR(INDEX(DB!G:G,MATCH(ROW($A5),DB!$AC:$AC,0)),"") | HH9: =IFERROR(INDEX(DB!H:H,MATCH(ROW($A5),DB!$AC:$AC,0)),"") | HI9: =IFERROR(INDEX(DB!I:I,MATCH(ROW($A5),DB!$AC:$AC,0)),"") | HJ9: =IFERROR(INDEX(DB!J:J,MATCH(ROW($A5),DB!$AC:$AC,0)),"") | HK9: =IFERROR(INDEX(DB!K:K,MATCH(ROW($A5),DB!$AC:$AC,0)),"") | HL9: =IFERROR(INDEX(DB!L:L,MATCH(ROW($A5),DB!$AC:$AC,0)),"") | HM9: =IFERROR(INDEX(DB!M:M,MATCH(ROW($A5),DB!$AC:$AC,0)),"") | HN9: =IFERROR(INDEX(DB!N:N,MATCH(ROW($A5),DB!$AC:$AC,0)),"") | HO9: =IFERROR(INDEX(DB!O:O,MATCH(ROW($A5),DB!$AC:$AC,0)),"")
A10: =IFERROR(INDEX(DB!A:A,MATCH(ROW($A6),DB!$P:$P,0)),"") -> 24578 | B10: =IFERROR(INDEX(DB!B:B,MATCH(ROW($A6),DB!$P:$P,0)),"") -> PANAMA | C10: =IFERROR(INDEX(DB!C:C,MATCH(ROW($A6),DB!$P:$P,0)),"") -> Local Market | D10: =IFERROR(INDEX(DB!D:D,MATCH(ROW($A6),DB!$P:$P,0)),"") -> BALBOA (SAME AS US DOLLAR) | E10: =IFERROR(INDEX(DB!E:E,MATCH(ROW($A6),DB!$P:$P,0)),"") -> 0.07 | F10: =IFERROR(INDEX(DB!F:F,MATCH(ROW($A6),DB!$P:$P,0)),"") -> MASCULIN | G10: =IFERROR(INDEX(DB!G:G,MATCH(ROW($A6),DB!$P:$P,0)),"") -> EDP | H10: =IFERROR(INDEX(DB!H:H,MATCH(ROW($A6),DB!$P:$P,0)),"") -> HERMES | I10: =IFERROR(INDEX(DB!I:I,MATCH(ROW($A6),DB!$P:$P,0)),"") -> TDH PP VAP 75ML | J10: =IFERROR(INDEX(DB!J:J,MATCH(ROW($A6),DB!$P:$P,0)),"") -> 0.75 | K10: =IFERROR(INDEX(DB!K:K,MATCH(ROW($A6),DB!$P:$P,0)),"") -> 75 | L10: =IFERROR(INDEX(DB!L:L,MATCH(ROW($A6),DB!$P:$P,0)),"") -> 122 | M10: =IFERROR(INDEX(DB!M:M,MATCH(ROW($A6),DB!$P:$P,0)),"") -> 0 | N10: =IFERROR(INDEX(DB!N:N,MATCH(ROW($A6),DB!$P:$P,0)),"") -> 0 | O10: =IFERROR(INDEX(DB!O:O,MATCH(ROW($A6),DB!$P:$P,0)),"") -> 0 | Q10: =IFERROR(INDEX(DB!A:A,MATCH(ROW($A6),DB!$Q:$Q,0)),"") | R10: =IFERROR(INDEX(DB!B:B,MATCH(ROW($A6),DB!$Q:$Q,0)),"") | S10: =IFERROR(INDEX(DB!C:C,MATCH(ROW($A6),DB!$Q:$Q,0)),"") | T10: =IFERROR(INDEX(DB!D:D,MATCH(ROW($A6),DB!$Q:$Q,0)),"") | U10: =IFERROR(INDEX(DB!E:E,MATCH(ROW($A6),DB!$Q:$Q,0)),"") | V10: =IFERROR(INDEX(DB!F:F,MATCH(ROW($A6),DB!$Q:$Q,0)),"") | W10: =IFERROR(INDEX(DB!G:G,MATCH(ROW($A6),DB!$Q:$Q,0)),"") | X10: =IFERROR(INDEX(DB!H:H,MATCH(ROW($A6),DB!$Q:$Q,0)),"") | Y10: =IFERROR(INDEX(DB!I:I,MATCH(ROW($A6),DB!$Q:$Q,0)),"") | Z10: =IFERROR(INDEX(DB!J:J,MATCH(ROW($A6),DB!$Q:$Q,0)),"") | AA10: =IFERROR(INDEX(DB!K:K,MATCH(ROW($A6),DB!$Q:$Q,0)),"") | AB10: =IFERROR(INDEX(DB!L:L,MATCH(ROW($A6),DB!$Q:$Q,0)),"") | AC10: =IFERROR(INDEX(DB!M:M,MATCH(ROW($A6),DB!$Q:$Q,0)),"") | AD10: =IFERROR(INDEX(DB!N:N,MATCH(ROW($A6),DB!$Q:$Q,0)),"") | AE10: =IFERROR(INDEX(DB!O:O,MATCH(ROW($A6),DB!$Q:$Q,0)),"") | AG10: =IFERROR(INDEX(DB!A:A,MATCH(ROW($A6),DB!$R:$R,0)),"") | AH10: =IFERROR(INDEX(DB!B:B,MATCH(ROW($A6),DB!$R:$R,0)),"") | AI10: =IFERROR(INDEX(DB!C:C,MATCH(ROW($A6),DB!$R:$R,0)),"") | AJ10: =IFERROR(INDEX(DB!D:D,MATCH(ROW($A6),DB!$R:$R,0)),"") | AK10: =IFERROR(INDEX(DB!E:E,MATCH(ROW($A6),DB!$R:$R,0)),"") | AL10: =IFERROR(INDEX(DB!F:F,MATCH(ROW($A6),DB!$R:$R,0)),"") | AM10: =IFERROR(INDEX(DB!G:G,MATCH(ROW($A6),DB!$R:$R,0)),"") | AN10: =IFERROR(INDEX(DB!H:H,MATCH(ROW($A6),DB!$R:$R,0)),"") | AO10: =IFERROR(INDEX(DB!I:I,MATCH(ROW($A6),DB!$R:$R,0)),"") | AP10: =IFERROR(INDEX(DB!J:J,MATCH(ROW($A6),DB!$R:$R,0)),"") | AQ10: =IFERROR(INDEX(DB!K:K,MATCH(ROW($A6),DB!$R:$R,0)),"") | AR10: =IFERROR(INDEX(DB!L:L,MATCH(ROW($A6),DB!$R:$R,0)),"") | AS10: =IFERROR(INDEX(DB!M:M,MATCH(ROW($A6),DB!$R:$R,0)),"") | AT10: =IFERROR(INDEX(DB!N:N,MATCH(ROW($A6),DB!$R:$R,0)),"") | AU10: =IFERROR(INDEX(DB!O:O,MATCH(ROW($A6),DB!$R:$R,0)),"") | AW10: =IFERROR(INDEX(DB!A:A,MATCH(ROW($A6),DB!$S:$S,0)),"") | AX10: =IFERROR(INDEX(DB!B:B,MATCH(ROW($A6),DB!$S:$S,0)),"") | AY10: =IFERROR(INDEX(DB!C:C,MATCH(ROW($A6),DB!$S:$S,0)),"") | AZ10: =IFERROR(INDEX(DB!D:D,MATCH(ROW($A6),DB!$S:$S,0)),"") | BA10: =IFERROR(INDEX(DB!E:E,MATCH(ROW($A6),DB!$S:$S,0)),"") | BB10: =IFERROR(INDEX(DB!F:F,MATCH(ROW($A6),DB!$S:$S,0)),"") | BC10: =IFERROR(INDEX(DB!G:G,MATCH(ROW($A6),DB!$S:$S,0)),"") | BD10: =IFERROR(INDEX(DB!H:H,MATCH(ROW($A6),DB!$S:$S,0)),"") | BE10: =IFERROR(INDEX(DB!I:I,MATCH(ROW($A6),DB!$S:$S,0)),"") | BF10: =IFERROR(INDEX(DB!J:J,MATCH(ROW($A6),DB!$S:$S,0)),"") | BG10: =IFERROR(INDEX(DB!K:K,MATCH(ROW($A6),DB!$S:$S,0)),"") | BH10: =IFERROR(INDEX(DB!L:L,MATCH(ROW($A6),DB!$S:$S,0)),"") | BI10: =IFERROR(INDEX(DB!M:M,MATCH(ROW($A6),DB!$S:$S,0)),"") | BJ10: =IFERROR(INDEX(DB!N:N,MATCH(ROW($A6),DB!$S:$S,0)),"") | BK10: =IFERROR(INDEX(DB!O:O,MATCH(ROW($A6),DB!$S:$S,0)),"") | BM10: =IFERROR(INDEX(DB!A:A,MATCH(ROW($A6),DB!$T:$T,0)),"") -> 0 | BN10: =IFERROR(INDEX(DB!B:B,MATCH(ROW($A6),DB!$T:$T,0)),"") -> PANAMA | BO10: =IFERROR(INDEX(DB!C:C,MATCH(ROW($A6),DB!$T:$T,0)),"") -> Local Market | BP10: =IFERROR(INDEX(DB!D:D,MATCH(ROW($A6),DB!$T:$T,0)),"") -> BALBOA (SAME AS US DOLLAR) | BQ10: =IFERROR(INDEX(DB!E:E,MATCH(ROW($A6),DB!$T:$T,0)),"") -> 0.07 | BR10: =IFERROR(INDEX(DB!F:F,MATCH(ROW($A6),DB!$T:$T,0)),"") -> MASCULIN | BS10: =IFERROR(INDEX(DB!G:G,MATCH(ROW($A6),DB!$T:$T,0)),"") -> EDT | BT10: =IFERROR(INDEX(DB!H:H,MATCH(ROW($A6),DB!$T:$T,0)),"") -> Chanel | BU10: =IFERROR(INDEX(DB!I:I,MATCH(ROW($A6),DB!$T:$T,0)),"") -> Allure EDT 100ml | BV10: =IFERROR(INDEX(DB!J:J,MATCH(ROW($A6),DB!$T:$T,0)),"") -> 1 | BW10: =IFERROR(INDEX(DB!K:K,MATCH(ROW($A6),DB!$T:$T,0)),"") -> 100 | BX10: =IFERROR(INDEX(DB!L:L,MATCH(ROW($A6),DB!$T:$T,0)),"") -> 109 | BY10: =IFERROR(INDEX(DB!M:M,MATCH(ROW($A6),DB!$T:$T,0)),"") -> 0 | BZ10: =IFERROR(INDEX(DB!N:N,MATCH(ROW($A6),DB!$T:$T,0)),"") -> 0 | CA10: =IFERROR(INDEX(DB!O:O,MATCH(ROW($A6),DB!$T:$T,0)),"") -> 109 | CC10: =IFERROR(INDEX(DB!A:A,MATCH(ROW($A6),DB!$U:$U,0)),"") -> 0 | CD10: =IFERROR(INDEX(DB!B:B,MATCH(ROW($A6),DB!$U:$U,0)),"") -> PANAMA | CE10: =IFERROR(INDEX(DB!C:C,MATCH(ROW($A6),DB!$U:$U,0)),"") -> Local Market | CF10: =IFERROR(INDEX(DB!D:D,MATCH(ROW($A6),DB!$U:$U,0)),"") -> BALBOA (SAME AS US DOLLAR) | CG10: =IFERROR(INDEX(DB!E:E,MATCH(ROW($A6),DB!$U:$U,0)),"") -> 0.07 | CH10: =IFERROR(INDEX(DB!F:F,MATCH(ROW($A6),DB!$U:$U,0)),"") -> MASCULIN | CI10: =IFERROR(INDEX(DB!G:G,MATCH(ROW($A6),DB!$U:$U,0)),"") -> EDT | CJ10: =IFERROR(INDEX(DB!H:H,MATCH(ROW($A6),DB!$U:$U,0)),"") -> Dior | CK10: =IFERROR(INDEX(DB!I:I,MATCH(ROW($A6),DB!$U:$U,0)),"") -> Dior Homme EDT 100ml | CL10: =IFERROR(INDEX(DB!J:J,MATCH(ROW($A6),DB!$U:$U,0)),"") -> 1 | CM10: =IFERROR(INDEX(DB!K:K,MATCH(ROW($A6),DB!$U:$U,0)),"") -> 100 | CN10: =IFERROR(INDEX(DB!L:L,MATCH(ROW($A6),DB!$U:$U,0)),"") -> 100 | CO10: =IFERROR(INDEX(DB!M:M,MATCH(ROW($A6),DB!$U:$U,0)),"") -> 0 | CP10: =IFERROR(INDEX(DB!N:N,MATCH(ROW($A6),DB!$U:$U,0)),"") -> 0 | CQ10: =IFERROR(INDEX(DB!O:O,MATCH(ROW($A6),DB!$U:$U,0)),"") -> 100 | CS10: =IFERROR(INDEX(DB!A:A,MATCH(ROW($A6),DB!$V:$V,0)),"") | CT10: =IFERROR(INDEX(DB!B:B,MATCH(ROW($A6),DB!$V:$V,0)),"") | CU10: =IFERROR(INDEX(DB!C:C,MATCH(ROW($A6),DB!$V:$V,0)),"") | CV10: =IFERROR(INDEX(DB!D:D,MATCH(ROW($A6),DB!$V:$V,0)),"") | CW10: =IFERROR(INDEX(DB!E:E,MATCH(ROW($A6),DB!$V:$V,0)),"") | CX10: =IFERROR(INDEX(DB!F:F,MATCH(ROW($A6),DB!$V:$V,0)),"") | CY10: =IFERROR(INDEX(DB!G:G,MATCH(ROW($A6),DB!$V:$V,0)),"") | CZ10: =IFERROR(INDEX(DB!H:H,MATCH(ROW($A6),DB!$V:$V,0)),"") | DA10: =IFERROR(INDEX(DB!I:I,MATCH(ROW($A6),DB!$V:$V,0)),"") | DB10: =IFERROR(INDEX(DB!J:J,MATCH(ROW($A6),DB!$V:$V,0)),"") | DC10: =IFERROR(INDEX(DB!K:K,MATCH(ROW($A6),DB!$V:$V,0)),"") | DD10: =IFERROR(INDEX(DB!L:L,MATCH(ROW($A6),DB!$V:$V,0)),"") | DE10: =IFERROR(INDEX(DB!M:M,MATCH(ROW($A6),DB!$V:$V,0)),"") | DF10: =IFERROR(INDEX(DB!N:N,MATCH(ROW($A6),DB!$V:$V,0)),"") | DG10: =IFERROR(INDEX(DB!O:O,MATCH(ROW($A6),DB!$V:$V,0)),"") | DI10: =IFERROR(INDEX(DB!A:A,MATCH(ROW($A6),DB!$W:$W,0)),"") | DJ10: =IFERROR(INDEX(DB!B:B,MATCH(ROW($A6),DB!$W:$W,0)),"") | DK10: =IFERROR(INDEX(DB!C:C,MATCH(ROW($A6),DB!$W:$W,0)),"") | DL10: =IFERROR(INDEX(DB!D:D,MATCH(ROW($A6),DB!$W:$W,0)),"") | DM10: =IFERROR(INDEX(DB!E:E,MATCH(ROW($A6),DB!$W:$W,0)),"") | DN10: =IFERROR(INDEX(DB!F:F,MATCH(ROW($A6),DB!$W:$W,0)),"") | DO10: =IFERROR(INDEX(DB!G:G,MATCH(ROW($A6),DB!$W:$W,0)),"") | DP10: =IFERROR(INDEX(DB!H:H,MATCH(ROW($A6),DB!$W:$W,0)),"") | DQ10: =IFERROR(INDEX(DB!I:I,MATCH(ROW($A6),DB!$W:$W,0)),"") | DR10: =IFERROR(INDEX(DB!J:J,MATCH(ROW($A6),DB!$W:$W,0)),"") | DS10: =IFERROR(INDEX(DB!K:K,MATCH(ROW($A6),DB!$W:$W,0)),"") | DT10: =IFERROR(INDEX(DB!L:L,MATCH(ROW($A6),DB!$W:$W,0)),"") | DU10: =IFERROR(INDEX(DB!M:M,MATCH(ROW($A6),DB!$W:$W,0)),"") | DV10: =IFERROR(INDEX(DB!N:N,MATCH(ROW($A6),DB!$W:$W,0)),"") | DW10: =IFERROR(INDEX(DB!O:O,MATCH(ROW($A6),DB!$W:$W,0)),"") | DY10: =IFERROR(INDEX(DB!A:A,MATCH(ROW($A6),DB!$X:$X,0)),"") | DZ10: =IFERROR(INDEX(DB!B:B,MATCH(ROW($A6),DB!$X:$X,0)),"") | EA10: =IFERROR(INDEX(DB!C:C,MATCH(ROW($A6),DB!$X:$X,0)),"") | EB10: =IFERROR(INDEX(DB!D:D,MATCH(ROW($A6),DB!$X:$X,0)),"") | EC10: =IFERROR(INDEX(DB!E:E,MATCH(ROW($A6),DB!$X:$X,0)),"") | ED10: =IFERROR(INDEX(DB!F:F,MATCH(ROW($A6),DB!$X:$X,0)),"") | EE10: =IFERROR(INDEX(DB!G:G,MATCH(ROW($A6),DB!$X:$X,0)),"") | EF10: =IFERROR(INDEX(DB!H:H,MATCH(ROW($A6),DB!$X:$X,0)),"") | EG10: =IFERROR(INDEX(DB!I:I,MATCH(ROW($A6),DB!$X:$X,0)),"") | EH10: =IFERROR(INDEX(DB!J:J,MATCH(ROW($A6),DB!$X:$X,0)),"") | EI10: =IFERROR(INDEX(DB!K:K,MATCH(ROW($A6),DB!$X:$X,0)),"") | EJ10: =IFERROR(INDEX(DB!L:L,MATCH(ROW($A6),DB!$X:$X,0)),"") | EK10: =IFERROR(INDEX(DB!M:M,MATCH(ROW($A6),DB!$X:$X,0)),"") | EL10: =IFERROR(INDEX(DB!N:N,MATCH(ROW($A6),DB!$X:$X,0)),"") | EM10: =IFERROR(INDEX(DB!O:O,MATCH(ROW($A6),DB!$X:$X,0)),"") | EO10: =IFERROR(INDEX(DB!A:A,MATCH(ROW($A6),DB!$Y:$Y,0)),"") | EP10: =IFERROR(INDEX(DB!B:B,MATCH(ROW($A6),DB!$Y:$Y,0)),"") | EQ10: =IFERROR(INDEX(DB!C:C,MATCH(ROW($A6),DB!$Y:$Y,0)),"") | ER10: =IFERROR(INDEX(DB!D:D,MATCH(ROW($A6),DB!$Y:$Y,0)),"") | ES10: =IFERROR(INDEX(DB!E:E,MATCH(ROW($A6),DB!$Y:$Y,0)),"") | ET10: =IFERROR(INDEX(DB!F:F,MATCH(ROW($A6),DB!$Y:$Y,0)),"") | EU10: =IFERROR(INDEX(DB!G:G,MATCH(ROW($A6),DB!$Y:$Y,0)),"") | EV10: =IFERROR(INDEX(DB!H:H,MATCH(ROW($A6),DB!$Y:$Y,0)),"") | EW10: =IFERROR(INDEX(DB!I:I,MATCH(ROW($A6),DB!$Y:$Y,0)),"") | EX10: =IFERROR(INDEX(DB!J:J,MATCH(ROW($A6),DB!$Y:$Y,0)),"") | EY10: =IFERROR(INDEX(DB!K:K,MATCH(ROW($A6),DB!$Y:$Y,0)),"") | EZ10: =IFERROR(INDEX(DB!L:L,MATCH(ROW($A6),DB!$Y:$Y,0)),"") | FA10: =IFERROR(INDEX(DB!M:M,MATCH(ROW($A6),DB!$Y:$Y,0)),"") | FB10: =IFERROR(INDEX(DB!N:N,MATCH(ROW($A6),DB!$Y:$Y,0)),"") | FC10: =IFERROR(INDEX(DB!O:O,MATCH(ROW($A6),DB!$Y:$Y,0)),"") | FE10: =IFERROR(INDEX(DB!A:A,MATCH(ROW($A6),DB!$Z:$Z,0)),"") | FF10: =IFERROR(INDEX(DB!B:B,MATCH(ROW($A6),DB!$Z:$Z,0)),"") | FG10: =IFERROR(INDEX(DB!C:C,MATCH(ROW($A6),DB!$Z:$Z,0)),"") | FH10: =IFERROR(INDEX(DB!D:D,MATCH(ROW($A6),DB!$Z:$Z,0)),"") | FI10: =IFERROR(INDEX(DB!E:E,MATCH(ROW($A6),DB!$Z:$Z,0)),"") | FJ10: =IFERROR(INDEX(DB!F:F,MATCH(ROW($A6),DB!$Z:$Z,0)),"") | FK10: =IFERROR(INDEX(DB!G:G,MATCH(ROW($A6),DB!$Z:$Z,0)),"") | FL10: =IFERROR(INDEX(DB!H:H,MATCH(ROW($A6),DB!$Z:$Z,0)),"") | FM10: =IFERROR(INDEX(DB!I:I,MATCH(ROW($A6),DB!$Z:$Z,0)),"") | FN10: =IFERROR(INDEX(DB!J:J,MATCH(ROW($A6),DB!$Z:$Z,0)),"") | FO10: =IFERROR(INDEX(DB!K:K,MATCH(ROW($A6),DB!$Z:$Z,0)),"") | FP10: =IFERROR(INDEX(DB!L:L,MATCH(ROW($A6),DB!$Z:$Z,0)),"") | FQ10: =IFERROR(INDEX(DB!M:M,MATCH(ROW($A6),DB!$Z:$Z,0)),"") | FR10: =IFERROR(INDEX(DB!N:N,MATCH(ROW($A6),DB!$Z:$Z,0)),"") | FS10: =IFERROR(INDEX(DB!O:O,MATCH(ROW($A6),DB!$Z:$Z,0)),"") | FU10: =IFERROR(INDEX(DB!A:A,MATCH(ROW($A6),DB!$AA:$AA,0)),"") | FV10: =IFERROR(INDEX(DB!B:B,MATCH(ROW($A6),DB!$AA:$AA,0)),"") | FW10: =IFERROR(INDEX(DB!C:C,MATCH(ROW($A6),DB!$AA:$AA,0)),"") | FX10: =IFERROR(INDEX(DB!D:D,MATCH(ROW($A6),DB!$AA:$AA,0)),"") | FY10: =IFERROR(INDEX(DB!E:E,MATCH(ROW($A6),DB!$AA:$AA,0)),"") | FZ10: =IFERROR(INDEX(DB!F:F,MATCH(ROW($A6),DB!$AA:$AA,0)),"") | GA10: =IFERROR(INDEX(DB!G:G,MATCH(ROW($A6),DB!$AA:$AA,0)),"") | GB10: =IFERROR(INDEX(DB!H:H,MATCH(ROW($A6),DB!$AA:$AA,0)),"") | GC10: =IFERROR(INDEX(DB!I:I,MATCH(ROW($A6),DB!$AA:$AA,0)),"") | GD10: =IFERROR(INDEX(DB!J:J,MATCH(ROW($A6),DB!$AA:$AA,0)),"") | GE10: =IFERROR(INDEX(DB!K:K,MATCH(ROW($A6),DB!$AA:$AA,0)),"") | GF10: =IFERROR(INDEX(DB!L:L,MATCH(ROW($A6),DB!$AA:$AA,0)),"") | GG10: =IFERROR(INDEX(DB!M:M,MATCH(ROW($A6),DB!$AA:$AA,0)),"") | GH10: =IFERROR(INDEX(DB!N:N,MATCH(ROW($A6),DB!$AA:$AA,0)),"") | GI10: =IFERROR(INDEX(DB!O:O,MATCH(ROW($A6),DB!$AA:$AA,0)),"") | GK10: =IFERROR(INDEX(DB!A:A,MATCH(ROW($A6),DB!$AB:$AB,0)),"") | GL10: =IFERROR(INDEX(DB!B:B,MATCH(ROW($A6),DB!$AB:$AB,0)),"") | GM10: =IFERROR(INDEX(DB!C:C,MATCH(ROW($A6),DB!$AB:$AB,0)),"") | GN10: =IFERROR(INDEX(DB!D:D,MATCH(ROW($A6),DB!$AB:$AB,0)),"") | GO10: =IFERROR(INDEX(DB!E:E,MATCH(ROW($A6),DB!$AB:$AB,0)),"") | GP10: =IFERROR(INDEX(DB!F:F,MATCH(ROW($A6),DB!$AB:$AB,0)),"") | GQ10: =IFERROR(INDEX(DB!G:G,MATCH(ROW($A6),DB!$AB:$AB,0)),"") | GR10: =IFERROR(INDEX(DB!H:H,MATCH(ROW($A6),DB!$AB:$AB,0)),"") | GS10: =IFERROR(INDEX(DB!I:I,MATCH(ROW($A6),DB!$AB:$AB,0)),"") | GT10: =IFERROR(INDEX(DB!J:J,MATCH(ROW($A6),DB!$AB:$AB,0)),"") | GU10: =IFERROR(INDEX(DB!K:K,MATCH(ROW($A6),DB!$AB:$AB,0)),"") | GV10: =IFERROR(INDEX(DB!L:L,MATCH(ROW($A6),DB!$AB:$AB,0)),"") | GW10: =IFERROR(INDEX(DB!M:M,MATCH(ROW($A6),DB!$AB:$AB,0)),"") | GX10: =IFERROR(INDEX(DB!N:N,MATCH(ROW($A6),DB!$AB:$AB,0)),"") | GY10: =IFERROR(INDEX(DB!O:O,MATCH(ROW($A6),DB!$AB:$AB,0)),"") | HA10: =IFERROR(INDEX(DB!A:A,MATCH(ROW($A6),DB!$AC:$AC,0)),"") | HB10: =IFERROR(INDEX(DB!B:B,MATCH(ROW($A6),DB!$AC:$AC,0)),"") | HC10: =IFERROR(INDEX(DB!C:C,MATCH(ROW($A6),DB!$AC:$AC,0)),"") | HD10: =IFERROR(INDEX(DB!D:D,MATCH(ROW($A6),DB!$AC:$AC,0)),"") | HE10: =IFERROR(INDEX(DB!E:E,MATCH(ROW($A6),DB!$AC:$AC,0)),"") | HF10: =IFERROR(INDEX(DB!F:F,MATCH(ROW($A6),DB!$AC:$AC,0)),"") | HG10: =IFERROR(INDEX(DB!G:G,MATCH(ROW($A6),DB!$AC:$AC,0)),"") | HH10: =IFERROR(INDEX(DB!H:H,MATCH(ROW($A6),DB!$AC:$AC,0)),"") | HI10: =IFERROR(INDEX(DB!I:I,MATCH(ROW($A6),DB!$AC:$AC,0)),"") | HJ10: =IFERROR(INDEX(DB!J:J,MATCH(ROW($A6),DB!$AC:$AC,0)),"") | HK10: =IFERROR(INDEX(DB!K:K,MATCH(ROW($A6),DB!$AC:$AC,0)),"") | HL10: =IFERROR(INDEX(DB!L:L,MATCH(ROW($A6),DB!$AC:$AC,0)),"") | HM10: =IFERROR(INDEX(DB!M:M,MATCH(ROW($A6),DB!$AC:$AC,0)),"") | HN10: =IFERROR(INDEX(DB!N:N,MATCH(ROW($A6),DB!$AC:$AC,0)),"") | HO10: =IFERROR(INDEX(DB!O:O,MATCH(ROW($A6),DB!$AC:$AC,0)),"")
