Workbook

Sheet General
A1: Adherent | B1: telephone | C1: mail | D1: Date d'adhesion | E1: expo | F1: atelier | G1: stage | H1: services
K2: =IF(E:E=1,L2=3) -> FALSE
A3: Daniel Pezeril | B3: 644081800 | D3: 42770 | E3: 1 | F3: 1 | G3: 1 | H3: 1
A4: Costa Ledormeur | D4: 42770 | F4: 1 | G4: 1 | H4: 1
A5: Adrien Testas | B5: 789200542 | C5: adrien.testas@live.fr | D5: 42770 | E5: 1 | F5: 1 | G5: 1 | H5: 1
A6: NEJ | B6: 11111 | C6: 1111 | G6: 1 | H6: 1
A7: MODRI | B7: 22222 | C7: 22222 | H7: 1
A8: ROMAIN | B8: 22222 | C8: 2222 | F8: 1 | H8: 1

Sheet Expo
A1: INTERESSE POUR EXPO : | C1: NOM | E1: MAIL | G1: TELEPHONE
C3: {=IF(ROWS($1:1)<=COUNTIF(General!$G$3:$G$103,1),INDEX(General!$A$3:$A$103,SMALL(IF(General!$G$3:$G$103=1,ROW(INDIRECT("1:"&ROWS(General!$A$3:$A$103)))),ROWS($1:1))),"")} -> Daniel Pezeril | E3: =IFERROR(INDEX(General!$C$3:$C$103,MATCH(C3,General!$A$3:$A$103,0)),"") -> 0 | G3: =IFERROR(INDEX(General!$B$3:$B$103,MATCH(C3,General!$A$3:$A$103,0)),"") -> 644081800
C4: {=IF(ROWS($1:2)<=COUNTIF(General!$G$3:$G$103,1),INDEX(General!$A$3:$A$103,SMALL(IF(General!$G$3:$G$103=1,ROW(INDIRECT("1:"&ROWS(General!$A$3:$A$103)))),ROWS($1:2))),"")} -> Costa Ledormeur | E4: =IFERROR(INDEX(General!$C$3:$C$103,MATCH(C4,General!$A$3:$A$103,0)),"") -> 0 | G4: =IFERROR(INDEX(General!$B$3:$B$103,MATCH(C4,General!$A$3:$A$103,0)),"") -> 0
C5: {=IF(ROWS($1:3)<=COUNTIF(General!$G$3:$G$103,1),INDEX(General!$A$3:$A$103,SMALL(IF(General!$G$3:$G$103=1,ROW(INDIRECT("1:"&ROWS(General!$A$3:$A$103)))),ROWS($1:3))),"")} -> Adrien Testas | E5: =IFERROR(INDEX(General!$C$3:$C$103,MATCH(C5,General!$A$3:$A$103,0)),"") -> adrien.testas@live.fr | G5: =IFERROR(INDEX(General!$B$3:$B$103,MATCH(C5,General!$A$3:$A$103,0)),"") -> 789200542
C6: {=IF(ROWS($1:4)<=COUNTIF(General!$G$3:$G$103,1),INDEX(General!$A$3:$A$103,SMALL(IF(General!$G$3:$G$103=1,ROW(INDIRECT("1:"&ROWS(General!$A$3:$A$103)))),ROWS($1:4))),"")} -> NEJ | E6: =IFERROR(INDEX(General!$C$3:$C$103,MATCH(C6,General!$A$3:$A$103,0)),"") -> 1111 | G6: =IFERROR(INDEX(General!$B$3:$B$103,MATCH(C6,General!$A$3:$A$103,0)),"") -> 11111
C7: {=IF(ROWS($1:5)<=COUNTIF(General!$G$3:$G$103,1),INDEX(General!$A$3:$A$103,SMALL(IF(General!$G$3:$G$103=1,ROW(INDIRECT("1:"&ROWS(General!$A$3:$A$103)))),ROWS($1:5))),"")} | E7: =IFERROR(INDEX(General!$C$3:$C$103,MATCH(C7,General!$A$3:$A$103,0)),"") | G7: =IFERROR(INDEX(General!$B$3:$B$103,MATCH(C7,General!$A$3:$A$103,0)),"")
C8: {=IF(ROWS($1:6)<=COUNTIF(General!$G$3:$G$103,1),INDEX(General!$A$3:$A$103,SMALL(IF(General!$G$3:$G$103=1,ROW(INDIRECT("1:"&ROWS(General!$A$3:$A$103)))),ROWS($1:6))),"")} | E8: =IFERROR(INDEX(General!$C$3:$C$103,MATCH(C8,General!$A$3:$A$103,0)),"") | G8: =IFERROR(INDEX(General!$B$3:$B$103,MATCH(C8,General!$A$3:$A$103,0)),"")
C9: {=IF(ROWS($1:7)<=COUNTIF(General!$G$3:$G$103,1),INDEX(General!$A$3:$A$103,SMALL(IF(General!$G$3:$G$103=1,ROW(INDIRECT("1:"&ROWS(General!$A$3:$A$103)))),ROWS($1:7))),"")} | E9: =IFERROR(INDEX(General!$C$3:$C$103,MATCH(C9,General!$A$3:$A$103,0)),"") | G9: =IFERROR(INDEX(General!$B$3:$B$103,MATCH(C9,General!$A$3:$A$103,0)),"")
C10: {=IF(ROWS($1:8)<=COUNTIF(General!$G$3:$G$103,1),INDEX(General!$A$3:$A$103,SMALL(IF(General!$G$3:$G$103=1,ROW(INDIRECT("1:"&ROWS(General!$A$3:$A$103)))),ROWS($1:8))),"")} | E10: =IFERROR(INDEX(General!$C$3:$C$103,MATCH(C10,General!$A$3:$A$103,0)),"") | G10: =IFERROR(INDEX(General!$B$3:$B$103,MATCH(C10,General!$A$3:$A$103,0)),"")
C11: {=IF(ROWS($1:9)<=COUNTIF(General!$G$3:$G$103,1),INDEX(General!$A$3:$A$103,SMALL(IF(General!$G$3:$G$103=1,ROW(INDIRECT("1:"&ROWS(General!$A$3:$A$103)))),ROWS($1:9))),"")} | E11: =IFERROR(INDEX(General!$C$3:$C$103,MATCH(C11,General!$A$3:$A$103,0)),"") | G11: =IFERROR(INDEX(General!$B$3:$B$103,MATCH(C11,General!$A$3:$A$103,0)),"")
C12: {=IF(ROWS($1:10)<=COUNTIF(General!$G$3:$G$103,1),INDEX(General!$A$3:$A$103,SMALL(IF(General!$G$3:$G$103=1,ROW(INDIRECT("1:"&ROWS(General!$A$3:$A$103)))),ROWS($1:10))),"")} | E12: =IFERROR(INDEX(General!$C$3:$C$103,MATCH(C12,General!$A$3:$A$103,0)),"") | G12: =IFERROR(INDEX(General!$B$3:$B$103,MATCH(C12,General!$A$3:$A$103,0)),"")
C13: {=IF(ROWS($1:11)<=COUNTIF(General!$G$3:$G$103,1),INDEX(General!$A$3:$A$103,SMALL(IF(General!$G$3:$G$103=1,ROW(INDIRECT("1:"&ROWS(General!$A$3:$A$103)))),ROWS($1:11))),"")} | E13: =IFERROR(INDEX(General!$C$3:$C$103,MATCH(C13,General!$A$3:$A$103,0)),"") | G13: =IFERROR(INDEX(General!$B$3:$B$103,MATCH(C13,General!$A$3:$A$103,0)),"")
C14: {=IF(ROWS($1:12)<=COUNTIF(General!$G$3:$G$103,1),INDEX(General!$A$3:$A$103,SMALL(IF(General!$G$3:$G$103=1,ROW(INDIRECT("1:"&ROWS(General!$A$3:$A$103)))),ROWS($1:12))),"")} | E14: =IFERROR(INDEX(General!$C$3:$C$103,MATCH(C14,General!$A$3:$A$103,0)),"") | G14: =IFERROR(INDEX(General!$B$3:$B$103,MATCH(C14,General!$A$3:$A$103,0)),"")
C15: {=IF(ROWS($1:13)<=COUNTIF(General!$G$3:$G$103,1),INDEX(General!$A$3:$A$103,SMALL(IF(General!$G$3:$G$103=1,ROW(INDIRECT("1:"&ROWS(General!$A$3:$A$103)))),ROWS($1:13))),"")} | E15: =IFERROR(INDEX(General!$C$3:$C$103,MATCH(C15,General!$A$3:$A$103,0)),"") | G15: =IFERROR(INDEX(General!$B$3:$B$103,MATCH(C15,General!$A$3:$A$103,0)),"")
C16: {=IF(ROWS($1:14)<=COUNTIF(General!$G$3:$G$103,1),INDEX(General!$A$3:$A$103,SMALL(IF(General!$G$3:$G$103=1,ROW(INDIRECT("1:"&ROWS(General!$A$3:$A$103)))),ROWS($1:14))),"")} | E16: =IFERROR(INDEX(General!$C$3:$C$103,MATCH(C16,General!$A$3:$A$103,0)),"") | G16: =IFERROR(INDEX(General!$B$3:$B$103,MATCH(C16,General!$A$3:$A$103,0)),"")
C17: {=IF(ROWS($1:15)<=COUNTIF(General!$G$3:$G$103,1),INDEX(General!$A$3:$A$103,SMALL(IF(General!$G$3:$G$103=1,ROW(INDIRECT("1:"&ROWS(General!$A$3:$A$103)))),ROWS($1:15))),"")} | E17: =IFERROR(INDEX(General!$C$3:$C$103,MATCH(C17,General!$A$3:$A$103,0)),"") | G17: =IFERROR(INDEX(General!$B$3:$B$103,MATCH(C17,General!$A$3:$A$103,0)),"")
C18: {=IF(ROWS($1:16)<=COUNTIF(General!$G$3:$G$103,1),INDEX(General!$A$3:$A$103,SMALL(IF(General!$G$3:$G$103=1,ROW(INDIRECT("1:"&ROWS(General!$A$3:$A$103)))),ROWS($1:16))),"")} | E18: =IFERROR(INDEX(General!$C$3:$C$103,MATCH(C18,General!$A$3:$A$103,0)),"") | G18: =IFERROR(INDEX(General!$B$3:$B$103,MATCH(C18,General!$A$3:$A$103,0)),"")
C19: {=IF(ROWS($1:17)<=COUNTIF(General!$G$3:$G$103,1),INDEX(General!$A$3:$A$103,SMALL(IF(General!$G$3:$G$103=1,ROW(INDIRECT("1:"&ROWS(General!$A$3:$A$103)))),ROWS($1:17))),"")} | E19: =IFERROR(INDEX(General!$C$3:$C$103,MATCH(C19,General!$A$3:$A$103,0)),"") | G19: =IFERROR(INDEX(General!$B$3:$B$103,MATCH(C19,General!$A$3:$A$103,0)),"")
C20: {=IF(ROWS($1:18)<=COUNTIF(General!$G$3:$G$103,1),INDEX(General!$A$3:$A$103,SMALL(IF(General!$G$3:$G$103=1,ROW(INDIRECT("1:"&ROWS(General!$A$3:$A$103)))),ROWS($1:18))),"")} | E20: =IFERROR(INDEX(General!$C$3:$C$103,MATCH(C20,General!$A$3:$A$103,0)),"") | G20: =IFERROR(INDEX(General!$B$3:$B$103,MATCH(C20,General!$A$3:$A$103,0)),"")
C21: {=IF(ROWS($1:19)<=COUNTIF(General!$G$3:$G$103,1),INDEX(General!$A$3:$A$103,SMALL(IF(General!$G$3:$G$103=1,ROW(INDIRECT("1:"&ROWS(General!$A$3:$A$103)))),ROWS($1:19))),"")} | E21: =IFERROR(INDEX(General!$C$3:$C$103,MATCH(C21,General!$A$3:$A$103,0)),"") | G21: =IFERROR(INDEX(General!$B$3:$B$103,MATCH(C21,General!$A$3:$A$103,0)),"")
C22: {=IF(ROWS($1:20)<=COUNTIF(General!$G$3:$G$103,1),INDEX(General!$A$3:$A$103,SMALL(IF(General!$G$3:$G$103=1,ROW(INDIRECT("1:"&ROWS(General!$A$3:$A$103)))),ROWS($1:20))),"")} | E22: =IFERROR(INDEX(General!$C$3:$C$103,MATCH(C22,General!$A$3:$A$103,0)),"") | G22: =IFERROR(INDEX(General!$B$3:$B$103,MATCH(C22,General!$A$3:$A$103,0)),"")
C23: {=IF(ROWS($1:21)<=COUNTIF(General!$G$3:$G$103,1),INDEX(General!$A$3:$A$103,SMALL(IF(General!$G$3:$G$103=1,ROW(INDIRECT("1:"&ROWS(General!$A$3:$A$103)))),ROWS($1:21))),"")} | E23: =IFERROR(INDEX(General!$C$3:$C$103,MATCH(C23,General!$A$3:$A$103,0)),"") | G23: =IFERROR(INDEX(General!$B$3:$B$103,MATCH(C23,General!$A$3:$A$103,0)),"")
C24: {=IF(ROWS($1:22)<=COUNTIF(General!$G$3:$G$103,1),INDEX(General!$A$3:$A$103,SMALL(IF(General!$G$3:$G$103=1,ROW(INDIRECT("1:"&ROWS(General!$A$3:$A$103)))),ROWS($1:22))),"")} | E24: =IFERROR(INDEX(General!$C$3:$C$103,MATCH(C24,General!$A$3:$A$103,0)),"") | G24: =IFERROR(INDEX(General!$B$3:$B$103,MATCH(C24,General!$A$3:$A$103,0)),"")
C25: {=IF(ROWS($1:23)<=COUNTIF(General!$G$3:$G$103,1),INDEX(General!$A$3:$A$103,SMALL(IF(General!$G$3:$G$103=1,ROW(INDIRECT("1:"&ROWS(General!$A$3:$A$103)))),ROWS($1:23))),"")} | E25: =IFERROR(INDEX(General!$C$3:$C$103,MATCH(C25,General!$A$3:$A$103,0)),"") | G25: =IFERROR(INDEX(General!$B$3:$B$103,MATCH(C25,General!$A$3:$A$103,0)),"")
C26: {=IF(ROWS($1:24)<=COUNTIF(General!$G$3:$G$103,1),INDEX(General!$A$3:$A$103,SMALL(IF(General!$G$3:$G$103=1,ROW(INDIRECT("1:"&ROWS(General!$A$3:$A$103)))),ROWS($1:24))),"")} | E26: =IFERROR(INDEX(General!$C$3:$C$103,MATCH(C26,General!$A$3:$A$103,0)),"") | G26: =IFERROR(INDEX(General!$B$3:$B$103,MATCH(C26,General!$A$3:$A$103,0)),"")
C27: {=IF(ROWS($1:25)<=COUNTIF(General!$G$3:$G$103,1),INDEX(General!$A$3:$A$103,SMALL(IF(General!$G$3:$G$103=1,ROW(INDIRECT("1:"&ROWS(General!$A$3:$A$103)))),ROWS($1:25))),"")} | E27: =IFERROR(INDEX(General!$C$3:$C$103,MATCH(C27,General!$A$3:$A$103,0)),"") | G27: =IFERROR(INDEX(General!$B$3:$B$103,MATCH(C27,General!$A$3:$A$103,0)),"")
C28: {=IF(ROWS($1:26)<=COUNTIF(General!$G$3:$G$103,1),INDEX(General!$A$3:$A$103,SMALL(IF(General!$G$3:$G$103=1,ROW(INDIRECT("1:"&ROWS(General!$A$3:$A$103)))),ROWS($1:26))),"")} | E28: =IFERROR(INDEX(General!$C$3:$C$103,MATCH(C28,General!$A$3:$A$103,0)),"") | G28: =IFERROR(INDEX(General!$B$3:$B$103,MATCH(C28,General!$A$3:$A$103,0)),"")
C29: {=IF(ROWS($1:27)<=COUNTIF(General!$G$3:$G$103,1),INDEX(General!$A$3:$A$103,SMALL(IF(General!$G$3:$G$103=1,ROW(INDIRECT("1:"&ROWS(General!$A$3:$A$103)))),ROWS($1:27))),"")} | E29: =IFERROR(INDEX(General!$C$3:$C$103,MATCH(C29,General!$A$3:$A$103,0)),"") | G29: =IFERROR(INDEX(General!$B$3:$B$103,MATCH(C29,General!$A$3:$A$103,0)),"")
C30: {=IF(ROWS($1:28)<=COUNTIF(General!$G$3:$G$103,1),INDEX(General!$A$3:$A$103,SMALL(IF(General!$G$3:$G$103=1,ROW(INDIRECT("1:"&ROWS(General!$A$3:$A$103)))),ROWS($1:28))),"")} | E30: =IFERROR(INDEX(General!$C$3:$C$103,MATCH(C30,General!$A$3:$A$103,0)),"") | G30: =IFERROR(INDEX(General!$B$3:$B$103,MATCH(C30,General!$A$3:$A$103,0)),"")
C31: {=IF(ROWS($1:29)<=COUNTIF(General!$G$3:$G$103,1),INDEX(General!$A$3:$A$103,SMALL(IF(General!$G$3:$G$103=1,ROW(INDIRECT("1:"&ROWS(General!$A$3:$A$103)))),ROWS($1:29))),"")} | E31: =IFERROR(INDEX(General!$C$3:$C$103,MATCH(C31,General!$A$3:$A$103,0)),"") | G31: =IFERROR(INDEX(General!$B$3:$B$103,MATCH(C31,General!$A$3:$A$103,0)),"")
C32: {=IF(ROWS($1:30)<=COUNTIF(General!$G$3:$G$103,1),INDEX(General!$A$3:$A$103,SMALL(IF(General!$G$3:$G$103=1,ROW(INDIRECT("1:"&ROWS(General!$A$3:$A$103)))),ROWS($1:30))),"")} | E32: =IFERROR(INDEX(General!$C$3:$C$103,MATCH(C32,General!$A$3:$A$103,0)),"") | G32: =IFERROR(INDEX(General!$B$3:$B$103,MATCH(C32,General!$A$3:$A$103,0)),"")
C33: {=IF(ROWS($1:31)<=COUNTIF(General!$G$3:$G$103,1),INDEX(General!$A$3:$A$103,SMALL(IF(General!$G$3:$G$103=1,ROW(INDIRECT("1:"&ROWS(General!$A$3:$A$103)))),ROWS($1:31))),"")} | E33: =IFERROR(INDEX(General!$C$3:$C$103,MATCH(C33,General!$A$3:$A$103,0)),"") | G33: =IFERROR(INDEX(General!$B$3:$B$103,MATCH(C33,General!$A$3:$A$103,0)),"")
C34: {=IF(ROWS($1:32)<=COUNTIF(General!$G$3:$G$103,1),INDEX(General!$A$3:$A$103,SMALL(IF(General!$G$3:$G$103=1,ROW(INDIRECT("1:"&ROWS(General!$A$3:$A$103)))),ROWS($1:32))),"")} | E34: =IFERROR(INDEX(General!$C$3:$C$103,MATCH(C34,General!$A$3:$A$103,0)),"") | G34: =IFERROR(INDEX(General!$B$3:$B$103,MATCH(C34,General!$A$3:$A$103,0)),"")
C35: {=IF(ROWS($1:33)<=COUNTIF(General!$G$3:$G$103,1),INDEX(General!$A$3:$A$103,SMALL(IF(General!$G$3:$G$103=1,ROW(INDIRECT("1:"&ROWS(General!$A$3:$A$103)))),ROWS($1:33))),"")} | E35: =IFERROR(INDEX(General!$C$3:$C$103,MATCH(C35,General!$A$3:$A$103,0)),"") | G35: =IFERROR(INDEX(General!$B$3:$B$103,MATCH(C35,General!$A$3:$A$103,0)),"")
C36: {=IF(ROWS($1:34)<=COUNTIF(General!$G$3:$G$103,1),INDEX(General!$A$3:$A$103,SMALL(IF(General!$G$3:$G$103=1,ROW(INDIRECT("1:"&ROWS(General!$A$3:$A$103)))),ROWS($1:34))),"")} | E36: =IFERROR(INDEX(General!$C$3:$C$103,MATCH(C36,General!$A$3:$A$103,0)),"") | G36: =IFERROR(INDEX(General!$B$3:$B$103,MATCH(C36,General!$A$3:$A$103,0)),"")
C37: {=IF(ROWS($1:35)<=COUNTIF(General!$G$3:$G$103,1),INDEX(General!$A$3:$A$103,SMALL(IF(General!$G$3:$G$103=1,ROW(INDIRECT("1:"&ROWS(General!$A$3:$A$103)))),ROWS($1:35))),"")} | E37: =IFERROR(INDEX(General!$C$3:$C$103,MATCH(C37,General!$A$3:$A$103,0)),"") | G37: =IFERROR(INDEX(General!$B$3:$B$103,MATCH(C37,General!$A$3:$A$103,0)),"")
C38: {=IF(ROWS($1:36)<=COUNTIF(General!$G$3:$G$103,1),INDEX(General!$A$3:$A$103,SMALL(IF(General!$G$3:$G$103=1,ROW(INDIRECT("1:"&ROWS(General!$A$3:$A$103)))),ROWS($1:36))),"")} | E38: =IFERROR(INDEX(General!$C$3:$C$103,MATCH(C38,General!$A$3:$A$103,0)),"") | G38: =IFERROR(INDEX(General!$B$3:$B$103,MATCH(C38,General!$A$3:$A$103,0)),"")
C39: {=IF(ROWS($1:37)<=COUNTIF(General!$G$3:$G$103,1),INDEX(General!$A$3:$A$103,SMALL(IF(General!$G$3:$G$103=1,ROW(INDIRECT("1:"&ROWS(General!$A$3:$A$103)))),ROWS($1:37))),"")} | E39: =IFERROR(INDEX(General!$C$3:$C$103,MATCH(C39,General!$A$3:$A$103,0)),"") | G39: =IFERROR(INDEX(General!$B$3:$B$103,MATCH(C39,General!$A$3:$A$103,0)),"")
C40: {=IF(ROWS($1:38)<=COUNTIF(General!$G$3:$G$103,1),INDEX(General!$A$3:$A$103,SMALL(IF(General!$G$3:$G$103=1,ROW(INDIRECT("1:"&ROWS(General!$A$3:$A$103)))),ROWS($1:38))),"")} | E40: =IFERROR(INDEX(General!$C$3:$C$103,MATCH(C40,General!$A$3:$A$103,0)),"") | G40: =IFERROR(INDEX(General!$B$3:$B$103,MATCH(C40,General!$A$3:$A$103,0)),"")
C41: {=IF(ROWS($1:39)<=COUNTIF(General!$G$3:$G$103,1),INDEX(General!$A$3:$A$103,SMALL(IF(General!$G$3:$G$103=1,ROW(INDIRECT("1:"&ROWS(General!$A$3:$A$103)))),ROWS($1:39))),"")} | E41: =IFERROR(INDEX(General!$C$3:$C$103,MATCH(C41,General!$A$3:$A$103,0)),"") | G41: =IFERROR(INDEX(General!$B$3:$B$103,MATCH(C41,General!$A$3:$A$103,0)),"")
...

Sheet ATELIER
A1: INTERESSE POUR ATELIER | C1: NOM | E1: MAIL | G1: TELEPHONE
C3: {=IF(ROWS($1:1)<=COUNTIF(General!$F$3:$F$103,1),INDEX(General!$A$3:$A$103,SMALL(IF(General!$F$3:$F$103=1,ROW(INDIRECT("1:"&ROWS(General!$A$3:$A$103)))),ROWS($1:1))),"")} -> Daniel Pezeril | E3: =IFERROR(INDEX(General!$C$3:$C$103,MATCH(C3,General!$A$3:$A$103,0)),"") -> 0 | G3: =IFERROR(INDEX(General!$B$3:$B$103,MATCH(C3,General!$A$3:$A$103,0)),"") -> 644081800
C4: {=IF(ROWS($1:2)<=COUNTIF(General!$F$3:$F$103,1),INDEX(General!$A$3:$A$103,SMALL(IF(General!$F$3:$F$103=1,ROW(INDIRECT("1:"&ROWS(General!$A$3:$A$103)))),ROWS($1:2))),"")} -> Costa Ledormeur | E4: =IFERROR(INDEX(General!$C$3:$C$103,MATCH(C4,General!$A$3:$A$103,0)),"") -> 0 | G4: =IFERROR(INDEX(General!$B$3:$B$103,MATCH(C4,General!$A$3:$A$103,0)),"") -> 0
C5: {=IF(ROWS($1:3)<=COUNTIF(General!$F$3:$F$103,1),INDEX(General!$A$3:$A$103,SMALL(IF(General!$F$3:$F$103=1,ROW(INDIRECT("1:"&ROWS(General!$A$3:$A$103)))),ROWS($1:3))),"")} -> Adrien Testas | E5: =IFERROR(INDEX(General!$C$3:$C$103,MATCH(C5,General!$A$3:$A$103,0)),"") -> adrien.testas@live.fr | G5: =IFERROR(INDEX(General!$B$3:$B$103,MATCH(C5,General!$A$3:$A$103,0)),"") -> 789200542
C6: {=IF(ROWS($1:4)<=COUNTIF(General!$F$3:$F$103,1),INDEX(General!$A$3:$A$103,SMALL(IF(General!$F$3:$F$103=1,ROW(INDIRECT("1:"&ROWS(General!$A$3:$A$103)))),ROWS($1:4))),"")} -> ROMAIN | E6: =IFERROR(INDEX(General!$C$3:$C$103,MATCH(C6,General!$A$3:$A$103,0)),"") -> 2222 | G6: =IFERROR(INDEX(General!$B$3:$B$103,MATCH(C6,General!$A$3:$A$103,0)),"") -> 22222
C7: {=IF(ROWS($1:5)<=COUNTIF(General!$F$3:$F$103,1),INDEX(General!$A$3:$A$103,SMALL(IF(General!$F$3:$F$103=1,ROW(INDIRECT("1:"&ROWS(General!$A$3:$A$103)))),ROWS($1:5))),"")} | E7: =IFERROR(INDEX(General!$C$3:$C$103,MATCH(C7,General!$A$3:$A$103,0)),"") | G7: =IFERROR(INDEX(General!$B$3:$B$103,MATCH(C7,General!$A$3:$A$103,0)),"")
C8: {=IF(ROWS($1:6)<=COUNTIF(General!$F$3:$F$103,1),INDEX(General!$A$3:$A$103,SMALL(IF(General!$F$3:$F$103=1,ROW(INDIRECT("1:"&ROWS(General!$A$3:$A$103)))),ROWS($1:6))),"")} | E8: =IFERROR(INDEX(General!$C$3:$C$103,MATCH(C8,General!$A$3:$A$103,0)),"") | G8: =IFERROR(INDEX(General!$B$3:$B$103,MATCH(C8,General!$A$3:$A$103,0)),"")
C9: {=IF(ROWS($1:7)<=COUNTIF(General!$F$3:$F$103,1),INDEX(General!$A$3:$A$103,SMALL(IF(General!$F$3:$F$103=1,ROW(INDIRECT("1:"&ROWS(General!$A$3:$A$103)))),ROWS($1:7))),"")} | E9: =IFERROR(INDEX(General!$C$3:$C$103,MATCH(C9,General!$A$3:$A$103,0)),"") | G9: =IFERROR(INDEX(General!$B$3:$B$103,MATCH(C9,General!$A$3:$A$103,0)),"")
C10: {=IF(ROWS($1:8)<=COUNTIF(General!$F$3:$F$103,1),INDEX(General!$A$3:$A$103,SMALL(IF(General!$F$3:$F$103=1,ROW(INDIRECT("1:"&ROWS(General!$A$3:$A$103)))),ROWS($1:8))),"")} | E10: =IFERROR(INDEX(General!$C$3:$C$103,MATCH(C10,General!$A$3:$A$103,0)),"") | G10: =IFERROR(INDEX(General!$B$3:$B$103,MATCH(C10,General!$A$3:$A$103,0)),"")
C11: {=IF(ROWS($1:9)<=COUNTIF(General!$F$3:$F$103,1),INDEX(General!$A$3:$A$103,SMALL(IF(General!$F$3:$F$103=1,ROW(INDIRECT("1:"&ROWS(General!$A$3:$A$103)))),ROWS($1:9))),"")} | E11: =IFERROR(INDEX(General!$C$3:$C$103,MATCH(C11,General!$A$3:$A$103,0)),"") | G11: =IFERROR(INDEX(General!$B$3:$B$103,MATCH(C11,General!$A$3:$A$103,0)),"")
C12: {=IF(ROWS($1:10)<=COUNTIF(General!$F$3:$F$103,1),INDEX(General!$A$3:$A$103,SMALL(IF(General!$F$3:$F$103=1,ROW(INDIRECT("1:"&ROWS(General!$A$3:$A$103)))),ROWS($1:10))),"")} | E12: =IFERROR(INDEX(General!$C$3:$C$103,MATCH(C12,General!$A$3:$A$103,0)),"") | G12: =IFERROR(INDEX(General!$B$3:$B$103,MATCH(C12,General!$A$3:$A$103,0)),"")
C13: {=IF(ROWS($1:11)<=COUNTIF(General!$F$3:$F$103,1),INDEX(General!$A$3:$A$103,SMALL(IF(General!$F$3:$F$103=1,ROW(INDIRECT("1:"&ROWS(General!$A$3:$A$103)))),ROWS($1:11))),"")} | E13: =IFERROR(INDEX(General!$C$3:$C$103,MATCH(C13,General!$A$3:$A$103,0)),"") | G13: =IFERROR(INDEX(General!$B$3:$B$103,MATCH(C13,General!$A$3:$A$103,0)),"")
C14: {=IF(ROWS($1:12)<=COUNTIF(General!$F$3:$F$103,1),INDEX(General!$A$3:$A$103,SMALL(IF(General!$F$3:$F$103=1,ROW(INDIRECT("1:"&ROWS(General!$A$3:$A$103)))),ROWS($1:12))),"")} | E14: =IFERROR(INDEX(General!$C$3:$C$103,MATCH(C14,General!$A$3:$A$103,0)),"") | G14: =IFERROR(INDEX(General!$B$3:$B$103,MATCH(C14,General!$A$3:$A$103,0)),"")
C15: {=IF(ROWS($1:13)<=COUNTIF(General!$F$3:$F$103,1),INDEX(General!$A$3:$A$103,SMALL(IF(General!$F$3:$F$103=1,ROW(INDIRECT("1:"&ROWS(General!$A$3:$A$103)))),ROWS($1:13))),"")} | E15: =IFERROR(INDEX(General!$C$3:$C$103,MATCH(C15,General!$A$3:$A$103,0)),"") | G15: =IFERROR(INDEX(General!$B$3:$B$103,MATCH(C15,General!$A$3:$A$103,0)),"")
C16: {=IF(ROWS($1:14)<=COUNTIF(General!$F$3:$F$103,1),INDEX(General!$A$3:$A$103,SMALL(IF(General!$F$3:$F$103=1,ROW(INDIRECT("1:"&ROWS(General!$A$3:$A$103)))),ROWS($1:14))),"")} | E16: =IFERROR(INDEX(General!$C$3:$C$103,MATCH(C16,General!$A$3:$A$103,0)),"") | G16: =IFERROR(INDEX(General!$B$3:$B$103,MATCH(C16,General!$A$3:$A$103,0)),"")
C17: {=IF(ROWS($1:15)<=COUNTIF(General!$F$3:$F$103,1),INDEX(General!$A$3:$A$103,SMALL(IF(General!$F$3:$F$103=1,ROW(INDIRECT("1:"&ROWS(General!$A$3:$A$103)))),ROWS($1:15))),"")} | E17: =IFERROR(INDEX(General!$C$3:$C$103,MATCH(C17,General!$A$3:$A$103,0)),"") | G17: =IFERROR(INDEX(General!$B$3:$B$103,MATCH(C17,General!$A$3:$A$103,0)),"")
C18: {=IF(ROWS($1:16)<=COUNTIF(General!$F$3:$F$103,1),INDEX(General!$A$3:$A$103,SMALL(IF(General!$F$3:$F$103=1,ROW(INDIRECT("1:"&ROWS(General!$A$3:$A$103)))),ROWS($1:16))),"")} | E18: =IFERROR(INDEX(General!$C$3:$C$103,MATCH(C18,General!$A$3:$A$103,0)),"") | G18: =IFERROR(INDEX(General!$B$3:$B$103,MATCH(C18,General!$A$3:$A$103,0)),"")
C19: {=IF(ROWS($1:17)<=COUNTIF(General!$F$3:$F$103,1),INDEX(General!$A$3:$A$103,SMALL(IF(General!$F$3:$F$103=1,ROW(INDIRECT("1:"&ROWS(General!$A$3:$A$103)))),ROWS($1:17))),"")} | E19: =IFERROR(INDEX(General!$C$3:$C$103,MATCH(C19,General!$A$3:$A$103,0)),"") | G19: =IFERROR(INDEX(General!$B$3:$B$103,MATCH(C19,General!$A$3:$A$103,0)),"")
C20: {=IF(ROWS($1:18)<=COUNTIF(General!$F$3:$F$103,1),INDEX(General!$A$3:$A$103,SMALL(IF(General!$F$3:$F$103=1,ROW(INDIRECT("1:"&ROWS(General!$A$3:$A$103)))),ROWS($1:18))),"")} | E20: =IFERROR(INDEX(General!$C$3:$C$103,MATCH(C20,General!$A$3:$A$103,0)),"") | G20: =IFERROR(INDEX(General!$B$3:$B$103,MATCH(C20,General!$A$3:$A$103,0)),"")
C21: {=IF(ROWS($1:19)<=COUNTIF(General!$F$3:$F$103,1),INDEX(General!$A$3:$A$103,SMALL(IF(General!$F$3:$F$103=1,ROW(INDIRECT("1:"&ROWS(General!$A$3:$A$103)))),ROWS($1:19))),"")} | E21: =IFERROR(INDEX(General!$C$3:$C$103,MATCH(C21,General!$A$3:$A$103,0)),"") | G21: =IFERROR(INDEX(General!$B$3:$B$103,MATCH(C21,General!$A$3:$A$103,0)),"")
C22: {=IF(ROWS($1:20)<=COUNTIF(General!$F$3:$F$103,1),INDEX(General!$A$3:$A$103,SMALL(IF(General!$F$3:$F$103=1,ROW(INDIRECT("1:"&ROWS(General!$A$3:$A$103)))),ROWS($1:20))),"")} | E22: =IFERROR(INDEX(General!$C$3:$C$103,MATCH(C22,General!$A$3:$A$103,0)),"") | G22: =IFERROR(INDEX(General!$B$3:$B$103,MATCH(C22,General!$A$3:$A$103,0)),"")
C23: {=IF(ROWS($1:21)<=COUNTIF(General!$F$3:$F$103,1),INDEX(General!$A$3:$A$103,SMALL(IF(General!$F$3:$F$103=1,ROW(INDIRECT("1:"&ROWS(General!$A$3:$A$103)))),ROWS($1:21))),"")} | E23: =IFERROR(INDEX(General!$C$3:$C$103,MATCH(C23,General!$A$3:$A$103,0)),"") | G23: =IFERROR(INDEX(General!$B$3:$B$103,MATCH(C23,General!$A$3:$A$103,0)),"")
C24: {=IF(ROWS($1:22)<=COUNTIF(General!$F$3:$F$103,1),INDEX(General!$A$3:$A$103,SMALL(IF(General!$F$3:$F$103=1,ROW(INDIRECT("1:"&ROWS(General!$A$3:$A$103)))),ROWS($1:22))),"")} | E24: =IFERROR(INDEX(General!$C$3:$C$103,MATCH(C24,General!$A$3:$A$103,0)),"") | G24: =IFERROR(INDEX(General!$B$3:$B$103,MATCH(C24,General!$A$3:$A$103,0)),"")
C25: {=IF(ROWS($1:23)<=COUNTIF(General!$F$3:$F$103,1),INDEX(General!$A$3:$A$103,SMALL(IF(General!$F$3:$F$103=1,ROW(INDIRECT("1:"&ROWS(General!$A$3:$A$103)))),ROWS($1:23))),"")} | E25: =IFERROR(INDEX(General!$C$3:$C$103,MATCH(C25,General!$A$3:$A$103,0)),"") | G25: =IFERROR(INDEX(General!$B$3:$B$103,MATCH(C25,General!$A$3:$A$103,0)),"")
C26: {=IF(ROWS($1:24)<=COUNTIF(General!$F$3:$F$103,1),INDEX(General!$A$3:$A$103,SMALL(IF(General!$F$3:$F$103=1,ROW(INDIRECT("1:"&ROWS(General!$A$3:$A$103)))),ROWS($1:24))),"")} | E26: =IFERROR(INDEX(General!$C$3:$C$103,MATCH(C26,General!$A$3:$A$103,0)),"") | G26: =IFERROR(INDEX(General!$B$3:$B$103,MATCH(C26,General!$A$3:$A$103,0)),"")
C27: {=IF(ROWS($1:25)<=COUNTIF(General!$F$3:$F$103,1),INDEX(General!$A$3:$A$103,SMALL(IF(General!$F$3:$F$103=1,ROW(INDIRECT("1:"&ROWS(General!$A$3:$A$103)))),ROWS($1:25))),"")} | E27: =IFERROR(INDEX(General!$C$3:$C$103,MATCH(C27,General!$A$3:$A$103,0)),"") | G27: =IFERROR(INDEX(General!$B$3:$B$103,MATCH(C27,General!$A$3:$A$103,0)),"")
C28: {=IF(ROWS($1:26)<=COUNTIF(General!$F$3:$F$103,1),INDEX(General!$A$3:$A$103,SMALL(IF(General!$F$3:$F$103=1,ROW(INDIRECT("1:"&ROWS(General!$A$3:$A$103)))),ROWS($1:26))),"")} | E28: =IFERROR(INDEX(General!$C$3:$C$103,MATCH(C28,General!$A$3:$A$103,0)),"") | G28: =IFERROR(INDEX(General!$B$3:$B$103,MATCH(C28,General!$A$3:$A$103,0)),"")
C29: {=IF(ROWS($1:27)<=COUNTIF(General!$F$3:$F$103,1),INDEX(General!$A$3:$A$103,SMALL(IF(General!$F$3:$F$103=1,ROW(INDIRECT("1:"&ROWS(General!$A$3:$A$103)))),ROWS($1:27))),"")} | E29: =IFERROR(INDEX(General!$C$3:$C$103,MATCH(C29,General!$A$3:$A$103,0)),"") | G29: =IFERROR(INDEX(General!$B$3:$B$103,MATCH(C29,General!$A$3:$A$103,0)),"")
C30: {=IF(ROWS($1:28)<=COUNTIF(General!$F$3:$F$103,1),INDEX(General!$A$3:$A$103,SMALL(IF(General!$F$3:$F$103=1,ROW(INDIRECT("1:"&ROWS(General!$A$3:$A$103)))),ROWS($1:28))),"")} | E30: =IFERROR(INDEX(General!$C$3:$C$103,MATCH(C30,General!$A$3:$A$103,0)),"") | G30: =IFERROR(INDEX(General!$B$3:$B$103,MATCH(C30,General!$A$3:$A$103,0)),"")
C31: {=IF(ROWS($1:29)<=COUNTIF(General!$F$3:$F$103,1),INDEX(General!$A$3:$A$103,SMALL(IF(General!$F$3:$F$103=1,ROW(INDIRECT("1:"&ROWS(General!$A$3:$A$103)))),ROWS($1:29))),"")} | E31: =IFERROR(INDEX(General!$C$3:$C$103,MATCH(C31,General!$A$3:$A$103,0)),"") | G31: =IFERROR(INDEX(General!$B$3:$B$103,MATCH(C31,General!$A$3:$A$103,0)),"")
C32: {=IF(ROWS($1:30)<=COUNTIF(General!$F$3:$F$103,1),INDEX(General!$A$3:$A$103,SMALL(IF(General!$F$3:$F$103=1,ROW(INDIRECT("1:"&ROWS(General!$A$3:$A$103)))),ROWS($1:30))),"")} | E32: =IFERROR(INDEX(General!$C$3:$C$103,MATCH(C32,General!$A$3:$A$103,0)),"") | G32: =IFERROR(INDEX(General!$B$3:$B$103,MATCH(C32,General!$A$3:$A$103,0)),"")
C33: {=IF(ROWS($1:31)<=COUNTIF(General!$F$3:$F$103,1),INDEX(General!$A$3:$A$103,SMALL(IF(General!$F$3:$F$103=1,ROW(INDIRECT("1:"&ROWS(General!$A$3:$A$103)))),ROWS($1:31))),"")} | E33: =IFERROR(INDEX(General!$C$3:$C$103,MATCH(C33,General!$A$3:$A$103,0)),"") | G33: =IFERROR(INDEX(General!$B$3:$B$103,MATCH(C33,General!$A$3:$A$103,0)),"")
C34: {=IF(ROWS($1:32)<=COUNTIF(General!$F$3:$F$103,1),INDEX(General!$A$3:$A$103,SMALL(IF(General!$F$3:$F$103=1,ROW(INDIRECT("1:"&ROWS(General!$A$3:$A$103)))),ROWS($1:32))),"")} | E34: =IFERROR(INDEX(General!$C$3:$C$103,MATCH(C34,General!$A$3:$A$103,0)),"") | G34: =IFERROR(INDEX(General!$B$3:$B$103,MATCH(C34,General!$A$3:$A$103,0)),"")
C35: {=IF(ROWS($1:33)<=COUNTIF(General!$F$3:$F$103,1),INDEX(General!$A$3:$A$103,SMALL(IF(General!$F$3:$F$103=1,ROW(INDIRECT("1:"&ROWS(General!$A$3:$A$103)))),ROWS($1:33))),"")} | E35: =IFERROR(INDEX(General!$C$3:$C$103,MATCH(C35,General!$A$3:$A$103,0)),"") | G35: =IFERROR(INDEX(General!$B$3:$B$103,MATCH(C35,General!$A$3:$A$103,0)),"")
C36: {=IF(ROWS($1:34)<=COUNTIF(General!$F$3:$F$103,1),INDEX(General!$A$3:$A$103,SMALL(IF(General!$F$3:$F$103=1,ROW(INDIRECT("1:"&ROWS(General!$A$3:$A$103)))),ROWS($1:34))),"")} | E36: =IFERROR(INDEX(General!$C$3:$C$103,MATCH(C36,General!$A$3:$A$103,0)),"") | G36: =IFERROR(INDEX(General!$B$3:$B$103,MATCH(C36,General!$A$3:$A$103,0)),"")
C37: {=IF(ROWS($1:35)<=COUNTIF(General!$F$3:$F$103,1),INDEX(General!$A$3:$A$103,SMALL(IF(General!$F$3:$F$103=1,ROW(INDIRECT("1:"&ROWS(General!$A$3:$A$103)))),ROWS($1:35))),"")} | E37: =IFERROR(INDEX(General!$C$3:$C$103,MATCH(C37,General!$A$3:$A$103,0)),"") | G37: =IFERROR(INDEX(General!$B$3:$B$103,MATCH(C37,General!$A$3:$A$103,0)),"")
C38: {=IF(ROWS($1:36)<=COUNTIF(General!$F$3:$F$103,1),INDEX(General!$A$3:$A$103,SMALL(IF(General!$F$3:$F$103=1,ROW(INDIRECT("1:"&ROWS(General!$A$3:$A$103)))),ROWS($1:36))),"")} | E38: =IFERROR(INDEX(General!$C$3:$C$103,MATCH(C38,General!$A$3:$A$103,0)),"") | G38: =IFERROR(INDEX(General!$B$3:$B$103,MATCH(C38,General!$A$3:$A$103,0)),"")
C39: {=IF(ROWS($1:37)<=COUNTIF(General!$F$3:$F$103,1),INDEX(General!$A$3:$A$103,SMALL(IF(General!$F$3:$F$103=1,ROW(INDIRECT("1:"&ROWS(General!$A$3:$A$103)))),ROWS($1:37))),"")} | E39: =IFERROR(INDEX(General!$C$3:$C$103,MATCH(C39,General!$A$3:$A$103,0)),"") | G39: =IFERROR(INDEX(General!$B$3:$B$103,MATCH(C39,General!$A$3:$A$103,0)),"")
C40: {=IF(ROWS($1:38)<=COUNTIF(General!$F$3:$F$103,1),INDEX(General!$A$3:$A$103,SMALL(IF(General!$F$3:$F$103=1,ROW(INDIRECT("1:"&ROWS(General!$A$3:$A$103)))),ROWS($1:38))),"")} | E40: =IFERROR(INDEX(General!$C$3:$C$103,MATCH(C40,General!$A$3:$A$103,0)),"") | G40: =IFERROR(INDEX(General!$B$3:$B$103,MATCH(C40,General!$A$3:$A$103,0)),"")
C41: {=IF(ROWS($1:39)<=COUNTIF(General!$F$3:$F$103,1),INDEX(General!$A$3:$A$103,SMALL(IF(General!$F$3:$F$103=1,ROW(INDIRECT("1:"&ROWS(General!$A$3:$A$103)))),ROWS($1:39))),"")} | E41: =IFERROR(INDEX(General!$C$3:$C$103,MATCH(C41,General!$A$3:$A$103,0)),"") | G41: =IFERROR(INDEX(General!$B$3:$B$103,MATCH(C41,General!$A$3:$A$103,0)),"")
...

Sheet Sheet4
A1: INTERESSE POUR EXPO : | C1: NOM | E1: MAIL | G1: TELEPHONE
C3: =IF(ROWS($1:1)<=COUNTIF(General!$E$3:$E$103,1),INDEX(General!$A$3:$A$103,SMALL(IF(General!$E$3:$E$103=1,ROW(INDIRECT("1:"&ROWS(General!$A$3:$A$103)))),ROWS($1:1))),"") -> Daniel Pezeril | E3: =IFERROR(INDEX(General!$C$3:$C$103,MATCH(C3,General!$A$3:$A$103,0)),"") -> 0 | G3: =IFERROR(INDEX(General!$B$3:$B$103,MATCH(C3,General!$A$3:$A$103,0)),"") -> 644081800
C4: =IF(General!G4,General!A4," ") -> Costa Ledormeur | E4: =IFERROR(INDEX(General!$C$3:$C$103,MATCH(C4,General!$A$3:$A$103,0)),"") -> 0 | G4: =IFERROR(INDEX(General!$B$3:$B$103,MATCH(C4,General!$A$3:$A$103,0)),"") -> 0
C5: =IF(General!G5,General!A5," ") -> Adrien Testas | E5: =IFERROR(INDEX(General!$C$3:$C$103,MATCH(C5,General!$A$3:$A$103,0)),"") -> adrien.testas@live.fr | G5: =IFERROR(INDEX(General!$B$3:$B$103,MATCH(C5,General!$A$3:$A$103,0)),"") -> 789200542
C6: =IF(General!G6,General!A6," ") -> NEJ | E6: =IFERROR(INDEX(General!$C$3:$C$103,MATCH(C6,General!$A$3:$A$103,0)),"") -> 1111 | G6: =IFERROR(INDEX(General!$B$3:$B$103,MATCH(C6,General!$A$3:$A$103,0)),"") -> 11111
C7: =IF(General!G7,General!A7," ") | E7: =IFERROR(INDEX(General!$C$3:$C$103,MATCH(C7,General!$A$3:$A$103,0)),"") | G7: =IFERROR(INDEX(General!$B$3:$B$103,MATCH(C7,General!$A$3:$A$103,0)),"")
C8: =IF(General!G8,General!A8," ") | E8: =IFERROR(INDEX(General!$C$3:$C$103,MATCH(C8,General!$A$3:$A$103,0)),"") | G8: =IFERROR(INDEX(General!$B$3:$B$103,MATCH(C8,General!$A$3:$A$103,0)),"")
C9: =IF(General!G9,General!A9," ") | E9: =IFERROR(INDEX(General!$C$3:$C$103,MATCH(C9,General!$A$3:$A$103,0)),"") | G9: =IFERROR(INDEX(General!$B$3:$B$103,MATCH(C9,General!$A$3:$A$103,0)),"")
C10: =IF(General!G10,General!A10," ") | E10: =IFERROR(INDEX(General!$C$3:$C$103,MATCH(C10,General!$A$3:$A$103,0)),"") | G10: =IFERROR(INDEX(General!$B$3:$B$103,MATCH(C10,General!$A$3:$A$103,0)),"")
C11: =IF(General!G11,General!A11," ") | E11: =IFERROR(INDEX(General!$C$3:$C$103,MATCH(C11,General!$A$3:$A$103,0)),"") | G11: =IFERROR(INDEX(General!$B$3:$B$103,MATCH(C11,General!$A$3:$A$103,0)),"")
C12: =IF(General!G12,General!A12," ") | E12: =IFERROR(INDEX(General!$C$3:$C$103,MATCH(C12,General!$A$3:$A$103,0)),"") | G12: =IFERROR(INDEX(General!$B$3:$B$103,MATCH(C12,General!$A$3:$A$103,0)),"")
C13: =IF(General!G13,General!A13," ") | E13: =IFERROR(INDEX(General!$C$3:$C$103,MATCH(C13,General!$A$3:$A$103,0)),"") | G13: =IFERROR(INDEX(General!$B$3:$B$103,MATCH(C13,General!$A$3:$A$103,0)),"")
C14: =IF(General!G14,General!A14," ") | E14: =IFERROR(INDEX(General!$C$3:$C$103,MATCH(C14,General!$A$3:$A$103,0)),"") | G14: =IFERROR(INDEX(General!$B$3:$B$103,MATCH(C14,General!$A$3:$A$103,0)),"")
C15: =IF(General!G15,General!A15," ") | E15: =IFERROR(INDEX(General!$C$3:$C$103,MATCH(C15,General!$A$3:$A$103,0)),"") | G15: =IFERROR(INDEX(General!$B$3:$B$103,MATCH(C15,General!$A$3:$A$103,0)),"")
... C103: =IF(General!G103,General!A103," ") | E103: =IFERROR(INDEX(General!$C$3:$C$103,MATCH(C103,General!$A$3:$A$103,0)),"") | G103: =IFERROR(INDEX(General!$B$3:$B$103,MATCH(C103,General!$A$3:$A$103,0)),"")

Sheet test
A1: INTERESSE POUR EXPO : | C1: NOM | E1: MAIL | G1: TELEPHONE
C3: {=IF(ROWS($1:1)<=COUNTIF(General!$H$3:$H$103,1),INDEX(General!$A$3:$A$103,SMALL(IF(General!$H$3:$H$103=1,ROW(INDIRECT("1:"&ROWS(General!$A$3:$A$103)))),ROWS($1:1))),"")} -> Daniel Pezeril | E3: =IFERROR(INDEX(General!$C$3:$C$103,MATCH(C3,General!$A$3:$A$103,0)),"") -> 0 | G3: =IFERROR(INDEX(General!$B$3:$B$103,MATCH(C3,General!$A$3:$A$103,0)),"") -> 644081800
A4: =IF(General!E3,C:C=General!A3) -> FALSE | C4: {=IF(ROWS($1:2)<=COUNTIF(General!$H$3:$H$103,1),INDEX(General!$A$3:$A$103,SMALL(IF(General!$H$3:$H$103=1,ROW(INDIRECT("1:"&ROWS(General!$A$3:$A$103)))),ROWS($1:2))),"")} -> Costa Ledormeur | E4: =IFERROR(INDEX(General!$C$3:$C$103,MATCH(C4,General!$A$3:$A$103,0)),"") -> 0 | G4: =IFERROR(INDEX(General!$B$3:$B$103,MATCH(C4,General!$A$3:$A$103,0)),"") -> 0
C5: {=IF(ROWS($1:3)<=COUNTIF(General!$H$3:$H$103,1),INDEX(General!$A$3:$A$103,SMALL(IF(General!$H$3:$H$103=1,ROW(INDIRECT("1:"&ROWS(General!$A$3:$A$103)))),ROWS($1:3))),"")} -> Adrien Testas | E5: =IFERROR(INDEX(General!$C$3:$C$103,MATCH(C5,General!$A$3:$A$103,0)),"") -> adrien.testas@live.fr | G5: =IFERROR(INDEX(General!$B$3:$B$103,MATCH(C5,General!$A$3:$A$103,0)),"") -> 789200542
C6: {=IF(ROWS($1:4)<=COUNTIF(General!$H$3:$H$103,1),INDEX(General!$A$3:$A$103,SMALL(IF(General!$H$3:$H$103=1,ROW(INDIRECT("1:"&ROWS(General!$A$3:$A$103)))),ROWS($1:4))),"")} -> NEJ | E6: =IFERROR(INDEX(General!$C$3:$C$103,MATCH(C6,General!$A$3:$A$103,0)),"") -> 1111 | G6: =IFERROR(INDEX(General!$B$3:$B$103,MATCH(C6,General!$A$3:$A$103,0)),"") -> 11111
C7: {=IF(ROWS($1:5)<=COUNTIF(General!$H$3:$H$103,1),INDEX(General!$A$3:$A$103,SMALL(IF(General!$H$3:$H$103=1,ROW(INDIRECT("1:"&ROWS(General!$A$3:$A$103)))),ROWS($1:5))),"")} -> MODRI | E7: =IFERROR(INDEX(General!$C$3:$C$103,MATCH(C7,General!$A$3:$A$103,0)),"") -> 22222 | G7: =IFERROR(INDEX(General!$B$3:$B$103,MATCH(C7,General!$A$3:$A$103,0)),"") -> 22222
C8: {=IF(ROWS($1:6)<=COUNTIF(General!$H$3:$H$103,1),INDEX(General!$A$3:$A$103,SMALL(IF(General!$H$3:$H$103=1,ROW(INDIRECT("1:"&ROWS(General!$A$3:$A$103)))),ROWS($1:6))),"")} -> ROMAIN | E8: =IFERROR(INDEX(General!$C$3:$C$103,MATCH(C8,General!$A$3:$A$103,0)),"") -> 2222 | G8: =IFERROR(INDEX(General!$B$3:$B$103,MATCH(C8,General!$A$3:$A$103,0)),"") -> 22222
C9: {=IF(ROWS($1:7)<=COUNTIF(General!$H$3:$H$103,1),INDEX(General!$A$3:$A$103,SMALL(IF(General!$H$3:$H$103=1,ROW(INDIRECT("1:"&ROWS(General!$A$3:$A$103)))),ROWS($1:7))),"")} | E9: =IFERROR(INDEX(General!$C$3:$C$103,MATCH(C9,General!$A$3:$A$103,0)),"") | G9: =IFERROR(INDEX(General!$B$3:$B$103,MATCH(C9,General!$A$3:$A$103,0)),"")
C10: {=IF(ROWS($1:8)<=COUNTIF(General!$H$3:$H$103,1),INDEX(General!$A$3:$A$103,SMALL(IF(General!$H$3:$H$103=1,ROW(INDIRECT("1:"&ROWS(General!$A$3:$A$103)))),ROWS($1:8))),"")} | E10: =IFERROR(INDEX(General!$C$3:$C$103,MATCH(C10,General!$A$3:$A$103,0)),"") | G10: =IFERROR(INDEX(General!$B$3:$B$103,MATCH(C10,General!$A$3:$A$103,0)),"")
C11: {=IF(ROWS($1:9)<=COUNTIF(General!$H$3:$H$103,1),INDEX(General!$A$3:$A$103,SMALL(IF(General!$H$3:$H$103=1,ROW(INDIRECT("1:"&ROWS(General!$A$3:$A$103)))),ROWS($1:9))),"")} | E11: =IFERROR(INDEX(General!$C$3:$C$103,MATCH(C11,General!$A$3:$A$103,0)),"") | G11: =IFERROR(INDEX(General!$B$3:$B$103,MATCH(C11,General!$A$3:$A$103,0)),"")
C12: {=IF(ROWS($1:10)<=COUNTIF(General!$H$3:$H$103,1),INDEX(General!$A$3:$A$103,SMALL(IF(General!$H$3:$H$103=1,ROW(INDIRECT("1:"&ROWS(General!$A$3:$A$103)))),ROWS($1:10))),"")} | E12: =IFERROR(INDEX(General!$C$3:$C$103,MATCH(C12,General!$A$3:$A$103,0)),"") | G12: =IFERROR(INDEX(General!$B$3:$B$103,MATCH(C12,General!$A$3:$A$103,0)),"")
C13: {=IF(ROWS($1:11)<=COUNTIF(General!$H$3:$H$103,1),INDEX(General!$A$3:$A$103,SMALL(IF(General!$H$3:$H$103=1,ROW(INDIRECT("1:"&ROWS(General!$A$3:$A$103)))),ROWS($1:11))),"")} | E13: =IFERROR(INDEX(General!$C$3:$C$103,MATCH(C13,General!$A$3:$A$103,0)),"") | G13: =IFERROR(INDEX(General!$B$3:$B$103,MATCH(C13,General!$A$3:$A$103,0)),"")
C14: {=IF(ROWS($1:12)<=COUNTIF(General!$H$3:$H$103,1),INDEX(General!$A$3:$A$103,SMALL(IF(General!$H$3:$H$103=1,ROW(INDIRECT("1:"&ROWS(General!$A$3:$A$103)))),ROWS($1:12))),"")} | E14: =IFERROR(INDEX(General!$C$3:$C$103,MATCH(C14,General!$A$3:$A$103,0)),"") | G14: =IFERROR(INDEX(General!$B$3:$B$103,MATCH(C14,General!$A$3:$A$103,0)),"")
C15: {=IF(ROWS($1:13)<=COUNTIF(General!$H$3:$H$103,1),INDEX(General!$A$3:$A$103,SMALL(IF(General!$H$3:$H$103=1,ROW(INDIRECT("1:"&ROWS(General!$A$3:$A$103)))),ROWS($1:13))),"")} | E15: =IFERROR(INDEX(General!$C$3:$C$103,MATCH(C15,General!$A$3:$A$103,0)),"") | G15: =IFERROR(INDEX(General!$B$3:$B$103,MATCH(C15,General!$A$3:$A$103,0)),"")
C16: {=IF(ROWS($1:14)<=COUNTIF(General!$H$3:$H$103,1),INDEX(General!$A$3:$A$103,SMALL(IF(General!$H$3:$H$103=1,ROW(INDIRECT("1:"&ROWS(General!$A$3:$A$103)))),ROWS($1:14))),"")} | E16: =IFERROR(INDEX(General!$C$3:$C$103,MATCH(C16,General!$A$3:$A$103,0)),"") | G16: =IFERROR(INDEX(General!$B$3:$B$103,MATCH(C16,General!$A$3:$A$103,0)),"")
C17: {=IF(ROWS($1:15)<=COUNTIF(General!$H$3:$H$103,1),INDEX(General!$A$3:$A$103,SMALL(IF(General!$H$3:$H$103=1,ROW(INDIRECT("1:"&ROWS(General!$A$3:$A$103)))),ROWS($1:15))),"")} | E17: =IFERROR(INDEX(General!$C$3:$C$103,MATCH(C17,General!$A$3:$A$103,0)),"") | G17: =IFERROR(INDEX(General!$B$3:$B$103,MATCH(C17,General!$A$3:$A$103,0)),"")
C18: {=IF(ROWS($1:16)<=COUNTIF(General!$H$3:$H$103,1),INDEX(General!$A$3:$A$103,SMALL(IF(General!$H$3:$H$103=1,ROW(INDIRECT("1:"&ROWS(General!$A$3:$A$103)))),ROWS($1:16))),"")} | E18: =IFERROR(INDEX(General!$C$3:$C$103,MATCH(C18,General!$A$3:$A$103,0)),"") | G18: =IFERROR(INDEX(General!$B$3:$B$103,MATCH(C18,General!$A$3:$A$103,0)),"")
C19: {=IF(ROWS($1:17)<=COUNTIF(General!$H$3:$H$103,1),INDEX(General!$A$3:$A$103,SMALL(IF(General!$H$3:$H$103=1,ROW(INDIRECT("1:"&ROWS(General!$A$3:$A$103)))),ROWS($1:17))),"")} | E19: =IFERROR(INDEX(General!$C$3:$C$103,MATCH(C19,General!$A$3:$A$103,0)),"") | G19: =IFERROR(INDEX(General!$B$3:$B$103,MATCH(C19,General!$A$3:$A$103,0)),"")
C20: {=IF(ROWS($1:18)<=COUNTIF(General!$H$3:$H$103,1),INDEX(General!$A$3:$A$103,SMALL(IF(General!$H$3:$H$103=1,ROW(INDIRECT("1:"&ROWS(General!$A$3:$A$103)))),ROWS($1:18))),"")} | E20: =IFERROR(INDEX(General!$C$3:$C$103,MATCH(C20,General!$A$3:$A$103,0)),"") | G20: =IFERROR(INDEX(General!$B$3:$B$103,MATCH(C20,General!$A$3:$A$103,0)),"")
C21: {=IF(ROWS($1:19)<=COUNTIF(General!$H$3:$H$103,1),INDEX(General!$A$3:$A$103,SMALL(IF(General!$H$3:$H$103=1,ROW(INDIRECT("1:"&ROWS(General!$A$3:$A$103)))),ROWS($1:19))),"")} | E21: =IFERROR(INDEX(General!$C$3:$C$103,MATCH(C21,General!$A$3:$A$103,0)),"") | G21: =IFERROR(INDEX(General!$B$3:$B$103,MATCH(C21,General!$A$3:$A$103,0)),"")
C22: {=IF(ROWS($1:20)<=COUNTIF(General!$H$3:$H$103,1),INDEX(General!$A$3:$A$103,SMALL(IF(General!$H$3:$H$103=1,ROW(INDIRECT("1:"&ROWS(General!$A$3:$A$103)))),ROWS($1:20))),"")} | E22: =IFERROR(INDEX(General!$C$3:$C$103,MATCH(C22,General!$A$3:$A$103,0)),"") | G22: =IFERROR(INDEX(General!$B$3:$B$103,MATCH(C22,General!$A$3:$A$103,0)),"")
C23: {=IF(ROWS($1:21)<=COUNTIF(General!$H$3:$H$103,1),INDEX(General!$A$3:$A$103,SMALL(IF(General!$H$3:$H$103=1,ROW(INDIRECT("1:"&ROWS(General!$A$3:$A$103)))),ROWS($1:21))),"")} | E23: =IFERROR(INDEX(General!$C$3:$C$103,MATCH(C23,General!$A$3:$A$103,0)),"") | G23: =IFERROR(INDEX(General!$B$3:$B$103,MATCH(C23,General!$A$3:$A$103,0)),"")
C24: {=IF(ROWS($1:22)<=COUNTIF(General!$H$3:$H$103,1),INDEX(General!$A$3:$A$103,SMALL(IF(General!$H$3:$H$103=1,ROW(INDIRECT("1:"&ROWS(General!$A$3:$A$103)))),ROWS($1:22))),"")} | E24: =IFERROR(INDEX(General!$C$3:$C$103,MATCH(C24,General!$A$3:$A$103,0)),"") | G24: =IFERROR(INDEX(General!$B$3:$B$103,MATCH(C24,General!$A$3:$A$103,0)),"")
C25: {=IF(ROWS($1:23)<=COUNTIF(General!$H$3:$H$103,1),INDEX(General!$A$3:$A$103,SMALL(IF(General!$H$3:$H$103=1,ROW(INDIRECT("1:"&ROWS(General!$A$3:$A$103)))),ROWS($1:23))),"")} | E25: =IFERROR(INDEX(General!$C$3:$C$103,MATCH(C25,General!$A$3:$A$103,0)),"") | G25: =IFERROR(INDEX(General!$B$3:$B$103,MATCH(C25,General!$A$3:$A$103,0)),"")
C26: {=IF(ROWS($1:24)<=COUNTIF(General!$H$3:$H$103,1),INDEX(General!$A$3:$A$103,SMALL(IF(General!$H$3:$H$103=1,ROW(INDIRECT("1:"&ROWS(General!$A$3:$A$103)))),ROWS($1:24))),"")} | E26: =IFERROR(INDEX(General!$C$3:$C$103,MATCH(C26,General!$A$3:$A$103,0)),"") | G26: =IFERROR(INDEX(General!$B$3:$B$103,MATCH(C26,General!$A$3:$A$103,0)),"")
C27: {=IF(ROWS($1:25)<=COUNTIF(General!$H$3:$H$103,1),INDEX(General!$A$3:$A$103,SMALL(IF(General!$H$3:$H$103=1,ROW(INDIRECT("1:"&ROWS(General!$A$3:$A$103)))),ROWS($1:25))),"")} | E27: =IFERROR(INDEX(General!$C$3:$C$103,MATCH(C27,General!$A$3:$A$103,0)),"") | G27: =IFERROR(INDEX(General!$B$3:$B$103,MATCH(C27,General!$A$3:$A$103,0)),"")
C28: {=IF(ROWS($1:26)<=COUNTIF(General!$H$3:$H$103,1),INDEX(General!$A$3:$A$103,SMALL(IF(General!$H$3:$H$103=1,ROW(INDIRECT("1:"&ROWS(General!$A$3:$A$103)))),ROWS($1:26))),"")} | E28: =IFERROR(INDEX(General!$C$3:$C$103,MATCH(C28,General!$A$3:$A$103,0)),"") | G28: =IFERROR(INDEX(General!$B$3:$B$103,MATCH(C28,General!$A$3:$A$103,0)),"")
C29: {=IF(ROWS($1:27)<=COUNTIF(General!$H$3:$H$103,1),INDEX(General!$A$3:$A$103,SMALL(IF(General!$H$3:$H$103=1,ROW(INDIRECT("1:"&ROWS(General!$A$3:$A$103)))),ROWS($1:27))),"")} | E29: =IFERROR(INDEX(General!$C$3:$C$103,MATCH(C29,General!$A$3:$A$103,0)),"") | G29: =IFERROR(INDEX(General!$B$3:$B$103,MATCH(C29,General!$A$3:$A$103,0)),"")
C30: {=IF(ROWS($1:28)<=COUNTIF(General!$H$3:$H$103,1),INDEX(General!$A$3:$A$103,SMALL(IF(General!$H$3:$H$103=1,ROW(INDIRECT("1:"&ROWS(General!$A$3:$A$103)))),ROWS($1:28))),"")} | E30: =IFERROR(INDEX(General!$C$3:$C$103,MATCH(C30,General!$A$3:$A$103,0)),"") | G30: =IFERROR(INDEX(General!$B$3:$B$103,MATCH(C30,General!$A$3:$A$103,0)),"")
C31: {=IF(ROWS($1:29)<=COUNTIF(General!$H$3:$H$103,1),INDEX(General!$A$3:$A$103,SMALL(IF(General!$H$3:$H$103=1,ROW(INDIRECT("1:"&ROWS(General!$A$3:$A$103)))),ROWS($1:29))),"")} | E31: =IFERROR(INDEX(General!$C$3:$C$103,MATCH(C31,General!$A$3:$A$103,0)),"") | G31: =IFERROR(INDEX(General!$B$3:$B$103,MATCH(C31,General!$A$3:$A$103,0)),"")
C32: {=IF(ROWS($1:30)<=COUNTIF(General!$H$3:$H$103,1),INDEX(General!$A$3:$A$103,SMALL(IF(General!$H$3:$H$103=1,ROW(INDIRECT("1:"&ROWS(General!$A$3:$A$103)))),ROWS($1:30))),"")} | E32: =IFERROR(INDEX(General!$C$3:$C$103,MATCH(C32,General!$A$3:$A$103,0)),"") | G32: =IFERROR(INDEX(General!$B$3:$B$103,MATCH(C32,General!$A$3:$A$103,0)),"")
C33: {=IF(ROWS($1:31)<=COUNTIF(General!$H$3:$H$103,1),INDEX(General!$A$3:$A$103,SMALL(IF(General!$H$3:$H$103=1,ROW(INDIRECT("1:"&ROWS(General!$A$3:$A$103)))),ROWS($1:31))),"")} | E33: =IFERROR(INDEX(General!$C$3:$C$103,MATCH(C33,General!$A$3:$A$103,0)),"") | G33: =IFERROR(INDEX(General!$B$3:$B$103,MATCH(C33,General!$A$3:$A$103,0)),"")
C34: {=IF(ROWS($1:32)<=COUNTIF(General!$H$3:$H$103,1),INDEX(General!$A$3:$A$103,SMALL(IF(General!$H$3:$H$103=1,ROW(INDIRECT("1:"&ROWS(General!$A$3:$A$103)))),ROWS($1:32))),"")} | E34: =IFERROR(INDEX(General!$C$3:$C$103,MATCH(C34,General!$A$3:$A$103,0)),"") | G34: =IFERROR(INDEX(General!$B$3:$B$103,MATCH(C34,General!$A$3:$A$103,0)),"")
C35: {=IF(ROWS($1:33)<=COUNTIF(General!$H$3:$H$103,1),INDEX(General!$A$3:$A$103,SMALL(IF(General!$H$3:$H$103=1,ROW(INDIRECT("1:"&ROWS(General!$A$3:$A$103)))),ROWS($1:33))),"")} | E35: =IFERROR(INDEX(General!$C$3:$C$103,MATCH(C35,General!$A$3:$A$103,0)),"") | G35: =IFERROR(INDEX(General!$B$3:$B$103,MATCH(C35,General!$A$3:$A$103,0)),"")
C36: {=IF(ROWS($1:34)<=COUNTIF(General!$H$3:$H$103,1),INDEX(General!$A$3:$A$103,SMALL(IF(General!$H$3:$H$103=1,ROW(INDIRECT("1:"&ROWS(General!$A$3:$A$103)))),ROWS($1:34))),"")} | E36: =IFERROR(INDEX(General!$C$3:$C$103,MATCH(C36,General!$A$3:$A$103,0)),"") | G36: =IFERROR(INDEX(General!$B$3:$B$103,MATCH(C36,General!$A$3:$A$103,0)),"")
C37: {=IF(ROWS($1:35)<=COUNTIF(General!$H$3:$H$103,1),INDEX(General!$A$3:$A$103,SMALL(IF(General!$H$3:$H$103=1,ROW(INDIRECT("1:"&ROWS(General!$A$3:$A$103)))),ROWS($1:35))),"")} | E37: =IFERROR(INDEX(General!$C$3:$C$103,MATCH(C37,General!$A$3:$A$103,0)),"") | G37: =IFERROR(INDEX(General!$B$3:$B$103,MATCH(C37,General!$A$3:$A$103,0)),"")
C38: {=IF(ROWS($1:36)<=COUNTIF(General!$H$3:$H$103,1),INDEX(General!$A$3:$A$103,SMALL(IF(General!$H$3:$H$103=1,ROW(INDIRECT("1:"&ROWS(General!$A$3:$A$103)))),ROWS($1:36))),"")} | E38: =IFERROR(INDEX(General!$C$3:$C$103,MATCH(C38,General!$A$3:$A$103,0)),"") | G38: =IFERROR(INDEX(General!$B$3:$B$103,MATCH(C38,General!$A$3:$A$103,0)),"")
C39: {=IF(ROWS($1:37)<=COUNTIF(General!$H$3:$H$103,1),INDEX(General!$A$3:$A$103,SMALL(IF(General!$H$3:$H$103=1,ROW(INDIRECT("1:"&ROWS(General!$A$3:$A$103)))),ROWS($1:37))),"")} | E39: =IFERROR(INDEX(General!$C$3:$C$103,MATCH(C39,General!$A$3:$A$103,0)),"") | G39: =IFERROR(INDEX(General!$B$3:$B$103,MATCH(C39,General!$A$3:$A$103,0)),"")
C40: {=IF(ROWS($1:38)<=COUNTIF(General!$H$3:$H$103,1),INDEX(General!$A$3:$A$103,SMALL(IF(General!$H$3:$H$103=1,ROW(INDIRECT("1:"&ROWS(General!$A$3:$A$103)))),ROWS($1:38))),"")} | E40: =IFERROR(INDEX(General!$C$3:$C$103,MATCH(C40,General!$A$3:$A$103,0)),"") | G40: =IFERROR(INDEX(General!$B$3:$B$103,MATCH(C40,General!$A$3:$A$103,0)),"")
C41: {=IF(ROWS($1:39)<=COUNTIF(General!$H$3:$H$103,1),INDEX(General!$A$3:$A$103,SMALL(IF(General!$H$3:$H$103=1,ROW(INDIRECT("1:"&ROWS(General!$A$3:$A$103)))),ROWS($1:39))),"")} | E41: =IFERROR(INDEX(General!$C$3:$C$103,MATCH(C41,General!$A$3:$A$103,0)),"") | G41: =IFERROR(INDEX(General!$B$3:$B$103,MATCH(C41,General!$A$3:$A$103,0)),"")
...
