Workbook

Sheet General
A1: Adherent | B1: telephone | C1: mail | D1: Date d'adhesion | E1: expo | F1: atelier | G1: stage | H1: services
K2: =IF(E:E=1,L2=3) -> FALSE
A3: Daniel Pezeril | B3: 644081800 | D3: 42770 | E3: 1 | F3: 1 | G3: 1 | H3: 1
A4: Costa Ledormeur | D4: 42770 | F4: 1 | G4: 1 | H4: 1
A5: Adrien Testas | B5: 789200542 | C5: adrien.testas@live.fr | D5: 42770 | E5: 1 | F5: 1 | G5: 1 | H5: 1
A6: NEJ | B6: 11111 | C6: 1111 | G6: 1 | H6: 1
A7: MODRI | B7: 22222 | C7: 22222 | H7: 1
A8: ROMAIN | B8: 22222 | C8: 2222 | F8: 1 | H8: 1

Sheet Expo
A1: INTERESSE POUR EXPO : | C1: NOM | E1: MAIL | G1: TELEPHONE
C3: {=IF(ROWS($1:1)<=COUNTIF(General!$G$3:$G$103,1),INDEX(General!$A$3:$A$103,SMALL(IF(General!$G$3:$G$103=1,ROW(INDIRECT("1:"&ROWS(General!$A$3:$A$103)))),ROWS($1:1))),"")} -> Daniel Pezeril | E3: =IFERROR(INDEX(General!$C$3:$C$103,MATCH(C3,General!$A$3:$A$103,0)),"") -> 0 | G3: =IFERROR(INDEX(General!$B$3:$B$103,MATCH(C3,General!$A$3:$A$103,0)),"") -> 644081800
C4: {=IF(ROWS($1:2)<=COUNTIF(General!$G$3:$G$103,1),INDEX(General!$A$3:$A$103,SMALL(IF(General!$G$3:$G$103=1,ROW(INDIRECT("1:"&ROWS(General!$A$3:$A$103)))),ROWS($1:2))),"")} -> Costa Ledormeur | E4: =IFERROR(INDEX(General!$C$3:$C$103,MATCH(C4,General!$A$3:$A$103,0)),"") -> 0 | G4: =IFERROR(INDEX(General!$B$3:$B$103,MATCH(C4,General!$A$3:$A$103,0)),"") -> 0
C5: {=IF(ROWS($1:3)<=COUNTIF(General!$G$3:$G$103,1),INDEX(General!$A$3:$A$103,SMALL(IF(General!$G$3:$G$103=1,ROW(INDIRECT("1:"&ROWS(General!$A$3:$A$103)))),ROWS($1:3))),"")} -> Adrien Testas | E5: =IFERROR(INDEX(General!$C$3:$C$103,MATCH(C5,General!$A$3:$A$103,0)),"") -> adrien.testas@live.fr | G5: =IFERROR(INDEX(General!$B$3:$B$103,MATCH(C5,General!$A$3:$A$103,0)),"") -> 789200542
C6: {=IF(ROWS($1:4)<=COUNTIF(General!$G$3:$G$103,1),INDEX(General!$A$3:$A$103,SMALL(IF(General!$G$3:$G$103=1,ROW(INDIRECT("1:"&ROWS(General!$A$3:$A$103)))),ROWS($1:4))),"")} -> NEJ | E6: =IFERROR(INDEX(General!$C$3:$C$103,MATCH(C6,General!$A$3:$A$103,0)),"") -> 1111 | G6: =IFERROR(INDEX(General!$B$3:$B$103,MATCH(C6,General!$A$3:$A$103,0)),"") -> 11111
C7: {=IF(ROWS($1:5)<=COUNTIF(General!$G$3:$G$103,1),INDEX(General!$A$3:$A$103,SMALL(IF(General!$G$3:$G$103=1,ROW(INDIRECT("1:"&ROWS(General!$A$3:$A$103)))),ROWS($1:5))),"")} | E7: =IFERROR(INDEX(General!$C$3:$C$103,MATCH(C7,General!$A$3:$A$103,0)),"") | G7: =IFERROR(INDEX(General!$B$3:$B$103,MATCH(C7,General!$A$3:$A$103,0)),"")
C8: {=IF(ROWS($1:6)<=COUNTIF(General!$G$3:$G$103,1),INDEX(General!$A$3:$A$103,SMALL(IF(General!$G$3:$G$103=1,ROW(INDIRECT("1:"&ROWS(General!$A$3:$A$103)))),ROWS($1:6))),"")} | E8: =IFERROR(INDEX(General!$C$3:$C$103,MATCH(C8,General!$A$3:$A$103,0)),"") | G8: =IFERROR(INDEX(General!$B$3:$B$103,MATCH(C8,General!$A$3:$A$103,0)),"")
C9: {=IF(ROWS($1:7)<=COUNTIF(General!$G$3:$G$103,1),INDEX(General!$A$3:$A$103,SMALL(IF(General!$G$3:$G$103=1,ROW(INDIRECT("1:"&ROWS(General!$A$3:$A$103)))),ROWS($1:7))),"")} | E9: =IFERROR(INDEX(General!$C$3:$C$103,MATCH(C9,General!$A$3:$A$103,0)),"") | G9: =IFERROR(INDEX(General!$B$3:$B$103,MATCH(C9,General!$A$3:$A$103,0)),"")
C10: {=IF(ROWS($1:8)<=COUNTIF(General!$G$3:$G$103,1),INDEX(General!$A$3:$A$103,SMALL(IF(General!$G$3:$G$103=1,ROW(INDIRECT("1:"&ROWS(General!$A$3:$A$103)))),ROWS($1:8))),"")} | E10: =IFERROR(INDEX(General!$C$3:$C$103,MATCH(C10,General!$A$3:$A$103,0)),"") | G10: =IFERROR(INDEX(General!$B$3:$B$103,MATCH(C10,General!$A$3:$A$103,0)),"")
C11: {=IF(ROWS($1:9)<=COUNTIF(General!$G$3:$G$103,1),INDEX(General!$A$3:$A$103,SMALL(IF(General!$G$3:$G$103=1,ROW(INDIRECT("1:"&ROWS(General!$A$3:$A$103)))),ROWS($1:9))),"")} | E11: =IFERROR(INDEX(General!$C$3:$C$103,MATCH(C11,General!$A$3:$A$103,0)),"") | G11: =IFERROR(INDEX(General!$B$3:$B$103,MATCH(C11,General!$A$3:$A$103,0)),"")
C12: {=IF(ROWS($1:10)<=COUNTIF(General!$G$3:$G$103,1),INDEX(General!$A$3:$A$103,SMALL(IF(General!$G$3:$G$103=1,ROW(INDIRECT("1:"&ROWS(General!$A$3:$A$103)))),ROWS($1:10))),"")} | E12: =IFERROR(INDEX(General!$C$3:$C$103,MATCH(C12,General!$A$3:$A$103,0)),"") | G12: =IFERROR(INDEX(General!$B$3:$B$103,MATCH(C12,General!$A$3:$A$103,0)),"")
C13: {=IF(ROWS($1:11)<=COUNTIF(General!$G$3:$G$103,1),INDEX(General!$A$3:$A$103,SMALL(IF(General!$G$3:$G$103=1,ROW(INDIRECT("1:"&ROWS(General!$A$3:$A$103)))),ROWS($1:11))),"")} | E13: =IFERROR(INDEX(General!$C$3:$C$103,MATCH(C13,General!$A$3:$A$103,0)),"") | G13: =IFERROR(INDEX(General!$B$3:$B$103,MATCH(C13,General!$A$3:$A$103,0)),"")
C14: {=IF(ROWS($1:12)<=COUNTIF(General!$G$3:$G$103,1),INDEX(General!$A$3:$A$103,SMALL(IF(General!$G$3:$G$103=1,ROW(INDIRECT("1:"&ROWS(General!$A$3:$A$103)))),ROWS($1:12))),"")} | E14: =IFERROR(INDEX(General!$C$3:$C$103,MATCH(C14,General!$A$3:$A$103,0)),"") | G14: =IFERROR(INDEX(General!$B$3:$B$103,MATCH(C14,General!$A$3:$A$103,0)),"")
C15: {=IF(ROWS($1:13)<=COUNTIF(General!$G$3:$G$103,1),INDEX(General!$A$3:$A$103,SMALL(IF(General!$G$3:$G$103=1,ROW(INDIRECT("1:"&ROWS(General!$A$3:$A$103)))),ROWS($1:13))),"")} | E15: =IFERROR(INDEX(General!$C$3:$C$103,MATCH(C15,General!$A$3:$A$103,0)),"") | G15: =IFERROR(INDEX(General!$B$3:$B$103,MATCH(C15,General!$A$3:$A$103,0)),"")
C16: {=IF(ROWS($1:14)<=COUNTIF(General!$G$3:$G$103,1),INDEX(General!$A$3:$A$103,SMALL(IF(General!$G$3:$G$103=1,ROW(INDIRECT("1:"&ROWS(General!$A$3:$A$103)))),ROWS($1:14))),"")} | E16: =IFERROR(INDEX(General!$C$3:$C$103,MATCH(C16,General!$A$3:$A$103,0)),"") | G16: =IFERROR(INDEX(General!$B$3:$B$103,MATCH(C16,General!$A$3:$A$103,0)),"")
C17: {=IF(ROWS($1:15)<=COUNTIF(General!$G$3:$G$103,1),INDEX(General!$A$3:$A$103,SMALL(IF(General!$G$3:$G$103=1,ROW(INDIRECT("1:"&ROWS(General!$A$3:$A$103)))),ROWS($1:15))),"")} | E17: =IFERROR(INDEX(General!$C$3:$C$103,MATCH(C17,General!$A$3:$A$103,0)),"") | G17: =IFERROR(INDEX(General!$B$3:$B$103,MATCH(C17,General!$A$3:$A$103,0)),"")
C18: {=IF(ROWS($1:16)<=COUNTIF(General!$G$3:$G$103,1),INDEX(General!$A$3:$A$103,SMALL(IF(General!$G$3:$G$103=1,ROW(INDIRECT("1:"&ROWS(General!$A$3:$A$103)))),ROWS($1:16))),"")} | E18: =IFERROR(INDEX(General!$C$3:$C$103,MATCH(C18,General!$A$3:$A$103,0)),"") | G18: =IFERROR(INDEX(General!$B$3:$B$103,MATCH(C18,General!$A$3:$A$103,0)),"")
C19: {=IF(ROWS($1:17)<=COUNTIF(General!$G$3:$G$103,1),INDEX(General!$A$3:$A$103,SMALL(IF(General!$G$3:$G$103=1,ROW(INDIRECT("1:"&ROWS(General!$A$3:$A$103)))),ROWS($1:17))),"")} | E19: =IFERROR(INDEX(General!$C$3:$C$103,MATCH(C19,General!$A$3:$A$103,0)),"") | G19: =IFERROR(INDEX(General!$B$3:$B$103,MATCH(C19,General!$A$3:$A$103,0)),"")
C20: {=IF(ROWS($1:18)<=COUNTIF(General!$G$3:$G$103,1),INDEX(General!$A$3:$A$103,SMALL(IF(General!$G$3:$G$103=1,ROW(INDIRECT("1:"&ROWS(General!$A$3:$A$103)))),ROWS($1:18))),"")} | E20: =IFERROR(INDEX(General!$C$3:$C$103,MATCH(C20,General!$A$3:$A$103,0)),"") | G20: =IFERROR(INDEX(General!$B$3:$B$103,MATCH(C20,General!$A$3:$A$103,0)),"")
C21: {=IF(ROWS($1:19)<=COUNTIF(General!$G$3:$G$103,1),INDEX(General!$A$3:$A$103,SMALL(IF(General!$G$3:$G$103=1,ROW(INDIRECT("1:"&ROWS(General!$A$3:$A$103)))),ROWS($1:19))),"")} | E21: =IFERROR(INDEX(General!$C$3:$C$103,MATCH(C21,General!$A$3:$A$103,0)),"") | G21: =IFERROR(INDEX(General!$B$3:$B$103,MATCH(C21,General!$A$3:$A$103,0)),"")
C22: {=IF(ROWS($1:20)<=COUNTIF(General!$G$3:$G$103,1),INDEX(General!$A$3:$A$103,SMALL(IF(General!$G$3:$G$103=1,ROW(INDIRECT("1:"&ROWS(General!$A$3:$A$103)))),ROWS($1:20))),"")} | E22: =IFERROR(INDEX(General!$C$3:$C$103,MATCH(C22,General!$A$3:$A$103,0)),"") | G22: =IFERROR(INDEX(General!$B$3:$B$103,MATCH(C22,General!$A$3:$A$103,0)),"")
C23: {=IF(ROWS($1:21)<=COUNTIF(General!$G$3:$G$103,1),INDEX(General!$A$3:$A$103,SMALL(IF(General!$G$3:$G$103=1,ROW(INDIRECT("1:"&ROWS(General!$A$3:$A$103)))),ROWS($1:21))),"")} | E23: =IFERROR(INDEX(General!$C$3:$C$103,MATCH(C23,General!$A$3:$A$103,0)),"") | G23: =IFERROR(INDEX(General!$B$3:$B$103,MATCH(C23,General!$A$3:$A$103,0)),"")
C24: {=IF(ROWS($1:22)<=COUNTIF(General!$G$3:$G$103,1),INDEX(General!$A$3:$A$103,SMALL(IF(General!$G$3:$G$103=1,ROW(INDIRECT("1:"&ROWS(General!$A$3:$A$103)))),ROWS($1:22))),"")} | E24: =IFERROR(INDEX(General!$C$3:$C$103,MATCH(C24,General!$A$3:$A$103,0)),"") | G24: =IFERROR(INDEX(General!$B$3:$B$103,MATCH(C24,General!$A$3:$A$103,0)),"")
C25: {=IF(ROWS($1:23)<=COUNTIF(General!$G$3:$G$103,1),INDEX(General!$A$3:$A$103,SMALL(IF(General!$G$3:$G$103=1,ROW(INDIRECT("1:"&ROWS(General!$A$3:$A$103)))),ROWS($1:23))),"")} | E25: =IFERROR(INDEX(General!$C$3:$C$103,MATCH(C25,General!$A$3:$A$103,0)),"") | G25: =IFERROR(INDEX(General!$B$3:$B$103,MATCH(C25,General!$A$3:$A$103,0)),"")
C26: {=IF(ROWS($1:24)<=COUNTIF(General!$G$3:$G$103,1),INDEX(General!$A$3:$A$103,SMALL(IF(General!$G$3:$G$103=1,ROW(INDIRECT("1:"&ROWS(General!$A$3:$A$103)))),ROWS($1:24))),"")} | E26: =IFERROR(INDEX(General!$C$3:$C$103,MATCH(C26,General!$A$3:$A$103,0)),"") | G26: =IFERROR(INDEX(General!$B$3:$B$103,MATCH(C26,General!$A$3:$A$103,0)),"")
C27: {=IF(ROWS($1:25)<=COUNTIF(General!$G$3:$G$103,1),INDEX(General!$A$3:$A$103,SMALL(IF(General!$G$3:$G$103=1,ROW(INDIRECT("1:"&ROWS(General!$A$3:$A$103)))),ROWS($1:25))),"")} | E27: =IFERROR(INDEX(General!$C$3:$C$103,MATCH(C27,General!$A$3:$A$103,0)),"") | G27: =IFERROR(INDEX(General!$B$3:$B$103,MATCH(C27,General!$A$3:$A$103,0)),"")
C28: {=IF(ROWS($1:26)<=COUNTIF(General!$G$3:$G$103,1),INDEX(General!$A$3:$A$103,SMALL(IF(General!$G$3:$G$103=1,ROW(INDIRECT("1:"&ROWS(General!$A$3:$A$103)))),ROWS($1:26))),"")} | E28: =IFERROR(INDEX(General!$C$3:$C$103,MATCH(C28,General!$A$3:$A$103,0)),"") | G28: =IFERROR(INDEX(General!$B$3:$B$103,MATCH(C28,General!$A$3:$A$103,0)),"")
C29: {=IF(ROWS($1:27)<=COUNTIF(General!$G$3:$G$103,1),INDEX(General!$A$3:$A$103,SMALL(IF(General!$G$3:$G$103=1,ROW(INDIRECT("1:"&ROWS(General!$A$3:$A$103)))),ROWS($1:27))),"")} | E29: =IFERROR(INDEX(General!$C$3:$C$103,MATCH(C29,General!$A$3:$A$103,0)),"") | G29: =IFERROR(INDEX(General!$B$3:$B$103,MATCH(C29,General!$A$3:$A$103,0)),"")
C30: {=IF(ROWS($1:28)<=COUNTIF(General!$G$3:$G$103,1),INDEX(General!$A$3:$A$103,SMALL(IF(General!$G$3:$G$103=1,ROW(INDIRECT("1:"&ROWS(General!$A$3:$A$103)))),ROWS($1:28))),"")} | E30: =IFERROR(INDEX(General!$C$3:$C$103,MATCH(C30,General!$A$3:$A$103,0)),"") | G30: =IFERROR(INDEX(General!$B$3:$B$103,MATCH(C30,General!$A$3:$A$103,0)),"")
C31: {=IF(ROWS($1:29)<=COUNTIF(General!$G$3:$G$103,1),INDEX(General!$A$3:$A$103,SMALL(IF(General!$G$3:$G$103=1,ROW(INDIRECT("1:"&ROWS(General!$A$3:$A$103)))),ROWS($1:29))),"")} | E31: =IFERROR(INDEX(General!$C$3:$C$103,MATCH(C31,General!$A$3:$A$103,0)),"") | G31: =IFERROR(INDEX(General!$B$3:$B$103,MATCH(C31,General!$A$3:$A$103,0)),"")
C32: {=IF(ROWS($1:30)<=COUNTIF(General!$G$3:$G$103,1),INDEX(General!$A$3:$A$103,SMALL(IF(General!$G$3:$G$103=1,ROW(INDIRECT("1:"&ROWS(General!$A$3:$A$103)))),ROWS($1:30))),"")} | E32: =IFERROR(INDEX(General!$C$3:$C$103,MATCH(C32,General!$A$3:$A$103,0)),"") | G32: =IFERROR(INDEX(General!$B$3:$B$103,MATCH(C32,General!$A$3:$A$103,0)),"")
C33: {=IF(ROWS($1:31)<=COUNTIF(General!$G$3:$G$103,1),INDEX(General!$A$3:$A$103,SMALL(IF(General!$G$3:$G$103=1,ROW(INDIRECT("1:"&ROWS(General!$A$3:$A$103)))),ROWS($1:31))),"")} | E33: =IFERROR(INDEX(General!$C$3:$C$103,MATCH(C33,General!$A$3:$A$103,0)),"") | G33: =IFERROR(INDEX(General!$B$3:$B$103,MATCH(C33,General!$A$3:$A$103,0)),"")
C34: {=IF(ROWS($1:32)<=COUNTIF(General!$G$3:$G$103,1),INDEX(General!$A$3:$A$103,SMALL(IF(General!$G$3:$G$103=1,ROW(INDIRECT("1:"&ROWS(General!$A$3:$A$103)))),ROWS($1:32))),"")} | E34: =IFERROR(INDEX(General!$C$3:$C$103,MATCH(C34,General!$A$3:$A$103,0)),"") | G34: =IFERROR(INDEX(General!$B$3:$B$103,MATCH(C34,General!$A$3:$A$103,0)),"")
C35: {=IF(ROWS($1:33)<=COUNTIF(General!$G$3:$G$103,1),INDEX(General!$A$3:$A$103,SMALL(IF(General!$G$3:$G$103=1,ROW(INDIRECT("1:"&ROWS(General!$A$3:$A$103)))),ROWS($1:33))),"")} | E35: =IFERROR(INDEX(General!$C$3:$C$103,MATCH(C35,General!$A$3:$A$103,0)),"") | G35: =IFERROR(INDEX(General!$B$3:$B$103,MATCH(C35,General!$A$3:$A$103,0)),"")
C36: {=IF(ROWS($1:34)<=COUNTIF(General!$G$3:$G$103,1),INDEX(General!$A$3:$A$103,SMALL(IF(General!$G$3:$G$103=1,ROW(INDIRECT("1:"&ROWS(General!$A$3:$A$103)))),ROWS($1:34))),"")} | E36: =IFERROR(INDEX(General!$C$3:$C$103,MATCH(C36,General!$A$3:$A$103,0)),"") | G36: =IFERROR(INDEX(General!$B$3:$B$103,MATCH(C36,General!$A$3:$A$103,0)),"")
C37: {=IF(ROWS($1:35)<=COUNTIF(General!$G$3:$G$103,1),INDEX(General!$A$3:$A$103,SMALL(IF(General!$G$3:$G$103=1,ROW(INDIRECT("1:"&ROWS(General!$A$3:$A$103)))),ROWS($1:35))),"")} | E37: =IFERROR(INDEX(General!$C$3:$C$103,MATCH(C37,General!$A$3:$A$103,0)),"") | G37: =IFERROR(INDEX(General!$B$3:$B$103,MATCH(C37,General!$A$3:$A$103,0)),"")
C38: {=IF(ROWS($1:36)<=COUNTIF(General!$G$3:$G$103,1),INDEX(General!$A$3:$A$103,SMALL(IF(General!$G$3:$G$103=1,ROW(INDIRECT("1:"&ROWS(General!$A$3:$A$103)))),ROWS($1:36))),"")} | E38: =IFERROR(INDEX(General!$C$3:$C$103,MATCH(C38,General!$A$3:$A$103,0)),"") | G38: =IFERROR(INDEX(General!$B$3:$B$103,MATCH(C38,General!$A$3:$A$103,0)),"")
C39: {=IF(ROWS($1:37)<=COUNTIF(General!$G$3:$G$103,1),INDEX(General!$A$3:$A$103,SMALL(IF(General!$G$3:$G$103=1,ROW(INDIRECT("1:"&ROWS(General!$A$3:$A$103)))),ROWS($1:37))),"")} | E39: =IFERROR(INDEX(General!$C$3:$C$103,MATCH(C39,General!$A$3:$A$103,0)),"") | G39: =IFERROR(INDEX(General!$B$3:$B$103,MATCH(C39,General!$A$3:$A$103,0)),"")
C40: {=IF(ROWS($1:38)<=COUNTIF(General!$G$3:$G$103,1),INDEX(General!$A$3:$A$103,SMALL(IF(General!$G$3:$G$103=1,ROW(INDIRECT("1:"&ROWS(General!$A$3:$A$103)))),ROWS($1:38))),"")} | E40: =IFERROR(INDEX(General!$C$3:$C$103,MATCH(C40,General!$A$3:$A$103,0)),"") | G40: =IFERROR(INDEX(General!$B$3:$B$103,MATCH(C40,General!$A$3:$A$103,0)),"")
C41: {=IF(ROWS($1:39)<=COUNTIF(General!$G$3:$G$103,1),INDEX(General!$A$3:$A$103,SMALL(IF(General!$G$3:$G$103=1,ROW(INDIRECT("1:"&ROWS(General!$A$3:$A$103)))),ROWS($1:39))),"")} | E41: =IFERROR(INDEX(General!$C$3:$C$103,MATCH(C41,General!$A$3:$A$103,0)),"") | G41: =IFERROR(INDEX(General!$B$3:$B$103,MATCH(C41,General!$A$3:$A$103,0)),"")
C42: {=IF(ROWS($1:40)<=COUNTIF(General!$G$3:$G$103,1),INDEX(General!$A$3:$A$103,SMALL(IF(General!$G$3:$G$103=1,ROW(INDIRECT("1:"&ROWS(General!$A$3:$A$103)))),ROWS($1:40))),"")} | E42: =IFERROR(INDEX(General!$C$3:$C$103,MATCH(C42,General!$A$3:$A$103,0)),"") | G42: =IFERROR(INDEX(General!$B$3:$B$103,MATCH(C42,General!$A$3:$A$103,0)),"")
C43: {=IF(ROWS($1:41)<=COUNTIF(General!$G$3:$G$103,1),INDEX(General!$A$3:$A$103,SMALL(IF(General!$G$3:$G$103=1,ROW(INDIRECT("1:"&ROWS(General!$A$3:$A$103)))),ROWS($1:41))),"")} | E43: =IFERROR(INDEX(General!$C$3:$C$103,MATCH(C43,General!$A$3:$A$103,0)),"") | G43: =IFERROR(INDEX(General!$B$3:$B$103,MATCH(C43,General!$A$3:$A$103,0)),"")
C44: {=IF(ROWS($1:42)<=COUNTIF(General!$G$3:$G$103,1),INDEX(General!$A$3:$A$103,SMALL(IF(General!$G$3:$G$103=1,ROW(INDIRECT("1:"&ROWS(General!$A$3:$A$103)))),ROWS($1:42))),"")} | E44: =IFERROR(INDEX(General!$C$3:$C$103,MATCH(C44,General!$A$3:$A$103,0)),"") | G44: =IFERROR(INDEX(General!$B$3:$B$103,MATCH(C44,General!$A$3:$A$103,0)),"")
C45: {=IF(ROWS($1:43)<=COUNTIF(General!$G$3:$G$103,1),INDEX(General!$A$3:$A$103,SMALL(IF(General!$G$3:$G$103=1,ROW(INDIRECT("1:"&ROWS(General!$A$3:$A$103)))),ROWS($1:43))),"")} | E45: =IFERROR(INDEX(General!$C$3:$C$103,MATCH(C45,General!$A$3:$A$103,0)),"") | G45: =IFERROR(INDEX(General!$B$3:$B$103,MATCH(C45,General!$A$3:$A$103,0)),"")
C46: {=IF(ROWS($1:44)<=COUNTIF(General!$G$3:$G$103,1),INDEX(General!$A$3:$A$103,SMALL(IF(General!$G$3:$G$103=1,ROW(INDIRECT("1:"&ROWS(General!$A$3:$A$103)))),ROWS($1:44))),"")} | E46: =IFERROR(INDEX(General!$C$3:$C$103,MATCH(C46,General!$A$3:$A$103,0)),"") | G46: =IFERROR(INDEX(General!$B$3:$B$103,MATCH(C46,General!$A$3:$A$103,0)),"")
C47: {=IF(ROWS($1:45)<=COUNTIF(General!$G$3:$G$103,1),INDEX(General!$A$3:$A$103,SMALL(IF(General!$G$3:$G$103=1,ROW(INDIRECT("1:"&ROWS(General!$A$3:$A$103)))),ROWS($1:45))),"")} | E47: =IFERROR(INDEX(General!$C$3:$C$103,MATCH(C47,General!$A$3:$A$103,0)),"") | G47: =IFERROR(INDEX(General!$B$3:$B$103,MATCH(C47,General!$A$3:$A$103,0)),"")
C48: {=IF(ROWS($1:46)<=COUNTIF(General!$G$3:$G$103,1),INDEX(General!$A$3:$A$103,SMALL(IF(General!$G$3:$G$103=1,ROW(INDIRECT("1:"&ROWS(General!$A$3:$A$103)))),ROWS($1:46))),"")} | E48: =IFERROR(INDEX(General!$C$3:$C$103,MATCH(C48,General!$A$3:$A$103,0)),"") | G48: =IFERROR(INDEX(General!$B$3:$B$103,MATCH(C48,General!$A$3:$A$103,0)),"")
C49: {=IF(ROWS($1:47)<=COUNTIF(General!$G$3:$G$103,1),INDEX(General!$A$3:$A$103,SMALL(IF(General!$G$3:$G$103=1,ROW(INDIRECT("1:"&ROWS(General!$A$3:$A$103)))),ROWS($1:47))),"")} | E49: =IFERROR(INDEX(General!$C$3:$C$103,MATCH(C49,General!$A$3:$A$103,0)),"") | G49: =IFERROR(INDEX(General!$B$3:$B$103,MATCH(C49,General!$A$3:$A$103,0)),"")
C50: {=IF(ROWS($1:48)<=COUNTIF(General!$G$3:$G$103,1),INDEX(General!$A$3:$A$103,SMALL(IF(General!$G$3:$G$103=1,ROW(INDIRECT("1:"&ROWS(General!$A$3:$A$103)))),ROWS($1:48))),"")} | E50: =IFERROR(INDEX(General!$C$3:$C$103,MATCH(C50,General!$A$3:$A$103,0)),"") | G50: =IFERROR(INDEX(General!$B$3:$B$103,MATCH(C50,General!$A$3:$A$103,0)),"")
C51: {=IF(ROWS($1:49)<=COUNTIF(General!$G$3:$G$103,1),INDEX(General!$A$3:$A$103,SMALL(IF(General!$G$3:$G$103=1,ROW(INDIRECT("1:"&ROWS(General!$A$3:$A$103)))),ROWS($1:49))),"")} | E51: =IFERROR(INDEX(General!$C$3:$C$103,MATCH(C51,General!$A$3:$A$103,0)),"") | G51: =IFERROR(INDEX(General!$B$3:$B$103,MATCH(C51,General!$A$3:$A$103,0)),"")
C52: {=IF(ROWS($1:50)<=COUNTIF(General!$G$3:$G$103,1),INDEX(General!$A$3:$A$103,SMALL(IF(General!$G$3:$G$103=1,ROW(INDIRECT("1:"&ROWS(General!$A$3:$A$103)))),ROWS($1:50))),"")} | E52: =IFERROR(INDEX(General!$C$3:$C$103,MATCH(C52,General!$A$3:$A$103,0)),"") | G52: =IFERROR(INDEX(General!$B$3:$B$103,MATCH(C52,General!$A$3:$A$103,0)),"")
C53: {=IF(ROWS($1:51)<=COUNTIF(General!$G$3:$G$103,1),INDEX(General!$A$3:$A$103,SMALL(IF(General!$G$3:$G$103=1,ROW(INDIRECT("1:"&ROWS(General!$A$3:$A$103)))),ROWS($1:51))),"")} | E53: =IFERROR(INDEX(General!$C$3:$C$103,MATCH(C53,General!$A$3:$A$103,0)),"") | G53: =IFERROR(INDEX(General!$B$3:$B$103,MATCH(C53,General!$A$3:$A$103,0)),"")
C54: {=IF(ROWS($1:52)<=COUNTIF(General!$G$3:$G$103,1),INDEX(General!$A$3:$A$103,SMALL(IF(General!$G$3:$G$103=1,ROW(INDIRECT("1:"&ROWS(General!$A$3:$A$103)))),ROWS($1:52))),"")} | E54: =IFERROR(INDEX(General!$C$3:$C$103,MATCH(C54,General!$A$3:$A$103,0)),"") | G54: =IFERROR(INDEX(General!$B$3:$B$103,MATCH(C54,General!$A$3:$A$103,0)),"")
C55: {=IF(ROWS($1:53)<=COUNTIF(General!$G$3:$G$103,1),INDEX(General!$A$3:$A$103,SMALL(IF(General!$G$3:$G$103=1,ROW(INDIRECT("1:"&ROWS(General!$A$3:$A$103)))),ROWS($1:53))),"")} | E55: =IFERROR(INDEX(General!$C$3:$C$103,MATCH(C55,General!$A$3:$A$103,0)),"") | G55: =IFERROR(INDEX(General!$B$3:$B$103,MATCH(C55,General!$A$3:$A$103,0)),"")
C56: {=IF(ROWS($1:54)<=COUNTIF(General!$G$3:$G$103,1),INDEX(General!$A$3:$A$103,SMALL(IF(General!$G$3:$G$103=1,ROW(INDIRECT("1:"&ROWS(General!$A$3:$A$103)))),ROWS($1:54))),"")} | E56: =IFERROR(INDEX(General!$C$3:$C$103,MATCH(C56,General!$A$3:$A$103,0)),"") | G56: =IFERROR(INDEX(General!$B$3:$B$103,MATCH(C56,General!$A$3:$A$103,0)),"")
C57: {=IF(ROWS($1:55)<=COUNTIF(General!$G$3:$G$103,1),INDEX(General!$A$3:$A$103,SMALL(IF(General!$G$3:$G$103=1,ROW(INDIRECT("1:"&ROWS(General!$A$3:$A$103)))),ROWS($1:55))),"")} | E57: =IFERROR(INDEX(General!$C$3:$C$103,MATCH(C57,General!$A$3:$A$103,0)),"") | G57: =IFERROR(INDEX(General!$B$3:$B$103,MATCH(C57,General!$A$3:$A$103,0)),"")
C58: {=IF(ROWS($1:56)<=COUNTIF(General!$G$3:$G$103,1),INDEX(General!$A$3:$A$103,SMALL(IF(General!$G$3:$G$103=1,ROW(INDIRECT("1:"&ROWS(General!$A$3:$A$103)))),ROWS($1:56))),"")} | E58: =IFERROR(INDEX(General!$C$3:$C$103,MATCH(C58,General!$A$3:$A$103,0)),"") | G58: =IFERROR(INDEX(General!$B$3:$B$103,MATCH(C58,General!$A$3:$A$103,0)),"")
C59: {=IF(ROWS($1:57)<=COUNTIF(General!$G$3:$G$103,1),INDEX(General!$A$3:$A$103,SMALL(IF(General!$G$3:$G$103=1,ROW(INDIRECT("1:"&ROWS(General!$A$3:$A$103)))),ROWS($1:57))),"")} | E59: =IFERROR(INDEX(General!$C$3:$C$103,MATCH(C59,General!$A$3:$A$103,0)),"") | G59: =IFERROR(INDEX(General!$B$3:$B$103,MATCH(C59,General!$A$3:$A$103,0)),"")
C60: {=IF(ROWS($1:58)<=COUNTIF(General!$G$3:$G$103,1),INDEX(General!$A$3:$A$103,SMALL(IF(General!$G$3:$G$103=1,ROW(INDIRECT("1:"&ROWS(General!$A$3:$A$103)))),ROWS($1:58))),"")} | E60: =IFERROR(INDEX(General!$C$3:$C$103,MATCH(C60,General!$A$3:$A$103,0)),"") | G60: =IFERROR(INDEX(General!$B$3:$B$103,MATCH(C60,General!$A$3:$A$103,0)),"")
C61: {=IF(ROWS($1:59)<=COUNTIF(General!$G$3:$G$103,1),INDEX(General!$A$3:$A$103,SMALL(IF(General!$G$3:$G$103=1,ROW(INDIRECT("1:"&ROWS(General!$A$3:$A$103)))),ROWS($1:59))),"")} | E61: =IFERROR(INDEX(General!$C$3:$C$103,MATCH(C61,General!$A$3:$A$103,0)),"") | G61: =IFERROR(INDEX(General!$B$3:$B$103,MATCH(C61,General!$A$3:$A$103,0)),"")
C62: {=IF(ROWS($1:60)<=COUNTIF(General!$G$3:$G$103,1),INDEX(General!$A$3:$A$103,SMALL(IF(General!$G$3:$G$103=1,ROW(INDIRECT("1:"&ROWS(General!$A$3:$A$103)))),ROWS($1:60))),"")} | E62: =IFERROR(INDEX(General!$C$3:$C$103,MATCH(C62,General!$A$3:$A$103,0)),"") | G62: =IFERROR(INDEX(General!$B$3:$B$103,MATCH(C62,General!$A$3:$A$103,0)),"")
C63: {=IF(ROWS($1:61)<=COUNTIF(General!$G$3:$G$103,1),INDEX(General!$A$3:$A$103,SMALL(IF(General!$G$3:$G$103=1,ROW(INDIRECT("1:"&ROWS(General!$A$3:$A$103)))),ROWS($1:61))),"")} | E63: =IFERROR(INDEX(General!$C$3:$C$103,MATCH(C63,General!$A$3:$A$103,0)),"") | G63: =IFERROR(INDEX(General!$B$3:$B$103,MATCH(C63,General!$A$3:$A$103,0)),"")
C64: {=IF(ROWS($1:62)<=COUNTIF(General!$G$3:$G$103,1),INDEX(General!$A$3:$A$103,SMALL(IF(General!$G$3:$G$103=1,ROW(INDIRECT("1:"&ROWS(General!$A$3:$A$103)))),ROWS($1:62))),"")} | E64: =IFERROR(INDEX(General!$C$3:$C$103,MATCH(C64,General!$A$3:$A$103,0)),"") | G64: =IFERROR(INDEX(General!$B$3:$B$103,MATCH(C64,General!$A$3:$A$103,0)),"")
C65: {=IF(ROWS($1:63)<=COUNTIF(General!$G$3:$G$103,1),INDEX(General!$A$3:$A$103,SMALL(IF(General!$G$3:$G$103=1,ROW(INDIRECT("1:"&ROWS(General!$A$3:$A$103)))),ROWS($1:63))),"")} | E65: =IFERROR(INDEX(General!$C$3:$C$103,MATCH(C65,General!$A$3:$A$103,0)),"") | G65: =IFERROR(INDEX(General!$B$3:$B$103,MATCH(C65,General!$A$3:$A$103,0)),"")
C66: {=IF(ROWS($1:64)<=COUNTIF(General!$G$3:$G$103,1),INDEX(General!$A$3:$A$103,SMALL(IF(General!$G$3:$G$103=1,ROW(INDIRECT("1:"&ROWS(General!$A$3:$A$103)))),ROWS($1:64))),"")} | E66: =IFERROR(INDEX(General!$C$3:$C$103,MATCH(C66,General!$A$3:$A$103,0)),"") | G66: =IFERROR(INDEX(General!$B$3:$B$103,MATCH(C66,General!$A$3:$A$103,0)),"")
C67: {=IF(ROWS($1:65)<=COUNTIF(General!$G$3:$G$103,1),INDEX(General!$A$3:$A$103,SMALL(IF(General!$G$3:$G$103=1,ROW(INDIRECT("1:"&ROWS(General!$A$3:$A$103)))),ROWS($1:65))),"")} | E67: =IFERROR(INDEX(General!$C$3:$C$103,MATCH(C67,General!$A$3:$A$103,0)),"") | G67: =IFERROR(INDEX(General!$B$3:$B$103,MATCH(C67,General!$A$3:$A$103,0)),"")
C68: {=IF(ROWS($1:66)<=COUNTIF(General!$G$3:$G$103,1),INDEX(General!$A$3:$A$103,SMALL(IF(General!$G$3:$G$103=1,ROW(INDIRECT("1:"&ROWS(General!$A$3:$A$103)))),ROWS($1:66))),"")} | E68: =IFERROR(INDEX(General!$C$3:$C$103,MATCH(C68,General!$A$3:$A$103,0)),"") | G68: =IFERROR(INDEX(General!$B$3:$B$103,MATCH(C68,General!$A$3:$A$103,0)),"")
C69: {=IF(ROWS($1:67)<=COUNTIF(General!$G$3:$G$103,1),INDEX(General!$A$3:$A$103,SMALL(IF(General!$G$3:$G$103=1,ROW(INDIRECT("1:"&ROWS(General!$A$3:$A$103)))),ROWS($1:67))),"")} | E69: =IFERROR(INDEX(General!$C$3:$C$103,MATCH(C69,General!$A$3:$A$103,0)),"") | G69: =IFERROR(INDEX(General!$B$3:$B$103,MATCH(C69,General!$A$3:$A$103,0)),"")
C70: {=IF(ROWS($1:68)<=COUNTIF(General!$G$3:$G$103,1),INDEX(General!$A$3:$A$103,SMALL(IF(General!$G$3:$G$103=1,ROW(INDIRECT("1:"&ROWS(General!$A$3:$A$103)))),ROWS($1:68))),"")} | E70: =IFERROR(INDEX(General!$C$3:$C$103,MATCH(C70,General!$A$3:$A$103,0)),"") | G70: =IFERROR(INDEX(General!$B$3:$B$103,MATCH(C70,General!$A$3:$A$103,0)),"")
C71: {=IF(ROWS($1:69)<=COUNTIF(General!$G$3:$G$103,1),INDEX(General!$A$3:$A$103,SMALL(IF(General!$G$3:$G$103=1,ROW(INDIRECT("1:"&ROWS(General!$A$3:$A$103)))),ROWS($1:69))),"")} | E71: =IFERROR(INDEX(General!$C$3:$C$103,MATCH(C71,General!$A$3:$A$103,0)),"") | G71: =IFERROR(INDEX(General!$B$3:$B$103,MATCH(C71,General!$A$3:$A$103,0)),"")
C72: {=IF(ROWS($1:70)<=COUNTIF(General!$G$3:$G$103,1),INDEX(General!$A$3:$A$103,SMALL(IF(General!$G$3:$G$103=1,ROW(INDIRECT("1:"&ROWS(General!$A$3:$A$103)))),ROWS($1:70))),"")} | E72: =IFERROR(INDEX(General!$C$3:$C$103,MATCH(C72,General!$A$3:$A$103,0)),"") | G72: =IFERROR(INDEX(General!$B$3:$B$103,MATCH(C72,General!$A$3:$A$103,0)),"")
C73: {=IF(ROWS($1:71)<=COUNTIF(General!$G$3:$G$103,1),INDEX(General!$A$3:$A$103,SMALL(IF(General!$G$3:$G$103=1,ROW(INDIRECT("1:"&ROWS(General!$A$3:$A$103)))),ROWS($1:71))),"")} | E73: =IFERROR(INDEX(General!$C$3:$C$103,MATCH(C73,General!$A$3:$A$103,0)),"") | G73: =IFERROR(INDEX(General!$B$3:$B$103,MATCH(C73,General!$A$3:$A$103,0)),"")
C74: {=IF(ROWS($1:72)<=COUNTIF(General!$G$3:$G$103,1),INDEX(General!$A$3:$A$103,SMALL(IF(General!$G$3:$G$103=1,ROW(INDIRECT("1:"&ROWS(General!$A$3:$A$103)))),ROWS($1:72))),"")} | E74: =IFERROR(INDEX(General!$C$3:$C$103,MATCH(C74,General!$A$3:$A$103,0)),"") | G74: =IFERROR(INDEX(General!$B$3:$B$103,MATCH(C74,General!$A$3:$A$103,0)),"")
C75: {=IF(ROWS($1:73)<=COUNTIF(General!$G$3:$G$103,1),INDEX(General!$A$3:$A$103,SMALL(IF(General!$G$3:$G$103=1,ROW(INDIRECT("1:"&ROWS(General!$A$3:$A$103)))),ROWS($1:73))),"")} | E75: =IFERROR(INDEX(General!$C$3:$C$103,MATCH(C75,General!$A$3:$A$103,0)),"") | G75: =IFERROR(INDEX(General!$B$3:$B$103,MATCH(C75,General!$A$3:$A$103,0)),"")
C76: {=IF(ROWS($1:74)<=COUNTIF(General!$G$3:$G$103,1),INDEX(General!$A$3:$A$103,SMALL(IF(General!$G$3:$G$103=1,ROW(INDIRECT("1:"&ROWS(General!$A$3:$A$103)))),ROWS($1:74))),"")} | E76: =IFERROR(INDEX(General!$C$3:$C$103,MATCH(C76,General!$A$3:$A$103,0)),"") | G76: =IFERROR(INDEX(General!$B$3:$B$103,MATCH(C76,General!$A$3:$A$103,0)),"")
C77: {=IF(ROWS($1:75)<=COUNTIF(General!$G$3:$G$103,1),INDEX(General!$A$3:$A$103,SMALL(IF(General!$G$3:$G$103=1,ROW(INDIRECT("1:"&ROWS(General!$A$3:$A$103)))),ROWS($1:75))),"")} | E77: =IFERROR(INDEX(General!$C$3:$C$103,MATCH(C77,General!$A$3:$A$103,0)),"") | G77: =IFERROR(INDEX(General!$B$3:$B$103,MATCH(C77,General!$A$3:$A$103,0)),"")
C78: {=IF(ROWS($1:76)<=COUNTIF(General!$G$3:$G$103,1),INDEX(General!$A$3:$A$103,SMALL(IF(General!$G$3:$G$103=1,ROW(INDIRECT("1:"&ROWS(General!$A$3:$A$103)))),ROWS($1:76))),"")} | E78: =IFERROR(INDEX(General!$C$3:$C$103,MATCH(C78,General!$A$3:$A$103,0)),"") | G78: =IFERROR(INDEX(General!$B$3:$B$103,MATCH(C78,General!$A$3:$A$103,0)),"")
C79: {=IF(ROWS($1:77)<=COUNTIF(General!$G$3:$G$103,1),INDEX(General!$A$3:$A$103,SMALL(IF(General!$G$3:$G$103=1,ROW(INDIRECT("1:"&ROWS(General!$A$3:$A$103)))),ROWS($1:77))),"")} | E79: =IFERROR(INDEX(General!$C$3:$C$103,MATCH(C79,General!$A$3:$A$103,0)),"") | G79: =IFERROR(INDEX(General!$B$3:$B$103,MATCH(C79,General!$A$3:$A$103,0)),"")
C80: {=IF(ROWS($1:78)<=COUNTIF(General!$G$3:$G$103,1),INDEX(General!$A$3:$A$103,SMALL(IF(General!$G$3:$G$103=1,ROW(INDIRECT("1:"&ROWS(General!$A$3:$A$103)))),ROWS($1:78))),"")} | E80: =IFERROR(INDEX(General!$C$3:$C$103,MATCH(C80,General!$A$3:$A$103,0)),"") | G80: =IFERROR(INDEX(General!$B$3:$B$103,MATCH(C80,General!$A$3:$A$103,0)),"")
C81: {=IF(ROWS($1:79)<=COUNTIF(General!$G$3:$G$103,1),INDEX(General!$A$3:$A$103,SMALL(IF(General!$G$3:$G$103=1,ROW(INDIRECT("1:"&ROWS(General!$A$3:$A$103)))),ROWS($1:79))),"")} | E81: =IFERROR(INDEX(General!$C$3:$C$103,MATCH(C81,General!$A$3:$A$103,0)),"") | G81: =IFERROR(INDEX(General!$B$3:$B$103,MATCH(C81,General!$A$3:$A$103,0)),"")
C82: {=IF(ROWS($1:80)<=COUNTIF(General!$G$3:$G$103,1),INDEX(General!$A$3:$A$103,SMALL(IF(General!$G$3:$G$103=1,ROW(INDIRECT("1:"&ROWS(General!$A$3:$A$103)))),ROWS($1:80))),"")} | E82: =IFERROR(INDEX(General!$C$3:$C$103,MATCH(C82,General!$A$3:$A$103,0)),"") | G82: =IFERROR(INDEX(General!$B$3:$B$103,MATCH(C82,General!$A$3:$A$103,0)),"")
C83: {=IF(ROWS($1:81)<=COUNTIF(General!$G$3:$G$103,1),INDEX(General!$A$3:$A$103,SMALL(IF(General!$G$3:$G$103=1,ROW(INDIRECT("1:"&ROWS(General!$A$3:$A$103)))),ROWS($1:81))),"")} | E83: =IFERROR(INDEX(General!$C$3:$C$103,MATCH(C83,General!$A$3:$A$103,0)),"") | G83: =IFERROR(INDEX(General!$B$3:$B$103,MATCH(C83,General!$A$3:$A$103,0)),"")
C84: {=IF(ROWS($1:82)<=COUNTIF(General!$G$3:$G$103,1),INDEX(General!$A$3:$A$103,SMALL(IF(General!$G$3:$G$103=1,ROW(INDIRECT("1:"&ROWS(General!$A$3:$A$103)))),ROWS($1:82))),"")} | E84: =IFERROR(INDEX(General!$C$3:$C$103,MATCH(C84,General!$A$3:$A$103,0)),"") | G84: =IFERROR(INDEX(General!$B$3:$B$103,MATCH(C84,General!$A$3:$A$103,0)),"")
C85: {=IF(ROWS($1:83)<=COUNTIF(General!$G$3:$G$103,1),INDEX(General!$A$3:$A$103,SMALL(IF(General!$G$3:$G$103=1,ROW(INDIRECT("1:"&ROWS(General!$A$3:$A$103)))),ROWS($1:83))),"")} | E85: =IFERROR(INDEX(General!$C$3:$C$103,MATCH(C85,General!$A$3:$A$103,0)),"") | G85: =IFERROR(INDEX(General!$B$3:$B$103,MATCH(C85,General!$A$3:$A$103,0)),"")
C86: {=IF(ROWS($1:84)<=COUNTIF(General!$G$3:$G$103,1),INDEX(General!$A$3:$A$103,SMALL(IF(General!$G$3:$G$103=1,ROW(INDIRECT("1:"&ROWS(General!$A$3:$A$103)))),ROWS($1:84))),"")} | E86: =IFERROR(INDEX(General!$C$3:$C$103,MATCH(C86,General!$A$3:$A$103,0)),"") | G86: =IFERROR(INDEX(General!$B$3:$B$103,MATCH(C86,General!$A$3:$A$103,0)),"")
C87: {=IF(ROWS($1:85)<=COUNTIF(General!$G$3:$G$103,1),INDEX(General!$A$3:$A$103,SMALL(IF(General!$G$3:$G$103=1,ROW(INDIRECT("1:"&ROWS(General!$A$3:$A$103)))),ROWS($1:85))),"")} | E87: =IFERROR(INDEX(General!$C$3:$C$103,MATCH(C87,General!$A$3:$A$103,0)),"") | G87: =IFERROR(INDEX(General!$B$3:$B$103,MATCH(C87,General!$A$3:$A$103,0)),"")
C88: {=IF(ROWS($1:86)<=COUNTIF(General!$G$3:$G$103,1),INDEX(General!$A$3:$A$103,SMALL(IF(General!$G$3:$G$103=1,ROW(INDIRECT("1:"&ROWS(General!$A$3:$A$103)))),ROWS($1:86))),"")} | E88: =IFERROR(INDEX(General!$C$3:$C$103,MATCH(C88,General!$A$3:$A$103,0)),"") | G88: =IFERROR(INDEX(General!$B$3:$B$103,MATCH(C88,General!$A$3:$A$103,0)),"")
C89: {=IF(ROWS($1:87)<=COUNTIF(General!$G$3:$G$103,1),INDEX(General!$A$3:$A$103,SMALL(IF(General!$G$3:$G$103=1,ROW(INDIRECT("1:"&ROWS(General!$A$3:$A$103)))),ROWS($1:87))),"")} | E89: =IFERROR(INDEX(General!$C$3:$C$103,MATCH(C89,General!$A$3:$A$103,0)),"") | G89: =IFERROR(INDEX(General!$B$3:$B$103,MATCH(C89,General!$A$3:$A$103,0)),"")
C90: {=IF(ROWS($1:88)<=COUNTIF(General!$G$3:$G$103,1),INDEX(General!$A$3:$A$103,SMALL(IF(General!$G$3:$G$103=1,ROW(INDIRECT("1:"&ROWS(General!$A$3:$A$103)))),ROWS($1:88))),"")} | E90: =IFERROR(INDEX(General!$C$3:$C$103,MATCH(C90,General!$A$3:$A$103,0)),"") | G90: =IFERROR(INDEX(General!$B$3:$B$103,MATCH(C90,General!$A$3:$A$103,0)),"")
C91: {=IF(ROWS($1:89)<=COUNTIF(General!$G$3:$G$103,1),INDEX(General!$A$3:$A$103,SMALL(IF(General!$G$3:$G$103=1,ROW(INDIRECT("1:"&ROWS(General!$A$3:$A$103)))),ROWS($1:89))),"")} | E91: =IFERROR(INDEX(General!$C$3:$C$103,MATCH(C91,General!$A$3:$A$103,0)),"") | G91: =IFERROR(INDEX(General!$B$3:$B$103,MATCH(C91,General!$A$3:$A$103,0)),"")
C92: {=IF(ROWS($1:90)<=COUNTIF(General!$G$3:$G$103,1),INDEX(General!$A$3:$A$103,SMALL(IF(General!$G$3:$G$103=1,ROW(INDIRECT("1:"&ROWS(General!$A$3:$A$103)))),ROWS($1:90))),"")} | E92: =IFERROR(INDEX(General!$C$3:$C$103,MATCH(C92,General!$A$3:$A$103,0)),"") | G92: =IFERROR(INDEX(General!$B$3:$B$103,MATCH(C92,General!$A$3:$A$103,0)),"")
C93: {=IF(ROWS($1:91)<=COUNTIF(General!$G$3:$G$103,1),INDEX(General!$A$3:$A$103,SMALL(IF(General!$G$3:$G$103=1,ROW(INDIRECT("1:"&ROWS(General!$A$3:$A$103)))),ROWS($1:91))),"")} | E93: =IFERROR(INDEX(General!$C$3:$C$103,MATCH(C93,General!$A$3:$A$103,0)),"") | G93: =IFERROR(INDEX(General!$B$3:$B$103,MATCH(C93,General!$A$3:$A$103,0)),"")
C94: {=IF(ROWS($1:92)<=COUNTIF(General!$G$3:$G$103,1),INDEX(General!$A$3:$A$103,SMALL(IF(General!$G$3:$G$103=1,ROW(INDIRECT("1:"&ROWS(General!$A$3:$A$103)))),ROWS($1:92))),"")} | E94: =IFERROR(INDEX(General!$C$3:$C$103,MATCH(C94,General!$A$3:$A$103,0)),"") | G94: =IFERROR(INDEX(General!$B$3:$B$103,MATCH(C94,General!$A$3:$A$103,0)),"")
C95: {=IF(ROWS($1:93)<=COUNTIF(General!$G$3:$G$103,1),INDEX(General!$A$3:$A$103,SMALL(IF(General!$G$3:$G$103=1,ROW(INDIRECT("1:"&ROWS(General!$A$3:$A$103)))),ROWS($1:93))),"")} | E95: =IFERROR(INDEX(General!$C$3:$C$103,MATCH(C95,General!$A$3:$A$103,0)),"") | G95: =IFERROR(INDEX(General!$B$3:$B$103,MATCH(C95,General!$A$3:$A$103,0)),"")
C96: {=IF(ROWS($1:94)<=COUNTIF(General!$G$3:$G$103,1),INDEX(General!$A$3:$A$103,SMALL(IF(General!$G$3:$G$103=1,ROW(INDIRECT("1:"&ROWS(General!$A$3:$A$103)))),ROWS($1:94))),"")} | E96: =IFERROR(INDEX(General!$C$3:$C$103,MATCH(C96,General!$A$3:$A$103,0)),"") | G96: =IFERROR(INDEX(General!$B$3:$B$103,MATCH(C96,General!$A$3:$A$103,0)),"")
C97: {=IF(ROWS($1:95)<=COUNTIF(General!$G$3:$G$103,1),INDEX(General!$A$3:$A$103,SMALL(IF(General!$G$3:$G$103=1,ROW(INDIRECT("1:"&ROWS(General!$A$3:$A$103)))),ROWS($1:95))),"")} | E97: =IFERROR(INDEX(General!$C$3:$C$103,MATCH(C97,General!$A$3:$A$103,0)),"") | G97: =IFERROR(INDEX(General!$B$3:$B$103,MATCH(C97,General!$A$3:$A$103,0)),"")
C98: {=IF(ROWS($1:96)<=COUNTIF(General!$G$3:$G$103,1),INDEX(General!$A$3:$A$103,SMALL(IF(General!$G$3:$G$103=1,ROW(INDIRECT("1:"&ROWS(General!$A$3:$A$103)))),ROWS($1:96))),"")} | E98: =IFERROR(INDEX(General!$C$3:$C$103,MATCH(C98,General!$A$3:$A$103,0)),"") | G98: =IFERROR(INDEX(General!$B$3:$B$103,MATCH(C98,General!$A$3:$A$103,0)),"")
C99: {=IF(ROWS($1:97)<=COUNTIF(General!$G$3:$G$103,1),INDEX(General!$A$3:$A$103,SMALL(IF(General!$G$3:$G$103=1,ROW(INDIRECT("1:"&ROWS(General!$A$3:$A$103)))),ROWS($1:97))),"")} | E99: =IFERROR(INDEX(General!$C$3:$C$103,MATCH(C99,General!$A$3:$A$103,0)),"") | G99: =IFERROR(INDEX(General!$B$3:$B$103,MATCH(C99,General!$A$3:$A$103,0)),"")
C100: {=IF(ROWS($1:98)<=COUNTIF(General!$G$3:$G$103,1),INDEX(General!$A$3:$A$103,SMALL(IF(General!$G$3:$G$103=1,ROW(INDIRECT("1:"&ROWS(General!$A$3:$A$103)))),ROWS($1:98))),"")} | E100: =IFERROR(INDEX(General!$C$3:$C$103,MATCH(C100,General!$A$3:$A$103,0)),"") | G100: =IFERROR(INDEX(General!$B$3:$B$103,MATCH(C100,General!$A$3:$A$103,0)),"")
C101: {=IF(ROWS($1:99)<=COUNTIF(General!$G$3:$G$103,1),INDEX(General!$A$3:$A$103,SMALL(IF(General!$G$3:$G$103=1,ROW(INDIRECT("1:"&ROWS(General!$A$3:$A$103)))),ROWS($1:99))),"")} | E101: =IFERROR(INDEX(General!$C$3:$C$103,MATCH(C101,General!$A$3:$A$103,0)),"") | G101: =IFERROR(INDEX(General!$B$3:$B$103,MATCH(C101,General!$A$3:$A$103,0)),"")
...

Sheet ATELIER
A1: INTERESSE POUR ATELIER | C1: NOM | E1: MAIL | G1: TELEPHONE
C3: {=IF(ROWS($1:1)<=COUNTIF(General!$F$3:$F$103,1),INDEX(General!$A$3:$A$103,SMALL(IF(General!$F$3:$F$103=1,ROW(INDIRECT("1:"&ROWS(General!$A$3:$A$103)))),ROWS($1:1))),"")} -> Daniel Pezeril | E3: =IFERROR(INDEX(General!$C$3:$C$103,MATCH(C3,General!$A$3:$A$103,0)),"") -> 0 | G3: =IFERROR(INDEX(General!$B$3:$B$103,MATCH(C3,General!$A$3:$A$103,0)),"") -> 644081800
C4: {=IF(ROWS($1:2)<=COUNTIF(General!$F$3:$F$103,1),INDEX(General!$A$3:$A$103,SMALL(IF(General!$F$3:$F$103=1,ROW(INDIRECT("1:"&ROWS(General!$A$3:$A$103)))),ROWS($1:2))),"")} -> Costa Ledormeur | E4: =IFERROR(INDEX(General!$C$3:$C$103,MATCH(C4,General!$A$3:$A$103,0)),"") -> 0 | G4: =IFERROR(INDEX(General!$B$3:$B$103,MATCH(C4,General!$A$3:$A$103,0)),"") -> 0
C5: {=IF(ROWS($1:3)<=COUNTIF(General!$F$3:$F$103,1),INDEX(General!$A$3:$A$103,SMALL(IF(General!$F$3:$F$103=1,ROW(INDIRECT("1:"&ROWS(General!$A$3:$A$103)))),ROWS($1:3))),"")} -> Adrien Testas | E5: =IFERROR(INDEX(General!$C$3:$C$103,MATCH(C5,General!$A$3:$A$103,0)),"") -> adrien.testas@live.fr | G5: =IFERROR(INDEX(General!$B$3:$B$103,MATCH(C5,General!$A$3:$A$103,0)),"") -> 789200542
C6: {=IF(ROWS($1:4)<=COUNTIF(General!$F$3:$F$103,1),INDEX(General!$A$3:$A$103,SMALL(IF(General!$F$3:$F$103=1,ROW(INDIRECT("1:"&ROWS(General!$A$3:$A$103)))),ROWS($1:4))),"")} -> ROMAIN | E6: =IFERROR(INDEX(General!$C$3:$C$103,MATCH(C6,General!$A$3:$A$103,0)),"") -> 2222 | G6: =IFERROR(INDEX(General!$B$3:$B$103,MATCH(C6,General!$A$3:$A$103,0)),"") -> 22222
C7: {=IF(ROWS($1:5)<=COUNTIF(General!$F$3:$F$103,1),INDEX(General!$A$3:$A$103,SMALL(IF(General!$F$3:$F$103=1,ROW(INDIRECT("1:"&ROWS(General!$A$3:$A$103)))),ROWS($1:5))),"")} | E7: =IFERROR(INDEX(General!$C$3:$C$103,MATCH(C7,General!$A$3:$A$103,0)),"") | G7: =IFERROR(INDEX(General!$B$3:$B$103,MATCH(C7,General!$A$3:$A$103,0)),"")
C8: {=IF(ROWS($1:6)<=COUNTIF(General!$F$3:$F$103,1),INDEX(General!$A$3:$A$103,SMALL(IF(General!$F$3:$F$103=1,ROW(INDIRECT("1:"&ROWS(General!$A$3:$A$103)))),ROWS($1:6))),"")} | E8: =IFERROR(INDEX(General!$C$3:$C$103,MATCH(C8,General!$A$3:$A$103,0)),"") | G8: =IFERROR(INDEX(General!$B$3:$B$103,MATCH(C8,General!$A$3:$A$103,0)),"")
C9: {=IF(ROWS($1:7)<=COUNTIF(General!$F$3:$F$103,1),INDEX(General!$A$3:$A$103,SMALL(IF(General!$F$3:$F$103=1,ROW(INDIRECT("1:"&ROWS(General!$A$3:$A$103)))),ROWS($1:7))),"")} | E9: =IFERROR(INDEX(General!$C$3:$C$103,MATCH(C9,General!$A$3:$A$103,0)),"") | G9: =IFERROR(INDEX(General!$B$3:$B$103,MATCH(C9,General!$A$3:$A$103,0)),"")
C10: {=IF(ROWS($1:8)<=COUNTIF(General!$F$3:$F$103,1),INDEX(General!$A$3:$A$103,SMALL(IF(General!$F$3:$F$103=1,ROW(INDIRECT("1:"&ROWS(General!$A$3:$A$103)))),ROWS($1:8))),"")} | E10: =IFERROR(INDEX(General!$C$3:$C$103,MATCH(C10,General!$A$3:$A$103,0)),"") | G10: =IFERROR(INDEX(General!$B$3:$B$103,MATCH(C10,General!$A$3:$A$103,0)),"")
C11: {=IF(ROWS($1:9)<=COUNTIF(General!$F$3:$F$103,1),INDEX(General!$A$3:$A$103,SMALL(IF(General!$F$3:$F$103=1,ROW(INDIRECT("1:"&ROWS(General!$A$3:$A$103)))),ROWS($1:9))),"")} | E11: =IFERROR(INDEX(General!$C$3:$C$103,MATCH(C11,General!$A$3:$A$103,0)),"") | G11: =IFERROR(INDEX(General!$B$3:$B$103,MATCH(C11,General!$A$3:$A$103,0)),"")
C12: {=IF(ROWS($1:10)<=COUNTIF(General!$F$3:$F$103,1),INDEX(General!$A$3:$A$103,SMALL(IF(General!$F$3:$F$103=1,ROW(INDIRECT("1:"&ROWS(General!$A$3:$A$103)))),ROWS($1:10))),"")} | E12: =IFERROR(INDEX(General!$C$3:$C$103,MATCH(C12,General!$A$3:$A$103,0)),"") | G12: =IFERROR(INDEX(General!$B$3:$B$103,MATCH(C12,General!$A$3:$A$103,0)),"")
C13: {=IF(ROWS($1:11)<=COUNTIF(General!$F$3:$F$103,1),INDEX(General!$A$3:$A$103,SMALL(IF(General!$F$3:$F$103=1,ROW(INDIRECT("1:"&ROWS(General!$A$3:$A$103)))),ROWS($1:11))),"")} | E13: =IFERROR(INDEX(General!$C$3:$C$103,MATCH(C13,General!$A$3:$A$103,0)),"") | G13: =IFERROR(INDEX(General!$B$3:$B$103,MATCH(C13,General!$A$3:$A$103,0)),"")
C14: {=IF(ROWS($1:12)<=COUNTIF(General!$F$3:$F$103,1),INDEX(General!$A$3:$A$103,SMALL(IF(General!$F$3:$F$103=1,ROW(INDIRECT("1:"&ROWS(General!$A$3:$A$103)))),ROWS($1:12))),"")} | E14: =IFERROR(INDEX(General!$C$3:$C$103,MATCH(C14,General!$A$3:$A$103,0)),"") | G14: =IFERROR(INDEX(General!$B$3:$B$103,MATCH(C14,General!$A$3:$A$103,0)),"")
C15: {=IF(ROWS($1:13)<=COUNTIF(General!$F$3:$F$103,1),INDEX(General!$A$3:$A$103,SMALL(IF(General!$F$3:$F$103=1,ROW(INDIRECT("1:"&ROWS(General!$A$3:$A$103)))),ROWS($1:13))),"")} | E15: =IFERROR(INDEX(General!$C$3:$C$103,MATCH(C15,General!$A$3:$A$103,0)),"") | G15: =IFERROR(INDEX(General!$B$3:$B$103,MATCH(C15,General!$A$3:$A$103,0)),"")
C16: {=IF(ROWS($1:14)<=COUNTIF(General!$F$3:$F$103,1),INDEX(General!$A$3:$A$103,SMALL(IF(General!$F$3:$F$103=1,ROW(INDIRECT("1:"&ROWS(General!$A$3:$A$103)))),ROWS($1:14))),"")} | E16: =IFERROR(INDEX(General!$C$3:$C$103,MATCH(C16,General!$A$3:$A$103,0)),"") | G16: =IFERROR(INDEX(General!$B$3:$B$103,MATCH(C16,General!$A$3:$A$103,0)),"")
C17: {=IF(ROWS($1:15)<=COUNTIF(General!$F$3:$F$103,1),INDEX(General!$A$3:$A$103,SMALL(IF(General!$F$3:$F$103=1,ROW(INDIRECT("1:"&ROWS(General!$A$3:$A$103)))),ROWS($1:15))),"")} | E17: =IFERROR(INDEX(General!$C$3:$C$103,MATCH(C17,General!$A$3:$A$103,0)),"") | G17: =IFERROR(INDEX(General!$B$3:$B$103,MATCH(C17,General!$A$3:$A$103,0)),"")
C18: {=IF(ROWS($1:16)<=COUNTIF(General!$F$3:$F$103,1),INDEX(General!$A$3:$A$103,SMALL(IF(General!$F$3:$F$103=1,ROW(INDIRECT("1:"&ROWS(General!$A$3:$A$103)))),ROWS($1:16))),"")} | E18: =IFERROR(INDEX(General!$C$3:$C$103,MATCH(C18,General!$A$3:$A$103,0)),"") | G18: =IFERROR(INDEX(General!$B$3:$B$103,MATCH(C18,General!$A$3:$A$103,0)),"")
C19: {=IF(ROWS($1:17)<=COUNTIF(General!$F$3:$F$103,1),INDEX(General!$A$3:$A$103,SMALL(IF(General!$F$3:$F$103=1,ROW(INDIRECT("1:"&ROWS(General!$A$3:$A$103)))),ROWS($1:17))),"")} | E19: =IFERROR(INDEX(General!$C$3:$C$103,MATCH(C19,General!$A$3:$A$103,0)),"") | G19: =IFERROR(INDEX(General!$B$3:$B$103,MATCH(C19,General!$A$3:$A$103,0)),"")
C20: {=IF(ROWS($1:18)<=COUNTIF(General!$F$3:$F$103,1),INDEX(General!$A$3:$A$103,SMALL(IF(General!$F$3:$F$103=1,ROW(INDIRECT("1:"&ROWS(General!$A$3:$A$103)))),ROWS($1:18))),"")} | E20: =IFERROR(INDEX(General!$C$3:$C$103,MATCH(C20,General!$A$3:$A$103,0)),"") | G20: =IFERROR(INDEX(General!$B$3:$B$103,MATCH(C20,General!$A$3:$A$103,0)),"")
C21: {=IF(ROWS($1:19)<=COUNTIF(General!$F$3:$F$103,1),INDEX(General!$A$3:$A$103,SMALL(IF(General!$F$3:$F$103=1,ROW(INDIRECT("1:"&ROWS(General!$A$3:$A$103)))),ROWS($1:19))),"")} | E21: =IFERROR(INDEX(General!$C$3:$C$103,MATCH(C21,General!$A$3:$A$103,0)),"") | G21: =IFERROR(INDEX(General!$B$3:$B$103,MATCH(C21,General!$A$3:$A$103,0)),"")
C22: {=IF(ROWS($1:20)<=COUNTIF(General!$F$3:$F$103,1),INDEX(General!$A$3:$A$103,SMALL(IF(General!$F$3:$F$103=1,ROW(INDIRECT("1:"&ROWS(General!$A$3:$A$103)))),ROWS($1:20))),"")} | E22: =IFERROR(INDEX(General!$C$3:$C$103,MATCH(C22,General!$A$3:$A$103,0)),"") | G22: =IFERROR(INDEX(General!$B$3:$B$103,MATCH(C22,General!$A$3:$A$103,0)),"")
C23: {=IF(ROWS($1:21)<=COUNTIF(General!$F$3:$F$103,1),INDEX(General!$A$3:$A$103,SMALL(IF(General!$F$3:$F$103=1,ROW(INDIRECT("1:"&ROWS(General!$A$3:$A$103)))),ROWS($1:21))),"")} | E23: =IFERROR(INDEX(General!$C$3:$C$103,MATCH(C23,General!$A$3:$A$103,0)),"") | G23: =IFERROR(INDEX(General!$B$3:$B$103,MATCH(C23,General!$A$3:$A$103,0)),"")
C24: {=IF(ROWS($1:22)<=COUNTIF(General!$F$3:$F$103,1),INDEX(General!$A$3:$A$103,SMALL(IF(General!$F$3:$F$103=1,ROW(INDIRECT("1:"&ROWS(General!$A$3:$A$103)))),ROWS($1:22))),"")} | E24: =IFERROR(INDEX(General!$C$3:$C$103,MATCH(C24,General!$A$3:$A$103,0)),"") | G24: =IFERROR(INDEX(General!$B$3:$B$103,MATCH(C24,General!$A$3:$A$103,0)),"")
C25: {=IF(ROWS($1:23)<=COUNTIF(General!$F$3:$F$103,1),INDEX(General!$A$3:$A$103,SMALL(IF(General!$F$3:$F$103=1,ROW(INDIRECT("1:"&ROWS(General!$A$3:$A$103)))),ROWS($1:23))),"")} | E25: =IFERROR(INDEX(General!$C$3:$C$103,MATCH(C25,General!$A$3:$A$103,0)),"") | G25: =IFERROR(INDEX(General!$B$3:$B$103,MATCH(C25,General!$A$3:$A$103,0)),"")
C26: {=IF(ROWS($1:24)<=COUNTIF(General!$F$3:$F$103,1),INDEX(General!$A$3:$A$103,SMALL(IF(General!$F$3:$F$103=1,ROW(INDIRECT("1:"&ROWS(General!$A$3:$A$103)))),ROWS($1:24))),"")} | E26: =IFERROR(INDEX(General!$C$3:$C$103,MATCH(C26,General!$A$3:$A$103,0)),"") | G26: =IFERROR(INDEX(General!$B$3:$B$103,MATCH(C26,General!$A$3:$A$103,0)),"")
C27: {=IF(ROWS($1:25)<=COUNTIF(General!$F$3:$F$103,1),INDEX(General!$A$3:$A$103,SMALL(IF(General!$F$3:$F$103=1,ROW(INDIRECT("1:"&ROWS(General!$A$3:$A$103)))),ROWS($1:25))),"")} | E27: =IFERROR(INDEX(General!$C$3:$C$103,MATCH(C27,General!$A$3:$A$103,0)),"") | G27: =IFERROR(INDEX(General!$B$3:$B$103,MATCH(C27,General!$A$3:$A$103,0)),"")
C28: {=IF(ROWS($1:26)<=COUNTIF(General!$F$3:$F$103,1),INDEX(General!$A$3:$A$103,SMALL(IF(General!$F$3:$F$103=1,ROW(INDIRECT("1:"&ROWS(General!$A$3:$A$103)))),ROWS($1:26))),"")} | E28: =IFERROR(INDEX(General!$C$3:$C$103,MATCH(C28,General!$A$3:$A$103,0)),"") | G28: =IFERROR(INDEX(General!$B$3:$B$103,MATCH(C28,General!$A$3:$A$103,0)),"")
C29: {=IF(ROWS($1:27)<=COUNTIF(General!$F$3:$F$103,1),INDEX(General!$A$3:$A$103,SMALL(IF(General!$F$3:$F$103=1,ROW(INDIRECT("1:"&ROWS(General!$A$3:$A$103)))),ROWS($1:27))),"")} | E29: =IFERROR(INDEX(General!$C$3:$C$103,MATCH(C29,General!$A$3:$A$103,0)),"") | G29: =IFERROR(INDEX(General!$B$3:$B$103,MATCH(C29,General!$A$3:$A$103,0)),"")
C30: {=IF(ROWS($1:28)<=COUNTIF(General!$F$3:$F$103,1),INDEX(General!$A$3:$A$103,SMALL(IF(General!$F$3:$F$103=1,ROW(INDIRECT("1:"&ROWS(General!$A$3:$A$103)))),ROWS($1:28))),"")} | E30: =IFERROR(INDEX(General!$C$3:$C$103,MATCH(C30,General!$A$3:$A$103,0)),"") | G30: =IFERROR(INDEX(General!$B$3:$B$103,MATCH(C30,General!$A$3:$A$103,0)),"")
C31: {=IF(ROWS($1:29)<=COUNTIF(General!$F$3:$F$103,1),INDEX(General!$A$3:$A$103,SMALL(IF(General!$F$3:$F$103=1,ROW(INDIRECT("1:"&ROWS(General!$A$3:$A$103)))),ROWS($1:29))),"")} | E31: =IFERROR(INDEX(General!$C$3:$C$103,MATCH(C31,General!$A$3:$A$103,0)),"") | G31: =IFERROR(INDEX(General!$B$3:$B$103,MATCH(C31,General!$A$3:$A$103,0)),"")
C32: {=IF(ROWS($1:30)<=COUNTIF(General!$F$3:$F$103,1),INDEX(General!$A$3:$A$103,SMALL(IF(General!$F$3:$F$103=1,ROW(INDIRECT("1:"&ROWS(General!$A$3:$A$103)))),ROWS($1:30))),"")} | E32: =IFERROR(INDEX(General!$C$3:$C$103,MATCH(C32,General!$A$3:$A$103,0)),"") | G32: =IFERROR(INDEX(General!$B$3:$B$103,MATCH(C32,General!$A$3:$A$103,0)),"")
C33: {=IF(ROWS($1:31)<=COUNTIF(General!$F$3:$F$103,1),INDEX(General!$A$3:$A$103,SMALL(IF(General!$F$3:$F$103=1,ROW(INDIRECT("1:"&ROWS(General!$A$3:$A$103)))),ROWS($1:31))),"")} | E33: =IFERROR(INDEX(General!$C$3:$C$103,MATCH(C33,General!$A$3:$A$103,0)),"") | G33: =IFERROR(INDEX(General!$B$3:$B$103,MATCH(C33,General!$A$3:$A$103,0)),"")
C34: {=IF(ROWS($1:32)<=COUNTIF(General!$F$3:$F$103,1),INDEX(General!$A$3:$A$103,SMALL(IF(General!$F$3:$F$103=1,ROW(INDIRECT("1:"&ROWS(General!$A$3:$A$103)))),ROWS($1:32))),"")} | E34: =IFERROR(INDEX(General!$C$3:$C$103,MATCH(C34,General!$A$3:$A$103,0)),"") | G34: =IFERROR(INDEX(General!$B$3:$B$103,MATCH(C34,General!$A$3:$A$103,0)),"")
C35: {=IF(ROWS($1:33)<=COUNTIF(General!$F$3:$F$103,1),INDEX(General!$A$3:$A$103,SMALL(IF(General!$F$3:$F$103=1,ROW(INDIRECT("1:"&ROWS(General!$A$3:$A$103)))),ROWS($1:33))),"")} | E35: =IFERROR(INDEX(General!$C$3:$C$103,MATCH(C35,General!$A$3:$A$103,0)),"") | G35: =IFERROR(INDEX(General!$B$3:$B$103,MATCH(C35,General!$A$3:$A$103,0)),"")
C36: {=IF(ROWS($1:34)<=COUNTIF(General!$F$3:$F$103,1),INDEX(General!$A$3:$A$103,SMALL(IF(General!$F$3:$F$103=1,ROW(INDIRECT("1:"&ROWS(General!$A$3:$A$103)))),ROWS($1:34))),"")} | E36: =IFERROR(INDEX(General!$C$3:$C$103,MATCH(C36,General!$A$3:$A$103,0)),"") | G36: =IFERROR(INDEX(General!$B$3:$B$103,MATCH(C36,General!$A$3:$A$103,0)),"")
C37: {=IF(ROWS($1:35)<=COUNTIF(General!$F$3:$F$103,1),INDEX(General!$A$3:$A$103,SMALL(IF(General!$F$3:$F$103=1,ROW(INDIRECT("1:"&ROWS(General!$A$3:$A$103)))),ROWS($1:35))),"")} | E37: =IFERROR(INDEX(General!$C$3:$C$103,MATCH(C37,General!$A$3:$A$103,0)),"") | G37: =IFERROR(INDEX(General!$B$3:$B$103,MATCH(C37,General!$A$3:$A$103,0)),"")
C38: {=IF(ROWS($1:36)<=COUNTIF(General!$F$3:$F$103,1),INDEX(General!$A$3:$A$103,SMALL(IF(General!$F$3:$F$103=1,ROW(INDIRECT("1:"&ROWS(General!$A$3:$A$103)))),ROWS($1:36))),"")} | E38: =IFERROR(INDEX(General!$C$3:$C$103,MATCH(C38,General!$A$3:$A$103,0)),"") | G38: =IFERROR(INDEX(General!$B$3:$B$103,MATCH(C38,General!$A$3:$A$103,0)),"")
C39: {=IF(ROWS($1:37)<=COUNTIF(General!$F$3:$F$103,1),INDEX(General!$A$3:$A$103,SMALL(IF(General!$F$3:$F$103=1,ROW(INDIRECT("1:"&ROWS(General!$A$3:$A$103)))),ROWS($1:37))),"")} | E39: =IFERROR(INDEX(General!$C$3:$C$103,MATCH(C39,General!$A$3:$A$103,0)),"") | G39: =IFERROR(INDEX(General!$B$3:$B$103,MATCH(C39,General!$A$3:$A$103,0)),"")
C40: {=IF(ROWS($1:38)<=COUNTIF(General!$F$3:$F$103,1),INDEX(General!$A$3:$A$103,SMALL(IF(General!$F$3:$F$103=1,ROW(INDIRECT("1:"&ROWS(General!$A$3:$A$103)))),ROWS($1:38))),"")} | E40: =IFERROR(INDEX(General!$C$3:$C$103,MATCH(C40,General!$A$3:$A$103,0)),"") | G40: =IFERROR(INDEX(General!$B$3:$B$103,MATCH(C40,General!$A$3:$A$103,0)),"")
C41: {=IF(ROWS($1:39)<=COUNTIF(General!$F$3:$F$103,1),INDEX(General!$A$3:$A$103,SMALL(IF(General!$F$3:$F$103=1,ROW(INDIRECT("1:"&ROWS(General!$A$3:$A$103)))),ROWS($1:39))),"")} | E41: =IFERROR(INDEX(General!$C$3:$C$103,MATCH(C41,General!$A$3:$A$103,0)),"") | G41: =IFERROR(INDEX(General!$B$3:$B$103,MATCH(C41,General!$A$3:$A$103,0)),"")
C42: {=IF(ROWS($1:40)<=COUNTIF(General!$F$3:$F$103,1),INDEX(General!$A$3:$A$103,SMALL(IF(General!$F$3:$F$103=1,ROW(INDIRECT("1:"&ROWS(General!$A$3:$A$103)))),ROWS($1:40))),"")} | E42: =IFERROR(INDEX(General!$C$3:$C$103,MATCH(C42,General!$A$3:$A$103,0)),"") | G42: =IFERROR(INDEX(General!$B$3:$B$103,MATCH(C42,General!$A$3:$A$103,0)),"")
C43: {=IF(ROWS($1:41)<=COUNTIF(General!$F$3:$F$103,1),INDEX(General!$A$3:$A$103,SMALL(IF(General!$F$3:$F$103=1,ROW(INDIRECT("1:"&ROWS(General!$A$3:$A$103)))),ROWS($1:41))),"")} | E43: =IFERROR(INDEX(General!$C$3:$C$103,MATCH(C43,General!$A$3:$A$103,0)),"") | G43: =IFERROR(INDEX(General!$B$3:$B$103,MATCH(C43,General!$A$3:$A$103,0)),"")
C44: {=IF(ROWS($1:42)<=COUNTIF(General!$F$3:$F$103,1),INDEX(General!$A$3:$A$103,SMALL(IF(General!$F$3:$F$103=1,ROW(INDIRECT("1:"&ROWS(General!$A$3:$A$103)))),ROWS($1:42))),"")} | E44: =IFERROR(INDEX(General!$C$3:$C$103,MATCH(C44,General!$A$3:$A$103,0)),"") | G44: =IFERROR(INDEX(General!$B$3:$B$103,MATCH(C44,General!$A$3:$A$103,0)),"")
C45: {=IF(ROWS($1:43)<=COUNTIF(General!$F$3:$F$103,1),INDEX(General!$A$3:$A$103,SMALL(IF(General!$F$3:$F$103=1,ROW(INDIRECT("1:"&ROWS(General!$A$3:$A$103)))),ROWS($1:43))),"")} | E45: =IFERROR(INDEX(General!$C$3:$C$103,MATCH(C45,General!$A$3:$A$103,0)),"") | G45: =IFERROR(INDEX(General!$B$3:$B$103,MATCH(C45,General!$A$3:$A$103,0)),"")
C46: {=IF(ROWS($1:44)<=COUNTIF(General!$F$3:$F$103,1),INDEX(General!$A$3:$A$103,SMALL(IF(General!$F$3:$F$103=1,ROW(INDIRECT("1:"&ROWS(General!$A$3:$A$103)))),ROWS($1:44))),"")} | E46: =IFERROR(INDEX(General!$C$3:$C$103,MATCH(C46,General!$A$3:$A$103,0)),"") | G46: =IFERROR(INDEX(General!$B$3:$B$103,MATCH(C46,General!$A$3:$A$103,0)),"")
C47: {=IF(ROWS($1:45)<=COUNTIF(General!$F$3:$F$103,1),INDEX(General!$A$3:$A$103,SMALL(IF(General!$F$3:$F$103=1,ROW(INDIRECT("1:"&ROWS(General!$A$3:$A$103)))),ROWS($1:45))),"")} | E47: =IFERROR(INDEX(General!$C$3:$C$103,MATCH(C47,General!$A$3:$A$103,0)),"") | G47: =IFERROR(INDEX(General!$B$3:$B$103,MATCH(C47,General!$A$3:$A$103,0)),"")
C48: {=IF(ROWS($1:46)<=COUNTIF(General!$F$3:$F$103,1),INDEX(General!$A$3:$A$103,SMALL(IF(General!$F$3:$F$103=1,ROW(INDIRECT("1:"&ROWS(General!$A$3:$A$103)))),ROWS($1:46))),"")} | E48: =IFERROR(INDEX(General!$C$3:$C$103,MATCH(C48,General!$A$3:$A$103,0)),"") | G48: =IFERROR(INDEX(General!$B$3:$B$103,MATCH(C48,General!$A$3:$A$103,0)),"")
C49: {=IF(ROWS($1:47)<=COUNTIF(General!$F$3:$F$103,1),INDEX(General!$A$3:$A$103,SMALL(IF(General!$F$3:$F$103=1,ROW(INDIRECT("1:"&ROWS(General!$A$3:$A$103)))),ROWS($1:47))),"")} | E49: =IFERROR(INDEX(General!$C$3:$C$103,MATCH(C49,General!$A$3:$A$103,0)),"") | G49: =IFERROR(INDEX(General!$B$3:$B$103,MATCH(C49,General!$A$3:$A$103,0)),"")
C50: {=IF(ROWS($1:48)<=COUNTIF(General!$F$3:$F$103,1),INDEX(General!$A$3:$A$103,SMALL(IF(General!$F$3:$F$103=1,ROW(INDIRECT("1:"&ROWS(General!$A$3:$A$103)))),ROWS($1:48))),"")} | E50: =IFERROR(INDEX(General!$C$3:$C$103,MATCH(C50,General!$A$3:$A$103,0)),"") | G50: =IFERROR(INDEX(General!$B$3:$B$103,MATCH(C50,General!$A$3:$A$103,0)),"")
C51: {=IF(ROWS($1:49)<=COUNTIF(General!$F$3:$F$103,1),INDEX(General!$A$3:$A$103,SMALL(IF(General!$F$3:$F$103=1,ROW(INDIRECT("1:"&ROWS(General!$A$3:$A$103)))),ROWS($1:49))),"")} | E51: =IFERROR(INDEX(General!$C$3:$C$103,MATCH(C51,General!$A$3:$A$103,0)),"") | G51: =IFERROR(INDEX(General!$B$3:$B$103,MATCH(C51,General!$A$3:$A$103,0)),"")
C52: {=IF(ROWS($1:50)<=COUNTIF(General!$F$3:$F$103,1),INDEX(General!$A$3:$A$103,SMALL(IF(General!$F$3:$F$103=1,ROW(INDIRECT("1:"&ROWS(General!$A$3:$A$103)))),ROWS($1:50))),"")} | E52: =IFERROR(INDEX(General!$C$3:$C$103,MATCH(C52,General!$A$3:$A$103,0)),"") | G52: =IFERROR(INDEX(General!$B$3:$B$103,MATCH(C52,General!$A$3:$A$103,0)),"")
C53: {=IF(ROWS($1:51)<=COUNTIF(General!$F$3:$F$103,1),INDEX(General!$A$3:$A$103,SMALL(IF(General!$F$3:$F$103=1,ROW(INDIRECT("1:"&ROWS(General!$A$3:$A$103)))),ROWS($1:51))),"")} | E53: =IFERROR(INDEX(General!$C$3:$C$103,MATCH(C53,General!$A$3:$A$103,0)),"") | G53: =IFERROR(INDEX(General!$B$3:$B$103,MATCH(C53,General!$A$3:$A$103,0)),"")
C54: {=IF(ROWS($1:52)<=COUNTIF(General!$F$3:$F$103,1),INDEX(General!$A$3:$A$103,SMALL(IF(General!$F$3:$F$103=1,ROW(INDIRECT("1:"&ROWS(General!$A$3:$A$103)))),ROWS($1:52))),"")} | E54: =IFERROR(INDEX(General!$C$3:$C$103,MATCH(C54,General!$A$3:$A$103,0)),"") | G54: =IFERROR(INDEX(General!$B$3:$B$103,MATCH(C54,General!$A$3:$A$103,0)),"")
C55: {=IF(ROWS($1:53)<=COUNTIF(General!$F$3:$F$103,1),INDEX(General!$A$3:$A$103,SMALL(IF(General!$F$3:$F$103=1,ROW(INDIRECT("1:"&ROWS(General!$A$3:$A$103)))),ROWS($1:53))),"")} | E55: =IFERROR(INDEX(General!$C$3:$C$103,MATCH(C55,General!$A$3:$A$103,0)),"") | G55: =IFERROR(INDEX(General!$B$3:$B$103,MATCH(C55,General!$A$3:$A$103,0)),"")
C56: {=IF(ROWS($1:54)<=COUNTIF(General!$F$3:$F$103,1),INDEX(General!$A$3:$A$103,SMALL(IF(General!$F$3:$F$103=1,ROW(INDIRECT("1:"&ROWS(General!$A$3:$A$103)))),ROWS($1:54))),"")} | E56: =IFERROR(INDEX(General!$C$3:$C$103,MATCH(C56,General!$A$3:$A$103,0)),"") | G56: =IFERROR(INDEX(General!$B$3:$B$103,MATCH(C56,General!$A$3:$A$103,0)),"")
C57: {=IF(ROWS($1:55)<=COUNTIF(General!$F$3:$F$103,1),INDEX(General!$A$3:$A$103,SMALL(IF(General!$F$3:$F$103=1,ROW(INDIRECT("1:"&ROWS(General!$A$3:$A$103)))),ROWS($1:55))),"")} | E57: =IFERROR(INDEX(General!$C$3:$C$103,MATCH(C57,General!$A$3:$A$103,0)),"") | G57: =IFERROR(INDEX(General!$B$3:$B$103,MATCH(C57,General!$A$3:$A$103,0)),"")
C58: {=IF(ROWS($1:56)<=COUNTIF(General!$F$3:$F$103,1),INDEX(General!$A$3:$A$103,SMALL(IF(General!$F$3:$F$103=1,ROW(INDIRECT("1:"&ROWS(General!$A$3:$A$103)))),ROWS($1:56))),"")} | E58: =IFERROR(INDEX(General!$C$3:$C$103,MATCH(C58,General!$A$3:$A$103,0)),"") | G58: =IFERROR(INDEX(General!$B$3:$B$103,MATCH(C58,General!$A$3:$A$103,0)),"")
C59: {=IF(ROWS($1:57)<=COUNTIF(General!$F$3:$F$103,1),INDEX(General!$A$3:$A$103,SMALL(IF(General!$F$3:$F$103=1,ROW(INDIRECT("1:"&ROWS(General!$A$3:$A$103)))),ROWS($1:57))),"")} | E59: =IFERROR(INDEX(General!$C$3:$C$103,MATCH(C59,General!$A$3:$A$103,0)),"") | G59: =IFERROR(INDEX(General!$B$3:$B$103,MATCH(C59,General!$A$3:$A$103,0)),"")
C60: {=IF(ROWS($1:58)<=COUNTIF(General!$F$3:$F$103,1),INDEX(General!$A$3:$A$103,SMALL(IF(General!$F$3:$F$103=1,ROW(INDIRECT("1:"&ROWS(General!$A$3:$A$103)))),ROWS($1:58))),"")} | E60: =IFERROR(INDEX(General!$C$3:$C$103,MATCH(C60,General!$A$3:$A$103,0)),"") | G60: =IFERROR(INDEX(General!$B$3:$B$103,MATCH(C60,General!$A$3:$A$103,0)),"")
C61: {=IF(ROWS($1:59)<=COUNTIF(General!$F$3:$F$103,1),INDEX(General!$A$3:$A$103,SMALL(IF(General!$F$3:$F$103=1,ROW(INDIRECT("1:"&ROWS(General!$A$3:$A$103)))),ROWS($1:59))),"")} | E61: =IFERROR(INDEX(General!$C$3:$C$103,MATCH(C61,General!$A$3:$A$103,0)),"") | G61: =IFERROR(INDEX(General!$B$3:$B$103,MATCH(C61,General!$A$3:$A$103,0)),"")
C62: {=IF(ROWS($1:60)<=COUNTIF(General!$F$3:$F$103,1),INDEX(General!$A$3:$A$103,SMALL(IF(General!$F$3:$F$103=1,ROW(INDIRECT("1:"&ROWS(General!$A$3:$A$103)))),ROWS($1:60))),"")} | E62: =IFERROR(INDEX(General!$C$3:$C$103,MATCH(C62,General!$A$3:$A$103,0)),"") | G62: =IFERROR(INDEX(General!$B$3:$B$103,MATCH(C62,General!$A$3:$A$103,0)),"")
C63: {=IF(ROWS($1:61)<=COUNTIF(General!$F$3:$F$103,1),INDEX(General!$A$3:$A$103,SMALL(IF(General!$F$3:$F$103=1,ROW(INDIRECT("1:"&ROWS(General!$A$3:$A$103)))),ROWS($1:61))),"")} | E63: =IFERROR(INDEX(General!$C$3:$C$103,MATCH(C63,General!$A$3:$A$103,0)),"") | G63: =IFERROR(INDEX(General!$B$3:$B$103,MATCH(C63,General!$A$3:$A$103,0)),"")
C64: {=IF(ROWS($1:62)<=COUNTIF(General!$F$3:$F$103,1),INDEX(General!$A$3:$A$103,SMALL(IF(General!$F$3:$F$103=1,ROW(INDIRECT("1:"&ROWS(General!$A$3:$A$103)))),ROWS($1:62))),"")} | E64: =IFERROR(INDEX(General!$C$3:$C$103,MATCH(C64,General!$A$3:$A$103,0)),"") | G64: =IFERROR(INDEX(General!$B$3:$B$103,MATCH(C64,General!$A$3:$A$103,0)),"")
C65: {=IF(ROWS($1:63)<=COUNTIF(General!$F$3:$F$103,1),INDEX(General!$A$3:$A$103,SMALL(IF(General!$F$3:$F$103=1,ROW(INDIRECT("1:"&ROWS(General!$A$3:$A$103)))),ROWS($1:63))),"")} | E65: =IFERROR(INDEX(General!$C$3:$C$103,MATCH(C65,General!$A$3:$A$103,0)),"") | G65: =IFERROR(INDEX(General!$B$3:$B$103,MATCH(C65,General!$A$3:$A$103,0)),"")
C66: {=IF(ROWS($1:64)<=COUNTIF(General!$F$3:$F$103,1),INDEX(General!$A$3:$A$103,SMALL(IF(General!$F$3:$F$103=1,ROW(INDIRECT("1:"&ROWS(General!$A$3:$A$103)))),ROWS($1:64))),"")} | E66: =IFERROR(INDEX(General!$C$3:$C$103,MATCH(C66,General!$A$3:$A$103,0)),"") | G66: =IFERROR(INDEX(General!$B$3:$B$103,MATCH(C66,General!$A$3:$A$103,0)),"")
C67: {=IF(ROWS($1:65)<=COUNTIF(General!$F$3:$F$103,1),INDEX(General!$A$3:$A$103,SMALL(IF(General!$F$3:$F$103=1,ROW(INDIRECT("1:"&ROWS(General!$A$3:$A$103)))),ROWS($1:65))),"")} | E67: =IFERROR(INDEX(General!$C$3:$C$103,MATCH(C67,General!$A$3:$A$103,0)),"") | G67: =IFERROR(INDEX(General!$B$3:$B$103,MATCH(C67,General!$A$3:$A$103,0)),"")
C68: {=IF(ROWS($1:66)<=COUNTIF(General!$F$3:$F$103,1),INDEX(General!$A$3:$A$103,SMALL(IF(General!$F$3:$F$103=1,ROW(INDIRECT("1:"&ROWS(General!$A$3:$A$103)))),ROWS($1:66))),"")} | E68: =IFERROR(INDEX(General!$C$3:$C$103,MATCH(C68,General!$A$3:$A$103,0)),"") | G68: =IFERROR(INDEX(General!$B$3:$B$103,MATCH(C68,General!$A$3:$A$103,0)),"")
C69: {=IF(ROWS($1:67)<=COUNTIF(General!$F$3:$F$103,1),INDEX(General!$A$3:$A$103,SMALL(IF(General!$F$3:$F$103=1,ROW(INDIRECT("1:"&ROWS(General!$A$3:$A$103)))),ROWS($1:67))),"")} | E69: =IFERROR(INDEX(General!$C$3:$C$103,MATCH(C69,General!$A$3:$A$103,0)),"") | G69: =IFERROR(INDEX(General!$B$3:$B$103,MATCH(C69,General!$A$3:$A$103,0)),"")
C70: {=IF(ROWS($1:68)<=COUNTIF(General!$F$3:$F$103,1),INDEX(General!$A$3:$A$103,SMALL(IF(General!$F$3:$F$103=1,ROW(INDIRECT("1:"&ROWS(General!$A$3:$A$103)))),ROWS($1:68))),"")} | E70: =IFERROR(INDEX(General!$C$3:$C$103,MATCH(C70,General!$A$3:$A$103,0)),"") | G70: =IFERROR(INDEX(General!$B$3:$B$103,MATCH(C70,General!$A$3:$A$103,0)),"")
C71: {=IF(ROWS($1:69)<=COUNTIF(General!$F$3:$F$103,1),INDEX(General!$A$3:$A$103,SMALL(IF(General!$F$3:$F$103=1,ROW(INDIRECT("1:"&ROWS(General!$A$3:$A$103)))),ROWS($1:69))),"")} | E71: =IFERROR(INDEX(General!$C$3:$C$103,MATCH(C71,General!$A$3:$A$103,0)),"") | G71: =IFERROR(INDEX(General!$B$3:$B$103,MATCH(C71,General!$A$3:$A$103,0)),"")
C72: {=IF(ROWS($1:70)<=COUNTIF(General!$F$3:$F$103,1),INDEX(General!$A$3:$A$103,SMALL(IF(General!$F$3:$F$103=1,ROW(INDIRECT("1:"&ROWS(General!$A$3:$A$103)))),ROWS($1:70))),"")} | E72: =IFERROR(INDEX(General!$C$3:$C$103,MATCH(C72,General!$A$3:$A$103,0)),"") | G72: =IFERROR(INDEX(General!$B$3:$B$103,MATCH(C72,General!$A$3:$A$103,0)),"")
C73: {=IF(ROWS($1:71)<=COUNTIF(General!$F$3:$F$103,1),INDEX(General!$A$3:$A$103,SMALL(IF(General!$F$3:$F$103=1,ROW(INDIRECT("1:"&ROWS(General!$A$3:$A$103)))),ROWS($1:71))),"")} | E73: =IFERROR(INDEX(General!$C$3:$C$103,MATCH(C73,General!$A$3:$A$103,0)),"") | G73: =IFERROR(INDEX(General!$B$3:$B$103,MATCH(C73,General!$A$3:$A$103,0)),"")
C74: {=IF(ROWS($1:72)<=COUNTIF(General!$F$3:$F$103,1),INDEX(General!$A$3:$A$103,SMALL(IF(General!$F$3:$F$103=1,ROW(INDIRECT("1:"&ROWS(General!$A$3:$A$103)))),ROWS($1:72))),"")} | E74: =IFERROR(INDEX(General!$C$3:$C$103,MATCH(C74,General!$A$3:$A$103,0)),"") | G74: =IFERROR(INDEX(General!$B$3:$B$103,MATCH(C74,General!$A$3:$A$103,0)),"")
C75: {=IF(ROWS($1:73)<=COUNTIF(General!$F$3:$F$103,1),INDEX(General!$A$3:$A$103,SMALL(IF(General!$F$3:$F$103=1,ROW(INDIRECT("1:"&ROWS(General!$A$3:$A$103)))),ROWS($1:73))),"")} | E75: =IFERROR(INDEX(General!$C$3:$C$103,MATCH(C75,General!$A$3:$A$103,0)),"") | G75: =IFERROR(INDEX(General!$B$3:$B$103,MATCH(C75,General!$A$3:$A$103,0)),"")
C76: {=IF(ROWS($1:74)<=COUNTIF(General!$F$3:$F$103,1),INDEX(General!$A$3:$A$103,SMALL(IF(General!$F$3:$F$103=1,ROW(INDIRECT("1:"&ROWS(General!$A$3:$A$103)))),ROWS($1:74))),"")} | E76: =IFERROR(INDEX(General!$C$3:$C$103,MATCH(C76,General!$A$3:$A$103,0)),"") | G76: =IFERROR(INDEX(General!$B$3:$B$103,MATCH(C76,General!$A$3:$A$103,0)),"")
C77: {=IF(ROWS($1:75)<=COUNTIF(General!$F$3:$F$103,1),INDEX(General!$A$3:$A$103,SMALL(IF(General!$F$3:$F$103=1,ROW(INDIRECT("1:"&ROWS(General!$A$3:$A$103)))),ROWS($1:75))),"")} | E77: =IFERROR(INDEX(General!$C$3:$C$103,MATCH(C77,General!$A$3:$A$103,0)),"") | G77: =IFERROR(INDEX(General!$B$3:$B$103,MATCH(C77,General!$A$3:$A$103,0)),"")
C78: {=IF(ROWS($1:76)<=COUNTIF(General!$F$3:$F$103,1),INDEX(General!$A$3:$A$103,SMALL(IF(General!$F$3:$F$103=1,ROW(INDIRECT("1:"&ROWS(General!$A$3:$A$103)))),ROWS($1:76))),"")} | E78: =IFERROR(INDEX(General!$C$3:$C$103,MATCH(C78,General!$A$3:$A$103,0)),"") | G78: =IFERROR(INDEX(General!$B$3:$B$103,MATCH(C78,General!$A$3:$A$103,0)),"")
C79: {=IF(ROWS($1:77)<=COUNTIF(General!$F$3:$F$103,1),INDEX(General!$A$3:$A$103,SMALL(IF(General!$F$3:$F$103=1,ROW(INDIRECT("1:"&ROWS(General!$A$3:$A$103)))),ROWS($1:77))),"")} | E79: =IFERROR(INDEX(General!$C$3:$C$103,MATCH(C79,General!$A$3:$A$103,0)),"") | G79: =IFERROR(INDEX(General!$B$3:$B$103,MATCH(C79,General!$A$3:$A$103,0)),"")
C80: {=IF(ROWS($1:78)<=COUNTIF(General!$F$3:$F$103,1),INDEX(General!$A$3:$A$103,SMALL(IF(General!$F$3:$F$103=1,ROW(INDIRECT("1:"&ROWS(General!$A$3:$A$103)))),ROWS($1:78))),"")} | E80: =IFERROR(INDEX(General!$C$3:$C$103,MATCH(C80,General!$A$3:$A$103,0)),"") | G80: =IFERROR(INDEX(General!$B$3:$B$103,MATCH(C80,General!$A$3:$A$103,0)),"")
C81: {=IF(ROWS($1:79)<=COUNTIF(General!$F$3:$F$103,1),INDEX(General!$A$3:$A$103,SMALL(IF(General!$F$3:$F$103=1,ROW(INDIRECT("1:"&ROWS(General!$A$3:$A$103)))),ROWS($1:79))),"")} | E81: =IFERROR(INDEX(General!$C$3:$C$103,MATCH(C81,General!$A$3:$A$103,0)),"") | G81: =IFERROR(INDEX(General!$B$3:$B$103,MATCH(C81,General!$A$3:$A$103,0)),"")
C82: {=IF(ROWS($1:80)<=COUNTIF(General!$F$3:$F$103,1),INDEX(General!$A$3:$A$103,SMALL(IF(General!$F$3:$F$103=1,ROW(INDIRECT("1:"&ROWS(General!$A$3:$A$103)))),ROWS($1:80))),"")} | E82: =IFERROR(INDEX(General!$C$3:$C$103,MATCH(C82,General!$A$3:$A$103,0)),"") | G82: =IFERROR(INDEX(General!$B$3:$B$103,MATCH(C82,General!$A$3:$A$103,0)),"")
C83: {=IF(ROWS($1:81)<=COUNTIF(General!$F$3:$F$103,1),INDEX(General!$A$3:$A$103,SMALL(IF(General!$F$3:$F$103=1,ROW(INDIRECT("1:"&ROWS(General!$A$3:$A$103)))),ROWS($1:81))),"")} | E83: =IFERROR(INDEX(General!$C$3:$C$103,MATCH(C83,General!$A$3:$A$103,0)),"") | G83: =IFERROR(INDEX(General!$B$3:$B$103,MATCH(C83,General!$A$3:$A$103,0)),"")
C84: {=IF(ROWS($1:82)<=COUNTIF(General!$F$3:$F$103,1),INDEX(General!$A$3:$A$103,SMALL(IF(General!$F$3:$F$103=1,ROW(INDIRECT("1:"&ROWS(General!$A$3:$A$103)))),ROWS($1:82))),"")} | E84: =IFERROR(INDEX(General!$C$3:$C$103,MATCH(C84,General!$A$3:$A$103,0)),"") | G84: =IFERROR(INDEX(General!$B$3:$B$103,MATCH(C84,General!$A$3:$A$103,0)),"")
C85: {=IF(ROWS($1:83)<=COUNTIF(General!$F$3:$F$103,1),INDEX(General!$A$3:$A$103,SMALL(IF(General!$F$3:$F$103=1,ROW(INDIRECT("1:"&ROWS(General!$A$3:$A$103)))),ROWS($1:83))),"")} | E85: =IFERROR(INDEX(General!$C$3:$C$103,MATCH(C85,General!$A$3:$A$103,0)),"") | G85: =IFERROR(INDEX(General!$B$3:$B$103,MATCH(C85,General!$A$3:$A$103,0)),"")
C86: {=IF(ROWS($1:84)<=COUNTIF(General!$F$3:$F$103,1),INDEX(General!$A$3:$A$103,SMALL(IF(General!$F$3:$F$103=1,ROW(INDIRECT("1:"&ROWS(General!$A$3:$A$103)))),ROWS($1:84))),"")} | E86: =IFERROR(INDEX(General!$C$3:$C$103,MATCH(C86,General!$A$3:$A$103,0)),"") | G86: =IFERROR(INDEX(General!$B$3:$B$103,MATCH(C86,General!$A$3:$A$103,0)),"")
C87: {=IF(ROWS($1:85)<=COUNTIF(General!$F$3:$F$103,1),INDEX(General!$A$3:$A$103,SMALL(IF(General!$F$3:$F$103=1,ROW(INDIRECT("1:"&ROWS(General!$A$3:$A$103)))),ROWS($1:85))),"")} | E87: =IFERROR(INDEX(General!$C$3:$C$103,MATCH(C87,General!$A$3:$A$103,0)),"") | G87: =IFERROR(INDEX(General!$B$3:$B$103,MATCH(C87,General!$A$3:$A$103,0)),"")
C88: {=IF(ROWS($1:86)<=COUNTIF(General!$F$3:$F$103,1),INDEX(General!$A$3:$A$103,SMALL(IF(General!$F$3:$F$103=1,ROW(INDIRECT("1:"&ROWS(General!$A$3:$A$103)))),ROWS($1:86))),"")} | E88: =IFERROR(INDEX(General!$C$3:$C$103,MATCH(C88,General!$A$3:$A$103,0)),"") | G88: =IFERROR(INDEX(General!$B$3:$B$103,MATCH(C88,General!$A$3:$A$103,0)),"")
C89: {=IF(ROWS($1:87)<=COUNTIF(General!$F$3:$F$103,1),INDEX(General!$A$3:$A$103,SMALL(IF(General!$F$3:$F$103=1,ROW(INDIRECT("1:"&ROWS(General!$A$3:$A$103)))),ROWS($1:87))),"")} | E89: =IFERROR(INDEX(General!$C$3:$C$103,MATCH(C89,General!$A$3:$A$103,0)),"") | G89: =IFERROR(INDEX(General!$B$3:$B$103,MATCH(C89,General!$A$3:$A$103,0)),"")
C90: {=IF(ROWS($1:88)<=COUNTIF(General!$F$3:$F$103,1),INDEX(General!$A$3:$A$103,SMALL(IF(General!$F$3:$F$103=1,ROW(INDIRECT("1:"&ROWS(General!$A$3:$A$103)))),ROWS($1:88))),"")} | E90: =IFERROR(INDEX(General!$C$3:$C$103,MATCH(C90,General!$A$3:$A$103,0)),"") | G90: =IFERROR(INDEX(General!$B$3:$B$103,MATCH(C90,General!$A$3:$A$103,0)),"")
C91: {=IF(ROWS($1:89)<=COUNTIF(General!$F$3:$F$103,1),INDEX(General!$A$3:$A$103,SMALL(IF(General!$F$3:$F$103=1,ROW(INDIRECT("1:"&ROWS(General!$A$3:$A$103)))),ROWS($1:89))),"")} | E91: =IFERROR(INDEX(General!$C$3:$C$103,MATCH(C91,General!$A$3:$A$103,0)),"") | G91: =IFERROR(INDEX(General!$B$3:$B$103,MATCH(C91,General!$A$3:$A$103,0)),"")
C92: {=IF(ROWS($1:90)<=COUNTIF(General!$F$3:$F$103,1),INDEX(General!$A$3:$A$103,SMALL(IF(General!$F$3:$F$103=1,ROW(INDIRECT("1:"&ROWS(General!$A$3:$A$103)))),ROWS($1:90))),"")} | E92: =IFERROR(INDEX(General!$C$3:$C$103,MATCH(C92,General!$A$3:$A$103,0)),"") | G92: =IFERROR(INDEX(General!$B$3:$B$103,MATCH(C92,General!$A$3:$A$103,0)),"")
C93: {=IF(ROWS($1:91)<=COUNTIF(General!$F$3:$F$103,1),INDEX(General!$A$3:$A$103,SMALL(IF(General!$F$3:$F$103=1,ROW(INDIRECT("1:"&ROWS(General!$A$3:$A$103)))),ROWS($1:91))),"")} | E93: =IFERROR(INDEX(General!$C$3:$C$103,MATCH(C93,General!$A$3:$A$103,0)),"") | G93: =IFERROR(INDEX(General!$B$3:$B$103,MATCH(C93,General!$A$3:$A$103,0)),"")
C94: {=IF(ROWS($1:92)<=COUNTIF(General!$F$3:$F$103,1),INDEX(General!$A$3:$A$103,SMALL(IF(General!$F$3:$F$103=1,ROW(INDIRECT("1:"&ROWS(General!$A$3:$A$103)))),ROWS($1:92))),"")} | E94: =IFERROR(INDEX(General!$C$3:$C$103,MATCH(C94,General!$A$3:$A$103,0)),"") | G94: =IFERROR(INDEX(General!$B$3:$B$103,MATCH(C94,General!$A$3:$A$103,0)),"")
C95: {=IF(ROWS($1:93)<=COUNTIF(General!$F$3:$F$103,1),INDEX(General!$A$3:$A$103,SMALL(IF(General!$F$3:$F$103=1,ROW(INDIRECT("1:"&ROWS(General!$A$3:$A$103)))),ROWS($1:93))),"")} | E95: =IFERROR(INDEX(General!$C$3:$C$103,MATCH(C95,General!$A$3:$A$103,0)),"") | G95: =IFERROR(INDEX(General!$B$3:$B$103,MATCH(C95,General!$A$3:$A$103,0)),"")
C96: {=IF(ROWS($1:94)<=COUNTIF(General!$F$3:$F$103,1),INDEX(General!$A$3:$A$103,SMALL(IF(General!$F$3:$F$103=1,ROW(INDIRECT("1:"&ROWS(General!$A$3:$A$103)))),ROWS($1:94))),"")} | E96: =IFERROR(INDEX(General!$C$3:$C$103,MATCH(C96,General!$A$3:$A$103,0)),"") | G96: =IFERROR(INDEX(General!$B$3:$B$103,MATCH(C96,General!$A$3:$A$103,0)),"")
C97: {=IF(ROWS($1:95)<=COUNTIF(General!$F$3:$F$103,1),INDEX(General!$A$3:$A$103,SMALL(IF(General!$F$3:$F$103=1,ROW(INDIRECT("1:"&ROWS(General!$A$3:$A$103)))),ROWS($1:95))),"")} | E97: =IFERROR(INDEX(General!$C$3:$C$103,MATCH(C97,General!$A$3:$A$103,0)),"") | G97: =IFERROR(INDEX(General!$B$3:$B$103,MATCH(C97,General!$A$3:$A$103,0)),"")
C98: {=IF(ROWS($1:96)<=COUNTIF(General!$F$3:$F$103,1),INDEX(General!$A$3:$A$103,SMALL(IF(General!$F$3:$F$103=1,ROW(INDIRECT("1:"&ROWS(General!$A$3:$A$103)))),ROWS($1:96))),"")} | E98: =IFERROR(INDEX(General!$C$3:$C$103,MATCH(C98,General!$A$3:$A$103,0)),"") | G98: =IFERROR(INDEX(General!$B$3:$B$103,MATCH(C98,General!$A$3:$A$103,0)),"")
C99: {=IF(ROWS($1:97)<=COUNTIF(General!$F$3:$F$103,1),INDEX(General!$A$3:$A$103,SMALL(IF(General!$F$3:$F$103=1,ROW(INDIRECT("1:"&ROWS(General!$A$3:$A$103)))),ROWS($1:97))),"")} | E99: =IFERROR(INDEX(General!$C$3:$C$103,MATCH(C99,General!$A$3:$A$103,0)),"") | G99: =IFERROR(INDEX(General!$B$3:$B$103,MATCH(C99,General!$A$3:$A$103,0)),"")
C100: {=IF(ROWS($1:98)<=COUNTIF(General!$F$3:$F$103,1),INDEX(General!$A$3:$A$103,SMALL(IF(General!$F$3:$F$103=1,ROW(INDIRECT("1:"&ROWS(General!$A$3:$A$103)))),ROWS($1:98))),"")} | E100: =IFERROR(INDEX(General!$C$3:$C$103,MATCH(C100,General!$A$3:$A$103,0)),"") | G100: =IFERROR(INDEX(General!$B$3:$B$103,MATCH(C100,General!$A$3:$A$103,0)),"")
C101: {=IF(ROWS($1:99)<=COUNTIF(General!$F$3:$F$103,1),INDEX(General!$A$3:$A$103,SMALL(IF(General!$F$3:$F$103=1,ROW(INDIRECT("1:"&ROWS(General!$A$3:$A$103)))),ROWS($1:99))),"")} | E101: =IFERROR(INDEX(General!$C$3:$C$103,MATCH(C101,General!$A$3:$A$103,0)),"") | G101: =IFERROR(INDEX(General!$B$3:$B$103,MATCH(C101,General!$A$3:$A$103,0)),"")
...

Sheet Sheet4
A1: INTERESSE POUR EXPO : | C1: NOM | E1: MAIL | G1: TELEPHONE
C3: =IF(ROWS($1:1)<=COUNTIF(General!$E$3:$E$103,1),INDEX(General!$A$3:$A$103,SMALL(IF(General!$E$3:$E$103=1,ROW(INDIRECT("1:"&ROWS(General!$A$3:$A$103)))),ROWS($1:1))),"") -> Daniel Pezeril | E3: =IFERROR(INDEX(General!$C$3:$C$103,MATCH(C3,General!$A$3:$A$103,0)),"") -> 0 | G3: =IFERROR(INDEX(General!$B$3:$B$103,MATCH(C3,General!$A$3:$A$103,0)),"") -> 644081800
C4: =IF(General!G4,General!A4," ") -> Costa Ledormeur | E4: =IFERROR(INDEX(General!$C$3:$C$103,MATCH(C4,General!$A$3:$A$103,0)),"") -> 0 | G4: =IFERROR(INDEX(General!$B$3:$B$103,MATCH(C4,General!$A$3:$A$103,0)),"") -> 0
C5: =IF(General!G5,General!A5," ") -> Adrien Testas | E5: =IFERROR(INDEX(General!$C$3:$C$103,MATCH(C5,General!$A$3:$A$103,0)),"") -> adrien.testas@live.fr | G5: =IFERROR(INDEX(General!$B$3:$B$103,MATCH(C5,General!$A$3:$A$103,0)),"") -> 789200542
C6: =IF(General!G6,General!A6," ") -> NEJ | E6: =IFERROR(INDEX(General!$C$3:$C$103,MATCH(C6,General!$A$3:$A$103,0)),"") -> 1111 | G6: =IFERROR(INDEX(General!$B$3:$B$103,MATCH(C6,General!$A$3:$A$103,0)),"") -> 11111
C7: =IF(General!G7,General!A7," ") | E7: =IFERROR(INDEX(General!$C$3:$C$103,MATCH(C7,General!$A$3:$A$103,0)),"") | G7: =IFERROR(INDEX(General!$B$3:$B$103,MATCH(C7,General!$A$3:$A$103,0)),"")
C8: =IF(General!G8,General!A8," ") | E8: =IFERROR(INDEX(General!$C$3:$C$103,MATCH(C8,General!$A$3:$A$103,0)),"") | G8: =IFERROR(INDEX(General!$B$3:$B$103,MATCH(C8,General!$A$3:$A$103,0)),"")
C9: =IF(General!G9,General!A9," ") | E9: =IFERROR(INDEX(General!$C$3:$C$103,MATCH(C9,General!$A$3:$A$103,0)),"") | G9: =IFERROR(INDEX(General!$B$3:$B$103,MATCH(C9,General!$A$3:$A$103,0)),"")
C10: =IF(General!G10,General!A10," ") | E10: =IFERROR(INDEX(General!$C$3:$C$103,MATCH(C10,General!$A$3:$A$103,0)),"") | G10: =IFERROR(INDEX(General!$B$3:$B$103,MATCH(C10,General!$A$3:$A$103,0)),"")
C11: =IF(General!G11,General!A11," ") | E11: =IFERROR(INDEX(General!$C$3:$C$103,MATCH(C11,General!$A$3:$A$103,0)),"") | G11: =IFERROR(INDEX(General!$B$3:$B$103,MATCH(C11,General!$A$3:$A$103,0)),"")
C12: =IF(General!G12,General!A12," ") | E12: =IFERROR(INDEX(General!$C$3:$C$103,MATCH(C12,General!$A$3:$A$103,0)),"") | G12: =IFERROR(INDEX(General!$B$3:$B$103,MATCH(C12,General!$A$3:$A$103,0)),"")
C13: =IF(General!G13,General!A13," ") | E13: =IFERROR(INDEX(General!$C$3:$C$103,MATCH(C13,General!$A$3:$A$103,0)),"") | G13: =IFERROR(INDEX(General!$B$3:$B$103,MATCH(C13,General!$A$3:$A$103,0)),"")
C14: =IF(General!G14,General!A14," ") | E14: =IFERROR(INDEX(General!$C$3:$C$103,MATCH(C14,General!$A$3:$A$103,0)),"") | G14: =IFERROR(INDEX(General!$B$3:$B$103,MATCH(C14,General!$A$3:$A$103,0)),"")
C15: =IF(General!G15,General!A15," ") | E15: =IFERROR(INDEX(General!$C$3:$C$103,MATCH(C15,General!$A$3:$A$103,0)),"") | G15: =IFERROR(INDEX(General!$B$3:$B$103,MATCH(C15,General!$A$3:$A$103,0)),"")
... C103: =IF(General!G103,General!A103," ") | E103: =IFERROR(INDEX(General!$C$3:$C$103,MATCH(C103,General!$A$3:$A$103,0)),"") | G103: =IFERROR(INDEX(General!$B$3:$B$103,MATCH(C103,General!$A$3:$A$103,0)),"")

Sheet test
A1: INTERESSE POUR EXPO : | C1: NOM | E1: MAIL | G1: TELEPHONE
C3: {=IF(ROWS($1:1)<=COUNTIF(General!$H$3:$H$103,1),INDEX(General!$A$3:$A$103,SMALL(IF(General!$H$3:$H$103=1,ROW(INDIRECT("1:"&ROWS(General!$A$3:$A$103)))),ROWS($1:1))),"")} -> Daniel Pezeril | E3: =IFERROR(INDEX(General!$C$3:$C$103,MATCH(C3,General!$A$3:$A$103,0)),"") -> 0 | G3: =IFERROR(INDEX(General!$B$3:$B$103,MATCH(C3,General!$A$3:$A$103,0)),"") -> 644081800
A4: =IF(General!E3,C:C=General!A3) -> FALSE | C4: {=IF(ROWS($1:2)<=COUNTIF(General!$H$3:$H$103,1),INDEX(General!$A$3:$A$103,SMALL(IF(General!$H$3:$H$103=1,ROW(INDIRECT("1:"&ROWS(General!$A$3:$A$103)))),ROWS($1:2))),"")} -> Costa Ledormeur | E4: =IFERROR(INDEX(General!$C$3:$C$103,MATCH(C4,General!$A$3:$A$103,0)),"") -> 0 | G4: =IFERROR(INDEX(General!$B$3:$B$103,MATCH(C4,General!$A$3:$A$103,0)),"") -> 0
C5: {=IF(ROWS($1:3)<=COUNTIF(General!$H$3:$H$103,1),INDEX(General!$A$3:$A$103,SMALL(IF(General!$H$3:$H$103=1,ROW(INDIRECT("1:"&ROWS(General!$A$3:$A$103)))),ROWS($1:3))),"")} -> Adrien Testas | E5: =IFERROR(INDEX(General!$C$3:$C$103,MATCH(C5,General!$A$3:$A$103,0)),"") -> adrien.testas@live.fr | G5: =IFERROR(INDEX(General!$B$3:$B$103,MATCH(C5,General!$A$3:$A$103,0)),"") -> 789200542
C6: {=IF(ROWS($1:4)<=COUNTIF(General!$H$3:$H$103,1),INDEX(General!$A$3:$A$103,SMALL(IF(General!$H$3:$H$103=1,ROW(INDIRECT("1:"&ROWS(General!$A$3:$A$103)))),ROWS($1:4))),"")} -> NEJ | E6: =IFERROR(INDEX(General!$C$3:$C$103,MATCH(C6,General!$A$3:$A$103,0)),"") -> 1111 | G6: =IFERROR(INDEX(General!$B$3:$B$103,MATCH(C6,General!$A$3:$A$103,0)),"") -> 11111
C7: {=IF(ROWS($1:5)<=COUNTIF(General!$H$3:$H$103,1),INDEX(General!$A$3:$A$103,SMALL(IF(General!$H$3:$H$103=1,ROW(INDIRECT("1:"&ROWS(General!$A$3:$A$103)))),ROWS($1:5))),"")} -> MODRI | E7: =IFERROR(INDEX(General!$C$3:$C$103,MATCH(C7,General!$A$3:$A$103,0)),"") -> 22222 | G7: =IFERROR(INDEX(General!$B$3:$B$103,MATCH(C7,General!$A$3:$A$103,0)),"") -> 22222
C8: {=IF(ROWS($1:6)<=COUNTIF(General!$H$3:$H$103,1),INDEX(General!$A$3:$A$103,SMALL(IF(General!$H$3:$H$103=1,ROW(INDIRECT("1:"&ROWS(General!$A$3:$A$103)))),ROWS($1:6))),"")} -> ROMAIN | E8: =IFERROR(INDEX(General!$C$3:$C$103,MATCH(C8,General!$A$3:$A$103,0)),"") -> 2222 | G8: =IFERROR(INDEX(General!$B$3:$B$103,MATCH(C8,General!$A$3:$A$103,0)),"") -> 22222
C9: {=IF(ROWS($1:7)<=COUNTIF(General!$H$3:$H$103,1),INDEX(General!$A$3:$A$103,SMALL(IF(General!$H$3:$H$103=1,ROW(INDIRECT("1:"&ROWS(General!$A$3:$A$103)))),ROWS($1:7))),"")} | E9: =IFERROR(INDEX(General!$C$3:$C$103,MATCH(C9,General!$A$3:$A$103,0)),"") | G9: =IFERROR(INDEX(General!$B$3:$B$103,MATCH(C9,General!$A$3:$A$103,0)),"")
C10: {=IF(ROWS($1:8)<=COUNTIF(General!$H$3:$H$103,1),INDEX(General!$A$3:$A$103,SMALL(IF(General!$H$3:$H$103=1,ROW(INDIRECT("1:"&ROWS(General!$A$3:$A$103)))),ROWS($1:8))),"")} | E10: =IFERROR(INDEX(General!$C$3:$C$103,MATCH(C10,General!$A$3:$A$103,0)),"") | G10: =IFERROR(INDEX(General!$B$3:$B$103,MATCH(C10,General!$A$3:$A$103,0)),"")
C11: {=IF(ROWS($1:9)<=COUNTIF(General!$H$3:$H$103,1),INDEX(General!$A$3:$A$103,SMALL(IF(General!$H$3:$H$103=1,ROW(INDIRECT("1:"&ROWS(General!$A$3:$A$103)))),ROWS($1:9))),"")} | E11: =IFERROR(INDEX(General!$C$3:$C$103,MATCH(C11,General!$A$3:$A$103,0)),"") | G11: =IFERROR(INDEX(General!$B$3:$B$103,MATCH(C11,General!$A$3:$A$103,0)),"")
C12: {=IF(ROWS($1:10)<=COUNTIF(General!$H$3:$H$103,1),INDEX(General!$A$3:$A$103,SMALL(IF(General!$H$3:$H$103=1,ROW(INDIRECT("1:"&ROWS(General!$A$3:$A$103)))),ROWS($1:10))),"")} | E12: =IFERROR(INDEX(General!$C$3:$C$103,MATCH(C12,General!$A$3:$A$103,0)),"") | G12: =IFERROR(INDEX(General!$B$3:$B$103,MATCH(C12,General!$A$3:$A$103,0)),"")
C13: {=IF(ROWS($1:11)<=COUNTIF(General!$H$3:$H$103,1),INDEX(General!$A$3:$A$103,SMALL(IF(General!$H$3:$H$103=1,ROW(INDIRECT("1:"&ROWS(General!$A$3:$A$103)))),ROWS($1:11))),"")} | E13: =IFERROR(INDEX(General!$C$3:$C$103,MATCH(C13,General!$A$3:$A$103,0)),"") | G13: =IFERROR(INDEX(General!$B$3:$B$103,MATCH(C13,General!$A$3:$A$103,0)),"")
C14: {=IF(ROWS($1:12)<=COUNTIF(General!$H$3:$H$103,1),INDEX(General!$A$3:$A$103,SMALL(IF(General!$H$3:$H$103=1,ROW(INDIRECT("1:"&ROWS(General!$A$3:$A$103)))),ROWS($1:12))),"")} | E14: =IFERROR(INDEX(General!$C$3:$C$103,MATCH(C14,General!$A$3:$A$103,0)),"") | G14: =IFERROR(INDEX(General!$B$3:$B$103,MATCH(C14,General!$A$3:$A$103,0)),"")
C15: {=IF(ROWS($1:13)<=COUNTIF(General!$H$3:$H$103,1),INDEX(General!$A$3:$A$103,SMALL(IF(General!$H$3:$H$103=1,ROW(INDIRECT("1:"&ROWS(General!$A$3:$A$103)))),ROWS($1:13))),"")} | E15: =IFERROR(INDEX(General!$C$3:$C$103,MATCH(C15,General!$A$3:$A$103,0)),"") | G15: =IFERROR(INDEX(General!$B$3:$B$103,MATCH(C15,General!$A$3:$A$103,0)),"")
C16: {=IF(ROWS($1:14)<=COUNTIF(General!$H$3:$H$103,1),INDEX(General!$A$3:$A$103,SMALL(IF(General!$H$3:$H$103=1,ROW(INDIRECT("1:"&ROWS(General!$A$3:$A$103)))),ROWS($1:14))),"")} | E16: =IFERROR(INDEX(General!$C$3:$C$103,MATCH(C16,General!$A$3:$A$103,0)),"") | G16: =IFERROR(INDEX(General!$B$3:$B$103,MATCH(C16,General!$A$3:$A$103,0)),"")
C17: {=IF(ROWS($1:15)<=COUNTIF(General!$H$3:$H$103,1),INDEX(General!$A$3:$A$103,SMALL(IF(General!$H$3:$H$103=1,ROW(INDIRECT("1:"&ROWS(General!$A$3:$A$103)))),ROWS($1:15))),"")} | E17: =IFERROR(INDEX(General!$C$3:$C$103,MATCH(C17,General!$A$3:$A$103,0)),"") | G17: =IFERROR(INDEX(General!$B$3:$B$103,MATCH(C17,General!$A$3:$A$103,0)),"")
C18: {=IF(ROWS($1:16)<=COUNTIF(General!$H$3:$H$103,1),INDEX(General!$A$3:$A$103,SMALL(IF(General!$H$3:$H$103=1,ROW(INDIRECT("1:"&ROWS(General!$A$3:$A$103)))),ROWS($1:16))),"")} | E18: =IFERROR(INDEX(General!$C$3:$C$103,MATCH(C18,General!$A$3:$A$103,0)),"") | G18: =IFERROR(INDEX(General!$B$3:$B$103,MATCH(C18,General!$A$3:$A$103,0)),"")
C19: {=IF(ROWS($1:17)<=COUNTIF(General!$H$3:$H$103,1),INDEX(General!$A$3:$A$103,SMALL(IF(General!$H$3:$H$103=1,ROW(INDIRECT("1:"&ROWS(General!$A$3:$A$103)))),ROWS($1:17))),"")} | E19: =IFERROR(INDEX(General!$C$3:$C$103,MATCH(C19,General!$A$3:$A$103,0)),"") | G19: =IFERROR(INDEX(General!$B$3:$B$103,MATCH(C19,General!$A$3:$A$103,0)),"")
C20: {=IF(ROWS($1:18)<=COUNTIF(General!$H$3:$H$103,1),INDEX(General!$A$3:$A$103,SMALL(IF(General!$H$3:$H$103=1,ROW(INDIRECT("1:"&ROWS(General!$A$3:$A$103)))),ROWS($1:18))),"")} | E20: =IFERROR(INDEX(General!$C$3:$C$103,MATCH(C20,General!$A$3:$A$103,0)),"") | G20: =IFERROR(INDEX(General!$B$3:$B$103,MATCH(C20,General!$A$3:$A$103,0)),"")
C21: {=IF(ROWS($1:19)<=COUNTIF(General!$H$3:$H$103,1),INDEX(General!$A$3:$A$103,SMALL(IF(General!$H$3:$H$103=1,ROW(INDIRECT("1:"&ROWS(General!$A$3:$A$103)))),ROWS($1:19))),"")} | E21: =IFERROR(INDEX(General!$C$3:$C$103,MATCH(C21,General!$A$3:$A$103,0)),"") | G21: =IFERROR(INDEX(General!$B$3:$B$103,MATCH(C21,General!$A$3:$A$103,0)),"")
C22: {=IF(ROWS($1:20)<=COUNTIF(General!$H$3:$H$103,1),INDEX(General!$A$3:$A$103,SMALL(IF(General!$H$3:$H$103=1,ROW(INDIRECT("1:"&ROWS(General!$A$3:$A$103)))),ROWS($1:20))),"")} | E22: =IFERROR(INDEX(General!$C$3:$C$103,MATCH(C22,General!$A$3:$A$103,0)),"") | G22: =IFERROR(INDEX(General!$B$3:$B$103,MATCH(C22,General!$A$3:$A$103,0)),"")
C23: {=IF(ROWS($1:21)<=COUNTIF(General!$H$3:$H$103,1),INDEX(General!$A$3:$A$103,SMALL(IF(General!$H$3:$H$103=1,ROW(INDIRECT("1:"&ROWS(General!$A$3:$A$103)))),ROWS($1:21))),"")} | E23: =IFERROR(INDEX(General!$C$3:$C$103,MATCH(C23,General!$A$3:$A$103,0)),"") | G23: =IFERROR(INDEX(General!$B$3:$B$103,MATCH(C23,General!$A$3:$A$103,0)),"")
C24: {=IF(ROWS($1:22)<=COUNTIF(General!$H$3:$H$103,1),INDEX(General!$A$3:$A$103,SMALL(IF(General!$H$3:$H$103=1,ROW(INDIRECT("1:"&ROWS(General!$A$3:$A$103)))),ROWS($1:22))),"")} | E24: =IFERROR(INDEX(General!$C$3:$C$103,MATCH(C24,General!$A$3:$A$103,0)),"") | G24: =IFERROR(INDEX(General!$B$3:$B$103,MATCH(C24,General!$A$3:$A$103,0)),"")
C25: {=IF(ROWS($1:23)<=COUNTIF(General!$H$3:$H$103,1),INDEX(General!$A$3:$A$103,SMALL(IF(General!$H$3:$H$103=1,ROW(INDIRECT("1:"&ROWS(General!$A$3:$A$103)))),ROWS($1:23))),"")} | E25: =IFERROR(INDEX(General!$C$3:$C$103,MATCH(C25,General!$A$3:$A$103,0)),"") | G25: =IFERROR(INDEX(General!$B$3:$B$103,MATCH(C25,General!$A$3:$A$103,0)),"")
C26: {=IF(ROWS($1:24)<=COUNTIF(General!$H$3:$H$103,1),INDEX(General!$A$3:$A$103,SMALL(IF(General!$H$3:$H$103=1,ROW(INDIRECT("1:"&ROWS(General!$A$3:$A$103)))),ROWS($1:24))),"")} | E26: =IFERROR(INDEX(General!$C$3:$C$103,MATCH(C26,General!$A$3:$A$103,0)),"") | G26: =IFERROR(INDEX(General!$B$3:$B$103,MATCH(C26,General!$A$3:$A$103,0)),"")
C27: {=IF(ROWS($1:25)<=COUNTIF(General!$H$3:$H$103,1),INDEX(General!$A$3:$A$103,SMALL(IF(General!$H$3:$H$103=1,ROW(INDIRECT("1:"&ROWS(General!$A$3:$A$103)))),ROWS($1:25))),"")} | E27: =IFERROR(INDEX(General!$C$3:$C$103,MATCH(C27,General!$A$3:$A$103,0)),"") | G27: =IFERROR(INDEX(General!$B$3:$B$103,MATCH(C27,General!$A$3:$A$103,0)),"")
C28: {=IF(ROWS($1:26)<=COUNTIF(General!$H$3:$H$103,1),INDEX(General!$A$3:$A$103,SMALL(IF(General!$H$3:$H$103=1,ROW(INDIRECT("1:"&ROWS(General!$A$3:$A$103)))),ROWS($1:26))),"")} | E28: =IFERROR(INDEX(General!$C$3:$C$103,MATCH(C28,General!$A$3:$A$103,0)),"") | G28: =IFERROR(INDEX(General!$B$3:$B$103,MATCH(C28,General!$A$3:$A$103,0)),"")
C29: {=IF(ROWS($1:27)<=COUNTIF(General!$H$3:$H$103,1),INDEX(General!$A$3:$A$103,SMALL(IF(General!$H$3:$H$103=1,ROW(INDIRECT("1:"&ROWS(General!$A$3:$A$103)))),ROWS($1:27))),"")} | E29: =IFERROR(INDEX(General!$C$3:$C$103,MATCH(C29,General!$A$3:$A$103,0)),"") | G29: =IFERROR(INDEX(General!$B$3:$B$103,MATCH(C29,General!$A$3:$A$103,0)),"")
C30: {=IF(ROWS($1:28)<=COUNTIF(General!$H$3:$H$103,1),INDEX(General!$A$3:$A$103,SMALL(IF(General!$H$3:$H$103=1,ROW(INDIRECT("1:"&ROWS(General!$A$3:$A$103)))),ROWS($1:28))),"")} | E30: =IFERROR(INDEX(General!$C$3:$C$103,MATCH(C30,General!$A$3:$A$103,0)),"") | G30: =IFERROR(INDEX(General!$B$3:$B$103,MATCH(C30,General!$A$3:$A$103,0)),"")
C31: {=IF(ROWS($1:29)<=COUNTIF(General!$H$3:$H$103,1),INDEX(General!$A$3:$A$103,SMALL(IF(General!$H$3:$H$103=1,ROW(INDIRECT("1:"&ROWS(General!$A$3:$A$103)))),ROWS($1:29))),"")} | E31: =IFERROR(INDEX(General!$C$3:$C$103,MATCH(C31,General!$A$3:$A$103,0)),"") | G31: =IFERROR(INDEX(General!$B$3:$B$103,MATCH(C31,General!$A$3:$A$103,0)),"")
C32: {=IF(ROWS($1:30)<=COUNTIF(General!$H$3:$H$103,1),INDEX(General!$A$3:$A$103,SMALL(IF(General!$H$3:$H$103=1,ROW(INDIRECT("1:"&ROWS(General!$A$3:$A$103)))),ROWS($1:30))),"")} | E32: =IFERROR(INDEX(General!$C$3:$C$103,MATCH(C32,General!$A$3:$A$103,0)),"") | G32: =IFERROR(INDEX(General!$B$3:$B$103,MATCH(C32,General!$A$3:$A$103,0)),"")
C33: {=IF(ROWS($1:31)<=COUNTIF(General!$H$3:$H$103,1),INDEX(General!$A$3:$A$103,SMALL(IF(General!$H$3:$H$103=1,ROW(INDIRECT("1:"&ROWS(General!$A$3:$A$103)))),ROWS($1:31))),"")} | E33: =IFERROR(INDEX(General!$C$3:$C$103,MATCH(C33,General!$A$3:$A$103,0)),"") | G33: =IFERROR(INDEX(General!$B$3:$B$103,MATCH(C33,General!$A$3:$A$103,0)),"")
C34: {=IF(ROWS($1:32)<=COUNTIF(General!$H$3:$H$103,1),INDEX(General!$A$3:$A$103,SMALL(IF(General!$H$3:$H$103=1,ROW(INDIRECT("1:"&ROWS(General!$A$3:$A$103)))),ROWS($1:32))),"")} | E34: =IFERROR(INDEX(General!$C$3:$C$103,MATCH(C34,General!$A$3:$A$103,0)),"") | G34: =IFERROR(INDEX(General!$B$3:$B$103,MATCH(C34,General!$A$3:$A$103,0)),"")
C35: {=IF(ROWS($1:33)<=COUNTIF(General!$H$3:$H$103,1),INDEX(General!$A$3:$A$103,SMALL(IF(General!$H$3:$H$103=1,ROW(INDIRECT("1:"&ROWS(General!$A$3:$A$103)))),ROWS($1:33))),"")} | E35: =IFERROR(INDEX(General!$C$3:$C$103,MATCH(C35,General!$A$3:$A$103,0)),"") | G35: =IFERROR(INDEX(General!$B$3:$B$103,MATCH(C35,General!$A$3:$A$103,0)),"")
C36: {=IF(ROWS($1:34)<=COUNTIF(General!$H$3:$H$103,1),INDEX(General!$A$3:$A$103,SMALL(IF(General!$H$3:$H$103=1,ROW(INDIRECT("1:"&ROWS(General!$A$3:$A$103)))),ROWS($1:34))),"")} | E36: =IFERROR(INDEX(General!$C$3:$C$103,MATCH(C36,General!$A$3:$A$103,0)),"") | G36: =IFERROR(INDEX(General!$B$3:$B$103,MATCH(C36,General!$A$3:$A$103,0)),"")
C37: {=IF(ROWS($1:35)<=COUNTIF(General!$H$3:$H$103,1),INDEX(General!$A$3:$A$103,SMALL(IF(General!$H$3:$H$103=1,ROW(INDIRECT("1:"&ROWS(General!$A$3:$A$103)))),ROWS($1:35))),"")} | E37: =IFERROR(INDEX(General!$C$3:$C$103,MATCH(C37,General!$A$3:$A$103,0)),"") | G37: =IFERROR(INDEX(General!$B$3:$B$103,MATCH(C37,General!$A$3:$A$103,0)),"")
C38: {=IF(ROWS($1:36)<=COUNTIF(General!$H$3:$H$103,1),INDEX(General!$A$3:$A$103,SMALL(IF(General!$H$3:$H$103=1,ROW(INDIRECT("1:"&ROWS(General!$A$3:$A$103)))),ROWS($1:36))),"")} | E38: =IFERROR(INDEX(General!$C$3:$C$103,MATCH(C38,General!$A$3:$A$103,0)),"") | G38: =IFERROR(INDEX(General!$B$3:$B$103,MATCH(C38,General!$A$3:$A$103,0)),"")
C39: {=IF(ROWS($1:37)<=COUNTIF(General!$H$3:$H$103,1),INDEX(General!$A$3:$A$103,SMALL(IF(General!$H$3:$H$103=1,ROW(INDIRECT("1:"&ROWS(General!$A$3:$A$103)))),ROWS($1:37))),"")} | E39: =IFERROR(INDEX(General!$C$3:$C$103,MATCH(C39,General!$A$3:$A$103,0)),"") | G39: =IFERROR(INDEX(General!$B$3:$B$103,MATCH(C39,General!$A$3:$A$103,0)),"")
C40: {=IF(ROWS($1:38)<=COUNTIF(General!$H$3:$H$103,1),INDEX(General!$A$3:$A$103,SMALL(IF(General!$H$3:$H$103=1,ROW(INDIRECT("1:"&ROWS(General!$A$3:$A$103)))),ROWS($1:38))),"")} | E40: =IFERROR(INDEX(General!$C$3:$C$103,MATCH(C40,General!$A$3:$A$103,0)),"") | G40: =IFERROR(INDEX(General!$B$3:$B$103,MATCH(C40,General!$A$3:$A$103,0)),"")
C41: {=IF(ROWS($1:39)<=COUNTIF(General!$H$3:$H$103,1),INDEX(General!$A$3:$A$103,SMALL(IF(General!$H$3:$H$103=1,ROW(INDIRECT("1:"&ROWS(General!$A$3:$A$103)))),ROWS($1:39))),"")} | E41: =IFERROR(INDEX(General!$C$3:$C$103,MATCH(C41,General!$A$3:$A$103,0)),"") | G41: =IFERROR(INDEX(General!$B$3:$B$103,MATCH(C41,General!$A$3:$A$103,0)),"")
C42: {=IF(ROWS($1:40)<=COUNTIF(General!$H$3:$H$103,1),INDEX(General!$A$3:$A$103,SMALL(IF(General!$H$3:$H$103=1,ROW(INDIRECT("1:"&ROWS(General!$A$3:$A$103)))),ROWS($1:40))),"")} | E42: =IFERROR(INDEX(General!$C$3:$C$103,MATCH(C42,General!$A$3:$A$103,0)),"") | G42: =IFERROR(INDEX(General!$B$3:$B$103,MATCH(C42,General!$A$3:$A$103,0)),"")
C43: {=IF(ROWS($1:41)<=COUNTIF(General!$H$3:$H$103,1),INDEX(General!$A$3:$A$103,SMALL(IF(General!$H$3:$H$103=1,ROW(INDIRECT("1:"&ROWS(General!$A$3:$A$103)))),ROWS($1:41))),"")} | E43: =IFERROR(INDEX(General!$C$3:$C$103,MATCH(C43,General!$A$3:$A$103,0)),"") | G43: =IFERROR(INDEX(General!$B$3:$B$103,MATCH(C43,General!$A$3:$A$103,0)),"")
C44: {=IF(ROWS($1:42)<=COUNTIF(General!$H$3:$H$103,1),INDEX(General!$A$3:$A$103,SMALL(IF(General!$H$3:$H$103=1,ROW(INDIRECT("1:"&ROWS(General!$A$3:$A$103)))),ROWS($1:42))),"")} | E44: =IFERROR(INDEX(General!$C$3:$C$103,MATCH(C44,General!$A$3:$A$103,0)),"") | G44: =IFERROR(INDEX(General!$B$3:$B$103,MATCH(C44,General!$A$3:$A$103,0)),"")
C45: {=IF(ROWS($1:43)<=COUNTIF(General!$H$3:$H$103,1),INDEX(General!$A$3:$A$103,SMALL(IF(General!$H$3:$H$103=1,ROW(INDIRECT("1:"&ROWS(General!$A$3:$A$103)))),ROWS($1:43))),"")} | E45: =IFERROR(INDEX(General!$C$3:$C$103,MATCH(C45,General!$A$3:$A$103,0)),"") | G45: =IFERROR(INDEX(General!$B$3:$B$103,MATCH(C45,General!$A$3:$A$103,0)),"")
C46: {=IF(ROWS($1:44)<=COUNTIF(General!$H$3:$H$103,1),INDEX(General!$A$3:$A$103,SMALL(IF(General!$H$3:$H$103=1,ROW(INDIRECT("1:"&ROWS(General!$A$3:$A$103)))),ROWS($1:44))),"")} | E46: =IFERROR(INDEX(General!$C$3:$C$103,MATCH(C46,General!$A$3:$A$103,0)),"") | G46: =IFERROR(INDEX(General!$B$3:$B$103,MATCH(C46,General!$A$3:$A$103,0)),"")
C47: {=IF(ROWS($1:45)<=COUNTIF(General!$H$3:$H$103,1),INDEX(General!$A$3:$A$103,SMALL(IF(General!$H$3:$H$103=1,ROW(INDIRECT("1:"&ROWS(General!$A$3:$A$103)))),ROWS($1:45))),"")} | E47: =IFERROR(INDEX(General!$C$3:$C$103,MATCH(C47,General!$A$3:$A$103,0)),"") | G47: =IFERROR(INDEX(General!$B$3:$B$103,MATCH(C47,General!$A$3:$A$103,0)),"")
C48: {=IF(ROWS($1:46)<=COUNTIF(General!$H$3:$H$103,1),INDEX(General!$A$3:$A$103,SMALL(IF(General!$H$3:$H$103=1,ROW(INDIRECT("1:"&ROWS(General!$A$3:$A$103)))),ROWS($1:46))),"")} | E48: =IFERROR(INDEX(General!$C$3:$C$103,MATCH(C48,General!$A$3:$A$103,0)),"") | G48: =IFERROR(INDEX(General!$B$3:$B$103,MATCH(C48,General!$A$3:$A$103,0)),"")
C49: {=IF(ROWS($1:47)<=COUNTIF(General!$H$3:$H$103,1),INDEX(General!$A$3:$A$103,SMALL(IF(General!$H$3:$H$103=1,ROW(INDIRECT("1:"&ROWS(General!$A$3:$A$103)))),ROWS($1:47))),"")} | E49: =IFERROR(INDEX(General!$C$3:$C$103,MATCH(C49,General!$A$3:$A$103,0)),"") | G49: =IFERROR(INDEX(General!$B$3:$B$103,MATCH(C49,General!$A$3:$A$103,0)),"")
C50: {=IF(ROWS($1:48)<=COUNTIF(General!$H$3:$H$103,1),INDEX(General!$A$3:$A$103,SMALL(IF(General!$H$3:$H$103=1,ROW(INDIRECT("1:"&ROWS(General!$A$3:$A$103)))),ROWS($1:48))),"")} | E50: =IFERROR(INDEX(General!$C$3:$C$103,MATCH(C50,General!$A$3:$A$103,0)),"") | G50: =IFERROR(INDEX(General!$B$3:$B$103,MATCH(C50,General!$A$3:$A$103,0)),"")
C51: {=IF(ROWS($1:49)<=COUNTIF(General!$H$3:$H$103,1),INDEX(General!$A$3:$A$103,SMALL(IF(General!$H$3:$H$103=1,ROW(INDIRECT("1:"&ROWS(General!$A$3:$A$103)))),ROWS($1:49))),"")} | E51: =IFERROR(INDEX(General!$C$3:$C$103,MATCH(C51,General!$A$3:$A$103,0)),"") | G51: =IFERROR(INDEX(General!$B$3:$B$103,MATCH(C51,General!$A$3:$A$103,0)),"")
C52: {=IF(ROWS($1:50)<=COUNTIF(General!$H$3:$H$103,1),INDEX(General!$A$3:$A$103,SMALL(IF(General!$H$3:$H$103=1,ROW(INDIRECT("1:"&ROWS(General!$A$3:$A$103)))),ROWS($1:50))),"")} | E52: =IFERROR(INDEX(General!$C$3:$C$103,MATCH(C52,General!$A$3:$A$103,0)),"") | G52: =IFERROR(INDEX(General!$B$3:$B$103,MATCH(C52,General!$A$3:$A$103,0)),"")
C53: {=IF(ROWS($1:51)<=COUNTIF(General!$H$3:$H$103,1),INDEX(General!$A$3:$A$103,SMALL(IF(General!$H$3:$H$103=1,ROW(INDIRECT("1:"&ROWS(General!$A$3:$A$103)))),ROWS($1:51))),"")} | E53: =IFERROR(INDEX(General!$C$3:$C$103,MATCH(C53,General!$A$3:$A$103,0)),"") | G53: =IFERROR(INDEX(General!$B$3:$B$103,MATCH(C53,General!$A$3:$A$103,0)),"")
C54: {=IF(ROWS($1:52)<=COUNTIF(General!$H$3:$H$103,1),INDEX(General!$A$3:$A$103,SMALL(IF(General!$H$3:$H$103=1,ROW(INDIRECT("1:"&ROWS(General!$A$3:$A$103)))),ROWS($1:52))),"")} | E54: =IFERROR(INDEX(General!$C$3:$C$103,MATCH(C54,General!$A$3:$A$103,0)),"") | G54: =IFERROR(INDEX(General!$B$3:$B$103,MATCH(C54,General!$A$3:$A$103,0)),"")
C55: {=IF(ROWS($1:53)<=COUNTIF(General!$H$3:$H$103,1),INDEX(General!$A$3:$A$103,SMALL(IF(General!$H$3:$H$103=1,ROW(INDIRECT("1:"&ROWS(General!$A$3:$A$103)))),ROWS($1:53))),"")} | E55: =IFERROR(INDEX(General!$C$3:$C$103,MATCH(C55,General!$A$3:$A$103,0)),"") | G55: =IFERROR(INDEX(General!$B$3:$B$103,MATCH(C55,General!$A$3:$A$103,0)),"")
C56: {=IF(ROWS($1:54)<=COUNTIF(General!$H$3:$H$103,1),INDEX(General!$A$3:$A$103,SMALL(IF(General!$H$3:$H$103=1,ROW(INDIRECT("1:"&ROWS(General!$A$3:$A$103)))),ROWS($1:54))),"")} | E56: =IFERROR(INDEX(General!$C$3:$C$103,MATCH(C56,General!$A$3:$A$103,0)),"") | G56: =IFERROR(INDEX(General!$B$3:$B$103,MATCH(C56,General!$A$3:$A$103,0)),"")
C57: {=IF(ROWS($1:55)<=COUNTIF(General!$H$3:$H$103,1),INDEX(General!$A$3:$A$103,SMALL(IF(General!$H$3:$H$103=1,ROW(INDIRECT("1:"&ROWS(General!$A$3:$A$103)))),ROWS($1:55))),"")} | E57: =IFERROR(INDEX(General!$C$3:$C$103,MATCH(C57,General!$A$3:$A$103,0)),"") | G57: =IFERROR(INDEX(General!$B$3:$B$103,MATCH(C57,General!$A$3:$A$103,0)),"")
C58: {=IF(ROWS($1:56)<=COUNTIF(General!$H$3:$H$103,1),INDEX(General!$A$3:$A$103,SMALL(IF(General!$H$3:$H$103=1,ROW(INDIRECT("1:"&ROWS(General!$A$3:$A$103)))),ROWS($1:56))),"")} | E58: =IFERROR(INDEX(General!$C$3:$C$103,MATCH(C58,General!$A$3:$A$103,0)),"") | G58: =IFERROR(INDEX(General!$B$3:$B$103,MATCH(C58,General!$A$3:$A$103,0)),"")
C59: {=IF(ROWS($1:57)<=COUNTIF(General!$H$3:$H$103,1),INDEX(General!$A$3:$A$103,SMALL(IF(General!$H$3:$H$103=1,ROW(INDIRECT("1:"&ROWS(General!$A$3:$A$103)))),ROWS($1:57))),"")} | E59: =IFERROR(INDEX(General!$C$3:$C$103,MATCH(C59,General!$A$3:$A$103,0)),"") | G59: =IFERROR(INDEX(General!$B$3:$B$103,MATCH(C59,General!$A$3:$A$103,0)),"")
C60: {=IF(ROWS($1:58)<=COUNTIF(General!$H$3:$H$103,1),INDEX(General!$A$3:$A$103,SMALL(IF(General!$H$3:$H$103=1,ROW(INDIRECT("1:"&ROWS(General!$A$3:$A$103)))),ROWS($1:58))),"")} | E60: =IFERROR(INDEX(General!$C$3:$C$103,MATCH(C60,General!$A$3:$A$103,0)),"") | G60: =IFERROR(INDEX(General!$B$3:$B$103,MATCH(C60,General!$A$3:$A$103,0)),"")
C61: {=IF(ROWS($1:59)<=COUNTIF(General!$H$3:$H$103,1),INDEX(General!$A$3:$A$103,SMALL(IF(General!$H$3:$H$103=1,ROW(INDIRECT("1:"&ROWS(General!$A$3:$A$103)))),ROWS($1:59))),"")} | E61: =IFERROR(INDEX(General!$C$3:$C$103,MATCH(C61,General!$A$3:$A$103,0)),"") | G61: =IFERROR(INDEX(General!$B$3:$B$103,MATCH(C61,General!$A$3:$A$103,0)),"")
C62: {=IF(ROWS($1:60)<=COUNTIF(General!$H$3:$H$103,1),INDEX(General!$A$3:$A$103,SMALL(IF(General!$H$3:$H$103=1,ROW(INDIRECT("1:"&ROWS(General!$A$3:$A$103)))),ROWS($1:60))),"")} | E62: =IFERROR(INDEX(General!$C$3:$C$103,MATCH(C62,General!$A$3:$A$103,0)),"") | G62: =IFERROR(INDEX(General!$B$3:$B$103,MATCH(C62,General!$A$3:$A$103,0)),"")
C63: {=IF(ROWS($1:61)<=COUNTIF(General!$H$3:$H$103,1),INDEX(General!$A$3:$A$103,SMALL(IF(General!$H$3:$H$103=1,ROW(INDIRECT("1:"&ROWS(General!$A$3:$A$103)))),ROWS($1:61))),"")} | E63: =IFERROR(INDEX(General!$C$3:$C$103,MATCH(C63,General!$A$3:$A$103,0)),"") | G63: =IFERROR(INDEX(General!$B$3:$B$103,MATCH(C63,General!$A$3:$A$103,0)),"")
C64: {=IF(ROWS($1:62)<=COUNTIF(General!$H$3:$H$103,1),INDEX(General!$A$3:$A$103,SMALL(IF(General!$H$3:$H$103=1,ROW(INDIRECT("1:"&ROWS(General!$A$3:$A$103)))),ROWS($1:62))),"")} | E64: =IFERROR(INDEX(General!$C$3:$C$103,MATCH(C64,General!$A$3:$A$103,0)),"") | G64: =IFERROR(INDEX(General!$B$3:$B$103,MATCH(C64,General!$A$3:$A$103,0)),"")
C65: {=IF(ROWS($1:63)<=COUNTIF(General!$H$3:$H$103,1),INDEX(General!$A$3:$A$103,SMALL(IF(General!$H$3:$H$103=1,ROW(INDIRECT("1:"&ROWS(General!$A$3:$A$103)))),ROWS($1:63))),"")} | E65: =IFERROR(INDEX(General!$C$3:$C$103,MATCH(C65,General!$A$3:$A$103,0)),"") | G65: =IFERROR(INDEX(General!$B$3:$B$103,MATCH(C65,General!$A$3:$A$103,0)),"")
C66: {=IF(ROWS($1:64)<=COUNTIF(General!$H$3:$H$103,1),INDEX(General!$A$3:$A$103,SMALL(IF(General!$H$3:$H$103=1,ROW(INDIRECT("1:"&ROWS(General!$A$3:$A$103)))),ROWS($1:64))),"")} | E66: =IFERROR(INDEX(General!$C$3:$C$103,MATCH(C66,General!$A$3:$A$103,0)),"") | G66: =IFERROR(INDEX(General!$B$3:$B$103,MATCH(C66,General!$A$3:$A$103,0)),"")
C67: {=IF(ROWS($1:65)<=COUNTIF(General!$H$3:$H$103,1),INDEX(General!$A$3:$A$103,SMALL(IF(General!$H$3:$H$103=1,ROW(INDIRECT("1:"&ROWS(General!$A$3:$A$103)))),ROWS($1:65))),"")} | E67: =IFERROR(INDEX(General!$C$3:$C$103,MATCH(C67,General!$A$3:$A$103,0)),"") | G67: =IFERROR(INDEX(General!$B$3:$B$103,MATCH(C67,General!$A$3:$A$103,0)),"")
C68: {=IF(ROWS($1:66)<=COUNTIF(General!$H$3:$H$103,1),INDEX(General!$A$3:$A$103,SMALL(IF(General!$H$3:$H$103=1,ROW(INDIRECT("1:"&ROWS(General!$A$3:$A$103)))),ROWS($1:66))),"")} | E68: =IFERROR(INDEX(General!$C$3:$C$103,MATCH(C68,General!$A$3:$A$103,0)),"") | G68: =IFERROR(INDEX(General!$B$3:$B$103,MATCH(C68,General!$A$3:$A$103,0)),"")
C69: {=IF(ROWS($1:67)<=COUNTIF(General!$H$3:$H$103,1),INDEX(General!$A$3:$A$103,SMALL(IF(General!$H$3:$H$103=1,ROW(INDIRECT("1:"&ROWS(General!$A$3:$A$103)))),ROWS($1:67))),"")} | E69: =IFERROR(INDEX(General!$C$3:$C$103,MATCH(C69,General!$A$3:$A$103,0)),"") | G69: =IFERROR(INDEX(General!$B$3:$B$103,MATCH(C69,General!$A$3:$A$103,0)),"")
C70: {=IF(ROWS($1:68)<=COUNTIF(General!$H$3:$H$103,1),INDEX(General!$A$3:$A$103,SMALL(IF(General!$H$3:$H$103=1,ROW(INDIRECT("1:"&ROWS(General!$A$3:$A$103)))),ROWS($1:68))),"")} | E70: =IFERROR(INDEX(General!$C$3:$C$103,MATCH(C70,General!$A$3:$A$103,0)),"") | G70: =IFERROR(INDEX(General!$B$3:$B$103,MATCH(C70,General!$A$3:$A$103,0)),"")
C71: {=IF(ROWS($1:69)<=COUNTIF(General!$H$3:$H$103,1),INDEX(General!$A$3:$A$103,SMALL(IF(General!$H$3:$H$103=1,ROW(INDIRECT("1:"&ROWS(General!$A$3:$A$103)))),ROWS($1:69))),"")} | E71: =IFERROR(INDEX(General!$C$3:$C$103,MATCH(C71,General!$A$3:$A$103,0)),"") | G71: =IFERROR(INDEX(General!$B$3:$B$103,MATCH(C71,General!$A$3:$A$103,0)),"")
C72: {=IF(ROWS($1:70)<=COUNTIF(General!$H$3:$H$103,1),INDEX(General!$A$3:$A$103,SMALL(IF(General!$H$3:$H$103=1,ROW(INDIRECT("1:"&ROWS(General!$A$3:$A$103)))),ROWS($1:70))),"")} | E72: =IFERROR(INDEX(General!$C$3:$C$103,MATCH(C72,General!$A$3:$A$103,0)),"") | G72: =IFERROR(INDEX(General!$B$3:$B$103,MATCH(C72,General!$A$3:$A$103,0)),"")
C73: {=IF(ROWS($1:71)<=COUNTIF(General!$H$3:$H$103,1),INDEX(General!$A$3:$A$103,SMALL(IF(General!$H$3:$H$103=1,ROW(INDIRECT("1:"&ROWS(General!$A$3:$A$103)))),ROWS($1:71))),"")} | E73: =IFERROR(INDEX(General!$C$3:$C$103,MATCH(C73,General!$A$3:$A$103,0)),"") | G73: =IFERROR(INDEX(General!$B$3:$B$103,MATCH(C73,General!$A$3:$A$103,0)),"")
C74: {=IF(ROWS($1:72)<=COUNTIF(General!$H$3:$H$103,1),INDEX(General!$A$3:$A$103,SMALL(IF(General!$H$3:$H$103=1,ROW(INDIRECT("1:"&ROWS(General!$A$3:$A$103)))),ROWS($1:72))),"")} | E74: =IFERROR(INDEX(General!$C$3:$C$103,MATCH(C74,General!$A$3:$A$103,0)),"") | G74: =IFERROR(INDEX(General!$B$3:$B$103,MATCH(C74,General!$A$3:$A$103,0)),"")
C75: {=IF(ROWS($1:73)<=COUNTIF(General!$H$3:$H$103,1),INDEX(General!$A$3:$A$103,SMALL(IF(General!$H$3:$H$103=1,ROW(INDIRECT("1:"&ROWS(General!$A$3:$A$103)))),ROWS($1:73))),"")} | E75: =IFERROR(INDEX(General!$C$3:$C$103,MATCH(C75,General!$A$3:$A$103,0)),"") | G75: =IFERROR(INDEX(General!$B$3:$B$103,MATCH(C75,General!$A$3:$A$103,0)),"")
C76: {=IF(ROWS($1:74)<=COUNTIF(General!$H$3:$H$103,1),INDEX(General!$A$3:$A$103,SMALL(IF(General!$H$3:$H$103=1,ROW(INDIRECT("1:"&ROWS(General!$A$3:$A$103)))),ROWS($1:74))),"")} | E76: =IFERROR(INDEX(General!$C$3:$C$103,MATCH(C76,General!$A$3:$A$103,0)),"") | G76: =IFERROR(INDEX(General!$B$3:$B$103,MATCH(C76,General!$A$3:$A$103,0)),"")
C77: {=IF(ROWS($1:75)<=COUNTIF(General!$H$3:$H$103,1),INDEX(General!$A$3:$A$103,SMALL(IF(General!$H$3:$H$103=1,ROW(INDIRECT("1:"&ROWS(General!$A$3:$A$103)))),ROWS($1:75))),"")} | E77: =IFERROR(INDEX(General!$C$3:$C$103,MATCH(C77,General!$A$3:$A$103,0)),"") | G77: =IFERROR(INDEX(General!$B$3:$B$103,MATCH(C77,General!$A$3:$A$103,0)),"")
C78: {=IF(ROWS($1:76)<=COUNTIF(General!$H$3:$H$103,1),INDEX(General!$A$3:$A$103,SMALL(IF(General!$H$3:$H$103=1,ROW(INDIRECT("1:"&ROWS(General!$A$3:$A$103)))),ROWS($1:76))),"")} | E78: =IFERROR(INDEX(General!$C$3:$C$103,MATCH(C78,General!$A$3:$A$103,0)),"") | G78: =IFERROR(INDEX(General!$B$3:$B$103,MATCH(C78,General!$A$3:$A$103,0)),"")
C79: {=IF(ROWS($1:77)<=COUNTIF(General!$H$3:$H$103,1),INDEX(General!$A$3:$A$103,SMALL(IF(General!$H$3:$H$103=1,ROW(INDIRECT("1:"&ROWS(General!$A$3:$A$103)))),ROWS($1:77))),"")} | E79: =IFERROR(INDEX(General!$C$3:$C$103,MATCH(C79,General!$A$3:$A$103,0)),"") | G79: =IFERROR(INDEX(General!$B$3:$B$103,MATCH(C79,General!$A$3:$A$103,0)),"")
C80: {=IF(ROWS($1:78)<=COUNTIF(General!$H$3:$H$103,1),INDEX(General!$A$3:$A$103,SMALL(IF(General!$H$3:$H$103=1,ROW(INDIRECT("1:"&ROWS(General!$A$3:$A$103)))),ROWS($1:78))),"")} | E80: =IFERROR(INDEX(General!$C$3:$C$103,MATCH(C80,General!$A$3:$A$103,0)),"") | G80: =IFERROR(INDEX(General!$B$3:$B$103,MATCH(C80,General!$A$3:$A$103,0)),"")
C81: {=IF(ROWS($1:79)<=COUNTIF(General!$H$3:$H$103,1),INDEX(General!$A$3:$A$103,SMALL(IF(General!$H$3:$H$103=1,ROW(INDIRECT("1:"&ROWS(General!$A$3:$A$103)))),ROWS($1:79))),"")} | E81: =IFERROR(INDEX(General!$C$3:$C$103,MATCH(C81,General!$A$3:$A$103,0)),"") | G81: =IFERROR(INDEX(General!$B$3:$B$103,MATCH(C81,General!$A$3:$A$103,0)),"")
C82: {=IF(ROWS($1:80)<=COUNTIF(General!$H$3:$H$103,1),INDEX(General!$A$3:$A$103,SMALL(IF(General!$H$3:$H$103=1,ROW(INDIRECT("1:"&ROWS(General!$A$3:$A$103)))),ROWS($1:80))),"")} | E82: =IFERROR(INDEX(General!$C$3:$C$103,MATCH(C82,General!$A$3:$A$103,0)),"") | G82: =IFERROR(INDEX(General!$B$3:$B$103,MATCH(C82,General!$A$3:$A$103,0)),"")
C83: {=IF(ROWS($1:81)<=COUNTIF(General!$H$3:$H$103,1),INDEX(General!$A$3:$A$103,SMALL(IF(General!$H$3:$H$103=1,ROW(INDIRECT("1:"&ROWS(General!$A$3:$A$103)))),ROWS($1:81))),"")} | E83: =IFERROR(INDEX(General!$C$3:$C$103,MATCH(C83,General!$A$3:$A$103,0)),"") | G83: =IFERROR(INDEX(General!$B$3:$B$103,MATCH(C83,General!$A$3:$A$103,0)),"")
C84: {=IF(ROWS($1:82)<=COUNTIF(General!$H$3:$H$103,1),INDEX(General!$A$3:$A$103,SMALL(IF(General!$H$3:$H$103=1,ROW(INDIRECT("1:"&ROWS(General!$A$3:$A$103)))),ROWS($1:82))),"")} | E84: =IFERROR(INDEX(General!$C$3:$C$103,MATCH(C84,General!$A$3:$A$103,0)),"") | G84: =IFERROR(INDEX(General!$B$3:$B$103,MATCH(C84,General!$A$3:$A$103,0)),"")
C85: {=IF(ROWS($1:83)<=COUNTIF(General!$H$3:$H$103,1),INDEX(General!$A$3:$A$103,SMALL(IF(General!$H$3:$H$103=1,ROW(INDIRECT("1:"&ROWS(General!$A$3:$A$103)))),ROWS($1:83))),"")} | E85: =IFERROR(INDEX(General!$C$3:$C$103,MATCH(C85,General!$A$3:$A$103,0)),"") | G85: =IFERROR(INDEX(General!$B$3:$B$103,MATCH(C85,General!$A$3:$A$103,0)),"")
C86: {=IF(ROWS($1:84)<=COUNTIF(General!$H$3:$H$103,1),INDEX(General!$A$3:$A$103,SMALL(IF(General!$H$3:$H$103=1,ROW(INDIRECT("1:"&ROWS(General!$A$3:$A$103)))),ROWS($1:84))),"")} | E86: =IFERROR(INDEX(General!$C$3:$C$103,MATCH(C86,General!$A$3:$A$103,0)),"") | G86: =IFERROR(INDEX(General!$B$3:$B$103,MATCH(C86,General!$A$3:$A$103,0)),"")
C87: {=IF(ROWS($1:85)<=COUNTIF(General!$H$3:$H$103,1),INDEX(General!$A$3:$A$103,SMALL(IF(General!$H$3:$H$103=1,ROW(INDIRECT("1:"&ROWS(General!$A$3:$A$103)))),ROWS($1:85))),"")} | E87: =IFERROR(INDEX(General!$C$3:$C$103,MATCH(C87,General!$A$3:$A$103,0)),"") | G87: =IFERROR(INDEX(General!$B$3:$B$103,MATCH(C87,General!$A$3:$A$103,0)),"")
C88: {=IF(ROWS($1:86)<=COUNTIF(General!$H$3:$H$103,1),INDEX(General!$A$3:$A$103,SMALL(IF(General!$H$3:$H$103=1,ROW(INDIRECT("1:"&ROWS(General!$A$3:$A$103)))),ROWS($1:86))),"")} | E88: =IFERROR(INDEX(General!$C$3:$C$103,MATCH(C88,General!$A$3:$A$103,0)),"") | G88: =IFERROR(INDEX(General!$B$3:$B$103,MATCH(C88,General!$A$3:$A$103,0)),"")
C89: {=IF(ROWS($1:87)<=COUNTIF(General!$H$3:$H$103,1),INDEX(General!$A$3:$A$103,SMALL(IF(General!$H$3:$H$103=1,ROW(INDIRECT("1:"&ROWS(General!$A$3:$A$103)))),ROWS($1:87))),"")} | E89: =IFERROR(INDEX(General!$C$3:$C$103,MATCH(C89,General!$A$3:$A$103,0)),"") | G89: =IFERROR(INDEX(General!$B$3:$B$103,MATCH(C89,General!$A$3:$A$103,0)),"")
C90: {=IF(ROWS($1:88)<=COUNTIF(General!$H$3:$H$103,1),INDEX(General!$A$3:$A$103,SMALL(IF(General!$H$3:$H$103=1,ROW(INDIRECT("1:"&ROWS(General!$A$3:$A$103)))),ROWS($1:88))),"")} | E90: =IFERROR(INDEX(General!$C$3:$C$103,MATCH(C90,General!$A$3:$A$103,0)),"") | G90: =IFERROR(INDEX(General!$B$3:$B$103,MATCH(C90,General!$A$3:$A$103,0)),"")
C91: {=IF(ROWS($1:89)<=COUNTIF(General!$H$3:$H$103,1),INDEX(General!$A$3:$A$103,SMALL(IF(General!$H$3:$H$103=1,ROW(INDIRECT("1:"&ROWS(General!$A$3:$A$103)))),ROWS($1:89))),"")} | E91: =IFERROR(INDEX(General!$C$3:$C$103,MATCH(C91,General!$A$3:$A$103,0)),"") | G91: =IFERROR(INDEX(General!$B$3:$B$103,MATCH(C91,General!$A$3:$A$103,0)),"")
C92: {=IF(ROWS($1:90)<=COUNTIF(General!$H$3:$H$103,1),INDEX(General!$A$3:$A$103,SMALL(IF(General!$H$3:$H$103=1,ROW(INDIRECT("1:"&ROWS(General!$A$3:$A$103)))),ROWS($1:90))),"")} | E92: =IFERROR(INDEX(General!$C$3:$C$103,MATCH(C92,General!$A$3:$A$103,0)),"") | G92: =IFERROR(INDEX(General!$B$3:$B$103,MATCH(C92,General!$A$3:$A$103,0)),"")
C93: {=IF(ROWS($1:91)<=COUNTIF(General!$H$3:$H$103,1),INDEX(General!$A$3:$A$103,SMALL(IF(General!$H$3:$H$103=1,ROW(INDIRECT("1:"&ROWS(General!$A$3:$A$103)))),ROWS($1:91))),"")} | E93: =IFERROR(INDEX(General!$C$3:$C$103,MATCH(C93,General!$A$3:$A$103,0)),"") | G93: =IFERROR(INDEX(General!$B$3:$B$103,MATCH(C93,General!$A$3:$A$103,0)),"")
C94: {=IF(ROWS($1:92)<=COUNTIF(General!$H$3:$H$103,1),INDEX(General!$A$3:$A$103,SMALL(IF(General!$H$3:$H$103=1,ROW(INDIRECT("1:"&ROWS(General!$A$3:$A$103)))),ROWS($1:92))),"")} | E94: =IFERROR(INDEX(General!$C$3:$C$103,MATCH(C94,General!$A$3:$A$103,0)),"") | G94: =IFERROR(INDEX(General!$B$3:$B$103,MATCH(C94,General!$A$3:$A$103,0)),"")
C95: {=IF(ROWS($1:93)<=COUNTIF(General!$H$3:$H$103,1),INDEX(General!$A$3:$A$103,SMALL(IF(General!$H$3:$H$103=1,ROW(INDIRECT("1:"&ROWS(General!$A$3:$A$103)))),ROWS($1:93))),"")} | E95: =IFERROR(INDEX(General!$C$3:$C$103,MATCH(C95,General!$A$3:$A$103,0)),"") | G95: =IFERROR(INDEX(General!$B$3:$B$103,MATCH(C95,General!$A$3:$A$103,0)),"")
C96: {=IF(ROWS($1:94)<=COUNTIF(General!$H$3:$H$103,1),INDEX(General!$A$3:$A$103,SMALL(IF(General!$H$3:$H$103=1,ROW(INDIRECT("1:"&ROWS(General!$A$3:$A$103)))),ROWS($1:94))),"")} | E96: =IFERROR(INDEX(General!$C$3:$C$103,MATCH(C96,General!$A$3:$A$103,0)),"") | G96: =IFERROR(INDEX(General!$B$3:$B$103,MATCH(C96,General!$A$3:$A$103,0)),"")
C97: {=IF(ROWS($1:95)<=COUNTIF(General!$H$3:$H$103,1),INDEX(General!$A$3:$A$103,SMALL(IF(General!$H$3:$H$103=1,ROW(INDIRECT("1:"&ROWS(General!$A$3:$A$103)))),ROWS($1:95))),"")} | E97: =IFERROR(INDEX(General!$C$3:$C$103,MATCH(C97,General!$A$3:$A$103,0)),"") | G97: =IFERROR(INDEX(General!$B$3:$B$103,MATCH(C97,General!$A$3:$A$103,0)),"")
C98: {=IF(ROWS($1:96)<=COUNTIF(General!$H$3:$H$103,1),INDEX(General!$A$3:$A$103,SMALL(IF(General!$H$3:$H$103=1,ROW(INDIRECT("1:"&ROWS(General!$A$3:$A$103)))),ROWS($1:96))),"")} | E98: =IFERROR(INDEX(General!$C$3:$C$103,MATCH(C98,General!$A$3:$A$103,0)),"") | G98: =IFERROR(INDEX(General!$B$3:$B$103,MATCH(C98,General!$A$3:$A$103,0)),"")
C99: {=IF(ROWS($1:97)<=COUNTIF(General!$H$3:$H$103,1),INDEX(General!$A$3:$A$103,SMALL(IF(General!$H$3:$H$103=1,ROW(INDIRECT("1:"&ROWS(General!$A$3:$A$103)))),ROWS($1:97))),"")} | E99: =IFERROR(INDEX(General!$C$3:$C$103,MATCH(C99,General!$A$3:$A$103,0)),"") | G99: =IFERROR(INDEX(General!$B$3:$B$103,MATCH(C99,General!$A$3:$A$103,0)),"")
C100: {=IF(ROWS($1:98)<=COUNTIF(General!$H$3:$H$103,1),INDEX(General!$A$3:$A$103,SMALL(IF(General!$H$3:$H$103=1,ROW(INDIRECT("1:"&ROWS(General!$A$3:$A$103)))),ROWS($1:98))),"")} | E100: =IFERROR(INDEX(General!$C$3:$C$103,MATCH(C100,General!$A$3:$A$103,0)),"") | G100: =IFERROR(INDEX(General!$B$3:$B$103,MATCH(C100,General!$A$3:$A$103,0)),"")
C101: {=IF(ROWS($1:99)<=COUNTIF(General!$H$3:$H$103,1),INDEX(General!$A$3:$A$103,SMALL(IF(General!$H$3:$H$103=1,ROW(INDIRECT("1:"&ROWS(General!$A$3:$A$103)))),ROWS($1:99))),"")} | E101: =IFERROR(INDEX(General!$C$3:$C$103,MATCH(C101,General!$A$3:$A$103,0)),"") | G101: =IFERROR(INDEX(General!$B$3:$B$103,MATCH(C101,General!$A$3:$A$103,0)),"")
...
